{"text_format":"1","workbook":"xlsx","n_sheets":13,"sheets":["dane","plan gier","gry","mecze","grup-puch","puch","tabelki","drabinki","sędziowie","zawodnicy","Protokół","Moduł1","Moduł2"],"not_rendered":{"charts":0,"images":8,"macros":1,"external_links":1,"defined_names":20,"comments":4,"pivot_tables":0},"unopened":[{"sheet":"Moduł1","index":11,"reason":"part_missing"},{"sheet":"Moduł2","index":12,"reason":"part_missing"}],"bounds":{"document_bytes":16777216,"sheet_cells":100000,"rows_first":2000,"rows_last":500,"rows_between":2000,"halvings":0,"cell_chars":16384,"cell_head_chars":4096},"cells_cut":0,"cells_raw":0,"read":"whole","date_system":"1900"}

{"sheet":"dane","index":0,"n_rows":23,"n_cols":9,"rows_kept":23,"cut":false,"hidden":false,"merged":[[0,5,0,6],[2,7,10,7],[11,7,22,7]]}
[null,null,"Nazwa skrócona:    ","VGP Ząbki",null,"Harmonogram gier"]
[null,null,"Nazwa zawodów:    ","VICTOR GRAND PRIX ZĄBEK",null,1,null,null,"Gry"]
[null,null,"Miejsce, data:    ","ZĄBKI ; 04.10.2014",null,2,null,"Gry pojedyncze","KLASY 1-3 DZIEWCZĘTA"]
[null,null,"Sędzia główny:    ","Marek Krawczyk",null,3,null,null,"KLASY 1-3 CHŁOPCY"]
[null,null,null,null,null,4,null,null,"KLASY 4-6 DZIEWCZĘTA"]
[null,null,null,null,null,5,null,null,"KLASY 4-6 CHŁOPCY"]
[null,null,null,null,null,6,null,null,"GIMNAZJUM DZIEWCZĘTA"]
[null,null,null,null,null,7,null,null,"GIMNAZJUM CHŁOPCY"]
[null,null,null,null,null,8,null,null,"OPEN KOBIETY"]
[null,null,null,null,null,9,null,null,"OPEN MĘŻCZYŹNI"]
[null,null,null,null,null,10,null,null,"OPEN ZAAWANSOWANI"]
[null,null,null,null,null,11,null,"Gry podwójne","PODWÓJNA DZIECI"]
[null,null,null,null,null,12,null,null,"PODWÓJNA OPEN"]
[null,null,null,null,null,13]
[null,null,null,null,null,14]
[null,null,null,null,null,15]
[null,null,null,null,null,16]
[null,null,null,null,null,17]
[null,null,null,null,null,18]
[null,null,null,null,null,19]
[null,null,null,null,null,20]
[null,null,null,null,null,21]
[null,null,null,null,null,22]

{"sheet":"plan gier","index":1,"n_rows":395,"n_cols":76,"rows_kept":395,"cut":false,"hidden":false,"merged":[[393,2,393,10],[393,11,393,19],[394,2,394,10],[394,11,394,19],[390,3,390,7],[390,14,390,15],[390,16,390,17],[391,2,391,7],[391,8,391,10],[391,11,391,13],[391,14,391,19],[392,2,392,7],[392,8,392,10],[392,11,392,13],[392,14,392,19],[386,2,386,10],[386,11,386,19],[387,2,387,10],[387,11,387,19],[388,4,388,7],[388,9,388,12],[388,14,388,17],[389,3,389,7],[389,9,389,12],[389,14,389,15],[389,16,389,17],[383,3,383,7],[383,14,383,15],[383,16,383,17],[384,2,384,7],[384,8,384,10],[384,11,384,13],[384,14,384,19],[385,2,385,7],[385,8,385,10],[385,11,385,13],[385,14,385,19],[379,2,379,10],[379,11,379,19],[380,2,380,10],[380,11,380,19],[381,4,381,7],[381,9,381,12],[381,14,381,17],[382,3,382,7],[382,9,382,12],[382,14,382,15],[382,16,382,17],[376,3,376,7],[376,14,376,15],[376,16,376,17],[377,2,377,7],[377,8,377,10],[377,11,377,13],[377,14,377,19],[378,2,378,7],[378,8,378,10],[378,11,378,13],[378,14,378,19],[372,2,372,10],[372,11,372,19],[373,2,373,10],[373,11,373,19],[374,4,374,7],[374,9,374,12],[374,14,374,17],[375,3,375,7],[375,9,375,12],[375,14,375,15],[375,16,375,17],[369,3,369,7],[369,14,369,15],[369,16,369,17],[370,2,370,7],[370,8,370,10],[370,11,370,13],[370,14,370,19],[371,2,371,7],[371,8,371,10],[371,11,371,13],[371,14,371,19],[365,2,365,10],[365,11,365,19],[366,2,366,10],[366,11,366,19],[367,4,367,7],[367,9,367,12],[367,14,367,17],[368,3,368,7],[368,9,368,12],[368,14,368,15],[368,16,368,17],[362,3,362,7],[362,14,362,15],[362,16,362,17],[363,2,363,7],[363,8,363,10],[363,11,363,13],[363,14,363,19],[364,2,364,7],[364,8,364,10],[364,11,364,13],[364,14,364,19],[358,2,358,10],[358,11,358,19],[359,2,359,10],[359,11,359,19],[360,4,360,7],[360,9,360,12],[360,14,360,17],[361,3,361,7],[361,9,361,12],[361,14,361,15],[361,16,361,17],[355,3,355,7],[355,14,355,15],[355,16,355,17],[356,2,356,7],[356,8,356,10],[356,11,356,13],[356,14,356,19],[357,2,357,7],[357,8,357,10],[357,11,357,13],[357,14,357,19],[351,2,351,10],[351,11,351,19],[352,2,352,10],[352,11,352,19],[353,4,353,7],[353,9,353,12],[353,14,353,17],[354,3,354,7],[354,9,354,12],[354,14,354,15],[354,16,354,17],[348,3,348,7],[348,14,348,15],[348,16,348,17],[349,2,349,7],[349,8,349,10],[349,11,349,13],[349,14,349,19],[350,2,350,7],[350,8,350,10],[350,11,350,13],[350,14,350,19],[344,2,344,10],[344,11,344,19],[345,2,345,10],[345,11,345,19],[346,4,346,7],[346,9,346,12],[346,14,346,17],[347,3,347,7],[347,9,347,12],[347,14,347,15],[347,16,347,17],[341,3,341,7],[341,14,341,15],[341,16,341,17],[342,2,342,7],[342,8,342,10],[342,11,342,13],[342,14,342,19],[343,2,343,7],[343,8,343,10],[343,11,343,13],[343,14,343,19],[337,2,337,10],[337,11,337,19],[338,2,338,10],[338,11,338,19],[339,4,339,7],[339,9,339,12],[339,14,339,17],[340,3,340,7],[340,9,340,12],[340,14,340,15],[340,16,340,17],[334,3,334,7],[334,14,334,15],[334,16,334,17],[335,2,335,7],[335,8,335,10],[335,11,335,13],[335,14,335,19],[336,2,336,7],[336,8,336,10],[336,11,336,13],[336,14,336,19],[330,2,330,10],[330,11,330,19],[331,2,331,10],[331,11,331,19],[332,4,332,7],[332,9,332,12],[332,14,332,17],[333,3,333,7],[333,9,333,12],[333,14,333,15],[333,16,333,17],[327,3,327,7],[327,14,327,15],[327,16,327,17],[328,2,328,7],[328,8,328,10],[328,11,328,13],[328,14,328,19],[329,2,329,7],[329,8,329,10],[329,11,329,13],[329,14,329,19],[323,2,323,10],[323,11,323,19],[324,2,324,10],[324,11,324,19],[325,4,325,7],[325,9,325,12],[325,14,325,17],[326,3,326,7],[326,9,326,12],[326,14,326,15],[326,16,326,17],[320,3,320,7],[320,14,320,15],[320,16,320,17],[321,2,321,7],[321,8,321,10],[321,11,321,13],[321,14,321,19],[322,2,322,7],[322,8,322,10],[322,11,322,13],[322,14,322,19],[316,2,316,10],[316,11,316,19],[317,2,317,10],[317,11,317,19],[318,4,318,7],[318,9,318,12],[318,14,318,17],[319,3,319,7],[319,9,319,12],[319,14,319,15],[319,16,319,17],[313,3,313,7],[313,14,313,15],[313,16,313,17],[314,2,314,7],[314,8,314,10],[314,11,314,13],[314,14,314,19],[315,2,315,7],[315,8,315,10],[315,11,315,13],[315,14,315,19],[309,2,309,10],[309,11,309,19],[310,2,310,10],[310,11,310,19],[311,4,311,7],[311,9,311,12],[311,14,311,17],[312,3,312,7],[312,9,312,12],[312,14,312,15],[312,16,312,17],[306,3,306,7],[306,14,306,15],[306,16,306,17],[307,2,307,7],[307,8,307,10],[307,11,307,13],[307,14,307,19],[308,2,308,7],[308,8,308,10],[308,11,308,13],[308,14,308,19],[302,2,302,10],[302,11,302,19],[303,2,303,10],[303,11,303,19],[304,4,304,7],[304,9,304,12],[304,14,304,17],[305,3,305,7],[305,9,305,12],[305,14,305,15],[305,16,305,17],[299,3,299,7],[299,14,299,15],[299,16,299,17],[300,2,300,7],[300,8,300,10],[300,11,300,13],[300,14,300,19],[301,2,301,7],[301,8,301,10],[301,11,301,13],[301,14,301,19],[295,2,295,10],[295,11,295,19],[296,2,296,10],[296,11,296,19],[297,4,297,7],[297,9,297,12],[297,14,297,17],[298,3,298,7],[298,9,298,12],[298,14,298,15],[298,16,298,17],[292,3,292,7],[292,14,292,15],[292,16,292,17],[293,2,293,7],[293,8,293,10],[293,11,293,13],[293,14,293,19],[294,2,294,7],[294,8,294,10],[294,11,294,13],[294,14,294,19],[288,2,288,10],[288,11,288,19],[289,2,289,10],[289,11,289,19],[290,4,290,7],[290,9,290,12],[290,14,290,17],[291,3,291,7],[291,9,291,12],[291,14,291,15],[291,16,291,17],[285,3,285,7],[285,14,285,15],[285,16,285,17],[286,2,286,7],[286,8,286,10],[286,11,286,13],[286,14,286,19],[287,2,287,7],[287,8,287,10],[287,11,287,13],[287,14,287,19],[281,2,281,10],[281,11,281,19],[282,2,282,10],[282,11,282,19],[283,4,283,7],[283,9,283,12],[283,14,283,17],[284,3,284,7],[284,9,284,12],[284,14,284,15],[284,16,284,17],[278,3,278,7],[278,14,278,15],[278,16,278,17],[279,2,279,7],[279,8,279,10],[279,11,279,13],[279,14,279,19],[280,2,280,7],[280,8,280,10],[280,11,280,13],[280,14,280,19],[274,2,274,10],[274,11,274,19],[275,2,275,10],[275,11,275,19],[276,4,276,7],[276,9,276,12],[276,14,276,17],[277,3,277,7],[277,9,277,12],[277,14,277,15],[277,16,277,17],[271,3,271,7],[271,14,271,15],[271,16,271,17],[272,2,272,7],[272,8,272,10],[272,11,272,13],[272,14,272,19],[273,2,273,7],[273,8,273,10],[273,11,273,13],[273,14,273,19],[267,2,267,10],[267,11,267,19],[268,2,268,10],[268,11,268,19],[269,4,269,7],[269,9,269,12],[269,14,269,17],[270,3,270,7],[270,9,270,12],[270,14,270,15],[270,16,270,17],[264,3,264,7],[264,14,264,15],[264,16,264,17],[265,2,265,7],[265,8,265,10],[265,11,265,13],[265,14,265,19],[266,2,266,7],[266,8,266,10],[266,11,266,13],[266,14,266,19],[260,2,260,10],[260,11,260,19],[261,2,261,10],[261,11,261,19],[262,4,262,7],[262,9,262,12],[262,14,262,17],[263,3,263,7],[263,9,263,12],[263,14,263,15],[263,16,263,17],[257,3,257,7],[257,14,257,15],[257,16,257,17],[258,2,258,7],[258,8,258,10],[258,11,258,13],[258,14,258,19],[259,2,259,7],[259,8,259,10],[259,11,259,13],[259,14,259,19],[253,2,253,10],[253,11,253,19],[254,2,254,10],[254,11,254,19],[255,4,255,7],[255,9,255,12],[255,14,255,17],[256,3,256,7],[256,9,256,12],[256,14,256,15],[256,16,256,17],[250,3,250,7],[250,14,250,15],[250,16,250,17],[251,2,251,7],[251,8,251,10],[251,11,251,13],[251,14,251,19],[252,2,252,7],[252,8,252,10],[252,11,252,13],[252,14,252,19],[246,2,246,10],[246,11,246,19],[247,2,247,10],[247,11,247,19],[248,4,248,7],[248,9,248,12],[248,14,248,17],[249,3,249,7],[249,9,249,12],[249,14,249,15],[249,16,249,17],[243,3,243,7],[243,14,243,15],[243,16,243,17],[244,2,244,7],[244,8,244,10],[244,11,244,13],[244,14,244,19],[245,2,245,7],[245,8,245,10],[245,11,245,13],[245,14,245,19],[239,2,239,10],[239,11,239,19],[240,2,240,10],[240,11,240,19],[241,4,241,7],[241,9,241,12],[241,14,241,17],[242,3,242,7],[242,9,242,12],[242,14,242,15],[242,16,242,17],[236,3,236,7],[236,14,236,15],[236,16,236,17],[237,2,237,7],[237,8,237,10],[237,11,237,13],[237,14,237,19],[238,2,238,7],[238,8,238,10],[238,11,238,13],[238,14,238,19],[232,2,232,10],[232,11,232,19],[233,2,233,10],[233,11,233,19],[234,4,234,7],[234,9,234,12],[234,14,234,17],[235,3,235,7],[235,9,235,12],[235,14,235,15],[235,16,235,17],[229,3,229,7],[229,14,229,15],[229,16,229,17],[230,2,230,7],[230,8,230,10],[230,11,230,13],[230,14,230,19],[231,2,231,7],[231,8,231,10],[231,11,231,13],[231,14,231,19],[225,2,225,10],[225,11,225,19],[226,2,226,10],[226,11,226,19],[227,4,227,7],[227,9,227,12],[227,14,227,17],[228,3,228,7],[228,9,228,12],[228,14,228,15],[228,16,228,17],[222,3,222,7],[222,14,222,15],[222,16,222,17],[223,2,223,7],[223,8,223,10],[223,11,223,13],[223,14,223,19],[224,2,224,7],[224,8,224,10],[224,11,224,13],[224,14,224,19],[219,2,219,10],[219,11,219,19],[220,4,220,7],[220,9,220,12],[220,14,220,17],[221,3,221,7],[221,9,221,12],[221,14,221,15],[221,16,221,17],[216,2,216,7],[216,8,216,10],[216,11,216,13],[216,14,216,19],[217,2,217,7],[217,8,217,10],[217,11,217,13],[217,14,217,19],[218,2,218,10],[218,11,218,19],[213,4,213,7],[213,9,213,12],[213,14,213,17],[214,3,214,7],[214,9,214,12],[214,14,214,15],[214,16,214,17],[215,3,215,7],[215,14,215,15],[215,16,215,17],[6,11,6,13],[8,11,8,19],[6,2,6,7],[7,11,7,13],[7,8,7,10],[2,40,2,41],[2,27,2,30],[2,31,2,32],[0,74,2,75],[7,14,7,19],[6,14,6,19],[2,36,2,37],[5,14,5,15],[4,16,4,17],[1,50,1,54],[0,72,2,73],[5,16,5,17],[0,14,0,17],[1,45,1,49],[1,14,2,17],[2,38,2,39],[2,33,2,34],[3,14,3,17],[1,4,1,12],[4,9,4,12],[3,4,3,7],[15,2,15,10],[13,2,13,7],[12,3,12,7],[12,14,12,15],[12,16,12,17],[13,8,13,10],[13,11,13,13],[13,14,13,19],[15,11,15,19],[14,2,14,7],[14,8,14,10],[14,11,14,13],[14,14,14,19],[3,9,3,12],[4,14,4,15],[10,14,10,17],[10,9,10,12],[11,14,11,15],[11,9,11,12],[11,3,11,7],[11,16,11,17],[10,4,10,7],[9,11,9,19],[7,2,7,7],[5,3,5,7],[8,2,8,10],[4,3,4,7],[9,2,9,10],[6,8,6,10],[17,4,17,7],[17,9,17,12],[17,14,17,17],[18,3,18,7],[18,9,18,12],[18,14,18,15],[18,16,18,17],[16,2,16,10],[16,11,16,19],[21,2,21,7],[21,8,21,10],[21,11,21,13],[21,14,21,19],[22,2,22,10],[22,11,22,19],[19,3,19,7],[19,14,19,15],[19,16,19,17],[20,2,20,7],[20,8,20,10],[20,11,20,13],[20,14,20,19],[25,3,25,7],[25,9,25,12],[25,14,25,15],[25,16,25,17],[26,3,26,7],[26,14,26,15],[26,16,26,17],[23,2,23,10],[23,11,23,19],[24,4,24,7],[24,9,24,12],[24,14,24,17],[29,2,29,10],[29,11,29,19],[30,2,30,10],[30,11,30,19],[31,4,31,7],[31,9,31,12],[31,14,31,17],[27,2,27,7],[27,8,27,10],[27,11,27,13],[27,14,27,19],[28,2,28,7],[28,8,28,10],[28,11,28,13],[28,14,28,19],[34,2,34,7],[34,8,34,10],[34,11,34,13],[34,14,34,19],[35,2,35,7],[35,8,35,10],[35,11,35,13],[35,14,35,19],[32,3,32,7],[32,9,32,12],[32,14,32,15],[32,16,32,17],[33,3,33,7],[33,14,33,15],[33,16,33,17],[39,3,39,7],[39,9,39,12],[39,14,39,15],[39,16,39,17],[40,3,40,7],[40,14,40,15],[40,16,40,17],[36,2,36,10],[36,11,36,19],[37,2,37,10],[37,11,37,19],[38,4,38,7],[38,9,38,12],[38,14,38,17],[43,2,43,10],[43,11,43,19],[44,2,44,10],[44,11,44,19],[45,4,45,7],[45,9,45,12],[45,14,45,17],[41,2,41,7],[41,8,41,10],[41,11,41,13],[41,14,41,19],[42,2,42,7],[42,8,42,10],[42,11,42,13],[42,14,42,19],[48,2,48,7],[48,8,48,10],[48,11,48,13],[48,14,48,19],[49,2,49,7],[49,8,49,10],[49,11,49,13],[49,14,49,19],[46,3,46,7],[46,9,46,12],[46,14,46,15],[46,16,46,17],[47,3,47,7],[47,14,47,15],[47,16,47,17],[53,3,53,7],[53,9,53,12],[53,14,53,15],[53,16,53,17],[54,3,54,7],[54,14,54,15],[54,16,54,17],[50,2,50,10],[50,11,50,19],[51,2,51,10],[51,11,51,19],[52,4,52,7],[52,9,52,12],[52,14,52,17],[57,2,57,10],[57,11,57,19],[58,2,58,10],[58,11,58,19],[59,4,59,7],[59,9,59,12],[59,14,59,17],[55,2,55,7],[55,8,55,10],[55,11,55,13],[55,14,55,19],[56,2,56,7],[56,8,56,10],[56,11,56,13],[56,14,56,19],[62,2,62,7],[62,8,62,10],[62,11,62,13],[62,14,62,19],[63,2,63,7],[63,8,63,10],[63,11,63,13],[63,14,63,19],[60,3,60,7],[60,9,60,12],[60,14,60,15],[60,16,60,17],[61,3,61,7],[61,14,61,15],[61,16,61,17],[67,3,67,7],[67,9,67,12],[67,14,67,15],[67,16,67,17],[68,3,68,7],[68,14,68,15],[68,16,68,17],[64,2,64,10],[64,11,64,19],[65,2,65,10],[65,11,65,19],[66,4,66,7],[66,9,66,12],[66,14,66,17],[71,2,71,10],[71,11,71,19],[72,2,72,10],[72,11,72,19],[73,4,73,7],[73,9,73,12],[73,14,73,17],[69,2,69,7],[69,8,69,10],[69,11,69,13],[69,14,69,19],[70,2,70,7],[70,8,70,10],[70,11,70,13],[70,14,70,19],[76,2,76,7],[76,8,76,10],[76,11,76,13],[76,14,76,19],[77,2,77,7],[77,8,77,10],[77,11,77,13],[77,14,77,19],[74,3,74,7],[74,9,74,12],[74,14,74,15],[74,16,74,17],[75,3,75,7],[75,14,75,15],[75,16,75,17],[81,3,81,7],[81,9,81,12],[81,14,81,15],[81,16,81,17],[82,3,82,7],[82,14,82,15],[82,16,82,17],[78,2,78,10],[78,11,78,19],[79,2,79,10],[79,11,79,19],[80,4,80,7],[80,9,80,12],[80,14,80,17],[85,2,85,10],[85,11,85,19],[86,2,86,10],[86,11,86,19],[87,4,87,7],[87,9,87,12],[87,14,87,17],[83,2,83,7],[83,8,83,10],[83,11,83,13],[83,14,83,19],[84,2,84,7],[84,8,84,10],[84,11,84,13],[84,14,84,19],[90,2,90,7],[90,8,90,10],[90,11,90,13],[90,14,90,19],[91,2,91,7],[91,8,91,10],[91,11,91,13],[91,14,91,19],[88,3,88,7],[88,9,88,12],[88,14,88,15],[88,16,88,17],[89,3,89,7],[89,14,89,15],[89,16,89,17],[95,3,95,7],[95,9,95,12],[95,14,95,15],[95,16,95,17],[96,3,96,7],[96,14,96,15],[96,16,96,17],[92,2,92,10],[92,11,92,19],[93,2,93,10],[93,11,93,19],[94,4,94,7],[94,9,94,12],[94,14,94,17],[99,2,99,10],[99,11,99,19],[100,2,100,10],[100,11,100,19],[101,4,101,7],[101,9,101,12],[101,14,101,17],[97,2,97,7],[97,8,97,10],[97,11,97,13],[97,14,97,19],[98,2,98,7],[98,8,98,10],[98,11,98,13],[98,14,98,19],[104,2,104,7],[104,8,104,10],[104,11,104,13],[104,14,104,19],[105,2,105,7],[105,8,105,10],[105,11,105,13],[105,14,105,19],[102,3,102,7],[102,9,102,12],[102,14,102,15],[102,16,102,17],[103,3,103,7],[103,14,103,15],[103,16,103,17],[109,3,109,7],[109,9,109,12],[109,14,109,15],[109,16,109,17],[110,3,110,7],[110,14,110,15],[110,16,110,17],[106,2,106,10],[106,11,106,19],[107,2,107,10],[107,11,107,19],[108,4,108,7],[108,9,108,12],[108,14,108,17],[113,2,113,10],[113,11,113,19],[114,2,114,10],[114,11,114,19],[115,4,115,7],[115,9,115,12],[115,14,115,17],[111,2,111,7],[111,8,111,10],[111,11,111,13],[111,14,111,19],[112,2,112,7],[112,8,112,10],[112,11,112,13],[112,14,112,19],[118,2,118,7],[118,8,118,10],[118,11,118,13],[118,14,118,19],[119,2,119,7],[119,8,119,10],[119,11,119,13],[119,14,119,19],[116,3,116,7],[116,9,116,12],[116,14,116,15],[116,16,116,17],[117,3,117,7],[117,14,117,15],[117,16,117,17],[123,3,123,7],[123,9,123,12],[123,14,123,15],[123,16,123,17],[124,3,124,7],[124,14,124,15],[124,16,124,17],[120,2,120,10],[120,11,120,19],[121,2,121,10],[121,11,121,19],[122,4,122,7],[122,9,122,12],[122,14,122,17],[127,2,127,10],[127,11,127,19],[128,2,128,10],[128,11,128,19],[129,4,129,7],[129,9,129,12],[129,14,129,17],[125,2,125,7],[125,8,125,10],[125,11,125,13],[125,14,125,19],[126,2,126,7],[126,8,126,10],[126,11,126,13],[126,14,126,19],[132,2,132,7],[132,8,132,10],[132,11,132,13],[132,14,132,19],[133,2,133,7],[133,8,133,10],[133,11,133,13],[133,14,133,19],[130,3,130,7],[130,9,130,12],[130,14,130,15],[130,16,130,17],[131,3,131,7],[131,14,131,15],[131,16,131,17],[137,3,137,7]],"merged_total":1245,"flags":["merged_cut"]}
[null,null,null,"Boisko",1,2,3,4,5,6,7,8,9,10,"Nr gry",null,null,null,null,"2014-10-04",null,"min.",null,null,null,null,null,null,null,null,null,null,null,null,null,null,null,null,null,null,null,null,null,null,null,null,null,null,null,null,null,null,null,null,null,null,null,null,null,null,null,null,{"$f":"COUNTIF($BJ:$BJ,E1)","v":0},0,0,0,0,0,0,0,0,0,"Nieobecni",null,"nr meczu"]
["Nr ",null,null,null,null,null,null,null,null,null,null,null,null,null,1,null,null,null,null,null,"poj.","00:25:00",null,null,null,"*",null,null,null,null,null,null,null,null,null,null,null,null,null,null,null,null,null,null,null,"S. prowadzący",null,null,null,null,"S. serwisowy"]
["meczu",null,null,null,null,null,null,null,null,null,null,null,null,null,null,null,null,null,null,{"$f":"TODAY()","v":"2014-11-14"},"podw.","00:15:00",null,null,null,"nr gry",null,"zawodnicy",null,null,null,"awans",null,"rezultat",null,null,"1 set",null,"2 set",null,"3 set",null,null,"S.prow.","S. serw.","poj k","poj m","pod k","pod m","m","poj k","poj m","pod k","pod m","m"]
[null,null,1,"dzień turnieju.",null,null,null,null,null,"Nr meczu",null,null,null,null,"Godz.",null,null,null,"S. prow.",null,null,null,{"$f":"IF(I6>J6,1,0)+IF(K6>L6,1,0)+IF(M6>N6,1,0)","v":2},{"$f":"IF(J6>I6,1,0)+IF(L6>K6,1,0)+IF(N6>M6,1,0)","v":0},null,null,null,null,null,null,null,null,null,"wygrany","przegrany"]
[null,null,"Boisko","Gra",null,null,null,null,null,{"$f":"A6","v":1},null,null,null,null,"rozp.",null,"zak.",null,"S. serw.",null,null,null,{"$f":"IF(AND(COUNTA(I6,J6)=2,AF6=I7),FIXED(I6,0,TRUE)&\":\"&FIXED(J6,0,TRUE),IF(AND(COUNTA(I6,J6)=2,AF6=L7),FIXED(J6,0,TRUE)&\":\"&FIXED(I6,0,TRUE),\"\"))","v":"15:5"},{"$f":"IF(AND(COUNTA(I6,J6)=2,AF6=I7),FIXED(J6,0,TRUE)&\":\"&FIXED(I6,0,TRUE),IF(AND(COUNTA(I6,J6)=2,AF6=L7),FIXED(I6,0,TRUE)&\":\"&FIXED(J6,0,TRUE),\"\"))","v":"5:15"}]
[1,null,null,{"$f":"IF(TYPE(VLOOKUP(A6,'grup-puch'!$A:$M,13,FALSE))=2,VLOOKUP(A6,'grup-puch'!$A:$M,13,FALSE),IF(TYPE(VLOOKUP(A6,puch!$A:$J,10,FALSE))=2,VLOOKUP(A6,puch!$A:$J,10,FALSE),\"\"))","v":"KLASY 1-3 CHŁOPCY"},null,null,null,null,15,5,15,3,null,null,null,null,null,null,{"$f":"Q6-O6","v":"00:00:00"},{"$f":"IF(VLOOKUP(A6,dane!F:G,2,FALSE)=\"\",\"\",VLOOKUP(A6,dane!F:G,2,FALSE))","v":""},null,null,{"$f":"IF(AND(COUNTA(K6,L6)=2,AF6=I7),\",\"&FIXED(K6,0,TRUE)&\":\"&FIXED(L6,0,TRUE),IF(AND(COUNTA(K6,L6)=2,AF6=L7),\",\"&FIXED(L6,0,TRUE)&\":\"&FIXED(K6,0,TRUE),\"\"))","v":",15:3"},{"$f":"IF(AND(COUNTA(K6,L6)=2,AF6=I7),\",\"&FIXED(L6,0,TRUE)&\":\"&FIXED(K6,0,TRUE),IF(AND(COUNTA(K6,L6)=2,AF6=L7),\",\"&FIXED(K6,0,TRUE)&\":\"&FIXED(L6,0,TRUE),\"\"))","v":",3:15"},null,{"$f":"A6","v":1},{"$f":"IF(ISBLANK(D6),\"\",D6)","v":"KLASY 1-3 CHŁOPCY"},{"$f":"IF(OR(I7=0,I7=\"\"),\"\",I7)","v":"x22"},{"$f":"IF(OR(I8=0,I8=\"\"),\"\",I8)","v":""},{"$f":"IF(OR(L7=0,L7=\"\"),\"\",L7)","v":"x7"},{"$f":"IF(OR(L8=0,L8=\"\"),\"\",L8)","v":""},{"$f":"IF(COUNTA(C9,L9)=1,IF(ISTEXT(C9),I7,L7),IF(OR(I6=\"\",W4=X4),\"\",IF(W4>X4,I7,L7)))","v":"x22"},{"$f":"IF(COUNTA(C9,L9)=1,IF(ISTEXT(C9),I8,L8),IF(OR(I6=\"\",W4=X4),\"\",IF(W4>X4,I8,L8)))","v":""},{"$f":"IF(OR(AF6=I7,AF6=L7),IF(AF6=I7,W5&W6&W7&IF(ISTEXT(C9),\" \"&C9,\"\"),W5&W6&W7&IF(ISTEXT(L9),\" \"&L9,\"\")),\"\")","v":"15:5,15:3"},{"$f":"IF(OR(AF6=I7,AF6=L7),IF(AF6=I7,X5&X6&X7&IF(ISTEXT(C9),\" \"&C9,\"\"),X5&X6&X7&IF(ISTEXT(L9),\" \"&L9,\"\")),\"\")","v":"5:15,3:15"},{"$f":"IF(ISBLANK(L9),\"\",L9)","v":""},{"$f":"I6","v":15},5,15,3,0,0,null,{"$f":"T4","v":0},{"$f":"T5","v":0},{"$f":"IF(OR(AA6=dane!$I$3,AA6=dane!$I$4,AA6=dane!$I$5,AA6=dane!$I$6),AR6,\"\")","v":0},{"$f":"IF(OR(AA6=dane!$I$7,AA6=dane!$I$8,AA6=dane!$I$10,AA6=dane!$I$11),AR6,\"\")","v":""},{"$f":"IF(OR(AA6=dane!$I$12,AA6=dane!$I$13,AA6=dane!$I$14,AA6=dane!$I$15),AR6,\"\")","v":""},{"$f":"IF(OR(AA6=dane!$I$16,AA6=dane!$I$17,AA6=dane!$I$18,AA6=dane!$I$19),AR6,\"\")","v":""},{"$f":"IF(OR(AA6=dane!$I$20,AA6=dane!$I$21,AA6=dane!$I$22,AA6=dane!$I$23),AR6,\"\")","v":""},{"$f":"IF(OR(AA6=dane!$I$3,AA6=dane!$I$4,AA6=dane!$I$5,AA6=dane!$I$6),AS6,\"\")","v":0},{"$f":"IF(OR(AA6=dane!$I$7,AA6=dane!$I$8,AA6=dane!$I$10,AA6=dane!$I$11),AS6,\"\")","v":""},{"$f":"IF(OR(AA6=dane!$I$12,AA6=dane!$I$13,AA6=dane!$I$14,AA6=dane!$I$15),AS6,\"\")","v":""},{"$f":"IF(OR(AA6=dane!$I$16,AA6=dane!$I$17,AA6=dane!$I$18,AA6=dane!$I$19),AS6,\"\")","v":""},{"$f":"IF(OR(AA6=dane!$I$20,AA6=dane!$I$21,AA6=dane!$I$22,AA6=dane!$I$23),AS6,\"\")","v":""},{"$f":"IF($T$1=\"\",\"\",IF(C6=\"\",\"\",IF(Q6=\"\",C7,\"\")))","v":""},{"$f":"IF(LEN(L8)>0,$V$3,$V$2)+Q6+$T$1+C4-1","v":"2014-10-04T00:25:00"},{"$f":"IF(BE6>NOW(),C7,\"\")","v":""},{"$f":"IF(C6<>\"\",\"\",VLOOKUP(C7,BD:BD,1,FALSE))","v":{"$error":"#N/A"}},{"$f":"IF(Q6<>\"\",\"\",VLOOKUP(C7,BF:BF,1,FALSE))","v":"Hanna  Lewandowska (Wesoła)"},{"$f":"IF(BF6<>\"\",BE6,\"\")","v":""},{"$f":"IF(Q6=\"\",C6,\"\")","v":0},null,null,null,null,null,null,null,null,null,null,null,null,{"$f":"IF((LEN(C6)+LEN(C10)+LEN(L10))=0,I7,\"\")","v":""},{"$f":"IF(LEN(BW6)>0,A6,\"\")","v":""}]
[{"$f":"IF(TYPE(VLOOKUP(C7,BF:BI,4,FALSE))=1,VLOOKUP(C7,BF:BI,4,FALSE),\"\")","v":41963.010416666664},{"$f":"IF(TYPE(VLOOKUP(I7,BW:BX,2,FALSE))=16,\"\",VLOOKUP(I7,BW:BX,2,FALSE))","v":""},{"$f":"IF(I7=\"\",\"\",VLOOKUP(I7,zawodnicy!$A:$D,2,FALSE)&\" \"&VLOOKUP(I7,zawodnicy!$A:$D,3,FALSE)&\" (\"&VLOOKUP(I7,zawodnicy!$A:$D,4,FALSE)&\")\")","v":"Hanna  Lewandowska (Wesoła)"},null,null,null,null,null,{"$f":"IF(TYPE(VLOOKUP(A6,'grup-puch'!$A:$E,2,FALSE))=2,VLOOKUP(A6,'grup-puch'!$A:$E,2,FALSE),IF(TYPE(VLOOKUP(A6,puch!$A:$E,2,FALSE))=2,VLOOKUP(A6,puch!$A:$E,2,FALSE),\"\"))","v":"x22"},null,null,{"$f":"IF(TYPE(VLOOKUP(A6,'grup-puch'!$A:$E,4,FALSE))=2,VLOOKUP(A6,'grup-puch'!$A:$E,4,FALSE),IF(TYPE(VLOOKUP(A6,puch!$A:$E,4,FALSE))=2,VLOOKUP(A6,puch!$A:$E,4,FALSE),\"\"))","v":"x7"},null,null,{"$f":"IF(L7=\"\",\"\",VLOOKUP(L7,zawodnicy!$A:$D,2,FALSE)&\" \"&VLOOKUP(L7,zawodnicy!$A:$D,3,FALSE)&\" (\"&VLOOKUP(L7,zawodnicy!$A:$D,4,FALSE)&\")\")","v":"Kacper Gajos (Ząbki)"},null,null,null,null,null,{"$f":"IF(TYPE(VLOOKUP(L7,BW:BX,2,FALSE))=16,\"\",VLOOKUP(L7,BW:BX,2,FALSE))","v":""},{"$f":"IF(TYPE(VLOOKUP(O7,BF:BI,4,FALSE))=1,VLOOKUP(O7,BF:BI,4,FALSE),\"\")","v":""},{"$f":"IF(AND(COUNTA(M6,N6)=2,AF6=I7),\",\"&FIXED(M6,0,TRUE)&\":\"&FIXED(N6,0,TRUE),IF(AND(COUNTA(M6,N6)=2,AF6=L7),\",\"&FIXED(N6,0,TRUE)&\":\"&FIXED(M6,0,TRUE),\"\"))","v":""},{"$f":"IF(AND(COUNTA(M6,N6)=2,AF6=I7),\",\"&FIXED(N6,0,TRUE)&\":\"&FIXED(M6,0,TRUE),IF(AND(COUNTA(M6,N6)=2,AF6=L7),\",\"&FIXED(M6,0,TRUE)&\":\"&FIXED(N6,0,TRUE),\"\"))","v":""},null,null,null,null,null,null,null,null,null,null,null,null,null,null,null,null,null,null,null,null,null,null,null,null,null,null,null,null,null,null,null,{"$f":"IF($T$1=\"\",\"\",IF(C6=\"\",\"\",IF(Q6=\"\",C8,\"\")))","v":""},null,{"$f":"IF(BE6>NOW(),C8,\"\")","v":""},{"$f":"IF(C6<>\"\",\"\",VLOOKUP(C8,BD:BD,1,FALSE))","v":""},{"$f":"IF(Q6<>\"\",\"\",VLOOKUP(C8,BF:BF,1,FALSE))","v":""},{"$f":"IF(BF7<>\"\",BE6,\"\")","v":""},null,null,null,null,null,null,null,null,null,null,null,{"$f":"IF(VLOOKUP(I7,zawodnicy!A:E,5,FALSE)=0,\"\",C7)","v":""},{"$f":"IF(VLOOKUP(L7,zawodnicy!A:E,5,FALSE)=0,\"\",O7)","v":""},{"$f":"IF((LEN(C6)+LEN(C10)+LEN(L10))=0,I8,\"\")","v":""},{"$f":"IF(LEN(BW7)>0,A6,\"\")","v":""}]
[{"$f":"IF(TYPE(VLOOKUP(C8,BF:BI,4,FALSE))=1,VLOOKUP(C8,BF:BI,4,FALSE),\"\")","v":""},{"$f":"IF(TYPE(VLOOKUP(I8,BW:BX,2,FALSE))=16,\"\",VLOOKUP(I8,BW:BX,2,FALSE))","v":""},{"$f":"IF(OR(I8=0,I8=\"\"),\"\",VLOOKUP(I8,zawodnicy!$A:$D,2,FALSE)&\" \"&VLOOKUP(I8,zawodnicy!$A:$D,3,FALSE)&\" (\"&VLOOKUP(I8,zawodnicy!$A:$D,4,FALSE)&\")\")","v":""},null,null,null,null,null,{"$f":"IF(TYPE(VLOOKUP(A6,'grup-puch'!$A:$E,3,FALSE))=2,VLOOKUP(A6,'grup-puch'!$A:$E,3,FALSE),IF(TYPE(VLOOKUP(A6,puch!$A:$E,3,FALSE))=2,VLOOKUP(A6,puch!$A:$E,3,FALSE),\"\"))","v":""},null,null,{"$f":"IF(TYPE(VLOOKUP(A6,'grup-puch'!$A:$E,5,FALSE))=2,VLOOKUP(A6,'grup-puch'!$A:$E,5,FALSE),IF(TYPE(VLOOKUP(A6,puch!$A:$E,5,FALSE))=2,VLOOKUP(A6,puch!$A:$E,5,FALSE),\"\"))","v":""},null,null,{"$f":"IF(OR(L8=\"\",L8=0),\"\",VLOOKUP(L8,zawodnicy!$A:$D,2,FALSE)&\" \"&VLOOKUP(L8,zawodnicy!$A:$D,3,FALSE)&\" (\"&VLOOKUP(L8,zawodnicy!$A:$D,4,FALSE)&\")\")","v":""},null,null,null,null,null,{"$f":"IF(TYPE(VLOOKUP(L8,BW:BX,2,FALSE))=16,\"\",VLOOKUP(L8,BW:BX,2,FALSE))","v":""},{"$f":"IF(TYPE(VLOOKUP(O8,BF:BI,4,FALSE))=1,VLOOKUP(O8,BF:BI,4,FALSE),\"\")","v":""},null,null,null,null,null,null,null,null,null,null,null,null,null,null,null,null,null,null,null,null,null,null,null,null,null,null,null,null,null,null,null,null,null,{"$f":"IF($T$1=\"\",\"\",IF(C6=\"\",\"\",IF(Q6=\"\",O7,\"\")))","v":""},null,{"$f":"IF(BE6>NOW(),O7,\"\")","v":""},{"$f":"IF(C6<>\"\",\"\",VLOOKUP(O7,BD:BD,1,FALSE))","v":{"$error":"#N/A"}},{"$f":"IF(Q6<>\"\",\"\",VLOOKUP(O7,BF:BF,1,FALSE))","v":{"$error":"#N/A"}},{"$f":"IF(BF8<>\"\",BE6,\"\")","v":""},null,null,null,null,null,null,null,null,null,null,null,{"$f":"IF(VLOOKUP(I8,zawodnicy!A:E,5,FALSE)=0,\"\",C8)","v":{"$error":"#N/A"}},{"$f":"IF(VLOOKUP(L8,zawodnicy!A:E,5,FALSE)=0,\"\",O8)","v":{"$error":"#N/A"}},{"$f":"IF((LEN(C6)+LEN(C10)+LEN(L10))=0,L7,\"\")","v":""},{"$f":"IF(LEN(BW8)>0,A6,\"\")","v":""}]
[null,null,null,null,null,null,null,null,null,null,null,null,null,null,null,null,null,null,null,null,null,null,null,null,null,null,null,null,null,null,null,null,null,null,null,null,null,null,null,null,null,null,null,null,null,null,null,null,null,null,null,null,null,null,null,{"$f":"IF($T$1=\"\",\"\",IF(C6=\"\",\"\",IF(Q6=\"\",O8,\"\")))","v":""},null,{"$f":"IF(BE6>NOW(),O8,\"\")","v":""},{"$f":"IF(C6<>\"\",\"\",VLOOKUP(O8,BD:BD,1,FALSE))","v":""},{"$f":"IF(Q6<>\"\",\"\",VLOOKUP(O8,BF:BF,1,FALSE))","v":""},{"$f":"IF(BF9<>\"\",BE6,\"\")","v":""},null,null,null,null,null,null,null,null,null,null,null,null,null,{"$f":"IF((LEN(C6)+LEN(C10)+LEN(L10))=0,L8,\"\")","v":""},{"$f":"IF(LEN(BW9)>0,A6,\"\")","v":""}]
[null,null,{"$f":"IF(I7=\"\",\"\",IF(I7=AF6,\"zwycięzca(cy):\"&\" \"&AH6,\"\"))","v":"zwycięzca(cy): 15:5,15:3"},null,null,null,null,null,null,null,null,{"$f":"IF(L7=\"\",\"\",IF(L7=AF6,\"zwycięzca(cy):\"&\" \"&AH6,\"\"))","v":""}]
[null,null,2,"dzień turnieju.",null,null,null,null,null,"Nr meczu",null,null,null,null,"Godz.",null,null,null,"S. prow.",null,null,null,{"$f":"IF(I13>J13,1,0)+IF(K13>L13,1,0)+IF(M13>N13,1,0)","v":2},{"$f":"IF(J13>I13,1,0)+IF(L13>K13,1,0)+IF(N13>M13,1,0)","v":0},null,null,null,null,null,null,null,null,null,"wygrany","przegrany"]
[null,null,"Boisko","Gra",null,null,null,null,null,{"$f":"A13","v":2},null,null,null,null,"rozp.",null,"zak.",null,"S. serw.",null,null,null,{"$f":"IF(AND(COUNTA(I13,J13)=2,AF13=I14),FIXED(I13,0,TRUE)&\":\"&FIXED(J13,0,TRUE),IF(AND(COUNTA(I13,J13)=2,AF13=L14),FIXED(J13,0,TRUE)&\":\"&FIXED(I13,0,TRUE),\"\"))","v":"15:7"},{"$f":"IF(AND(COUNTA(I13,J13)=2,AF13=I14),FIXED(J13,0,TRUE)&\":\"&FIXED(I13,0,TRUE),IF(AND(COUNTA(I13,J13)=2,AF13=L14),FIXED(I13,0,TRUE)&\":\"&FIXED(J13,0,TRUE),\"\"))","v":"7:15"}]
[2,null,null,{"$f":"IF(TYPE(VLOOKUP(A13,'grup-puch'!$A:$M,13,FALSE))=2,VLOOKUP(A13,'grup-puch'!$A:$M,13,FALSE),IF(TYPE(VLOOKUP(A13,puch!$A:$J,10,FALSE))=2,VLOOKUP(A13,puch!$A:$J,10,FALSE),\"\"))","v":"KLASY 4-6 CHŁOPCY"},null,null,null,null,15,7,15,4,null,null,null,null,null,null,{"$f":"Q13-O13","v":"00:00:00"},{"$f":"IF(VLOOKUP(A13,dane!F:G,2,FALSE)=\"\",\"\",VLOOKUP(A13,dane!F:G,2,FALSE))","v":""},null,null,{"$f":"IF(AND(COUNTA(K13,L13)=2,AF13=I14),\",\"&FIXED(K13,0,TRUE)&\":\"&FIXED(L13,0,TRUE),IF(AND(COUNTA(K13,L13)=2,AF13=L14),\",\"&FIXED(L13,0,TRUE)&\":\"&FIXED(K13,0,TRUE),\"\"))","v":",15:4"},{"$f":"IF(AND(COUNTA(K13,L13)=2,AF13=I14),\",\"&FIXED(L13,0,TRUE)&\":\"&FIXED(K13,0,TRUE),IF(AND(COUNTA(K13,L13)=2,AF13=L14),\",\"&FIXED(K13,0,TRUE)&\":\"&FIXED(L13,0,TRUE),\"\"))","v":",4:15"},null,{"$f":"A13","v":2},{"$f":"IF(ISBLANK(D13),\"\",D13)","v":"KLASY 4-6 CHŁOPCY"},{"$f":"IF(OR(I14=0,I14=\"\"),\"\",I14)","v":"x68"},{"$f":"IF(OR(I15=0,I15=\"\"),\"\",I15)","v":""},{"$f":"IF(OR(L14=0,L14=\"\"),\"\",L14)","v":"x35"},{"$f":"IF(OR(L15=0,L15=\"\"),\"\",L15)","v":""},{"$f":"IF(COUNTA(C16,L16)=1,IF(ISTEXT(C16),I14,L14),IF(OR(I13=\"\",W11=X11),\"\",IF(W11>X11,I14,L14)))","v":"x68"},{"$f":"IF(COUNTA(C16,L16)=1,IF(ISTEXT(C16),I15,L15),IF(OR(I13=\"\",W11=X11),\"\",IF(W11>X11,I15,L15)))","v":""},{"$f":"IF(OR(AF13=I14,AF13=L14),IF(AF13=I14,W12&W13&W14&IF(ISTEXT(C16),\" \"&C16,\"\"),W12&W13&W14&IF(ISTEXT(L16),\" \"&L16,\"\")),\"\")","v":"15:7,15:4"},{"$f":"IF(OR(AF13=I14,AF13=L14),IF(AF13=I14,X12&X13&X14&IF(ISTEXT(C16),\" \"&C16,\"\"),X12&X13&X14&IF(ISTEXT(L16),\" \"&L16,\"\")),\"\")","v":"7:15,4:15"},{"$f":"IF(ISBLANK(L16),\"\",L16)","v":""},{"$f":"I13","v":15},{"$f":"J13","v":7},{"$f":"K13","v":15},{"$f":"L13","v":4},{"$f":"M13","v":0},{"$f":"N13","v":0},null,{"$f":"T11","v":0},{"$f":"T12","v":0},{"$f":"IF(OR(AA13=dane!$I$3,AA13=dane!$I$4,AA13=dane!$I$5,AA13=dane!$I$6),AR13,\"\")","v":0},{"$f":"IF(OR(AA13=dane!$I$7,AA13=dane!$I$8,AA13=dane!$I$10,AA13=dane!$I$11),AR13,\"\")","v":""},{"$f":"IF(OR(AA13=dane!$I$12,AA13=dane!$I$13,AA13=dane!$I$14,AA13=dane!$I$15),AR13,\"\")","v":""},{"$f":"IF(OR(AA13=dane!$I$16,AA13=dane!$I$17,AA13=dane!$I$18,AA13=dane!$I$19),AR13,\"\")","v":""},{"$f":"IF(OR(AA13=dane!$I$20,AA13=dane!$I$21,AA13=dane!$I$22,AA13=dane!$I$23),AR13,\"\")","v":""},{"$f":"IF(OR(AA13=dane!$I$3,AA13=dane!$I$4,AA13=dane!$I$5,AA13=dane!$I$6),AS13,\"\")","v":0},{"$f":"IF(OR(AA13=dane!$I$7,AA13=dane!$I$8,AA13=dane!$I$10,AA13=dane!$I$11),AS13,\"\")","v":""},{"$f":"IF(OR(AA13=dane!$I$12,AA13=dane!$I$13,AA13=dane!$I$14,AA13=dane!$I$15),AS13,\"\")","v":""},{"$f":"IF(OR(AA13=dane!$I$16,AA13=dane!$I$17,AA13=dane!$I$18,AA13=dane!$I$19),AS13,\"\")","v":""},{"$f":"IF(OR(AA13=dane!$I$20,AA13=dane!$I$21,AA13=dane!$I$22,AA13=dane!$I$23),AS13,\"\")","v":""},{"$f":"IF($T$1=\"\",\"\",IF(C13=\"\",\"\",IF(Q13=\"\",C14,\"\")))","v":""},{"$f":"IF(LEN(L15)>0,$V$3,$V$2)+Q13+$T$1+C11-1","v":"2014-10-05T00:25:00"},{"$f":"IF(BE13>NOW(),C14,\"\")","v":""},{"$f":"IF(C13<>\"\",\"\",VLOOKUP(C14,BD:BD,1,FALSE))","v":{"$error":"#N/A"}},{"$f":"IF(Q13<>\"\",\"\",VLOOKUP(C14,BF:BF,1,FALSE))","v":"Kacper Winek (Garwolin)"},{"$f":"IF(BF13<>\"\",BE13,\"\")","v":""},{"$f":"IF(Q13=\"\",C13,\"\")","v":0},null,null,null,null,null,null,null,null,null,null,null,null,{"$f":"IF((LEN(C13)+LEN(C17)+LEN(L17))=0,I14,\"\")","v":""},{"$f":"IF(LEN(BW13)>0,A13,\"\")","v":""}]
[{"$f":"IF(TYPE(VLOOKUP(C14,BF:BI,4,FALSE))=1,VLOOKUP(C14,BF:BI,4,FALSE),\"\")","v":41958.017361111109},{"$f":"IF(TYPE(VLOOKUP(I14,BW:BX,2,FALSE))=16,\"\",VLOOKUP(I14,BW:BX,2,FALSE))","v":""},{"$f":"IF(I14=\"\",\"\",VLOOKUP(I14,zawodnicy!$A:$D,2,FALSE)&\" \"&VLOOKUP(I14,zawodnicy!$A:$D,3,FALSE)&\" (\"&VLOOKUP(I14,zawodnicy!$A:$D,4,FALSE)&\")\")","v":"Kacper Winek (Garwolin)"},null,null,null,null,null,{"$f":"IF(TYPE(VLOOKUP(A13,'grup-puch'!$A:$E,2,FALSE))=2,VLOOKUP(A13,'grup-puch'!$A:$E,2,FALSE),IF(TYPE(VLOOKUP(A13,puch!$A:$E,2,FALSE))=2,VLOOKUP(A13,puch!$A:$E,2,FALSE),\"\"))","v":"x68"},null,null,{"$f":"IF(TYPE(VLOOKUP(A13,'grup-puch'!$A:$E,4,FALSE))=2,VLOOKUP(A13,'grup-puch'!$A:$E,4,FALSE),IF(TYPE(VLOOKUP(A13,puch!$A:$E,4,FALSE))=2,VLOOKUP(A13,puch!$A:$E,4,FALSE),\"\"))","v":"x35"},null,null,{"$f":"IF(L14=\"\",\"\",VLOOKUP(L14,zawodnicy!$A:$D,2,FALSE)&\" \"&VLOOKUP(L14,zawodnicy!$A:$D,3,FALSE)&\" (\"&VLOOKUP(L14,zawodnicy!$A:$D,4,FALSE)&\")\")","v":"Kuba  Niewczas (Ząbki)"},null,null,null,null,null,{"$f":"IF(TYPE(VLOOKUP(L14,BW:BX,2,FALSE))=16,\"\",VLOOKUP(L14,BW:BX,2,FALSE))","v":""},{"$f":"IF(TYPE(VLOOKUP(O14,BF:BI,4,FALSE))=1,VLOOKUP(O14,BF:BI,4,FALSE),\"\")","v":""},{"$f":"IF(AND(COUNTA(M13,N13)=2,AF13=I14),\",\"&FIXED(M13,0,TRUE)&\":\"&FIXED(N13,0,TRUE),IF(AND(COUNTA(M13,N13)=2,AF13=L14),\",\"&FIXED(N13,0,TRUE)&\":\"&FIXED(M13,0,TRUE),\"\"))","v":""},{"$f":"IF(AND(COUNTA(M13,N13)=2,AF13=I14),\",\"&FIXED(N13,0,TRUE)&\":\"&FIXED(M13,0,TRUE),IF(AND(COUNTA(M13,N13)=2,AF13=L14),\",\"&FIXED(M13,0,TRUE)&\":\"&FIXED(N13,0,TRUE),\"\"))","v":""},null,null,null,null,null,null,null,null,null,null,null,null,null,null,null,null,null,null,null,null,null,null,null,null,null,null,null,null,null,null,null,{"$f":"IF($T$1=\"\",\"\",IF(C13=\"\",\"\",IF(Q13=\"\",C15,\"\")))","v":""},null,{"$f":"IF(BE13>NOW(),C15,\"\")","v":""},{"$f":"IF(C13<>\"\",\"\",VLOOKUP(C15,BD:BD,1,FALSE))","v":""},{"$f":"IF(Q13<>\"\",\"\",VLOOKUP(C15,BF:BF,1,FALSE))","v":""},{"$f":"IF(BF14<>\"\",BE13,\"\")","v":""},null,null,null,null,null,null,null,null,null,null,null,{"$f":"IF(VLOOKUP(I14,zawodnicy!A:E,5,FALSE)=0,\"\",C14)","v":""},{"$f":"IF(VLOOKUP(L14,zawodnicy!A:E,5,FALSE)=0,\"\",O14)","v":""},{"$f":"IF((LEN(C13)+LEN(C17)+LEN(L17))=0,I15,\"\")","v":""},{"$f":"IF(LEN(BW14)>0,A13,\"\")","v":""}]
["","",{"$f":"IF(OR(I15=0,I15=\"\"),\"\",VLOOKUP(I15,zawodnicy!$A:$D,2,FALSE)&\" \"&VLOOKUP(I15,zawodnicy!$A:$D,3,FALSE)&\" (\"&VLOOKUP(I15,zawodnicy!$A:$D,4,FALSE)&\")\")","v":""},null,null,null,null,null,{"$f":"IF(TYPE(VLOOKUP(A13,'grup-puch'!$A:$E,3,FALSE))=2,VLOOKUP(A13,'grup-puch'!$A:$E,3,FALSE),IF(TYPE(VLOOKUP(A13,puch!$A:$E,3,FALSE))=2,VLOOKUP(A13,puch!$A:$E,3,FALSE),\"\"))","v":""},null,null,{"$f":"IF(TYPE(VLOOKUP(A13,'grup-puch'!$A:$E,5,FALSE))=2,VLOOKUP(A13,'grup-puch'!$A:$E,5,FALSE),IF(TYPE(VLOOKUP(A13,puch!$A:$E,5,FALSE))=2,VLOOKUP(A13,puch!$A:$E,5,FALSE),\"\"))","v":""},null,null,{"$f":"IF(OR(L15=\"\",L15=0),\"\",VLOOKUP(L15,zawodnicy!$A:$D,2,FALSE)&\" \"&VLOOKUP(L15,zawodnicy!$A:$D,3,FALSE)&\" (\"&VLOOKUP(L15,zawodnicy!$A:$D,4,FALSE)&\")\")","v":""},null,null,null,null,null,"","",null,null,null,null,null,null,null,null,null,null,null,null,null,null,null,null,null,null,null,null,null,null,null,null,null,null,null,null,null,null,null,null,null,{"$f":"IF($T$1=\"\",\"\",IF(C13=\"\",\"\",IF(Q13=\"\",O14,\"\")))","v":""},null,{"$f":"IF(BE13>NOW(),O14,\"\")","v":""},{"$f":"IF(C13<>\"\",\"\",VLOOKUP(O14,BD:BD,1,FALSE))","v":{"$error":"#N/A"}},{"$f":"IF(Q13<>\"\",\"\",VLOOKUP(O14,BF:BF,1,FALSE))","v":{"$error":"#N/A"}},{"$f":"IF(BF15<>\"\",BE13,\"\")","v":""},null,null,null,null,null,null,null,null,null,null,null,{"$f":"IF(VLOOKUP(I15,zawodnicy!A:E,5,FALSE)=0,\"\",C15)","v":{"$error":"#N/A"}},{"$f":"IF(VLOOKUP(L15,zawodnicy!A:E,5,FALSE)=0,\"\",O15)","v":{"$error":"#N/A"}},{"$f":"IF((LEN(C13)+LEN(C17)+LEN(L17))=0,L14,\"\")","v":""},{"$f":"IF(LEN(BW15)>0,A13,\"\")","v":""}]
[null,null,null,null,null,null,null,null,null,null,null,null,null,null,null,null,null,null,null,null,null,null,null,null,null,null,null,null,null,null,null,null,null,null,null,null,null,null,null,null,null,null,null,null,null,null,null,null,null,null,null,null,null,null,null,{"$f":"IF($T$1=\"\",\"\",IF(C13=\"\",\"\",IF(Q13=\"\",O15,\"\")))","v":""},null,{"$f":"IF(BE13>NOW(),O15,\"\")","v":""},{"$f":"IF(C13<>\"\",\"\",VLOOKUP(O15,BD:BD,1,FALSE))","v":""},{"$f":"IF(Q13<>\"\",\"\",VLOOKUP(O15,BF:BF,1,FALSE))","v":""},{"$f":"IF(BF16<>\"\",BE13,\"\")","v":""},null,null,null,null,null,null,null,null,null,null,null,null,null,{"$f":"IF((LEN(C13)+LEN(C17)+LEN(L17))=0,L15,\"\")","v":""},{"$f":"IF(LEN(BW16)>0,A13,\"\")","v":""}]
[null,null,{"$f":"IF(I14=\"\",\"\",IF(I14=AF13,\"zwycięzca(cy):\"&\" \"&AH13,\"\"))","v":"zwycięzca(cy): 15:7,15:4"},null,null,null,null,null,null,null,null,{"$f":"IF(L14=\"\",\"\",IF(L14=AF13,\"zwycięzca(cy):\"&\" \"&AH13,\"\"))","v":""}]
[null,null,3,"dzień turnieju.",null,null,null,null,null,"Nr meczu",null,null,null,null,"Godz.",null,null,null,"S. prow.",null,null,null,{"$f":"IF(I20>J20,1,0)+IF(K20>L20,1,0)+IF(M20>N20,1,0)","v":2},{"$f":"IF(J20>I20,1,0)+IF(L20>K20,1,0)+IF(N20>M20,1,0)","v":0},null,null,null,null,null,null,null,null,null,"wygrany","przegrany"]
[null,null,"Boisko","Gra",null,null,null,null,null,{"$f":"A20","v":3},null,null,null,null,"rozp.",null,"zak.",null,"S. serw.",null,null,null,{"$f":"IF(AND(COUNTA(I20,J20)=2,AF20=I21),FIXED(I20,0,TRUE)&\":\"&FIXED(J20,0,TRUE),IF(AND(COUNTA(I20,J20)=2,AF20=L21),FIXED(J20,0,TRUE)&\":\"&FIXED(I20,0,TRUE),\"\"))","v":"15:8"},{"$f":"IF(AND(COUNTA(I20,J20)=2,AF20=I21),FIXED(J20,0,TRUE)&\":\"&FIXED(I20,0,TRUE),IF(AND(COUNTA(I20,J20)=2,AF20=L21),FIXED(I20,0,TRUE)&\":\"&FIXED(J20,0,TRUE),\"\"))","v":"8:15"}]
[3,null,null,{"$f":"IF(TYPE(VLOOKUP(A20,'grup-puch'!$A:$M,13,FALSE))=2,VLOOKUP(A20,'grup-puch'!$A:$M,13,FALSE),IF(TYPE(VLOOKUP(A20,puch!$A:$J,10,FALSE))=2,VLOOKUP(A20,puch!$A:$J,10,FALSE),\"\"))","v":"KLASY 4-6 CHŁOPCY"},null,null,null,null,15,8,15,4,null,null,null,null,null,null,{"$f":"Q20-O20","v":"00:00:00"},{"$f":"IF(VLOOKUP(A20,dane!F:G,2,FALSE)=\"\",\"\",VLOOKUP(A20,dane!F:G,2,FALSE))","v":""},null,null,{"$f":"IF(AND(COUNTA(K20,L20)=2,AF20=I21),\",\"&FIXED(K20,0,TRUE)&\":\"&FIXED(L20,0,TRUE),IF(AND(COUNTA(K20,L20)=2,AF20=L21),\",\"&FIXED(L20,0,TRUE)&\":\"&FIXED(K20,0,TRUE),\"\"))","v":",15:4"},{"$f":"IF(AND(COUNTA(K20,L20)=2,AF20=I21),\",\"&FIXED(L20,0,TRUE)&\":\"&FIXED(K20,0,TRUE),IF(AND(COUNTA(K20,L20)=2,AF20=L21),\",\"&FIXED(K20,0,TRUE)&\":\"&FIXED(L20,0,TRUE),\"\"))","v":",4:15"},null,{"$f":"A20","v":3},{"$f":"IF(ISBLANK(D20),\"\",D20)","v":"KLASY 4-6 CHŁOPCY"},{"$f":"IF(OR(I21=0,I21=\"\"),\"\",I21)","v":"x59"},{"$f":"IF(OR(I22=0,I22=\"\"),\"\",I22)","v":""},{"$f":"IF(OR(L21=0,L21=\"\"),\"\",L21)","v":"x33"},{"$f":"IF(OR(L22=0,L22=\"\"),\"\",L22)","v":""},{"$f":"IF(COUNTA(C23,L23)=1,IF(ISTEXT(C23),I21,L21),IF(OR(I20=\"\",W18=X18),\"\",IF(W18>X18,I21,L21)))","v":"x59"},{"$f":"IF(COUNTA(C23,L23)=1,IF(ISTEXT(C23),I22,L22),IF(OR(I20=\"\",W18=X18),\"\",IF(W18>X18,I22,L22)))","v":""},{"$f":"IF(OR(AF20=I21,AF20=L21),IF(AF20=I21,W19&W20&W21&IF(ISTEXT(C23),\" \"&C23,\"\"),W19&W20&W21&IF(ISTEXT(L23),\" \"&L23,\"\")),\"\")","v":"15:8,15:4"},{"$f":"IF(OR(AF20=I21,AF20=L21),IF(AF20=I21,X19&X20&X21&IF(ISTEXT(C23),\" \"&C23,\"\"),X19&X20&X21&IF(ISTEXT(L23),\" \"&L23,\"\")),\"\")","v":"8:15,4:15"},{"$f":"IF(ISBLANK(L23),\"\",L23)","v":""},{"$f":"I20","v":15},{"$f":"J20","v":8},{"$f":"K20","v":15},{"$f":"L20","v":4},{"$f":"M20","v":0},{"$f":"N20","v":0},null,{"$f":"T18","v":0},{"$f":"T19","v":0},{"$f":"IF(OR(AA20=dane!$I$3,AA20=dane!$I$4,AA20=dane!$I$5,AA20=dane!$I$6),AR20,\"\")","v":0},{"$f":"IF(OR(AA20=dane!$I$7,AA20=dane!$I$8,AA20=dane!$I$10,AA20=dane!$I$11),AR20,\"\")","v":""},{"$f":"IF(OR(AA20=dane!$I$12,AA20=dane!$I$13,AA20=dane!$I$14,AA20=dane!$I$15),AR20,\"\")","v":""},{"$f":"IF(OR(AA20=dane!$I$16,AA20=dane!$I$17,AA20=dane!$I$18,AA20=dane!$I$19),AR20,\"\")","v":""},{"$f":"IF(OR(AA20=dane!$I$20,AA20=dane!$I$21,AA20=dane!$I$22,AA20=dane!$I$23),AR20,\"\")","v":""},{"$f":"IF(OR(AA20=dane!$I$3,AA20=dane!$I$4,AA20=dane!$I$5,AA20=dane!$I$6),AS20,\"\")","v":0},{"$f":"IF(OR(AA20=dane!$I$7,AA20=dane!$I$8,AA20=dane!$I$10,AA20=dane!$I$11),AS20,\"\")","v":""},{"$f":"IF(OR(AA20=dane!$I$12,AA20=dane!$I$13,AA20=dane!$I$14,AA20=dane!$I$15),AS20,\"\")","v":""},{"$f":"IF(OR(AA20=dane!$I$16,AA20=dane!$I$17,AA20=dane!$I$18,AA20=dane!$I$19),AS20,\"\")","v":""},{"$f":"IF(OR(AA20=dane!$I$20,AA20=dane!$I$21,AA20=dane!$I$22,AA20=dane!$I$23),AS20,\"\")","v":""},{"$f":"IF($T$1=\"\",\"\",IF(C20=\"\",\"\",IF(Q20=\"\",C21,\"\")))","v":""},{"$f":"IF(LEN(L22)>0,$V$3,$V$2)+Q20+$T$1+C18-1","v":"2014-10-06T00:25:00"},{"$f":"IF(BE20>NOW(),C21,\"\")","v":""},{"$f":"IF(C20<>\"\",\"\",VLOOKUP(C21,BD:BD,1,FALSE))","v":{"$error":"#N/A"}},{"$f":"IF(Q20<>\"\",\"\",VLOOKUP(C21,BF:BF,1,FALSE))","v":"Jakub  Walocha (Ząbki)"},{"$f":"IF(BF20<>\"\",BE20,\"\")","v":""},{"$f":"IF(Q20=\"\",C20,\"\")","v":0},null,null,null,null,null,null,null,null,null,null,null,null,{"$f":"IF((LEN(C20)+LEN(C24)+LEN(L24))=0,I21,\"\")","v":""},{"$f":"IF(LEN(BW20)>0,A20,\"\")","v":""}]
[{"$f":"IF(TYPE(VLOOKUP(C21,BF:BI,4,FALSE))=1,VLOOKUP(C21,BF:BI,4,FALSE),\"\")","v":41958.017361111109},{"$f":"IF(TYPE(VLOOKUP(I21,BW:BX,2,FALSE))=16,\"\",VLOOKUP(I21,BW:BX,2,FALSE))","v":""},{"$f":"IF(I21=\"\",\"\",VLOOKUP(I21,zawodnicy!$A:$D,2,FALSE)&\" \"&VLOOKUP(I21,zawodnicy!$A:$D,3,FALSE)&\" (\"&VLOOKUP(I21,zawodnicy!$A:$D,4,FALSE)&\")\")","v":"Jakub  Walocha (Ząbki)"},null,null,null,null,null,{"$f":"IF(TYPE(VLOOKUP(A20,'grup-puch'!$A:$E,2,FALSE))=2,VLOOKUP(A20,'grup-puch'!$A:$E,2,FALSE),IF(TYPE(VLOOKUP(A20,puch!$A:$E,2,FALSE))=2,VLOOKUP(A20,puch!$A:$E,2,FALSE),\"\"))","v":"x59"},null,null,{"$f":"IF(TYPE(VLOOKUP(A20,'grup-puch'!$A:$E,4,FALSE))=2,VLOOKUP(A20,'grup-puch'!$A:$E,4,FALSE),IF(TYPE(VLOOKUP(A20,puch!$A:$E,4,FALSE))=2,VLOOKUP(A20,puch!$A:$E,4,FALSE),\"\"))","v":"x33"},null,null,{"$f":"IF(L21=\"\",\"\",VLOOKUP(L21,zawodnicy!$A:$D,2,FALSE)&\" \"&VLOOKUP(L21,zawodnicy!$A:$D,3,FALSE)&\" (\"&VLOOKUP(L21,zawodnicy!$A:$D,4,FALSE)&\")\")","v":"Jakub  Niemirski (Ząbki)"},null,null,null,null,null,{"$f":"IF(TYPE(VLOOKUP(L21,BW:BX,2,FALSE))=16,\"\",VLOOKUP(L21,BW:BX,2,FALSE))","v":""},{"$f":"IF(TYPE(VLOOKUP(O21,BF:BI,4,FALSE))=1,VLOOKUP(O21,BF:BI,4,FALSE),\"\")","v":""},{"$f":"IF(AND(COUNTA(M20,N20)=2,AF20=I21),\",\"&FIXED(M20,0,TRUE)&\":\"&FIXED(N20,0,TRUE),IF(AND(COUNTA(M20,N20)=2,AF20=L21),\",\"&FIXED(N20,0,TRUE)&\":\"&FIXED(M20,0,TRUE),\"\"))","v":""},{"$f":"IF(AND(COUNTA(M20,N20)=2,AF20=I21),\",\"&FIXED(N20,0,TRUE)&\":\"&FIXED(M20,0,TRUE),IF(AND(COUNTA(M20,N20)=2,AF20=L21),\",\"&FIXED(M20,0,TRUE)&\":\"&FIXED(N20,0,TRUE),\"\"))","v":""},null,null,null,null,null,null,null,null,null,null,null,null,null,null,null,null,null,null,null,null,null,null,null,null,null,null,null,null,null,null,null,{"$f":"IF($T$1=\"\",\"\",IF(C20=\"\",\"\",IF(Q20=\"\",C22,\"\")))","v":""},null,{"$f":"IF(BE20>NOW(),C22,\"\")","v":""},{"$f":"IF(C20<>\"\",\"\",VLOOKUP(C22,BD:BD,1,FALSE))","v":""},{"$f":"IF(Q20<>\"\",\"\",VLOOKUP(C22,BF:BF,1,FALSE))","v":""},{"$f":"IF(BF21<>\"\",BE20,\"\")","v":""},null,null,null,null,null,null,null,null,null,null,null,{"$f":"IF(VLOOKUP(I21,zawodnicy!A:E,5,FALSE)=0,\"\",C21)","v":""},{"$f":"IF(VLOOKUP(L21,zawodnicy!A:E,5,FALSE)=0,\"\",O21)","v":""},{"$f":"IF((LEN(C20)+LEN(C24)+LEN(L24))=0,I22,\"\")","v":""},{"$f":"IF(LEN(BW21)>0,A20,\"\")","v":""}]
["","",{"$f":"IF(OR(I22=0,I22=\"\"),\"\",VLOOKUP(I22,zawodnicy!$A:$D,2,FALSE)&\" \"&VLOOKUP(I22,zawodnicy!$A:$D,3,FALSE)&\" (\"&VLOOKUP(I22,zawodnicy!$A:$D,4,FALSE)&\")\")","v":""},null,null,null,null,null,{"$f":"IF(TYPE(VLOOKUP(A20,'grup-puch'!$A:$E,3,FALSE))=2,VLOOKUP(A20,'grup-puch'!$A:$E,3,FALSE),IF(TYPE(VLOOKUP(A20,puch!$A:$E,3,FALSE))=2,VLOOKUP(A20,puch!$A:$E,3,FALSE),\"\"))","v":""},null,null,{"$f":"IF(TYPE(VLOOKUP(A20,'grup-puch'!$A:$E,5,FALSE))=2,VLOOKUP(A20,'grup-puch'!$A:$E,5,FALSE),IF(TYPE(VLOOKUP(A20,puch!$A:$E,5,FALSE))=2,VLOOKUP(A20,puch!$A:$E,5,FALSE),\"\"))","v":""},null,null,{"$f":"IF(OR(L22=\"\",L22=0),\"\",VLOOKUP(L22,zawodnicy!$A:$D,2,FALSE)&\" \"&VLOOKUP(L22,zawodnicy!$A:$D,3,FALSE)&\" (\"&VLOOKUP(L22,zawodnicy!$A:$D,4,FALSE)&\")\")","v":""},null,null,null,null,null,"","",null,null,null,null,null,null,null,null,null,null,null,null,null,null,null,null,null,null,null,null,null,null,null,null,null,null,null,null,null,null,null,null,null,{"$f":"IF($T$1=\"\",\"\",IF(C20=\"\",\"\",IF(Q20=\"\",O21,\"\")))","v":""},null,{"$f":"IF(BE20>NOW(),O21,\"\")","v":""},{"$f":"IF(C20<>\"\",\"\",VLOOKUP(O21,BD:BD,1,FALSE))","v":{"$error":"#N/A"}},{"$f":"IF(Q20<>\"\",\"\",VLOOKUP(O21,BF:BF,1,FALSE))","v":{"$error":"#N/A"}},{"$f":"IF(BF22<>\"\",BE20,\"\")","v":""},null,null,null,null,null,null,null,null,null,null,null,{"$f":"IF(VLOOKUP(I22,zawodnicy!A:E,5,FALSE)=0,\"\",C22)","v":{"$error":"#N/A"}},{"$f":"IF(VLOOKUP(L22,zawodnicy!A:E,5,FALSE)=0,\"\",O22)","v":{"$error":"#N/A"}},{"$f":"IF((LEN(C20)+LEN(C24)+LEN(L24))=0,L21,\"\")","v":""},{"$f":"IF(LEN(BW22)>0,A20,\"\")","v":""}]
[null,null,null,null,null,null,null,null,null,null,null,null,null,null,null,null,null,null,null,null,null,null,null,null,null,null,null,null,null,null,null,null,null,null,null,null,null,null,null,null,null,null,null,null,null,null,null,null,null,null,null,null,null,null,null,{"$f":"IF($T$1=\"\",\"\",IF(C20=\"\",\"\",IF(Q20=\"\",O22,\"\")))","v":""},null,{"$f":"IF(BE20>NOW(),O22,\"\")","v":""},{"$f":"IF(C20<>\"\",\"\",VLOOKUP(O22,BD:BD,1,FALSE))","v":""},{"$f":"IF(Q20<>\"\",\"\",VLOOKUP(O22,BF:BF,1,FALSE))","v":""},{"$f":"IF(BF23<>\"\",BE20,\"\")","v":""},null,null,null,null,null,null,null,null,null,null,null,null,null,{"$f":"IF((LEN(C20)+LEN(C24)+LEN(L24))=0,L22,\"\")","v":""},{"$f":"IF(LEN(BW23)>0,A20,\"\")","v":""}]
[null,null,{"$f":"IF(I21=\"\",\"\",IF(I21=AF20,\"zwycięzca(cy):\"&\" \"&AH20,\"\"))","v":"zwycięzca(cy): 15:8,15:4"},null,null,null,null,null,null,null,null,{"$f":"IF(L21=\"\",\"\",IF(L21=AF20,\"zwycięzca(cy):\"&\" \"&AH20,\"\"))","v":""}]
[null,null,4,"dzień turnieju.",null,null,null,null,null,"Nr meczu",null,null,null,null,"Godz.",null,null,null,"S. prow.",null,null,null,{"$f":"IF(I27>J27,1,0)+IF(K27>L27,1,0)+IF(M27>N27,1,0)","v":1},{"$f":"IF(J27>I27,1,0)+IF(L27>K27,1,0)+IF(N27>M27,1,0)","v":2},null,null,null,null,null,null,null,null,null,"wygrany","przegrany"]
[null,null,"Boisko","Gra",null,null,null,null,null,{"$f":"A27","v":4},null,null,null,null,"rozp.",null,"zak.",null,"S. serw.",null,null,null,{"$f":"IF(AND(COUNTA(I27,J27)=2,AF27=I28),FIXED(I27,0,TRUE)&\":\"&FIXED(J27,0,TRUE),IF(AND(COUNTA(I27,J27)=2,AF27=L28),FIXED(J27,0,TRUE)&\":\"&FIXED(I27,0,TRUE),\"\"))","v":"15:5"},{"$f":"IF(AND(COUNTA(I27,J27)=2,AF27=I28),FIXED(J27,0,TRUE)&\":\"&FIXED(I27,0,TRUE),IF(AND(COUNTA(I27,J27)=2,AF27=L28),FIXED(I27,0,TRUE)&\":\"&FIXED(J27,0,TRUE),\"\"))","v":"5:15"}]
[4,null,null,{"$f":"IF(TYPE(VLOOKUP(A27,'grup-puch'!$A:$M,13,FALSE))=2,VLOOKUP(A27,'grup-puch'!$A:$M,13,FALSE),IF(TYPE(VLOOKUP(A27,puch!$A:$J,10,FALSE))=2,VLOOKUP(A27,puch!$A:$J,10,FALSE),\"\"))","v":"KLASY 4-6 CHŁOPCY"},null,null,null,null,5,15,19,17,11,15,null,null,null,null,{"$f":"Q27-O27","v":"00:00:00"},{"$f":"IF(VLOOKUP(A27,dane!F:G,2,FALSE)=\"\",\"\",VLOOKUP(A27,dane!F:G,2,FALSE))","v":""},null,null,{"$f":"IF(AND(COUNTA(K27,L27)=2,AF27=I28),\",\"&FIXED(K27,0,TRUE)&\":\"&FIXED(L27,0,TRUE),IF(AND(COUNTA(K27,L27)=2,AF27=L28),\",\"&FIXED(L27,0,TRUE)&\":\"&FIXED(K27,0,TRUE),\"\"))","v":",17:19"},{"$f":"IF(AND(COUNTA(K27,L27)=2,AF27=I28),\",\"&FIXED(L27,0,TRUE)&\":\"&FIXED(K27,0,TRUE),IF(AND(COUNTA(K27,L27)=2,AF27=L28),\",\"&FIXED(K27,0,TRUE)&\":\"&FIXED(L27,0,TRUE),\"\"))","v":",19:17"},null,{"$f":"A27","v":4},{"$f":"IF(ISBLANK(D27),\"\",D27)","v":"KLASY 4-6 CHŁOPCY"},{"$f":"IF(OR(I28=0,I28=\"\"),\"\",I28)","v":"x66"},{"$f":"IF(OR(I29=0,I29=\"\"),\"\",I29)","v":""},{"$f":"IF(OR(L28=0,L28=\"\"),\"\",L28)","v":"x69"},{"$f":"IF(OR(L29=0,L29=\"\"),\"\",L29)","v":""},{"$f":"IF(COUNTA(C30,L30)=1,IF(ISTEXT(C30),I28,L28),IF(OR(I27=\"\",W25=X25),\"\",IF(W25>X25,I28,L28)))","v":"x69"},{"$f":"IF(COUNTA(C30,L30)=1,IF(ISTEXT(C30),I29,L29),IF(OR(I27=\"\",W25=X25),\"\",IF(W25>X25,I29,L29)))","v":""},{"$f":"IF(OR(AF27=I28,AF27=L28),IF(AF27=I28,W26&W27&W28&IF(ISTEXT(C30),\" \"&C30,\"\"),W26&W27&W28&IF(ISTEXT(L30),\" \"&L30,\"\")),\"\")","v":"15:5,17:19,15:11"},{"$f":"IF(OR(AF27=I28,AF27=L28),IF(AF27=I28,X26&X27&X28&IF(ISTEXT(C30),\" \"&C30,\"\"),X26&X27&X28&IF(ISTEXT(L30),\" \"&L30,\"\")),\"\")","v":"5:15,19:17,11:15"},{"$f":"IF(ISBLANK(L30),\"\",L30)","v":""},{"$f":"I27","v":5},{"$f":"J27","v":15},{"$f":"K27","v":19},{"$f":"L27","v":17},{"$f":"M27","v":11},{"$f":"N27","v":15},null,{"$f":"T25","v":0},{"$f":"T26","v":0},{"$f":"IF(OR(AA27=dane!$I$3,AA27=dane!$I$4,AA27=dane!$I$5,AA27=dane!$I$6),AR27,\"\")","v":0},{"$f":"IF(OR(AA27=dane!$I$7,AA27=dane!$I$8,AA27=dane!$I$10,AA27=dane!$I$11),AR27,\"\")","v":""},{"$f":"IF(OR(AA27=dane!$I$12,AA27=dane!$I$13,AA27=dane!$I$14,AA27=dane!$I$15),AR27,\"\")","v":""},{"$f":"IF(OR(AA27=dane!$I$16,AA27=dane!$I$17,AA27=dane!$I$18,AA27=dane!$I$19),AR27,\"\")","v":""},{"$f":"IF(OR(AA27=dane!$I$20,AA27=dane!$I$21,AA27=dane!$I$22,AA27=dane!$I$23),AR27,\"\")","v":""},{"$f":"IF(OR(AA27=dane!$I$3,AA27=dane!$I$4,AA27=dane!$I$5,AA27=dane!$I$6),AS27,\"\")","v":0},{"$f":"IF(OR(AA27=dane!$I$7,AA27=dane!$I$8,AA27=dane!$I$10,AA27=dane!$I$11),AS27,\"\")","v":""},{"$f":"IF(OR(AA27=dane!$I$12,AA27=dane!$I$13,AA27=dane!$I$14,AA27=dane!$I$15),AS27,\"\")","v":""},{"$f":"IF(OR(AA27=dane!$I$16,AA27=dane!$I$17,AA27=dane!$I$18,AA27=dane!$I$19),AS27,\"\")","v":""},{"$f":"IF(OR(AA27=dane!$I$20,AA27=dane!$I$21,AA27=dane!$I$22,AA27=dane!$I$23),AS27,\"\")","v":""},{"$f":"IF($T$1=\"\",\"\",IF(C27=\"\",\"\",IF(Q27=\"\",C28,\"\")))","v":""},{"$f":"IF(LEN(L29)>0,$V$3,$V$2)+Q27+$T$1+C25-1","v":"2014-10-07T00:25:00"},{"$f":"IF(BE27>NOW(),C28,\"\")","v":""},{"$f":"IF(C27<>\"\",\"\",VLOOKUP(C28,BD:BD,1,FALSE))","v":{"$error":"#N/A"}},{"$f":"IF(Q27<>\"\",\"\",VLOOKUP(C28,BF:BF,1,FALSE))","v":{"$error":"#N/A"}},{"$f":"IF(BF27<>\"\",BE27,\"\")","v":""},{"$f":"IF(Q27=\"\",C27,\"\")","v":0},null,null,null,null,null,null,null,null,null,null,null,null,{"$f":"IF((LEN(C27)+LEN(C31)+LEN(L31))=0,I28,\"\")","v":""},{"$f":"IF(LEN(BW27)>0,A27,\"\")","v":""}]
[{"$f":"IF(TYPE(VLOOKUP(C28,BF:BI,4,FALSE))=1,VLOOKUP(C28,BF:BI,4,FALSE),\"\")","v":""},{"$f":"IF(TYPE(VLOOKUP(I28,BW:BX,2,FALSE))=16,\"\",VLOOKUP(I28,BW:BX,2,FALSE))","v":""},{"$f":"IF(I28=\"\",\"\",VLOOKUP(I28,zawodnicy!$A:$D,2,FALSE)&\" \"&VLOOKUP(I28,zawodnicy!$A:$D,3,FALSE)&\" (\"&VLOOKUP(I28,zawodnicy!$A:$D,4,FALSE)&\")\")","v":"Miłosz  Siepsiak (Wesoła)"},null,null,null,null,null,{"$f":"IF(TYPE(VLOOKUP(A27,'grup-puch'!$A:$E,2,FALSE))=2,VLOOKUP(A27,'grup-puch'!$A:$E,2,FALSE),IF(TYPE(VLOOKUP(A27,puch!$A:$E,2,FALSE))=2,VLOOKUP(A27,puch!$A:$E,2,FALSE),\"\"))","v":"x66"},null,null,{"$f":"IF(TYPE(VLOOKUP(A27,'grup-puch'!$A:$E,4,FALSE))=2,VLOOKUP(A27,'grup-puch'!$A:$E,4,FALSE),IF(TYPE(VLOOKUP(A27,puch!$A:$E,4,FALSE))=2,VLOOKUP(A27,puch!$A:$E,4,FALSE),\"\"))","v":"x69"},null,null,{"$f":"IF(L28=\"\",\"\",VLOOKUP(L28,zawodnicy!$A:$D,2,FALSE)&\" \"&VLOOKUP(L28,zawodnicy!$A:$D,3,FALSE)&\" (\"&VLOOKUP(L28,zawodnicy!$A:$D,4,FALSE)&\")\")","v":"Ela  Przybysz (Garwolin)"},null,null,null,null,null,{"$f":"IF(TYPE(VLOOKUP(L28,BW:BX,2,FALSE))=16,\"\",VLOOKUP(L28,BW:BX,2,FALSE))","v":""},{"$f":"IF(TYPE(VLOOKUP(O28,BF:BI,4,FALSE))=1,VLOOKUP(O28,BF:BI,4,FALSE),\"\")","v":41962.010416666664},{"$f":"IF(AND(COUNTA(M27,N27)=2,AF27=I28),\",\"&FIXED(M27,0,TRUE)&\":\"&FIXED(N27,0,TRUE),IF(AND(COUNTA(M27,N27)=2,AF27=L28),\",\"&FIXED(N27,0,TRUE)&\":\"&FIXED(M27,0,TRUE),\"\"))","v":",15:11"},{"$f":"IF(AND(COUNTA(M27,N27)=2,AF27=I28),\",\"&FIXED(N27,0,TRUE)&\":\"&FIXED(M27,0,TRUE),IF(AND(COUNTA(M27,N27)=2,AF27=L28),\",\"&FIXED(M27,0,TRUE)&\":\"&FIXED(N27,0,TRUE),\"\"))","v":",11:15"},null,null,null,null,null,null,null,null,null,null,null,null,null,null,null,null,null,null,null,null,null,null,null,null,null,null,null,null,null,null,null,{"$f":"IF($T$1=\"\",\"\",IF(C27=\"\",\"\",IF(Q27=\"\",C29,\"\")))","v":""},null,{"$f":"IF(BE27>NOW(),C29,\"\")","v":""},{"$f":"IF(C27<>\"\",\"\",VLOOKUP(C29,BD:BD,1,FALSE))","v":""},{"$f":"IF(Q27<>\"\",\"\",VLOOKUP(C29,BF:BF,1,FALSE))","v":""},{"$f":"IF(BF28<>\"\",BE27,\"\")","v":""},null,null,null,null,null,null,null,null,null,null,null,{"$f":"IF(VLOOKUP(I28,zawodnicy!A:E,5,FALSE)=0,\"\",C28)","v":""},{"$f":"IF(VLOOKUP(L28,zawodnicy!A:E,5,FALSE)=0,\"\",O28)","v":""},{"$f":"IF((LEN(C27)+LEN(C31)+LEN(L31))=0,I29,\"\")","v":""},{"$f":"IF(LEN(BW28)>0,A27,\"\")","v":""}]
["","",{"$f":"IF(OR(I29=0,I29=\"\"),\"\",VLOOKUP(I29,zawodnicy!$A:$D,2,FALSE)&\" \"&VLOOKUP(I29,zawodnicy!$A:$D,3,FALSE)&\" (\"&VLOOKUP(I29,zawodnicy!$A:$D,4,FALSE)&\")\")","v":""},null,null,null,null,null,{"$f":"IF(TYPE(VLOOKUP(A27,'grup-puch'!$A:$E,3,FALSE))=2,VLOOKUP(A27,'grup-puch'!$A:$E,3,FALSE),IF(TYPE(VLOOKUP(A27,puch!$A:$E,3,FALSE))=2,VLOOKUP(A27,puch!$A:$E,3,FALSE),\"\"))","v":""},null,null,{"$f":"IF(TYPE(VLOOKUP(A27,'grup-puch'!$A:$E,5,FALSE))=2,VLOOKUP(A27,'grup-puch'!$A:$E,5,FALSE),IF(TYPE(VLOOKUP(A27,puch!$A:$E,5,FALSE))=2,VLOOKUP(A27,puch!$A:$E,5,FALSE),\"\"))","v":""},null,null,{"$f":"IF(OR(L29=\"\",L29=0),\"\",VLOOKUP(L29,zawodnicy!$A:$D,2,FALSE)&\" \"&VLOOKUP(L29,zawodnicy!$A:$D,3,FALSE)&\" (\"&VLOOKUP(L29,zawodnicy!$A:$D,4,FALSE)&\")\")","v":""},null,null,null,null,null,"","",null,null,null,null,null,null,null,null,null,null,null,null,null,null,null,null,null,null,null,null,null,null,null,null,null,null,null,null,null,null,null,null,null,{"$f":"IF($T$1=\"\",\"\",IF(C27=\"\",\"\",IF(Q27=\"\",O28,\"\")))","v":""},null,{"$f":"IF(BE27>NOW(),O28,\"\")","v":""},{"$f":"IF(C27<>\"\",\"\",VLOOKUP(O28,BD:BD,1,FALSE))","v":{"$error":"#N/A"}},{"$f":"IF(Q27<>\"\",\"\",VLOOKUP(O28,BF:BF,1,FALSE))","v":"Ela  Przybysz (Garwolin)"},{"$f":"IF(BF29<>\"\",BE27,\"\")","v":""},null,null,null,null,null,null,null,null,null,null,null,{"$f":"IF(VLOOKUP(I29,zawodnicy!A:E,5,FALSE)=0,\"\",C29)","v":{"$error":"#N/A"}},{"$f":"IF(VLOOKUP(L29,zawodnicy!A:E,5,FALSE)=0,\"\",O29)","v":{"$error":"#N/A"}},{"$f":"IF((LEN(C27)+LEN(C31)+LEN(L31))=0,L28,\"\")","v":""},{"$f":"IF(LEN(BW29)>0,A27,\"\")","v":""}]
[null,null,null,null,null,null,null,null,null,null,null,null,null,null,null,null,null,null,null,null,null,null,null,null,null,null,null,null,null,null,null,null,null,null,null,null,null,null,null,null,null,null,null,null,null,null,null,null,null,null,null,null,null,null,null,{"$f":"IF($T$1=\"\",\"\",IF(C27=\"\",\"\",IF(Q27=\"\",O29,\"\")))","v":""},null,{"$f":"IF(BE27>NOW(),O29,\"\")","v":""},{"$f":"IF(C27<>\"\",\"\",VLOOKUP(O29,BD:BD,1,FALSE))","v":""},{"$f":"IF(Q27<>\"\",\"\",VLOOKUP(O29,BF:BF,1,FALSE))","v":""},{"$f":"IF(BF30<>\"\",BE27,\"\")","v":""},null,null,null,null,null,null,null,null,null,null,null,null,null,{"$f":"IF((LEN(C27)+LEN(C31)+LEN(L31))=0,L29,\"\")","v":""},{"$f":"IF(LEN(BW30)>0,A27,\"\")","v":""}]
[null,null,{"$f":"IF(I28=\"\",\"\",IF(I28=AF27,\"zwycięzca(cy):\"&\" \"&AH27,\"\"))","v":""},null,null,null,null,null,null,null,null,{"$f":"IF(L28=\"\",\"\",IF(L28=AF27,\"zwycięzca(cy):\"&\" \"&AH27,\"\"))","v":"zwycięzca(cy): 15:5,17:19,15:11"}]
[null,null,5,"dzień turnieju.",null,null,null,null,null,"Nr meczu",null,null,null,null,"Godz.",null,null,null,"S. prow.",null,null,null,{"$f":"IF(I34>J34,1,0)+IF(K34>L34,1,0)+IF(M34>N34,1,0)","v":0},{"$f":"IF(J34>I34,1,0)+IF(L34>K34,1,0)+IF(N34>M34,1,0)","v":2},null,null,null,null,null,null,null,null,null,"wygrany","przegrany"]
[null,null,"Boisko","Gra",null,null,null,null,null,{"$f":"A34","v":5},null,null,null,null,"rozp.",null,"zak.",null,"S. serw.",null,null,null,{"$f":"IF(AND(COUNTA(I34,J34)=2,AF34=I35),FIXED(I34,0,TRUE)&\":\"&FIXED(J34,0,TRUE),IF(AND(COUNTA(I34,J34)=2,AF34=L35),FIXED(J34,0,TRUE)&\":\"&FIXED(I34,0,TRUE),\"\"))","v":"15:10"},{"$f":"IF(AND(COUNTA(I34,J34)=2,AF34=I35),FIXED(J34,0,TRUE)&\":\"&FIXED(I34,0,TRUE),IF(AND(COUNTA(I34,J34)=2,AF34=L35),FIXED(I34,0,TRUE)&\":\"&FIXED(J34,0,TRUE),\"\"))","v":"10:15"}]
[5,null,null,{"$f":"IF(TYPE(VLOOKUP(A34,'grup-puch'!$A:$M,13,FALSE))=2,VLOOKUP(A34,'grup-puch'!$A:$M,13,FALSE),IF(TYPE(VLOOKUP(A34,puch!$A:$J,10,FALSE))=2,VLOOKUP(A34,puch!$A:$J,10,FALSE),\"\"))","v":"KLASY 4-6 CHŁOPCY"},null,null,null,null,10,15,9,15,null,null,null,null,null,null,{"$f":"Q34-O34","v":"00:00:00"},{"$f":"IF(VLOOKUP(A34,dane!F:G,2,FALSE)=\"\",\"\",VLOOKUP(A34,dane!F:G,2,FALSE))","v":""},null,null,{"$f":"IF(AND(COUNTA(K34,L34)=2,AF34=I35),\",\"&FIXED(K34,0,TRUE)&\":\"&FIXED(L34,0,TRUE),IF(AND(COUNTA(K34,L34)=2,AF34=L35),\",\"&FIXED(L34,0,TRUE)&\":\"&FIXED(K34,0,TRUE),\"\"))","v":",15:9"},{"$f":"IF(AND(COUNTA(K34,L34)=2,AF34=I35),\",\"&FIXED(L34,0,TRUE)&\":\"&FIXED(K34,0,TRUE),IF(AND(COUNTA(K34,L34)=2,AF34=L35),\",\"&FIXED(K34,0,TRUE)&\":\"&FIXED(L34,0,TRUE),\"\"))","v":",9:15"},null,{"$f":"A34","v":5},{"$f":"IF(ISBLANK(D34),\"\",D34)","v":"KLASY 4-6 CHŁOPCY"},{"$f":"IF(OR(I35=0,I35=\"\"),\"\",I35)","v":"x20"},{"$f":"IF(OR(I36=0,I36=\"\"),\"\",I36)","v":""},{"$f":"IF(OR(L35=0,L35=\"\"),\"\",L35)","v":"x41"},{"$f":"IF(OR(L36=0,L36=\"\"),\"\",L36)","v":""},{"$f":"IF(COUNTA(C37,L37)=1,IF(ISTEXT(C37),I35,L35),IF(OR(I34=\"\",W32=X32),\"\",IF(W32>X32,I35,L35)))","v":"x41"},{"$f":"IF(COUNTA(C37,L37)=1,IF(ISTEXT(C37),I36,L36),IF(OR(I34=\"\",W32=X32),\"\",IF(W32>X32,I36,L36)))","v":""},{"$f":"IF(OR(AF34=I35,AF34=L35),IF(AF34=I35,W33&W34&W35&IF(ISTEXT(C37),\" \"&C37,\"\"),W33&W34&W35&IF(ISTEXT(L37),\" \"&L37,\"\")),\"\")","v":"15:10,15:9"},{"$f":"IF(OR(AF34=I35,AF34=L35),IF(AF34=I35,X33&X34&X35&IF(ISTEXT(C37),\" \"&C37,\"\"),X33&X34&X35&IF(ISTEXT(L37),\" \"&L37,\"\")),\"\")","v":"10:15,9:15"},{"$f":"IF(ISBLANK(L37),\"\",L37)","v":""},{"$f":"I34","v":10},{"$f":"J34","v":15},{"$f":"K34","v":9},{"$f":"L34","v":15},{"$f":"M34","v":0},{"$f":"N34","v":0},null,{"$f":"T32","v":0},{"$f":"T33","v":0},{"$f":"IF(OR(AA34=dane!$I$3,AA34=dane!$I$4,AA34=dane!$I$5,AA34=dane!$I$6),AR34,\"\")","v":0},{"$f":"IF(OR(AA34=dane!$I$7,AA34=dane!$I$8,AA34=dane!$I$10,AA34=dane!$I$11),AR34,\"\")","v":""},{"$f":"IF(OR(AA34=dane!$I$12,AA34=dane!$I$13,AA34=dane!$I$14,AA34=dane!$I$15),AR34,\"\")","v":""},{"$f":"IF(OR(AA34=dane!$I$16,AA34=dane!$I$17,AA34=dane!$I$18,AA34=dane!$I$19),AR34,\"\")","v":""},{"$f":"IF(OR(AA34=dane!$I$20,AA34=dane!$I$21,AA34=dane!$I$22,AA34=dane!$I$23),AR34,\"\")","v":""},{"$f":"IF(OR(AA34=dane!$I$3,AA34=dane!$I$4,AA34=dane!$I$5,AA34=dane!$I$6),AS34,\"\")","v":0},{"$f":"IF(OR(AA34=dane!$I$7,AA34=dane!$I$8,AA34=dane!$I$10,AA34=dane!$I$11),AS34,\"\")","v":""},{"$f":"IF(OR(AA34=dane!$I$12,AA34=dane!$I$13,AA34=dane!$I$14,AA34=dane!$I$15),AS34,\"\")","v":""},{"$f":"IF(OR(AA34=dane!$I$16,AA34=dane!$I$17,AA34=dane!$I$18,AA34=dane!$I$19),AS34,\"\")","v":""},{"$f":"IF(OR(AA34=dane!$I$20,AA34=dane!$I$21,AA34=dane!$I$22,AA34=dane!$I$23),AS34,\"\")","v":""},{"$f":"IF($T$1=\"\",\"\",IF(C34=\"\",\"\",IF(Q34=\"\",C35,\"\")))","v":""},{"$f":"IF(LEN(L36)>0,$V$3,$V$2)+Q34+$T$1+C32-1","v":"2014-10-08T00:25:00"},{"$f":"IF(BE34>NOW(),C35,\"\")","v":""},{"$f":"IF(C34<>\"\",\"\",VLOOKUP(C35,BD:BD,1,FALSE))","v":{"$error":"#N/A"}},{"$f":"IF(Q34<>\"\",\"\",VLOOKUP(C35,BF:BF,1,FALSE))","v":"Błażej  Krawczyk (Ząbki)"},{"$f":"IF(BF34<>\"\",BE34,\"\")","v":""},{"$f":"IF(Q34=\"\",C34,\"\")","v":0},null,null,null,null,null,null,null,null,null,null,null,null,{"$f":"IF((LEN(C34)+LEN(C38)+LEN(L38))=0,I35,\"\")","v":""},{"$f":"IF(LEN(BW34)>0,A34,\"\")","v":""}]
[{"$f":"IF(TYPE(VLOOKUP(C35,BF:BI,4,FALSE))=1,VLOOKUP(C35,BF:BI,4,FALSE),\"\")","v":41964.010416666664},{"$f":"IF(TYPE(VLOOKUP(I35,BW:BX,2,FALSE))=16,\"\",VLOOKUP(I35,BW:BX,2,FALSE))","v":""},{"$f":"IF(I35=\"\",\"\",VLOOKUP(I35,zawodnicy!$A:$D,2,FALSE)&\" \"&VLOOKUP(I35,zawodnicy!$A:$D,3,FALSE)&\" (\"&VLOOKUP(I35,zawodnicy!$A:$D,4,FALSE)&\")\")","v":"Błażej  Krawczyk (Ząbki)"},null,null,null,null,null,{"$f":"IF(TYPE(VLOOKUP(A34,'grup-puch'!$A:$E,2,FALSE))=2,VLOOKUP(A34,'grup-puch'!$A:$E,2,FALSE),IF(TYPE(VLOOKUP(A34,puch!$A:$E,2,FALSE))=2,VLOOKUP(A34,puch!$A:$E,2,FALSE),\"\"))","v":"x20"},null,null,{"$f":"IF(TYPE(VLOOKUP(A34,'grup-puch'!$A:$E,4,FALSE))=2,VLOOKUP(A34,'grup-puch'!$A:$E,4,FALSE),IF(TYPE(VLOOKUP(A34,puch!$A:$E,4,FALSE))=2,VLOOKUP(A34,puch!$A:$E,4,FALSE),\"\"))","v":"x41"},null,null,{"$f":"IF(L35=\"\",\"\",VLOOKUP(L35,zawodnicy!$A:$D,2,FALSE)&\" \"&VLOOKUP(L35,zawodnicy!$A:$D,3,FALSE)&\" (\"&VLOOKUP(L35,zawodnicy!$A:$D,4,FALSE)&\")\")","v":"Ignacy Repiński (Marki)"},null,null,null,null,null,{"$f":"IF(TYPE(VLOOKUP(L35,BW:BX,2,FALSE))=16,\"\",VLOOKUP(L35,BW:BX,2,FALSE))","v":""},{"$f":"IF(TYPE(VLOOKUP(O35,BF:BI,4,FALSE))=1,VLOOKUP(O35,BF:BI,4,FALSE),\"\")","v":41964.010416666664},{"$f":"IF(AND(COUNTA(M34,N34)=2,AF34=I35),\",\"&FIXED(M34,0,TRUE)&\":\"&FIXED(N34,0,TRUE),IF(AND(COUNTA(M34,N34)=2,AF34=L35),\",\"&FIXED(N34,0,TRUE)&\":\"&FIXED(M34,0,TRUE),\"\"))","v":""},{"$f":"IF(AND(COUNTA(M34,N34)=2,AF34=I35),\",\"&FIXED(N34,0,TRUE)&\":\"&FIXED(M34,0,TRUE),IF(AND(COUNTA(M34,N34)=2,AF34=L35),\",\"&FIXED(M34,0,TRUE)&\":\"&FIXED(N34,0,TRUE),\"\"))","v":""},null,null,null,null,null,null,null,null,null,null,null,null,null,null,null,null,null,null,null,null,null,null,null,null,null,null,null,null,null,null,null,{"$f":"IF($T$1=\"\",\"\",IF(C34=\"\",\"\",IF(Q34=\"\",C36,\"\")))","v":""},null,{"$f":"IF(BE34>NOW(),C36,\"\")","v":""},{"$f":"IF(C34<>\"\",\"\",VLOOKUP(C36,BD:BD,1,FALSE))","v":""},{"$f":"IF(Q34<>\"\",\"\",VLOOKUP(C36,BF:BF,1,FALSE))","v":""},{"$f":"IF(BF35<>\"\",BE34,\"\")","v":""},null,null,null,null,null,null,null,null,null,null,null,{"$f":"IF(VLOOKUP(I35,zawodnicy!A:E,5,FALSE)=0,\"\",C35)","v":""},{"$f":"IF(VLOOKUP(L35,zawodnicy!A:E,5,FALSE)=0,\"\",O35)","v":""},{"$f":"IF((LEN(C34)+LEN(C38)+LEN(L38))=0,I36,\"\")","v":""},{"$f":"IF(LEN(BW35)>0,A34,\"\")","v":""}]
["","",{"$f":"IF(OR(I36=0,I36=\"\"),\"\",VLOOKUP(I36,zawodnicy!$A:$D,2,FALSE)&\" \"&VLOOKUP(I36,zawodnicy!$A:$D,3,FALSE)&\" (\"&VLOOKUP(I36,zawodnicy!$A:$D,4,FALSE)&\")\")","v":""},null,null,null,null,null,{"$f":"IF(TYPE(VLOOKUP(A34,'grup-puch'!$A:$E,3,FALSE))=2,VLOOKUP(A34,'grup-puch'!$A:$E,3,FALSE),IF(TYPE(VLOOKUP(A34,puch!$A:$E,3,FALSE))=2,VLOOKUP(A34,puch!$A:$E,3,FALSE),\"\"))","v":""},null,null,{"$f":"IF(TYPE(VLOOKUP(A34,'grup-puch'!$A:$E,5,FALSE))=2,VLOOKUP(A34,'grup-puch'!$A:$E,5,FALSE),IF(TYPE(VLOOKUP(A34,puch!$A:$E,5,FALSE))=2,VLOOKUP(A34,puch!$A:$E,5,FALSE),\"\"))","v":""},null,null,{"$f":"IF(OR(L36=\"\",L36=0),\"\",VLOOKUP(L36,zawodnicy!$A:$D,2,FALSE)&\" \"&VLOOKUP(L36,zawodnicy!$A:$D,3,FALSE)&\" (\"&VLOOKUP(L36,zawodnicy!$A:$D,4,FALSE)&\")\")","v":""},null,null,null,null,null,"","",null,null,null,null,null,null,null,null,null,null,null,null,null,null,null,null,null,null,null,null,null,null,null,null,null,null,null,null,null,null,null,null,null,{"$f":"IF($T$1=\"\",\"\",IF(C34=\"\",\"\",IF(Q34=\"\",O35,\"\")))","v":""},null,{"$f":"IF(BE34>NOW(),O35,\"\")","v":""},{"$f":"IF(C34<>\"\",\"\",VLOOKUP(O35,BD:BD,1,FALSE))","v":{"$error":"#N/A"}},{"$f":"IF(Q34<>\"\",\"\",VLOOKUP(O35,BF:BF,1,FALSE))","v":"Ignacy Repiński (Marki)"},{"$f":"IF(BF36<>\"\",BE34,\"\")","v":""},null,null,null,null,null,null,null,null,null,null,null,{"$f":"IF(VLOOKUP(I36,zawodnicy!A:E,5,FALSE)=0,\"\",C36)","v":{"$error":"#N/A"}},{"$f":"IF(VLOOKUP(L36,zawodnicy!A:E,5,FALSE)=0,\"\",O36)","v":{"$error":"#N/A"}},{"$f":"IF((LEN(C34)+LEN(C38)+LEN(L38))=0,L35,\"\")","v":""},{"$f":"IF(LEN(BW36)>0,A34,\"\")","v":""}]
[null,null,null,null,null,null,null,null,null,null,null,null,null,null,null,null,null,null,null,null,null,null,null,null,null,null,null,null,null,null,null,null,null,null,null,null,null,null,null,null,null,null,null,null,null,null,null,null,null,null,null,null,null,null,null,{"$f":"IF($T$1=\"\",\"\",IF(C34=\"\",\"\",IF(Q34=\"\",O36,\"\")))","v":""},null,{"$f":"IF(BE34>NOW(),O36,\"\")","v":""},{"$f":"IF(C34<>\"\",\"\",VLOOKUP(O36,BD:BD,1,FALSE))","v":""},{"$f":"IF(Q34<>\"\",\"\",VLOOKUP(O36,BF:BF,1,FALSE))","v":""},{"$f":"IF(BF37<>\"\",BE34,\"\")","v":""},null,null,null,null,null,null,null,null,null,null,null,null,null,{"$f":"IF((LEN(C34)+LEN(C38)+LEN(L38))=0,L36,\"\")","v":""},{"$f":"IF(LEN(BW37)>0,A34,\"\")","v":""}]
[null,null,{"$f":"IF(I35=\"\",\"\",IF(I35=AF34,\"zwycięzca(cy):\"&\" \"&AH34,\"\"))","v":""},null,null,null,null,null,null,null,null,{"$f":"IF(L35=\"\",\"\",IF(L35=AF34,\"zwycięzca(cy):\"&\" \"&AH34,\"\"))","v":"zwycięzca(cy): 15:10,15:9"}]
[null,null,6,"dzień turnieju.",null,null,null,null,null,"Nr meczu",null,null,null,null,"Godz.",null,null,null,"S. prow.",null,null,null,{"$f":"IF(I41>J41,1,0)+IF(K41>L41,1,0)+IF(M41>N41,1,0)","v":2},{"$f":"IF(J41>I41,1,0)+IF(L41>K41,1,0)+IF(N41>M41,1,0)","v":0},null,null,null,null,null,null,null,null,null,"wygrany","przegrany"]
[null,null,"Boisko","Gra",null,null,null,null,null,{"$f":"A41","v":6},null,null,null,null,"rozp.",null,"zak.",null,"S. serw.",null,null,null,{"$f":"IF(AND(COUNTA(I41,J41)=2,AF41=I42),FIXED(I41,0,TRUE)&\":\"&FIXED(J41,0,TRUE),IF(AND(COUNTA(I41,J41)=2,AF41=L42),FIXED(J41,0,TRUE)&\":\"&FIXED(I41,0,TRUE),\"\"))","v":"15:7"},{"$f":"IF(AND(COUNTA(I41,J41)=2,AF41=I42),FIXED(J41,0,TRUE)&\":\"&FIXED(I41,0,TRUE),IF(AND(COUNTA(I41,J41)=2,AF41=L42),FIXED(I41,0,TRUE)&\":\"&FIXED(J41,0,TRUE),\"\"))","v":"7:15"}]
[6,null,null,{"$f":"IF(TYPE(VLOOKUP(A41,'grup-puch'!$A:$M,13,FALSE))=2,VLOOKUP(A41,'grup-puch'!$A:$M,13,FALSE),IF(TYPE(VLOOKUP(A41,puch!$A:$J,10,FALSE))=2,VLOOKUP(A41,puch!$A:$J,10,FALSE),\"\"))","v":"GIMNAZJUM DZIEWCZĘTA"},null,null,null,null,15,7,15,8,null,null,null,null,null,null,{"$f":"Q41-O41","v":"00:00:00"},{"$f":"IF(VLOOKUP(A41,dane!F:G,2,FALSE)=\"\",\"\",VLOOKUP(A41,dane!F:G,2,FALSE))","v":""},null,null,{"$f":"IF(AND(COUNTA(K41,L41)=2,AF41=I42),\",\"&FIXED(K41,0,TRUE)&\":\"&FIXED(L41,0,TRUE),IF(AND(COUNTA(K41,L41)=2,AF41=L42),\",\"&FIXED(L41,0,TRUE)&\":\"&FIXED(K41,0,TRUE),\"\"))","v":",15:8"},{"$f":"IF(AND(COUNTA(K41,L41)=2,AF41=I42),\",\"&FIXED(L41,0,TRUE)&\":\"&FIXED(K41,0,TRUE),IF(AND(COUNTA(K41,L41)=2,AF41=L42),\",\"&FIXED(K41,0,TRUE)&\":\"&FIXED(L41,0,TRUE),\"\"))","v":",8:15"},null,{"$f":"A41","v":6},{"$f":"IF(ISBLANK(D41),\"\",D41)","v":"GIMNAZJUM DZIEWCZĘTA"},{"$f":"IF(OR(I42=0,I42=\"\"),\"\",I42)","v":"x24"},{"$f":"IF(OR(I43=0,I43=\"\"),\"\",I43)","v":""},{"$f":"IF(OR(L42=0,L42=\"\"),\"\",L42)","v":"x21"},{"$f":"IF(OR(L43=0,L43=\"\"),\"\",L43)","v":""},{"$f":"IF(COUNTA(C44,L44)=1,IF(ISTEXT(C44),I42,L42),IF(OR(I41=\"\",W39=X39),\"\",IF(W39>X39,I42,L42)))","v":"x24"},{"$f":"IF(COUNTA(C44,L44)=1,IF(ISTEXT(C44),I43,L43),IF(OR(I41=\"\",W39=X39),\"\",IF(W39>X39,I43,L43)))","v":""},{"$f":"IF(OR(AF41=I42,AF41=L42),IF(AF41=I42,W40&W41&W42&IF(ISTEXT(C44),\" \"&C44,\"\"),W40&W41&W42&IF(ISTEXT(L44),\" \"&L44,\"\")),\"\")","v":"15:7,15:8"},{"$f":"IF(OR(AF41=I42,AF41=L42),IF(AF41=I42,X40&X41&X42&IF(ISTEXT(C44),\" \"&C44,\"\"),X40&X41&X42&IF(ISTEXT(L44),\" \"&L44,\"\")),\"\")","v":"7:15,8:15"},{"$f":"IF(ISBLANK(L44),\"\",L44)","v":""},{"$f":"I41","v":15},{"$f":"J41","v":7},{"$f":"K41","v":15},{"$f":"L41","v":8},{"$f":"M41","v":0},{"$f":"N41","v":0},null,{"$f":"T39","v":0},{"$f":"T40","v":0},{"$f":"IF(OR(AA41=dane!$I$3,AA41=dane!$I$4,AA41=dane!$I$5,AA41=dane!$I$6),AR41,\"\")","v":""},{"$f":"IF(OR(AA41=dane!$I$7,AA41=dane!$I$8,AA41=dane!$I$10,AA41=dane!$I$11),AR41,\"\")","v":0},{"$f":"IF(OR(AA41=dane!$I$12,AA41=dane!$I$13,AA41=dane!$I$14,AA41=dane!$I$15),AR41,\"\")","v":""},{"$f":"IF(OR(AA41=dane!$I$16,AA41=dane!$I$17,AA41=dane!$I$18,AA41=dane!$I$19),AR41,\"\")","v":""},{"$f":"IF(OR(AA41=dane!$I$20,AA41=dane!$I$21,AA41=dane!$I$22,AA41=dane!$I$23),AR41,\"\")","v":""},{"$f":"IF(OR(AA41=dane!$I$3,AA41=dane!$I$4,AA41=dane!$I$5,AA41=dane!$I$6),AS41,\"\")","v":""},{"$f":"IF(OR(AA41=dane!$I$7,AA41=dane!$I$8,AA41=dane!$I$10,AA41=dane!$I$11),AS41,\"\")","v":0},{"$f":"IF(OR(AA41=dane!$I$12,AA41=dane!$I$13,AA41=dane!$I$14,AA41=dane!$I$15),AS41,\"\")","v":""},{"$f":"IF(OR(AA41=dane!$I$16,AA41=dane!$I$17,AA41=dane!$I$18,AA41=dane!$I$19),AS41,\"\")","v":""},{"$f":"IF(OR(AA41=dane!$I$20,AA41=dane!$I$21,AA41=dane!$I$22,AA41=dane!$I$23),AS41,\"\")","v":""},{"$f":"IF($T$1=\"\",\"\",IF(C41=\"\",\"\",IF(Q41=\"\",C42,\"\")))","v":""},{"$f":"IF(LEN(L43)>0,$V$3,$V$2)+Q41+$T$1+C39-1","v":"2014-10-09T00:25:00"},{"$f":"IF(BE41>NOW(),C42,\"\")","v":""},{"$f":"IF(C41<>\"\",\"\",VLOOKUP(C42,BD:BD,1,FALSE))","v":{"$error":"#N/A"}},{"$f":"IF(Q41<>\"\",\"\",VLOOKUP(C42,BF:BF,1,FALSE))","v":"Karolina Łukomska (Zielonka)"},{"$f":"IF(BF41<>\"\",BE41,\"\")","v":""},{"$f":"IF(Q41=\"\",C41,\"\")","v":0},null,null,null,null,null,null,null,null,null,null,null,null,{"$f":"IF((LEN(C41)+LEN(C45)+LEN(L45))=0,I42,\"\")","v":""},{"$f":"IF(LEN(BW41)>0,A41,\"\")","v":""}]
[{"$f":"IF(TYPE(VLOOKUP(C42,BF:BI,4,FALSE))=1,VLOOKUP(C42,BF:BI,4,FALSE),\"\")","v":41964.010416666664},{"$f":"IF(TYPE(VLOOKUP(I42,BW:BX,2,FALSE))=16,\"\",VLOOKUP(I42,BW:BX,2,FALSE))","v":""},{"$f":"IF(I42=\"\",\"\",VLOOKUP(I42,zawodnicy!$A:$D,2,FALSE)&\" \"&VLOOKUP(I42,zawodnicy!$A:$D,3,FALSE)&\" (\"&VLOOKUP(I42,zawodnicy!$A:$D,4,FALSE)&\")\")","v":"Karolina Łukomska (Zielonka)"},null,null,null,null,null,{"$f":"IF(TYPE(VLOOKUP(A41,'grup-puch'!$A:$E,2,FALSE))=2,VLOOKUP(A41,'grup-puch'!$A:$E,2,FALSE),IF(TYPE(VLOOKUP(A41,puch!$A:$E,2,FALSE))=2,VLOOKUP(A41,puch!$A:$E,2,FALSE),\"\"))","v":"x24"},null,null,{"$f":"IF(TYPE(VLOOKUP(A41,'grup-puch'!$A:$E,4,FALSE))=2,VLOOKUP(A41,'grup-puch'!$A:$E,4,FALSE),IF(TYPE(VLOOKUP(A41,puch!$A:$E,4,FALSE))=2,VLOOKUP(A41,puch!$A:$E,4,FALSE),\"\"))","v":"x21"},null,null,{"$f":"IF(L42=\"\",\"\",VLOOKUP(L42,zawodnicy!$A:$D,2,FALSE)&\" \"&VLOOKUP(L42,zawodnicy!$A:$D,3,FALSE)&\" (\"&VLOOKUP(L42,zawodnicy!$A:$D,4,FALSE)&\")\")","v":"Magdalena  Krupa (Wesoła)"},null,null,null,null,null,{"$f":"IF(TYPE(VLOOKUP(L42,BW:BX,2,FALSE))=16,\"\",VLOOKUP(L42,BW:BX,2,FALSE))","v":""},{"$f":"IF(TYPE(VLOOKUP(O42,BF:BI,4,FALSE))=1,VLOOKUP(O42,BF:BI,4,FALSE),\"\")","v":41964.010416666664},{"$f":"IF(AND(COUNTA(M41,N41)=2,AF41=I42),\",\"&FIXED(M41,0,TRUE)&\":\"&FIXED(N41,0,TRUE),IF(AND(COUNTA(M41,N41)=2,AF41=L42),\",\"&FIXED(N41,0,TRUE)&\":\"&FIXED(M41,0,TRUE),\"\"))","v":""},{"$f":"IF(AND(COUNTA(M41,N41)=2,AF41=I42),\",\"&FIXED(N41,0,TRUE)&\":\"&FIXED(M41,0,TRUE),IF(AND(COUNTA(M41,N41)=2,AF41=L42),\",\"&FIXED(M41,0,TRUE)&\":\"&FIXED(N41,0,TRUE),\"\"))","v":""},null,null,null,null,null,null,null,null,null,null,null,null,null,null,null,null,null,null,null,null,null,null,null,null,null,null,null,null,null,null,null,{"$f":"IF($T$1=\"\",\"\",IF(C41=\"\",\"\",IF(Q41=\"\",C43,\"\")))","v":""},null,{"$f":"IF(BE41>NOW(),C43,\"\")","v":""},{"$f":"IF(C41<>\"\",\"\",VLOOKUP(C43,BD:BD,1,FALSE))","v":""},{"$f":"IF(Q41<>\"\",\"\",VLOOKUP(C43,BF:BF,1,FALSE))","v":""},{"$f":"IF(BF42<>\"\",BE41,\"\")","v":""},null,null,null,null,null,null,null,null,null,null,null,{"$f":"IF(VLOOKUP(I42,zawodnicy!A:E,5,FALSE)=0,\"\",C42)","v":""},{"$f":"IF(VLOOKUP(L42,zawodnicy!A:E,5,FALSE)=0,\"\",O42)","v":""},{"$f":"IF((LEN(C41)+LEN(C45)+LEN(L45))=0,I43,\"\")","v":""},{"$f":"IF(LEN(BW42)>0,A41,\"\")","v":""}]
["","",{"$f":"IF(OR(I43=0,I43=\"\"),\"\",VLOOKUP(I43,zawodnicy!$A:$D,2,FALSE)&\" \"&VLOOKUP(I43,zawodnicy!$A:$D,3,FALSE)&\" (\"&VLOOKUP(I43,zawodnicy!$A:$D,4,FALSE)&\")\")","v":""},null,null,null,null,null,{"$f":"IF(TYPE(VLOOKUP(A41,'grup-puch'!$A:$E,3,FALSE))=2,VLOOKUP(A41,'grup-puch'!$A:$E,3,FALSE),IF(TYPE(VLOOKUP(A41,puch!$A:$E,3,FALSE))=2,VLOOKUP(A41,puch!$A:$E,3,FALSE),\"\"))","v":""},null,null,{"$f":"IF(TYPE(VLOOKUP(A41,'grup-puch'!$A:$E,5,FALSE))=2,VLOOKUP(A41,'grup-puch'!$A:$E,5,FALSE),IF(TYPE(VLOOKUP(A41,puch!$A:$E,5,FALSE))=2,VLOOKUP(A41,puch!$A:$E,5,FALSE),\"\"))","v":""},null,null,{"$f":"IF(OR(L43=\"\",L43=0),\"\",VLOOKUP(L43,zawodnicy!$A:$D,2,FALSE)&\" \"&VLOOKUP(L43,zawodnicy!$A:$D,3,FALSE)&\" (\"&VLOOKUP(L43,zawodnicy!$A:$D,4,FALSE)&\")\")","v":""},null,null,null,null,null,"","",null,null,null,null,null,null,null,null,null,null,null,null,null,null,null,null,null,null,null,null,null,null,null,null,null,null,null,null,null,null,null,null,null,{"$f":"IF($T$1=\"\",\"\",IF(C41=\"\",\"\",IF(Q41=\"\",O42,\"\")))","v":""},null,{"$f":"IF(BE41>NOW(),O42,\"\")","v":""},{"$f":"IF(C41<>\"\",\"\",VLOOKUP(O42,BD:BD,1,FALSE))","v":{"$error":"#N/A"}},{"$f":"IF(Q41<>\"\",\"\",VLOOKUP(O42,BF:BF,1,FALSE))","v":"Magdalena  Krupa (Wesoła)"},{"$f":"IF(BF43<>\"\",BE41,\"\")","v":""},null,null,null,null,null,null,null,null,null,null,null,{"$f":"IF(VLOOKUP(I43,zawodnicy!A:E,5,FALSE)=0,\"\",C43)","v":{"$error":"#N/A"}},{"$f":"IF(VLOOKUP(L43,zawodnicy!A:E,5,FALSE)=0,\"\",O43)","v":{"$error":"#N/A"}},{"$f":"IF((LEN(C41)+LEN(C45)+LEN(L45))=0,L42,\"\")","v":""},{"$f":"IF(LEN(BW43)>0,A41,\"\")","v":""}]
[null,null,null,null,null,null,null,null,null,null,null,null,null,null,null,null,null,null,null,null,null,null,null,null,null,null,null,null,null,null,null,null,null,null,null,null,null,null,null,null,null,null,null,null,null,null,null,null,null,null,null,null,null,null,null,{"$f":"IF($T$1=\"\",\"\",IF(C41=\"\",\"\",IF(Q41=\"\",O43,\"\")))","v":""},null,{"$f":"IF(BE41>NOW(),O43,\"\")","v":""},{"$f":"IF(C41<>\"\",\"\",VLOOKUP(O43,BD:BD,1,FALSE))","v":""},{"$f":"IF(Q41<>\"\",\"\",VLOOKUP(O43,BF:BF,1,FALSE))","v":""},{"$f":"IF(BF44<>\"\",BE41,\"\")","v":""},null,null,null,null,null,null,null,null,null,null,null,null,null,{"$f":"IF((LEN(C41)+LEN(C45)+LEN(L45))=0,L43,\"\")","v":""},{"$f":"IF(LEN(BW44)>0,A41,\"\")","v":""}]
[null,null,{"$f":"IF(I42=\"\",\"\",IF(I42=AF41,\"zwycięzca(cy):\"&\" \"&AH41,\"\"))","v":"zwycięzca(cy): 15:7,15:8"},null,null,null,null,null,null,null,null,{"$f":"IF(L42=\"\",\"\",IF(L42=AF41,\"zwycięzca(cy):\"&\" \"&AH41,\"\"))","v":""}]
[null,null,7,"dzień turnieju.",null,null,null,null,null,"Nr meczu",null,null,null,null,"Godz.",null,null,null,"S. prow.",null,null,null,{"$f":"IF(I48>J48,1,0)+IF(K48>L48,1,0)+IF(M48>N48,1,0)","v":2},{"$f":"IF(J48>I48,1,0)+IF(L48>K48,1,0)+IF(N48>M48,1,0)","v":0},null,null,null,null,null,null,null,null,null,"wygrany","przegrany"]
[null,null,"Boisko","Gra",null,null,null,null,null,{"$f":"A48","v":7},null,null,null,null,"rozp.",null,"zak.",null,"S. serw.",null,null,null,{"$f":"IF(AND(COUNTA(I48,J48)=2,AF48=I49),FIXED(I48,0,TRUE)&\":\"&FIXED(J48,0,TRUE),IF(AND(COUNTA(I48,J48)=2,AF48=L49),FIXED(J48,0,TRUE)&\":\"&FIXED(I48,0,TRUE),\"\"))","v":"15:10"},{"$f":"IF(AND(COUNTA(I48,J48)=2,AF48=I49),FIXED(J48,0,TRUE)&\":\"&FIXED(I48,0,TRUE),IF(AND(COUNTA(I48,J48)=2,AF48=L49),FIXED(I48,0,TRUE)&\":\"&FIXED(J48,0,TRUE),\"\"))","v":"10:15"}]
[7,null,null,{"$f":"IF(TYPE(VLOOKUP(A48,'grup-puch'!$A:$M,13,FALSE))=2,VLOOKUP(A48,'grup-puch'!$A:$M,13,FALSE),IF(TYPE(VLOOKUP(A48,puch!$A:$J,10,FALSE))=2,VLOOKUP(A48,puch!$A:$J,10,FALSE),\"\"))","v":"GIMNAZJUM CHŁOPCY"},null,null,null,null,15,10,15,4,null,null,null,null,null,null,{"$f":"Q48-O48","v":"00:00:00"},{"$f":"IF(VLOOKUP(A48,dane!F:G,2,FALSE)=\"\",\"\",VLOOKUP(A48,dane!F:G,2,FALSE))","v":""},null,null,{"$f":"IF(AND(COUNTA(K48,L48)=2,AF48=I49),\",\"&FIXED(K48,0,TRUE)&\":\"&FIXED(L48,0,TRUE),IF(AND(COUNTA(K48,L48)=2,AF48=L49),\",\"&FIXED(L48,0,TRUE)&\":\"&FIXED(K48,0,TRUE),\"\"))","v":",15:4"},{"$f":"IF(AND(COUNTA(K48,L48)=2,AF48=I49),\",\"&FIXED(L48,0,TRUE)&\":\"&FIXED(K48,0,TRUE),IF(AND(COUNTA(K48,L48)=2,AF48=L49),\",\"&FIXED(K48,0,TRUE)&\":\"&FIXED(L48,0,TRUE),\"\"))","v":",4:15"},null,{"$f":"A48","v":7},{"$f":"IF(ISBLANK(D48),\"\",D48)","v":"GIMNAZJUM CHŁOPCY"},{"$f":"IF(OR(I49=0,I49=\"\"),\"\",I49)","v":"x70"},{"$f":"IF(OR(I50=0,I50=\"\"),\"\",I50)","v":""},{"$f":"IF(OR(L49=0,L49=\"\"),\"\",L49)","v":"x37"},{"$f":"IF(OR(L50=0,L50=\"\"),\"\",L50)","v":""},{"$f":"IF(COUNTA(C51,L51)=1,IF(ISTEXT(C51),I49,L49),IF(OR(I48=\"\",W46=X46),\"\",IF(W46>X46,I49,L49)))","v":"x70"},{"$f":"IF(COUNTA(C51,L51)=1,IF(ISTEXT(C51),I50,L50),IF(OR(I48=\"\",W46=X46),\"\",IF(W46>X46,I50,L50)))","v":""},{"$f":"IF(OR(AF48=I49,AF48=L49),IF(AF48=I49,W47&W48&W49&IF(ISTEXT(C51),\" \"&C51,\"\"),W47&W48&W49&IF(ISTEXT(L51),\" \"&L51,\"\")),\"\")","v":"15:10,15:4"},{"$f":"IF(OR(AF48=I49,AF48=L49),IF(AF48=I49,X47&X48&X49&IF(ISTEXT(C51),\" \"&C51,\"\"),X47&X48&X49&IF(ISTEXT(L51),\" \"&L51,\"\")),\"\")","v":"10:15,4:15"},{"$f":"IF(ISBLANK(L51),\"\",L51)","v":""},{"$f":"I48","v":15},{"$f":"J48","v":10},{"$f":"K48","v":15},{"$f":"L48","v":4},{"$f":"M48","v":0},{"$f":"N48","v":0},null,{"$f":"T46","v":0},{"$f":"T47","v":0},{"$f":"IF(OR(AA48=dane!$I$3,AA48=dane!$I$4,AA48=dane!$I$5,AA48=dane!$I$6),AR48,\"\")","v":""},{"$f":"IF(OR(AA48=dane!$I$7,AA48=dane!$I$8,AA48=dane!$I$10,AA48=dane!$I$11),AR48,\"\")","v":0},{"$f":"IF(OR(AA48=dane!$I$12,AA48=dane!$I$13,AA48=dane!$I$14,AA48=dane!$I$15),AR48,\"\")","v":""},{"$f":"IF(OR(AA48=dane!$I$16,AA48=dane!$I$17,AA48=dane!$I$18,AA48=dane!$I$19),AR48,\"\")","v":""},{"$f":"IF(OR(AA48=dane!$I$20,AA48=dane!$I$21,AA48=dane!$I$22,AA48=dane!$I$23),AR48,\"\")","v":""},{"$f":"IF(OR(AA48=dane!$I$3,AA48=dane!$I$4,AA48=dane!$I$5,AA48=dane!$I$6),AS48,\"\")","v":""},{"$f":"IF(OR(AA48=dane!$I$7,AA48=dane!$I$8,AA48=dane!$I$10,AA48=dane!$I$11),AS48,\"\")","v":0},{"$f":"IF(OR(AA48=dane!$I$12,AA48=dane!$I$13,AA48=dane!$I$14,AA48=dane!$I$15),AS48,\"\")","v":""},{"$f":"IF(OR(AA48=dane!$I$16,AA48=dane!$I$17,AA48=dane!$I$18,AA48=dane!$I$19),AS48,\"\")","v":""},{"$f":"IF(OR(AA48=dane!$I$20,AA48=dane!$I$21,AA48=dane!$I$22,AA48=dane!$I$23),AS48,\"\")","v":""},{"$f":"IF($T$1=\"\",\"\",IF(C48=\"\",\"\",IF(Q48=\"\",C49,\"\")))","v":""},{"$f":"IF(LEN(L50)>0,$V$3,$V$2)+Q48+$T$1+C46-1","v":"2014-10-10T00:25:00"},{"$f":"IF(BE48>NOW(),C49,\"\")","v":""},{"$f":"IF(C48<>\"\",\"\",VLOOKUP(C49,BD:BD,1,FALSE))","v":{"$error":"#N/A"}},{"$f":"IF(Q48<>\"\",\"\",VLOOKUP(C49,BF:BF,1,FALSE))","v":"Konrad  Kalinowski (Garwolin)"},{"$f":"IF(BF48<>\"\",BE48,\"\")","v":""},{"$f":"IF(Q48=\"\",C48,\"\")","v":0},null,null,null,null,null,null,null,null,null,null,null,null,{"$f":"IF((LEN(C48)+LEN(C52)+LEN(L52))=0,I49,\"\")","v":""},{"$f":"IF(LEN(BW48)>0,A48,\"\")","v":""}]
[{"$f":"IF(TYPE(VLOOKUP(C49,BF:BI,4,FALSE))=1,VLOOKUP(C49,BF:BI,4,FALSE),\"\")","v":41963.010416666664},{"$f":"IF(TYPE(VLOOKUP(I49,BW:BX,2,FALSE))=16,\"\",VLOOKUP(I49,BW:BX,2,FALSE))","v":""},{"$f":"IF(I49=\"\",\"\",VLOOKUP(I49,zawodnicy!$A:$D,2,FALSE)&\" \"&VLOOKUP(I49,zawodnicy!$A:$D,3,FALSE)&\" (\"&VLOOKUP(I49,zawodnicy!$A:$D,4,FALSE)&\")\")","v":"Konrad  Kalinowski (Garwolin)"},null,null,null,null,null,{"$f":"IF(TYPE(VLOOKUP(A48,'grup-puch'!$A:$E,2,FALSE))=2,VLOOKUP(A48,'grup-puch'!$A:$E,2,FALSE),IF(TYPE(VLOOKUP(A48,puch!$A:$E,2,FALSE))=2,VLOOKUP(A48,puch!$A:$E,2,FALSE),\"\"))","v":"x70"},null,null,{"$f":"IF(TYPE(VLOOKUP(A48,'grup-puch'!$A:$E,4,FALSE))=2,VLOOKUP(A48,'grup-puch'!$A:$E,4,FALSE),IF(TYPE(VLOOKUP(A48,puch!$A:$E,4,FALSE))=2,VLOOKUP(A48,puch!$A:$E,4,FALSE),\"\"))","v":"x37"},null,null,{"$f":"IF(L49=\"\",\"\",VLOOKUP(L49,zawodnicy!$A:$D,2,FALSE)&\" \"&VLOOKUP(L49,zawodnicy!$A:$D,3,FALSE)&\" (\"&VLOOKUP(L49,zawodnicy!$A:$D,4,FALSE)&\")\")","v":"Kuba  Paciorek (Ząbki)"},null,null,null,null,null,{"$f":"IF(TYPE(VLOOKUP(L49,BW:BX,2,FALSE))=16,\"\",VLOOKUP(L49,BW:BX,2,FALSE))","v":""},{"$f":"IF(TYPE(VLOOKUP(O49,BF:BI,4,FALSE))=1,VLOOKUP(O49,BF:BI,4,FALSE),\"\")","v":""},{"$f":"IF(AND(COUNTA(M48,N48)=2,AF48=I49),\",\"&FIXED(M48,0,TRUE)&\":\"&FIXED(N48,0,TRUE),IF(AND(COUNTA(M48,N48)=2,AF48=L49),\",\"&FIXED(N48,0,TRUE)&\":\"&FIXED(M48,0,TRUE),\"\"))","v":""},{"$f":"IF(AND(COUNTA(M48,N48)=2,AF48=I49),\",\"&FIXED(N48,0,TRUE)&\":\"&FIXED(M48,0,TRUE),IF(AND(COUNTA(M48,N48)=2,AF48=L49),\",\"&FIXED(M48,0,TRUE)&\":\"&FIXED(N48,0,TRUE),\"\"))","v":""},null,null,null,null,null,null,null,null,null,null,null,null,null,null,null,null,null,null,null,null,null,null,null,null,null,null,null,null,null,null,null,{"$f":"IF($T$1=\"\",\"\",IF(C48=\"\",\"\",IF(Q48=\"\",C50,\"\")))","v":""},null,{"$f":"IF(BE48>NOW(),C50,\"\")","v":""},{"$f":"IF(C48<>\"\",\"\",VLOOKUP(C50,BD:BD,1,FALSE))","v":""},{"$f":"IF(Q48<>\"\",\"\",VLOOKUP(C50,BF:BF,1,FALSE))","v":""},{"$f":"IF(BF49<>\"\",BE48,\"\")","v":""},null,null,null,null,null,null,null,null,null,null,null,{"$f":"IF(VLOOKUP(I49,zawodnicy!A:E,5,FALSE)=0,\"\",C49)","v":""},{"$f":"IF(VLOOKUP(L49,zawodnicy!A:E,5,FALSE)=0,\"\",O49)","v":""},{"$f":"IF((LEN(C48)+LEN(C52)+LEN(L52))=0,I50,\"\")","v":""},{"$f":"IF(LEN(BW49)>0,A48,\"\")","v":""}]
["","",{"$f":"IF(OR(I50=0,I50=\"\"),\"\",VLOOKUP(I50,zawodnicy!$A:$D,2,FALSE)&\" \"&VLOOKUP(I50,zawodnicy!$A:$D,3,FALSE)&\" (\"&VLOOKUP(I50,zawodnicy!$A:$D,4,FALSE)&\")\")","v":""},null,null,null,null,null,{"$f":"IF(TYPE(VLOOKUP(A48,'grup-puch'!$A:$E,3,FALSE))=2,VLOOKUP(A48,'grup-puch'!$A:$E,3,FALSE),IF(TYPE(VLOOKUP(A48,puch!$A:$E,3,FALSE))=2,VLOOKUP(A48,puch!$A:$E,3,FALSE),\"\"))","v":""},null,null,{"$f":"IF(TYPE(VLOOKUP(A48,'grup-puch'!$A:$E,5,FALSE))=2,VLOOKUP(A48,'grup-puch'!$A:$E,5,FALSE),IF(TYPE(VLOOKUP(A48,puch!$A:$E,5,FALSE))=2,VLOOKUP(A48,puch!$A:$E,5,FALSE),\"\"))","v":""},null,null,{"$f":"IF(OR(L50=\"\",L50=0),\"\",VLOOKUP(L50,zawodnicy!$A:$D,2,FALSE)&\" \"&VLOOKUP(L50,zawodnicy!$A:$D,3,FALSE)&\" (\"&VLOOKUP(L50,zawodnicy!$A:$D,4,FALSE)&\")\")","v":""},null,null,null,null,null,"","",null,null,null,null,null,null,null,null,null,null,null,null,null,null,null,null,null,null,null,null,null,null,null,null,null,null,null,null,null,null,null,null,null,{"$f":"IF($T$1=\"\",\"\",IF(C48=\"\",\"\",IF(Q48=\"\",O49,\"\")))","v":""},null,{"$f":"IF(BE48>NOW(),O49,\"\")","v":""},{"$f":"IF(C48<>\"\",\"\",VLOOKUP(O49,BD:BD,1,FALSE))","v":{"$error":"#N/A"}},{"$f":"IF(Q48<>\"\",\"\",VLOOKUP(O49,BF:BF,1,FALSE))","v":{"$error":"#N/A"}},{"$f":"IF(BF50<>\"\",BE48,\"\")","v":""},null,null,null,null,null,null,null,null,null,null,null,{"$f":"IF(VLOOKUP(I50,zawodnicy!A:E,5,FALSE)=0,\"\",C50)","v":{"$error":"#N/A"}},{"$f":"IF(VLOOKUP(L50,zawodnicy!A:E,5,FALSE)=0,\"\",O50)","v":{"$error":"#N/A"}},{"$f":"IF((LEN(C48)+LEN(C52)+LEN(L52))=0,L49,\"\")","v":""},{"$f":"IF(LEN(BW50)>0,A48,\"\")","v":""}]
[null,null,null,null,null,null,null,null,null,null,null,null,null,null,null,null,null,null,null,null,null,null,null,null,null,null,null,null,null,null,null,null,null,null,null,null,null,null,null,null,null,null,null,null,null,null,null,null,null,null,null,null,null,null,null,{"$f":"IF($T$1=\"\",\"\",IF(C48=\"\",\"\",IF(Q48=\"\",O50,\"\")))","v":""},null,{"$f":"IF(BE48>NOW(),O50,\"\")","v":""},{"$f":"IF(C48<>\"\",\"\",VLOOKUP(O50,BD:BD,1,FALSE))","v":""},{"$f":"IF(Q48<>\"\",\"\",VLOOKUP(O50,BF:BF,1,FALSE))","v":""},{"$f":"IF(BF51<>\"\",BE48,\"\")","v":""},null,null,null,null,null,null,null,null,null,null,null,null,null,{"$f":"IF((LEN(C48)+LEN(C52)+LEN(L52))=0,L50,\"\")","v":""},{"$f":"IF(LEN(BW51)>0,A48,\"\")","v":""}]
[null,null,{"$f":"IF(I49=\"\",\"\",IF(I49=AF48,\"zwycięzca(cy):\"&\" \"&AH48,\"\"))","v":"zwycięzca(cy): 15:10,15:4"},null,null,null,null,null,null,null,null,{"$f":"IF(L49=\"\",\"\",IF(L49=AF48,\"zwycięzca(cy):\"&\" \"&AH48,\"\"))","v":""}]
[null,null,8,"dzień turnieju.",null,null,null,null,null,"Nr meczu",null,null,null,null,"Godz.",null,null,null,"S. prow.",null,null,null,{"$f":"IF(I55>J55,1,0)+IF(K55>L55,1,0)+IF(M55>N55,1,0)","v":2},{"$f":"IF(J55>I55,1,0)+IF(L55>K55,1,0)+IF(N55>M55,1,0)","v":0},null,null,null,null,null,null,null,null,null,"wygrany","przegrany"]
[null,null,"Boisko","Gra",null,null,null,null,null,{"$f":"A55","v":8},null,null,null,null,"rozp.",null,"zak.",null,"S. serw.",null,null,null,{"$f":"IF(AND(COUNTA(I55,J55)=2,AF55=I56),FIXED(I55,0,TRUE)&\":\"&FIXED(J55,0,TRUE),IF(AND(COUNTA(I55,J55)=2,AF55=L56),FIXED(J55,0,TRUE)&\":\"&FIXED(I55,0,TRUE),\"\"))","v":"15:5"},{"$f":"IF(AND(COUNTA(I55,J55)=2,AF55=I56),FIXED(J55,0,TRUE)&\":\"&FIXED(I55,0,TRUE),IF(AND(COUNTA(I55,J55)=2,AF55=L56),FIXED(I55,0,TRUE)&\":\"&FIXED(J55,0,TRUE),\"\"))","v":"5:15"}]
[8,null,null,{"$f":"IF(TYPE(VLOOKUP(A55,'grup-puch'!$A:$M,13,FALSE))=2,VLOOKUP(A55,'grup-puch'!$A:$M,13,FALSE),IF(TYPE(VLOOKUP(A55,puch!$A:$J,10,FALSE))=2,VLOOKUP(A55,puch!$A:$J,10,FALSE),\"\"))","v":"GIMNAZJUM CHŁOPCY"},null,null,null,null,15,5,15,7,null,null,null,null,null,null,{"$f":"Q55-O55","v":"00:00:00"},{"$f":"IF(VLOOKUP(A55,dane!F:G,2,FALSE)=\"\",\"\",VLOOKUP(A55,dane!F:G,2,FALSE))","v":""},null,null,{"$f":"IF(AND(COUNTA(K55,L55)=2,AF55=I56),\",\"&FIXED(K55,0,TRUE)&\":\"&FIXED(L55,0,TRUE),IF(AND(COUNTA(K55,L55)=2,AF55=L56),\",\"&FIXED(L55,0,TRUE)&\":\"&FIXED(K55,0,TRUE),\"\"))","v":",15:7"},{"$f":"IF(AND(COUNTA(K55,L55)=2,AF55=I56),\",\"&FIXED(L55,0,TRUE)&\":\"&FIXED(K55,0,TRUE),IF(AND(COUNTA(K55,L55)=2,AF55=L56),\",\"&FIXED(K55,0,TRUE)&\":\"&FIXED(L55,0,TRUE),\"\"))","v":",7:15"},null,{"$f":"A55","v":8},{"$f":"IF(ISBLANK(D55),\"\",D55)","v":"GIMNAZJUM CHŁOPCY"},{"$f":"IF(OR(I56=0,I56=\"\"),\"\",I56)","v":"x60"},{"$f":"IF(OR(I57=0,I57=\"\"),\"\",I57)","v":""},{"$f":"IF(OR(L56=0,L56=\"\"),\"\",L56)","v":"x63"},{"$f":"IF(OR(L57=0,L57=\"\"),\"\",L57)","v":""},{"$f":"IF(COUNTA(C58,L58)=1,IF(ISTEXT(C58),I56,L56),IF(OR(I55=\"\",W53=X53),\"\",IF(W53>X53,I56,L56)))","v":"x60"},{"$f":"IF(COUNTA(C58,L58)=1,IF(ISTEXT(C58),I57,L57),IF(OR(I55=\"\",W53=X53),\"\",IF(W53>X53,I57,L57)))","v":""},{"$f":"IF(OR(AF55=I56,AF55=L56),IF(AF55=I56,W54&W55&W56&IF(ISTEXT(C58),\" \"&C58,\"\"),W54&W55&W56&IF(ISTEXT(L58),\" \"&L58,\"\")),\"\")","v":"15:5,15:7"},{"$f":"IF(OR(AF55=I56,AF55=L56),IF(AF55=I56,X54&X55&X56&IF(ISTEXT(C58),\" \"&C58,\"\"),X54&X55&X56&IF(ISTEXT(L58),\" \"&L58,\"\")),\"\")","v":"5:15,7:15"},{"$f":"IF(ISBLANK(L58),\"\",L58)","v":""},{"$f":"I55","v":15},{"$f":"J55","v":5},{"$f":"K55","v":15},{"$f":"L55","v":7},{"$f":"M55","v":0},{"$f":"N55","v":0},null,{"$f":"T53","v":0},{"$f":"T54","v":0},{"$f":"IF(OR(AA55=dane!$I$3,AA55=dane!$I$4,AA55=dane!$I$5,AA55=dane!$I$6),AR55,\"\")","v":""},{"$f":"IF(OR(AA55=dane!$I$7,AA55=dane!$I$8,AA55=dane!$I$10,AA55=dane!$I$11),AR55,\"\")","v":0},{"$f":"IF(OR(AA55=dane!$I$12,AA55=dane!$I$13,AA55=dane!$I$14,AA55=dane!$I$15),AR55,\"\")","v":""},{"$f":"IF(OR(AA55=dane!$I$16,AA55=dane!$I$17,AA55=dane!$I$18,AA55=dane!$I$19),AR55,\"\")","v":""},{"$f":"IF(OR(AA55=dane!$I$20,AA55=dane!$I$21,AA55=dane!$I$22,AA55=dane!$I$23),AR55,\"\")","v":""},{"$f":"IF(OR(AA55=dane!$I$3,AA55=dane!$I$4,AA55=dane!$I$5,AA55=dane!$I$6),AS55,\"\")","v":""},{"$f":"IF(OR(AA55=dane!$I$7,AA55=dane!$I$8,AA55=dane!$I$10,AA55=dane!$I$11),AS55,\"\")","v":0},{"$f":"IF(OR(AA55=dane!$I$12,AA55=dane!$I$13,AA55=dane!$I$14,AA55=dane!$I$15),AS55,\"\")","v":""},{"$f":"IF(OR(AA55=dane!$I$16,AA55=dane!$I$17,AA55=dane!$I$18,AA55=dane!$I$19),AS55,\"\")","v":""},{"$f":"IF(OR(AA55=dane!$I$20,AA55=dane!$I$21,AA55=dane!$I$22,AA55=dane!$I$23),AS55,\"\")","v":""},{"$f":"IF($T$1=\"\",\"\",IF(C55=\"\",\"\",IF(Q55=\"\",C56,\"\")))","v":""},{"$f":"IF(LEN(L57)>0,$V$3,$V$2)+Q55+$T$1+C53-1","v":"2014-10-11T00:25:00"},{"$f":"IF(BE55>NOW(),C56,\"\")","v":""},{"$f":"IF(C55<>\"\",\"\",VLOOKUP(C56,BD:BD,1,FALSE))","v":{"$error":"#N/A"}},{"$f":"IF(Q55<>\"\",\"\",VLOOKUP(C56,BF:BF,1,FALSE))","v":"Adam  Walocha (Ząbki)"},{"$f":"IF(BF55<>\"\",BE55,\"\")","v":""},{"$f":"IF(Q55=\"\",C55,\"\")","v":0},null,null,null,null,null,null,null,null,null,null,null,null,{"$f":"IF((LEN(C55)+LEN(C59)+LEN(L59))=0,I56,\"\")","v":""},{"$f":"IF(LEN(BW55)>0,A55,\"\")","v":""}]
[{"$f":"IF(TYPE(VLOOKUP(C56,BF:BI,4,FALSE))=1,VLOOKUP(C56,BF:BI,4,FALSE),\"\")","v":41960.017361111109},{"$f":"IF(TYPE(VLOOKUP(I56,BW:BX,2,FALSE))=16,\"\",VLOOKUP(I56,BW:BX,2,FALSE))","v":""},{"$f":"IF(I56=\"\",\"\",VLOOKUP(I56,zawodnicy!$A:$D,2,FALSE)&\" \"&VLOOKUP(I56,zawodnicy!$A:$D,3,FALSE)&\" (\"&VLOOKUP(I56,zawodnicy!$A:$D,4,FALSE)&\")\")","v":"Adam  Walocha (Ząbki)"},null,null,null,null,null,{"$f":"IF(TYPE(VLOOKUP(A55,'grup-puch'!$A:$E,2,FALSE))=2,VLOOKUP(A55,'grup-puch'!$A:$E,2,FALSE),IF(TYPE(VLOOKUP(A55,puch!$A:$E,2,FALSE))=2,VLOOKUP(A55,puch!$A:$E,2,FALSE),\"\"))","v":"x60"},null,null,{"$f":"IF(TYPE(VLOOKUP(A55,'grup-puch'!$A:$E,4,FALSE))=2,VLOOKUP(A55,'grup-puch'!$A:$E,4,FALSE),IF(TYPE(VLOOKUP(A55,puch!$A:$E,4,FALSE))=2,VLOOKUP(A55,puch!$A:$E,4,FALSE),\"\"))","v":"x63"},null,null,{"$f":"IF(L56=\"\",\"\",VLOOKUP(L56,zawodnicy!$A:$D,2,FALSE)&\" \"&VLOOKUP(L56,zawodnicy!$A:$D,3,FALSE)&\" (\"&VLOOKUP(L56,zawodnicy!$A:$D,4,FALSE)&\")\")","v":"Kasia Wróblewska (Mińsk Mazowiecki)"},null,null,null,null,null,{"$f":"IF(TYPE(VLOOKUP(L56,BW:BX,2,FALSE))=16,\"\",VLOOKUP(L56,BW:BX,2,FALSE))","v":""},{"$f":"IF(TYPE(VLOOKUP(O56,BF:BI,4,FALSE))=1,VLOOKUP(O56,BF:BI,4,FALSE),\"\")","v":41960.017361111109},{"$f":"IF(AND(COUNTA(M55,N55)=2,AF55=I56),\",\"&FIXED(M55,0,TRUE)&\":\"&FIXED(N55,0,TRUE),IF(AND(COUNTA(M55,N55)=2,AF55=L56),\",\"&FIXED(N55,0,TRUE)&\":\"&FIXED(M55,0,TRUE),\"\"))","v":""},{"$f":"IF(AND(COUNTA(M55,N55)=2,AF55=I56),\",\"&FIXED(N55,0,TRUE)&\":\"&FIXED(M55,0,TRUE),IF(AND(COUNTA(M55,N55)=2,AF55=L56),\",\"&FIXED(M55,0,TRUE)&\":\"&FIXED(N55,0,TRUE),\"\"))","v":""},null,null,null,null,null,null,null,null,null,null,null,null,null,null,null,null,null,null,null,null,null,null,null,null,null,null,null,null,null,null,null,{"$f":"IF($T$1=\"\",\"\",IF(C55=\"\",\"\",IF(Q55=\"\",C57,\"\")))","v":""},null,{"$f":"IF(BE55>NOW(),C57,\"\")","v":""},{"$f":"IF(C55<>\"\",\"\",VLOOKUP(C57,BD:BD,1,FALSE))","v":""},{"$f":"IF(Q55<>\"\",\"\",VLOOKUP(C57,BF:BF,1,FALSE))","v":""},{"$f":"IF(BF56<>\"\",BE55,\"\")","v":""},null,null,null,null,null,null,null,null,null,null,null,{"$f":"IF(VLOOKUP(I56,zawodnicy!A:E,5,FALSE)=0,\"\",C56)","v":""},{"$f":"IF(VLOOKUP(L56,zawodnicy!A:E,5,FALSE)=0,\"\",O56)","v":""},{"$f":"IF((LEN(C55)+LEN(C59)+LEN(L59))=0,I57,\"\")","v":""},{"$f":"IF(LEN(BW56)>0,A55,\"\")","v":""}]
["","",{"$f":"IF(OR(I57=0,I57=\"\"),\"\",VLOOKUP(I57,zawodnicy!$A:$D,2,FALSE)&\" \"&VLOOKUP(I57,zawodnicy!$A:$D,3,FALSE)&\" (\"&VLOOKUP(I57,zawodnicy!$A:$D,4,FALSE)&\")\")","v":""},null,null,null,null,null,{"$f":"IF(TYPE(VLOOKUP(A55,'grup-puch'!$A:$E,3,FALSE))=2,VLOOKUP(A55,'grup-puch'!$A:$E,3,FALSE),IF(TYPE(VLOOKUP(A55,puch!$A:$E,3,FALSE))=2,VLOOKUP(A55,puch!$A:$E,3,FALSE),\"\"))","v":""},null,null,{"$f":"IF(TYPE(VLOOKUP(A55,'grup-puch'!$A:$E,5,FALSE))=2,VLOOKUP(A55,'grup-puch'!$A:$E,5,FALSE),IF(TYPE(VLOOKUP(A55,puch!$A:$E,5,FALSE))=2,VLOOKUP(A55,puch!$A:$E,5,FALSE),\"\"))","v":""},null,null,{"$f":"IF(OR(L57=\"\",L57=0),\"\",VLOOKUP(L57,zawodnicy!$A:$D,2,FALSE)&\" \"&VLOOKUP(L57,zawodnicy!$A:$D,3,FALSE)&\" (\"&VLOOKUP(L57,zawodnicy!$A:$D,4,FALSE)&\")\")","v":""},null,null,null,null,null,"","",null,null,null,null,null,null,null,null,null,null,null,null,null,null,null,null,null,null,null,null,null,null,null,null,null,null,null,null,null,null,null,null,null,{"$f":"IF($T$1=\"\",\"\",IF(C55=\"\",\"\",IF(Q55=\"\",O56,\"\")))","v":""},null,{"$f":"IF(BE55>NOW(),O56,\"\")","v":""},{"$f":"IF(C55<>\"\",\"\",VLOOKUP(O56,BD:BD,1,FALSE))","v":{"$error":"#N/A"}},{"$f":"IF(Q55<>\"\",\"\",VLOOKUP(O56,BF:BF,1,FALSE))","v":"Kasia Wróblewska (Mińsk Mazowiecki)"},{"$f":"IF(BF57<>\"\",BE55,\"\")","v":""},null,null,null,null,null,null,null,null,null,null,null,{"$f":"IF(VLOOKUP(I57,zawodnicy!A:E,5,FALSE)=0,\"\",C57)","v":{"$error":"#N/A"}},{"$f":"IF(VLOOKUP(L57,zawodnicy!A:E,5,FALSE)=0,\"\",O57)","v":{"$error":"#N/A"}},{"$f":"IF((LEN(C55)+LEN(C59)+LEN(L59))=0,L56,\"\")","v":""},{"$f":"IF(LEN(BW57)>0,A55,\"\")","v":""}]
[null,null,null,null,null,null,null,null,null,null,null,null,null,null,null,null,null,null,null,null,null,null,null,null,null,null,null,null,null,null,null,null,null,null,null,null,null,null,null,null,null,null,null,null,null,null,null,null,null,null,null,null,null,null,null,{"$f":"IF($T$1=\"\",\"\",IF(C55=\"\",\"\",IF(Q55=\"\",O57,\"\")))","v":""},null,{"$f":"IF(BE55>NOW(),O57,\"\")","v":""},{"$f":"IF(C55<>\"\",\"\",VLOOKUP(O57,BD:BD,1,FALSE))","v":""},{"$f":"IF(Q55<>\"\",\"\",VLOOKUP(O57,BF:BF,1,FALSE))","v":""},{"$f":"IF(BF58<>\"\",BE55,\"\")","v":""},null,null,null,null,null,null,null,null,null,null,null,null,null,{"$f":"IF((LEN(C55)+LEN(C59)+LEN(L59))=0,L57,\"\")","v":""},{"$f":"IF(LEN(BW58)>0,A55,\"\")","v":""}]
[null,null,{"$f":"IF(I56=\"\",\"\",IF(I56=AF55,\"zwycięzca(cy):\"&\" \"&AH55,\"\"))","v":"zwycięzca(cy): 15:5,15:7"},null,null,null,null,null,null,null,null,{"$f":"IF(L56=\"\",\"\",IF(L56=AF55,\"zwycięzca(cy):\"&\" \"&AH55,\"\"))","v":""}]
[null,null,9,"dzień turnieju.",null,null,null,null,null,"Nr meczu",null,null,null,null,"Godz.",null,null,null,"S. prow.",null,null,null,{"$f":"IF(I62>J62,1,0)+IF(K62>L62,1,0)+IF(M62>N62,1,0)","v":2},{"$f":"IF(J62>I62,1,0)+IF(L62>K62,1,0)+IF(N62>M62,1,0)","v":0},null,null,null,null,null,null,null,null,null,"wygrany","przegrany"]
[null,null,"Boisko","Gra",null,null,null,null,null,{"$f":"A62","v":9},null,null,null,null,"rozp.",null,"zak.",null,"S. serw.",null,null,null,{"$f":"IF(AND(COUNTA(I62,J62)=2,AF62=I63),FIXED(I62,0,TRUE)&\":\"&FIXED(J62,0,TRUE),IF(AND(COUNTA(I62,J62)=2,AF62=L63),FIXED(J62,0,TRUE)&\":\"&FIXED(I62,0,TRUE),\"\"))","v":"15:3"},{"$f":"IF(AND(COUNTA(I62,J62)=2,AF62=I63),FIXED(J62,0,TRUE)&\":\"&FIXED(I62,0,TRUE),IF(AND(COUNTA(I62,J62)=2,AF62=L63),FIXED(I62,0,TRUE)&\":\"&FIXED(J62,0,TRUE),\"\"))","v":"3:15"}]
[9,null,null,{"$f":"IF(TYPE(VLOOKUP(A62,'grup-puch'!$A:$M,13,FALSE))=2,VLOOKUP(A62,'grup-puch'!$A:$M,13,FALSE),IF(TYPE(VLOOKUP(A62,puch!$A:$J,10,FALSE))=2,VLOOKUP(A62,puch!$A:$J,10,FALSE),\"\"))","v":"GIMNAZJUM CHŁOPCY"},null,null,null,null,15,3,15,5,null,null,null,null,null,null,{"$f":"Q62-O62","v":"00:00:00"},{"$f":"IF(VLOOKUP(A62,dane!F:G,2,FALSE)=\"\",\"\",VLOOKUP(A62,dane!F:G,2,FALSE))","v":""},null,null,{"$f":"IF(AND(COUNTA(K62,L62)=2,AF62=I63),\",\"&FIXED(K62,0,TRUE)&\":\"&FIXED(L62,0,TRUE),IF(AND(COUNTA(K62,L62)=2,AF62=L63),\",\"&FIXED(L62,0,TRUE)&\":\"&FIXED(K62,0,TRUE),\"\"))","v":",15:5"},{"$f":"IF(AND(COUNTA(K62,L62)=2,AF62=I63),\",\"&FIXED(L62,0,TRUE)&\":\"&FIXED(K62,0,TRUE),IF(AND(COUNTA(K62,L62)=2,AF62=L63),\",\"&FIXED(K62,0,TRUE)&\":\"&FIXED(L62,0,TRUE),\"\"))","v":",5:15"},null,{"$f":"A62","v":9},{"$f":"IF(ISBLANK(D62),\"\",D62)","v":"GIMNAZJUM CHŁOPCY"},{"$f":"IF(OR(I63=0,I63=\"\"),\"\",I63)","v":"x71"},{"$f":"IF(OR(I64=0,I64=\"\"),\"\",I64)","v":""},{"$f":"IF(OR(L63=0,L63=\"\"),\"\",L63)","v":"x72"},{"$f":"IF(OR(L64=0,L64=\"\"),\"\",L64)","v":""},{"$f":"IF(COUNTA(C65,L65)=1,IF(ISTEXT(C65),I63,L63),IF(OR(I62=\"\",W60=X60),\"\",IF(W60>X60,I63,L63)))","v":"x71"},{"$f":"IF(COUNTA(C65,L65)=1,IF(ISTEXT(C65),I64,L64),IF(OR(I62=\"\",W60=X60),\"\",IF(W60>X60,I64,L64)))","v":""},{"$f":"IF(OR(AF62=I63,AF62=L63),IF(AF62=I63,W61&W62&W63&IF(ISTEXT(C65),\" \"&C65,\"\"),W61&W62&W63&IF(ISTEXT(L65),\" \"&L65,\"\")),\"\")","v":"15:3,15:5"},{"$f":"IF(OR(AF62=I63,AF62=L63),IF(AF62=I63,X61&X62&X63&IF(ISTEXT(C65),\" \"&C65,\"\"),X61&X62&X63&IF(ISTEXT(L65),\" \"&L65,\"\")),\"\")","v":"3:15,5:15"},{"$f":"IF(ISBLANK(L65),\"\",L65)","v":""},{"$f":"I62","v":15},{"$f":"J62","v":3},{"$f":"K62","v":15},{"$f":"L62","v":5},{"$f":"M62","v":0},{"$f":"N62","v":0},null,{"$f":"T60","v":0},{"$f":"T61","v":0},{"$f":"IF(OR(AA62=dane!$I$3,AA62=dane!$I$4,AA62=dane!$I$5,AA62=dane!$I$6),AR62,\"\")","v":""},{"$f":"IF(OR(AA62=dane!$I$7,AA62=dane!$I$8,AA62=dane!$I$10,AA62=dane!$I$11),AR62,\"\")","v":0},{"$f":"IF(OR(AA62=dane!$I$12,AA62=dane!$I$13,AA62=dane!$I$14,AA62=dane!$I$15),AR62,\"\")","v":""},{"$f":"IF(OR(AA62=dane!$I$16,AA62=dane!$I$17,AA62=dane!$I$18,AA62=dane!$I$19),AR62,\"\")","v":""},{"$f":"IF(OR(AA62=dane!$I$20,AA62=dane!$I$21,AA62=dane!$I$22,AA62=dane!$I$23),AR62,\"\")","v":""},{"$f":"IF(OR(AA62=dane!$I$3,AA62=dane!$I$4,AA62=dane!$I$5,AA62=dane!$I$6),AS62,\"\")","v":""},{"$f":"IF(OR(AA62=dane!$I$7,AA62=dane!$I$8,AA62=dane!$I$10,AA62=dane!$I$11),AS62,\"\")","v":0},{"$f":"IF(OR(AA62=dane!$I$12,AA62=dane!$I$13,AA62=dane!$I$14,AA62=dane!$I$15),AS62,\"\")","v":""},{"$f":"IF(OR(AA62=dane!$I$16,AA62=dane!$I$17,AA62=dane!$I$18,AA62=dane!$I$19),AS62,\"\")","v":""},{"$f":"IF(OR(AA62=dane!$I$20,AA62=dane!$I$21,AA62=dane!$I$22,AA62=dane!$I$23),AS62,\"\")","v":""},{"$f":"IF($T$1=\"\",\"\",IF(C62=\"\",\"\",IF(Q62=\"\",C63,\"\")))","v":""},{"$f":"IF(LEN(L64)>0,$V$3,$V$2)+Q62+$T$1+C60-1","v":"2014-10-12T00:25:00"},{"$f":"IF(BE62>NOW(),C63,\"\")","v":""},{"$f":"IF(C62<>\"\",\"\",VLOOKUP(C63,BD:BD,1,FALSE))","v":{"$error":"#N/A"}},{"$f":"IF(Q62<>\"\",\"\",VLOOKUP(C63,BF:BF,1,FALSE))","v":"Grzegorz  Cybulski (Garwolin)"},{"$f":"IF(BF62<>\"\",BE62,\"\")","v":""},{"$f":"IF(Q62=\"\",C62,\"\")","v":0},null,null,null,null,null,null,null,null,null,null,null,null,{"$f":"IF((LEN(C62)+LEN(C66)+LEN(L66))=0,I63,\"\")","v":""},{"$f":"IF(LEN(BW62)>0,A62,\"\")","v":""}]
[{"$f":"IF(TYPE(VLOOKUP(C63,BF:BI,4,FALSE))=1,VLOOKUP(C63,BF:BI,4,FALSE),\"\")","v":41959.017361111109},{"$f":"IF(TYPE(VLOOKUP(I63,BW:BX,2,FALSE))=16,\"\",VLOOKUP(I63,BW:BX,2,FALSE))","v":""},{"$f":"IF(I63=\"\",\"\",VLOOKUP(I63,zawodnicy!$A:$D,2,FALSE)&\" \"&VLOOKUP(I63,zawodnicy!$A:$D,3,FALSE)&\" (\"&VLOOKUP(I63,zawodnicy!$A:$D,4,FALSE)&\")\")","v":"Grzegorz  Cybulski (Garwolin)"},null,null,null,null,null,{"$f":"IF(TYPE(VLOOKUP(A62,'grup-puch'!$A:$E,2,FALSE))=2,VLOOKUP(A62,'grup-puch'!$A:$E,2,FALSE),IF(TYPE(VLOOKUP(A62,puch!$A:$E,2,FALSE))=2,VLOOKUP(A62,puch!$A:$E,2,FALSE),\"\"))","v":"x71"},null,null,{"$f":"IF(TYPE(VLOOKUP(A62,'grup-puch'!$A:$E,4,FALSE))=2,VLOOKUP(A62,'grup-puch'!$A:$E,4,FALSE),IF(TYPE(VLOOKUP(A62,puch!$A:$E,4,FALSE))=2,VLOOKUP(A62,puch!$A:$E,4,FALSE),\"\"))","v":"x72"},null,null,{"$f":"IF(L63=\"\",\"\",VLOOKUP(L63,zawodnicy!$A:$D,2,FALSE)&\" \"&VLOOKUP(L63,zawodnicy!$A:$D,3,FALSE)&\" (\"&VLOOKUP(L63,zawodnicy!$A:$D,4,FALSE)&\")\")","v":"Kacper Urbaniak (Ząbki)"},null,null,null,null,null,{"$f":"IF(TYPE(VLOOKUP(L63,BW:BX,2,FALSE))=16,\"\",VLOOKUP(L63,BW:BX,2,FALSE))","v":""},{"$f":"IF(TYPE(VLOOKUP(O63,BF:BI,4,FALSE))=1,VLOOKUP(O63,BF:BI,4,FALSE),\"\")","v":""},{"$f":"IF(AND(COUNTA(M62,N62)=2,AF62=I63),\",\"&FIXED(M62,0,TRUE)&\":\"&FIXED(N62,0,TRUE),IF(AND(COUNTA(M62,N62)=2,AF62=L63),\",\"&FIXED(N62,0,TRUE)&\":\"&FIXED(M62,0,TRUE),\"\"))","v":""},{"$f":"IF(AND(COUNTA(M62,N62)=2,AF62=I63),\",\"&FIXED(N62,0,TRUE)&\":\"&FIXED(M62,0,TRUE),IF(AND(COUNTA(M62,N62)=2,AF62=L63),\",\"&FIXED(M62,0,TRUE)&\":\"&FIXED(N62,0,TRUE),\"\"))","v":""},null,null,null,null,null,null,null,null,null,null,null,null,null,null,null,null,null,null,null,null,null,null,null,null,null,null,null,null,null,null,null,{"$f":"IF($T$1=\"\",\"\",IF(C62=\"\",\"\",IF(Q62=\"\",C64,\"\")))","v":""},null,{"$f":"IF(BE62>NOW(),C64,\"\")","v":""},{"$f":"IF(C62<>\"\",\"\",VLOOKUP(C64,BD:BD,1,FALSE))","v":""},{"$f":"IF(Q62<>\"\",\"\",VLOOKUP(C64,BF:BF,1,FALSE))","v":""},{"$f":"IF(BF63<>\"\",BE62,\"\")","v":""},null,null,null,null,null,null,null,null,null,null,null,{"$f":"IF(VLOOKUP(I63,zawodnicy!A:E,5,FALSE)=0,\"\",C63)","v":""},{"$f":"IF(VLOOKUP(L63,zawodnicy!A:E,5,FALSE)=0,\"\",O63)","v":""},{"$f":"IF((LEN(C62)+LEN(C66)+LEN(L66))=0,I64,\"\")","v":""},{"$f":"IF(LEN(BW63)>0,A62,\"\")","v":""}]
["","",{"$f":"IF(OR(I64=0,I64=\"\"),\"\",VLOOKUP(I64,zawodnicy!$A:$D,2,FALSE)&\" \"&VLOOKUP(I64,zawodnicy!$A:$D,3,FALSE)&\" (\"&VLOOKUP(I64,zawodnicy!$A:$D,4,FALSE)&\")\")","v":""},null,null,null,null,null,{"$f":"IF(TYPE(VLOOKUP(A62,'grup-puch'!$A:$E,3,FALSE))=2,VLOOKUP(A62,'grup-puch'!$A:$E,3,FALSE),IF(TYPE(VLOOKUP(A62,puch!$A:$E,3,FALSE))=2,VLOOKUP(A62,puch!$A:$E,3,FALSE),\"\"))","v":""},null,null,{"$f":"IF(TYPE(VLOOKUP(A62,'grup-puch'!$A:$E,5,FALSE))=2,VLOOKUP(A62,'grup-puch'!$A:$E,5,FALSE),IF(TYPE(VLOOKUP(A62,puch!$A:$E,5,FALSE))=2,VLOOKUP(A62,puch!$A:$E,5,FALSE),\"\"))","v":""},null,null,{"$f":"IF(OR(L64=\"\",L64=0),\"\",VLOOKUP(L64,zawodnicy!$A:$D,2,FALSE)&\" \"&VLOOKUP(L64,zawodnicy!$A:$D,3,FALSE)&\" (\"&VLOOKUP(L64,zawodnicy!$A:$D,4,FALSE)&\")\")","v":""},null,null,null,null,null,"","",null,null,null,null,null,null,null,null,null,null,null,null,null,null,null,null,null,null,null,null,null,null,null,null,null,null,null,null,null,null,null,null,null,{"$f":"IF($T$1=\"\",\"\",IF(C62=\"\",\"\",IF(Q62=\"\",O63,\"\")))","v":""},null,{"$f":"IF(BE62>NOW(),O63,\"\")","v":""},{"$f":"IF(C62<>\"\",\"\",VLOOKUP(O63,BD:BD,1,FALSE))","v":{"$error":"#N/A"}},{"$f":"IF(Q62<>\"\",\"\",VLOOKUP(O63,BF:BF,1,FALSE))","v":{"$error":"#N/A"}},{"$f":"IF(BF64<>\"\",BE62,\"\")","v":""},null,null,null,null,null,null,null,null,null,null,null,{"$f":"IF(VLOOKUP(I64,zawodnicy!A:E,5,FALSE)=0,\"\",C64)","v":{"$error":"#N/A"}},{"$f":"IF(VLOOKUP(L64,zawodnicy!A:E,5,FALSE)=0,\"\",O64)","v":{"$error":"#N/A"}},{"$f":"IF((LEN(C62)+LEN(C66)+LEN(L66))=0,L63,\"\")","v":""},{"$f":"IF(LEN(BW64)>0,A62,\"\")","v":""}]
[null,null,null,null,null,null,null,null,null,null,null,null,null,null,null,null,null,null,null,null,null,null,null,null,null,null,null,null,null,null,null,null,null,null,null,null,null,null,null,null,null,null,null,null,null,null,null,null,null,null,null,null,null,null,null,{"$f":"IF($T$1=\"\",\"\",IF(C62=\"\",\"\",IF(Q62=\"\",O64,\"\")))","v":""},null,{"$f":"IF(BE62>NOW(),O64,\"\")","v":""},{"$f":"IF(C62<>\"\",\"\",VLOOKUP(O64,BD:BD,1,FALSE))","v":""},{"$f":"IF(Q62<>\"\",\"\",VLOOKUP(O64,BF:BF,1,FALSE))","v":""},{"$f":"IF(BF65<>\"\",BE62,\"\")","v":""},null,null,null,null,null,null,null,null,null,null,null,null,null,{"$f":"IF((LEN(C62)+LEN(C66)+LEN(L66))=0,L64,\"\")","v":""},{"$f":"IF(LEN(BW65)>0,A62,\"\")","v":""}]
[null,null,{"$f":"IF(I63=\"\",\"\",IF(I63=AF62,\"zwycięzca(cy):\"&\" \"&AH62,\"\"))","v":"zwycięzca(cy): 15:3,15:5"},null,null,null,null,null,null,null,null,{"$f":"IF(L63=\"\",\"\",IF(L63=AF62,\"zwycięzca(cy):\"&\" \"&AH62,\"\"))","v":""}]
[null,null,10,"dzień turnieju.",null,null,null,null,null,"Nr meczu",null,null,null,null,"Godz.",null,null,null,"S. prow.",null,null,null,{"$f":"IF(I69>J69,1,0)+IF(K69>L69,1,0)+IF(M69>N69,1,0)","v":2},{"$f":"IF(J69>I69,1,0)+IF(L69>K69,1,0)+IF(N69>M69,1,0)","v":1},null,null,null,null,null,null,null,null,null,"wygrany","przegrany"]
[null,null,"Boisko","Gra",null,null,null,null,null,{"$f":"A69","v":10},null,null,null,null,"rozp.",null,"zak.",null,"S. serw.",null,null,null,{"$f":"IF(AND(COUNTA(I69,J69)=2,AF69=I70),FIXED(I69,0,TRUE)&\":\"&FIXED(J69,0,TRUE),IF(AND(COUNTA(I69,J69)=2,AF69=L70),FIXED(J69,0,TRUE)&\":\"&FIXED(I69,0,TRUE),\"\"))","v":"11:15"},{"$f":"IF(AND(COUNTA(I69,J69)=2,AF69=I70),FIXED(J69,0,TRUE)&\":\"&FIXED(I69,0,TRUE),IF(AND(COUNTA(I69,J69)=2,AF69=L70),FIXED(I69,0,TRUE)&\":\"&FIXED(J69,0,TRUE),\"\"))","v":"15:11"}]
[10,null,null,{"$f":"IF(TYPE(VLOOKUP(A69,'grup-puch'!$A:$M,13,FALSE))=2,VLOOKUP(A69,'grup-puch'!$A:$M,13,FALSE),IF(TYPE(VLOOKUP(A69,puch!$A:$J,10,FALSE))=2,VLOOKUP(A69,puch!$A:$J,10,FALSE),\"\"))","v":"GIMNAZJUM CHŁOPCY"},null,null,null,null,11,15,15,12,17,15,null,null,null,null,{"$f":"Q69-O69","v":"00:00:00"},{"$f":"IF(VLOOKUP(A69,dane!F:G,2,FALSE)=\"\",\"\",VLOOKUP(A69,dane!F:G,2,FALSE))","v":""},null,null,{"$f":"IF(AND(COUNTA(K69,L69)=2,AF69=I70),\",\"&FIXED(K69,0,TRUE)&\":\"&FIXED(L69,0,TRUE),IF(AND(COUNTA(K69,L69)=2,AF69=L70),\",\"&FIXED(L69,0,TRUE)&\":\"&FIXED(K69,0,TRUE),\"\"))","v":",15:12"},{"$f":"IF(AND(COUNTA(K69,L69)=2,AF69=I70),\",\"&FIXED(L69,0,TRUE)&\":\"&FIXED(K69,0,TRUE),IF(AND(COUNTA(K69,L69)=2,AF69=L70),\",\"&FIXED(K69,0,TRUE)&\":\"&FIXED(L69,0,TRUE),\"\"))","v":",12:15"},null,{"$f":"A69","v":10},{"$f":"IF(ISBLANK(D69),\"\",D69)","v":"GIMNAZJUM CHŁOPCY"},{"$f":"IF(OR(I70=0,I70=\"\"),\"\",I70)","v":"x5"},{"$f":"IF(OR(I71=0,I71=\"\"),\"\",I71)","v":""},{"$f":"IF(OR(L70=0,L70=\"\"),\"\",L70)","v":"x31"},{"$f":"IF(OR(L71=0,L71=\"\"),\"\",L71)","v":""},{"$f":"IF(COUNTA(C72,L72)=1,IF(ISTEXT(C72),I70,L70),IF(OR(I69=\"\",W67=X67),\"\",IF(W67>X67,I70,L70)))","v":"x5"},{"$f":"IF(COUNTA(C72,L72)=1,IF(ISTEXT(C72),I71,L71),IF(OR(I69=\"\",W67=X67),\"\",IF(W67>X67,I71,L71)))","v":""},{"$f":"IF(OR(AF69=I70,AF69=L70),IF(AF69=I70,W68&W69&W70&IF(ISTEXT(C72),\" \"&C72,\"\"),W68&W69&W70&IF(ISTEXT(L72),\" \"&L72,\"\")),\"\")","v":"11:15,15:12,17:15"},{"$f":"IF(OR(AF69=I70,AF69=L70),IF(AF69=I70,X68&X69&X70&IF(ISTEXT(C72),\" \"&C72,\"\"),X68&X69&X70&IF(ISTEXT(L72),\" \"&L72,\"\")),\"\")","v":"15:11,12:15,15:17"},{"$f":"IF(ISBLANK(L72),\"\",L72)","v":""},{"$f":"I69","v":11},{"$f":"J69","v":15},{"$f":"K69","v":15},{"$f":"L69","v":12},{"$f":"M69","v":17},{"$f":"N69","v":15},null,{"$f":"T67","v":0},{"$f":"T68","v":0},{"$f":"IF(OR(AA69=dane!$I$3,AA69=dane!$I$4,AA69=dane!$I$5,AA69=dane!$I$6),AR69,\"\")","v":""},{"$f":"IF(OR(AA69=dane!$I$7,AA69=dane!$I$8,AA69=dane!$I$10,AA69=dane!$I$11),AR69,\"\")","v":0},{"$f":"IF(OR(AA69=dane!$I$12,AA69=dane!$I$13,AA69=dane!$I$14,AA69=dane!$I$15),AR69,\"\")","v":""},{"$f":"IF(OR(AA69=dane!$I$16,AA69=dane!$I$17,AA69=dane!$I$18,AA69=dane!$I$19),AR69,\"\")","v":""},{"$f":"IF(OR(AA69=dane!$I$20,AA69=dane!$I$21,AA69=dane!$I$22,AA69=dane!$I$23),AR69,\"\")","v":""},{"$f":"IF(OR(AA69=dane!$I$3,AA69=dane!$I$4,AA69=dane!$I$5,AA69=dane!$I$6),AS69,\"\")","v":""},{"$f":"IF(OR(AA69=dane!$I$7,AA69=dane!$I$8,AA69=dane!$I$10,AA69=dane!$I$11),AS69,\"\")","v":0},{"$f":"IF(OR(AA69=dane!$I$12,AA69=dane!$I$13,AA69=dane!$I$14,AA69=dane!$I$15),AS69,\"\")","v":""},{"$f":"IF(OR(AA69=dane!$I$16,AA69=dane!$I$17,AA69=dane!$I$18,AA69=dane!$I$19),AS69,\"\")","v":""},{"$f":"IF(OR(AA69=dane!$I$20,AA69=dane!$I$21,AA69=dane!$I$22,AA69=dane!$I$23),AS69,\"\")","v":""},{"$f":"IF($T$1=\"\",\"\",IF(C69=\"\",\"\",IF(Q69=\"\",C70,\"\")))","v":""},{"$f":"IF(LEN(L71)>0,$V$3,$V$2)+Q69+$T$1+C67-1","v":"2014-10-13T00:25:00"},{"$f":"IF(BE69>NOW(),C70,\"\")","v":""},{"$f":"IF(C69<>\"\",\"\",VLOOKUP(C70,BD:BD,1,FALSE))","v":{"$error":"#N/A"}},{"$f":"IF(Q69<>\"\",\"\",VLOOKUP(C70,BF:BF,1,FALSE))","v":{"$error":"#N/A"}},{"$f":"IF(BF69<>\"\",BE69,\"\")","v":""},{"$f":"IF(Q69=\"\",C69,\"\")","v":0},null,null,null,null,null,null,null,null,null,null,null,null,{"$f":"IF((LEN(C69)+LEN(C73)+LEN(L73))=0,I70,\"\")","v":""},{"$f":"IF(LEN(BW69)>0,A69,\"\")","v":""}]
[{"$f":"IF(TYPE(VLOOKUP(C70,BF:BI,4,FALSE))=1,VLOOKUP(C70,BF:BI,4,FALSE),\"\")","v":""},{"$f":"IF(TYPE(VLOOKUP(I70,BW:BX,2,FALSE))=16,\"\",VLOOKUP(I70,BW:BX,2,FALSE))","v":""},{"$f":"IF(I70=\"\",\"\",VLOOKUP(I70,zawodnicy!$A:$D,2,FALSE)&\" \"&VLOOKUP(I70,zawodnicy!$A:$D,3,FALSE)&\" (\"&VLOOKUP(I70,zawodnicy!$A:$D,4,FALSE)&\")\")","v":"Jakub  Dworzak (Zielonka)"},null,null,null,null,null,{"$f":"IF(TYPE(VLOOKUP(A69,'grup-puch'!$A:$E,2,FALSE))=2,VLOOKUP(A69,'grup-puch'!$A:$E,2,FALSE),IF(TYPE(VLOOKUP(A69,puch!$A:$E,2,FALSE))=2,VLOOKUP(A69,puch!$A:$E,2,FALSE),\"\"))","v":"x5"},null,null,{"$f":"IF(TYPE(VLOOKUP(A69,'grup-puch'!$A:$E,4,FALSE))=2,VLOOKUP(A69,'grup-puch'!$A:$E,4,FALSE),IF(TYPE(VLOOKUP(A69,puch!$A:$E,4,FALSE))=2,VLOOKUP(A69,puch!$A:$E,4,FALSE),\"\"))","v":"x31"},null,null,{"$f":"IF(L70=\"\",\"\",VLOOKUP(L70,zawodnicy!$A:$D,2,FALSE)&\" \"&VLOOKUP(L70,zawodnicy!$A:$D,3,FALSE)&\" (\"&VLOOKUP(L70,zawodnicy!$A:$D,4,FALSE)&\")\")","v":"Damian  Mil (Ząbki)"},null,null,null,null,null,{"$f":"IF(TYPE(VLOOKUP(L70,BW:BX,2,FALSE))=16,\"\",VLOOKUP(L70,BW:BX,2,FALSE))","v":""},{"$f":"IF(TYPE(VLOOKUP(O70,BF:BI,4,FALSE))=1,VLOOKUP(O70,BF:BI,4,FALSE),\"\")","v":41959.017361111109},{"$f":"IF(AND(COUNTA(M69,N69)=2,AF69=I70),\",\"&FIXED(M69,0,TRUE)&\":\"&FIXED(N69,0,TRUE),IF(AND(COUNTA(M69,N69)=2,AF69=L70),\",\"&FIXED(N69,0,TRUE)&\":\"&FIXED(M69,0,TRUE),\"\"))","v":",17:15"},{"$f":"IF(AND(COUNTA(M69,N69)=2,AF69=I70),\",\"&FIXED(N69,0,TRUE)&\":\"&FIXED(M69,0,TRUE),IF(AND(COUNTA(M69,N69)=2,AF69=L70),\",\"&FIXED(M69,0,TRUE)&\":\"&FIXED(N69,0,TRUE),\"\"))","v":",15:17"},null,null,null,null,null,null,null,null,null,null,null,null,null,null,null,null,null,null,null,null,null,null,null,null,null,null,null,null,null,null,null,{"$f":"IF($T$1=\"\",\"\",IF(C69=\"\",\"\",IF(Q69=\"\",C71,\"\")))","v":""},null,{"$f":"IF(BE69>NOW(),C71,\"\")","v":""},{"$f":"IF(C69<>\"\",\"\",VLOOKUP(C71,BD:BD,1,FALSE))","v":""},{"$f":"IF(Q69<>\"\",\"\",VLOOKUP(C71,BF:BF,1,FALSE))","v":""},{"$f":"IF(BF70<>\"\",BE69,\"\")","v":""},null,null,null,null,null,null,null,null,null,null,null,{"$f":"IF(VLOOKUP(I70,zawodnicy!A:E,5,FALSE)=0,\"\",C70)","v":""},{"$f":"IF(VLOOKUP(L70,zawodnicy!A:E,5,FALSE)=0,\"\",O70)","v":""},{"$f":"IF((LEN(C69)+LEN(C73)+LEN(L73))=0,I71,\"\")","v":""},{"$f":"IF(LEN(BW70)>0,A69,\"\")","v":""}]
["","",{"$f":"IF(OR(I71=0,I71=\"\"),\"\",VLOOKUP(I71,zawodnicy!$A:$D,2,FALSE)&\" \"&VLOOKUP(I71,zawodnicy!$A:$D,3,FALSE)&\" (\"&VLOOKUP(I71,zawodnicy!$A:$D,4,FALSE)&\")\")","v":""},null,null,null,null,null,{"$f":"IF(TYPE(VLOOKUP(A69,'grup-puch'!$A:$E,3,FALSE))=2,VLOOKUP(A69,'grup-puch'!$A:$E,3,FALSE),IF(TYPE(VLOOKUP(A69,puch!$A:$E,3,FALSE))=2,VLOOKUP(A69,puch!$A:$E,3,FALSE),\"\"))","v":""},null,null,{"$f":"IF(TYPE(VLOOKUP(A69,'grup-puch'!$A:$E,5,FALSE))=2,VLOOKUP(A69,'grup-puch'!$A:$E,5,FALSE),IF(TYPE(VLOOKUP(A69,puch!$A:$E,5,FALSE))=2,VLOOKUP(A69,puch!$A:$E,5,FALSE),\"\"))","v":""},null,null,{"$f":"IF(OR(L71=\"\",L71=0),\"\",VLOOKUP(L71,zawodnicy!$A:$D,2,FALSE)&\" \"&VLOOKUP(L71,zawodnicy!$A:$D,3,FALSE)&\" (\"&VLOOKUP(L71,zawodnicy!$A:$D,4,FALSE)&\")\")","v":""},null,null,null,null,null,"","",null,null,null,null,null,null,null,null,null,null,null,null,null,null,null,null,null,null,null,null,null,null,null,null,null,null,null,null,null,null,null,null,null,{"$f":"IF($T$1=\"\",\"\",IF(C69=\"\",\"\",IF(Q69=\"\",O70,\"\")))","v":""},null,{"$f":"IF(BE69>NOW(),O70,\"\")","v":""},{"$f":"IF(C69<>\"\",\"\",VLOOKUP(O70,BD:BD,1,FALSE))","v":{"$error":"#N/A"}},{"$f":"IF(Q69<>\"\",\"\",VLOOKUP(O70,BF:BF,1,FALSE))","v":"Damian  Mil (Ząbki)"},{"$f":"IF(BF71<>\"\",BE69,\"\")","v":""},null,null,null,null,null,null,null,null,null,null,null,{"$f":"IF(VLOOKUP(I71,zawodnicy!A:E,5,FALSE)=0,\"\",C71)","v":{"$error":"#N/A"}},{"$f":"IF(VLOOKUP(L71,zawodnicy!A:E,5,FALSE)=0,\"\",O71)","v":{"$error":"#N/A"}},{"$f":"IF((LEN(C69)+LEN(C73)+LEN(L73))=0,L70,\"\")","v":""},{"$f":"IF(LEN(BW71)>0,A69,\"\")","v":""}]
[null,null,null,null,null,null,null,null,null,null,null,null,null,null,null,null,null,null,null,null,null,null,null,null,null,null,null,null,null,null,null,null,null,null,null,null,null,null,null,null,null,null,null,null,null,null,null,null,null,null,null,null,null,null,null,{"$f":"IF($T$1=\"\",\"\",IF(C69=\"\",\"\",IF(Q69=\"\",O71,\"\")))","v":""},null,{"$f":"IF(BE69>NOW(),O71,\"\")","v":""},{"$f":"IF(C69<>\"\",\"\",VLOOKUP(O71,BD:BD,1,FALSE))","v":""},{"$f":"IF(Q69<>\"\",\"\",VLOOKUP(O71,BF:BF,1,FALSE))","v":""},{"$f":"IF(BF72<>\"\",BE69,\"\")","v":""},null,null,null,null,null,null,null,null,null,null,null,null,null,{"$f":"IF((LEN(C69)+LEN(C73)+LEN(L73))=0,L71,\"\")","v":""},{"$f":"IF(LEN(BW72)>0,A69,\"\")","v":""}]
[null,null,{"$f":"IF(I70=\"\",\"\",IF(I70=AF69,\"zwycięzca(cy):\"&\" \"&AH69,\"\"))","v":"zwycięzca(cy): 11:15,15:12,17:15"},null,null,null,null,null,null,null,null,{"$f":"IF(L70=\"\",\"\",IF(L70=AF69,\"zwycięzca(cy):\"&\" \"&AH69,\"\"))","v":""}]
[null,null,11,"dzień turnieju.",null,null,null,null,null,"Nr meczu",null,null,null,null,"Godz.",null,null,null,"S. prow.",null,null,null,{"$f":"IF(I76>J76,1,0)+IF(K76>L76,1,0)+IF(M76>N76,1,0)","v":2},{"$f":"IF(J76>I76,1,0)+IF(L76>K76,1,0)+IF(N76>M76,1,0)","v":0},null,null,null,null,null,null,null,null,null,"wygrany","przegrany"]
[null,null,"Boisko","Gra",null,null,null,null,null,{"$f":"A76","v":11},null,null,null,null,"rozp.",null,"zak.",null,"S. serw.",null,null,null,{"$f":"IF(AND(COUNTA(I76,J76)=2,AF76=I77),FIXED(I76,0,TRUE)&\":\"&FIXED(J76,0,TRUE),IF(AND(COUNTA(I76,J76)=2,AF76=L77),FIXED(J76,0,TRUE)&\":\"&FIXED(I76,0,TRUE),\"\"))","v":"15:5"},{"$f":"IF(AND(COUNTA(I76,J76)=2,AF76=I77),FIXED(J76,0,TRUE)&\":\"&FIXED(I76,0,TRUE),IF(AND(COUNTA(I76,J76)=2,AF76=L77),FIXED(I76,0,TRUE)&\":\"&FIXED(J76,0,TRUE),\"\"))","v":"5:15"}]
[11,null,null,{"$f":"IF(TYPE(VLOOKUP(A76,'grup-puch'!$A:$M,13,FALSE))=2,VLOOKUP(A76,'grup-puch'!$A:$M,13,FALSE),IF(TYPE(VLOOKUP(A76,puch!$A:$J,10,FALSE))=2,VLOOKUP(A76,puch!$A:$J,10,FALSE),\"\"))","v":"KLASY 1-3 CHŁOPCY"},null,null,null,null,15,5,15,8,null,null,null,null,null,null,{"$f":"Q76-O76","v":"00:00:00"},{"$f":"IF(VLOOKUP(A76,dane!F:G,2,FALSE)=\"\",\"\",VLOOKUP(A76,dane!F:G,2,FALSE))","v":""},null,null,{"$f":"IF(AND(COUNTA(K76,L76)=2,AF76=I77),\",\"&FIXED(K76,0,TRUE)&\":\"&FIXED(L76,0,TRUE),IF(AND(COUNTA(K76,L76)=2,AF76=L77),\",\"&FIXED(L76,0,TRUE)&\":\"&FIXED(K76,0,TRUE),\"\"))","v":",15:8"},{"$f":"IF(AND(COUNTA(K76,L76)=2,AF76=I77),\",\"&FIXED(L76,0,TRUE)&\":\"&FIXED(K76,0,TRUE),IF(AND(COUNTA(K76,L76)=2,AF76=L77),\",\"&FIXED(K76,0,TRUE)&\":\"&FIXED(L76,0,TRUE),\"\"))","v":",8:15"},null,{"$f":"A76","v":11},{"$f":"IF(ISBLANK(D76),\"\",D76)","v":"KLASY 1-3 CHŁOPCY"},{"$f":"IF(OR(I77=0,I77=\"\"),\"\",I77)","v":"x43"},{"$f":"IF(OR(I78=0,I78=\"\"),\"\",I78)","v":""},{"$f":"IF(OR(L77=0,L77=\"\"),\"\",L77)","v":"x22"},{"$f":"IF(OR(L78=0,L78=\"\"),\"\",L78)","v":""},{"$f":"IF(COUNTA(C79,L79)=1,IF(ISTEXT(C79),I77,L77),IF(OR(I76=\"\",W74=X74),\"\",IF(W74>X74,I77,L77)))","v":"x43"},{"$f":"IF(COUNTA(C79,L79)=1,IF(ISTEXT(C79),I78,L78),IF(OR(I76=\"\",W74=X74),\"\",IF(W74>X74,I78,L78)))","v":""},{"$f":"IF(OR(AF76=I77,AF76=L77),IF(AF76=I77,W75&W76&W77&IF(ISTEXT(C79),\" \"&C79,\"\"),W75&W76&W77&IF(ISTEXT(L79),\" \"&L79,\"\")),\"\")","v":"15:5,15:8"},{"$f":"IF(OR(AF76=I77,AF76=L77),IF(AF76=I77,X75&X76&X77&IF(ISTEXT(C79),\" \"&C79,\"\"),X75&X76&X77&IF(ISTEXT(L79),\" \"&L79,\"\")),\"\")","v":"5:15,8:15"},{"$f":"IF(ISBLANK(L79),\"\",L79)","v":""},{"$f":"I76","v":15},{"$f":"J76","v":5},{"$f":"K76","v":15},{"$f":"L76","v":8},{"$f":"M76","v":0},{"$f":"N76","v":0},null,{"$f":"T74","v":0},{"$f":"T75","v":0},{"$f":"IF(OR(AA76=dane!$I$3,AA76=dane!$I$4,AA76=dane!$I$5,AA76=dane!$I$6),AR76,\"\")","v":0},{"$f":"IF(OR(AA76=dane!$I$7,AA76=dane!$I$8,AA76=dane!$I$10,AA76=dane!$I$11),AR76,\"\")","v":""},{"$f":"IF(OR(AA76=dane!$I$12,AA76=dane!$I$13,AA76=dane!$I$14,AA76=dane!$I$15),AR76,\"\")","v":""},{"$f":"IF(OR(AA76=dane!$I$16,AA76=dane!$I$17,AA76=dane!$I$18,AA76=dane!$I$19),AR76,\"\")","v":""},{"$f":"IF(OR(AA76=dane!$I$20,AA76=dane!$I$21,AA76=dane!$I$22,AA76=dane!$I$23),AR76,\"\")","v":""},{"$f":"IF(OR(AA76=dane!$I$3,AA76=dane!$I$4,AA76=dane!$I$5,AA76=dane!$I$6),AS76,\"\")","v":0},{"$f":"IF(OR(AA76=dane!$I$7,AA76=dane!$I$8,AA76=dane!$I$10,AA76=dane!$I$11),AS76,\"\")","v":""},{"$f":"IF(OR(AA76=dane!$I$12,AA76=dane!$I$13,AA76=dane!$I$14,AA76=dane!$I$15),AS76,\"\")","v":""},{"$f":"IF(OR(AA76=dane!$I$16,AA76=dane!$I$17,AA76=dane!$I$18,AA76=dane!$I$19),AS76,\"\")","v":""},{"$f":"IF(OR(AA76=dane!$I$20,AA76=dane!$I$21,AA76=dane!$I$22,AA76=dane!$I$23),AS76,\"\")","v":""},{"$f":"IF($T$1=\"\",\"\",IF(C76=\"\",\"\",IF(Q76=\"\",C77,\"\")))","v":""},{"$f":"IF(LEN(L78)>0,$V$3,$V$2)+Q76+$T$1+C74-1","v":"2014-10-14T00:25:00"},{"$f":"IF(BE76>NOW(),C77,\"\")","v":""},{"$f":"IF(C76<>\"\",\"\",VLOOKUP(C77,BD:BD,1,FALSE))","v":{"$error":"#N/A"}},{"$f":"IF(Q76<>\"\",\"\",VLOOKUP(C77,BF:BF,1,FALSE))","v":"Maks  Siepsiak (Wesoła)"},{"$f":"IF(BF76<>\"\",BE76,\"\")","v":""},{"$f":"IF(Q76=\"\",C76,\"\")","v":0},null,null,null,null,null,null,null,null,null,null,null,null,{"$f":"IF((LEN(C76)+LEN(C80)+LEN(L80))=0,I77,\"\")","v":""},{"$f":"IF(LEN(BW76)>0,A76,\"\")","v":""}]
[{"$f":"IF(TYPE(VLOOKUP(C77,BF:BI,4,FALSE))=1,VLOOKUP(C77,BF:BI,4,FALSE),\"\")","v":41963.010416666664},{"$f":"IF(TYPE(VLOOKUP(I77,BW:BX,2,FALSE))=16,\"\",VLOOKUP(I77,BW:BX,2,FALSE))","v":""},{"$f":"IF(I77=\"\",\"\",VLOOKUP(I77,zawodnicy!$A:$D,2,FALSE)&\" \"&VLOOKUP(I77,zawodnicy!$A:$D,3,FALSE)&\" (\"&VLOOKUP(I77,zawodnicy!$A:$D,4,FALSE)&\")\")","v":"Maks  Siepsiak (Wesoła)"},null,null,null,null,null,{"$f":"IF(TYPE(VLOOKUP(A76,'grup-puch'!$A:$E,2,FALSE))=2,VLOOKUP(A76,'grup-puch'!$A:$E,2,FALSE),IF(TYPE(VLOOKUP(A76,puch!$A:$E,2,FALSE))=2,VLOOKUP(A76,puch!$A:$E,2,FALSE),\"\"))","v":"x43"},null,null,{"$f":"IF(TYPE(VLOOKUP(A76,'grup-puch'!$A:$E,4,FALSE))=2,VLOOKUP(A76,'grup-puch'!$A:$E,4,FALSE),IF(TYPE(VLOOKUP(A76,puch!$A:$E,4,FALSE))=2,VLOOKUP(A76,puch!$A:$E,4,FALSE),\"\"))","v":"x22"},null,null,{"$f":"IF(L77=\"\",\"\",VLOOKUP(L77,zawodnicy!$A:$D,2,FALSE)&\" \"&VLOOKUP(L77,zawodnicy!$A:$D,3,FALSE)&\" (\"&VLOOKUP(L77,zawodnicy!$A:$D,4,FALSE)&\")\")","v":"Hanna  Lewandowska (Wesoła)"},null,null,null,null,null,{"$f":"IF(TYPE(VLOOKUP(L77,BW:BX,2,FALSE))=16,\"\",VLOOKUP(L77,BW:BX,2,FALSE))","v":""},{"$f":"IF(TYPE(VLOOKUP(O77,BF:BI,4,FALSE))=1,VLOOKUP(O77,BF:BI,4,FALSE),\"\")","v":41963.010416666664},{"$f":"IF(AND(COUNTA(M76,N76)=2,AF76=I77),\",\"&FIXED(M76,0,TRUE)&\":\"&FIXED(N76,0,TRUE),IF(AND(COUNTA(M76,N76)=2,AF76=L77),\",\"&FIXED(N76,0,TRUE)&\":\"&FIXED(M76,0,TRUE),\"\"))","v":""},{"$f":"IF(AND(COUNTA(M76,N76)=2,AF76=I77),\",\"&FIXED(N76,0,TRUE)&\":\"&FIXED(M76,0,TRUE),IF(AND(COUNTA(M76,N76)=2,AF76=L77),\",\"&FIXED(M76,0,TRUE)&\":\"&FIXED(N76,0,TRUE),\"\"))","v":""},null,null,null,null,null,null,null,null,null,null,null,null,null,null,null,null,null,null,null,null,null,null,null,null,null,null,null,null,null,null,null,{"$f":"IF($T$1=\"\",\"\",IF(C76=\"\",\"\",IF(Q76=\"\",C78,\"\")))","v":""},null,{"$f":"IF(BE76>NOW(),C78,\"\")","v":""},{"$f":"IF(C76<>\"\",\"\",VLOOKUP(C78,BD:BD,1,FALSE))","v":""},{"$f":"IF(Q76<>\"\",\"\",VLOOKUP(C78,BF:BF,1,FALSE))","v":""},{"$f":"IF(BF77<>\"\",BE76,\"\")","v":""},null,null,null,null,null,null,null,null,null,null,null,{"$f":"IF(VLOOKUP(I77,zawodnicy!A:E,5,FALSE)=0,\"\",C77)","v":""},{"$f":"IF(VLOOKUP(L77,zawodnicy!A:E,5,FALSE)=0,\"\",O77)","v":""},{"$f":"IF((LEN(C76)+LEN(C80)+LEN(L80))=0,I78,\"\")","v":""},{"$f":"IF(LEN(BW77)>0,A76,\"\")","v":""}]
["","",{"$f":"IF(OR(I78=0,I78=\"\"),\"\",VLOOKUP(I78,zawodnicy!$A:$D,2,FALSE)&\" \"&VLOOKUP(I78,zawodnicy!$A:$D,3,FALSE)&\" (\"&VLOOKUP(I78,zawodnicy!$A:$D,4,FALSE)&\")\")","v":""},null,null,null,null,null,{"$f":"IF(TYPE(VLOOKUP(A76,'grup-puch'!$A:$E,3,FALSE))=2,VLOOKUP(A76,'grup-puch'!$A:$E,3,FALSE),IF(TYPE(VLOOKUP(A76,puch!$A:$E,3,FALSE))=2,VLOOKUP(A76,puch!$A:$E,3,FALSE),\"\"))","v":""},null,null,{"$f":"IF(TYPE(VLOOKUP(A76,'grup-puch'!$A:$E,5,FALSE))=2,VLOOKUP(A76,'grup-puch'!$A:$E,5,FALSE),IF(TYPE(VLOOKUP(A76,puch!$A:$E,5,FALSE))=2,VLOOKUP(A76,puch!$A:$E,5,FALSE),\"\"))","v":""},null,null,{"$f":"IF(OR(L78=\"\",L78=0),\"\",VLOOKUP(L78,zawodnicy!$A:$D,2,FALSE)&\" \"&VLOOKUP(L78,zawodnicy!$A:$D,3,FALSE)&\" (\"&VLOOKUP(L78,zawodnicy!$A:$D,4,FALSE)&\")\")","v":""},null,null,null,null,null,"","",null,null,null,null,null,null,null,null,null,null,null,null,null,null,null,null,null,null,null,null,null,null,null,null,null,null,null,null,null,null,null,null,null,{"$f":"IF($T$1=\"\",\"\",IF(C76=\"\",\"\",IF(Q76=\"\",O77,\"\")))","v":""},null,{"$f":"IF(BE76>NOW(),O77,\"\")","v":""},{"$f":"IF(C76<>\"\",\"\",VLOOKUP(O77,BD:BD,1,FALSE))","v":{"$error":"#N/A"}},{"$f":"IF(Q76<>\"\",\"\",VLOOKUP(O77,BF:BF,1,FALSE))","v":"Hanna  Lewandowska (Wesoła)"},{"$f":"IF(BF78<>\"\",BE76,\"\")","v":""},null,null,null,null,null,null,null,null,null,null,null,{"$f":"IF(VLOOKUP(I78,zawodnicy!A:E,5,FALSE)=0,\"\",C78)","v":{"$error":"#N/A"}},{"$f":"IF(VLOOKUP(L78,zawodnicy!A:E,5,FALSE)=0,\"\",O78)","v":{"$error":"#N/A"}},{"$f":"IF((LEN(C76)+LEN(C80)+LEN(L80))=0,L77,\"\")","v":""},{"$f":"IF(LEN(BW78)>0,A76,\"\")","v":""}]
[null,null,null,null,null,null,null,null,null,null,null,null,null,null,null,null,null,null,null,null,null,null,null,null,null,null,null,null,null,null,null,null,null,null,null,null,null,null,null,null,null,null,null,null,null,null,null,null,null,null,null,null,null,null,null,{"$f":"IF($T$1=\"\",\"\",IF(C76=\"\",\"\",IF(Q76=\"\",O78,\"\")))","v":""},null,{"$f":"IF(BE76>NOW(),O78,\"\")","v":""},{"$f":"IF(C76<>\"\",\"\",VLOOKUP(O78,BD:BD,1,FALSE))","v":""},{"$f":"IF(Q76<>\"\",\"\",VLOOKUP(O78,BF:BF,1,FALSE))","v":""},{"$f":"IF(BF79<>\"\",BE76,\"\")","v":""},null,null,null,null,null,null,null,null,null,null,null,null,null,{"$f":"IF((LEN(C76)+LEN(C80)+LEN(L80))=0,L78,\"\")","v":""},{"$f":"IF(LEN(BW79)>0,A76,\"\")","v":""}]
[null,null,{"$f":"IF(I77=\"\",\"\",IF(I77=AF76,\"zwycięzca(cy):\"&\" \"&AH76,\"\"))","v":"zwycięzca(cy): 15:5,15:8"},null,null,null,null,null,null,null,null,{"$f":"IF(L77=\"\",\"\",IF(L77=AF76,\"zwycięzca(cy):\"&\" \"&AH76,\"\"))","v":""}]
[null,null,12,"dzień turnieju.",null,null,null,null,null,"Nr meczu",null,null,null,null,"Godz.",null,null,null,"S. prow.",null,null,null,{"$f":"IF(I83>J83,1,0)+IF(K83>L83,1,0)+IF(M83>N83,1,0)","v":1},{"$f":"IF(J83>I83,1,0)+IF(L83>K83,1,0)+IF(N83>M83,1,0)","v":2},null,null,null,null,null,null,null,null,null,"wygrany","przegrany"]
[null,null,"Boisko","Gra",null,null,null,null,null,{"$f":"A83","v":12},null,null,null,null,"rozp.",null,"zak.",null,"S. serw.",null,null,null,{"$f":"IF(AND(COUNTA(I83,J83)=2,AF83=I84),FIXED(I83,0,TRUE)&\":\"&FIXED(J83,0,TRUE),IF(AND(COUNTA(I83,J83)=2,AF83=L84),FIXED(J83,0,TRUE)&\":\"&FIXED(I83,0,TRUE),\"\"))","v":"12:15"},{"$f":"IF(AND(COUNTA(I83,J83)=2,AF83=I84),FIXED(J83,0,TRUE)&\":\"&FIXED(I83,0,TRUE),IF(AND(COUNTA(I83,J83)=2,AF83=L84),FIXED(I83,0,TRUE)&\":\"&FIXED(J83,0,TRUE),\"\"))","v":"15:12"}]
[12,null,null,{"$f":"IF(TYPE(VLOOKUP(A83,'grup-puch'!$A:$M,13,FALSE))=2,VLOOKUP(A83,'grup-puch'!$A:$M,13,FALSE),IF(TYPE(VLOOKUP(A83,puch!$A:$J,10,FALSE))=2,VLOOKUP(A83,puch!$A:$J,10,FALSE),\"\"))","v":"KLASY 4-6 CHŁOPCY"},null,null,null,null,15,12,8,15,3,15,null,null,null,null,{"$f":"Q83-O83","v":"00:00:00"},{"$f":"IF(VLOOKUP(A83,dane!F:G,2,FALSE)=\"\",\"\",VLOOKUP(A83,dane!F:G,2,FALSE))","v":""},null,null,{"$f":"IF(AND(COUNTA(K83,L83)=2,AF83=I84),\",\"&FIXED(K83,0,TRUE)&\":\"&FIXED(L83,0,TRUE),IF(AND(COUNTA(K83,L83)=2,AF83=L84),\",\"&FIXED(L83,0,TRUE)&\":\"&FIXED(K83,0,TRUE),\"\"))","v":",15:8"},{"$f":"IF(AND(COUNTA(K83,L83)=2,AF83=I84),\",\"&FIXED(L83,0,TRUE)&\":\"&FIXED(K83,0,TRUE),IF(AND(COUNTA(K83,L83)=2,AF83=L84),\",\"&FIXED(K83,0,TRUE)&\":\"&FIXED(L83,0,TRUE),\"\"))","v":",8:15"},null,{"$f":"A83","v":12},{"$f":"IF(ISBLANK(D83),\"\",D83)","v":"KLASY 4-6 CHŁOPCY"},{"$f":"IF(OR(I84=0,I84=\"\"),\"\",I84)","v":"x59"},{"$f":"IF(OR(I85=0,I85=\"\"),\"\",I85)","v":""},{"$f":"IF(OR(L84=0,L84=\"\"),\"\",L84)","v":"x68"},{"$f":"IF(OR(L85=0,L85=\"\"),\"\",L85)","v":""},{"$f":"IF(COUNTA(C86,L86)=1,IF(ISTEXT(C86),I84,L84),IF(OR(I83=\"\",W81=X81),\"\",IF(W81>X81,I84,L84)))","v":"x68"},{"$f":"IF(COUNTA(C86,L86)=1,IF(ISTEXT(C86),I85,L85),IF(OR(I83=\"\",W81=X81),\"\",IF(W81>X81,I85,L85)))","v":""},{"$f":"IF(OR(AF83=I84,AF83=L84),IF(AF83=I84,W82&W83&W84&IF(ISTEXT(C86),\" \"&C86,\"\"),W82&W83&W84&IF(ISTEXT(L86),\" \"&L86,\"\")),\"\")","v":"12:15,15:8,15:3"},{"$f":"IF(OR(AF83=I84,AF83=L84),IF(AF83=I84,X82&X83&X84&IF(ISTEXT(C86),\" \"&C86,\"\"),X82&X83&X84&IF(ISTEXT(L86),\" \"&L86,\"\")),\"\")","v":"15:12,8:15,3:15"},{"$f":"IF(ISBLANK(L86),\"\",L86)","v":""},{"$f":"I83","v":15},{"$f":"J83","v":12},{"$f":"K83","v":8},{"$f":"L83","v":15},{"$f":"M83","v":3},{"$f":"N83","v":15},null,{"$f":"T81","v":0},{"$f":"T82","v":0},{"$f":"IF(OR(AA83=dane!$I$3,AA83=dane!$I$4,AA83=dane!$I$5,AA83=dane!$I$6),AR83,\"\")","v":0},{"$f":"IF(OR(AA83=dane!$I$7,AA83=dane!$I$8,AA83=dane!$I$10,AA83=dane!$I$11),AR83,\"\")","v":""},{"$f":"IF(OR(AA83=dane!$I$12,AA83=dane!$I$13,AA83=dane!$I$14,AA83=dane!$I$15),AR83,\"\")","v":""},{"$f":"IF(OR(AA83=dane!$I$16,AA83=dane!$I$17,AA83=dane!$I$18,AA83=dane!$I$19),AR83,\"\")","v":""},{"$f":"IF(OR(AA83=dane!$I$20,AA83=dane!$I$21,AA83=dane!$I$22,AA83=dane!$I$23),AR83,\"\")","v":""},{"$f":"IF(OR(AA83=dane!$I$3,AA83=dane!$I$4,AA83=dane!$I$5,AA83=dane!$I$6),AS83,\"\")","v":0},{"$f":"IF(OR(AA83=dane!$I$7,AA83=dane!$I$8,AA83=dane!$I$10,AA83=dane!$I$11),AS83,\"\")","v":""},{"$f":"IF(OR(AA83=dane!$I$12,AA83=dane!$I$13,AA83=dane!$I$14,AA83=dane!$I$15),AS83,\"\")","v":""},{"$f":"IF(OR(AA83=dane!$I$16,AA83=dane!$I$17,AA83=dane!$I$18,AA83=dane!$I$19),AS83,\"\")","v":""},{"$f":"IF(OR(AA83=dane!$I$20,AA83=dane!$I$21,AA83=dane!$I$22,AA83=dane!$I$23),AS83,\"\")","v":""},{"$f":"IF($T$1=\"\",\"\",IF(C83=\"\",\"\",IF(Q83=\"\",C84,\"\")))","v":""},{"$f":"IF(LEN(L85)>0,$V$3,$V$2)+Q83+$T$1+C81-1","v":"2014-10-15T00:25:00"},{"$f":"IF(BE83>NOW(),C84,\"\")","v":""},{"$f":"IF(C83<>\"\",\"\",VLOOKUP(C84,BD:BD,1,FALSE))","v":{"$error":"#N/A"}},{"$f":"IF(Q83<>\"\",\"\",VLOOKUP(C84,BF:BF,1,FALSE))","v":"Jakub  Walocha (Ząbki)"},{"$f":"IF(BF83<>\"\",BE83,\"\")","v":""},{"$f":"IF(Q83=\"\",C83,\"\")","v":0},null,null,null,null,null,null,null,null,null,null,null,null,{"$f":"IF((LEN(C83)+LEN(C87)+LEN(L87))=0,I84,\"\")","v":""},{"$f":"IF(LEN(BW83)>0,A83,\"\")","v":""}]
[{"$f":"IF(TYPE(VLOOKUP(C84,BF:BI,4,FALSE))=1,VLOOKUP(C84,BF:BI,4,FALSE),\"\")","v":41958.017361111109},{"$f":"IF(TYPE(VLOOKUP(I84,BW:BX,2,FALSE))=16,\"\",VLOOKUP(I84,BW:BX,2,FALSE))","v":""},{"$f":"IF(I84=\"\",\"\",VLOOKUP(I84,zawodnicy!$A:$D,2,FALSE)&\" \"&VLOOKUP(I84,zawodnicy!$A:$D,3,FALSE)&\" (\"&VLOOKUP(I84,zawodnicy!$A:$D,4,FALSE)&\")\")","v":"Jakub  Walocha (Ząbki)"},null,null,null,null,null,{"$f":"IF(TYPE(VLOOKUP(A83,'grup-puch'!$A:$E,2,FALSE))=2,VLOOKUP(A83,'grup-puch'!$A:$E,2,FALSE),IF(TYPE(VLOOKUP(A83,puch!$A:$E,2,FALSE))=2,VLOOKUP(A83,puch!$A:$E,2,FALSE),\"\"))","v":"x59"},null,null,{"$f":"IF(TYPE(VLOOKUP(A83,'grup-puch'!$A:$E,4,FALSE))=2,VLOOKUP(A83,'grup-puch'!$A:$E,4,FALSE),IF(TYPE(VLOOKUP(A83,puch!$A:$E,4,FALSE))=2,VLOOKUP(A83,puch!$A:$E,4,FALSE),\"\"))","v":"x68"},null,null,{"$f":"IF(L84=\"\",\"\",VLOOKUP(L84,zawodnicy!$A:$D,2,FALSE)&\" \"&VLOOKUP(L84,zawodnicy!$A:$D,3,FALSE)&\" (\"&VLOOKUP(L84,zawodnicy!$A:$D,4,FALSE)&\")\")","v":"Kacper Winek (Garwolin)"},null,null,null,null,null,{"$f":"IF(TYPE(VLOOKUP(L84,BW:BX,2,FALSE))=16,\"\",VLOOKUP(L84,BW:BX,2,FALSE))","v":""},{"$f":"IF(TYPE(VLOOKUP(O84,BF:BI,4,FALSE))=1,VLOOKUP(O84,BF:BI,4,FALSE),\"\")","v":41958.017361111109},{"$f":"IF(AND(COUNTA(M83,N83)=2,AF83=I84),\",\"&FIXED(M83,0,TRUE)&\":\"&FIXED(N83,0,TRUE),IF(AND(COUNTA(M83,N83)=2,AF83=L84),\",\"&FIXED(N83,0,TRUE)&\":\"&FIXED(M83,0,TRUE),\"\"))","v":",15:3"},{"$f":"IF(AND(COUNTA(M83,N83)=2,AF83=I84),\",\"&FIXED(N83,0,TRUE)&\":\"&FIXED(M83,0,TRUE),IF(AND(COUNTA(M83,N83)=2,AF83=L84),\",\"&FIXED(M83,0,TRUE)&\":\"&FIXED(N83,0,TRUE),\"\"))","v":",3:15"},null,null,null,null,null,null,null,null,null,null,null,null,null,null,null,null,null,null,null,null,null,null,null,null,null,null,null,null,null,null,null,{"$f":"IF($T$1=\"\",\"\",IF(C83=\"\",\"\",IF(Q83=\"\",C85,\"\")))","v":""},null,{"$f":"IF(BE83>NOW(),C85,\"\")","v":""},{"$f":"IF(C83<>\"\",\"\",VLOOKUP(C85,BD:BD,1,FALSE))","v":""},{"$f":"IF(Q83<>\"\",\"\",VLOOKUP(C85,BF:BF,1,FALSE))","v":""},{"$f":"IF(BF84<>\"\",BE83,\"\")","v":""},null,null,null,null,null,null,null,null,null,null,null,{"$f":"IF(VLOOKUP(I84,zawodnicy!A:E,5,FALSE)=0,\"\",C84)","v":""},{"$f":"IF(VLOOKUP(L84,zawodnicy!A:E,5,FALSE)=0,\"\",O84)","v":""},{"$f":"IF((LEN(C83)+LEN(C87)+LEN(L87))=0,I85,\"\")","v":""},{"$f":"IF(LEN(BW84)>0,A83,\"\")","v":""}]
["","",{"$f":"IF(OR(I85=0,I85=\"\"),\"\",VLOOKUP(I85,zawodnicy!$A:$D,2,FALSE)&\" \"&VLOOKUP(I85,zawodnicy!$A:$D,3,FALSE)&\" (\"&VLOOKUP(I85,zawodnicy!$A:$D,4,FALSE)&\")\")","v":""},null,null,null,null,null,{"$f":"IF(TYPE(VLOOKUP(A83,'grup-puch'!$A:$E,3,FALSE))=2,VLOOKUP(A83,'grup-puch'!$A:$E,3,FALSE),IF(TYPE(VLOOKUP(A83,puch!$A:$E,3,FALSE))=2,VLOOKUP(A83,puch!$A:$E,3,FALSE),\"\"))","v":""},null,null,{"$f":"IF(TYPE(VLOOKUP(A83,'grup-puch'!$A:$E,5,FALSE))=2,VLOOKUP(A83,'grup-puch'!$A:$E,5,FALSE),IF(TYPE(VLOOKUP(A83,puch!$A:$E,5,FALSE))=2,VLOOKUP(A83,puch!$A:$E,5,FALSE),\"\"))","v":""},null,null,{"$f":"IF(OR(L85=\"\",L85=0),\"\",VLOOKUP(L85,zawodnicy!$A:$D,2,FALSE)&\" \"&VLOOKUP(L85,zawodnicy!$A:$D,3,FALSE)&\" (\"&VLOOKUP(L85,zawodnicy!$A:$D,4,FALSE)&\")\")","v":""},null,null,null,null,null,"","",null,null,null,null,null,null,null,null,null,null,null,null,null,null,null,null,null,null,null,null,null,null,null,null,null,null,null,null,null,null,null,null,null,{"$f":"IF($T$1=\"\",\"\",IF(C83=\"\",\"\",IF(Q83=\"\",O84,\"\")))","v":""},null,{"$f":"IF(BE83>NOW(),O84,\"\")","v":""},{"$f":"IF(C83<>\"\",\"\",VLOOKUP(O84,BD:BD,1,FALSE))","v":{"$error":"#N/A"}},{"$f":"IF(Q83<>\"\",\"\",VLOOKUP(O84,BF:BF,1,FALSE))","v":"Kacper Winek (Garwolin)"},{"$f":"IF(BF85<>\"\",BE83,\"\")","v":""},null,null,null,null,null,null,null,null,null,null,null,{"$f":"IF(VLOOKUP(I85,zawodnicy!A:E,5,FALSE)=0,\"\",C85)","v":{"$error":"#N/A"}},{"$f":"IF(VLOOKUP(L85,zawodnicy!A:E,5,FALSE)=0,\"\",O85)","v":{"$error":"#N/A"}},{"$f":"IF((LEN(C83)+LEN(C87)+LEN(L87))=0,L84,\"\")","v":""},{"$f":"IF(LEN(BW85)>0,A83,\"\")","v":""}]
[null,null,null,null,null,null,null,null,null,null,null,null,null,null,null,null,null,null,null,null,null,null,null,null,null,null,null,null,null,null,null,null,null,null,null,null,null,null,null,null,null,null,null,null,null,null,null,null,null,null,null,null,null,null,null,{"$f":"IF($T$1=\"\",\"\",IF(C83=\"\",\"\",IF(Q83=\"\",O85,\"\")))","v":""},null,{"$f":"IF(BE83>NOW(),O85,\"\")","v":""},{"$f":"IF(C83<>\"\",\"\",VLOOKUP(O85,BD:BD,1,FALSE))","v":""},{"$f":"IF(Q83<>\"\",\"\",VLOOKUP(O85,BF:BF,1,FALSE))","v":""},{"$f":"IF(BF86<>\"\",BE83,\"\")","v":""},null,null,null,null,null,null,null,null,null,null,null,null,null,{"$f":"IF((LEN(C83)+LEN(C87)+LEN(L87))=0,L85,\"\")","v":""},{"$f":"IF(LEN(BW86)>0,A83,\"\")","v":""}]
[null,null,{"$f":"IF(I84=\"\",\"\",IF(I84=AF83,\"zwycięzca(cy):\"&\" \"&AH83,\"\"))","v":""},null,null,null,null,null,null,null,null,{"$f":"IF(L84=\"\",\"\",IF(L84=AF83,\"zwycięzca(cy):\"&\" \"&AH83,\"\"))","v":"zwycięzca(cy): 12:15,15:8,15:3"}]
[null,null,13,"dzień turnieju.",null,null,null,null,null,"Nr meczu",null,null,null,null,"Godz.",null,null,null,"S. prow.",null,null,null,{"$f":"IF(I90>J90,1,0)+IF(K90>L90,1,0)+IF(M90>N90,1,0)","v":0},{"$f":"IF(J90>I90,1,0)+IF(L90>K90,1,0)+IF(N90>M90,1,0)","v":2},null,null,null,null,null,null,null,null,null,"wygrany","przegrany"]
[null,null,"Boisko","Gra",null,null,null,null,null,{"$f":"A90","v":13},null,null,null,null,"rozp.",null,"zak.",null,"S. serw.",null,null,null,{"$f":"IF(AND(COUNTA(I90,J90)=2,AF90=I91),FIXED(I90,0,TRUE)&\":\"&FIXED(J90,0,TRUE),IF(AND(COUNTA(I90,J90)=2,AF90=L91),FIXED(J90,0,TRUE)&\":\"&FIXED(I90,0,TRUE),\"\"))","v":"15:8"},{"$f":"IF(AND(COUNTA(I90,J90)=2,AF90=I91),FIXED(J90,0,TRUE)&\":\"&FIXED(I90,0,TRUE),IF(AND(COUNTA(I90,J90)=2,AF90=L91),FIXED(I90,0,TRUE)&\":\"&FIXED(J90,0,TRUE),\"\"))","v":"8:15"}]
[13,null,null,{"$f":"IF(TYPE(VLOOKUP(A90,'grup-puch'!$A:$M,13,FALSE))=2,VLOOKUP(A90,'grup-puch'!$A:$M,13,FALSE),IF(TYPE(VLOOKUP(A90,puch!$A:$J,10,FALSE))=2,VLOOKUP(A90,puch!$A:$J,10,FALSE),\"\"))","v":"KLASY 4-6 CHŁOPCY"},null,null,null,null,8,15,5,15,null,null,null,null,null,null,{"$f":"Q90-O90","v":"00:00:00"},{"$f":"IF(VLOOKUP(A90,dane!F:G,2,FALSE)=\"\",\"\",VLOOKUP(A90,dane!F:G,2,FALSE))","v":""},null,null,{"$f":"IF(AND(COUNTA(K90,L90)=2,AF90=I91),\",\"&FIXED(K90,0,TRUE)&\":\"&FIXED(L90,0,TRUE),IF(AND(COUNTA(K90,L90)=2,AF90=L91),\",\"&FIXED(L90,0,TRUE)&\":\"&FIXED(K90,0,TRUE),\"\"))","v":",15:5"},{"$f":"IF(AND(COUNTA(K90,L90)=2,AF90=I91),\",\"&FIXED(L90,0,TRUE)&\":\"&FIXED(K90,0,TRUE),IF(AND(COUNTA(K90,L90)=2,AF90=L91),\",\"&FIXED(K90,0,TRUE)&\":\"&FIXED(L90,0,TRUE),\"\"))","v":",5:15"},null,{"$f":"A90","v":13},{"$f":"IF(ISBLANK(D90),\"\",D90)","v":"KLASY 4-6 CHŁOPCY"},{"$f":"IF(OR(I91=0,I91=\"\"),\"\",I91)","v":"x35"},{"$f":"IF(OR(I92=0,I92=\"\"),\"\",I92)","v":""},{"$f":"IF(OR(L91=0,L91=\"\"),\"\",L91)","v":"x33"},{"$f":"IF(OR(L92=0,L92=\"\"),\"\",L92)","v":""},{"$f":"IF(COUNTA(C93,L93)=1,IF(ISTEXT(C93),I91,L91),IF(OR(I90=\"\",W88=X88),\"\",IF(W88>X88,I91,L91)))","v":"x33"},{"$f":"IF(COUNTA(C93,L93)=1,IF(ISTEXT(C93),I92,L92),IF(OR(I90=\"\",W88=X88),\"\",IF(W88>X88,I92,L92)))","v":""},{"$f":"IF(OR(AF90=I91,AF90=L91),IF(AF90=I91,W89&W90&W91&IF(ISTEXT(C93),\" \"&C93,\"\"),W89&W90&W91&IF(ISTEXT(L93),\" \"&L93,\"\")),\"\")","v":"15:8,15:5"},{"$f":"IF(OR(AF90=I91,AF90=L91),IF(AF90=I91,X89&X90&X91&IF(ISTEXT(C93),\" \"&C93,\"\"),X89&X90&X91&IF(ISTEXT(L93),\" \"&L93,\"\")),\"\")","v":"8:15,5:15"},{"$f":"IF(ISBLANK(L93),\"\",L93)","v":""},{"$f":"I90","v":8},{"$f":"J90","v":15},{"$f":"K90","v":5},{"$f":"L90","v":15},{"$f":"M90","v":0},{"$f":"N90","v":0},null,{"$f":"T88","v":0},{"$f":"T89","v":0},{"$f":"IF(OR(AA90=dane!$I$3,AA90=dane!$I$4,AA90=dane!$I$5,AA90=dane!$I$6),AR90,\"\")","v":0},{"$f":"IF(OR(AA90=dane!$I$7,AA90=dane!$I$8,AA90=dane!$I$10,AA90=dane!$I$11),AR90,\"\")","v":""},{"$f":"IF(OR(AA90=dane!$I$12,AA90=dane!$I$13,AA90=dane!$I$14,AA90=dane!$I$15),AR90,\"\")","v":""},{"$f":"IF(OR(AA90=dane!$I$16,AA90=dane!$I$17,AA90=dane!$I$18,AA90=dane!$I$19),AR90,\"\")","v":""},{"$f":"IF(OR(AA90=dane!$I$20,AA90=dane!$I$21,AA90=dane!$I$22,AA90=dane!$I$23),AR90,\"\")","v":""},{"$f":"IF(OR(AA90=dane!$I$3,AA90=dane!$I$4,AA90=dane!$I$5,AA90=dane!$I$6),AS90,\"\")","v":0},{"$f":"IF(OR(AA90=dane!$I$7,AA90=dane!$I$8,AA90=dane!$I$10,AA90=dane!$I$11),AS90,\"\")","v":""},{"$f":"IF(OR(AA90=dane!$I$12,AA90=dane!$I$13,AA90=dane!$I$14,AA90=dane!$I$15),AS90,\"\")","v":""},{"$f":"IF(OR(AA90=dane!$I$16,AA90=dane!$I$17,AA90=dane!$I$18,AA90=dane!$I$19),AS90,\"\")","v":""},{"$f":"IF(OR(AA90=dane!$I$20,AA90=dane!$I$21,AA90=dane!$I$22,AA90=dane!$I$23),AS90,\"\")","v":""},{"$f":"IF($T$1=\"\",\"\",IF(C90=\"\",\"\",IF(Q90=\"\",C91,\"\")))","v":""},{"$f":"IF(LEN(L92)>0,$V$3,$V$2)+Q90+$T$1+C88-1","v":"2014-10-16T00:25:00"},{"$f":"IF(BE90>NOW(),C91,\"\")","v":""},{"$f":"IF(C90<>\"\",\"\",VLOOKUP(C91,BD:BD,1,FALSE))","v":{"$error":"#N/A"}},{"$f":"IF(Q90<>\"\",\"\",VLOOKUP(C91,BF:BF,1,FALSE))","v":{"$error":"#N/A"}},{"$f":"IF(BF90<>\"\",BE90,\"\")","v":""},{"$f":"IF(Q90=\"\",C90,\"\")","v":0},null,null,null,null,null,null,null,null,null,null,null,null,{"$f":"IF((LEN(C90)+LEN(C94)+LEN(L94))=0,I91,\"\")","v":""},{"$f":"IF(LEN(BW90)>0,A90,\"\")","v":""}]
[{"$f":"IF(TYPE(VLOOKUP(C91,BF:BI,4,FALSE))=1,VLOOKUP(C91,BF:BI,4,FALSE),\"\")","v":""},{"$f":"IF(TYPE(VLOOKUP(I91,BW:BX,2,FALSE))=16,\"\",VLOOKUP(I91,BW:BX,2,FALSE))","v":""},{"$f":"IF(I91=\"\",\"\",VLOOKUP(I91,zawodnicy!$A:$D,2,FALSE)&\" \"&VLOOKUP(I91,zawodnicy!$A:$D,3,FALSE)&\" (\"&VLOOKUP(I91,zawodnicy!$A:$D,4,FALSE)&\")\")","v":"Kuba  Niewczas (Ząbki)"},null,null,null,null,null,{"$f":"IF(TYPE(VLOOKUP(A90,'grup-puch'!$A:$E,2,FALSE))=2,VLOOKUP(A90,'grup-puch'!$A:$E,2,FALSE),IF(TYPE(VLOOKUP(A90,puch!$A:$E,2,FALSE))=2,VLOOKUP(A90,puch!$A:$E,2,FALSE),\"\"))","v":"x35"},null,null,{"$f":"IF(TYPE(VLOOKUP(A90,'grup-puch'!$A:$E,4,FALSE))=2,VLOOKUP(A90,'grup-puch'!$A:$E,4,FALSE),IF(TYPE(VLOOKUP(A90,puch!$A:$E,4,FALSE))=2,VLOOKUP(A90,puch!$A:$E,4,FALSE),\"\"))","v":"x33"},null,null,{"$f":"IF(L91=\"\",\"\",VLOOKUP(L91,zawodnicy!$A:$D,2,FALSE)&\" \"&VLOOKUP(L91,zawodnicy!$A:$D,3,FALSE)&\" (\"&VLOOKUP(L91,zawodnicy!$A:$D,4,FALSE)&\")\")","v":"Jakub  Niemirski (Ząbki)"},null,null,null,null,null,{"$f":"IF(TYPE(VLOOKUP(L91,BW:BX,2,FALSE))=16,\"\",VLOOKUP(L91,BW:BX,2,FALSE))","v":""},{"$f":"IF(TYPE(VLOOKUP(O91,BF:BI,4,FALSE))=1,VLOOKUP(O91,BF:BI,4,FALSE),\"\")","v":""},{"$f":"IF(AND(COUNTA(M90,N90)=2,AF90=I91),\",\"&FIXED(M90,0,TRUE)&\":\"&FIXED(N90,0,TRUE),IF(AND(COUNTA(M90,N90)=2,AF90=L91),\",\"&FIXED(N90,0,TRUE)&\":\"&FIXED(M90,0,TRUE),\"\"))","v":""},{"$f":"IF(AND(COUNTA(M90,N90)=2,AF90=I91),\",\"&FIXED(N90,0,TRUE)&\":\"&FIXED(M90,0,TRUE),IF(AND(COUNTA(M90,N90)=2,AF90=L91),\",\"&FIXED(M90,0,TRUE)&\":\"&FIXED(N90,0,TRUE),\"\"))","v":""},null,null,null,null,null,null,null,null,null,null,null,null,null,null,null,null,null,null,null,null,null,null,null,null,null,null,null,null,null,null,null,{"$f":"IF($T$1=\"\",\"\",IF(C90=\"\",\"\",IF(Q90=\"\",C92,\"\")))","v":""},null,{"$f":"IF(BE90>NOW(),C92,\"\")","v":""},{"$f":"IF(C90<>\"\",\"\",VLOOKUP(C92,BD:BD,1,FALSE))","v":""},{"$f":"IF(Q90<>\"\",\"\",VLOOKUP(C92,BF:BF,1,FALSE))","v":""},{"$f":"IF(BF91<>\"\",BE90,\"\")","v":""},null,null,null,null,null,null,null,null,null,null,null,{"$f":"IF(VLOOKUP(I91,zawodnicy!A:E,5,FALSE)=0,\"\",C91)","v":""},{"$f":"IF(VLOOKUP(L91,zawodnicy!A:E,5,FALSE)=0,\"\",O91)","v":""},{"$f":"IF((LEN(C90)+LEN(C94)+LEN(L94))=0,I92,\"\")","v":""},{"$f":"IF(LEN(BW91)>0,A90,\"\")","v":""}]
["","",{"$f":"IF(OR(I92=0,I92=\"\"),\"\",VLOOKUP(I92,zawodnicy!$A:$D,2,FALSE)&\" \"&VLOOKUP(I92,zawodnicy!$A:$D,3,FALSE)&\" (\"&VLOOKUP(I92,zawodnicy!$A:$D,4,FALSE)&\")\")","v":""},null,null,null,null,null,{"$f":"IF(TYPE(VLOOKUP(A90,'grup-puch'!$A:$E,3,FALSE))=2,VLOOKUP(A90,'grup-puch'!$A:$E,3,FALSE),IF(TYPE(VLOOKUP(A90,puch!$A:$E,3,FALSE))=2,VLOOKUP(A90,puch!$A:$E,3,FALSE),\"\"))","v":""},null,null,{"$f":"IF(TYPE(VLOOKUP(A90,'grup-puch'!$A:$E,5,FALSE))=2,VLOOKUP(A90,'grup-puch'!$A:$E,5,FALSE),IF(TYPE(VLOOKUP(A90,puch!$A:$E,5,FALSE))=2,VLOOKUP(A90,puch!$A:$E,5,FALSE),\"\"))","v":""},null,null,{"$f":"IF(OR(L92=\"\",L92=0),\"\",VLOOKUP(L92,zawodnicy!$A:$D,2,FALSE)&\" \"&VLOOKUP(L92,zawodnicy!$A:$D,3,FALSE)&\" (\"&VLOOKUP(L92,zawodnicy!$A:$D,4,FALSE)&\")\")","v":""},null,null,null,null,null,"","",null,null,null,null,null,null,null,null,null,null,null,null,null,null,null,null,null,null,null,null,null,null,null,null,null,null,null,null,null,null,null,null,null,{"$f":"IF($T$1=\"\",\"\",IF(C90=\"\",\"\",IF(Q90=\"\",O91,\"\")))","v":""},null,{"$f":"IF(BE90>NOW(),O91,\"\")","v":""},{"$f":"IF(C90<>\"\",\"\",VLOOKUP(O91,BD:BD,1,FALSE))","v":{"$error":"#N/A"}},{"$f":"IF(Q90<>\"\",\"\",VLOOKUP(O91,BF:BF,1,FALSE))","v":{"$error":"#N/A"}},{"$f":"IF(BF92<>\"\",BE90,\"\")","v":""},null,null,null,null,null,null,null,null,null,null,null,{"$f":"IF(VLOOKUP(I92,zawodnicy!A:E,5,FALSE)=0,\"\",C92)","v":{"$error":"#N/A"}},{"$f":"IF(VLOOKUP(L92,zawodnicy!A:E,5,FALSE)=0,\"\",O92)","v":{"$error":"#N/A"}},{"$f":"IF((LEN(C90)+LEN(C94)+LEN(L94))=0,L91,\"\")","v":""},{"$f":"IF(LEN(BW92)>0,A90,\"\")","v":""}]
[null,null,null,null,null,null,null,null,null,null,null,null,null,null,null,null,null,null,null,null,null,null,null,null,null,null,null,null,null,null,null,null,null,null,null,null,null,null,null,null,null,null,null,null,null,null,null,null,null,null,null,null,null,null,null,{"$f":"IF($T$1=\"\",\"\",IF(C90=\"\",\"\",IF(Q90=\"\",O92,\"\")))","v":""},null,{"$f":"IF(BE90>NOW(),O92,\"\")","v":""},{"$f":"IF(C90<>\"\",\"\",VLOOKUP(O92,BD:BD,1,FALSE))","v":""},{"$f":"IF(Q90<>\"\",\"\",VLOOKUP(O92,BF:BF,1,FALSE))","v":""},{"$f":"IF(BF93<>\"\",BE90,\"\")","v":""},null,null,null,null,null,null,null,null,null,null,null,null,null,{"$f":"IF((LEN(C90)+LEN(C94)+LEN(L94))=0,L92,\"\")","v":""},{"$f":"IF(LEN(BW93)>0,A90,\"\")","v":""}]
[null,null,{"$f":"IF(I91=\"\",\"\",IF(I91=AF90,\"zwycięzca(cy):\"&\" \"&AH90,\"\"))","v":""},null,null,null,null,null,null,null,null,{"$f":"IF(L91=\"\",\"\",IF(L91=AF90,\"zwycięzca(cy):\"&\" \"&AH90,\"\"))","v":"zwycięzca(cy): 15:8,15:5"}]
[null,null,14,"dzień turnieju.",null,null,null,null,null,"Nr meczu",null,null,null,null,"Godz.",null,null,null,"S. prow.",null,null,null,{"$f":"IF(I97>J97,1,0)+IF(K97>L97,1,0)+IF(M97>N97,1,0)","v":2},{"$f":"IF(J97>I97,1,0)+IF(L97>K97,1,0)+IF(N97>M97,1,0)","v":0},null,null,null,null,null,null,null,null,null,"wygrany","przegrany"]
[null,null,"Boisko","Gra",null,null,null,null,null,{"$f":"A97","v":14},null,null,null,null,"rozp.",null,"zak.",null,"S. serw.",null,null,null,{"$f":"IF(AND(COUNTA(I97,J97)=2,AF97=I98),FIXED(I97,0,TRUE)&\":\"&FIXED(J97,0,TRUE),IF(AND(COUNTA(I97,J97)=2,AF97=L98),FIXED(J97,0,TRUE)&\":\"&FIXED(I97,0,TRUE),\"\"))","v":"15:12"},{"$f":"IF(AND(COUNTA(I97,J97)=2,AF97=I98),FIXED(J97,0,TRUE)&\":\"&FIXED(I97,0,TRUE),IF(AND(COUNTA(I97,J97)=2,AF97=L98),FIXED(I97,0,TRUE)&\":\"&FIXED(J97,0,TRUE),\"\"))","v":"12:15"}]
[14,null,null,{"$f":"IF(TYPE(VLOOKUP(A97,'grup-puch'!$A:$M,13,FALSE))=2,VLOOKUP(A97,'grup-puch'!$A:$M,13,FALSE),IF(TYPE(VLOOKUP(A97,puch!$A:$J,10,FALSE))=2,VLOOKUP(A97,puch!$A:$J,10,FALSE),\"\"))","v":"KLASY 4-6 CHŁOPCY"},null,null,null,null,15,12,15,11,null,null,null,null,null,null,{"$f":"Q97-O97","v":"00:00:00"},{"$f":"IF(VLOOKUP(A97,dane!F:G,2,FALSE)=\"\",\"\",VLOOKUP(A97,dane!F:G,2,FALSE))","v":""},null,null,{"$f":"IF(AND(COUNTA(K97,L97)=2,AF97=I98),\",\"&FIXED(K97,0,TRUE)&\":\"&FIXED(L97,0,TRUE),IF(AND(COUNTA(K97,L97)=2,AF97=L98),\",\"&FIXED(L97,0,TRUE)&\":\"&FIXED(K97,0,TRUE),\"\"))","v":",15:11"},{"$f":"IF(AND(COUNTA(K97,L97)=2,AF97=I98),\",\"&FIXED(L97,0,TRUE)&\":\"&FIXED(K97,0,TRUE),IF(AND(COUNTA(K97,L97)=2,AF97=L98),\",\"&FIXED(K97,0,TRUE)&\":\"&FIXED(L97,0,TRUE),\"\"))","v":",11:15"},null,{"$f":"A97","v":14},{"$f":"IF(ISBLANK(D97),\"\",D97)","v":"KLASY 4-6 CHŁOPCY"},{"$f":"IF(OR(I98=0,I98=\"\"),\"\",I98)","v":"x20"},{"$f":"IF(OR(I99=0,I99=\"\"),\"\",I99)","v":""},{"$f":"IF(OR(L98=0,L98=\"\"),\"\",L98)","v":"x66"},{"$f":"IF(OR(L99=0,L99=\"\"),\"\",L99)","v":""},{"$f":"IF(COUNTA(C100,L100)=1,IF(ISTEXT(C100),I98,L98),IF(OR(I97=\"\",W95=X95),\"\",IF(W95>X95,I98,L98)))","v":"x20"},{"$f":"IF(COUNTA(C100,L100)=1,IF(ISTEXT(C100),I99,L99),IF(OR(I97=\"\",W95=X95),\"\",IF(W95>X95,I99,L99)))","v":""},{"$f":"IF(OR(AF97=I98,AF97=L98),IF(AF97=I98,W96&W97&W98&IF(ISTEXT(C100),\" \"&C100,\"\"),W96&W97&W98&IF(ISTEXT(L100),\" \"&L100,\"\")),\"\")","v":"15:12,15:11"},{"$f":"IF(OR(AF97=I98,AF97=L98),IF(AF97=I98,X96&X97&X98&IF(ISTEXT(C100),\" \"&C100,\"\"),X96&X97&X98&IF(ISTEXT(L100),\" \"&L100,\"\")),\"\")","v":"12:15,11:15"},{"$f":"IF(ISBLANK(L100),\"\",L100)","v":""},{"$f":"I97","v":15},{"$f":"J97","v":12},{"$f":"K97","v":15},{"$f":"L97","v":11},{"$f":"M97","v":0},{"$f":"N97","v":0},null,{"$f":"T95","v":0},{"$f":"T96","v":0},{"$f":"IF(OR(AA97=dane!$I$3,AA97=dane!$I$4,AA97=dane!$I$5,AA97=dane!$I$6),AR97,\"\")","v":0},{"$f":"IF(OR(AA97=dane!$I$7,AA97=dane!$I$8,AA97=dane!$I$10,AA97=dane!$I$11),AR97,\"\")","v":""},{"$f":"IF(OR(AA97=dane!$I$12,AA97=dane!$I$13,AA97=dane!$I$14,AA97=dane!$I$15),AR97,\"\")","v":""},{"$f":"IF(OR(AA97=dane!$I$16,AA97=dane!$I$17,AA97=dane!$I$18,AA97=dane!$I$19),AR97,\"\")","v":""},{"$f":"IF(OR(AA97=dane!$I$20,AA97=dane!$I$21,AA97=dane!$I$22,AA97=dane!$I$23),AR97,\"\")","v":""},{"$f":"IF(OR(AA97=dane!$I$3,AA97=dane!$I$4,AA97=dane!$I$5,AA97=dane!$I$6),AS97,\"\")","v":0},{"$f":"IF(OR(AA97=dane!$I$7,AA97=dane!$I$8,AA97=dane!$I$10,AA97=dane!$I$11),AS97,\"\")","v":""},{"$f":"IF(OR(AA97=dane!$I$12,AA97=dane!$I$13,AA97=dane!$I$14,AA97=dane!$I$15),AS97,\"\")","v":""},{"$f":"IF(OR(AA97=dane!$I$16,AA97=dane!$I$17,AA97=dane!$I$18,AA97=dane!$I$19),AS97,\"\")","v":""},{"$f":"IF(OR(AA97=dane!$I$20,AA97=dane!$I$21,AA97=dane!$I$22,AA97=dane!$I$23),AS97,\"\")","v":""},{"$f":"IF($T$1=\"\",\"\",IF(C97=\"\",\"\",IF(Q97=\"\",C98,\"\")))","v":""},{"$f":"IF(LEN(L99)>0,$V$3,$V$2)+Q97+$T$1+C95-1","v":"2014-10-17T00:25:00"},{"$f":"IF(BE97>NOW(),C98,\"\")","v":""},{"$f":"IF(C97<>\"\",\"\",VLOOKUP(C98,BD:BD,1,FALSE))","v":{"$error":"#N/A"}},{"$f":"IF(Q97<>\"\",\"\",VLOOKUP(C98,BF:BF,1,FALSE))","v":"Błażej  Krawczyk (Ząbki)"},{"$f":"IF(BF97<>\"\",BE97,\"\")","v":""},{"$f":"IF(Q97=\"\",C97,\"\")","v":0},null,null,null,null,null,null,null,null,null,null,null,null,{"$f":"IF((LEN(C97)+LEN(C101)+LEN(L101))=0,I98,\"\")","v":""},{"$f":"IF(LEN(BW97)>0,A97,\"\")","v":""}]
[{"$f":"IF(TYPE(VLOOKUP(C98,BF:BI,4,FALSE))=1,VLOOKUP(C98,BF:BI,4,FALSE),\"\")","v":41964.010416666664},{"$f":"IF(TYPE(VLOOKUP(I98,BW:BX,2,FALSE))=16,\"\",VLOOKUP(I98,BW:BX,2,FALSE))","v":""},{"$f":"IF(I98=\"\",\"\",VLOOKUP(I98,zawodnicy!$A:$D,2,FALSE)&\" \"&VLOOKUP(I98,zawodnicy!$A:$D,3,FALSE)&\" (\"&VLOOKUP(I98,zawodnicy!$A:$D,4,FALSE)&\")\")","v":"Błażej  Krawczyk (Ząbki)"},null,null,null,null,null,{"$f":"IF(TYPE(VLOOKUP(A97,'grup-puch'!$A:$E,2,FALSE))=2,VLOOKUP(A97,'grup-puch'!$A:$E,2,FALSE),IF(TYPE(VLOOKUP(A97,puch!$A:$E,2,FALSE))=2,VLOOKUP(A97,puch!$A:$E,2,FALSE),\"\"))","v":"x20"},null,null,{"$f":"IF(TYPE(VLOOKUP(A97,'grup-puch'!$A:$E,4,FALSE))=2,VLOOKUP(A97,'grup-puch'!$A:$E,4,FALSE),IF(TYPE(VLOOKUP(A97,puch!$A:$E,4,FALSE))=2,VLOOKUP(A97,puch!$A:$E,4,FALSE),\"\"))","v":"x66"},null,null,{"$f":"IF(L98=\"\",\"\",VLOOKUP(L98,zawodnicy!$A:$D,2,FALSE)&\" \"&VLOOKUP(L98,zawodnicy!$A:$D,3,FALSE)&\" (\"&VLOOKUP(L98,zawodnicy!$A:$D,4,FALSE)&\")\")","v":"Miłosz  Siepsiak (Wesoła)"},null,null,null,null,null,{"$f":"IF(TYPE(VLOOKUP(L98,BW:BX,2,FALSE))=16,\"\",VLOOKUP(L98,BW:BX,2,FALSE))","v":""},{"$f":"IF(TYPE(VLOOKUP(O98,BF:BI,4,FALSE))=1,VLOOKUP(O98,BF:BI,4,FALSE),\"\")","v":""},{"$f":"IF(AND(COUNTA(M97,N97)=2,AF97=I98),\",\"&FIXED(M97,0,TRUE)&\":\"&FIXED(N97,0,TRUE),IF(AND(COUNTA(M97,N97)=2,AF97=L98),\",\"&FIXED(N97,0,TRUE)&\":\"&FIXED(M97,0,TRUE),\"\"))","v":""},{"$f":"IF(AND(COUNTA(M97,N97)=2,AF97=I98),\",\"&FIXED(N97,0,TRUE)&\":\"&FIXED(M97,0,TRUE),IF(AND(COUNTA(M97,N97)=2,AF97=L98),\",\"&FIXED(M97,0,TRUE)&\":\"&FIXED(N97,0,TRUE),\"\"))","v":""},null,null,null,null,null,null,null,null,null,null,null,null,null,null,null,null,null,null,null,null,null,null,null,null,null,null,null,null,null,null,null,{"$f":"IF($T$1=\"\",\"\",IF(C97=\"\",\"\",IF(Q97=\"\",C99,\"\")))","v":""},null,{"$f":"IF(BE97>NOW(),C99,\"\")","v":""},{"$f":"IF(C97<>\"\",\"\",VLOOKUP(C99,BD:BD,1,FALSE))","v":""},{"$f":"IF(Q97<>\"\",\"\",VLOOKUP(C99,BF:BF,1,FALSE))","v":""},{"$f":"IF(BF98<>\"\",BE97,\"\")","v":""},null,null,null,null,null,null,null,null,null,null,null,{"$f":"IF(VLOOKUP(I98,zawodnicy!A:E,5,FALSE)=0,\"\",C98)","v":""},{"$f":"IF(VLOOKUP(L98,zawodnicy!A:E,5,FALSE)=0,\"\",O98)","v":""},{"$f":"IF((LEN(C97)+LEN(C101)+LEN(L101))=0,I99,\"\")","v":""},{"$f":"IF(LEN(BW98)>0,A97,\"\")","v":""}]
["","",{"$f":"IF(OR(I99=0,I99=\"\"),\"\",VLOOKUP(I99,zawodnicy!$A:$D,2,FALSE)&\" \"&VLOOKUP(I99,zawodnicy!$A:$D,3,FALSE)&\" (\"&VLOOKUP(I99,zawodnicy!$A:$D,4,FALSE)&\")\")","v":""},null,null,null,null,null,{"$f":"IF(TYPE(VLOOKUP(A97,'grup-puch'!$A:$E,3,FALSE))=2,VLOOKUP(A97,'grup-puch'!$A:$E,3,FALSE),IF(TYPE(VLOOKUP(A97,puch!$A:$E,3,FALSE))=2,VLOOKUP(A97,puch!$A:$E,3,FALSE),\"\"))","v":""},null,null,{"$f":"IF(TYPE(VLOOKUP(A97,'grup-puch'!$A:$E,5,FALSE))=2,VLOOKUP(A97,'grup-puch'!$A:$E,5,FALSE),IF(TYPE(VLOOKUP(A97,puch!$A:$E,5,FALSE))=2,VLOOKUP(A97,puch!$A:$E,5,FALSE),\"\"))","v":""},null,null,{"$f":"IF(OR(L99=\"\",L99=0),\"\",VLOOKUP(L99,zawodnicy!$A:$D,2,FALSE)&\" \"&VLOOKUP(L99,zawodnicy!$A:$D,3,FALSE)&\" (\"&VLOOKUP(L99,zawodnicy!$A:$D,4,FALSE)&\")\")","v":""},null,null,null,null,null,"","",null,null,null,null,null,null,null,null,null,null,null,null,null,null,null,null,null,null,null,null,null,null,null,null,null,null,null,null,null,null,null,null,null,{"$f":"IF($T$1=\"\",\"\",IF(C97=\"\",\"\",IF(Q97=\"\",O98,\"\")))","v":""},null,{"$f":"IF(BE97>NOW(),O98,\"\")","v":""},{"$f":"IF(C97<>\"\",\"\",VLOOKUP(O98,BD:BD,1,FALSE))","v":{"$error":"#N/A"}},{"$f":"IF(Q97<>\"\",\"\",VLOOKUP(O98,BF:BF,1,FALSE))","v":{"$error":"#N/A"}},{"$f":"IF(BF99<>\"\",BE97,\"\")","v":""},null,null,null,null,null,null,null,null,null,null,null,{"$f":"IF(VLOOKUP(I99,zawodnicy!A:E,5,FALSE)=0,\"\",C99)","v":{"$error":"#N/A"}},{"$f":"IF(VLOOKUP(L99,zawodnicy!A:E,5,FALSE)=0,\"\",O99)","v":{"$error":"#N/A"}},{"$f":"IF((LEN(C97)+LEN(C101)+LEN(L101))=0,L98,\"\")","v":""},{"$f":"IF(LEN(BW99)>0,A97,\"\")","v":""}]
[null,null,null,null,null,null,null,null,null,null,null,null,null,null,null,null,null,null,null,null,null,null,null,null,null,null,null,null,null,null,null,null,null,null,null,null,null,null,null,null,null,null,null,null,null,null,null,null,null,null,null,null,null,null,null,{"$f":"IF($T$1=\"\",\"\",IF(C97=\"\",\"\",IF(Q97=\"\",O99,\"\")))","v":""},null,{"$f":"IF(BE97>NOW(),O99,\"\")","v":""},{"$f":"IF(C97<>\"\",\"\",VLOOKUP(O99,BD:BD,1,FALSE))","v":""},{"$f":"IF(Q97<>\"\",\"\",VLOOKUP(O99,BF:BF,1,FALSE))","v":""},{"$f":"IF(BF100<>\"\",BE97,\"\")","v":""},null,null,null,null,null,null,null,null,null,null,null,null,null,{"$f":"IF((LEN(C97)+LEN(C101)+LEN(L101))=0,L99,\"\")","v":""},{"$f":"IF(LEN(BW100)>0,A97,\"\")","v":""}]
[null,null,{"$f":"IF(I98=\"\",\"\",IF(I98=AF97,\"zwycięzca(cy):\"&\" \"&AH97,\"\"))","v":"zwycięzca(cy): 15:12,15:11"},null,null,null,null,null,null,null,null,{"$f":"IF(L98=\"\",\"\",IF(L98=AF97,\"zwycięzca(cy):\"&\" \"&AH97,\"\"))","v":""}]
[null,null,15,"dzień turnieju.",null,null,null,null,null,"Nr meczu",null,null,null,null,"Godz.",null,null,null,"S. prow.",null,null,null,{"$f":"IF(I104>J104,1,0)+IF(K104>L104,1,0)+IF(M104>N104,1,0)","v":0},{"$f":"IF(J104>I104,1,0)+IF(L104>K104,1,0)+IF(N104>M104,1,0)","v":2},null,null,null,null,null,null,null,null,null,"wygrany","przegrany"]
[null,null,"Boisko","Gra",null,null,null,null,null,{"$f":"A104","v":15},null,null,null,null,"rozp.",null,"zak.",null,"S. serw.",null,null,null,{"$f":"IF(AND(COUNTA(I104,J104)=2,AF104=I105),FIXED(I104,0,TRUE)&\":\"&FIXED(J104,0,TRUE),IF(AND(COUNTA(I104,J104)=2,AF104=L105),FIXED(J104,0,TRUE)&\":\"&FIXED(I104,0,TRUE),\"\"))","v":"15:13"},{"$f":"IF(AND(COUNTA(I104,J104)=2,AF104=I105),FIXED(J104,0,TRUE)&\":\"&FIXED(I104,0,TRUE),IF(AND(COUNTA(I104,J104)=2,AF104=L105),FIXED(I104,0,TRUE)&\":\"&FIXED(J104,0,TRUE),\"\"))","v":"13:15"}]
[15,null,null,{"$f":"IF(TYPE(VLOOKUP(A104,'grup-puch'!$A:$M,13,FALSE))=2,VLOOKUP(A104,'grup-puch'!$A:$M,13,FALSE),IF(TYPE(VLOOKUP(A104,puch!$A:$J,10,FALSE))=2,VLOOKUP(A104,puch!$A:$J,10,FALSE),\"\"))","v":"KLASY 4-6 CHŁOPCY"},null,null,null,null,13,15,10,15,null,null,null,null,null,null,{"$f":"Q104-O104","v":"00:00:00"},{"$f":"IF(VLOOKUP(A104,dane!F:G,2,FALSE)=\"\",\"\",VLOOKUP(A104,dane!F:G,2,FALSE))","v":""},null,null,{"$f":"IF(AND(COUNTA(K104,L104)=2,AF104=I105),\",\"&FIXED(K104,0,TRUE)&\":\"&FIXED(L104,0,TRUE),IF(AND(COUNTA(K104,L104)=2,AF104=L105),\",\"&FIXED(L104,0,TRUE)&\":\"&FIXED(K104,0,TRUE),\"\"))","v":",15:10"},{"$f":"IF(AND(COUNTA(K104,L104)=2,AF104=I105),\",\"&FIXED(L104,0,TRUE)&\":\"&FIXED(K104,0,TRUE),IF(AND(COUNTA(K104,L104)=2,AF104=L105),\",\"&FIXED(K104,0,TRUE)&\":\"&FIXED(L104,0,TRUE),\"\"))","v":",10:15"},null,{"$f":"A104","v":15},{"$f":"IF(ISBLANK(D104),\"\",D104)","v":"KLASY 4-6 CHŁOPCY"},{"$f":"IF(OR(I105=0,I105=\"\"),\"\",I105)","v":"x69"},{"$f":"IF(OR(I106=0,I106=\"\"),\"\",I106)","v":""},{"$f":"IF(OR(L105=0,L105=\"\"),\"\",L105)","v":"x41"},{"$f":"IF(OR(L106=0,L106=\"\"),\"\",L106)","v":""},{"$f":"IF(COUNTA(C107,L107)=1,IF(ISTEXT(C107),I105,L105),IF(OR(I104=\"\",W102=X102),\"\",IF(W102>X102,I105,L105)))","v":"x41"},{"$f":"IF(COUNTA(C107,L107)=1,IF(ISTEXT(C107),I106,L106),IF(OR(I104=\"\",W102=X102),\"\",IF(W102>X102,I106,L106)))","v":""},{"$f":"IF(OR(AF104=I105,AF104=L105),IF(AF104=I105,W103&W104&W105&IF(ISTEXT(C107),\" \"&C107,\"\"),W103&W104&W105&IF(ISTEXT(L107),\" \"&L107,\"\")),\"\")","v":"15:13,15:10"},{"$f":"IF(OR(AF104=I105,AF104=L105),IF(AF104=I105,X103&X104&X105&IF(ISTEXT(C107),\" \"&C107,\"\"),X103&X104&X105&IF(ISTEXT(L107),\" \"&L107,\"\")),\"\")","v":"13:15,10:15"},{"$f":"IF(ISBLANK(L107),\"\",L107)","v":""},{"$f":"I104","v":13},{"$f":"J104","v":15},{"$f":"K104","v":10},{"$f":"L104","v":15},{"$f":"M104","v":0},{"$f":"N104","v":0},null,{"$f":"T102","v":0},{"$f":"T103","v":0},{"$f":"IF(OR(AA104=dane!$I$3,AA104=dane!$I$4,AA104=dane!$I$5,AA104=dane!$I$6),AR104,\"\")","v":0},{"$f":"IF(OR(AA104=dane!$I$7,AA104=dane!$I$8,AA104=dane!$I$10,AA104=dane!$I$11),AR104,\"\")","v":""},{"$f":"IF(OR(AA104=dane!$I$12,AA104=dane!$I$13,AA104=dane!$I$14,AA104=dane!$I$15),AR104,\"\")","v":""},{"$f":"IF(OR(AA104=dane!$I$16,AA104=dane!$I$17,AA104=dane!$I$18,AA104=dane!$I$19),AR104,\"\")","v":""},{"$f":"IF(OR(AA104=dane!$I$20,AA104=dane!$I$21,AA104=dane!$I$22,AA104=dane!$I$23),AR104,\"\")","v":""},{"$f":"IF(OR(AA104=dane!$I$3,AA104=dane!$I$4,AA104=dane!$I$5,AA104=dane!$I$6),AS104,\"\")","v":0},{"$f":"IF(OR(AA104=dane!$I$7,AA104=dane!$I$8,AA104=dane!$I$10,AA104=dane!$I$11),AS104,\"\")","v":""},{"$f":"IF(OR(AA104=dane!$I$12,AA104=dane!$I$13,AA104=dane!$I$14,AA104=dane!$I$15),AS104,\"\")","v":""},{"$f":"IF(OR(AA104=dane!$I$16,AA104=dane!$I$17,AA104=dane!$I$18,AA104=dane!$I$19),AS104,\"\")","v":""},{"$f":"IF(OR(AA104=dane!$I$20,AA104=dane!$I$21,AA104=dane!$I$22,AA104=dane!$I$23),AS104,\"\")","v":""},{"$f":"IF($T$1=\"\",\"\",IF(C104=\"\",\"\",IF(Q104=\"\",C105,\"\")))","v":""},{"$f":"IF(LEN(L106)>0,$V$3,$V$2)+Q104+$T$1+C102-1","v":"2014-10-18T00:25:00"},{"$f":"IF(BE104>NOW(),C105,\"\")","v":""},{"$f":"IF(C104<>\"\",\"\",VLOOKUP(C105,BD:BD,1,FALSE))","v":{"$error":"#N/A"}},{"$f":"IF(Q104<>\"\",\"\",VLOOKUP(C105,BF:BF,1,FALSE))","v":"Ela  Przybysz (Garwolin)"},{"$f":"IF(BF104<>\"\",BE104,\"\")","v":""},{"$f":"IF(Q104=\"\",C104,\"\")","v":0},null,null,null,null,null,null,null,null,null,null,null,null,{"$f":"IF((LEN(C104)+LEN(C108)+LEN(L108))=0,I105,\"\")","v":""},{"$f":"IF(LEN(BW104)>0,A104,\"\")","v":""}]
[{"$f":"IF(TYPE(VLOOKUP(C105,BF:BI,4,FALSE))=1,VLOOKUP(C105,BF:BI,4,FALSE),\"\")","v":41962.010416666664},{"$f":"IF(TYPE(VLOOKUP(I105,BW:BX,2,FALSE))=16,\"\",VLOOKUP(I105,BW:BX,2,FALSE))","v":""},{"$f":"IF(I105=\"\",\"\",VLOOKUP(I105,zawodnicy!$A:$D,2,FALSE)&\" \"&VLOOKUP(I105,zawodnicy!$A:$D,3,FALSE)&\" (\"&VLOOKUP(I105,zawodnicy!$A:$D,4,FALSE)&\")\")","v":"Ela  Przybysz (Garwolin)"},null,null,null,null,null,{"$f":"IF(TYPE(VLOOKUP(A104,'grup-puch'!$A:$E,2,FALSE))=2,VLOOKUP(A104,'grup-puch'!$A:$E,2,FALSE),IF(TYPE(VLOOKUP(A104,puch!$A:$E,2,FALSE))=2,VLOOKUP(A104,puch!$A:$E,2,FALSE),\"\"))","v":"x69"},null,null,{"$f":"IF(TYPE(VLOOKUP(A104,'grup-puch'!$A:$E,4,FALSE))=2,VLOOKUP(A104,'grup-puch'!$A:$E,4,FALSE),IF(TYPE(VLOOKUP(A104,puch!$A:$E,4,FALSE))=2,VLOOKUP(A104,puch!$A:$E,4,FALSE),\"\"))","v":"x41"},null,null,{"$f":"IF(L105=\"\",\"\",VLOOKUP(L105,zawodnicy!$A:$D,2,FALSE)&\" \"&VLOOKUP(L105,zawodnicy!$A:$D,3,FALSE)&\" (\"&VLOOKUP(L105,zawodnicy!$A:$D,4,FALSE)&\")\")","v":"Ignacy Repiński (Marki)"},null,null,null,null,null,{"$f":"IF(TYPE(VLOOKUP(L105,BW:BX,2,FALSE))=16,\"\",VLOOKUP(L105,BW:BX,2,FALSE))","v":""},{"$f":"IF(TYPE(VLOOKUP(O105,BF:BI,4,FALSE))=1,VLOOKUP(O105,BF:BI,4,FALSE),\"\")","v":41964.010416666664},{"$f":"IF(AND(COUNTA(M104,N104)=2,AF104=I105),\",\"&FIXED(M104,0,TRUE)&\":\"&FIXED(N104,0,TRUE),IF(AND(COUNTA(M104,N104)=2,AF104=L105),\",\"&FIXED(N104,0,TRUE)&\":\"&FIXED(M104,0,TRUE),\"\"))","v":""},{"$f":"IF(AND(COUNTA(M104,N104)=2,AF104=I105),\",\"&FIXED(N104,0,TRUE)&\":\"&FIXED(M104,0,TRUE),IF(AND(COUNTA(M104,N104)=2,AF104=L105),\",\"&FIXED(M104,0,TRUE)&\":\"&FIXED(N104,0,TRUE),\"\"))","v":""},null,null,null,null,null,null,null,null,null,null,null,null,null,null,null,null,null,null,null,null,null,null,null,null,null,null,null,null,null,null,null,{"$f":"IF($T$1=\"\",\"\",IF(C104=\"\",\"\",IF(Q104=\"\",C106,\"\")))","v":""},null,{"$f":"IF(BE104>NOW(),C106,\"\")","v":""},{"$f":"IF(C104<>\"\",\"\",VLOOKUP(C106,BD:BD,1,FALSE))","v":""},{"$f":"IF(Q104<>\"\",\"\",VLOOKUP(C106,BF:BF,1,FALSE))","v":""},{"$f":"IF(BF105<>\"\",BE104,\"\")","v":""},null,null,null,null,null,null,null,null,null,null,null,{"$f":"IF(VLOOKUP(I105,zawodnicy!A:E,5,FALSE)=0,\"\",C105)","v":""},{"$f":"IF(VLOOKUP(L105,zawodnicy!A:E,5,FALSE)=0,\"\",O105)","v":""},{"$f":"IF((LEN(C104)+LEN(C108)+LEN(L108))=0,I106,\"\")","v":""},{"$f":"IF(LEN(BW105)>0,A104,\"\")","v":""}]
["","",{"$f":"IF(OR(I106=0,I106=\"\"),\"\",VLOOKUP(I106,zawodnicy!$A:$D,2,FALSE)&\" \"&VLOOKUP(I106,zawodnicy!$A:$D,3,FALSE)&\" (\"&VLOOKUP(I106,zawodnicy!$A:$D,4,FALSE)&\")\")","v":""},null,null,null,null,null,{"$f":"IF(TYPE(VLOOKUP(A104,'grup-puch'!$A:$E,3,FALSE))=2,VLOOKUP(A104,'grup-puch'!$A:$E,3,FALSE),IF(TYPE(VLOOKUP(A104,puch!$A:$E,3,FALSE))=2,VLOOKUP(A104,puch!$A:$E,3,FALSE),\"\"))","v":""},null,null,{"$f":"IF(TYPE(VLOOKUP(A104,'grup-puch'!$A:$E,5,FALSE))=2,VLOOKUP(A104,'grup-puch'!$A:$E,5,FALSE),IF(TYPE(VLOOKUP(A104,puch!$A:$E,5,FALSE))=2,VLOOKUP(A104,puch!$A:$E,5,FALSE),\"\"))","v":""},null,null,{"$f":"IF(OR(L106=\"\",L106=0),\"\",VLOOKUP(L106,zawodnicy!$A:$D,2,FALSE)&\" \"&VLOOKUP(L106,zawodnicy!$A:$D,3,FALSE)&\" (\"&VLOOKUP(L106,zawodnicy!$A:$D,4,FALSE)&\")\")","v":""},null,null,null,null,null,"","",null,null,null,null,null,null,null,null,null,null,null,null,null,null,null,null,null,null,null,null,null,null,null,null,null,null,null,null,null,null,null,null,null,{"$f":"IF($T$1=\"\",\"\",IF(C104=\"\",\"\",IF(Q104=\"\",O105,\"\")))","v":""},null,{"$f":"IF(BE104>NOW(),O105,\"\")","v":""},{"$f":"IF(C104<>\"\",\"\",VLOOKUP(O105,BD:BD,1,FALSE))","v":{"$error":"#N/A"}},{"$f":"IF(Q104<>\"\",\"\",VLOOKUP(O105,BF:BF,1,FALSE))","v":"Ignacy Repiński (Marki)"},{"$f":"IF(BF106<>\"\",BE104,\"\")","v":""},null,null,null,null,null,null,null,null,null,null,null,{"$f":"IF(VLOOKUP(I106,zawodnicy!A:E,5,FALSE)=0,\"\",C106)","v":{"$error":"#N/A"}},{"$f":"IF(VLOOKUP(L106,zawodnicy!A:E,5,FALSE)=0,\"\",O106)","v":{"$error":"#N/A"}},{"$f":"IF((LEN(C104)+LEN(C108)+LEN(L108))=0,L105,\"\")","v":""},{"$f":"IF(LEN(BW106)>0,A104,\"\")","v":""}]
[null,null,null,null,null,null,null,null,null,null,null,null,null,null,null,null,null,null,null,null,null,null,null,null,null,null,null,null,null,null,null,null,null,null,null,null,null,null,null,null,null,null,null,null,null,null,null,null,null,null,null,null,null,null,null,{"$f":"IF($T$1=\"\",\"\",IF(C104=\"\",\"\",IF(Q104=\"\",O106,\"\")))","v":""},null,{"$f":"IF(BE104>NOW(),O106,\"\")","v":""},{"$f":"IF(C104<>\"\",\"\",VLOOKUP(O106,BD:BD,1,FALSE))","v":""},{"$f":"IF(Q104<>\"\",\"\",VLOOKUP(O106,BF:BF,1,FALSE))","v":""},{"$f":"IF(BF107<>\"\",BE104,\"\")","v":""},null,null,null,null,null,null,null,null,null,null,null,null,null,{"$f":"IF((LEN(C104)+LEN(C108)+LEN(L108))=0,L106,\"\")","v":""},{"$f":"IF(LEN(BW107)>0,A104,\"\")","v":""}]
[null,null,{"$f":"IF(I105=\"\",\"\",IF(I105=AF104,\"zwycięzca(cy):\"&\" \"&AH104,\"\"))","v":""},null,null,null,null,null,null,null,null,{"$f":"IF(L105=\"\",\"\",IF(L105=AF104,\"zwycięzca(cy):\"&\" \"&AH104,\"\"))","v":"zwycięzca(cy): 15:13,15:10"}]
[null,null,16,"dzień turnieju.",null,null,null,null,null,"Nr meczu",null,null,null,null,"Godz.",null,null,null,"S. prow.",null,null,null,{"$f":"IF(I111>J111,1,0)+IF(K111>L111,1,0)+IF(M111>N111,1,0)","v":2},{"$f":"IF(J111>I111,1,0)+IF(L111>K111,1,0)+IF(N111>M111,1,0)","v":1},null,null,null,null,null,null,null,null,null,"wygrany","przegrany"]
[null,null,"Boisko","Gra",null,null,null,null,null,{"$f":"A111","v":16},null,null,null,null,"rozp.",null,"zak.",null,"S. serw.",null,null,null,{"$f":"IF(AND(COUNTA(I111,J111)=2,AF111=I112),FIXED(I111,0,TRUE)&\":\"&FIXED(J111,0,TRUE),IF(AND(COUNTA(I111,J111)=2,AF111=L112),FIXED(J111,0,TRUE)&\":\"&FIXED(I111,0,TRUE),\"\"))","v":"15:10"},{"$f":"IF(AND(COUNTA(I111,J111)=2,AF111=I112),FIXED(J111,0,TRUE)&\":\"&FIXED(I111,0,TRUE),IF(AND(COUNTA(I111,J111)=2,AF111=L112),FIXED(I111,0,TRUE)&\":\"&FIXED(J111,0,TRUE),\"\"))","v":"10:15"}]
[16,null,null,{"$f":"IF(TYPE(VLOOKUP(A111,'grup-puch'!$A:$M,13,FALSE))=2,VLOOKUP(A111,'grup-puch'!$A:$M,13,FALSE),IF(TYPE(VLOOKUP(A111,puch!$A:$J,10,FALSE))=2,VLOOKUP(A111,puch!$A:$J,10,FALSE),\"\"))","v":"GIMNAZJUM DZIEWCZĘTA"},null,null,null,null,15,10,13,15,15,3,null,null,null,null,{"$f":"Q111-O111","v":"00:00:00"},{"$f":"IF(VLOOKUP(A111,dane!F:G,2,FALSE)=\"\",\"\",VLOOKUP(A111,dane!F:G,2,FALSE))","v":""},null,null,{"$f":"IF(AND(COUNTA(K111,L111)=2,AF111=I112),\",\"&FIXED(K111,0,TRUE)&\":\"&FIXED(L111,0,TRUE),IF(AND(COUNTA(K111,L111)=2,AF111=L112),\",\"&FIXED(L111,0,TRUE)&\":\"&FIXED(K111,0,TRUE),\"\"))","v":",13:15"},{"$f":"IF(AND(COUNTA(K111,L111)=2,AF111=I112),\",\"&FIXED(L111,0,TRUE)&\":\"&FIXED(K111,0,TRUE),IF(AND(COUNTA(K111,L111)=2,AF111=L112),\",\"&FIXED(K111,0,TRUE)&\":\"&FIXED(L111,0,TRUE),\"\"))","v":",15:13"},null,{"$f":"A111","v":16},{"$f":"IF(ISBLANK(D111),\"\",D111)","v":"GIMNAZJUM DZIEWCZĘTA"},{"$f":"IF(OR(I112=0,I112=\"\"),\"\",I112)","v":"x38"},{"$f":"IF(OR(I113=0,I113=\"\"),\"\",I113)","v":""},{"$f":"IF(OR(L112=0,L112=\"\"),\"\",L112)","v":"x24"},{"$f":"IF(OR(L113=0,L113=\"\"),\"\",L113)","v":""},{"$f":"IF(COUNTA(C114,L114)=1,IF(ISTEXT(C114),I112,L112),IF(OR(I111=\"\",W109=X109),\"\",IF(W109>X109,I112,L112)))","v":"x38"},{"$f":"IF(COUNTA(C114,L114)=1,IF(ISTEXT(C114),I113,L113),IF(OR(I111=\"\",W109=X109),\"\",IF(W109>X109,I113,L113)))","v":""},{"$f":"IF(OR(AF111=I112,AF111=L112),IF(AF111=I112,W110&W111&W112&IF(ISTEXT(C114),\" \"&C114,\"\"),W110&W111&W112&IF(ISTEXT(L114),\" \"&L114,\"\")),\"\")","v":"15:10,13:15,15:3"},{"$f":"IF(OR(AF111=I112,AF111=L112),IF(AF111=I112,X110&X111&X112&IF(ISTEXT(C114),\" \"&C114,\"\"),X110&X111&X112&IF(ISTEXT(L114),\" \"&L114,\"\")),\"\")","v":"10:15,15:13,3:15"},{"$f":"IF(ISBLANK(L114),\"\",L114)","v":""},{"$f":"I111","v":15},{"$f":"J111","v":10},{"$f":"K111","v":13},{"$f":"L111","v":15},{"$f":"M111","v":15},{"$f":"N111","v":3},null,{"$f":"T109","v":0},{"$f":"T110","v":0},{"$f":"IF(OR(AA111=dane!$I$3,AA111=dane!$I$4,AA111=dane!$I$5,AA111=dane!$I$6),AR111,\"\")","v":""},{"$f":"IF(OR(AA111=dane!$I$7,AA111=dane!$I$8,AA111=dane!$I$10,AA111=dane!$I$11),AR111,\"\")","v":0},{"$f":"IF(OR(AA111=dane!$I$12,AA111=dane!$I$13,AA111=dane!$I$14,AA111=dane!$I$15),AR111,\"\")","v":""},{"$f":"IF(OR(AA111=dane!$I$16,AA111=dane!$I$17,AA111=dane!$I$18,AA111=dane!$I$19),AR111,\"\")","v":""},{"$f":"IF(OR(AA111=dane!$I$20,AA111=dane!$I$21,AA111=dane!$I$22,AA111=dane!$I$23),AR111,\"\")","v":""},{"$f":"IF(OR(AA111=dane!$I$3,AA111=dane!$I$4,AA111=dane!$I$5,AA111=dane!$I$6),AS111,\"\")","v":""},{"$f":"IF(OR(AA111=dane!$I$7,AA111=dane!$I$8,AA111=dane!$I$10,AA111=dane!$I$11),AS111,\"\")","v":0},{"$f":"IF(OR(AA111=dane!$I$12,AA111=dane!$I$13,AA111=dane!$I$14,AA111=dane!$I$15),AS111,\"\")","v":""},{"$f":"IF(OR(AA111=dane!$I$16,AA111=dane!$I$17,AA111=dane!$I$18,AA111=dane!$I$19),AS111,\"\")","v":""},{"$f":"IF(OR(AA111=dane!$I$20,AA111=dane!$I$21,AA111=dane!$I$22,AA111=dane!$I$23),AS111,\"\")","v":""},{"$f":"IF($T$1=\"\",\"\",IF(C111=\"\",\"\",IF(Q111=\"\",C112,\"\")))","v":""},{"$f":"IF(LEN(L113)>0,$V$3,$V$2)+Q111+$T$1+C109-1","v":"2014-10-19T00:25:00"},{"$f":"IF(BE111>NOW(),C112,\"\")","v":""},{"$f":"IF(C111<>\"\",\"\",VLOOKUP(C112,BD:BD,1,FALSE))","v":{"$error":"#N/A"}},{"$f":"IF(Q111<>\"\",\"\",VLOOKUP(C112,BF:BF,1,FALSE))","v":"Iza Pomykała (Marki)"},{"$f":"IF(BF111<>\"\",BE111,\"\")","v":""},{"$f":"IF(Q111=\"\",C111,\"\")","v":0},null,null,null,null,null,null,null,null,null,null,null,null,{"$f":"IF((LEN(C111)+LEN(C115)+LEN(L115))=0,I112,\"\")","v":""},{"$f":"IF(LEN(BW111)>0,A111,\"\")","v":""}]
[{"$f":"IF(TYPE(VLOOKUP(C112,BF:BI,4,FALSE))=1,VLOOKUP(C112,BF:BI,4,FALSE),\"\")","v":41962.010416666664},{"$f":"IF(TYPE(VLOOKUP(I112,BW:BX,2,FALSE))=16,\"\",VLOOKUP(I112,BW:BX,2,FALSE))","v":""},{"$f":"IF(I112=\"\",\"\",VLOOKUP(I112,zawodnicy!$A:$D,2,FALSE)&\" \"&VLOOKUP(I112,zawodnicy!$A:$D,3,FALSE)&\" (\"&VLOOKUP(I112,zawodnicy!$A:$D,4,FALSE)&\")\")","v":"Iza Pomykała (Marki)"},null,null,null,null,null,{"$f":"IF(TYPE(VLOOKUP(A111,'grup-puch'!$A:$E,2,FALSE))=2,VLOOKUP(A111,'grup-puch'!$A:$E,2,FALSE),IF(TYPE(VLOOKUP(A111,puch!$A:$E,2,FALSE))=2,VLOOKUP(A111,puch!$A:$E,2,FALSE),\"\"))","v":"x38"},null,null,{"$f":"IF(TYPE(VLOOKUP(A111,'grup-puch'!$A:$E,4,FALSE))=2,VLOOKUP(A111,'grup-puch'!$A:$E,4,FALSE),IF(TYPE(VLOOKUP(A111,puch!$A:$E,4,FALSE))=2,VLOOKUP(A111,puch!$A:$E,4,FALSE),\"\"))","v":"x24"},null,null,{"$f":"IF(L112=\"\",\"\",VLOOKUP(L112,zawodnicy!$A:$D,2,FALSE)&\" \"&VLOOKUP(L112,zawodnicy!$A:$D,3,FALSE)&\" (\"&VLOOKUP(L112,zawodnicy!$A:$D,4,FALSE)&\")\")","v":"Karolina Łukomska (Zielonka)"},null,null,null,null,null,{"$f":"IF(TYPE(VLOOKUP(L112,BW:BX,2,FALSE))=16,\"\",VLOOKUP(L112,BW:BX,2,FALSE))","v":""},{"$f":"IF(TYPE(VLOOKUP(O112,BF:BI,4,FALSE))=1,VLOOKUP(O112,BF:BI,4,FALSE),\"\")","v":41964.010416666664},{"$f":"IF(AND(COUNTA(M111,N111)=2,AF111=I112),\",\"&FIXED(M111,0,TRUE)&\":\"&FIXED(N111,0,TRUE),IF(AND(COUNTA(M111,N111)=2,AF111=L112),\",\"&FIXED(N111,0,TRUE)&\":\"&FIXED(M111,0,TRUE),\"\"))","v":",15:3"},{"$f":"IF(AND(COUNTA(M111,N111)=2,AF111=I112),\",\"&FIXED(N111,0,TRUE)&\":\"&FIXED(M111,0,TRUE),IF(AND(COUNTA(M111,N111)=2,AF111=L112),\",\"&FIXED(M111,0,TRUE)&\":\"&FIXED(N111,0,TRUE),\"\"))","v":",3:15"},null,null,null,null,null,null,null,null,null,null,null,null,null,null,null,null,null,null,null,null,null,null,null,null,null,null,null,null,null,null,null,{"$f":"IF($T$1=\"\",\"\",IF(C111=\"\",\"\",IF(Q111=\"\",C113,\"\")))","v":""},null,{"$f":"IF(BE111>NOW(),C113,\"\")","v":""},{"$f":"IF(C111<>\"\",\"\",VLOOKUP(C113,BD:BD,1,FALSE))","v":""},{"$f":"IF(Q111<>\"\",\"\",VLOOKUP(C113,BF:BF,1,FALSE))","v":""},{"$f":"IF(BF112<>\"\",BE111,\"\")","v":""},null,null,null,null,null,null,null,null,null,null,null,{"$f":"IF(VLOOKUP(I112,zawodnicy!A:E,5,FALSE)=0,\"\",C112)","v":""},{"$f":"IF(VLOOKUP(L112,zawodnicy!A:E,5,FALSE)=0,\"\",O112)","v":""},{"$f":"IF((LEN(C111)+LEN(C115)+LEN(L115))=0,I113,\"\")","v":""},{"$f":"IF(LEN(BW112)>0,A111,\"\")","v":""}]
["","",{"$f":"IF(OR(I113=0,I113=\"\"),\"\",VLOOKUP(I113,zawodnicy!$A:$D,2,FALSE)&\" \"&VLOOKUP(I113,zawodnicy!$A:$D,3,FALSE)&\" (\"&VLOOKUP(I113,zawodnicy!$A:$D,4,FALSE)&\")\")","v":""},null,null,null,null,null,{"$f":"IF(TYPE(VLOOKUP(A111,'grup-puch'!$A:$E,3,FALSE))=2,VLOOKUP(A111,'grup-puch'!$A:$E,3,FALSE),IF(TYPE(VLOOKUP(A111,puch!$A:$E,3,FALSE))=2,VLOOKUP(A111,puch!$A:$E,3,FALSE),\"\"))","v":""},null,null,{"$f":"IF(TYPE(VLOOKUP(A111,'grup-puch'!$A:$E,5,FALSE))=2,VLOOKUP(A111,'grup-puch'!$A:$E,5,FALSE),IF(TYPE(VLOOKUP(A111,puch!$A:$E,5,FALSE))=2,VLOOKUP(A111,puch!$A:$E,5,FALSE),\"\"))","v":""},null,null,{"$f":"IF(OR(L113=\"\",L113=0),\"\",VLOOKUP(L113,zawodnicy!$A:$D,2,FALSE)&\" \"&VLOOKUP(L113,zawodnicy!$A:$D,3,FALSE)&\" (\"&VLOOKUP(L113,zawodnicy!$A:$D,4,FALSE)&\")\")","v":""},null,null,null,null,null,"","",null,null,null,null,null,null,null,null,null,null,null,null,null,null,null,null,null,null,null,null,null,null,null,null,null,null,null,null,null,null,null,null,null,{"$f":"IF($T$1=\"\",\"\",IF(C111=\"\",\"\",IF(Q111=\"\",O112,\"\")))","v":""},null,{"$f":"IF(BE111>NOW(),O112,\"\")","v":""},{"$f":"IF(C111<>\"\",\"\",VLOOKUP(O112,BD:BD,1,FALSE))","v":{"$error":"#N/A"}},{"$f":"IF(Q111<>\"\",\"\",VLOOKUP(O112,BF:BF,1,FALSE))","v":"Karolina Łukomska (Zielonka)"},{"$f":"IF(BF113<>\"\",BE111,\"\")","v":""},null,null,null,null,null,null,null,null,null,null,null,{"$f":"IF(VLOOKUP(I113,zawodnicy!A:E,5,FALSE)=0,\"\",C113)","v":{"$error":"#N/A"}},{"$f":"IF(VLOOKUP(L113,zawodnicy!A:E,5,FALSE)=0,\"\",O113)","v":{"$error":"#N/A"}},{"$f":"IF((LEN(C111)+LEN(C115)+LEN(L115))=0,L112,\"\")","v":""},{"$f":"IF(LEN(BW113)>0,A111,\"\")","v":""}]
[null,null,null,null,null,null,null,null,null,null,null,null,null,null,null,null,null,null,null,null,null,null,null,null,null,null,null,null,null,null,null,null,null,null,null,null,null,null,null,null,null,null,null,null,null,null,null,null,null,null,null,null,null,null,null,{"$f":"IF($T$1=\"\",\"\",IF(C111=\"\",\"\",IF(Q111=\"\",O113,\"\")))","v":""},null,{"$f":"IF(BE111>NOW(),O113,\"\")","v":""},{"$f":"IF(C111<>\"\",\"\",VLOOKUP(O113,BD:BD,1,FALSE))","v":""},{"$f":"IF(Q111<>\"\",\"\",VLOOKUP(O113,BF:BF,1,FALSE))","v":""},{"$f":"IF(BF114<>\"\",BE111,\"\")","v":""},null,null,null,null,null,null,null,null,null,null,null,null,null,{"$f":"IF((LEN(C111)+LEN(C115)+LEN(L115))=0,L113,\"\")","v":""},{"$f":"IF(LEN(BW114)>0,A111,\"\")","v":""}]
[null,null,{"$f":"IF(I112=\"\",\"\",IF(I112=AF111,\"zwycięzca(cy):\"&\" \"&AH111,\"\"))","v":"zwycięzca(cy): 15:10,13:15,15:3"},null,null,null,null,null,null,null,null,{"$f":"IF(L112=\"\",\"\",IF(L112=AF111,\"zwycięzca(cy):\"&\" \"&AH111,\"\"))","v":""}]
[null,null,17,"dzień turnieju.",null,null,null,null,null,"Nr meczu",null,null,null,null,"Godz.",null,null,null,"S. prow.",null,null,null,{"$f":"IF(I118>J118,1,0)+IF(K118>L118,1,0)+IF(M118>N118,1,0)","v":2},{"$f":"IF(J118>I118,1,0)+IF(L118>K118,1,0)+IF(N118>M118,1,0)","v":0},null,null,null,null,null,null,null,null,null,"wygrany","przegrany"]
[null,null,"Boisko","Gra",null,null,null,null,null,{"$f":"A118","v":17},null,null,null,null,"rozp.",null,"zak.",null,"S. serw.",null,null,null,{"$f":"IF(AND(COUNTA(I118,J118)=2,AF118=I119),FIXED(I118,0,TRUE)&\":\"&FIXED(J118,0,TRUE),IF(AND(COUNTA(I118,J118)=2,AF118=L119),FIXED(J118,0,TRUE)&\":\"&FIXED(I118,0,TRUE),\"\"))","v":"15:10"},{"$f":"IF(AND(COUNTA(I118,J118)=2,AF118=I119),FIXED(J118,0,TRUE)&\":\"&FIXED(I118,0,TRUE),IF(AND(COUNTA(I118,J118)=2,AF118=L119),FIXED(I118,0,TRUE)&\":\"&FIXED(J118,0,TRUE),\"\"))","v":"10:15"}]
[17,null,null,{"$f":"IF(TYPE(VLOOKUP(A118,'grup-puch'!$A:$M,13,FALSE))=2,VLOOKUP(A118,'grup-puch'!$A:$M,13,FALSE),IF(TYPE(VLOOKUP(A118,puch!$A:$J,10,FALSE))=2,VLOOKUP(A118,puch!$A:$J,10,FALSE),\"\"))","v":"GIMNAZJUM CHŁOPCY"},null,null,null,null,15,10,15,7,null,null,null,null,null,null,{"$f":"Q118-O118","v":"00:00:00"},{"$f":"IF(VLOOKUP(A118,dane!F:G,2,FALSE)=\"\",\"\",VLOOKUP(A118,dane!F:G,2,FALSE))","v":""},null,null,{"$f":"IF(AND(COUNTA(K118,L118)=2,AF118=I119),\",\"&FIXED(K118,0,TRUE)&\":\"&FIXED(L118,0,TRUE),IF(AND(COUNTA(K118,L118)=2,AF118=L119),\",\"&FIXED(L118,0,TRUE)&\":\"&FIXED(K118,0,TRUE),\"\"))","v":",15:7"},{"$f":"IF(AND(COUNTA(K118,L118)=2,AF118=I119),\",\"&FIXED(L118,0,TRUE)&\":\"&FIXED(K118,0,TRUE),IF(AND(COUNTA(K118,L118)=2,AF118=L119),\",\"&FIXED(K118,0,TRUE)&\":\"&FIXED(L118,0,TRUE),\"\"))","v":",7:15"},null,{"$f":"A118","v":17},{"$f":"IF(ISBLANK(D118),\"\",D118)","v":"GIMNAZJUM CHŁOPCY"},{"$f":"IF(OR(I119=0,I119=\"\"),\"\",I119)","v":"x60"},{"$f":"IF(OR(I120=0,I120=\"\"),\"\",I120)","v":""},{"$f":"IF(OR(L119=0,L119=\"\"),\"\",L119)","v":"x70"},{"$f":"IF(OR(L120=0,L120=\"\"),\"\",L120)","v":""},{"$f":"IF(COUNTA(C121,L121)=1,IF(ISTEXT(C121),I119,L119),IF(OR(I118=\"\",W116=X116),\"\",IF(W116>X116,I119,L119)))","v":"x60"},{"$f":"IF(COUNTA(C121,L121)=1,IF(ISTEXT(C121),I120,L120),IF(OR(I118=\"\",W116=X116),\"\",IF(W116>X116,I120,L120)))","v":""},{"$f":"IF(OR(AF118=I119,AF118=L119),IF(AF118=I119,W117&W118&W119&IF(ISTEXT(C121),\" \"&C121,\"\"),W117&W118&W119&IF(ISTEXT(L121),\" \"&L121,\"\")),\"\")","v":"15:10,15:7"},{"$f":"IF(OR(AF118=I119,AF118=L119),IF(AF118=I119,X117&X118&X119&IF(ISTEXT(C121),\" \"&C121,\"\"),X117&X118&X119&IF(ISTEXT(L121),\" \"&L121,\"\")),\"\")","v":"10:15,7:15"},{"$f":"IF(ISBLANK(L121),\"\",L121)","v":""},{"$f":"I118","v":15},{"$f":"J118","v":10},{"$f":"K118","v":15},{"$f":"L118","v":7},{"$f":"M118","v":0},{"$f":"N118","v":0},null,{"$f":"T116","v":0},{"$f":"T117","v":0},{"$f":"IF(OR(AA118=dane!$I$3,AA118=dane!$I$4,AA118=dane!$I$5,AA118=dane!$I$6),AR118,\"\")","v":""},{"$f":"IF(OR(AA118=dane!$I$7,AA118=dane!$I$8,AA118=dane!$I$10,AA118=dane!$I$11),AR118,\"\")","v":0},{"$f":"IF(OR(AA118=dane!$I$12,AA118=dane!$I$13,AA118=dane!$I$14,AA118=dane!$I$15),AR118,\"\")","v":""},{"$f":"IF(OR(AA118=dane!$I$16,AA118=dane!$I$17,AA118=dane!$I$18,AA118=dane!$I$19),AR118,\"\")","v":""},{"$f":"IF(OR(AA118=dane!$I$20,AA118=dane!$I$21,AA118=dane!$I$22,AA118=dane!$I$23),AR118,\"\")","v":""},{"$f":"IF(OR(AA118=dane!$I$3,AA118=dane!$I$4,AA118=dane!$I$5,AA118=dane!$I$6),AS118,\"\")","v":""},{"$f":"IF(OR(AA118=dane!$I$7,AA118=dane!$I$8,AA118=dane!$I$10,AA118=dane!$I$11),AS118,\"\")","v":0},{"$f":"IF(OR(AA118=dane!$I$12,AA118=dane!$I$13,AA118=dane!$I$14,AA118=dane!$I$15),AS118,\"\")","v":""},{"$f":"IF(OR(AA118=dane!$I$16,AA118=dane!$I$17,AA118=dane!$I$18,AA118=dane!$I$19),AS118,\"\")","v":""},{"$f":"IF(OR(AA118=dane!$I$20,AA118=dane!$I$21,AA118=dane!$I$22,AA118=dane!$I$23),AS118,\"\")","v":""},{"$f":"IF($T$1=\"\",\"\",IF(C118=\"\",\"\",IF(Q118=\"\",C119,\"\")))","v":""},{"$f":"IF(LEN(L120)>0,$V$3,$V$2)+Q118+$T$1+C116-1","v":"2014-10-20T00:25:00"},{"$f":"IF(BE118>NOW(),C119,\"\")","v":""},{"$f":"IF(C118<>\"\",\"\",VLOOKUP(C119,BD:BD,1,FALSE))","v":{"$error":"#N/A"}},{"$f":"IF(Q118<>\"\",\"\",VLOOKUP(C119,BF:BF,1,FALSE))","v":"Adam  Walocha (Ząbki)"},{"$f":"IF(BF118<>\"\",BE118,\"\")","v":""},{"$f":"IF(Q118=\"\",C118,\"\")","v":0},null,null,null,null,null,null,null,null,null,null,null,null,{"$f":"IF((LEN(C118)+LEN(C122)+LEN(L122))=0,I119,\"\")","v":""},{"$f":"IF(LEN(BW118)>0,A118,\"\")","v":""}]
[{"$f":"IF(TYPE(VLOOKUP(C119,BF:BI,4,FALSE))=1,VLOOKUP(C119,BF:BI,4,FALSE),\"\")","v":41960.017361111109},{"$f":"IF(TYPE(VLOOKUP(I119,BW:BX,2,FALSE))=16,\"\",VLOOKUP(I119,BW:BX,2,FALSE))","v":""},{"$f":"IF(I119=\"\",\"\",VLOOKUP(I119,zawodnicy!$A:$D,2,FALSE)&\" \"&VLOOKUP(I119,zawodnicy!$A:$D,3,FALSE)&\" (\"&VLOOKUP(I119,zawodnicy!$A:$D,4,FALSE)&\")\")","v":"Adam  Walocha (Ząbki)"},null,null,null,null,null,{"$f":"IF(TYPE(VLOOKUP(A118,'grup-puch'!$A:$E,2,FALSE))=2,VLOOKUP(A118,'grup-puch'!$A:$E,2,FALSE),IF(TYPE(VLOOKUP(A118,puch!$A:$E,2,FALSE))=2,VLOOKUP(A118,puch!$A:$E,2,FALSE),\"\"))","v":"x60"},null,null,{"$f":"IF(TYPE(VLOOKUP(A118,'grup-puch'!$A:$E,4,FALSE))=2,VLOOKUP(A118,'grup-puch'!$A:$E,4,FALSE),IF(TYPE(VLOOKUP(A118,puch!$A:$E,4,FALSE))=2,VLOOKUP(A118,puch!$A:$E,4,FALSE),\"\"))","v":"x70"},null,null,{"$f":"IF(L119=\"\",\"\",VLOOKUP(L119,zawodnicy!$A:$D,2,FALSE)&\" \"&VLOOKUP(L119,zawodnicy!$A:$D,3,FALSE)&\" (\"&VLOOKUP(L119,zawodnicy!$A:$D,4,FALSE)&\")\")","v":"Konrad  Kalinowski (Garwolin)"},null,null,null,null,null,{"$f":"IF(TYPE(VLOOKUP(L119,BW:BX,2,FALSE))=16,\"\",VLOOKUP(L119,BW:BX,2,FALSE))","v":""},{"$f":"IF(TYPE(VLOOKUP(O119,BF:BI,4,FALSE))=1,VLOOKUP(O119,BF:BI,4,FALSE),\"\")","v":41963.010416666664},{"$f":"IF(AND(COUNTA(M118,N118)=2,AF118=I119),\",\"&FIXED(M118,0,TRUE)&\":\"&FIXED(N118,0,TRUE),IF(AND(COUNTA(M118,N118)=2,AF118=L119),\",\"&FIXED(N118,0,TRUE)&\":\"&FIXED(M118,0,TRUE),\"\"))","v":""},{"$f":"IF(AND(COUNTA(M118,N118)=2,AF118=I119),\",\"&FIXED(N118,0,TRUE)&\":\"&FIXED(M118,0,TRUE),IF(AND(COUNTA(M118,N118)=2,AF118=L119),\",\"&FIXED(M118,0,TRUE)&\":\"&FIXED(N118,0,TRUE),\"\"))","v":""},null,null,null,null,null,null,null,null,null,null,null,null,null,null,null,null,null,null,null,null,null,null,null,null,null,null,null,null,null,null,null,{"$f":"IF($T$1=\"\",\"\",IF(C118=\"\",\"\",IF(Q118=\"\",C120,\"\")))","v":""},null,{"$f":"IF(BE118>NOW(),C120,\"\")","v":""},{"$f":"IF(C118<>\"\",\"\",VLOOKUP(C120,BD:BD,1,FALSE))","v":""},{"$f":"IF(Q118<>\"\",\"\",VLOOKUP(C120,BF:BF,1,FALSE))","v":""},{"$f":"IF(BF119<>\"\",BE118,\"\")","v":""},null,null,null,null,null,null,null,null,null,null,null,{"$f":"IF(VLOOKUP(I119,zawodnicy!A:E,5,FALSE)=0,\"\",C119)","v":""},{"$f":"IF(VLOOKUP(L119,zawodnicy!A:E,5,FALSE)=0,\"\",O119)","v":""},{"$f":"IF((LEN(C118)+LEN(C122)+LEN(L122))=0,I120,\"\")","v":""},{"$f":"IF(LEN(BW119)>0,A118,\"\")","v":""}]
["","",{"$f":"IF(OR(I120=0,I120=\"\"),\"\",VLOOKUP(I120,zawodnicy!$A:$D,2,FALSE)&\" \"&VLOOKUP(I120,zawodnicy!$A:$D,3,FALSE)&\" (\"&VLOOKUP(I120,zawodnicy!$A:$D,4,FALSE)&\")\")","v":""},null,null,null,null,null,{"$f":"IF(TYPE(VLOOKUP(A118,'grup-puch'!$A:$E,3,FALSE))=2,VLOOKUP(A118,'grup-puch'!$A:$E,3,FALSE),IF(TYPE(VLOOKUP(A118,puch!$A:$E,3,FALSE))=2,VLOOKUP(A118,puch!$A:$E,3,FALSE),\"\"))","v":""},null,null,{"$f":"IF(TYPE(VLOOKUP(A118,'grup-puch'!$A:$E,5,FALSE))=2,VLOOKUP(A118,'grup-puch'!$A:$E,5,FALSE),IF(TYPE(VLOOKUP(A118,puch!$A:$E,5,FALSE))=2,VLOOKUP(A118,puch!$A:$E,5,FALSE),\"\"))","v":""},null,null,{"$f":"IF(OR(L120=\"\",L120=0),\"\",VLOOKUP(L120,zawodnicy!$A:$D,2,FALSE)&\" \"&VLOOKUP(L120,zawodnicy!$A:$D,3,FALSE)&\" (\"&VLOOKUP(L120,zawodnicy!$A:$D,4,FALSE)&\")\")","v":""},null,null,null,null,null,"","",null,null,null,null,null,null,null,null,null,null,null,null,null,null,null,null,null,null,null,null,null,null,null,null,null,null,null,null,null,null,null,null,null,{"$f":"IF($T$1=\"\",\"\",IF(C118=\"\",\"\",IF(Q118=\"\",O119,\"\")))","v":""},null,{"$f":"IF(BE118>NOW(),O119,\"\")","v":""},{"$f":"IF(C118<>\"\",\"\",VLOOKUP(O119,BD:BD,1,FALSE))","v":{"$error":"#N/A"}},{"$f":"IF(Q118<>\"\",\"\",VLOOKUP(O119,BF:BF,1,FALSE))","v":"Konrad  Kalinowski (Garwolin)"},{"$f":"IF(BF120<>\"\",BE118,\"\")","v":""},null,null,null,null,null,null,null,null,null,null,null,{"$f":"IF(VLOOKUP(I120,zawodnicy!A:E,5,FALSE)=0,\"\",C120)","v":{"$error":"#N/A"}},{"$f":"IF(VLOOKUP(L120,zawodnicy!A:E,5,FALSE)=0,\"\",O120)","v":{"$error":"#N/A"}},{"$f":"IF((LEN(C118)+LEN(C122)+LEN(L122))=0,L119,\"\")","v":""},{"$f":"IF(LEN(BW120)>0,A118,\"\")","v":""}]
[null,null,null,null,null,null,null,null,null,null,null,null,null,null,null,null,null,null,null,null,null,null,null,null,null,null,null,null,null,null,null,null,null,null,null,null,null,null,null,null,null,null,null,null,null,null,null,null,null,null,null,null,null,null,null,{"$f":"IF($T$1=\"\",\"\",IF(C118=\"\",\"\",IF(Q118=\"\",O120,\"\")))","v":""},null,{"$f":"IF(BE118>NOW(),O120,\"\")","v":""},{"$f":"IF(C118<>\"\",\"\",VLOOKUP(O120,BD:BD,1,FALSE))","v":""},{"$f":"IF(Q118<>\"\",\"\",VLOOKUP(O120,BF:BF,1,FALSE))","v":""},{"$f":"IF(BF121<>\"\",BE118,\"\")","v":""},null,null,null,null,null,null,null,null,null,null,null,null,null,{"$f":"IF((LEN(C118)+LEN(C122)+LEN(L122))=0,L120,\"\")","v":""},{"$f":"IF(LEN(BW121)>0,A118,\"\")","v":""}]
[null,null,{"$f":"IF(I119=\"\",\"\",IF(I119=AF118,\"zwycięzca(cy):\"&\" \"&AH118,\"\"))","v":"zwycięzca(cy): 15:10,15:7"},null,null,null,null,null,null,null,null,{"$f":"IF(L119=\"\",\"\",IF(L119=AF118,\"zwycięzca(cy):\"&\" \"&AH118,\"\"))","v":""}]
[null,null,18,"dzień turnieju.",null,null,null,null,null,"Nr meczu",null,null,null,null,"Godz.",null,null,null,"S. prow.",null,null,null,{"$f":"IF(I125>J125,1,0)+IF(K125>L125,1,0)+IF(M125>N125,1,0)","v":0},{"$f":"IF(J125>I125,1,0)+IF(L125>K125,1,0)+IF(N125>M125,1,0)","v":2},null,null,null,null,null,null,null,null,null,"wygrany","przegrany"]
[null,null,"Boisko","Gra",null,null,null,null,null,{"$f":"A125","v":18},null,null,null,null,"rozp.",null,"zak.",null,"S. serw.",null,null,null,{"$f":"IF(AND(COUNTA(I125,J125)=2,AF125=I126),FIXED(I125,0,TRUE)&\":\"&FIXED(J125,0,TRUE),IF(AND(COUNTA(I125,J125)=2,AF125=L126),FIXED(J125,0,TRUE)&\":\"&FIXED(I125,0,TRUE),\"\"))","v":"15:4"},{"$f":"IF(AND(COUNTA(I125,J125)=2,AF125=I126),FIXED(J125,0,TRUE)&\":\"&FIXED(I125,0,TRUE),IF(AND(COUNTA(I125,J125)=2,AF125=L126),FIXED(I125,0,TRUE)&\":\"&FIXED(J125,0,TRUE),\"\"))","v":"4:15"}]
[18,null,null,{"$f":"IF(TYPE(VLOOKUP(A125,'grup-puch'!$A:$M,13,FALSE))=2,VLOOKUP(A125,'grup-puch'!$A:$M,13,FALSE),IF(TYPE(VLOOKUP(A125,puch!$A:$J,10,FALSE))=2,VLOOKUP(A125,puch!$A:$J,10,FALSE),\"\"))","v":"GIMNAZJUM CHŁOPCY"},null,null,null,null,4,15,6,15,null,null,null,null,null,null,{"$f":"Q125-O125","v":"00:00:00"},{"$f":"IF(VLOOKUP(A125,dane!F:G,2,FALSE)=\"\",\"\",VLOOKUP(A125,dane!F:G,2,FALSE))","v":""},null,null,{"$f":"IF(AND(COUNTA(K125,L125)=2,AF125=I126),\",\"&FIXED(K125,0,TRUE)&\":\"&FIXED(L125,0,TRUE),IF(AND(COUNTA(K125,L125)=2,AF125=L126),\",\"&FIXED(L125,0,TRUE)&\":\"&FIXED(K125,0,TRUE),\"\"))","v":",15:6"},{"$f":"IF(AND(COUNTA(K125,L125)=2,AF125=I126),\",\"&FIXED(L125,0,TRUE)&\":\"&FIXED(K125,0,TRUE),IF(AND(COUNTA(K125,L125)=2,AF125=L126),\",\"&FIXED(K125,0,TRUE)&\":\"&FIXED(L125,0,TRUE),\"\"))","v":",6:15"},null,{"$f":"A125","v":18},{"$f":"IF(ISBLANK(D125),\"\",D125)","v":"GIMNAZJUM CHŁOPCY"},{"$f":"IF(OR(I126=0,I126=\"\"),\"\",I126)","v":"x37"},{"$f":"IF(OR(I127=0,I127=\"\"),\"\",I127)","v":""},{"$f":"IF(OR(L126=0,L126=\"\"),\"\",L126)","v":"x63"},{"$f":"IF(OR(L127=0,L127=\"\"),\"\",L127)","v":""},{"$f":"IF(COUNTA(C128,L128)=1,IF(ISTEXT(C128),I126,L126),IF(OR(I125=\"\",W123=X123),\"\",IF(W123>X123,I126,L126)))","v":"x63"},{"$f":"IF(COUNTA(C128,L128)=1,IF(ISTEXT(C128),I127,L127),IF(OR(I125=\"\",W123=X123),\"\",IF(W123>X123,I127,L127)))","v":""},{"$f":"IF(OR(AF125=I126,AF125=L126),IF(AF125=I126,W124&W125&W126&IF(ISTEXT(C128),\" \"&C128,\"\"),W124&W125&W126&IF(ISTEXT(L128),\" \"&L128,\"\")),\"\")","v":"15:4,15:6"},{"$f":"IF(OR(AF125=I126,AF125=L126),IF(AF125=I126,X124&X125&X126&IF(ISTEXT(C128),\" \"&C128,\"\"),X124&X125&X126&IF(ISTEXT(L128),\" \"&L128,\"\")),\"\")","v":"4:15,6:15"},{"$f":"IF(ISBLANK(L128),\"\",L128)","v":""},{"$f":"I125","v":4},{"$f":"J125","v":15},{"$f":"K125","v":6},{"$f":"L125","v":15},{"$f":"M125","v":0},{"$f":"N125","v":0},null,{"$f":"T123","v":0},{"$f":"T124","v":0},{"$f":"IF(OR(AA125=dane!$I$3,AA125=dane!$I$4,AA125=dane!$I$5,AA125=dane!$I$6),AR125,\"\")","v":""},{"$f":"IF(OR(AA125=dane!$I$7,AA125=dane!$I$8,AA125=dane!$I$10,AA125=dane!$I$11),AR125,\"\")","v":0},{"$f":"IF(OR(AA125=dane!$I$12,AA125=dane!$I$13,AA125=dane!$I$14,AA125=dane!$I$15),AR125,\"\")","v":""},{"$f":"IF(OR(AA125=dane!$I$16,AA125=dane!$I$17,AA125=dane!$I$18,AA125=dane!$I$19),AR125,\"\")","v":""},{"$f":"IF(OR(AA125=dane!$I$20,AA125=dane!$I$21,AA125=dane!$I$22,AA125=dane!$I$23),AR125,\"\")","v":""},{"$f":"IF(OR(AA125=dane!$I$3,AA125=dane!$I$4,AA125=dane!$I$5,AA125=dane!$I$6),AS125,\"\")","v":""},{"$f":"IF(OR(AA125=dane!$I$7,AA125=dane!$I$8,AA125=dane!$I$10,AA125=dane!$I$11),AS125,\"\")","v":0},{"$f":"IF(OR(AA125=dane!$I$12,AA125=dane!$I$13,AA125=dane!$I$14,AA125=dane!$I$15),AS125,\"\")","v":""},{"$f":"IF(OR(AA125=dane!$I$16,AA125=dane!$I$17,AA125=dane!$I$18,AA125=dane!$I$19),AS125,\"\")","v":""},{"$f":"IF(OR(AA125=dane!$I$20,AA125=dane!$I$21,AA125=dane!$I$22,AA125=dane!$I$23),AS125,\"\")","v":""},{"$f":"IF($T$1=\"\",\"\",IF(C125=\"\",\"\",IF(Q125=\"\",C126,\"\")))","v":""},{"$f":"IF(LEN(L127)>0,$V$3,$V$2)+Q125+$T$1+C123-1","v":"2014-10-21T00:25:00"},{"$f":"IF(BE125>NOW(),C126,\"\")","v":""},{"$f":"IF(C125<>\"\",\"\",VLOOKUP(C126,BD:BD,1,FALSE))","v":{"$error":"#N/A"}},{"$f":"IF(Q125<>\"\",\"\",VLOOKUP(C126,BF:BF,1,FALSE))","v":{"$error":"#N/A"}},{"$f":"IF(BF125<>\"\",BE125,\"\")","v":""},{"$f":"IF(Q125=\"\",C125,\"\")","v":0},null,null,null,null,null,null,null,null,null,null,null,null,{"$f":"IF((LEN(C125)+LEN(C129)+LEN(L129))=0,I126,\"\")","v":""},{"$f":"IF(LEN(BW125)>0,A125,\"\")","v":""}]
[{"$f":"IF(TYPE(VLOOKUP(C126,BF:BI,4,FALSE))=1,VLOOKUP(C126,BF:BI,4,FALSE),\"\")","v":""},{"$f":"IF(TYPE(VLOOKUP(I126,BW:BX,2,FALSE))=16,\"\",VLOOKUP(I126,BW:BX,2,FALSE))","v":""},{"$f":"IF(I126=\"\",\"\",VLOOKUP(I126,zawodnicy!$A:$D,2,FALSE)&\" \"&VLOOKUP(I126,zawodnicy!$A:$D,3,FALSE)&\" (\"&VLOOKUP(I126,zawodnicy!$A:$D,4,FALSE)&\")\")","v":"Kuba  Paciorek (Ząbki)"},null,null,null,null,null,{"$f":"IF(TYPE(VLOOKUP(A125,'grup-puch'!$A:$E,2,FALSE))=2,VLOOKUP(A125,'grup-puch'!$A:$E,2,FALSE),IF(TYPE(VLOOKUP(A125,puch!$A:$E,2,FALSE))=2,VLOOKUP(A125,puch!$A:$E,2,FALSE),\"\"))","v":"x37"},null,null,{"$f":"IF(TYPE(VLOOKUP(A125,'grup-puch'!$A:$E,4,FALSE))=2,VLOOKUP(A125,'grup-puch'!$A:$E,4,FALSE),IF(TYPE(VLOOKUP(A125,puch!$A:$E,4,FALSE))=2,VLOOKUP(A125,puch!$A:$E,4,FALSE),\"\"))","v":"x63"},null,null,{"$f":"IF(L126=\"\",\"\",VLOOKUP(L126,zawodnicy!$A:$D,2,FALSE)&\" \"&VLOOKUP(L126,zawodnicy!$A:$D,3,FALSE)&\" (\"&VLOOKUP(L126,zawodnicy!$A:$D,4,FALSE)&\")\")","v":"Kasia Wróblewska (Mińsk Mazowiecki)"},null,null,null,null,null,{"$f":"IF(TYPE(VLOOKUP(L126,BW:BX,2,FALSE))=16,\"\",VLOOKUP(L126,BW:BX,2,FALSE))","v":""},{"$f":"IF(TYPE(VLOOKUP(O126,BF:BI,4,FALSE))=1,VLOOKUP(O126,BF:BI,4,FALSE),\"\")","v":41960.017361111109},{"$f":"IF(AND(COUNTA(M125,N125)=2,AF125=I126),\",\"&FIXED(M125,0,TRUE)&\":\"&FIXED(N125,0,TRUE),IF(AND(COUNTA(M125,N125)=2,AF125=L126),\",\"&FIXED(N125,0,TRUE)&\":\"&FIXED(M125,0,TRUE),\"\"))","v":""},{"$f":"IF(AND(COUNTA(M125,N125)=2,AF125=I126),\",\"&FIXED(N125,0,TRUE)&\":\"&FIXED(M125,0,TRUE),IF(AND(COUNTA(M125,N125)=2,AF125=L126),\",\"&FIXED(M125,0,TRUE)&\":\"&FIXED(N125,0,TRUE),\"\"))","v":""},null,null,null,null,null,null,null,null,null,null,null,null,null,null,null,null,null,null,null,null,null,null,null,null,null,null,null,null,null,null,null,{"$f":"IF($T$1=\"\",\"\",IF(C125=\"\",\"\",IF(Q125=\"\",C127,\"\")))","v":""},null,{"$f":"IF(BE125>NOW(),C127,\"\")","v":""},{"$f":"IF(C125<>\"\",\"\",VLOOKUP(C127,BD:BD,1,FALSE))","v":""},{"$f":"IF(Q125<>\"\",\"\",VLOOKUP(C127,BF:BF,1,FALSE))","v":""},{"$f":"IF(BF126<>\"\",BE125,\"\")","v":""},null,null,null,null,null,null,null,null,null,null,null,{"$f":"IF(VLOOKUP(I126,zawodnicy!A:E,5,FALSE)=0,\"\",C126)","v":""},{"$f":"IF(VLOOKUP(L126,zawodnicy!A:E,5,FALSE)=0,\"\",O126)","v":""},{"$f":"IF((LEN(C125)+LEN(C129)+LEN(L129))=0,I127,\"\")","v":""},{"$f":"IF(LEN(BW126)>0,A125,\"\")","v":""}]
["","",{"$f":"IF(OR(I127=0,I127=\"\"),\"\",VLOOKUP(I127,zawodnicy!$A:$D,2,FALSE)&\" \"&VLOOKUP(I127,zawodnicy!$A:$D,3,FALSE)&\" (\"&VLOOKUP(I127,zawodnicy!$A:$D,4,FALSE)&\")\")","v":""},null,null,null,null,null,{"$f":"IF(TYPE(VLOOKUP(A125,'grup-puch'!$A:$E,3,FALSE))=2,VLOOKUP(A125,'grup-puch'!$A:$E,3,FALSE),IF(TYPE(VLOOKUP(A125,puch!$A:$E,3,FALSE))=2,VLOOKUP(A125,puch!$A:$E,3,FALSE),\"\"))","v":""},null,null,{"$f":"IF(TYPE(VLOOKUP(A125,'grup-puch'!$A:$E,5,FALSE))=2,VLOOKUP(A125,'grup-puch'!$A:$E,5,FALSE),IF(TYPE(VLOOKUP(A125,puch!$A:$E,5,FALSE))=2,VLOOKUP(A125,puch!$A:$E,5,FALSE),\"\"))","v":""},null,null,{"$f":"IF(OR(L127=\"\",L127=0),\"\",VLOOKUP(L127,zawodnicy!$A:$D,2,FALSE)&\" \"&VLOOKUP(L127,zawodnicy!$A:$D,3,FALSE)&\" (\"&VLOOKUP(L127,zawodnicy!$A:$D,4,FALSE)&\")\")","v":""},null,null,null,null,null,"","",null,null,null,null,null,null,null,null,null,null,null,null,null,null,null,null,null,null,null,null,null,null,null,null,null,null,null,null,null,null,null,null,null,{"$f":"IF($T$1=\"\",\"\",IF(C125=\"\",\"\",IF(Q125=\"\",O126,\"\")))","v":""},null,{"$f":"IF(BE125>NOW(),O126,\"\")","v":""},{"$f":"IF(C125<>\"\",\"\",VLOOKUP(O126,BD:BD,1,FALSE))","v":{"$error":"#N/A"}},{"$f":"IF(Q125<>\"\",\"\",VLOOKUP(O126,BF:BF,1,FALSE))","v":"Kasia Wróblewska (Mińsk Mazowiecki)"},{"$f":"IF(BF127<>\"\",BE125,\"\")","v":""},null,null,null,null,null,null,null,null,null,null,null,{"$f":"IF(VLOOKUP(I127,zawodnicy!A:E,5,FALSE)=0,\"\",C127)","v":{"$error":"#N/A"}},{"$f":"IF(VLOOKUP(L127,zawodnicy!A:E,5,FALSE)=0,\"\",O127)","v":{"$error":"#N/A"}},{"$f":"IF((LEN(C125)+LEN(C129)+LEN(L129))=0,L126,\"\")","v":""},{"$f":"IF(LEN(BW127)>0,A125,\"\")","v":""}]
[null,null,null,null,null,null,null,null,null,null,null,null,null,null,null,null,null,null,null,null,null,null,null,null,null,null,null,null,null,null,null,null,null,null,null,null,null,null,null,null,null,null,null,null,null,null,null,null,null,null,null,null,null,null,null,{"$f":"IF($T$1=\"\",\"\",IF(C125=\"\",\"\",IF(Q125=\"\",O127,\"\")))","v":""},null,{"$f":"IF(BE125>NOW(),O127,\"\")","v":""},{"$f":"IF(C125<>\"\",\"\",VLOOKUP(O127,BD:BD,1,FALSE))","v":""},{"$f":"IF(Q125<>\"\",\"\",VLOOKUP(O127,BF:BF,1,FALSE))","v":""},{"$f":"IF(BF128<>\"\",BE125,\"\")","v":""},null,null,null,null,null,null,null,null,null,null,null,null,null,{"$f":"IF((LEN(C125)+LEN(C129)+LEN(L129))=0,L127,\"\")","v":""},{"$f":"IF(LEN(BW128)>0,A125,\"\")","v":""}]
[null,null,{"$f":"IF(I126=\"\",\"\",IF(I126=AF125,\"zwycięzca(cy):\"&\" \"&AH125,\"\"))","v":""},null,null,null,null,null,null,null,null,{"$f":"IF(L126=\"\",\"\",IF(L126=AF125,\"zwycięzca(cy):\"&\" \"&AH125,\"\"))","v":"zwycięzca(cy): 15:4,15:6"}]
[null,null,19,"dzień turnieju.",null,null,null,null,null,"Nr meczu",null,null,null,null,"Godz.",null,null,null,"S. prow.",null,null,null,{"$f":"IF(I132>J132,1,0)+IF(K132>L132,1,0)+IF(M132>N132,1,0)","v":0},{"$f":"IF(J132>I132,1,0)+IF(L132>K132,1,0)+IF(N132>M132,1,0)","v":2},null,null,null,null,null,null,null,null,null,"wygrany","przegrany"]
[null,null,"Boisko","Gra",null,null,null,null,null,{"$f":"A132","v":19},null,null,null,null,"rozp.",null,"zak.",null,"S. serw.",null,null,null,{"$f":"IF(AND(COUNTA(I132,J132)=2,AF132=I133),FIXED(I132,0,TRUE)&\":\"&FIXED(J132,0,TRUE),IF(AND(COUNTA(I132,J132)=2,AF132=L133),FIXED(J132,0,TRUE)&\":\"&FIXED(I132,0,TRUE),\"\"))","v":"15:9"},{"$f":"IF(AND(COUNTA(I132,J132)=2,AF132=I133),FIXED(J132,0,TRUE)&\":\"&FIXED(I132,0,TRUE),IF(AND(COUNTA(I132,J132)=2,AF132=L133),FIXED(I132,0,TRUE)&\":\"&FIXED(J132,0,TRUE),\"\"))","v":"9:15"}]
[19,null,null,{"$f":"IF(TYPE(VLOOKUP(A132,'grup-puch'!$A:$M,13,FALSE))=2,VLOOKUP(A132,'grup-puch'!$A:$M,13,FALSE),IF(TYPE(VLOOKUP(A132,puch!$A:$J,10,FALSE))=2,VLOOKUP(A132,puch!$A:$J,10,FALSE),\"\"))","v":"GIMNAZJUM CHŁOPCY"},null,null,null,null,9,15,10,15,null,null,null,null,null,null,{"$f":"Q132-O132","v":"00:00:00"},{"$f":"IF(VLOOKUP(A132,dane!F:G,2,FALSE)=\"\",\"\",VLOOKUP(A132,dane!F:G,2,FALSE))","v":""},null,null,{"$f":"IF(AND(COUNTA(K132,L132)=2,AF132=I133),\",\"&FIXED(K132,0,TRUE)&\":\"&FIXED(L132,0,TRUE),IF(AND(COUNTA(K132,L132)=2,AF132=L133),\",\"&FIXED(L132,0,TRUE)&\":\"&FIXED(K132,0,TRUE),\"\"))","v":",15:10"},{"$f":"IF(AND(COUNTA(K132,L132)=2,AF132=I133),\",\"&FIXED(L132,0,TRUE)&\":\"&FIXED(K132,0,TRUE),IF(AND(COUNTA(K132,L132)=2,AF132=L133),\",\"&FIXED(K132,0,TRUE)&\":\"&FIXED(L132,0,TRUE),\"\"))","v":",10:15"},null,{"$f":"A132","v":19},{"$f":"IF(ISBLANK(D132),\"\",D132)","v":"GIMNAZJUM CHŁOPCY"},{"$f":"IF(OR(I133=0,I133=\"\"),\"\",I133)","v":"x5"},{"$f":"IF(OR(I134=0,I134=\"\"),\"\",I134)","v":""},{"$f":"IF(OR(L133=0,L133=\"\"),\"\",L133)","v":"x71"},{"$f":"IF(OR(L134=0,L134=\"\"),\"\",L134)","v":""},{"$f":"IF(COUNTA(C135,L135)=1,IF(ISTEXT(C135),I133,L133),IF(OR(I132=\"\",W130=X130),\"\",IF(W130>X130,I133,L133)))","v":"x71"},{"$f":"IF(COUNTA(C135,L135)=1,IF(ISTEXT(C135),I134,L134),IF(OR(I132=\"\",W130=X130),\"\",IF(W130>X130,I134,L134)))","v":""},{"$f":"IF(OR(AF132=I133,AF132=L133),IF(AF132=I133,W131&W132&W133&IF(ISTEXT(C135),\" \"&C135,\"\"),W131&W132&W133&IF(ISTEXT(L135),\" \"&L135,\"\")),\"\")","v":"15:9,15:10"},{"$f":"IF(OR(AF132=I133,AF132=L133),IF(AF132=I133,X131&X132&X133&IF(ISTEXT(C135),\" \"&C135,\"\"),X131&X132&X133&IF(ISTEXT(L135),\" \"&L135,\"\")),\"\")","v":"9:15,10:15"},{"$f":"IF(ISBLANK(L135),\"\",L135)","v":""},{"$f":"I132","v":9},{"$f":"J132","v":15},{"$f":"K132","v":10},{"$f":"L132","v":15},{"$f":"M132","v":0},{"$f":"N132","v":0},null,{"$f":"T130","v":0},{"$f":"T131","v":0},{"$f":"IF(OR(AA132=dane!$I$3,AA132=dane!$I$4,AA132=dane!$I$5,AA132=dane!$I$6),AR132,\"\")","v":""},{"$f":"IF(OR(AA132=dane!$I$7,AA132=dane!$I$8,AA132=dane!$I$10,AA132=dane!$I$11),AR132,\"\")","v":0},{"$f":"IF(OR(AA132=dane!$I$12,AA132=dane!$I$13,AA132=dane!$I$14,AA132=dane!$I$15),AR132,\"\")","v":""},{"$f":"IF(OR(AA132=dane!$I$16,AA132=dane!$I$17,AA132=dane!$I$18,AA132=dane!$I$19),AR132,\"\")","v":""},{"$f":"IF(OR(AA132=dane!$I$20,AA132=dane!$I$21,AA132=dane!$I$22,AA132=dane!$I$23),AR132,\"\")","v":""},{"$f":"IF(OR(AA132=dane!$I$3,AA132=dane!$I$4,AA132=dane!$I$5,AA132=dane!$I$6),AS132,\"\")","v":""},{"$f":"IF(OR(AA132=dane!$I$7,AA132=dane!$I$8,AA132=dane!$I$10,AA132=dane!$I$11),AS132,\"\")","v":0},{"$f":"IF(OR(AA132=dane!$I$12,AA132=dane!$I$13,AA132=dane!$I$14,AA132=dane!$I$15),AS132,\"\")","v":""},{"$f":"IF(OR(AA132=dane!$I$16,AA132=dane!$I$17,AA132=dane!$I$18,AA132=dane!$I$19),AS132,\"\")","v":""},{"$f":"IF(OR(AA132=dane!$I$20,AA132=dane!$I$21,AA132=dane!$I$22,AA132=dane!$I$23),AS132,\"\")","v":""},{"$f":"IF($T$1=\"\",\"\",IF(C132=\"\",\"\",IF(Q132=\"\",C133,\"\")))","v":""},{"$f":"IF(LEN(L134)>0,$V$3,$V$2)+Q132+$T$1+C130-1","v":"2014-10-22T00:25:00"},{"$f":"IF(BE132>NOW(),C133,\"\")","v":""},{"$f":"IF(C132<>\"\",\"\",VLOOKUP(C133,BD:BD,1,FALSE))","v":{"$error":"#N/A"}},{"$f":"IF(Q132<>\"\",\"\",VLOOKUP(C133,BF:BF,1,FALSE))","v":{"$error":"#N/A"}},{"$f":"IF(BF132<>\"\",BE132,\"\")","v":""},{"$f":"IF(Q132=\"\",C132,\"\")","v":0},null,null,null,null,null,null,null,null,null,null,null,null,{"$f":"IF((LEN(C132)+LEN(C136)+LEN(L136))=0,I133,\"\")","v":""},{"$f":"IF(LEN(BW132)>0,A132,\"\")","v":""}]
[{"$f":"IF(TYPE(VLOOKUP(C133,BF:BI,4,FALSE))=1,VLOOKUP(C133,BF:BI,4,FALSE),\"\")","v":""},{"$f":"IF(TYPE(VLOOKUP(I133,BW:BX,2,FALSE))=16,\"\",VLOOKUP(I133,BW:BX,2,FALSE))","v":""},{"$f":"IF(I133=\"\",\"\",VLOOKUP(I133,zawodnicy!$A:$D,2,FALSE)&\" \"&VLOOKUP(I133,zawodnicy!$A:$D,3,FALSE)&\" (\"&VLOOKUP(I133,zawodnicy!$A:$D,4,FALSE)&\")\")","v":"Jakub  Dworzak (Zielonka)"},null,null,null,null,null,{"$f":"IF(TYPE(VLOOKUP(A132,'grup-puch'!$A:$E,2,FALSE))=2,VLOOKUP(A132,'grup-puch'!$A:$E,2,FALSE),IF(TYPE(VLOOKUP(A132,puch!$A:$E,2,FALSE))=2,VLOOKUP(A132,puch!$A:$E,2,FALSE),\"\"))","v":"x5"},null,null,{"$f":"IF(TYPE(VLOOKUP(A132,'grup-puch'!$A:$E,4,FALSE))=2,VLOOKUP(A132,'grup-puch'!$A:$E,4,FALSE),IF(TYPE(VLOOKUP(A132,puch!$A:$E,4,FALSE))=2,VLOOKUP(A132,puch!$A:$E,4,FALSE),\"\"))","v":"x71"},null,null,{"$f":"IF(L133=\"\",\"\",VLOOKUP(L133,zawodnicy!$A:$D,2,FALSE)&\" \"&VLOOKUP(L133,zawodnicy!$A:$D,3,FALSE)&\" (\"&VLOOKUP(L133,zawodnicy!$A:$D,4,FALSE)&\")\")","v":"Grzegorz  Cybulski (Garwolin)"},null,null,null,null,null,{"$f":"IF(TYPE(VLOOKUP(L133,BW:BX,2,FALSE))=16,\"\",VLOOKUP(L133,BW:BX,2,FALSE))","v":""},{"$f":"IF(TYPE(VLOOKUP(O133,BF:BI,4,FALSE))=1,VLOOKUP(O133,BF:BI,4,FALSE),\"\")","v":41959.017361111109},{"$f":"IF(AND(COUNTA(M132,N132)=2,AF132=I133),\",\"&FIXED(M132,0,TRUE)&\":\"&FIXED(N132,0,TRUE),IF(AND(COUNTA(M132,N132)=2,AF132=L133),\",\"&FIXED(N132,0,TRUE)&\":\"&FIXED(M132,0,TRUE),\"\"))","v":""},{"$f":"IF(AND(COUNTA(M132,N132)=2,AF132=I133),\",\"&FIXED(N132,0,TRUE)&\":\"&FIXED(M132,0,TRUE),IF(AND(COUNTA(M132,N132)=2,AF132=L133),\",\"&FIXED(M132,0,TRUE)&\":\"&FIXED(N132,0,TRUE),\"\"))","v":""},null,null,null,null,null,null,null,null,null,null,null,null,null,null,null,null,null,null,null,null,null,null,null,null,null,null,null,null,null,null,null,{"$f":"IF($T$1=\"\",\"\",IF(C132=\"\",\"\",IF(Q132=\"\",C134,\"\")))","v":""},null,{"$f":"IF(BE132>NOW(),C134,\"\")","v":""},{"$f":"IF(C132<>\"\",\"\",VLOOKUP(C134,BD:BD,1,FALSE))","v":""},{"$f":"IF(Q132<>\"\",\"\",VLOOKUP(C134,BF:BF,1,FALSE))","v":""},{"$f":"IF(BF133<>\"\",BE132,\"\")","v":""},null,null,null,null,null,null,null,null,null,null,null,{"$f":"IF(VLOOKUP(I133,zawodnicy!A:E,5,FALSE)=0,\"\",C133)","v":""},{"$f":"IF(VLOOKUP(L133,zawodnicy!A:E,5,FALSE)=0,\"\",O133)","v":""},{"$f":"IF((LEN(C132)+LEN(C136)+LEN(L136))=0,I134,\"\")","v":""},{"$f":"IF(LEN(BW133)>0,A132,\"\")","v":""}]
["","",{"$f":"IF(OR(I134=0,I134=\"\"),\"\",VLOOKUP(I134,zawodnicy!$A:$D,2,FALSE)&\" \"&VLOOKUP(I134,zawodnicy!$A:$D,3,FALSE)&\" (\"&VLOOKUP(I134,zawodnicy!$A:$D,4,FALSE)&\")\")","v":""},null,null,null,null,null,{"$f":"IF(TYPE(VLOOKUP(A132,'grup-puch'!$A:$E,3,FALSE))=2,VLOOKUP(A132,'grup-puch'!$A:$E,3,FALSE),IF(TYPE(VLOOKUP(A132,puch!$A:$E,3,FALSE))=2,VLOOKUP(A132,puch!$A:$E,3,FALSE),\"\"))","v":""},null,null,{"$f":"IF(TYPE(VLOOKUP(A132,'grup-puch'!$A:$E,5,FALSE))=2,VLOOKUP(A132,'grup-puch'!$A:$E,5,FALSE),IF(TYPE(VLOOKUP(A132,puch!$A:$E,5,FALSE))=2,VLOOKUP(A132,puch!$A:$E,5,FALSE),\"\"))","v":""},null,null,{"$f":"IF(OR(L134=\"\",L134=0),\"\",VLOOKUP(L134,zawodnicy!$A:$D,2,FALSE)&\" \"&VLOOKUP(L134,zawodnicy!$A:$D,3,FALSE)&\" (\"&VLOOKUP(L134,zawodnicy!$A:$D,4,FALSE)&\")\")","v":""},null,null,null,null,null,"","",null,null,null,null,null,null,null,null,null,null,null,null,null,null,null,null,null,null,null,null,null,null,null,null,null,null,null,null,null,null,null,null,null,{"$f":"IF($T$1=\"\",\"\",IF(C132=\"\",\"\",IF(Q132=\"\",O133,\"\")))","v":""},null,{"$f":"IF(BE132>NOW(),O133,\"\")","v":""},{"$f":"IF(C132<>\"\",\"\",VLOOKUP(O133,BD:BD,1,FALSE))","v":{"$error":"#N/A"}},{"$f":"IF(Q132<>\"\",\"\",VLOOKUP(O133,BF:BF,1,FALSE))","v":"Grzegorz  Cybulski (Garwolin)"},{"$f":"IF(BF134<>\"\",BE132,\"\")","v":""},null,null,null,null,null,null,null,null,null,null,null,{"$f":"IF(VLOOKUP(I134,zawodnicy!A:E,5,FALSE)=0,\"\",C134)","v":{"$error":"#N/A"}},{"$f":"IF(VLOOKUP(L134,zawodnicy!A:E,5,FALSE)=0,\"\",O134)","v":{"$error":"#N/A"}},{"$f":"IF((LEN(C132)+LEN(C136)+LEN(L136))=0,L133,\"\")","v":""},{"$f":"IF(LEN(BW134)>0,A132,\"\")","v":""}]
[null,null,null,null,null,null,null,null,null,null,null,null,null,null,null,null,null,null,null,null,null,null,null,null,null,null,null,null,null,null,null,null,null,null,null,null,null,null,null,null,null,null,null,null,null,null,null,null,null,null,null,null,null,null,null,{"$f":"IF($T$1=\"\",\"\",IF(C132=\"\",\"\",IF(Q132=\"\",O134,\"\")))","v":""},null,{"$f":"IF(BE132>NOW(),O134,\"\")","v":""},{"$f":"IF(C132<>\"\",\"\",VLOOKUP(O134,BD:BD,1,FALSE))","v":""},{"$f":"IF(Q132<>\"\",\"\",VLOOKUP(O134,BF:BF,1,FALSE))","v":""},{"$f":"IF(BF135<>\"\",BE132,\"\")","v":""},null,null,null,null,null,null,null,null,null,null,null,null,null,{"$f":"IF((LEN(C132)+LEN(C136)+LEN(L136))=0,L134,\"\")","v":""},{"$f":"IF(LEN(BW135)>0,A132,\"\")","v":""}]
[null,null,{"$f":"IF(I133=\"\",\"\",IF(I133=AF132,\"zwycięzca(cy):\"&\" \"&AH132,\"\"))","v":""},null,null,null,null,null,null,null,null,{"$f":"IF(L133=\"\",\"\",IF(L133=AF132,\"zwycięzca(cy):\"&\" \"&AH132,\"\"))","v":"zwycięzca(cy): 15:9,15:10"}]
[null,null,20,"dzień turnieju.",null,null,null,null,null,"Nr meczu",null,null,null,null,"Godz.",null,null,null,"S. prow.",null,null,null,{"$f":"IF(I139>J139,1,0)+IF(K139>L139,1,0)+IF(M139>N139,1,0)","v":0},{"$f":"IF(J139>I139,1,0)+IF(L139>K139,1,0)+IF(N139>M139,1,0)","v":2},null,null,null,null,null,null,null,null,null,"wygrany","przegrany"]
[null,null,"Boisko","Gra",null,null,null,null,null,{"$f":"A139","v":20},null,null,null,null,"rozp.",null,"zak.",null,"S. serw.",null,null,null,{"$f":"IF(AND(COUNTA(I139,J139)=2,AF139=I140),FIXED(I139,0,TRUE)&\":\"&FIXED(J139,0,TRUE),IF(AND(COUNTA(I139,J139)=2,AF139=L140),FIXED(J139,0,TRUE)&\":\"&FIXED(I139,0,TRUE),\"\"))","v":"15:4"},{"$f":"IF(AND(COUNTA(I139,J139)=2,AF139=I140),FIXED(J139,0,TRUE)&\":\"&FIXED(I139,0,TRUE),IF(AND(COUNTA(I139,J139)=2,AF139=L140),FIXED(I139,0,TRUE)&\":\"&FIXED(J139,0,TRUE),\"\"))","v":"4:15"}]
[20,null,null,{"$f":"IF(TYPE(VLOOKUP(A139,'grup-puch'!$A:$M,13,FALSE))=2,VLOOKUP(A139,'grup-puch'!$A:$M,13,FALSE),IF(TYPE(VLOOKUP(A139,puch!$A:$J,10,FALSE))=2,VLOOKUP(A139,puch!$A:$J,10,FALSE),\"\"))","v":"GIMNAZJUM CHŁOPCY"},null,null,null,null,4,15,5,15,null,null,null,null,null,null,{"$f":"Q139-O139","v":"00:00:00"},{"$f":"IF(VLOOKUP(A139,dane!F:G,2,FALSE)=\"\",\"\",VLOOKUP(A139,dane!F:G,2,FALSE))","v":""},null,null,{"$f":"IF(AND(COUNTA(K139,L139)=2,AF139=I140),\",\"&FIXED(K139,0,TRUE)&\":\"&FIXED(L139,0,TRUE),IF(AND(COUNTA(K139,L139)=2,AF139=L140),\",\"&FIXED(L139,0,TRUE)&\":\"&FIXED(K139,0,TRUE),\"\"))","v":",15:5"},{"$f":"IF(AND(COUNTA(K139,L139)=2,AF139=I140),\",\"&FIXED(L139,0,TRUE)&\":\"&FIXED(K139,0,TRUE),IF(AND(COUNTA(K139,L139)=2,AF139=L140),\",\"&FIXED(K139,0,TRUE)&\":\"&FIXED(L139,0,TRUE),\"\"))","v":",5:15"},null,{"$f":"A139","v":20},{"$f":"IF(ISBLANK(D139),\"\",D139)","v":"GIMNAZJUM CHŁOPCY"},{"$f":"IF(OR(I140=0,I140=\"\"),\"\",I140)","v":"x72"},{"$f":"IF(OR(I141=0,I141=\"\"),\"\",I141)","v":""},{"$f":"IF(OR(L140=0,L140=\"\"),\"\",L140)","v":"x31"},{"$f":"IF(OR(L141=0,L141=\"\"),\"\",L141)","v":""},{"$f":"IF(COUNTA(C142,L142)=1,IF(ISTEXT(C142),I140,L140),IF(OR(I139=\"\",W137=X137),\"\",IF(W137>X137,I140,L140)))","v":"x31"},{"$f":"IF(COUNTA(C142,L142)=1,IF(ISTEXT(C142),I141,L141),IF(OR(I139=\"\",W137=X137),\"\",IF(W137>X137,I141,L141)))","v":""},{"$f":"IF(OR(AF139=I140,AF139=L140),IF(AF139=I140,W138&W139&W140&IF(ISTEXT(C142),\" \"&C142,\"\"),W138&W139&W140&IF(ISTEXT(L142),\" \"&L142,\"\")),\"\")","v":"15:4,15:5"},{"$f":"IF(OR(AF139=I140,AF139=L140),IF(AF139=I140,X138&X139&X140&IF(ISTEXT(C142),\" \"&C142,\"\"),X138&X139&X140&IF(ISTEXT(L142),\" \"&L142,\"\")),\"\")","v":"4:15,5:15"},{"$f":"IF(ISBLANK(L142),\"\",L142)","v":""},{"$f":"I139","v":4},{"$f":"J139","v":15},{"$f":"K139","v":5},{"$f":"L139","v":15},{"$f":"M139","v":0},{"$f":"N139","v":0},null,{"$f":"T137","v":0},{"$f":"T138","v":0},{"$f":"IF(OR(AA139=dane!$I$3,AA139=dane!$I$4,AA139=dane!$I$5,AA139=dane!$I$6),AR139,\"\")","v":""},{"$f":"IF(OR(AA139=dane!$I$7,AA139=dane!$I$8,AA139=dane!$I$10,AA139=dane!$I$11),AR139,\"\")","v":0},{"$f":"IF(OR(AA139=dane!$I$12,AA139=dane!$I$13,AA139=dane!$I$14,AA139=dane!$I$15),AR139,\"\")","v":""},{"$f":"IF(OR(AA139=dane!$I$16,AA139=dane!$I$17,AA139=dane!$I$18,AA139=dane!$I$19),AR139,\"\")","v":""},{"$f":"IF(OR(AA139=dane!$I$20,AA139=dane!$I$21,AA139=dane!$I$22,AA139=dane!$I$23),AR139,\"\")","v":""},{"$f":"IF(OR(AA139=dane!$I$3,AA139=dane!$I$4,AA139=dane!$I$5,AA139=dane!$I$6),AS139,\"\")","v":""},{"$f":"IF(OR(AA139=dane!$I$7,AA139=dane!$I$8,AA139=dane!$I$10,AA139=dane!$I$11),AS139,\"\")","v":0},{"$f":"IF(OR(AA139=dane!$I$12,AA139=dane!$I$13,AA139=dane!$I$14,AA139=dane!$I$15),AS139,\"\")","v":""},{"$f":"IF(OR(AA139=dane!$I$16,AA139=dane!$I$17,AA139=dane!$I$18,AA139=dane!$I$19),AS139,\"\")","v":""},{"$f":"IF(OR(AA139=dane!$I$20,AA139=dane!$I$21,AA139=dane!$I$22,AA139=dane!$I$23),AS139,\"\")","v":""},{"$f":"IF($T$1=\"\",\"\",IF(C139=\"\",\"\",IF(Q139=\"\",C140,\"\")))","v":""},{"$f":"IF(LEN(L141)>0,$V$3,$V$2)+Q139+$T$1+C137-1","v":"2014-10-23T00:25:00"},{"$f":"IF(BE139>NOW(),C140,\"\")","v":""},{"$f":"IF(C139<>\"\",\"\",VLOOKUP(C140,BD:BD,1,FALSE))","v":{"$error":"#N/A"}},{"$f":"IF(Q139<>\"\",\"\",VLOOKUP(C140,BF:BF,1,FALSE))","v":{"$error":"#N/A"}},{"$f":"IF(BF139<>\"\",BE139,\"\")","v":""},{"$f":"IF(Q139=\"\",C139,\"\")","v":0},null,null,null,null,null,null,null,null,null,null,null,null,{"$f":"IF((LEN(C139)+LEN(C143)+LEN(L143))=0,I140,\"\")","v":""},{"$f":"IF(LEN(BW139)>0,A139,\"\")","v":""}]
[{"$f":"IF(TYPE(VLOOKUP(C140,BF:BI,4,FALSE))=1,VLOOKUP(C140,BF:BI,4,FALSE),\"\")","v":""},{"$f":"IF(TYPE(VLOOKUP(I140,BW:BX,2,FALSE))=16,\"\",VLOOKUP(I140,BW:BX,2,FALSE))","v":""},{"$f":"IF(I140=\"\",\"\",VLOOKUP(I140,zawodnicy!$A:$D,2,FALSE)&\" \"&VLOOKUP(I140,zawodnicy!$A:$D,3,FALSE)&\" (\"&VLOOKUP(I140,zawodnicy!$A:$D,4,FALSE)&\")\")","v":"Kacper Urbaniak (Ząbki)"},null,null,null,null,null,{"$f":"IF(TYPE(VLOOKUP(A139,'grup-puch'!$A:$E,2,FALSE))=2,VLOOKUP(A139,'grup-puch'!$A:$E,2,FALSE),IF(TYPE(VLOOKUP(A139,puch!$A:$E,2,FALSE))=2,VLOOKUP(A139,puch!$A:$E,2,FALSE),\"\"))","v":"x72"},null,null,{"$f":"IF(TYPE(VLOOKUP(A139,'grup-puch'!$A:$E,4,FALSE))=2,VLOOKUP(A139,'grup-puch'!$A:$E,4,FALSE),IF(TYPE(VLOOKUP(A139,puch!$A:$E,4,FALSE))=2,VLOOKUP(A139,puch!$A:$E,4,FALSE),\"\"))","v":"x31"},null,null,{"$f":"IF(L140=\"\",\"\",VLOOKUP(L140,zawodnicy!$A:$D,2,FALSE)&\" \"&VLOOKUP(L140,zawodnicy!$A:$D,3,FALSE)&\" (\"&VLOOKUP(L140,zawodnicy!$A:$D,4,FALSE)&\")\")","v":"Damian  Mil (Ząbki)"},null,null,null,null,null,{"$f":"IF(TYPE(VLOOKUP(L140,BW:BX,2,FALSE))=16,\"\",VLOOKUP(L140,BW:BX,2,FALSE))","v":""},{"$f":"IF(TYPE(VLOOKUP(O140,BF:BI,4,FALSE))=1,VLOOKUP(O140,BF:BI,4,FALSE),\"\")","v":41959.017361111109},{"$f":"IF(AND(COUNTA(M139,N139)=2,AF139=I140),\",\"&FIXED(M139,0,TRUE)&\":\"&FIXED(N139,0,TRUE),IF(AND(COUNTA(M139,N139)=2,AF139=L140),\",\"&FIXED(N139,0,TRUE)&\":\"&FIXED(M139,0,TRUE),\"\"))","v":""},{"$f":"IF(AND(COUNTA(M139,N139)=2,AF139=I140),\",\"&FIXED(N139,0,TRUE)&\":\"&FIXED(M139,0,TRUE),IF(AND(COUNTA(M139,N139)=2,AF139=L140),\",\"&FIXED(M139,0,TRUE)&\":\"&FIXED(N139,0,TRUE),\"\"))","v":""},null,null,null,null,null,null,null,null,null,null,null,null,null,null,null,null,null,null,null,null,null,null,null,null,null,null,null,null,null,null,null,{"$f":"IF($T$1=\"\",\"\",IF(C139=\"\",\"\",IF(Q139=\"\",C141,\"\")))","v":""},null,{"$f":"IF(BE139>NOW(),C141,\"\")","v":""},{"$f":"IF(C139<>\"\",\"\",VLOOKUP(C141,BD:BD,1,FALSE))","v":""},{"$f":"IF(Q139<>\"\",\"\",VLOOKUP(C141,BF:BF,1,FALSE))","v":""},{"$f":"IF(BF140<>\"\",BE139,\"\")","v":""},null,null,null,null,null,null,null,null,null,null,null,{"$f":"IF(VLOOKUP(I140,zawodnicy!A:E,5,FALSE)=0,\"\",C140)","v":""},{"$f":"IF(VLOOKUP(L140,zawodnicy!A:E,5,FALSE)=0,\"\",O140)","v":""},{"$f":"IF((LEN(C139)+LEN(C143)+LEN(L143))=0,I141,\"\")","v":""},{"$f":"IF(LEN(BW140)>0,A139,\"\")","v":""}]
["","",{"$f":"IF(OR(I141=0,I141=\"\"),\"\",VLOOKUP(I141,zawodnicy!$A:$D,2,FALSE)&\" \"&VLOOKUP(I141,zawodnicy!$A:$D,3,FALSE)&\" (\"&VLOOKUP(I141,zawodnicy!$A:$D,4,FALSE)&\")\")","v":""},null,null,null,null,null,{"$f":"IF(TYPE(VLOOKUP(A139,'grup-puch'!$A:$E,3,FALSE))=2,VLOOKUP(A139,'grup-puch'!$A:$E,3,FALSE),IF(TYPE(VLOOKUP(A139,puch!$A:$E,3,FALSE))=2,VLOOKUP(A139,puch!$A:$E,3,FALSE),\"\"))","v":""},null,null,{"$f":"IF(TYPE(VLOOKUP(A139,'grup-puch'!$A:$E,5,FALSE))=2,VLOOKUP(A139,'grup-puch'!$A:$E,5,FALSE),IF(TYPE(VLOOKUP(A139,puch!$A:$E,5,FALSE))=2,VLOOKUP(A139,puch!$A:$E,5,FALSE),\"\"))","v":""},null,null,{"$f":"IF(OR(L141=\"\",L141=0),\"\",VLOOKUP(L141,zawodnicy!$A:$D,2,FALSE)&\" \"&VLOOKUP(L141,zawodnicy!$A:$D,3,FALSE)&\" (\"&VLOOKUP(L141,zawodnicy!$A:$D,4,FALSE)&\")\")","v":""},null,null,null,null,null,"","",null,null,null,null,null,null,null,null,null,null,null,null,null,null,null,null,null,null,null,null,null,null,null,null,null,null,null,null,null,null,null,null,null,{"$f":"IF($T$1=\"\",\"\",IF(C139=\"\",\"\",IF(Q139=\"\",O140,\"\")))","v":""},null,{"$f":"IF(BE139>NOW(),O140,\"\")","v":""},{"$f":"IF(C139<>\"\",\"\",VLOOKUP(O140,BD:BD,1,FALSE))","v":{"$error":"#N/A"}},{"$f":"IF(Q139<>\"\",\"\",VLOOKUP(O140,BF:BF,1,FALSE))","v":"Damian  Mil (Ząbki)"},{"$f":"IF(BF141<>\"\",BE139,\"\")","v":""},null,null,null,null,null,null,null,null,null,null,null,{"$f":"IF(VLOOKUP(I141,zawodnicy!A:E,5,FALSE)=0,\"\",C141)","v":{"$error":"#N/A"}},{"$f":"IF(VLOOKUP(L141,zawodnicy!A:E,5,FALSE)=0,\"\",O141)","v":{"$error":"#N/A"}},{"$f":"IF((LEN(C139)+LEN(C143)+LEN(L143))=0,L140,\"\")","v":""},{"$f":"IF(LEN(BW141)>0,A139,\"\")","v":""}]
[null,null,null,null,null,null,null,null,null,null,null,null,null,null,null,null,null,null,null,null,null,null,null,null,null,null,null,null,null,null,null,null,null,null,null,null,null,null,null,null,null,null,null,null,null,null,null,null,null,null,null,null,null,null,null,{"$f":"IF($T$1=\"\",\"\",IF(C139=\"\",\"\",IF(Q139=\"\",O141,\"\")))","v":""},null,{"$f":"IF(BE139>NOW(),O141,\"\")","v":""},{"$f":"IF(C139<>\"\",\"\",VLOOKUP(O141,BD:BD,1,FALSE))","v":""},{"$f":"IF(Q139<>\"\",\"\",VLOOKUP(O141,BF:BF,1,FALSE))","v":""},{"$f":"IF(BF142<>\"\",BE139,\"\")","v":""},null,null,null,null,null,null,null,null,null,null,null,null,null,{"$f":"IF((LEN(C139)+LEN(C143)+LEN(L143))=0,L141,\"\")","v":""},{"$f":"IF(LEN(BW142)>0,A139,\"\")","v":""}]
[null,null,{"$f":"IF(I140=\"\",\"\",IF(I140=AF139,\"zwycięzca(cy):\"&\" \"&AH139,\"\"))","v":""},null,null,null,null,null,null,null,null,{"$f":"IF(L140=\"\",\"\",IF(L140=AF139,\"zwycięzca(cy):\"&\" \"&AH139,\"\"))","v":"zwycięzca(cy): 15:4,15:5"}]
[null,null,21,"dzień turnieju.",null,null,null,null,null,"Nr meczu",null,null,null,null,"Godz.",null,null,null,"S. prow.",null,null,null,{"$f":"IF(I146>J146,1,0)+IF(K146>L146,1,0)+IF(M146>N146,1,0)","v":2},{"$f":"IF(J146>I146,1,0)+IF(L146>K146,1,0)+IF(N146>M146,1,0)","v":0},null,null,null,null,null,null,null,null,null,"wygrany","przegrany"]
[null,null,"Boisko","Gra",null,null,null,null,null,{"$f":"A146","v":21},null,null,null,null,"rozp.",null,"zak.",null,"S. serw.",null,null,null,{"$f":"IF(AND(COUNTA(I146,J146)=2,AF146=I147),FIXED(I146,0,TRUE)&\":\"&FIXED(J146,0,TRUE),IF(AND(COUNTA(I146,J146)=2,AF146=L147),FIXED(J146,0,TRUE)&\":\"&FIXED(I146,0,TRUE),\"\"))","v":"15:8"},{"$f":"IF(AND(COUNTA(I146,J146)=2,AF146=I147),FIXED(J146,0,TRUE)&\":\"&FIXED(I146,0,TRUE),IF(AND(COUNTA(I146,J146)=2,AF146=L147),FIXED(I146,0,TRUE)&\":\"&FIXED(J146,0,TRUE),\"\"))","v":"8:15"}]
[21,null,null,{"$f":"IF(TYPE(VLOOKUP(A146,'grup-puch'!$A:$M,13,FALSE))=2,VLOOKUP(A146,'grup-puch'!$A:$M,13,FALSE),IF(TYPE(VLOOKUP(A146,puch!$A:$J,10,FALSE))=2,VLOOKUP(A146,puch!$A:$J,10,FALSE),\"\"))","v":"KLASY 1-3 CHŁOPCY"},null,null,null,null,15,8,15,7,null,null,null,null,null,null,{"$f":"Q146-O146","v":"00:00:00"},{"$f":"IF(VLOOKUP(A146,dane!F:G,2,FALSE)=\"\",\"\",VLOOKUP(A146,dane!F:G,2,FALSE))","v":""},null,null,{"$f":"IF(AND(COUNTA(K146,L146)=2,AF146=I147),\",\"&FIXED(K146,0,TRUE)&\":\"&FIXED(L146,0,TRUE),IF(AND(COUNTA(K146,L146)=2,AF146=L147),\",\"&FIXED(L146,0,TRUE)&\":\"&FIXED(K146,0,TRUE),\"\"))","v":",15:7"},{"$f":"IF(AND(COUNTA(K146,L146)=2,AF146=I147),\",\"&FIXED(L146,0,TRUE)&\":\"&FIXED(K146,0,TRUE),IF(AND(COUNTA(K146,L146)=2,AF146=L147),\",\"&FIXED(K146,0,TRUE)&\":\"&FIXED(L146,0,TRUE),\"\"))","v":",7:15"},null,{"$f":"A146","v":21},{"$f":"IF(ISBLANK(D146),\"\",D146)","v":"KLASY 1-3 CHŁOPCY"},{"$f":"IF(OR(I147=0,I147=\"\"),\"\",I147)","v":"x43"},{"$f":"IF(OR(I148=0,I148=\"\"),\"\",I148)","v":""},{"$f":"IF(OR(L147=0,L147=\"\"),\"\",L147)","v":"x7"},{"$f":"IF(OR(L148=0,L148=\"\"),\"\",L148)","v":""},{"$f":"IF(COUNTA(C149,L149)=1,IF(ISTEXT(C149),I147,L147),IF(OR(I146=\"\",W144=X144),\"\",IF(W144>X144,I147,L147)))","v":"x43"},{"$f":"IF(COUNTA(C149,L149)=1,IF(ISTEXT(C149),I148,L148),IF(OR(I146=\"\",W144=X144),\"\",IF(W144>X144,I148,L148)))","v":""},{"$f":"IF(OR(AF146=I147,AF146=L147),IF(AF146=I147,W145&W146&W147&IF(ISTEXT(C149),\" \"&C149,\"\"),W145&W146&W147&IF(ISTEXT(L149),\" \"&L149,\"\")),\"\")","v":"15:8,15:7"},{"$f":"IF(OR(AF146=I147,AF146=L147),IF(AF146=I147,X145&X146&X147&IF(ISTEXT(C149),\" \"&C149,\"\"),X145&X146&X147&IF(ISTEXT(L149),\" \"&L149,\"\")),\"\")","v":"8:15,7:15"},{"$f":"IF(ISBLANK(L149),\"\",L149)","v":""},{"$f":"I146","v":15},{"$f":"J146","v":8},{"$f":"K146","v":15},{"$f":"L146","v":7},{"$f":"M146","v":0},{"$f":"N146","v":0},null,{"$f":"T144","v":0},{"$f":"T145","v":0},{"$f":"IF(OR(AA146=dane!$I$3,AA146=dane!$I$4,AA146=dane!$I$5,AA146=dane!$I$6),AR146,\"\")","v":0},{"$f":"IF(OR(AA146=dane!$I$7,AA146=dane!$I$8,AA146=dane!$I$10,AA146=dane!$I$11),AR146,\"\")","v":""},{"$f":"IF(OR(AA146=dane!$I$12,AA146=dane!$I$13,AA146=dane!$I$14,AA146=dane!$I$15),AR146,\"\")","v":""},{"$f":"IF(OR(AA146=dane!$I$16,AA146=dane!$I$17,AA146=dane!$I$18,AA146=dane!$I$19),AR146,\"\")","v":""},{"$f":"IF(OR(AA146=dane!$I$20,AA146=dane!$I$21,AA146=dane!$I$22,AA146=dane!$I$23),AR146,\"\")","v":""},{"$f":"IF(OR(AA146=dane!$I$3,AA146=dane!$I$4,AA146=dane!$I$5,AA146=dane!$I$6),AS146,\"\")","v":0},{"$f":"IF(OR(AA146=dane!$I$7,AA146=dane!$I$8,AA146=dane!$I$10,AA146=dane!$I$11),AS146,\"\")","v":""},{"$f":"IF(OR(AA146=dane!$I$12,AA146=dane!$I$13,AA146=dane!$I$14,AA146=dane!$I$15),AS146,\"\")","v":""},{"$f":"IF(OR(AA146=dane!$I$16,AA146=dane!$I$17,AA146=dane!$I$18,AA146=dane!$I$19),AS146,\"\")","v":""},{"$f":"IF(OR(AA146=dane!$I$20,AA146=dane!$I$21,AA146=dane!$I$22,AA146=dane!$I$23),AS146,\"\")","v":""},{"$f":"IF($T$1=\"\",\"\",IF(C146=\"\",\"\",IF(Q146=\"\",C147,\"\")))","v":""},{"$f":"IF(LEN(L148)>0,$V$3,$V$2)+Q146+$T$1+C144-1","v":"2014-10-24T00:25:00"},{"$f":"IF(BE146>NOW(),C147,\"\")","v":""},{"$f":"IF(C146<>\"\",\"\",VLOOKUP(C147,BD:BD,1,FALSE))","v":{"$error":"#N/A"}},{"$f":"IF(Q146<>\"\",\"\",VLOOKUP(C147,BF:BF,1,FALSE))","v":"Maks  Siepsiak (Wesoła)"},{"$f":"IF(BF146<>\"\",BE146,\"\")","v":""},{"$f":"IF(Q146=\"\",C146,\"\")","v":0},null,null,null,null,null,null,null,null,null,null,null,null,{"$f":"IF((LEN(C146)+LEN(C150)+LEN(L150))=0,I147,\"\")","v":""},{"$f":"IF(LEN(BW146)>0,A146,\"\")","v":""}]
[{"$f":"IF(TYPE(VLOOKUP(C147,BF:BI,4,FALSE))=1,VLOOKUP(C147,BF:BI,4,FALSE),\"\")","v":41963.010416666664},{"$f":"IF(TYPE(VLOOKUP(I147,BW:BX,2,FALSE))=16,\"\",VLOOKUP(I147,BW:BX,2,FALSE))","v":""},{"$f":"IF(I147=\"\",\"\",VLOOKUP(I147,zawodnicy!$A:$D,2,FALSE)&\" \"&VLOOKUP(I147,zawodnicy!$A:$D,3,FALSE)&\" (\"&VLOOKUP(I147,zawodnicy!$A:$D,4,FALSE)&\")\")","v":"Maks  Siepsiak (Wesoła)"},null,null,null,null,null,{"$f":"IF(TYPE(VLOOKUP(A146,'grup-puch'!$A:$E,2,FALSE))=2,VLOOKUP(A146,'grup-puch'!$A:$E,2,FALSE),IF(TYPE(VLOOKUP(A146,puch!$A:$E,2,FALSE))=2,VLOOKUP(A146,puch!$A:$E,2,FALSE),\"\"))","v":"x43"},null,null,{"$f":"IF(TYPE(VLOOKUP(A146,'grup-puch'!$A:$E,4,FALSE))=2,VLOOKUP(A146,'grup-puch'!$A:$E,4,FALSE),IF(TYPE(VLOOKUP(A146,puch!$A:$E,4,FALSE))=2,VLOOKUP(A146,puch!$A:$E,4,FALSE),\"\"))","v":"x7"},null,null,{"$f":"IF(L147=\"\",\"\",VLOOKUP(L147,zawodnicy!$A:$D,2,FALSE)&\" \"&VLOOKUP(L147,zawodnicy!$A:$D,3,FALSE)&\" (\"&VLOOKUP(L147,zawodnicy!$A:$D,4,FALSE)&\")\")","v":"Kacper Gajos (Ząbki)"},null,null,null,null,null,{"$f":"IF(TYPE(VLOOKUP(L147,BW:BX,2,FALSE))=16,\"\",VLOOKUP(L147,BW:BX,2,FALSE))","v":""},{"$f":"IF(TYPE(VLOOKUP(O147,BF:BI,4,FALSE))=1,VLOOKUP(O147,BF:BI,4,FALSE),\"\")","v":""},{"$f":"IF(AND(COUNTA(M146,N146)=2,AF146=I147),\",\"&FIXED(M146,0,TRUE)&\":\"&FIXED(N146,0,TRUE),IF(AND(COUNTA(M146,N146)=2,AF146=L147),\",\"&FIXED(N146,0,TRUE)&\":\"&FIXED(M146,0,TRUE),\"\"))","v":""},{"$f":"IF(AND(COUNTA(M146,N146)=2,AF146=I147),\",\"&FIXED(N146,0,TRUE)&\":\"&FIXED(M146,0,TRUE),IF(AND(COUNTA(M146,N146)=2,AF146=L147),\",\"&FIXED(M146,0,TRUE)&\":\"&FIXED(N146,0,TRUE),\"\"))","v":""},null,null,null,null,null,null,null,null,null,null,null,null,null,null,null,null,null,null,null,null,null,null,null,null,null,null,null,null,null,null,null,{"$f":"IF($T$1=\"\",\"\",IF(C146=\"\",\"\",IF(Q146=\"\",C148,\"\")))","v":""},null,{"$f":"IF(BE146>NOW(),C148,\"\")","v":""},{"$f":"IF(C146<>\"\",\"\",VLOOKUP(C148,BD:BD,1,FALSE))","v":""},{"$f":"IF(Q146<>\"\",\"\",VLOOKUP(C148,BF:BF,1,FALSE))","v":""},{"$f":"IF(BF147<>\"\",BE146,\"\")","v":""},null,null,null,null,null,null,null,null,null,null,null,{"$f":"IF(VLOOKUP(I147,zawodnicy!A:E,5,FALSE)=0,\"\",C147)","v":""},{"$f":"IF(VLOOKUP(L147,zawodnicy!A:E,5,FALSE)=0,\"\",O147)","v":""},{"$f":"IF((LEN(C146)+LEN(C150)+LEN(L150))=0,I148,\"\")","v":""},{"$f":"IF(LEN(BW147)>0,A146,\"\")","v":""}]
["","",{"$f":"IF(OR(I148=0,I148=\"\"),\"\",VLOOKUP(I148,zawodnicy!$A:$D,2,FALSE)&\" \"&VLOOKUP(I148,zawodnicy!$A:$D,3,FALSE)&\" (\"&VLOOKUP(I148,zawodnicy!$A:$D,4,FALSE)&\")\")","v":""},null,null,null,null,null,{"$f":"IF(TYPE(VLOOKUP(A146,'grup-puch'!$A:$E,3,FALSE))=2,VLOOKUP(A146,'grup-puch'!$A:$E,3,FALSE),IF(TYPE(VLOOKUP(A146,puch!$A:$E,3,FALSE))=2,VLOOKUP(A146,puch!$A:$E,3,FALSE),\"\"))","v":""},null,null,{"$f":"IF(TYPE(VLOOKUP(A146,'grup-puch'!$A:$E,5,FALSE))=2,VLOOKUP(A146,'grup-puch'!$A:$E,5,FALSE),IF(TYPE(VLOOKUP(A146,puch!$A:$E,5,FALSE))=2,VLOOKUP(A146,puch!$A:$E,5,FALSE),\"\"))","v":""},null,null,{"$f":"IF(OR(L148=\"\",L148=0),\"\",VLOOKUP(L148,zawodnicy!$A:$D,2,FALSE)&\" \"&VLOOKUP(L148,zawodnicy!$A:$D,3,FALSE)&\" (\"&VLOOKUP(L148,zawodnicy!$A:$D,4,FALSE)&\")\")","v":""},null,null,null,null,null,"","",null,null,null,null,null,null,null,null,null,null,null,null,null,null,null,null,null,null,null,null,null,null,null,null,null,null,null,null,null,null,null,null,null,{"$f":"IF($T$1=\"\",\"\",IF(C146=\"\",\"\",IF(Q146=\"\",O147,\"\")))","v":""},null,{"$f":"IF(BE146>NOW(),O147,\"\")","v":""},{"$f":"IF(C146<>\"\",\"\",VLOOKUP(O147,BD:BD,1,FALSE))","v":{"$error":"#N/A"}},{"$f":"IF(Q146<>\"\",\"\",VLOOKUP(O147,BF:BF,1,FALSE))","v":{"$error":"#N/A"}},{"$f":"IF(BF148<>\"\",BE146,\"\")","v":""},null,null,null,null,null,null,null,null,null,null,null,{"$f":"IF(VLOOKUP(I148,zawodnicy!A:E,5,FALSE)=0,\"\",C148)","v":{"$error":"#N/A"}},{"$f":"IF(VLOOKUP(L148,zawodnicy!A:E,5,FALSE)=0,\"\",O148)","v":{"$error":"#N/A"}},{"$f":"IF((LEN(C146)+LEN(C150)+LEN(L150))=0,L147,\"\")","v":""},{"$f":"IF(LEN(BW148)>0,A146,\"\")","v":""}]
[null,null,null,null,null,null,null,null,null,null,null,null,null,null,null,null,null,null,null,null,null,null,null,null,null,null,null,null,null,null,null,null,null,null,null,null,null,null,null,null,null,null,null,null,null,null,null,null,null,null,null,null,null,null,null,{"$f":"IF($T$1=\"\",\"\",IF(C146=\"\",\"\",IF(Q146=\"\",O148,\"\")))","v":""},null,{"$f":"IF(BE146>NOW(),O148,\"\")","v":""},{"$f":"IF(C146<>\"\",\"\",VLOOKUP(O148,BD:BD,1,FALSE))","v":""},{"$f":"IF(Q146<>\"\",\"\",VLOOKUP(O148,BF:BF,1,FALSE))","v":""},{"$f":"IF(BF149<>\"\",BE146,\"\")","v":""},null,null,null,null,null,null,null,null,null,null,null,null,null,{"$f":"IF((LEN(C146)+LEN(C150)+LEN(L150))=0,L148,\"\")","v":""},{"$f":"IF(LEN(BW149)>0,A146,\"\")","v":""}]
[null,null,{"$f":"IF(I147=\"\",\"\",IF(I147=AF146,\"zwycięzca(cy):\"&\" \"&AH146,\"\"))","v":"zwycięzca(cy): 15:8,15:7"},null,null,null,null,null,null,null,null,{"$f":"IF(L147=\"\",\"\",IF(L147=AF146,\"zwycięzca(cy):\"&\" \"&AH146,\"\"))","v":""}]
[null,null,22,"dzień turnieju.",null,null,null,null,null,"Nr meczu",null,null,null,null,"Godz.",null,null,null,"S. prow.",null,null,null,{"$f":"IF(I153>J153,1,0)+IF(K153>L153,1,0)+IF(M153>N153,1,0)","v":2},{"$f":"IF(J153>I153,1,0)+IF(L153>K153,1,0)+IF(N153>M153,1,0)","v":0},null,null,null,null,null,null,null,null,null,"wygrany","przegrany"]
[null,null,"Boisko","Gra",null,null,null,null,null,{"$f":"A153","v":22},null,null,null,null,"rozp.",null,"zak.",null,"S. serw.",null,null,null,{"$f":"IF(AND(COUNTA(I153,J153)=2,AF153=I154),FIXED(I153,0,TRUE)&\":\"&FIXED(J153,0,TRUE),IF(AND(COUNTA(I153,J153)=2,AF153=L154),FIXED(J153,0,TRUE)&\":\"&FIXED(I153,0,TRUE),\"\"))","v":"15:1"},{"$f":"IF(AND(COUNTA(I153,J153)=2,AF153=I154),FIXED(J153,0,TRUE)&\":\"&FIXED(I153,0,TRUE),IF(AND(COUNTA(I153,J153)=2,AF153=L154),FIXED(I153,0,TRUE)&\":\"&FIXED(J153,0,TRUE),\"\"))","v":"1:15"}]
[22,null,null,{"$f":"IF(TYPE(VLOOKUP(A153,'grup-puch'!$A:$M,13,FALSE))=2,VLOOKUP(A153,'grup-puch'!$A:$M,13,FALSE),IF(TYPE(VLOOKUP(A153,puch!$A:$J,10,FALSE))=2,VLOOKUP(A153,puch!$A:$J,10,FALSE),\"\"))","v":"KLASY 4-6 CHŁOPCY"},null,null,null,null,15,1,15,6,null,null,null,null,null,null,{"$f":"Q153-O153","v":"00:00:00"},{"$f":"IF(VLOOKUP(A153,dane!F:G,2,FALSE)=\"\",\"\",VLOOKUP(A153,dane!F:G,2,FALSE))","v":""},null,null,{"$f":"IF(AND(COUNTA(K153,L153)=2,AF153=I154),\",\"&FIXED(K153,0,TRUE)&\":\"&FIXED(L153,0,TRUE),IF(AND(COUNTA(K153,L153)=2,AF153=L154),\",\"&FIXED(L153,0,TRUE)&\":\"&FIXED(K153,0,TRUE),\"\"))","v":",15:6"},{"$f":"IF(AND(COUNTA(K153,L153)=2,AF153=I154),\",\"&FIXED(L153,0,TRUE)&\":\"&FIXED(K153,0,TRUE),IF(AND(COUNTA(K153,L153)=2,AF153=L154),\",\"&FIXED(K153,0,TRUE)&\":\"&FIXED(L153,0,TRUE),\"\"))","v":",6:15"},null,{"$f":"A153","v":22},{"$f":"IF(ISBLANK(D153),\"\",D153)","v":"KLASY 4-6 CHŁOPCY"},{"$f":"IF(OR(I154=0,I154=\"\"),\"\",I154)","v":"x59"},{"$f":"IF(OR(I155=0,I155=\"\"),\"\",I155)","v":""},{"$f":"IF(OR(L154=0,L154=\"\"),\"\",L154)","v":"x35"},{"$f":"IF(OR(L155=0,L155=\"\"),\"\",L155)","v":""},{"$f":"IF(COUNTA(C156,L156)=1,IF(ISTEXT(C156),I154,L154),IF(OR(I153=\"\",W151=X151),\"\",IF(W151>X151,I154,L154)))","v":"x59"},{"$f":"IF(COUNTA(C156,L156)=1,IF(ISTEXT(C156),I155,L155),IF(OR(I153=\"\",W151=X151),\"\",IF(W151>X151,I155,L155)))","v":""},{"$f":"IF(OR(AF153=I154,AF153=L154),IF(AF153=I154,W152&W153&W154&IF(ISTEXT(C156),\" \"&C156,\"\"),W152&W153&W154&IF(ISTEXT(L156),\" \"&L156,\"\")),\"\")","v":"15:1,15:6"},{"$f":"IF(OR(AF153=I154,AF153=L154),IF(AF153=I154,X152&X153&X154&IF(ISTEXT(C156),\" \"&C156,\"\"),X152&X153&X154&IF(ISTEXT(L156),\" \"&L156,\"\")),\"\")","v":"1:15,6:15"},{"$f":"IF(ISBLANK(L156),\"\",L156)","v":""},{"$f":"I153","v":15},{"$f":"J153","v":1},{"$f":"K153","v":15},{"$f":"L153","v":6},{"$f":"M153","v":0},{"$f":"N153","v":0},null,{"$f":"T151","v":0},{"$f":"T152","v":0},{"$f":"IF(OR(AA153=dane!$I$3,AA153=dane!$I$4,AA153=dane!$I$5,AA153=dane!$I$6),AR153,\"\")","v":0},{"$f":"IF(OR(AA153=dane!$I$7,AA153=dane!$I$8,AA153=dane!$I$10,AA153=dane!$I$11),AR153,\"\")","v":""},{"$f":"IF(OR(AA153=dane!$I$12,AA153=dane!$I$13,AA153=dane!$I$14,AA153=dane!$I$15),AR153,\"\")","v":""},{"$f":"IF(OR(AA153=dane!$I$16,AA153=dane!$I$17,AA153=dane!$I$18,AA153=dane!$I$19),AR153,\"\")","v":""},{"$f":"IF(OR(AA153=dane!$I$20,AA153=dane!$I$21,AA153=dane!$I$22,AA153=dane!$I$23),AR153,\"\")","v":""},{"$f":"IF(OR(AA153=dane!$I$3,AA153=dane!$I$4,AA153=dane!$I$5,AA153=dane!$I$6),AS153,\"\")","v":0},{"$f":"IF(OR(AA153=dane!$I$7,AA153=dane!$I$8,AA153=dane!$I$10,AA153=dane!$I$11),AS153,\"\")","v":""},{"$f":"IF(OR(AA153=dane!$I$12,AA153=dane!$I$13,AA153=dane!$I$14,AA153=dane!$I$15),AS153,\"\")","v":""},{"$f":"IF(OR(AA153=dane!$I$16,AA153=dane!$I$17,AA153=dane!$I$18,AA153=dane!$I$19),AS153,\"\")","v":""},{"$f":"IF(OR(AA153=dane!$I$20,AA153=dane!$I$21,AA153=dane!$I$22,AA153=dane!$I$23),AS153,\"\")","v":""},{"$f":"IF($T$1=\"\",\"\",IF(C153=\"\",\"\",IF(Q153=\"\",C154,\"\")))","v":""},{"$f":"IF(LEN(L155)>0,$V$3,$V$2)+Q153+$T$1+C151-1","v":"2014-10-25T00:25:00"},{"$f":"IF(BE153>NOW(),C154,\"\")","v":""},{"$f":"IF(C153<>\"\",\"\",VLOOKUP(C154,BD:BD,1,FALSE))","v":{"$error":"#N/A"}},{"$f":"IF(Q153<>\"\",\"\",VLOOKUP(C154,BF:BF,1,FALSE))","v":"Jakub  Walocha (Ząbki)"},{"$f":"IF(BF153<>\"\",BE153,\"\")","v":""},{"$f":"IF(Q153=\"\",C153,\"\")","v":0},null,null,null,null,null,null,null,null,null,null,null,null,{"$f":"IF((LEN(C153)+LEN(C157)+LEN(L157))=0,I154,\"\")","v":""},{"$f":"IF(LEN(BW153)>0,A153,\"\")","v":""}]
[{"$f":"IF(TYPE(VLOOKUP(C154,BF:BI,4,FALSE))=1,VLOOKUP(C154,BF:BI,4,FALSE),\"\")","v":41958.017361111109},{"$f":"IF(TYPE(VLOOKUP(I154,BW:BX,2,FALSE))=16,\"\",VLOOKUP(I154,BW:BX,2,FALSE))","v":""},{"$f":"IF(I154=\"\",\"\",VLOOKUP(I154,zawodnicy!$A:$D,2,FALSE)&\" \"&VLOOKUP(I154,zawodnicy!$A:$D,3,FALSE)&\" (\"&VLOOKUP(I154,zawodnicy!$A:$D,4,FALSE)&\")\")","v":"Jakub  Walocha (Ząbki)"},null,null,null,null,null,{"$f":"IF(TYPE(VLOOKUP(A153,'grup-puch'!$A:$E,2,FALSE))=2,VLOOKUP(A153,'grup-puch'!$A:$E,2,FALSE),IF(TYPE(VLOOKUP(A153,puch!$A:$E,2,FALSE))=2,VLOOKUP(A153,puch!$A:$E,2,FALSE),\"\"))","v":"x59"},null,null,{"$f":"IF(TYPE(VLOOKUP(A153,'grup-puch'!$A:$E,4,FALSE))=2,VLOOKUP(A153,'grup-puch'!$A:$E,4,FALSE),IF(TYPE(VLOOKUP(A153,puch!$A:$E,4,FALSE))=2,VLOOKUP(A153,puch!$A:$E,4,FALSE),\"\"))","v":"x35"},null,null,{"$f":"IF(L154=\"\",\"\",VLOOKUP(L154,zawodnicy!$A:$D,2,FALSE)&\" \"&VLOOKUP(L154,zawodnicy!$A:$D,3,FALSE)&\" (\"&VLOOKUP(L154,zawodnicy!$A:$D,4,FALSE)&\")\")","v":"Kuba  Niewczas (Ząbki)"},null,null,null,null,null,{"$f":"IF(TYPE(VLOOKUP(L154,BW:BX,2,FALSE))=16,\"\",VLOOKUP(L154,BW:BX,2,FALSE))","v":""},{"$f":"IF(TYPE(VLOOKUP(O154,BF:BI,4,FALSE))=1,VLOOKUP(O154,BF:BI,4,FALSE),\"\")","v":""},{"$f":"IF(AND(COUNTA(M153,N153)=2,AF153=I154),\",\"&FIXED(M153,0,TRUE)&\":\"&FIXED(N153,0,TRUE),IF(AND(COUNTA(M153,N153)=2,AF153=L154),\",\"&FIXED(N153,0,TRUE)&\":\"&FIXED(M153,0,TRUE),\"\"))","v":""},{"$f":"IF(AND(COUNTA(M153,N153)=2,AF153=I154),\",\"&FIXED(N153,0,TRUE)&\":\"&FIXED(M153,0,TRUE),IF(AND(COUNTA(M153,N153)=2,AF153=L154),\",\"&FIXED(M153,0,TRUE)&\":\"&FIXED(N153,0,TRUE),\"\"))","v":""},null,null,null,null,null,null,null,null,null,null,null,null,null,null,null,null,null,null,null,null,null,null,null,null,null,null,null,null,null,null,null,{"$f":"IF($T$1=\"\",\"\",IF(C153=\"\",\"\",IF(Q153=\"\",C155,\"\")))","v":""},null,{"$f":"IF(BE153>NOW(),C155,\"\")","v":""},{"$f":"IF(C153<>\"\",\"\",VLOOKUP(C155,BD:BD,1,FALSE))","v":""},{"$f":"IF(Q153<>\"\",\"\",VLOOKUP(C155,BF:BF,1,FALSE))","v":""},{"$f":"IF(BF154<>\"\",BE153,\"\")","v":""},null,null,null,null,null,null,null,null,null,null,null,{"$f":"IF(VLOOKUP(I154,zawodnicy!A:E,5,FALSE)=0,\"\",C154)","v":""},{"$f":"IF(VLOOKUP(L154,zawodnicy!A:E,5,FALSE)=0,\"\",O154)","v":""},{"$f":"IF((LEN(C153)+LEN(C157)+LEN(L157))=0,I155,\"\")","v":""},{"$f":"IF(LEN(BW154)>0,A153,\"\")","v":""}]
["","",{"$f":"IF(OR(I155=0,I155=\"\"),\"\",VLOOKUP(I155,zawodnicy!$A:$D,2,FALSE)&\" \"&VLOOKUP(I155,zawodnicy!$A:$D,3,FALSE)&\" (\"&VLOOKUP(I155,zawodnicy!$A:$D,4,FALSE)&\")\")","v":""},null,null,null,null,null,{"$f":"IF(TYPE(VLOOKUP(A153,'grup-puch'!$A:$E,3,FALSE))=2,VLOOKUP(A153,'grup-puch'!$A:$E,3,FALSE),IF(TYPE(VLOOKUP(A153,puch!$A:$E,3,FALSE))=2,VLOOKUP(A153,puch!$A:$E,3,FALSE),\"\"))","v":""},null,null,{"$f":"IF(TYPE(VLOOKUP(A153,'grup-puch'!$A:$E,5,FALSE))=2,VLOOKUP(A153,'grup-puch'!$A:$E,5,FALSE),IF(TYPE(VLOOKUP(A153,puch!$A:$E,5,FALSE))=2,VLOOKUP(A153,puch!$A:$E,5,FALSE),\"\"))","v":""},null,null,{"$f":"IF(OR(L155=\"\",L155=0),\"\",VLOOKUP(L155,zawodnicy!$A:$D,2,FALSE)&\" \"&VLOOKUP(L155,zawodnicy!$A:$D,3,FALSE)&\" (\"&VLOOKUP(L155,zawodnicy!$A:$D,4,FALSE)&\")\")","v":""},null,null,null,null,null,"","",null,null,null,null,null,null,null,null,null,null,null,null,null,null,null,null,null,null,null,null,null,null,null,null,null,null,null,null,null,null,null,null,null,{"$f":"IF($T$1=\"\",\"\",IF(C153=\"\",\"\",IF(Q153=\"\",O154,\"\")))","v":""},null,{"$f":"IF(BE153>NOW(),O154,\"\")","v":""},{"$f":"IF(C153<>\"\",\"\",VLOOKUP(O154,BD:BD,1,FALSE))","v":{"$error":"#N/A"}},{"$f":"IF(Q153<>\"\",\"\",VLOOKUP(O154,BF:BF,1,FALSE))","v":{"$error":"#N/A"}},{"$f":"IF(BF155<>\"\",BE153,\"\")","v":""},null,null,null,null,null,null,null,null,null,null,null,{"$f":"IF(VLOOKUP(I155,zawodnicy!A:E,5,FALSE)=0,\"\",C155)","v":{"$error":"#N/A"}},{"$f":"IF(VLOOKUP(L155,zawodnicy!A:E,5,FALSE)=0,\"\",O155)","v":{"$error":"#N/A"}},{"$f":"IF((LEN(C153)+LEN(C157)+LEN(L157))=0,L154,\"\")","v":""},{"$f":"IF(LEN(BW155)>0,A153,\"\")","v":""}]
[null,null,null,null,null,null,null,null,null,null,null,null,null,null,null,null,null,null,null,null,null,null,null,null,null,null,null,null,null,null,null,null,null,null,null,null,null,null,null,null,null,null,null,null,null,null,null,null,null,null,null,null,null,null,null,{"$f":"IF($T$1=\"\",\"\",IF(C153=\"\",\"\",IF(Q153=\"\",O155,\"\")))","v":""},null,{"$f":"IF(BE153>NOW(),O155,\"\")","v":""},{"$f":"IF(C153<>\"\",\"\",VLOOKUP(O155,BD:BD,1,FALSE))","v":""},{"$f":"IF(Q153<>\"\",\"\",VLOOKUP(O155,BF:BF,1,FALSE))","v":""},{"$f":"IF(BF156<>\"\",BE153,\"\")","v":""},null,null,null,null,null,null,null,null,null,null,null,null,null,{"$f":"IF((LEN(C153)+LEN(C157)+LEN(L157))=0,L155,\"\")","v":""},{"$f":"IF(LEN(BW156)>0,A153,\"\")","v":""}]
[null,null,{"$f":"IF(I154=\"\",\"\",IF(I154=AF153,\"zwycięzca(cy):\"&\" \"&AH153,\"\"))","v":"zwycięzca(cy): 15:1,15:6"},null,null,null,null,null,null,null,null,{"$f":"IF(L154=\"\",\"\",IF(L154=AF153,\"zwycięzca(cy):\"&\" \"&AH153,\"\"))","v":""}]
[null,null,23,"dzień turnieju.",null,null,null,null,null,"Nr meczu",null,null,null,null,"Godz.",null,null,null,"S. prow.",null,null,null,{"$f":"IF(I160>J160,1,0)+IF(K160>L160,1,0)+IF(M160>N160,1,0)","v":2},{"$f":"IF(J160>I160,1,0)+IF(L160>K160,1,0)+IF(N160>M160,1,0)","v":0},null,null,null,null,null,null,null,null,null,"wygrany","przegrany"]
[null,null,"Boisko","Gra",null,null,null,null,null,{"$f":"A160","v":23},null,null,null,null,"rozp.",null,"zak.",null,"S. serw.",null,null,null,{"$f":"IF(AND(COUNTA(I160,J160)=2,AF160=I161),FIXED(I160,0,TRUE)&\":\"&FIXED(J160,0,TRUE),IF(AND(COUNTA(I160,J160)=2,AF160=L161),FIXED(J160,0,TRUE)&\":\"&FIXED(I160,0,TRUE),\"\"))","v":"15:5"},{"$f":"IF(AND(COUNTA(I160,J160)=2,AF160=I161),FIXED(J160,0,TRUE)&\":\"&FIXED(I160,0,TRUE),IF(AND(COUNTA(I160,J160)=2,AF160=L161),FIXED(I160,0,TRUE)&\":\"&FIXED(J160,0,TRUE),\"\"))","v":"5:15"}]
[23,null,null,{"$f":"IF(TYPE(VLOOKUP(A160,'grup-puch'!$A:$M,13,FALSE))=2,VLOOKUP(A160,'grup-puch'!$A:$M,13,FALSE),IF(TYPE(VLOOKUP(A160,puch!$A:$J,10,FALSE))=2,VLOOKUP(A160,puch!$A:$J,10,FALSE),\"\"))","v":"KLASY 4-6 CHŁOPCY"},null,null,null,null,15,5,15,11,null,null,null,null,null,null,{"$f":"Q160-O160","v":"00:00:00"},{"$f":"IF(VLOOKUP(A160,dane!F:G,2,FALSE)=\"\",\"\",VLOOKUP(A160,dane!F:G,2,FALSE))","v":{"$error":"#N/A"}},null,null,{"$f":"IF(AND(COUNTA(K160,L160)=2,AF160=I161),\",\"&FIXED(K160,0,TRUE)&\":\"&FIXED(L160,0,TRUE),IF(AND(COUNTA(K160,L160)=2,AF160=L161),\",\"&FIXED(L160,0,TRUE)&\":\"&FIXED(K160,0,TRUE),\"\"))","v":",15:11"},{"$f":"IF(AND(COUNTA(K160,L160)=2,AF160=I161),\",\"&FIXED(L160,0,TRUE)&\":\"&FIXED(K160,0,TRUE),IF(AND(COUNTA(K160,L160)=2,AF160=L161),\",\"&FIXED(K160,0,TRUE)&\":\"&FIXED(L160,0,TRUE),\"\"))","v":",11:15"},null,{"$f":"A160","v":23},{"$f":"IF(ISBLANK(D160),\"\",D160)","v":"KLASY 4-6 CHŁOPCY"},{"$f":"IF(OR(I161=0,I161=\"\"),\"\",I161)","v":"x68"},{"$f":"IF(OR(I162=0,I162=\"\"),\"\",I162)","v":""},{"$f":"IF(OR(L161=0,L161=\"\"),\"\",L161)","v":"x33"},{"$f":"IF(OR(L162=0,L162=\"\"),\"\",L162)","v":""},{"$f":"IF(COUNTA(C163,L163)=1,IF(ISTEXT(C163),I161,L161),IF(OR(I160=\"\",W158=X158),\"\",IF(W158>X158,I161,L161)))","v":"x68"},{"$f":"IF(COUNTA(C163,L163)=1,IF(ISTEXT(C163),I162,L162),IF(OR(I160=\"\",W158=X158),\"\",IF(W158>X158,I162,L162)))","v":""},{"$f":"IF(OR(AF160=I161,AF160=L161),IF(AF160=I161,W159&W160&W161&IF(ISTEXT(C163),\" \"&C163,\"\"),W159&W160&W161&IF(ISTEXT(L163),\" \"&L163,\"\")),\"\")","v":"15:5,15:11"},{"$f":"IF(OR(AF160=I161,AF160=L161),IF(AF160=I161,X159&X160&X161&IF(ISTEXT(C163),\" \"&C163,\"\"),X159&X160&X161&IF(ISTEXT(L163),\" \"&L163,\"\")),\"\")","v":"5:15,11:15"},{"$f":"IF(ISBLANK(L163),\"\",L163)","v":""},{"$f":"I160","v":15},{"$f":"J160","v":5},{"$f":"K160","v":15},{"$f":"L160","v":11},{"$f":"M160","v":0},{"$f":"N160","v":0},null,{"$f":"T158","v":0},{"$f":"T159","v":0},{"$f":"IF(OR(AA160=dane!$I$3,AA160=dane!$I$4,AA160=dane!$I$5,AA160=dane!$I$6),AR160,\"\")","v":0},{"$f":"IF(OR(AA160=dane!$I$7,AA160=dane!$I$8,AA160=dane!$I$10,AA160=dane!$I$11),AR160,\"\")","v":""},{"$f":"IF(OR(AA160=dane!$I$12,AA160=dane!$I$13,AA160=dane!$I$14,AA160=dane!$I$15),AR160,\"\")","v":""},{"$f":"IF(OR(AA160=dane!$I$16,AA160=dane!$I$17,AA160=dane!$I$18,AA160=dane!$I$19),AR160,\"\")","v":""},{"$f":"IF(OR(AA160=dane!$I$20,AA160=dane!$I$21,AA160=dane!$I$22,AA160=dane!$I$23),AR160,\"\")","v":""},{"$f":"IF(OR(AA160=dane!$I$3,AA160=dane!$I$4,AA160=dane!$I$5,AA160=dane!$I$6),AS160,\"\")","v":0},{"$f":"IF(OR(AA160=dane!$I$7,AA160=dane!$I$8,AA160=dane!$I$10,AA160=dane!$I$11),AS160,\"\")","v":""},{"$f":"IF(OR(AA160=dane!$I$12,AA160=dane!$I$13,AA160=dane!$I$14,AA160=dane!$I$15),AS160,\"\")","v":""},{"$f":"IF(OR(AA160=dane!$I$16,AA160=dane!$I$17,AA160=dane!$I$18,AA160=dane!$I$19),AS160,\"\")","v":""},{"$f":"IF(OR(AA160=dane!$I$20,AA160=dane!$I$21,AA160=dane!$I$22,AA160=dane!$I$23),AS160,\"\")","v":""},{"$f":"IF($T$1=\"\",\"\",IF(C160=\"\",\"\",IF(Q160=\"\",C161,\"\")))","v":""},{"$f":"IF(LEN(L162)>0,$V$3,$V$2)+Q160+$T$1+C158-1","v":"2014-10-26T00:25:00"},{"$f":"IF(BE160>NOW(),C161,\"\")","v":""},{"$f":"IF(C160<>\"\",\"\",VLOOKUP(C161,BD:BD,1,FALSE))","v":{"$error":"#N/A"}},{"$f":"IF(Q160<>\"\",\"\",VLOOKUP(C161,BF:BF,1,FALSE))","v":"Kacper Winek (Garwolin)"},{"$f":"IF(BF160<>\"\",BE160,\"\")","v":""},{"$f":"IF(Q160=\"\",C160,\"\")","v":0},null,null,null,null,null,null,null,null,null,null,null,null,{"$f":"IF((LEN(C160)+LEN(C164)+LEN(L164))=0,I161,\"\")","v":""},{"$f":"IF(LEN(BW160)>0,A160,\"\")","v":""}]
[{"$f":"IF(TYPE(VLOOKUP(C161,BF:BI,4,FALSE))=1,VLOOKUP(C161,BF:BI,4,FALSE),\"\")","v":41958.017361111109},{"$f":"IF(TYPE(VLOOKUP(I161,BW:BX,2,FALSE))=16,\"\",VLOOKUP(I161,BW:BX,2,FALSE))","v":""},{"$f":"IF(I161=\"\",\"\",VLOOKUP(I161,zawodnicy!$A:$D,2,FALSE)&\" \"&VLOOKUP(I161,zawodnicy!$A:$D,3,FALSE)&\" (\"&VLOOKUP(I161,zawodnicy!$A:$D,4,FALSE)&\")\")","v":"Kacper Winek (Garwolin)"},null,null,null,null,null,{"$f":"IF(TYPE(VLOOKUP(A160,'grup-puch'!$A:$E,2,FALSE))=2,VLOOKUP(A160,'grup-puch'!$A:$E,2,FALSE),IF(TYPE(VLOOKUP(A160,puch!$A:$E,2,FALSE))=2,VLOOKUP(A160,puch!$A:$E,2,FALSE),\"\"))","v":"x68"},null,null,{"$f":"IF(TYPE(VLOOKUP(A160,'grup-puch'!$A:$E,4,FALSE))=2,VLOOKUP(A160,'grup-puch'!$A:$E,4,FALSE),IF(TYPE(VLOOKUP(A160,puch!$A:$E,4,FALSE))=2,VLOOKUP(A160,puch!$A:$E,4,FALSE),\"\"))","v":"x33"},null,null,{"$f":"IF(L161=\"\",\"\",VLOOKUP(L161,zawodnicy!$A:$D,2,FALSE)&\" \"&VLOOKUP(L161,zawodnicy!$A:$D,3,FALSE)&\" (\"&VLOOKUP(L161,zawodnicy!$A:$D,4,FALSE)&\")\")","v":"Jakub  Niemirski (Ząbki)"},null,null,null,null,null,{"$f":"IF(TYPE(VLOOKUP(L161,BW:BX,2,FALSE))=16,\"\",VLOOKUP(L161,BW:BX,2,FALSE))","v":""},{"$f":"IF(TYPE(VLOOKUP(O161,BF:BI,4,FALSE))=1,VLOOKUP(O161,BF:BI,4,FALSE),\"\")","v":""},{"$f":"IF(AND(COUNTA(M160,N160)=2,AF160=I161),\",\"&FIXED(M160,0,TRUE)&\":\"&FIXED(N160,0,TRUE),IF(AND(COUNTA(M160,N160)=2,AF160=L161),\",\"&FIXED(N160,0,TRUE)&\":\"&FIXED(M160,0,TRUE),\"\"))","v":""},{"$f":"IF(AND(COUNTA(M160,N160)=2,AF160=I161),\",\"&FIXED(N160,0,TRUE)&\":\"&FIXED(M160,0,TRUE),IF(AND(COUNTA(M160,N160)=2,AF160=L161),\",\"&FIXED(M160,0,TRUE)&\":\"&FIXED(N160,0,TRUE),\"\"))","v":""},null,null,null,null,null,null,null,null,null,null,null,null,null,null,null,null,null,null,null,null,null,null,null,null,null,null,null,null,null,null,null,{"$f":"IF($T$1=\"\",\"\",IF(C160=\"\",\"\",IF(Q160=\"\",C162,\"\")))","v":""},null,{"$f":"IF(BE160>NOW(),C162,\"\")","v":""},{"$f":"IF(C160<>\"\",\"\",VLOOKUP(C162,BD:BD,1,FALSE))","v":""},{"$f":"IF(Q160<>\"\",\"\",VLOOKUP(C162,BF:BF,1,FALSE))","v":""},{"$f":"IF(BF161<>\"\",BE160,\"\")","v":""},null,null,null,null,null,null,null,null,null,null,null,{"$f":"IF(VLOOKUP(I161,zawodnicy!A:E,5,FALSE)=0,\"\",C161)","v":""},{"$f":"IF(VLOOKUP(L161,zawodnicy!A:E,5,FALSE)=0,\"\",O161)","v":""},{"$f":"IF((LEN(C160)+LEN(C164)+LEN(L164))=0,I162,\"\")","v":""},{"$f":"IF(LEN(BW161)>0,A160,\"\")","v":""}]
["","",{"$f":"IF(OR(I162=0,I162=\"\"),\"\",VLOOKUP(I162,zawodnicy!$A:$D,2,FALSE)&\" \"&VLOOKUP(I162,zawodnicy!$A:$D,3,FALSE)&\" (\"&VLOOKUP(I162,zawodnicy!$A:$D,4,FALSE)&\")\")","v":""},null,null,null,null,null,{"$f":"IF(TYPE(VLOOKUP(A160,'grup-puch'!$A:$E,3,FALSE))=2,VLOOKUP(A160,'grup-puch'!$A:$E,3,FALSE),IF(TYPE(VLOOKUP(A160,puch!$A:$E,3,FALSE))=2,VLOOKUP(A160,puch!$A:$E,3,FALSE),\"\"))","v":""},null,null,{"$f":"IF(TYPE(VLOOKUP(A160,'grup-puch'!$A:$E,5,FALSE))=2,VLOOKUP(A160,'grup-puch'!$A:$E,5,FALSE),IF(TYPE(VLOOKUP(A160,puch!$A:$E,5,FALSE))=2,VLOOKUP(A160,puch!$A:$E,5,FALSE),\"\"))","v":""},null,null,{"$f":"IF(OR(L162=\"\",L162=0),\"\",VLOOKUP(L162,zawodnicy!$A:$D,2,FALSE)&\" \"&VLOOKUP(L162,zawodnicy!$A:$D,3,FALSE)&\" (\"&VLOOKUP(L162,zawodnicy!$A:$D,4,FALSE)&\")\")","v":""},null,null,null,null,null,"","",null,null,null,null,null,null,null,null,null,null,null,null,null,null,null,null,null,null,null,null,null,null,null,null,null,null,null,null,null,null,null,null,null,{"$f":"IF($T$1=\"\",\"\",IF(C160=\"\",\"\",IF(Q160=\"\",O161,\"\")))","v":""},null,{"$f":"IF(BE160>NOW(),O161,\"\")","v":""},{"$f":"IF(C160<>\"\",\"\",VLOOKUP(O161,BD:BD,1,FALSE))","v":{"$error":"#N/A"}},{"$f":"IF(Q160<>\"\",\"\",VLOOKUP(O161,BF:BF,1,FALSE))","v":{"$error":"#N/A"}},{"$f":"IF(BF162<>\"\",BE160,\"\")","v":""},null,null,null,null,null,null,null,null,null,null,null,{"$f":"IF(VLOOKUP(I162,zawodnicy!A:E,5,FALSE)=0,\"\",C162)","v":{"$error":"#N/A"}},{"$f":"IF(VLOOKUP(L162,zawodnicy!A:E,5,FALSE)=0,\"\",O162)","v":{"$error":"#N/A"}},{"$f":"IF((LEN(C160)+LEN(C164)+LEN(L164))=0,L161,\"\")","v":""},{"$f":"IF(LEN(BW162)>0,A160,\"\")","v":""}]
[null,null,null,null,null,null,null,null,null,null,null,null,null,null,null,null,null,null,null,null,null,null,null,null,null,null,null,null,null,null,null,null,null,null,null,null,null,null,null,null,null,null,null,null,null,null,null,null,null,null,null,null,null,null,null,{"$f":"IF($T$1=\"\",\"\",IF(C160=\"\",\"\",IF(Q160=\"\",O162,\"\")))","v":""},null,{"$f":"IF(BE160>NOW(),O162,\"\")","v":""},{"$f":"IF(C160<>\"\",\"\",VLOOKUP(O162,BD:BD,1,FALSE))","v":""},{"$f":"IF(Q160<>\"\",\"\",VLOOKUP(O162,BF:BF,1,FALSE))","v":""},{"$f":"IF(BF163<>\"\",BE160,\"\")","v":""},null,null,null,null,null,null,null,null,null,null,null,null,null,{"$f":"IF((LEN(C160)+LEN(C164)+LEN(L164))=0,L162,\"\")","v":""},{"$f":"IF(LEN(BW163)>0,A160,\"\")","v":""}]
[null,null,{"$f":"IF(I161=\"\",\"\",IF(I161=AF160,\"zwycięzca(cy):\"&\" \"&AH160,\"\"))","v":"zwycięzca(cy): 15:5,15:11"},null,null,null,null,null,null,null,null,{"$f":"IF(L161=\"\",\"\",IF(L161=AF160,\"zwycięzca(cy):\"&\" \"&AH160,\"\"))","v":""}]
[null,null,24,"dzień turnieju.",null,null,null,null,null,"Nr meczu",null,null,null,null,"Godz.",null,null,null,"S. prow.",null,null,null,{"$f":"IF(I167>J167,1,0)+IF(K167>L167,1,0)+IF(M167>N167,1,0)","v":2},{"$f":"IF(J167>I167,1,0)+IF(L167>K167,1,0)+IF(N167>M167,1,0)","v":0},null,null,null,null,null,null,null,null,null,"wygrany","przegrany"]
[null,null,"Boisko","Gra",null,null,null,null,null,{"$f":"A167","v":24},null,null,null,null,"rozp.",null,"zak.",null,"S. serw.",null,null,null,{"$f":"IF(AND(COUNTA(I167,J167)=2,AF167=I168),FIXED(I167,0,TRUE)&\":\"&FIXED(J167,0,TRUE),IF(AND(COUNTA(I167,J167)=2,AF167=L168),FIXED(J167,0,TRUE)&\":\"&FIXED(I167,0,TRUE),\"\"))","v":"15:8"},{"$f":"IF(AND(COUNTA(I167,J167)=2,AF167=I168),FIXED(J167,0,TRUE)&\":\"&FIXED(I167,0,TRUE),IF(AND(COUNTA(I167,J167)=2,AF167=L168),FIXED(I167,0,TRUE)&\":\"&FIXED(J167,0,TRUE),\"\"))","v":"8:15"}]
[24,null,null,{"$f":"IF(TYPE(VLOOKUP(A167,'grup-puch'!$A:$M,13,FALSE))=2,VLOOKUP(A167,'grup-puch'!$A:$M,13,FALSE),IF(TYPE(VLOOKUP(A167,puch!$A:$J,10,FALSE))=2,VLOOKUP(A167,puch!$A:$J,10,FALSE),\"\"))","v":"KLASY 4-6 CHŁOPCY"},null,null,null,null,15,8,16,14,null,null,null,null,null,null,{"$f":"Q167-O167","v":"00:00:00"},{"$f":"IF(VLOOKUP(A167,dane!F:G,2,FALSE)=\"\",\"\",VLOOKUP(A167,dane!F:G,2,FALSE))","v":{"$error":"#N/A"}},null,null,{"$f":"IF(AND(COUNTA(K167,L167)=2,AF167=I168),\",\"&FIXED(K167,0,TRUE)&\":\"&FIXED(L167,0,TRUE),IF(AND(COUNTA(K167,L167)=2,AF167=L168),\",\"&FIXED(L167,0,TRUE)&\":\"&FIXED(K167,0,TRUE),\"\"))","v":",16:14"},{"$f":"IF(AND(COUNTA(K167,L167)=2,AF167=I168),\",\"&FIXED(L167,0,TRUE)&\":\"&FIXED(K167,0,TRUE),IF(AND(COUNTA(K167,L167)=2,AF167=L168),\",\"&FIXED(K167,0,TRUE)&\":\"&FIXED(L167,0,TRUE),\"\"))","v":",14:16"},null,{"$f":"A167","v":24},{"$f":"IF(ISBLANK(D167),\"\",D167)","v":"KLASY 4-6 CHŁOPCY"},{"$f":"IF(OR(I168=0,I168=\"\"),\"\",I168)","v":"x20"},{"$f":"IF(OR(I169=0,I169=\"\"),\"\",I169)","v":""},{"$f":"IF(OR(L168=0,L168=\"\"),\"\",L168)","v":"x69"},{"$f":"IF(OR(L169=0,L169=\"\"),\"\",L169)","v":""},{"$f":"IF(COUNTA(C170,L170)=1,IF(ISTEXT(C170),I168,L168),IF(OR(I167=\"\",W165=X165),\"\",IF(W165>X165,I168,L168)))","v":"x20"},{"$f":"IF(COUNTA(C170,L170)=1,IF(ISTEXT(C170),I169,L169),IF(OR(I167=\"\",W165=X165),\"\",IF(W165>X165,I169,L169)))","v":""},{"$f":"IF(OR(AF167=I168,AF167=L168),IF(AF167=I168,W166&W167&W168&IF(ISTEXT(C170),\" \"&C170,\"\"),W166&W167&W168&IF(ISTEXT(L170),\" \"&L170,\"\")),\"\")","v":"15:8,16:14"},{"$f":"IF(OR(AF167=I168,AF167=L168),IF(AF167=I168,X166&X167&X168&IF(ISTEXT(C170),\" \"&C170,\"\"),X166&X167&X168&IF(ISTEXT(L170),\" \"&L170,\"\")),\"\")","v":"8:15,14:16"},{"$f":"IF(ISBLANK(L170),\"\",L170)","v":""},{"$f":"I167","v":15},{"$f":"J167","v":8},{"$f":"K167","v":16},{"$f":"L167","v":14},{"$f":"M167","v":0},{"$f":"N167","v":0},null,{"$f":"T165","v":0},{"$f":"T166","v":0},{"$f":"IF(OR(AA167=dane!$I$3,AA167=dane!$I$4,AA167=dane!$I$5,AA167=dane!$I$6),AR167,\"\")","v":0},{"$f":"IF(OR(AA167=dane!$I$7,AA167=dane!$I$8,AA167=dane!$I$10,AA167=dane!$I$11),AR167,\"\")","v":""},{"$f":"IF(OR(AA167=dane!$I$12,AA167=dane!$I$13,AA167=dane!$I$14,AA167=dane!$I$15),AR167,\"\")","v":""},{"$f":"IF(OR(AA167=dane!$I$16,AA167=dane!$I$17,AA167=dane!$I$18,AA167=dane!$I$19),AR167,\"\")","v":""},{"$f":"IF(OR(AA167=dane!$I$20,AA167=dane!$I$21,AA167=dane!$I$22,AA167=dane!$I$23),AR167,\"\")","v":""},{"$f":"IF(OR(AA167=dane!$I$3,AA167=dane!$I$4,AA167=dane!$I$5,AA167=dane!$I$6),AS167,\"\")","v":0},{"$f":"IF(OR(AA167=dane!$I$7,AA167=dane!$I$8,AA167=dane!$I$10,AA167=dane!$I$11),AS167,\"\")","v":""},{"$f":"IF(OR(AA167=dane!$I$12,AA167=dane!$I$13,AA167=dane!$I$14,AA167=dane!$I$15),AS167,\"\")","v":""},{"$f":"IF(OR(AA167=dane!$I$16,AA167=dane!$I$17,AA167=dane!$I$18,AA167=dane!$I$19),AS167,\"\")","v":""},{"$f":"IF(OR(AA167=dane!$I$20,AA167=dane!$I$21,AA167=dane!$I$22,AA167=dane!$I$23),AS167,\"\")","v":""},{"$f":"IF($T$1=\"\",\"\",IF(C167=\"\",\"\",IF(Q167=\"\",C168,\"\")))","v":""},{"$f":"IF(LEN(L169)>0,$V$3,$V$2)+Q167+$T$1+C165-1","v":"2014-10-27T00:25:00"},{"$f":"IF(BE167>NOW(),C168,\"\")","v":""},{"$f":"IF(C167<>\"\",\"\",VLOOKUP(C168,BD:BD,1,FALSE))","v":{"$error":"#N/A"}},{"$f":"IF(Q167<>\"\",\"\",VLOOKUP(C168,BF:BF,1,FALSE))","v":"Błażej  Krawczyk (Ząbki)"},{"$f":"IF(BF167<>\"\",BE167,\"\")","v":""},{"$f":"IF(Q167=\"\",C167,\"\")","v":0},null,null,null,null,null,null,null,null,null,null,null,null,{"$f":"IF((LEN(C167)+LEN(C171)+LEN(L171))=0,I168,\"\")","v":""},{"$f":"IF(LEN(BW167)>0,A167,\"\")","v":""}]
[{"$f":"IF(TYPE(VLOOKUP(C168,BF:BI,4,FALSE))=1,VLOOKUP(C168,BF:BI,4,FALSE),\"\")","v":41964.010416666664},{"$f":"IF(TYPE(VLOOKUP(I168,BW:BX,2,FALSE))=16,\"\",VLOOKUP(I168,BW:BX,2,FALSE))","v":""},{"$f":"IF(I168=\"\",\"\",VLOOKUP(I168,zawodnicy!$A:$D,2,FALSE)&\" \"&VLOOKUP(I168,zawodnicy!$A:$D,3,FALSE)&\" (\"&VLOOKUP(I168,zawodnicy!$A:$D,4,FALSE)&\")\")","v":"Błażej  Krawczyk (Ząbki)"},null,null,null,null,null,{"$f":"IF(TYPE(VLOOKUP(A167,'grup-puch'!$A:$E,2,FALSE))=2,VLOOKUP(A167,'grup-puch'!$A:$E,2,FALSE),IF(TYPE(VLOOKUP(A167,puch!$A:$E,2,FALSE))=2,VLOOKUP(A167,puch!$A:$E,2,FALSE),\"\"))","v":"x20"},null,null,{"$f":"IF(TYPE(VLOOKUP(A167,'grup-puch'!$A:$E,4,FALSE))=2,VLOOKUP(A167,'grup-puch'!$A:$E,4,FALSE),IF(TYPE(VLOOKUP(A167,puch!$A:$E,4,FALSE))=2,VLOOKUP(A167,puch!$A:$E,4,FALSE),\"\"))","v":"x69"},null,null,{"$f":"IF(L168=\"\",\"\",VLOOKUP(L168,zawodnicy!$A:$D,2,FALSE)&\" \"&VLOOKUP(L168,zawodnicy!$A:$D,3,FALSE)&\" (\"&VLOOKUP(L168,zawodnicy!$A:$D,4,FALSE)&\")\")","v":"Ela  Przybysz (Garwolin)"},null,null,null,null,null,{"$f":"IF(TYPE(VLOOKUP(L168,BW:BX,2,FALSE))=16,\"\",VLOOKUP(L168,BW:BX,2,FALSE))","v":""},{"$f":"IF(TYPE(VLOOKUP(O168,BF:BI,4,FALSE))=1,VLOOKUP(O168,BF:BI,4,FALSE),\"\")","v":41962.010416666664},{"$f":"IF(AND(COUNTA(M167,N167)=2,AF167=I168),\",\"&FIXED(M167,0,TRUE)&\":\"&FIXED(N167,0,TRUE),IF(AND(COUNTA(M167,N167)=2,AF167=L168),\",\"&FIXED(N167,0,TRUE)&\":\"&FIXED(M167,0,TRUE),\"\"))","v":""},{"$f":"IF(AND(COUNTA(M167,N167)=2,AF167=I168),\",\"&FIXED(N167,0,TRUE)&\":\"&FIXED(M167,0,TRUE),IF(AND(COUNTA(M167,N167)=2,AF167=L168),\",\"&FIXED(M167,0,TRUE)&\":\"&FIXED(N167,0,TRUE),\"\"))","v":""},null,null,null,null,null,null,null,null,null,null,null,null,null,null,null,null,null,null,null,null,null,null,null,null,null,null,null,null,null,null,null,{"$f":"IF($T$1=\"\",\"\",IF(C167=\"\",\"\",IF(Q167=\"\",C169,\"\")))","v":""},null,{"$f":"IF(BE167>NOW(),C169,\"\")","v":""},{"$f":"IF(C167<>\"\",\"\",VLOOKUP(C169,BD:BD,1,FALSE))","v":""},{"$f":"IF(Q167<>\"\",\"\",VLOOKUP(C169,BF:BF,1,FALSE))","v":""},{"$f":"IF(BF168<>\"\",BE167,\"\")","v":""},null,null,null,null,null,null,null,null,null,null,null,{"$f":"IF(VLOOKUP(I168,zawodnicy!A:E,5,FALSE)=0,\"\",C168)","v":""},{"$f":"IF(VLOOKUP(L168,zawodnicy!A:E,5,FALSE)=0,\"\",O168)","v":""},{"$f":"IF((LEN(C167)+LEN(C171)+LEN(L171))=0,I169,\"\")","v":""},{"$f":"IF(LEN(BW168)>0,A167,\"\")","v":""}]
["","",{"$f":"IF(OR(I169=0,I169=\"\"),\"\",VLOOKUP(I169,zawodnicy!$A:$D,2,FALSE)&\" \"&VLOOKUP(I169,zawodnicy!$A:$D,3,FALSE)&\" (\"&VLOOKUP(I169,zawodnicy!$A:$D,4,FALSE)&\")\")","v":""},null,null,null,null,null,{"$f":"IF(TYPE(VLOOKUP(A167,'grup-puch'!$A:$E,3,FALSE))=2,VLOOKUP(A167,'grup-puch'!$A:$E,3,FALSE),IF(TYPE(VLOOKUP(A167,puch!$A:$E,3,FALSE))=2,VLOOKUP(A167,puch!$A:$E,3,FALSE),\"\"))","v":""},null,null,{"$f":"IF(TYPE(VLOOKUP(A167,'grup-puch'!$A:$E,5,FALSE))=2,VLOOKUP(A167,'grup-puch'!$A:$E,5,FALSE),IF(TYPE(VLOOKUP(A167,puch!$A:$E,5,FALSE))=2,VLOOKUP(A167,puch!$A:$E,5,FALSE),\"\"))","v":""},null,null,{"$f":"IF(OR(L169=\"\",L169=0),\"\",VLOOKUP(L169,zawodnicy!$A:$D,2,FALSE)&\" \"&VLOOKUP(L169,zawodnicy!$A:$D,3,FALSE)&\" (\"&VLOOKUP(L169,zawodnicy!$A:$D,4,FALSE)&\")\")","v":""},null,null,null,null,null,"","",null,null,null,null,null,null,null,null,null,null,null,null,null,null,null,null,null,null,null,null,null,null,null,null,null,null,null,null,null,null,null,null,null,{"$f":"IF($T$1=\"\",\"\",IF(C167=\"\",\"\",IF(Q167=\"\",O168,\"\")))","v":""},null,{"$f":"IF(BE167>NOW(),O168,\"\")","v":""},{"$f":"IF(C167<>\"\",\"\",VLOOKUP(O168,BD:BD,1,FALSE))","v":{"$error":"#N/A"}},{"$f":"IF(Q167<>\"\",\"\",VLOOKUP(O168,BF:BF,1,FALSE))","v":"Ela  Przybysz (Garwolin)"},{"$f":"IF(BF169<>\"\",BE167,\"\")","v":""},null,null,null,null,null,null,null,null,null,null,null,{"$f":"IF(VLOOKUP(I169,zawodnicy!A:E,5,FALSE)=0,\"\",C169)","v":{"$error":"#N/A"}},{"$f":"IF(VLOOKUP(L169,zawodnicy!A:E,5,FALSE)=0,\"\",O169)","v":{"$error":"#N/A"}},{"$f":"IF((LEN(C167)+LEN(C171)+LEN(L171))=0,L168,\"\")","v":""},{"$f":"IF(LEN(BW169)>0,A167,\"\")","v":""}]
[null,null,null,null,null,null,null,null,null,null,null,null,null,null,null,null,null,null,null,null,null,null,null,null,null,null,null,null,null,null,null,null,null,null,null,null,null,null,null,null,null,null,null,null,null,null,null,null,null,null,null,null,null,null,null,{"$f":"IF($T$1=\"\",\"\",IF(C167=\"\",\"\",IF(Q167=\"\",O169,\"\")))","v":""},null,{"$f":"IF(BE167>NOW(),O169,\"\")","v":""},{"$f":"IF(C167<>\"\",\"\",VLOOKUP(O169,BD:BD,1,FALSE))","v":""},{"$f":"IF(Q167<>\"\",\"\",VLOOKUP(O169,BF:BF,1,FALSE))","v":""},{"$f":"IF(BF170<>\"\",BE167,\"\")","v":""},null,null,null,null,null,null,null,null,null,null,null,null,null,{"$f":"IF((LEN(C167)+LEN(C171)+LEN(L171))=0,L169,\"\")","v":""},{"$f":"IF(LEN(BW170)>0,A167,\"\")","v":""}]
[null,null,{"$f":"IF(I168=\"\",\"\",IF(I168=AF167,\"zwycięzca(cy):\"&\" \"&AH167,\"\"))","v":"zwycięzca(cy): 15:8,16:14"},null,null,null,null,null,null,null,null,{"$f":"IF(L168=\"\",\"\",IF(L168=AF167,\"zwycięzca(cy):\"&\" \"&AH167,\"\"))","v":""}]
[null,null,25,"dzień turnieju.",null,null,null,null,null,"Nr meczu",null,null,null,null,"Godz.",null,null,null,"S. prow.",null,null,null,{"$f":"IF(I174>J174,1,0)+IF(K174>L174,1,0)+IF(M174>N174,1,0)","v":1},{"$f":"IF(J174>I174,1,0)+IF(L174>K174,1,0)+IF(N174>M174,1,0)","v":2},null,null,null,null,null,null,null,null,null,"wygrany","przegrany"]
[null,null,"Boisko","Gra",null,null,null,null,null,{"$f":"A174","v":25},null,null,null,null,"rozp.",null,"zak.",null,"S. serw.",null,null,null,{"$f":"IF(AND(COUNTA(I174,J174)=2,AF174=I175),FIXED(I174,0,TRUE)&\":\"&FIXED(J174,0,TRUE),IF(AND(COUNTA(I174,J174)=2,AF174=L175),FIXED(J174,0,TRUE)&\":\"&FIXED(I174,0,TRUE),\"\"))","v":"10:15"},{"$f":"IF(AND(COUNTA(I174,J174)=2,AF174=I175),FIXED(J174,0,TRUE)&\":\"&FIXED(I174,0,TRUE),IF(AND(COUNTA(I174,J174)=2,AF174=L175),FIXED(I174,0,TRUE)&\":\"&FIXED(J174,0,TRUE),\"\"))","v":"15:10"}]
[25,null,null,{"$f":"IF(TYPE(VLOOKUP(A174,'grup-puch'!$A:$M,13,FALSE))=2,VLOOKUP(A174,'grup-puch'!$A:$M,13,FALSE),IF(TYPE(VLOOKUP(A174,puch!$A:$J,10,FALSE))=2,VLOOKUP(A174,puch!$A:$J,10,FALSE),\"\"))","v":"KLASY 4-6 CHŁOPCY"},null,null,null,null,15,10,10,15,10,15,null,null,null,null,{"$f":"Q174-O174","v":"00:00:00"},{"$f":"IF(VLOOKUP(A174,dane!F:G,2,FALSE)=\"\",\"\",VLOOKUP(A174,dane!F:G,2,FALSE))","v":{"$error":"#N/A"}},null,null,{"$f":"IF(AND(COUNTA(K174,L174)=2,AF174=I175),\",\"&FIXED(K174,0,TRUE)&\":\"&FIXED(L174,0,TRUE),IF(AND(COUNTA(K174,L174)=2,AF174=L175),\",\"&FIXED(L174,0,TRUE)&\":\"&FIXED(K174,0,TRUE),\"\"))","v":",15:10"},{"$f":"IF(AND(COUNTA(K174,L174)=2,AF174=I175),\",\"&FIXED(L174,0,TRUE)&\":\"&FIXED(K174,0,TRUE),IF(AND(COUNTA(K174,L174)=2,AF174=L175),\",\"&FIXED(K174,0,TRUE)&\":\"&FIXED(L174,0,TRUE),\"\"))","v":",10:15"},null,{"$f":"A174","v":25},{"$f":"IF(ISBLANK(D174),\"\",D174)","v":"KLASY 4-6 CHŁOPCY"},{"$f":"IF(OR(I175=0,I175=\"\"),\"\",I175)","v":"x66"},{"$f":"IF(OR(I176=0,I176=\"\"),\"\",I176)","v":""},{"$f":"IF(OR(L175=0,L175=\"\"),\"\",L175)","v":"x41"},{"$f":"IF(OR(L176=0,L176=\"\"),\"\",L176)","v":""},{"$f":"IF(COUNTA(C177,L177)=1,IF(ISTEXT(C177),I175,L175),IF(OR(I174=\"\",W172=X172),\"\",IF(W172>X172,I175,L175)))","v":"x41"},{"$f":"IF(COUNTA(C177,L177)=1,IF(ISTEXT(C177),I176,L176),IF(OR(I174=\"\",W172=X172),\"\",IF(W172>X172,I176,L176)))","v":""},{"$f":"IF(OR(AF174=I175,AF174=L175),IF(AF174=I175,W173&W174&W175&IF(ISTEXT(C177),\" \"&C177,\"\"),W173&W174&W175&IF(ISTEXT(L177),\" \"&L177,\"\")),\"\")","v":"10:15,15:10,15:10"},{"$f":"IF(OR(AF174=I175,AF174=L175),IF(AF174=I175,X173&X174&X175&IF(ISTEXT(C177),\" \"&C177,\"\"),X173&X174&X175&IF(ISTEXT(L177),\" \"&L177,\"\")),\"\")","v":"15:10,10:15,10:15"},{"$f":"IF(ISBLANK(L177),\"\",L177)","v":""},{"$f":"I174","v":15},{"$f":"J174","v":10},{"$f":"K174","v":10},{"$f":"L174","v":15},{"$f":"M174","v":10},{"$f":"N174","v":15},null,{"$f":"T172","v":0},{"$f":"T173","v":0},{"$f":"IF(OR(AA174=dane!$I$3,AA174=dane!$I$4,AA174=dane!$I$5,AA174=dane!$I$6),AR174,\"\")","v":0},{"$f":"IF(OR(AA174=dane!$I$7,AA174=dane!$I$8,AA174=dane!$I$10,AA174=dane!$I$11),AR174,\"\")","v":""},{"$f":"IF(OR(AA174=dane!$I$12,AA174=dane!$I$13,AA174=dane!$I$14,AA174=dane!$I$15),AR174,\"\")","v":""},{"$f":"IF(OR(AA174=dane!$I$16,AA174=dane!$I$17,AA174=dane!$I$18,AA174=dane!$I$19),AR174,\"\")","v":""},{"$f":"IF(OR(AA174=dane!$I$20,AA174=dane!$I$21,AA174=dane!$I$22,AA174=dane!$I$23),AR174,\"\")","v":""},{"$f":"IF(OR(AA174=dane!$I$3,AA174=dane!$I$4,AA174=dane!$I$5,AA174=dane!$I$6),AS174,\"\")","v":0},{"$f":"IF(OR(AA174=dane!$I$7,AA174=dane!$I$8,AA174=dane!$I$10,AA174=dane!$I$11),AS174,\"\")","v":""},{"$f":"IF(OR(AA174=dane!$I$12,AA174=dane!$I$13,AA174=dane!$I$14,AA174=dane!$I$15),AS174,\"\")","v":""},{"$f":"IF(OR(AA174=dane!$I$16,AA174=dane!$I$17,AA174=dane!$I$18,AA174=dane!$I$19),AS174,\"\")","v":""},{"$f":"IF(OR(AA174=dane!$I$20,AA174=dane!$I$21,AA174=dane!$I$22,AA174=dane!$I$23),AS174,\"\")","v":""},{"$f":"IF($T$1=\"\",\"\",IF(C174=\"\",\"\",IF(Q174=\"\",C175,\"\")))","v":""},{"$f":"IF(LEN(L176)>0,$V$3,$V$2)+Q174+$T$1+C172-1","v":"2014-10-28T00:25:00"},{"$f":"IF(BE174>NOW(),C175,\"\")","v":""},{"$f":"IF(C174<>\"\",\"\",VLOOKUP(C175,BD:BD,1,FALSE))","v":{"$error":"#N/A"}},{"$f":"IF(Q174<>\"\",\"\",VLOOKUP(C175,BF:BF,1,FALSE))","v":{"$error":"#N/A"}},{"$f":"IF(BF174<>\"\",BE174,\"\")","v":""},{"$f":"IF(Q174=\"\",C174,\"\")","v":0},null,null,null,null,null,null,null,null,null,null,null,null,{"$f":"IF((LEN(C174)+LEN(C178)+LEN(L178))=0,I175,\"\")","v":""},{"$f":"IF(LEN(BW174)>0,A174,\"\")","v":""}]
[{"$f":"IF(TYPE(VLOOKUP(C175,BF:BI,4,FALSE))=1,VLOOKUP(C175,BF:BI,4,FALSE),\"\")","v":""},{"$f":"IF(TYPE(VLOOKUP(I175,BW:BX,2,FALSE))=16,\"\",VLOOKUP(I175,BW:BX,2,FALSE))","v":""},{"$f":"IF(I175=\"\",\"\",VLOOKUP(I175,zawodnicy!$A:$D,2,FALSE)&\" \"&VLOOKUP(I175,zawodnicy!$A:$D,3,FALSE)&\" (\"&VLOOKUP(I175,zawodnicy!$A:$D,4,FALSE)&\")\")","v":"Miłosz  Siepsiak (Wesoła)"},null,null,null,null,null,{"$f":"IF(TYPE(VLOOKUP(A174,'grup-puch'!$A:$E,2,FALSE))=2,VLOOKUP(A174,'grup-puch'!$A:$E,2,FALSE),IF(TYPE(VLOOKUP(A174,puch!$A:$E,2,FALSE))=2,VLOOKUP(A174,puch!$A:$E,2,FALSE),\"\"))","v":"x66"},null,null,{"$f":"IF(TYPE(VLOOKUP(A174,'grup-puch'!$A:$E,4,FALSE))=2,VLOOKUP(A174,'grup-puch'!$A:$E,4,FALSE),IF(TYPE(VLOOKUP(A174,puch!$A:$E,4,FALSE))=2,VLOOKUP(A174,puch!$A:$E,4,FALSE),\"\"))","v":"x41"},null,null,{"$f":"IF(L175=\"\",\"\",VLOOKUP(L175,zawodnicy!$A:$D,2,FALSE)&\" \"&VLOOKUP(L175,zawodnicy!$A:$D,3,FALSE)&\" (\"&VLOOKUP(L175,zawodnicy!$A:$D,4,FALSE)&\")\")","v":"Ignacy Repiński (Marki)"},null,null,null,null,null,{"$f":"IF(TYPE(VLOOKUP(L175,BW:BX,2,FALSE))=16,\"\",VLOOKUP(L175,BW:BX,2,FALSE))","v":""},{"$f":"IF(TYPE(VLOOKUP(O175,BF:BI,4,FALSE))=1,VLOOKUP(O175,BF:BI,4,FALSE),\"\")","v":41964.010416666664},{"$f":"IF(AND(COUNTA(M174,N174)=2,AF174=I175),\",\"&FIXED(M174,0,TRUE)&\":\"&FIXED(N174,0,TRUE),IF(AND(COUNTA(M174,N174)=2,AF174=L175),\",\"&FIXED(N174,0,TRUE)&\":\"&FIXED(M174,0,TRUE),\"\"))","v":",15:10"},{"$f":"IF(AND(COUNTA(M174,N174)=2,AF174=I175),\",\"&FIXED(N174,0,TRUE)&\":\"&FIXED(M174,0,TRUE),IF(AND(COUNTA(M174,N174)=2,AF174=L175),\",\"&FIXED(M174,0,TRUE)&\":\"&FIXED(N174,0,TRUE),\"\"))","v":",10:15"},null,null,null,null,null,null,null,null,null,null,null,null,null,null,null,null,null,null,null,null,null,null,null,null,null,null,null,null,null,null,null,{"$f":"IF($T$1=\"\",\"\",IF(C174=\"\",\"\",IF(Q174=\"\",C176,\"\")))","v":""},null,{"$f":"IF(BE174>NOW(),C176,\"\")","v":""},{"$f":"IF(C174<>\"\",\"\",VLOOKUP(C176,BD:BD,1,FALSE))","v":""},{"$f":"IF(Q174<>\"\",\"\",VLOOKUP(C176,BF:BF,1,FALSE))","v":""},{"$f":"IF(BF175<>\"\",BE174,\"\")","v":""},null,null,null,null,null,null,null,null,null,null,null,{"$f":"IF(VLOOKUP(I175,zawodnicy!A:E,5,FALSE)=0,\"\",C175)","v":""},{"$f":"IF(VLOOKUP(L175,zawodnicy!A:E,5,FALSE)=0,\"\",O175)","v":""},{"$f":"IF((LEN(C174)+LEN(C178)+LEN(L178))=0,I176,\"\")","v":""},{"$f":"IF(LEN(BW175)>0,A174,\"\")","v":""}]
["","",{"$f":"IF(OR(I176=0,I176=\"\"),\"\",VLOOKUP(I176,zawodnicy!$A:$D,2,FALSE)&\" \"&VLOOKUP(I176,zawodnicy!$A:$D,3,FALSE)&\" (\"&VLOOKUP(I176,zawodnicy!$A:$D,4,FALSE)&\")\")","v":""},null,null,null,null,null,{"$f":"IF(TYPE(VLOOKUP(A174,'grup-puch'!$A:$E,3,FALSE))=2,VLOOKUP(A174,'grup-puch'!$A:$E,3,FALSE),IF(TYPE(VLOOKUP(A174,puch!$A:$E,3,FALSE))=2,VLOOKUP(A174,puch!$A:$E,3,FALSE),\"\"))","v":""},null,null,{"$f":"IF(TYPE(VLOOKUP(A174,'grup-puch'!$A:$E,5,FALSE))=2,VLOOKUP(A174,'grup-puch'!$A:$E,5,FALSE),IF(TYPE(VLOOKUP(A174,puch!$A:$E,5,FALSE))=2,VLOOKUP(A174,puch!$A:$E,5,FALSE),\"\"))","v":""},null,null,{"$f":"IF(OR(L176=\"\",L176=0),\"\",VLOOKUP(L176,zawodnicy!$A:$D,2,FALSE)&\" \"&VLOOKUP(L176,zawodnicy!$A:$D,3,FALSE)&\" (\"&VLOOKUP(L176,zawodnicy!$A:$D,4,FALSE)&\")\")","v":""},null,null,null,null,null,"","",null,null,null,null,null,null,null,null,null,null,null,null,null,null,null,null,null,null,null,null,null,null,null,null,null,null,null,null,null,null,null,null,null,{"$f":"IF($T$1=\"\",\"\",IF(C174=\"\",\"\",IF(Q174=\"\",O175,\"\")))","v":""},null,{"$f":"IF(BE174>NOW(),O175,\"\")","v":""},{"$f":"IF(C174<>\"\",\"\",VLOOKUP(O175,BD:BD,1,FALSE))","v":{"$error":"#N/A"}},{"$f":"IF(Q174<>\"\",\"\",VLOOKUP(O175,BF:BF,1,FALSE))","v":"Ignacy Repiński (Marki)"},{"$f":"IF(BF176<>\"\",BE174,\"\")","v":""},null,null,null,null,null,null,null,null,null,null,null,{"$f":"IF(VLOOKUP(I176,zawodnicy!A:E,5,FALSE)=0,\"\",C176)","v":{"$error":"#N/A"}},{"$f":"IF(VLOOKUP(L176,zawodnicy!A:E,5,FALSE)=0,\"\",O176)","v":{"$error":"#N/A"}},{"$f":"IF((LEN(C174)+LEN(C178)+LEN(L178))=0,L175,\"\")","v":""},{"$f":"IF(LEN(BW176)>0,A174,\"\")","v":""}]
[null,null,null,null,null,null,null,null,null,null,null,null,null,null,null,null,null,null,null,null,null,null,null,null,null,null,null,null,null,null,null,null,null,null,null,null,null,null,null,null,null,null,null,null,null,null,null,null,null,null,null,null,null,null,null,{"$f":"IF($T$1=\"\",\"\",IF(C174=\"\",\"\",IF(Q174=\"\",O176,\"\")))","v":""},null,{"$f":"IF(BE174>NOW(),O176,\"\")","v":""},{"$f":"IF(C174<>\"\",\"\",VLOOKUP(O176,BD:BD,1,FALSE))","v":""},{"$f":"IF(Q174<>\"\",\"\",VLOOKUP(O176,BF:BF,1,FALSE))","v":""},{"$f":"IF(BF177<>\"\",BE174,\"\")","v":""},null,null,null,null,null,null,null,null,null,null,null,null,null,{"$f":"IF((LEN(C174)+LEN(C178)+LEN(L178))=0,L176,\"\")","v":""},{"$f":"IF(LEN(BW177)>0,A174,\"\")","v":""}]
[null,null,{"$f":"IF(I175=\"\",\"\",IF(I175=AF174,\"zwycięzca(cy):\"&\" \"&AH174,\"\"))","v":""},null,null,null,null,null,null,null,null,{"$f":"IF(L175=\"\",\"\",IF(L175=AF174,\"zwycięzca(cy):\"&\" \"&AH174,\"\"))","v":"zwycięzca(cy): 10:15,15:10,15:10"}]
[null,null,26,"dzień turnieju.",null,null,null,null,null,"Nr meczu",null,null,null,null,"Godz.",null,null,null,"S. prow.",null,null,null,{"$f":"IF(I181>J181,1,0)+IF(K181>L181,1,0)+IF(M181>N181,1,0)","v":2},{"$f":"IF(J181>I181,1,0)+IF(L181>K181,1,0)+IF(N181>M181,1,0)","v":0},null,null,null,null,null,null,null,null,null,"wygrany","przegrany"]
[null,null,"Boisko","Gra",null,null,null,null,null,{"$f":"A181","v":26},null,null,null,null,"rozp.",null,"zak.",null,"S. serw.",null,null,null,{"$f":"IF(AND(COUNTA(I181,J181)=2,AF181=I182),FIXED(I181,0,TRUE)&\":\"&FIXED(J181,0,TRUE),IF(AND(COUNTA(I181,J181)=2,AF181=L182),FIXED(J181,0,TRUE)&\":\"&FIXED(I181,0,TRUE),\"\"))","v":"15:6"},{"$f":"IF(AND(COUNTA(I181,J181)=2,AF181=I182),FIXED(J181,0,TRUE)&\":\"&FIXED(I181,0,TRUE),IF(AND(COUNTA(I181,J181)=2,AF181=L182),FIXED(I181,0,TRUE)&\":\"&FIXED(J181,0,TRUE),\"\"))","v":"6:15"}]
[26,null,null,{"$f":"IF(TYPE(VLOOKUP(A181,'grup-puch'!$A:$M,13,FALSE))=2,VLOOKUP(A181,'grup-puch'!$A:$M,13,FALSE),IF(TYPE(VLOOKUP(A181,puch!$A:$J,10,FALSE))=2,VLOOKUP(A181,puch!$A:$J,10,FALSE),\"\"))","v":"GIMNAZJUM DZIEWCZĘTA"},null,null,null,null,15,6,15,4,null,null,null,null,null,null,{"$f":"Q181-O181","v":"00:00:00"},{"$f":"IF(VLOOKUP(A181,dane!F:G,2,FALSE)=\"\",\"\",VLOOKUP(A181,dane!F:G,2,FALSE))","v":{"$error":"#N/A"}},null,null,{"$f":"IF(AND(COUNTA(K181,L181)=2,AF181=I182),\",\"&FIXED(K181,0,TRUE)&\":\"&FIXED(L181,0,TRUE),IF(AND(COUNTA(K181,L181)=2,AF181=L182),\",\"&FIXED(L181,0,TRUE)&\":\"&FIXED(K181,0,TRUE),\"\"))","v":",15:4"},{"$f":"IF(AND(COUNTA(K181,L181)=2,AF181=I182),\",\"&FIXED(L181,0,TRUE)&\":\"&FIXED(K181,0,TRUE),IF(AND(COUNTA(K181,L181)=2,AF181=L182),\",\"&FIXED(K181,0,TRUE)&\":\"&FIXED(L181,0,TRUE),\"\"))","v":",4:15"},null,{"$f":"A181","v":26},{"$f":"IF(ISBLANK(D181),\"\",D181)","v":"GIMNAZJUM DZIEWCZĘTA"},{"$f":"IF(OR(I182=0,I182=\"\"),\"\",I182)","v":"x38"},{"$f":"IF(OR(I183=0,I183=\"\"),\"\",I183)","v":""},{"$f":"IF(OR(L182=0,L182=\"\"),\"\",L182)","v":"x21"},{"$f":"IF(OR(L183=0,L183=\"\"),\"\",L183)","v":""},{"$f":"IF(COUNTA(C184,L184)=1,IF(ISTEXT(C184),I182,L182),IF(OR(I181=\"\",W179=X179),\"\",IF(W179>X179,I182,L182)))","v":"x38"},{"$f":"IF(COUNTA(C184,L184)=1,IF(ISTEXT(C184),I183,L183),IF(OR(I181=\"\",W179=X179),\"\",IF(W179>X179,I183,L183)))","v":""},{"$f":"IF(OR(AF181=I182,AF181=L182),IF(AF181=I182,W180&W181&W182&IF(ISTEXT(C184),\" \"&C184,\"\"),W180&W181&W182&IF(ISTEXT(L184),\" \"&L184,\"\")),\"\")","v":"15:6,15:4"},{"$f":"IF(OR(AF181=I182,AF181=L182),IF(AF181=I182,X180&X181&X182&IF(ISTEXT(C184),\" \"&C184,\"\"),X180&X181&X182&IF(ISTEXT(L184),\" \"&L184,\"\")),\"\")","v":"6:15,4:15"},{"$f":"IF(ISBLANK(L184),\"\",L184)","v":""},{"$f":"I181","v":15},{"$f":"J181","v":6},{"$f":"K181","v":15},{"$f":"L181","v":4},{"$f":"M181","v":0},{"$f":"N181","v":0},null,{"$f":"T179","v":0},{"$f":"T180","v":0},{"$f":"IF(OR(AA181=dane!$I$3,AA181=dane!$I$4,AA181=dane!$I$5,AA181=dane!$I$6),AR181,\"\")","v":""},{"$f":"IF(OR(AA181=dane!$I$7,AA181=dane!$I$8,AA181=dane!$I$10,AA181=dane!$I$11),AR181,\"\")","v":0},{"$f":"IF(OR(AA181=dane!$I$12,AA181=dane!$I$13,AA181=dane!$I$14,AA181=dane!$I$15),AR181,\"\")","v":""},{"$f":"IF(OR(AA181=dane!$I$16,AA181=dane!$I$17,AA181=dane!$I$18,AA181=dane!$I$19),AR181,\"\")","v":""},{"$f":"IF(OR(AA181=dane!$I$20,AA181=dane!$I$21,AA181=dane!$I$22,AA181=dane!$I$23),AR181,\"\")","v":""},{"$f":"IF(OR(AA181=dane!$I$3,AA181=dane!$I$4,AA181=dane!$I$5,AA181=dane!$I$6),AS181,\"\")","v":""},{"$f":"IF(OR(AA181=dane!$I$7,AA181=dane!$I$8,AA181=dane!$I$10,AA181=dane!$I$11),AS181,\"\")","v":0},{"$f":"IF(OR(AA181=dane!$I$12,AA181=dane!$I$13,AA181=dane!$I$14,AA181=dane!$I$15),AS181,\"\")","v":""},{"$f":"IF(OR(AA181=dane!$I$16,AA181=dane!$I$17,AA181=dane!$I$18,AA181=dane!$I$19),AS181,\"\")","v":""},{"$f":"IF(OR(AA181=dane!$I$20,AA181=dane!$I$21,AA181=dane!$I$22,AA181=dane!$I$23),AS181,\"\")","v":""},{"$f":"IF($T$1=\"\",\"\",IF(C181=\"\",\"\",IF(Q181=\"\",C182,\"\")))","v":""},{"$f":"IF(LEN(L183)>0,$V$3,$V$2)+Q181+$T$1+C179-1","v":"2014-10-29T00:25:00"},{"$f":"IF(BE181>NOW(),C182,\"\")","v":""},{"$f":"IF(C181<>\"\",\"\",VLOOKUP(C182,BD:BD,1,FALSE))","v":{"$error":"#N/A"}},{"$f":"IF(Q181<>\"\",\"\",VLOOKUP(C182,BF:BF,1,FALSE))","v":"Iza Pomykała (Marki)"},{"$f":"IF(BF181<>\"\",BE181,\"\")","v":""},{"$f":"IF(Q181=\"\",C181,\"\")","v":0},null,null,null,null,null,null,null,null,null,null,null,null,{"$f":"IF((LEN(C181)+LEN(C185)+LEN(L185))=0,I182,\"\")","v":""},{"$f":"IF(LEN(BW181)>0,A181,\"\")","v":""}]
[{"$f":"IF(TYPE(VLOOKUP(C182,BF:BI,4,FALSE))=1,VLOOKUP(C182,BF:BI,4,FALSE),\"\")","v":41962.010416666664},{"$f":"IF(TYPE(VLOOKUP(I182,BW:BX,2,FALSE))=16,\"\",VLOOKUP(I182,BW:BX,2,FALSE))","v":""},{"$f":"IF(I182=\"\",\"\",VLOOKUP(I182,zawodnicy!$A:$D,2,FALSE)&\" \"&VLOOKUP(I182,zawodnicy!$A:$D,3,FALSE)&\" (\"&VLOOKUP(I182,zawodnicy!$A:$D,4,FALSE)&\")\")","v":"Iza Pomykała (Marki)"},null,null,null,null,null,{"$f":"IF(TYPE(VLOOKUP(A181,'grup-puch'!$A:$E,2,FALSE))=2,VLOOKUP(A181,'grup-puch'!$A:$E,2,FALSE),IF(TYPE(VLOOKUP(A181,puch!$A:$E,2,FALSE))=2,VLOOKUP(A181,puch!$A:$E,2,FALSE),\"\"))","v":"x38"},null,null,{"$f":"IF(TYPE(VLOOKUP(A181,'grup-puch'!$A:$E,4,FALSE))=2,VLOOKUP(A181,'grup-puch'!$A:$E,4,FALSE),IF(TYPE(VLOOKUP(A181,puch!$A:$E,4,FALSE))=2,VLOOKUP(A181,puch!$A:$E,4,FALSE),\"\"))","v":"x21"},null,null,{"$f":"IF(L182=\"\",\"\",VLOOKUP(L182,zawodnicy!$A:$D,2,FALSE)&\" \"&VLOOKUP(L182,zawodnicy!$A:$D,3,FALSE)&\" (\"&VLOOKUP(L182,zawodnicy!$A:$D,4,FALSE)&\")\")","v":"Magdalena  Krupa (Wesoła)"},null,null,null,null,null,{"$f":"IF(TYPE(VLOOKUP(L182,BW:BX,2,FALSE))=16,\"\",VLOOKUP(L182,BW:BX,2,FALSE))","v":""},{"$f":"IF(TYPE(VLOOKUP(O182,BF:BI,4,FALSE))=1,VLOOKUP(O182,BF:BI,4,FALSE),\"\")","v":41964.010416666664},{"$f":"IF(AND(COUNTA(M181,N181)=2,AF181=I182),\",\"&FIXED(M181,0,TRUE)&\":\"&FIXED(N181,0,TRUE),IF(AND(COUNTA(M181,N181)=2,AF181=L182),\",\"&FIXED(N181,0,TRUE)&\":\"&FIXED(M181,0,TRUE),\"\"))","v":""},{"$f":"IF(AND(COUNTA(M181,N181)=2,AF181=I182),\",\"&FIXED(N181,0,TRUE)&\":\"&FIXED(M181,0,TRUE),IF(AND(COUNTA(M181,N181)=2,AF181=L182),\",\"&FIXED(M181,0,TRUE)&\":\"&FIXED(N181,0,TRUE),\"\"))","v":""},null,null,null,null,null,null,null,null,null,null,null,null,null,null,null,null,null,null,null,null,null,null,null,null,null,null,null,null,null,null,null,{"$f":"IF($T$1=\"\",\"\",IF(C181=\"\",\"\",IF(Q181=\"\",C183,\"\")))","v":""},null,{"$f":"IF(BE181>NOW(),C183,\"\")","v":""},{"$f":"IF(C181<>\"\",\"\",VLOOKUP(C183,BD:BD,1,FALSE))","v":""},{"$f":"IF(Q181<>\"\",\"\",VLOOKUP(C183,BF:BF,1,FALSE))","v":""},{"$f":"IF(BF182<>\"\",BE181,\"\")","v":""},null,null,null,null,null,null,null,null,null,null,null,{"$f":"IF(VLOOKUP(I182,zawodnicy!A:E,5,FALSE)=0,\"\",C182)","v":""},{"$f":"IF(VLOOKUP(L182,zawodnicy!A:E,5,FALSE)=0,\"\",O182)","v":""},{"$f":"IF((LEN(C181)+LEN(C185)+LEN(L185))=0,I183,\"\")","v":""},{"$f":"IF(LEN(BW182)>0,A181,\"\")","v":""}]
["","",{"$f":"IF(OR(I183=0,I183=\"\"),\"\",VLOOKUP(I183,zawodnicy!$A:$D,2,FALSE)&\" \"&VLOOKUP(I183,zawodnicy!$A:$D,3,FALSE)&\" (\"&VLOOKUP(I183,zawodnicy!$A:$D,4,FALSE)&\")\")","v":""},null,null,null,null,null,{"$f":"IF(TYPE(VLOOKUP(A181,'grup-puch'!$A:$E,3,FALSE))=2,VLOOKUP(A181,'grup-puch'!$A:$E,3,FALSE),IF(TYPE(VLOOKUP(A181,puch!$A:$E,3,FALSE))=2,VLOOKUP(A181,puch!$A:$E,3,FALSE),\"\"))","v":""},null,null,{"$f":"IF(TYPE(VLOOKUP(A181,'grup-puch'!$A:$E,5,FALSE))=2,VLOOKUP(A181,'grup-puch'!$A:$E,5,FALSE),IF(TYPE(VLOOKUP(A181,puch!$A:$E,5,FALSE))=2,VLOOKUP(A181,puch!$A:$E,5,FALSE),\"\"))","v":""},null,null,{"$f":"IF(OR(L183=\"\",L183=0),\"\",VLOOKUP(L183,zawodnicy!$A:$D,2,FALSE)&\" \"&VLOOKUP(L183,zawodnicy!$A:$D,3,FALSE)&\" (\"&VLOOKUP(L183,zawodnicy!$A:$D,4,FALSE)&\")\")","v":""},null,null,null,null,null,"","",null,null,null,null,null,null,null,null,null,null,null,null,null,null,null,null,null,null,null,null,null,null,null,null,null,null,null,null,null,null,null,null,null,{"$f":"IF($T$1=\"\",\"\",IF(C181=\"\",\"\",IF(Q181=\"\",O182,\"\")))","v":""},null,{"$f":"IF(BE181>NOW(),O182,\"\")","v":""},{"$f":"IF(C181<>\"\",\"\",VLOOKUP(O182,BD:BD,1,FALSE))","v":{"$error":"#N/A"}},{"$f":"IF(Q181<>\"\",\"\",VLOOKUP(O182,BF:BF,1,FALSE))","v":"Magdalena  Krupa (Wesoła)"},{"$f":"IF(BF183<>\"\",BE181,\"\")","v":""},null,null,null,null,null,null,null,null,null,null,null,{"$f":"IF(VLOOKUP(I183,zawodnicy!A:E,5,FALSE)=0,\"\",C183)","v":{"$error":"#N/A"}},{"$f":"IF(VLOOKUP(L183,zawodnicy!A:E,5,FALSE)=0,\"\",O183)","v":{"$error":"#N/A"}},{"$f":"IF((LEN(C181)+LEN(C185)+LEN(L185))=0,L182,\"\")","v":""},{"$f":"IF(LEN(BW183)>0,A181,\"\")","v":""}]
[null,null,null,null,null,null,null,null,null,null,null,null,null,null,null,null,null,null,null,null,null,null,null,null,null,null,null,null,null,null,null,null,null,null,null,null,null,null,null,null,null,null,null,null,null,null,null,null,null,null,null,null,null,null,null,{"$f":"IF($T$1=\"\",\"\",IF(C181=\"\",\"\",IF(Q181=\"\",O183,\"\")))","v":""},null,{"$f":"IF(BE181>NOW(),O183,\"\")","v":""},{"$f":"IF(C181<>\"\",\"\",VLOOKUP(O183,BD:BD,1,FALSE))","v":""},{"$f":"IF(Q181<>\"\",\"\",VLOOKUP(O183,BF:BF,1,FALSE))","v":""},{"$f":"IF(BF184<>\"\",BE181,\"\")","v":""},null,null,null,null,null,null,null,null,null,null,null,null,null,{"$f":"IF((LEN(C181)+LEN(C185)+LEN(L185))=0,L183,\"\")","v":""},{"$f":"IF(LEN(BW184)>0,A181,\"\")","v":""}]
[null,null,{"$f":"IF(I182=\"\",\"\",IF(I182=AF181,\"zwycięzca(cy):\"&\" \"&AH181,\"\"))","v":"zwycięzca(cy): 15:6,15:4"},null,null,null,null,null,null,null,null,{"$f":"IF(L182=\"\",\"\",IF(L182=AF181,\"zwycięzca(cy):\"&\" \"&AH181,\"\"))","v":""}]
[null,null,27,"dzień turnieju.",null,null,null,null,null,"Nr meczu",null,null,null,null,"Godz.",null,null,null,"S. prow.",null,null,null,{"$f":"IF(I188>J188,1,0)+IF(K188>L188,1,0)+IF(M188>N188,1,0)","v":2},{"$f":"IF(J188>I188,1,0)+IF(L188>K188,1,0)+IF(N188>M188,1,0)","v":0},null,null,null,null,null,null,null,null,null,"wygrany","przegrany"]
[null,null,"Boisko","Gra",null,null,null,null,null,{"$f":"A188","v":27},null,null,null,null,"rozp.",null,"zak.",null,"S. serw.",null,null,null,{"$f":"IF(AND(COUNTA(I188,J188)=2,AF188=I189),FIXED(I188,0,TRUE)&\":\"&FIXED(J188,0,TRUE),IF(AND(COUNTA(I188,J188)=2,AF188=L189),FIXED(J188,0,TRUE)&\":\"&FIXED(I188,0,TRUE),\"\"))","v":"15:1"},{"$f":"IF(AND(COUNTA(I188,J188)=2,AF188=I189),FIXED(J188,0,TRUE)&\":\"&FIXED(I188,0,TRUE),IF(AND(COUNTA(I188,J188)=2,AF188=L189),FIXED(I188,0,TRUE)&\":\"&FIXED(J188,0,TRUE),\"\"))","v":"1:15"}]
[27,null,null,{"$f":"IF(TYPE(VLOOKUP(A188,'grup-puch'!$A:$M,13,FALSE))=2,VLOOKUP(A188,'grup-puch'!$A:$M,13,FALSE),IF(TYPE(VLOOKUP(A188,puch!$A:$J,10,FALSE))=2,VLOOKUP(A188,puch!$A:$J,10,FALSE),\"\"))","v":"GIMNAZJUM CHŁOPCY"},null,null,null,null,15,1,15,5,null,null,null,null,null,null,{"$f":"Q188-O188","v":"00:00:00"},{"$f":"IF(VLOOKUP(A188,dane!F:G,2,FALSE)=\"\",\"\",VLOOKUP(A188,dane!F:G,2,FALSE))","v":{"$error":"#N/A"}},null,null,{"$f":"IF(AND(COUNTA(K188,L188)=2,AF188=I189),\",\"&FIXED(K188,0,TRUE)&\":\"&FIXED(L188,0,TRUE),IF(AND(COUNTA(K188,L188)=2,AF188=L189),\",\"&FIXED(L188,0,TRUE)&\":\"&FIXED(K188,0,TRUE),\"\"))","v":",15:5"},{"$f":"IF(AND(COUNTA(K188,L188)=2,AF188=I189),\",\"&FIXED(L188,0,TRUE)&\":\"&FIXED(K188,0,TRUE),IF(AND(COUNTA(K188,L188)=2,AF188=L189),\",\"&FIXED(K188,0,TRUE)&\":\"&FIXED(L188,0,TRUE),\"\"))","v":",5:15"},null,{"$f":"A188","v":27},{"$f":"IF(ISBLANK(D188),\"\",D188)","v":"GIMNAZJUM CHŁOPCY"},{"$f":"IF(OR(I189=0,I189=\"\"),\"\",I189)","v":"x60"},{"$f":"IF(OR(I190=0,I190=\"\"),\"\",I190)","v":""},{"$f":"IF(OR(L189=0,L189=\"\"),\"\",L189)","v":"x37"},{"$f":"IF(OR(L190=0,L190=\"\"),\"\",L190)","v":""},{"$f":"IF(COUNTA(C191,L191)=1,IF(ISTEXT(C191),I189,L189),IF(OR(I188=\"\",W186=X186),\"\",IF(W186>X186,I189,L189)))","v":"x60"},{"$f":"IF(COUNTA(C191,L191)=1,IF(ISTEXT(C191),I190,L190),IF(OR(I188=\"\",W186=X186),\"\",IF(W186>X186,I190,L190)))","v":""},{"$f":"IF(OR(AF188=I189,AF188=L189),IF(AF188=I189,W187&W188&W189&IF(ISTEXT(C191),\" \"&C191,\"\"),W187&W188&W189&IF(ISTEXT(L191),\" \"&L191,\"\")),\"\")","v":"15:1,15:5"},{"$f":"IF(OR(AF188=I189,AF188=L189),IF(AF188=I189,X187&X188&X189&IF(ISTEXT(C191),\" \"&C191,\"\"),X187&X188&X189&IF(ISTEXT(L191),\" \"&L191,\"\")),\"\")","v":"1:15,5:15"},{"$f":"IF(ISBLANK(L191),\"\",L191)","v":""},{"$f":"I188","v":15},{"$f":"J188","v":1},{"$f":"K188","v":15},{"$f":"L188","v":5},{"$f":"M188","v":0},{"$f":"N188","v":0},null,{"$f":"T186","v":0},{"$f":"T187","v":0},{"$f":"IF(OR(AA188=dane!$I$3,AA188=dane!$I$4,AA188=dane!$I$5,AA188=dane!$I$6),AR188,\"\")","v":""},{"$f":"IF(OR(AA188=dane!$I$7,AA188=dane!$I$8,AA188=dane!$I$10,AA188=dane!$I$11),AR188,\"\")","v":0},{"$f":"IF(OR(AA188=dane!$I$12,AA188=dane!$I$13,AA188=dane!$I$14,AA188=dane!$I$15),AR188,\"\")","v":""},{"$f":"IF(OR(AA188=dane!$I$16,AA188=dane!$I$17,AA188=dane!$I$18,AA188=dane!$I$19),AR188,\"\")","v":""},{"$f":"IF(OR(AA188=dane!$I$20,AA188=dane!$I$21,AA188=dane!$I$22,AA188=dane!$I$23),AR188,\"\")","v":""},{"$f":"IF(OR(AA188=dane!$I$3,AA188=dane!$I$4,AA188=dane!$I$5,AA188=dane!$I$6),AS188,\"\")","v":""},{"$f":"IF(OR(AA188=dane!$I$7,AA188=dane!$I$8,AA188=dane!$I$10,AA188=dane!$I$11),AS188,\"\")","v":0},{"$f":"IF(OR(AA188=dane!$I$12,AA188=dane!$I$13,AA188=dane!$I$14,AA188=dane!$I$15),AS188,\"\")","v":""},{"$f":"IF(OR(AA188=dane!$I$16,AA188=dane!$I$17,AA188=dane!$I$18,AA188=dane!$I$19),AS188,\"\")","v":""},{"$f":"IF(OR(AA188=dane!$I$20,AA188=dane!$I$21,AA188=dane!$I$22,AA188=dane!$I$23),AS188,\"\")","v":""},{"$f":"IF($T$1=\"\",\"\",IF(C188=\"\",\"\",IF(Q188=\"\",C189,\"\")))","v":""},{"$f":"IF(LEN(L190)>0,$V$3,$V$2)+Q188+$T$1+C186-1","v":"2014-10-30T00:25:00"},{"$f":"IF(BE188>NOW(),C189,\"\")","v":""},{"$f":"IF(C188<>\"\",\"\",VLOOKUP(C189,BD:BD,1,FALSE))","v":{"$error":"#N/A"}},{"$f":"IF(Q188<>\"\",\"\",VLOOKUP(C189,BF:BF,1,FALSE))","v":"Adam  Walocha (Ząbki)"},{"$f":"IF(BF188<>\"\",BE188,\"\")","v":""},{"$f":"IF(Q188=\"\",C188,\"\")","v":0},null,null,null,null,null,null,null,null,null,null,null,null,{"$f":"IF((LEN(C188)+LEN(C192)+LEN(L192))=0,I189,\"\")","v":""},{"$f":"IF(LEN(BW188)>0,A188,\"\")","v":""}]
[{"$f":"IF(TYPE(VLOOKUP(C189,BF:BI,4,FALSE))=1,VLOOKUP(C189,BF:BI,4,FALSE),\"\")","v":41960.017361111109},{"$f":"IF(TYPE(VLOOKUP(I189,BW:BX,2,FALSE))=16,\"\",VLOOKUP(I189,BW:BX,2,FALSE))","v":""},{"$f":"IF(I189=\"\",\"\",VLOOKUP(I189,zawodnicy!$A:$D,2,FALSE)&\" \"&VLOOKUP(I189,zawodnicy!$A:$D,3,FALSE)&\" (\"&VLOOKUP(I189,zawodnicy!$A:$D,4,FALSE)&\")\")","v":"Adam  Walocha (Ząbki)"},null,null,null,null,null,{"$f":"IF(TYPE(VLOOKUP(A188,'grup-puch'!$A:$E,2,FALSE))=2,VLOOKUP(A188,'grup-puch'!$A:$E,2,FALSE),IF(TYPE(VLOOKUP(A188,puch!$A:$E,2,FALSE))=2,VLOOKUP(A188,puch!$A:$E,2,FALSE),\"\"))","v":"x60"},null,null,{"$f":"IF(TYPE(VLOOKUP(A188,'grup-puch'!$A:$E,4,FALSE))=2,VLOOKUP(A188,'grup-puch'!$A:$E,4,FALSE),IF(TYPE(VLOOKUP(A188,puch!$A:$E,4,FALSE))=2,VLOOKUP(A188,puch!$A:$E,4,FALSE),\"\"))","v":"x37"},null,null,{"$f":"IF(L189=\"\",\"\",VLOOKUP(L189,zawodnicy!$A:$D,2,FALSE)&\" \"&VLOOKUP(L189,zawodnicy!$A:$D,3,FALSE)&\" (\"&VLOOKUP(L189,zawodnicy!$A:$D,4,FALSE)&\")\")","v":"Kuba  Paciorek (Ząbki)"},null,null,null,null,null,{"$f":"IF(TYPE(VLOOKUP(L189,BW:BX,2,FALSE))=16,\"\",VLOOKUP(L189,BW:BX,2,FALSE))","v":""},{"$f":"IF(TYPE(VLOOKUP(O189,BF:BI,4,FALSE))=1,VLOOKUP(O189,BF:BI,4,FALSE),\"\")","v":""},{"$f":"IF(AND(COUNTA(M188,N188)=2,AF188=I189),\",\"&FIXED(M188,0,TRUE)&\":\"&FIXED(N188,0,TRUE),IF(AND(COUNTA(M188,N188)=2,AF188=L189),\",\"&FIXED(N188,0,TRUE)&\":\"&FIXED(M188,0,TRUE),\"\"))","v":""},{"$f":"IF(AND(COUNTA(M188,N188)=2,AF188=I189),\",\"&FIXED(N188,0,TRUE)&\":\"&FIXED(M188,0,TRUE),IF(AND(COUNTA(M188,N188)=2,AF188=L189),\",\"&FIXED(M188,0,TRUE)&\":\"&FIXED(N188,0,TRUE),\"\"))","v":""},null,null,null,null,null,null,null,null,null,null,null,null,null,null,null,null,null,null,null,null,null,null,null,null,null,null,null,null,null,null,null,{"$f":"IF($T$1=\"\",\"\",IF(C188=\"\",\"\",IF(Q188=\"\",C190,\"\")))","v":""},null,{"$f":"IF(BE188>NOW(),C190,\"\")","v":""},{"$f":"IF(C188<>\"\",\"\",VLOOKUP(C190,BD:BD,1,FALSE))","v":""},{"$f":"IF(Q188<>\"\",\"\",VLOOKUP(C190,BF:BF,1,FALSE))","v":""},{"$f":"IF(BF189<>\"\",BE188,\"\")","v":""},null,null,null,null,null,null,null,null,null,null,null,{"$f":"IF(VLOOKUP(I189,zawodnicy!A:E,5,FALSE)=0,\"\",C189)","v":""},{"$f":"IF(VLOOKUP(L189,zawodnicy!A:E,5,FALSE)=0,\"\",O189)","v":""},{"$f":"IF((LEN(C188)+LEN(C192)+LEN(L192))=0,I190,\"\")","v":""},{"$f":"IF(LEN(BW189)>0,A188,\"\")","v":""}]
["","",{"$f":"IF(OR(I190=0,I190=\"\"),\"\",VLOOKUP(I190,zawodnicy!$A:$D,2,FALSE)&\" \"&VLOOKUP(I190,zawodnicy!$A:$D,3,FALSE)&\" (\"&VLOOKUP(I190,zawodnicy!$A:$D,4,FALSE)&\")\")","v":""},null,null,null,null,null,{"$f":"IF(TYPE(VLOOKUP(A188,'grup-puch'!$A:$E,3,FALSE))=2,VLOOKUP(A188,'grup-puch'!$A:$E,3,FALSE),IF(TYPE(VLOOKUP(A188,puch!$A:$E,3,FALSE))=2,VLOOKUP(A188,puch!$A:$E,3,FALSE),\"\"))","v":""},null,null,{"$f":"IF(TYPE(VLOOKUP(A188,'grup-puch'!$A:$E,5,FALSE))=2,VLOOKUP(A188,'grup-puch'!$A:$E,5,FALSE),IF(TYPE(VLOOKUP(A188,puch!$A:$E,5,FALSE))=2,VLOOKUP(A188,puch!$A:$E,5,FALSE),\"\"))","v":""},null,null,{"$f":"IF(OR(L190=\"\",L190=0),\"\",VLOOKUP(L190,zawodnicy!$A:$D,2,FALSE)&\" \"&VLOOKUP(L190,zawodnicy!$A:$D,3,FALSE)&\" (\"&VLOOKUP(L190,zawodnicy!$A:$D,4,FALSE)&\")\")","v":""},null,null,null,null,null,"","",null,null,null,null,null,null,null,null,null,null,null,null,null,null,null,null,null,null,null,null,null,null,null,null,null,null,null,null,null,null,null,null,null,{"$f":"IF($T$1=\"\",\"\",IF(C188=\"\",\"\",IF(Q188=\"\",O189,\"\")))","v":""},null,{"$f":"IF(BE188>NOW(),O189,\"\")","v":""},{"$f":"IF(C188<>\"\",\"\",VLOOKUP(O189,BD:BD,1,FALSE))","v":{"$error":"#N/A"}},{"$f":"IF(Q188<>\"\",\"\",VLOOKUP(O189,BF:BF,1,FALSE))","v":{"$error":"#N/A"}},{"$f":"IF(BF190<>\"\",BE188,\"\")","v":""},null,null,null,null,null,null,null,null,null,null,null,{"$f":"IF(VLOOKUP(I190,zawodnicy!A:E,5,FALSE)=0,\"\",C190)","v":{"$error":"#N/A"}},{"$f":"IF(VLOOKUP(L190,zawodnicy!A:E,5,FALSE)=0,\"\",O190)","v":{"$error":"#N/A"}},{"$f":"IF((LEN(C188)+LEN(C192)+LEN(L192))=0,L189,\"\")","v":""},{"$f":"IF(LEN(BW190)>0,A188,\"\")","v":""}]
[null,null,null,null,null,null,null,null,null,null,null,null,null,null,null,null,null,null,null,null,null,null,null,null,null,null,null,null,null,null,null,null,null,null,null,null,null,null,null,null,null,null,null,null,null,null,null,null,null,null,null,null,null,null,null,{"$f":"IF($T$1=\"\",\"\",IF(C188=\"\",\"\",IF(Q188=\"\",O190,\"\")))","v":""},null,{"$f":"IF(BE188>NOW(),O190,\"\")","v":""},{"$f":"IF(C188<>\"\",\"\",VLOOKUP(O190,BD:BD,1,FALSE))","v":""},{"$f":"IF(Q188<>\"\",\"\",VLOOKUP(O190,BF:BF,1,FALSE))","v":""},{"$f":"IF(BF191<>\"\",BE188,\"\")","v":""},null,null,null,null,null,null,null,null,null,null,null,null,null,{"$f":"IF((LEN(C188)+LEN(C192)+LEN(L192))=0,L190,\"\")","v":""},{"$f":"IF(LEN(BW191)>0,A188,\"\")","v":""}]
[null,null,{"$f":"IF(I189=\"\",\"\",IF(I189=AF188,\"zwycięzca(cy):\"&\" \"&AH188,\"\"))","v":"zwycięzca(cy): 15:1,15:5"},null,null,null,null,null,null,null,null,{"$f":"IF(L189=\"\",\"\",IF(L189=AF188,\"zwycięzca(cy):\"&\" \"&AH188,\"\"))","v":""}]
[null,null,28,"dzień turnieju.",null,null,null,null,null,"Nr meczu",null,null,null,null,"Godz.",null,null,null,"S. prow.",null,null,null,{"$f":"IF(I195>J195,1,0)+IF(K195>L195,1,0)+IF(M195>N195,1,0)","v":0},{"$f":"IF(J195>I195,1,0)+IF(L195>K195,1,0)+IF(N195>M195,1,0)","v":2},null,null,null,null,null,null,null,null,null,"wygrany","przegrany"]
[null,null,"Boisko","Gra",null,null,null,null,null,{"$f":"A195","v":28},null,null,null,null,"rozp.",null,"zak.",null,"S. serw.",null,null,null,{"$f":"IF(AND(COUNTA(I195,J195)=2,AF195=I196),FIXED(I195,0,TRUE)&\":\"&FIXED(J195,0,TRUE),IF(AND(COUNTA(I195,J195)=2,AF195=L196),FIXED(J195,0,TRUE)&\":\"&FIXED(I195,0,TRUE),\"\"))","v":"15:10"},{"$f":"IF(AND(COUNTA(I195,J195)=2,AF195=I196),FIXED(J195,0,TRUE)&\":\"&FIXED(I195,0,TRUE),IF(AND(COUNTA(I195,J195)=2,AF195=L196),FIXED(I195,0,TRUE)&\":\"&FIXED(J195,0,TRUE),\"\"))","v":"10:15"}]
[28,null,null,{"$f":"IF(TYPE(VLOOKUP(A195,'grup-puch'!$A:$M,13,FALSE))=2,VLOOKUP(A195,'grup-puch'!$A:$M,13,FALSE),IF(TYPE(VLOOKUP(A195,puch!$A:$J,10,FALSE))=2,VLOOKUP(A195,puch!$A:$J,10,FALSE),\"\"))","v":"GIMNAZJUM CHŁOPCY"},null,null,null,null,10,15,7,15,null,null,null,null,null,null,{"$f":"Q195-O195","v":"00:00:00"},{"$f":"IF(VLOOKUP(A195,dane!F:G,2,FALSE)=\"\",\"\",VLOOKUP(A195,dane!F:G,2,FALSE))","v":{"$error":"#N/A"}},null,null,{"$f":"IF(AND(COUNTA(K195,L195)=2,AF195=I196),\",\"&FIXED(K195,0,TRUE)&\":\"&FIXED(L195,0,TRUE),IF(AND(COUNTA(K195,L195)=2,AF195=L196),\",\"&FIXED(L195,0,TRUE)&\":\"&FIXED(K195,0,TRUE),\"\"))","v":",15:7"},{"$f":"IF(AND(COUNTA(K195,L195)=2,AF195=I196),\",\"&FIXED(L195,0,TRUE)&\":\"&FIXED(K195,0,TRUE),IF(AND(COUNTA(K195,L195)=2,AF195=L196),\",\"&FIXED(K195,0,TRUE)&\":\"&FIXED(L195,0,TRUE),\"\"))","v":",7:15"},null,{"$f":"A195","v":28},{"$f":"IF(ISBLANK(D195),\"\",D195)","v":"GIMNAZJUM CHŁOPCY"},{"$f":"IF(OR(I196=0,I196=\"\"),\"\",I196)","v":"x70"},{"$f":"IF(OR(I197=0,I197=\"\"),\"\",I197)","v":""},{"$f":"IF(OR(L196=0,L196=\"\"),\"\",L196)","v":"x63"},{"$f":"IF(OR(L197=0,L197=\"\"),\"\",L197)","v":""},{"$f":"IF(COUNTA(C198,L198)=1,IF(ISTEXT(C198),I196,L196),IF(OR(I195=\"\",W193=X193),\"\",IF(W193>X193,I196,L196)))","v":"x63"},{"$f":"IF(COUNTA(C198,L198)=1,IF(ISTEXT(C198),I197,L197),IF(OR(I195=\"\",W193=X193),\"\",IF(W193>X193,I197,L197)))","v":""},{"$f":"IF(OR(AF195=I196,AF195=L196),IF(AF195=I196,W194&W195&W196&IF(ISTEXT(C198),\" \"&C198,\"\"),W194&W195&W196&IF(ISTEXT(L198),\" \"&L198,\"\")),\"\")","v":"15:10,15:7"},{"$f":"IF(OR(AF195=I196,AF195=L196),IF(AF195=I196,X194&X195&X196&IF(ISTEXT(C198),\" \"&C198,\"\"),X194&X195&X196&IF(ISTEXT(L198),\" \"&L198,\"\")),\"\")","v":"10:15,7:15"},{"$f":"IF(ISBLANK(L198),\"\",L198)","v":""},{"$f":"I195","v":10},{"$f":"J195","v":15},{"$f":"K195","v":7},{"$f":"L195","v":15},{"$f":"M195","v":0},{"$f":"N195","v":0},null,{"$f":"T193","v":0},{"$f":"T194","v":0},{"$f":"IF(OR(AA195=dane!$I$3,AA195=dane!$I$4,AA195=dane!$I$5,AA195=dane!$I$6),AR195,\"\")","v":""},{"$f":"IF(OR(AA195=dane!$I$7,AA195=dane!$I$8,AA195=dane!$I$10,AA195=dane!$I$11),AR195,\"\")","v":0},{"$f":"IF(OR(AA195=dane!$I$12,AA195=dane!$I$13,AA195=dane!$I$14,AA195=dane!$I$15),AR195,\"\")","v":""},{"$f":"IF(OR(AA195=dane!$I$16,AA195=dane!$I$17,AA195=dane!$I$18,AA195=dane!$I$19),AR195,\"\")","v":""},{"$f":"IF(OR(AA195=dane!$I$20,AA195=dane!$I$21,AA195=dane!$I$22,AA195=dane!$I$23),AR195,\"\")","v":""},{"$f":"IF(OR(AA195=dane!$I$3,AA195=dane!$I$4,AA195=dane!$I$5,AA195=dane!$I$6),AS195,\"\")","v":""},{"$f":"IF(OR(AA195=dane!$I$7,AA195=dane!$I$8,AA195=dane!$I$10,AA195=dane!$I$11),AS195,\"\")","v":0},{"$f":"IF(OR(AA195=dane!$I$12,AA195=dane!$I$13,AA195=dane!$I$14,AA195=dane!$I$15),AS195,\"\")","v":""},{"$f":"IF(OR(AA195=dane!$I$16,AA195=dane!$I$17,AA195=dane!$I$18,AA195=dane!$I$19),AS195,\"\")","v":""},{"$f":"IF(OR(AA195=dane!$I$20,AA195=dane!$I$21,AA195=dane!$I$22,AA195=dane!$I$23),AS195,\"\")","v":""},{"$f":"IF($T$1=\"\",\"\",IF(C195=\"\",\"\",IF(Q195=\"\",C196,\"\")))","v":""},{"$f":"IF(LEN(L197)>0,$V$3,$V$2)+Q195+$T$1+C193-1","v":"2014-10-31T00:25:00"},{"$f":"IF(BE195>NOW(),C196,\"\")","v":""},{"$f":"IF(C195<>\"\",\"\",VLOOKUP(C196,BD:BD,1,FALSE))","v":{"$error":"#N/A"}},{"$f":"IF(Q195<>\"\",\"\",VLOOKUP(C196,BF:BF,1,FALSE))","v":"Konrad  Kalinowski (Garwolin)"},{"$f":"IF(BF195<>\"\",BE195,\"\")","v":""},{"$f":"IF(Q195=\"\",C195,\"\")","v":0},null,null,null,null,null,null,null,null,null,null,null,null,{"$f":"IF((LEN(C195)+LEN(C199)+LEN(L199))=0,I196,\"\")","v":""},{"$f":"IF(LEN(BW195)>0,A195,\"\")","v":""}]
[{"$f":"IF(TYPE(VLOOKUP(C196,BF:BI,4,FALSE))=1,VLOOKUP(C196,BF:BI,4,FALSE),\"\")","v":41963.010416666664},{"$f":"IF(TYPE(VLOOKUP(I196,BW:BX,2,FALSE))=16,\"\",VLOOKUP(I196,BW:BX,2,FALSE))","v":""},{"$f":"IF(I196=\"\",\"\",VLOOKUP(I196,zawodnicy!$A:$D,2,FALSE)&\" \"&VLOOKUP(I196,zawodnicy!$A:$D,3,FALSE)&\" (\"&VLOOKUP(I196,zawodnicy!$A:$D,4,FALSE)&\")\")","v":"Konrad  Kalinowski (Garwolin)"},null,null,null,null,null,{"$f":"IF(TYPE(VLOOKUP(A195,'grup-puch'!$A:$E,2,FALSE))=2,VLOOKUP(A195,'grup-puch'!$A:$E,2,FALSE),IF(TYPE(VLOOKUP(A195,puch!$A:$E,2,FALSE))=2,VLOOKUP(A195,puch!$A:$E,2,FALSE),\"\"))","v":"x70"},null,null,{"$f":"IF(TYPE(VLOOKUP(A195,'grup-puch'!$A:$E,4,FALSE))=2,VLOOKUP(A195,'grup-puch'!$A:$E,4,FALSE),IF(TYPE(VLOOKUP(A195,puch!$A:$E,4,FALSE))=2,VLOOKUP(A195,puch!$A:$E,4,FALSE),\"\"))","v":"x63"},null,null,{"$f":"IF(L196=\"\",\"\",VLOOKUP(L196,zawodnicy!$A:$D,2,FALSE)&\" \"&VLOOKUP(L196,zawodnicy!$A:$D,3,FALSE)&\" (\"&VLOOKUP(L196,zawodnicy!$A:$D,4,FALSE)&\")\")","v":"Kasia Wróblewska (Mińsk Mazowiecki)"},null,null,null,null,null,{"$f":"IF(TYPE(VLOOKUP(L196,BW:BX,2,FALSE))=16,\"\",VLOOKUP(L196,BW:BX,2,FALSE))","v":""},{"$f":"IF(TYPE(VLOOKUP(O196,BF:BI,4,FALSE))=1,VLOOKUP(O196,BF:BI,4,FALSE),\"\")","v":41960.017361111109},{"$f":"IF(AND(COUNTA(M195,N195)=2,AF195=I196),\",\"&FIXED(M195,0,TRUE)&\":\"&FIXED(N195,0,TRUE),IF(AND(COUNTA(M195,N195)=2,AF195=L196),\",\"&FIXED(N195,0,TRUE)&\":\"&FIXED(M195,0,TRUE),\"\"))","v":""},{"$f":"IF(AND(COUNTA(M195,N195)=2,AF195=I196),\",\"&FIXED(N195,0,TRUE)&\":\"&FIXED(M195,0,TRUE),IF(AND(COUNTA(M195,N195)=2,AF195=L196),\",\"&FIXED(M195,0,TRUE)&\":\"&FIXED(N195,0,TRUE),\"\"))","v":""},null,null,null,null,null,null,null,null,null,null,null,null,null,null,null,null,null,null,null,null,null,null,null,null,null,null,null,null,null,null,null,{"$f":"IF($T$1=\"\",\"\",IF(C195=\"\",\"\",IF(Q195=\"\",C197,\"\")))","v":""},null,{"$f":"IF(BE195>NOW(),C197,\"\")","v":""},{"$f":"IF(C195<>\"\",\"\",VLOOKUP(C197,BD:BD,1,FALSE))","v":""},{"$f":"IF(Q195<>\"\",\"\",VLOOKUP(C197,BF:BF,1,FALSE))","v":""},{"$f":"IF(BF196<>\"\",BE195,\"\")","v":""},null,null,null,null,null,null,null,null,null,null,null,{"$f":"IF(VLOOKUP(I196,zawodnicy!A:E,5,FALSE)=0,\"\",C196)","v":""},{"$f":"IF(VLOOKUP(L196,zawodnicy!A:E,5,FALSE)=0,\"\",O196)","v":""},{"$f":"IF((LEN(C195)+LEN(C199)+LEN(L199))=0,I197,\"\")","v":""},{"$f":"IF(LEN(BW196)>0,A195,\"\")","v":""}]
["","",{"$f":"IF(OR(I197=0,I197=\"\"),\"\",VLOOKUP(I197,zawodnicy!$A:$D,2,FALSE)&\" \"&VLOOKUP(I197,zawodnicy!$A:$D,3,FALSE)&\" (\"&VLOOKUP(I197,zawodnicy!$A:$D,4,FALSE)&\")\")","v":""},null,null,null,null,null,{"$f":"IF(TYPE(VLOOKUP(A195,'grup-puch'!$A:$E,3,FALSE))=2,VLOOKUP(A195,'grup-puch'!$A:$E,3,FALSE),IF(TYPE(VLOOKUP(A195,puch!$A:$E,3,FALSE))=2,VLOOKUP(A195,puch!$A:$E,3,FALSE),\"\"))","v":""},null,null,{"$f":"IF(TYPE(VLOOKUP(A195,'grup-puch'!$A:$E,5,FALSE))=2,VLOOKUP(A195,'grup-puch'!$A:$E,5,FALSE),IF(TYPE(VLOOKUP(A195,puch!$A:$E,5,FALSE))=2,VLOOKUP(A195,puch!$A:$E,5,FALSE),\"\"))","v":""},null,null,{"$f":"IF(OR(L197=\"\",L197=0),\"\",VLOOKUP(L197,zawodnicy!$A:$D,2,FALSE)&\" \"&VLOOKUP(L197,zawodnicy!$A:$D,3,FALSE)&\" (\"&VLOOKUP(L197,zawodnicy!$A:$D,4,FALSE)&\")\")","v":""},null,null,null,null,null,"","",null,null,null,null,null,null,null,null,null,null,null,null,null,null,null,null,null,null,null,null,null,null,null,null,null,null,null,null,null,null,null,null,null,{"$f":"IF($T$1=\"\",\"\",IF(C195=\"\",\"\",IF(Q195=\"\",O196,\"\")))","v":""},null,{"$f":"IF(BE195>NOW(),O196,\"\")","v":""},{"$f":"IF(C195<>\"\",\"\",VLOOKUP(O196,BD:BD,1,FALSE))","v":{"$error":"#N/A"}},{"$f":"IF(Q195<>\"\",\"\",VLOOKUP(O196,BF:BF,1,FALSE))","v":"Kasia Wróblewska (Mińsk Mazowiecki)"},{"$f":"IF(BF197<>\"\",BE195,\"\")","v":""},null,null,null,null,null,null,null,null,null,null,null,{"$f":"IF(VLOOKUP(I197,zawodnicy!A:E,5,FALSE)=0,\"\",C197)","v":{"$error":"#N/A"}},{"$f":"IF(VLOOKUP(L197,zawodnicy!A:E,5,FALSE)=0,\"\",O197)","v":{"$error":"#N/A"}},{"$f":"IF((LEN(C195)+LEN(C199)+LEN(L199))=0,L196,\"\")","v":""},{"$f":"IF(LEN(BW197)>0,A195,\"\")","v":""}]
[null,null,null,null,null,null,null,null,null,null,null,null,null,null,null,null,null,null,null,null,null,null,null,null,null,null,null,null,null,null,null,null,null,null,null,null,null,null,null,null,null,null,null,null,null,null,null,null,null,null,null,null,null,null,null,{"$f":"IF($T$1=\"\",\"\",IF(C195=\"\",\"\",IF(Q195=\"\",O197,\"\")))","v":""},null,{"$f":"IF(BE195>NOW(),O197,\"\")","v":""},{"$f":"IF(C195<>\"\",\"\",VLOOKUP(O197,BD:BD,1,FALSE))","v":""},{"$f":"IF(Q195<>\"\",\"\",VLOOKUP(O197,BF:BF,1,FALSE))","v":""},{"$f":"IF(BF198<>\"\",BE195,\"\")","v":""},null,null,null,null,null,null,null,null,null,null,null,null,null,{"$f":"IF((LEN(C195)+LEN(C199)+LEN(L199))=0,L197,\"\")","v":""},{"$f":"IF(LEN(BW198)>0,A195,\"\")","v":""}]
[null,null,{"$f":"IF(I196=\"\",\"\",IF(I196=AF195,\"zwycięzca(cy):\"&\" \"&AH195,\"\"))","v":""},null,null,null,null,null,null,null,null,{"$f":"IF(L196=\"\",\"\",IF(L196=AF195,\"zwycięzca(cy):\"&\" \"&AH195,\"\"))","v":"zwycięzca(cy): 15:10,15:7"}]
[null,null,29,"dzień turnieju.",null,null,null,null,null,"Nr meczu",null,null,null,null,"Godz.",null,null,null,"S. prow.",null,null,null,{"$f":"IF(I202>J202,1,0)+IF(K202>L202,1,0)+IF(M202>N202,1,0)","v":0},{"$f":"IF(J202>I202,1,0)+IF(L202>K202,1,0)+IF(N202>M202,1,0)","v":2},null,null,null,null,null,null,null,null,null,"wygrany","przegrany"]
[null,null,"Boisko","Gra",null,null,null,null,null,{"$f":"A202","v":29},null,null,null,null,"rozp.",null,"zak.",null,"S. serw.",null,null,null,{"$f":"IF(AND(COUNTA(I202,J202)=2,AF202=I203),FIXED(I202,0,TRUE)&\":\"&FIXED(J202,0,TRUE),IF(AND(COUNTA(I202,J202)=2,AF202=L203),FIXED(J202,0,TRUE)&\":\"&FIXED(I202,0,TRUE),\"\"))","v":"15:11"},{"$f":"IF(AND(COUNTA(I202,J202)=2,AF202=I203),FIXED(J202,0,TRUE)&\":\"&FIXED(I202,0,TRUE),IF(AND(COUNTA(I202,J202)=2,AF202=L203),FIXED(I202,0,TRUE)&\":\"&FIXED(J202,0,TRUE),\"\"))","v":"11:15"}]
[29,null,null,{"$f":"IF(TYPE(VLOOKUP(A202,'grup-puch'!$A:$M,13,FALSE))=2,VLOOKUP(A202,'grup-puch'!$A:$M,13,FALSE),IF(TYPE(VLOOKUP(A202,puch!$A:$J,10,FALSE))=2,VLOOKUP(A202,puch!$A:$J,10,FALSE),\"\"))","v":"GIMNAZJUM CHŁOPCY"},null,null,null,null,11,15,11,15,null,null,null,null,null,null,{"$f":"Q202-O202","v":"00:00:00"},{"$f":"IF(VLOOKUP(A202,dane!F:G,2,FALSE)=\"\",\"\",VLOOKUP(A202,dane!F:G,2,FALSE))","v":{"$error":"#N/A"}},null,null,{"$f":"IF(AND(COUNTA(K202,L202)=2,AF202=I203),\",\"&FIXED(K202,0,TRUE)&\":\"&FIXED(L202,0,TRUE),IF(AND(COUNTA(K202,L202)=2,AF202=L203),\",\"&FIXED(L202,0,TRUE)&\":\"&FIXED(K202,0,TRUE),\"\"))","v":",15:11"},{"$f":"IF(AND(COUNTA(K202,L202)=2,AF202=I203),\",\"&FIXED(L202,0,TRUE)&\":\"&FIXED(K202,0,TRUE),IF(AND(COUNTA(K202,L202)=2,AF202=L203),\",\"&FIXED(K202,0,TRUE)&\":\"&FIXED(L202,0,TRUE),\"\"))","v":",11:15"},null,{"$f":"A202","v":29},{"$f":"IF(ISBLANK(D202),\"\",D202)","v":"GIMNAZJUM CHŁOPCY"},{"$f":"IF(OR(I203=0,I203=\"\"),\"\",I203)","v":"x5"},{"$f":"IF(OR(I204=0,I204=\"\"),\"\",I204)","v":""},{"$f":"IF(OR(L203=0,L203=\"\"),\"\",L203)","v":"x72"},{"$f":"IF(OR(L204=0,L204=\"\"),\"\",L204)","v":""},{"$f":"IF(COUNTA(C205,L205)=1,IF(ISTEXT(C205),I203,L203),IF(OR(I202=\"\",W200=X200),\"\",IF(W200>X200,I203,L203)))","v":"x72"},{"$f":"IF(COUNTA(C205,L205)=1,IF(ISTEXT(C205),I204,L204),IF(OR(I202=\"\",W200=X200),\"\",IF(W200>X200,I204,L204)))","v":""},{"$f":"IF(OR(AF202=I203,AF202=L203),IF(AF202=I203,W201&W202&W203&IF(ISTEXT(C205),\" \"&C205,\"\"),W201&W202&W203&IF(ISTEXT(L205),\" \"&L205,\"\")),\"\")","v":"15:11,15:11"},{"$f":"IF(OR(AF202=I203,AF202=L203),IF(AF202=I203,X201&X202&X203&IF(ISTEXT(C205),\" \"&C205,\"\"),X201&X202&X203&IF(ISTEXT(L205),\" \"&L205,\"\")),\"\")","v":"11:15,11:15"},{"$f":"IF(ISBLANK(L205),\"\",L205)","v":""},{"$f":"I202","v":11},{"$f":"J202","v":15},{"$f":"K202","v":11},{"$f":"L202","v":15},{"$f":"M202","v":0},{"$f":"N202","v":0},null,{"$f":"T200","v":0},{"$f":"T201","v":0},{"$f":"IF(OR(AA202=dane!$I$3,AA202=dane!$I$4,AA202=dane!$I$5,AA202=dane!$I$6),AR202,\"\")","v":""},{"$f":"IF(OR(AA202=dane!$I$7,AA202=dane!$I$8,AA202=dane!$I$10,AA202=dane!$I$11),AR202,\"\")","v":0},{"$f":"IF(OR(AA202=dane!$I$12,AA202=dane!$I$13,AA202=dane!$I$14,AA202=dane!$I$15),AR202,\"\")","v":""},{"$f":"IF(OR(AA202=dane!$I$16,AA202=dane!$I$17,AA202=dane!$I$18,AA202=dane!$I$19),AR202,\"\")","v":""},{"$f":"IF(OR(AA202=dane!$I$20,AA202=dane!$I$21,AA202=dane!$I$22,AA202=dane!$I$23),AR202,\"\")","v":""},{"$f":"IF(OR(AA202=dane!$I$3,AA202=dane!$I$4,AA202=dane!$I$5,AA202=dane!$I$6),AS202,\"\")","v":""},{"$f":"IF(OR(AA202=dane!$I$7,AA202=dane!$I$8,AA202=dane!$I$10,AA202=dane!$I$11),AS202,\"\")","v":0},{"$f":"IF(OR(AA202=dane!$I$12,AA202=dane!$I$13,AA202=dane!$I$14,AA202=dane!$I$15),AS202,\"\")","v":""},{"$f":"IF(OR(AA202=dane!$I$16,AA202=dane!$I$17,AA202=dane!$I$18,AA202=dane!$I$19),AS202,\"\")","v":""},{"$f":"IF(OR(AA202=dane!$I$20,AA202=dane!$I$21,AA202=dane!$I$22,AA202=dane!$I$23),AS202,\"\")","v":""},{"$f":"IF($T$1=\"\",\"\",IF(C202=\"\",\"\",IF(Q202=\"\",C203,\"\")))","v":""},{"$f":"IF(LEN(L204)>0,$V$3,$V$2)+Q202+$T$1+C200-1","v":"2014-11-01T00:25:00"},{"$f":"IF(BE202>NOW(),C203,\"\")","v":""},{"$f":"IF(C202<>\"\",\"\",VLOOKUP(C203,BD:BD,1,FALSE))","v":{"$error":"#N/A"}},{"$f":"IF(Q202<>\"\",\"\",VLOOKUP(C203,BF:BF,1,FALSE))","v":{"$error":"#N/A"}},{"$f":"IF(BF202<>\"\",BE202,\"\")","v":""},{"$f":"IF(Q202=\"\",C202,\"\")","v":0},null,null,null,null,null,null,null,null,null,null,null,null,{"$f":"IF((LEN(C202)+LEN(C206)+LEN(L206))=0,I203,\"\")","v":""},{"$f":"IF(LEN(BW202)>0,A202,\"\")","v":""}]
[{"$f":"IF(TYPE(VLOOKUP(C203,BF:BI,4,FALSE))=1,VLOOKUP(C203,BF:BI,4,FALSE),\"\")","v":""},{"$f":"IF(TYPE(VLOOKUP(I203,BW:BX,2,FALSE))=16,\"\",VLOOKUP(I203,BW:BX,2,FALSE))","v":""},{"$f":"IF(I203=\"\",\"\",VLOOKUP(I203,zawodnicy!$A:$D,2,FALSE)&\" \"&VLOOKUP(I203,zawodnicy!$A:$D,3,FALSE)&\" (\"&VLOOKUP(I203,zawodnicy!$A:$D,4,FALSE)&\")\")","v":"Jakub  Dworzak (Zielonka)"},null,null,null,null,null,{"$f":"IF(TYPE(VLOOKUP(A202,'grup-puch'!$A:$E,2,FALSE))=2,VLOOKUP(A202,'grup-puch'!$A:$E,2,FALSE),IF(TYPE(VLOOKUP(A202,puch!$A:$E,2,FALSE))=2,VLOOKUP(A202,puch!$A:$E,2,FALSE),\"\"))","v":"x5"},null,null,{"$f":"IF(TYPE(VLOOKUP(A202,'grup-puch'!$A:$E,4,FALSE))=2,VLOOKUP(A202,'grup-puch'!$A:$E,4,FALSE),IF(TYPE(VLOOKUP(A202,puch!$A:$E,4,FALSE))=2,VLOOKUP(A202,puch!$A:$E,4,FALSE),\"\"))","v":"x72"},null,null,{"$f":"IF(L203=\"\",\"\",VLOOKUP(L203,zawodnicy!$A:$D,2,FALSE)&\" \"&VLOOKUP(L203,zawodnicy!$A:$D,3,FALSE)&\" (\"&VLOOKUP(L203,zawodnicy!$A:$D,4,FALSE)&\")\")","v":"Kacper Urbaniak (Ząbki)"},null,null,null,null,null,{"$f":"IF(TYPE(VLOOKUP(L203,BW:BX,2,FALSE))=16,\"\",VLOOKUP(L203,BW:BX,2,FALSE))","v":""},{"$f":"IF(TYPE(VLOOKUP(O203,BF:BI,4,FALSE))=1,VLOOKUP(O203,BF:BI,4,FALSE),\"\")","v":""},{"$f":"IF(AND(COUNTA(M202,N202)=2,AF202=I203),\",\"&FIXED(M202,0,TRUE)&\":\"&FIXED(N202,0,TRUE),IF(AND(COUNTA(M202,N202)=2,AF202=L203),\",\"&FIXED(N202,0,TRUE)&\":\"&FIXED(M202,0,TRUE),\"\"))","v":""},{"$f":"IF(AND(COUNTA(M202,N202)=2,AF202=I203),\",\"&FIXED(N202,0,TRUE)&\":\"&FIXED(M202,0,TRUE),IF(AND(COUNTA(M202,N202)=2,AF202=L203),\",\"&FIXED(M202,0,TRUE)&\":\"&FIXED(N202,0,TRUE),\"\"))","v":""},null,null,null,null,null,null,null,null,null,null,null,null,null,null,null,null,null,null,null,null,null,null,null,null,null,null,null,null,null,null,null,{"$f":"IF($T$1=\"\",\"\",IF(C202=\"\",\"\",IF(Q202=\"\",C204,\"\")))","v":""},null,{"$f":"IF(BE202>NOW(),C204,\"\")","v":""},{"$f":"IF(C202<>\"\",\"\",VLOOKUP(C204,BD:BD,1,FALSE))","v":""},{"$f":"IF(Q202<>\"\",\"\",VLOOKUP(C204,BF:BF,1,FALSE))","v":""},{"$f":"IF(BF203<>\"\",BE202,\"\")","v":""},null,null,null,null,null,null,null,null,null,null,null,{"$f":"IF(VLOOKUP(I203,zawodnicy!A:E,5,FALSE)=0,\"\",C203)","v":""},{"$f":"IF(VLOOKUP(L203,zawodnicy!A:E,5,FALSE)=0,\"\",O203)","v":""},{"$f":"IF((LEN(C202)+LEN(C206)+LEN(L206))=0,I204,\"\")","v":""},{"$f":"IF(LEN(BW203)>0,A202,\"\")","v":""}]
["","",{"$f":"IF(OR(I204=0,I204=\"\"),\"\",VLOOKUP(I204,zawodnicy!$A:$D,2,FALSE)&\" \"&VLOOKUP(I204,zawodnicy!$A:$D,3,FALSE)&\" (\"&VLOOKUP(I204,zawodnicy!$A:$D,4,FALSE)&\")\")","v":""},null,null,null,null,null,{"$f":"IF(TYPE(VLOOKUP(A202,'grup-puch'!$A:$E,3,FALSE))=2,VLOOKUP(A202,'grup-puch'!$A:$E,3,FALSE),IF(TYPE(VLOOKUP(A202,puch!$A:$E,3,FALSE))=2,VLOOKUP(A202,puch!$A:$E,3,FALSE),\"\"))","v":""},null,null,{"$f":"IF(TYPE(VLOOKUP(A202,'grup-puch'!$A:$E,5,FALSE))=2,VLOOKUP(A202,'grup-puch'!$A:$E,5,FALSE),IF(TYPE(VLOOKUP(A202,puch!$A:$E,5,FALSE))=2,VLOOKUP(A202,puch!$A:$E,5,FALSE),\"\"))","v":""},null,null,{"$f":"IF(OR(L204=\"\",L204=0),\"\",VLOOKUP(L204,zawodnicy!$A:$D,2,FALSE)&\" \"&VLOOKUP(L204,zawodnicy!$A:$D,3,FALSE)&\" (\"&VLOOKUP(L204,zawodnicy!$A:$D,4,FALSE)&\")\")","v":""},null,null,null,null,null,"","",null,null,null,null,null,null,null,null,null,null,null,null,null,null,null,null,null,null,null,null,null,null,null,null,null,null,null,null,null,null,null,null,null,{"$f":"IF($T$1=\"\",\"\",IF(C202=\"\",\"\",IF(Q202=\"\",O203,\"\")))","v":""},null,{"$f":"IF(BE202>NOW(),O203,\"\")","v":""},{"$f":"IF(C202<>\"\",\"\",VLOOKUP(O203,BD:BD,1,FALSE))","v":{"$error":"#N/A"}},{"$f":"IF(Q202<>\"\",\"\",VLOOKUP(O203,BF:BF,1,FALSE))","v":{"$error":"#N/A"}},{"$f":"IF(BF204<>\"\",BE202,\"\")","v":""},null,null,null,null,null,null,null,null,null,null,null,{"$f":"IF(VLOOKUP(I204,zawodnicy!A:E,5,FALSE)=0,\"\",C204)","v":{"$error":"#N/A"}},{"$f":"IF(VLOOKUP(L204,zawodnicy!A:E,5,FALSE)=0,\"\",O204)","v":{"$error":"#N/A"}},{"$f":"IF((LEN(C202)+LEN(C206)+LEN(L206))=0,L203,\"\")","v":""},{"$f":"IF(LEN(BW204)>0,A202,\"\")","v":""}]
[null,null,null,null,null,null,null,null,null,null,null,null,null,null,null,null,null,null,null,null,null,null,null,null,null,null,null,null,null,null,null,null,null,null,null,null,null,null,null,null,null,null,null,null,null,null,null,null,null,null,null,null,null,null,null,{"$f":"IF($T$1=\"\",\"\",IF(C202=\"\",\"\",IF(Q202=\"\",O204,\"\")))","v":""},null,{"$f":"IF(BE202>NOW(),O204,\"\")","v":""},{"$f":"IF(C202<>\"\",\"\",VLOOKUP(O204,BD:BD,1,FALSE))","v":""},{"$f":"IF(Q202<>\"\",\"\",VLOOKUP(O204,BF:BF,1,FALSE))","v":""},{"$f":"IF(BF205<>\"\",BE202,\"\")","v":""},null,null,null,null,null,null,null,null,null,null,null,null,null,{"$f":"IF((LEN(C202)+LEN(C206)+LEN(L206))=0,L204,\"\")","v":""},{"$f":"IF(LEN(BW205)>0,A202,\"\")","v":""}]
[null,null,{"$f":"IF(I203=\"\",\"\",IF(I203=AF202,\"zwycięzca(cy):\"&\" \"&AH202,\"\"))","v":""},null,null,null,null,null,null,null,null,{"$f":"IF(L203=\"\",\"\",IF(L203=AF202,\"zwycięzca(cy):\"&\" \"&AH202,\"\"))","v":"zwycięzca(cy): 15:11,15:11"}]
[null,null,30,"dzień turnieju.",null,null,null,null,null,"Nr meczu",null,null,null,null,"Godz.",null,null,null,"S. prow.",null,null,null,{"$f":"IF(I209>J209,1,0)+IF(K209>L209,1,0)+IF(M209>N209,1,0)","v":2},{"$f":"IF(J209>I209,1,0)+IF(L209>K209,1,0)+IF(N209>M209,1,0)","v":0},null,null,null,null,null,null,null,null,null,"wygrany","przegrany"]
[null,null,"Boisko","Gra",null,null,null,null,null,{"$f":"A209","v":30},null,null,null,null,"rozp.",null,"zak.",null,"S. serw.",null,null,null,{"$f":"IF(AND(COUNTA(I209,J209)=2,AF209=I210),FIXED(I209,0,TRUE)&\":\"&FIXED(J209,0,TRUE),IF(AND(COUNTA(I209,J209)=2,AF209=L210),FIXED(J209,0,TRUE)&\":\"&FIXED(I209,0,TRUE),\"\"))","v":"15:6"},{"$f":"IF(AND(COUNTA(I209,J209)=2,AF209=I210),FIXED(J209,0,TRUE)&\":\"&FIXED(I209,0,TRUE),IF(AND(COUNTA(I209,J209)=2,AF209=L210),FIXED(I209,0,TRUE)&\":\"&FIXED(J209,0,TRUE),\"\"))","v":"6:15"}]
[30,null,null,{"$f":"IF(TYPE(VLOOKUP(A209,'grup-puch'!$A:$M,13,FALSE))=2,VLOOKUP(A209,'grup-puch'!$A:$M,13,FALSE),IF(TYPE(VLOOKUP(A209,puch!$A:$J,10,FALSE))=2,VLOOKUP(A209,puch!$A:$J,10,FALSE),\"\"))","v":"GIMNAZJUM CHŁOPCY"},null,null,null,null,15,6,15,10,null,null,null,null,null,null,{"$f":"Q209-O209","v":"00:00:00"},{"$f":"IF(VLOOKUP(A209,dane!F:G,2,FALSE)=\"\",\"\",VLOOKUP(A209,dane!F:G,2,FALSE))","v":{"$error":"#N/A"}},null,null,{"$f":"IF(AND(COUNTA(K209,L209)=2,AF209=I210),\",\"&FIXED(K209,0,TRUE)&\":\"&FIXED(L209,0,TRUE),IF(AND(COUNTA(K209,L209)=2,AF209=L210),\",\"&FIXED(L209,0,TRUE)&\":\"&FIXED(K209,0,TRUE),\"\"))","v":",15:10"},{"$f":"IF(AND(COUNTA(K209,L209)=2,AF209=I210),\",\"&FIXED(L209,0,TRUE)&\":\"&FIXED(K209,0,TRUE),IF(AND(COUNTA(K209,L209)=2,AF209=L210),\",\"&FIXED(K209,0,TRUE)&\":\"&FIXED(L209,0,TRUE),\"\"))","v":",10:15"},null,{"$f":"A209","v":30},{"$f":"IF(ISBLANK(D209),\"\",D209)","v":"GIMNAZJUM CHŁOPCY"},{"$f":"IF(OR(I210=0,I210=\"\"),\"\",I210)","v":"x71"},{"$f":"IF(OR(I211=0,I211=\"\"),\"\",I211)","v":""},{"$f":"IF(OR(L210=0,L210=\"\"),\"\",L210)","v":"x31"},{"$f":"IF(OR(L211=0,L211=\"\"),\"\",L211)","v":""},{"$f":"IF(COUNTA(C212,L212)=1,IF(ISTEXT(C212),I210,L210),IF(OR(I209=\"\",W207=X207),\"\",IF(W207>X207,I210,L210)))","v":"x71"},{"$f":"IF(COUNTA(C212,L212)=1,IF(ISTEXT(C212),I211,L211),IF(OR(I209=\"\",W207=X207),\"\",IF(W207>X207,I211,L211)))","v":""},{"$f":"IF(OR(AF209=I210,AF209=L210),IF(AF209=I210,W208&W209&W210&IF(ISTEXT(C212),\" \"&C212,\"\"),W208&W209&W210&IF(ISTEXT(L212),\" \"&L212,\"\")),\"\")","v":"15:6,15:10"},{"$f":"IF(OR(AF209=I210,AF209=L210),IF(AF209=I210,X208&X209&X210&IF(ISTEXT(C212),\" \"&C212,\"\"),X208&X209&X210&IF(ISTEXT(L212),\" \"&L212,\"\")),\"\")","v":"6:15,10:15"},{"$f":"IF(ISBLANK(L212),\"\",L212)","v":""},{"$f":"I209","v":15},{"$f":"J209","v":6},{"$f":"K209","v":15},{"$f":"L209","v":10},{"$f":"M209","v":0},{"$f":"N209","v":0},null,{"$f":"T207","v":0},{"$f":"T208","v":0},{"$f":"IF(OR(AA209=dane!$I$3,AA209=dane!$I$4,AA209=dane!$I$5,AA209=dane!$I$6),AR209,\"\")","v":""},{"$f":"IF(OR(AA209=dane!$I$7,AA209=dane!$I$8,AA209=dane!$I$10,AA209=dane!$I$11),AR209,\"\")","v":0},{"$f":"IF(OR(AA209=dane!$I$12,AA209=dane!$I$13,AA209=dane!$I$14,AA209=dane!$I$15),AR209,\"\")","v":""},{"$f":"IF(OR(AA209=dane!$I$16,AA209=dane!$I$17,AA209=dane!$I$18,AA209=dane!$I$19),AR209,\"\")","v":""},{"$f":"IF(OR(AA209=dane!$I$20,AA209=dane!$I$21,AA209=dane!$I$22,AA209=dane!$I$23),AR209,\"\")","v":""},{"$f":"IF(OR(AA209=dane!$I$3,AA209=dane!$I$4,AA209=dane!$I$5,AA209=dane!$I$6),AS209,\"\")","v":""},{"$f":"IF(OR(AA209=dane!$I$7,AA209=dane!$I$8,AA209=dane!$I$10,AA209=dane!$I$11),AS209,\"\")","v":0},{"$f":"IF(OR(AA209=dane!$I$12,AA209=dane!$I$13,AA209=dane!$I$14,AA209=dane!$I$15),AS209,\"\")","v":""},{"$f":"IF(OR(AA209=dane!$I$16,AA209=dane!$I$17,AA209=dane!$I$18,AA209=dane!$I$19),AS209,\"\")","v":""},{"$f":"IF(OR(AA209=dane!$I$20,AA209=dane!$I$21,AA209=dane!$I$22,AA209=dane!$I$23),AS209,\"\")","v":""},{"$f":"IF($T$1=\"\",\"\",IF(C209=\"\",\"\",IF(Q209=\"\",C210,\"\")))","v":""},{"$f":"IF(LEN(L211)>0,$V$3,$V$2)+Q209+$T$1+C207-1","v":"2014-11-02T00:25:00"},{"$f":"IF(BE209>NOW(),C210,\"\")","v":""},{"$f":"IF(C209<>\"\",\"\",VLOOKUP(C210,BD:BD,1,FALSE))","v":{"$error":"#N/A"}},{"$f":"IF(Q209<>\"\",\"\",VLOOKUP(C210,BF:BF,1,FALSE))","v":"Grzegorz  Cybulski (Garwolin)"},{"$f":"IF(BF209<>\"\",BE209,\"\")","v":""},{"$f":"IF(Q209=\"\",C209,\"\")","v":0},null,null,null,null,null,null,null,null,null,null,null,null,{"$f":"IF((LEN(C209)+LEN(C213)+LEN(L213))=0,I210,\"\")","v":""},{"$f":"IF(LEN(BW209)>0,A209,\"\")","v":""}]
[{"$f":"IF(TYPE(VLOOKUP(C210,BF:BI,4,FALSE))=1,VLOOKUP(C210,BF:BI,4,FALSE),\"\")","v":41959.017361111109},{"$f":"IF(TYPE(VLOOKUP(I210,BW:BX,2,FALSE))=16,\"\",VLOOKUP(I210,BW:BX,2,FALSE))","v":""},{"$f":"IF(I210=\"\",\"\",VLOOKUP(I210,zawodnicy!$A:$D,2,FALSE)&\" \"&VLOOKUP(I210,zawodnicy!$A:$D,3,FALSE)&\" (\"&VLOOKUP(I210,zawodnicy!$A:$D,4,FALSE)&\")\")","v":"Grzegorz  Cybulski (Garwolin)"},null,null,null,null,null,{"$f":"IF(TYPE(VLOOKUP(A209,'grup-puch'!$A:$E,2,FALSE))=2,VLOOKUP(A209,'grup-puch'!$A:$E,2,FALSE),IF(TYPE(VLOOKUP(A209,puch!$A:$E,2,FALSE))=2,VLOOKUP(A209,puch!$A:$E,2,FALSE),\"\"))","v":"x71"},null,null,{"$f":"IF(TYPE(VLOOKUP(A209,'grup-puch'!$A:$E,4,FALSE))=2,VLOOKUP(A209,'grup-puch'!$A:$E,4,FALSE),IF(TYPE(VLOOKUP(A209,puch!$A:$E,4,FALSE))=2,VLOOKUP(A209,puch!$A:$E,4,FALSE),\"\"))","v":"x31"},null,null,{"$f":"IF(L210=\"\",\"\",VLOOKUP(L210,zawodnicy!$A:$D,2,FALSE)&\" \"&VLOOKUP(L210,zawodnicy!$A:$D,3,FALSE)&\" (\"&VLOOKUP(L210,zawodnicy!$A:$D,4,FALSE)&\")\")","v":"Damian  Mil (Ząbki)"},null,null,null,null,null,{"$f":"IF(TYPE(VLOOKUP(L210,BW:BX,2,FALSE))=16,\"\",VLOOKUP(L210,BW:BX,2,FALSE))","v":""},{"$f":"IF(TYPE(VLOOKUP(O210,BF:BI,4,FALSE))=1,VLOOKUP(O210,BF:BI,4,FALSE),\"\")","v":41959.017361111109},{"$f":"IF(AND(COUNTA(M209,N209)=2,AF209=I210),\",\"&FIXED(M209,0,TRUE)&\":\"&FIXED(N209,0,TRUE),IF(AND(COUNTA(M209,N209)=2,AF209=L210),\",\"&FIXED(N209,0,TRUE)&\":\"&FIXED(M209,0,TRUE),\"\"))","v":""},{"$f":"IF(AND(COUNTA(M209,N209)=2,AF209=I210),\",\"&FIXED(N209,0,TRUE)&\":\"&FIXED(M209,0,TRUE),IF(AND(COUNTA(M209,N209)=2,AF209=L210),\",\"&FIXED(M209,0,TRUE)&\":\"&FIXED(N209,0,TRUE),\"\"))","v":""},null,null,null,null,null,null,null,null,null,null,null,null,null,null,null,null,null,null,null,null,null,null,null,null,null,null,null,null,null,null,null,{"$f":"IF($T$1=\"\",\"\",IF(C209=\"\",\"\",IF(Q209=\"\",C211,\"\")))","v":""},null,{"$f":"IF(BE209>NOW(),C211,\"\")","v":""},{"$f":"IF(C209<>\"\",\"\",VLOOKUP(C211,BD:BD,1,FALSE))","v":""},{"$f":"IF(Q209<>\"\",\"\",VLOOKUP(C211,BF:BF,1,FALSE))","v":""},{"$f":"IF(BF210<>\"\",BE209,\"\")","v":""},null,null,null,null,null,null,null,null,null,null,null,{"$f":"IF(VLOOKUP(I210,zawodnicy!A:E,5,FALSE)=0,\"\",C210)","v":""},{"$f":"IF(VLOOKUP(L210,zawodnicy!A:E,5,FALSE)=0,\"\",O210)","v":""},{"$f":"IF((LEN(C209)+LEN(C213)+LEN(L213))=0,I211,\"\")","v":""},{"$f":"IF(LEN(BW210)>0,A209,\"\")","v":""}]
["","",{"$f":"IF(OR(I211=0,I211=\"\"),\"\",VLOOKUP(I211,zawodnicy!$A:$D,2,FALSE)&\" \"&VLOOKUP(I211,zawodnicy!$A:$D,3,FALSE)&\" (\"&VLOOKUP(I211,zawodnicy!$A:$D,4,FALSE)&\")\")","v":""},null,null,null,null,null,{"$f":"IF(TYPE(VLOOKUP(A209,'grup-puch'!$A:$E,3,FALSE))=2,VLOOKUP(A209,'grup-puch'!$A:$E,3,FALSE),IF(TYPE(VLOOKUP(A209,puch!$A:$E,3,FALSE))=2,VLOOKUP(A209,puch!$A:$E,3,FALSE),\"\"))","v":""},null,null,{"$f":"IF(TYPE(VLOOKUP(A209,'grup-puch'!$A:$E,5,FALSE))=2,VLOOKUP(A209,'grup-puch'!$A:$E,5,FALSE),IF(TYPE(VLOOKUP(A209,puch!$A:$E,5,FALSE))=2,VLOOKUP(A209,puch!$A:$E,5,FALSE),\"\"))","v":""},null,null,{"$f":"IF(OR(L211=\"\",L211=0),\"\",VLOOKUP(L211,zawodnicy!$A:$D,2,FALSE)&\" \"&VLOOKUP(L211,zawodnicy!$A:$D,3,FALSE)&\" (\"&VLOOKUP(L211,zawodnicy!$A:$D,4,FALSE)&\")\")","v":""},null,null,null,null,null,"","",null,null,null,null,null,null,null,null,null,null,null,null,null,null,null,null,null,null,null,null,null,null,null,null,null,null,null,null,null,null,null,null,null,{"$f":"IF($T$1=\"\",\"\",IF(C209=\"\",\"\",IF(Q209=\"\",O210,\"\")))","v":""},null,{"$f":"IF(BE209>NOW(),O210,\"\")","v":""},{"$f":"IF(C209<>\"\",\"\",VLOOKUP(O210,BD:BD,1,FALSE))","v":{"$error":"#N/A"}},{"$f":"IF(Q209<>\"\",\"\",VLOOKUP(O210,BF:BF,1,FALSE))","v":"Damian  Mil (Ząbki)"},{"$f":"IF(BF211<>\"\",BE209,\"\")","v":""},null,null,null,null,null,null,null,null,null,null,null,{"$f":"IF(VLOOKUP(I211,zawodnicy!A:E,5,FALSE)=0,\"\",C211)","v":{"$error":"#N/A"}},{"$f":"IF(VLOOKUP(L211,zawodnicy!A:E,5,FALSE)=0,\"\",O211)","v":{"$error":"#N/A"}},{"$f":"IF((LEN(C209)+LEN(C213)+LEN(L213))=0,L210,\"\")","v":""},{"$f":"IF(LEN(BW211)>0,A209,\"\")","v":""}]
[null,null,null,null,null,null,null,null,null,null,null,null,null,null,null,null,null,null,null,null,null,null,null,null,null,null,null,null,null,null,null,null,null,null,null,null,null,null,null,null,null,null,null,null,null,null,null,null,null,null,null,null,null,null,null,{"$f":"IF($T$1=\"\",\"\",IF(C209=\"\",\"\",IF(Q209=\"\",O211,\"\")))","v":""},null,{"$f":"IF(BE209>NOW(),O211,\"\")","v":""},{"$f":"IF(C209<>\"\",\"\",VLOOKUP(O211,BD:BD,1,FALSE))","v":""},{"$f":"IF(Q209<>\"\",\"\",VLOOKUP(O211,BF:BF,1,FALSE))","v":""},{"$f":"IF(BF212<>\"\",BE209,\"\")","v":""},null,null,null,null,null,null,null,null,null,null,null,null,null,{"$f":"IF((LEN(C209)+LEN(C213)+LEN(L213))=0,L211,\"\")","v":""},{"$f":"IF(LEN(BW212)>0,A209,\"\")","v":""}]
[null,null,{"$f":"IF(I210=\"\",\"\",IF(I210=AF209,\"zwycięzca(cy):\"&\" \"&AH209,\"\"))","v":"zwycięzca(cy): 15:6,15:10"},null,null,null,null,null,null,null,null,{"$f":"IF(L210=\"\",\"\",IF(L210=AF209,\"zwycięzca(cy):\"&\" \"&AH209,\"\"))","v":""}]
[null,null,31,"dzień turnieju.",null,null,null,null,null,"Nr meczu",null,null,null,null,"Godz.",null,null,null,"S. prow.",null,null,null,{"$f":"IF(I216>J216,1,0)+IF(K216>L216,1,0)+IF(M216>N216,1,0)","v":2},{"$f":"IF(J216>I216,1,0)+IF(L216>K216,1,0)+IF(N216>M216,1,0)","v":0},null,null,null,null,null,null,null,null,null,"wygrany","przegrany"]
[null,null,"Boisko","Gra",null,null,null,null,null,{"$f":"A216","v":31},null,null,null,null,"rozp.",null,"zak.",null,"S. serw.",null,null,null,{"$f":"IF(AND(COUNTA(I216,J216)=2,AF216=I217),FIXED(I216,0,TRUE)&\":\"&FIXED(J216,0,TRUE),IF(AND(COUNTA(I216,J216)=2,AF216=L217),FIXED(J216,0,TRUE)&\":\"&FIXED(I216,0,TRUE),\"\"))","v":"15:5"},{"$f":"IF(AND(COUNTA(I216,J216)=2,AF216=I217),FIXED(J216,0,TRUE)&\":\"&FIXED(I216,0,TRUE),IF(AND(COUNTA(I216,J216)=2,AF216=L217),FIXED(I216,0,TRUE)&\":\"&FIXED(J216,0,TRUE),\"\"))","v":"5:15"}]
[31,null,null,{"$f":"IF(TYPE(VLOOKUP(A216,'grup-puch'!$A:$M,13,FALSE))=2,VLOOKUP(A216,'grup-puch'!$A:$M,13,FALSE),IF(TYPE(VLOOKUP(A216,puch!$A:$J,10,FALSE))=2,VLOOKUP(A216,puch!$A:$J,10,FALSE),\"\"))","v":"GIMNAZJUM DZIEWCZĘTA"},null,null,null,null,15,5,15,2,null,null,null,null,null,null,{"$f":"Q216-O216","v":"00:00:00"},{"$f":"IF(VLOOKUP(A216,dane!F:G,2,FALSE)=\"\",\"\",VLOOKUP(A216,dane!F:G,2,FALSE))","v":{"$error":"#N/A"}},null,null,{"$f":"IF(AND(COUNTA(K216,L216)=2,AF216=I217),\",\"&FIXED(K216,0,TRUE)&\":\"&FIXED(L216,0,TRUE),IF(AND(COUNTA(K216,L216)=2,AF216=L217),\",\"&FIXED(L216,0,TRUE)&\":\"&FIXED(K216,0,TRUE),\"\"))","v":",15:2"},{"$f":"IF(AND(COUNTA(K216,L216)=2,AF216=I217),\",\"&FIXED(L216,0,TRUE)&\":\"&FIXED(K216,0,TRUE),IF(AND(COUNTA(K216,L216)=2,AF216=L217),\",\"&FIXED(K216,0,TRUE)&\":\"&FIXED(L216,0,TRUE),\"\"))","v":",2:15"},null,{"$f":"A216","v":31},{"$f":"IF(ISBLANK(D216),\"\",D216)","v":"GIMNAZJUM DZIEWCZĘTA"},{"$f":"IF(OR(I217=0,I217=\"\"),\"\",I217)","v":"x38"},{"$f":"IF(OR(I218=0,I218=\"\"),\"\",I218)","v":""},{"$f":"IF(OR(L217=0,L217=\"\"),\"\",L217)","v":"x48"},{"$f":"IF(OR(L218=0,L218=\"\"),\"\",L218)","v":""},{"$f":"IF(COUNTA(C219,L219)=1,IF(ISTEXT(C219),I217,L217),IF(OR(I216=\"\",W214=X214),\"\",IF(W214>X214,I217,L217)))","v":"x38"},{"$f":"IF(COUNTA(C219,L219)=1,IF(ISTEXT(C219),I218,L218),IF(OR(I216=\"\",W214=X214),\"\",IF(W214>X214,I218,L218)))","v":""},{"$f":"IF(OR(AF216=I217,AF216=L217),IF(AF216=I217,W215&W216&W217&IF(ISTEXT(C219),\" \"&C219,\"\"),W215&W216&W217&IF(ISTEXT(L219),\" \"&L219,\"\")),\"\")","v":"15:5,15:2"},{"$f":"IF(OR(AF216=I217,AF216=L217),IF(AF216=I217,X215&X216&X217&IF(ISTEXT(C219),\" \"&C219,\"\"),X215&X216&X217&IF(ISTEXT(L219),\" \"&L219,\"\")),\"\")","v":"5:15,2:15"},{"$f":"IF(ISBLANK(L219),\"\",L219)","v":""},{"$f":"I216","v":15},{"$f":"J216","v":5},{"$f":"K216","v":15},{"$f":"L216","v":2},{"$f":"M216","v":0},{"$f":"N216","v":0},null,{"$f":"T214","v":0},{"$f":"T215","v":0},{"$f":"IF(OR(AA216=dane!$I$3,AA216=dane!$I$4,AA216=dane!$I$5,AA216=dane!$I$6),AR216,\"\")","v":""},{"$f":"IF(OR(AA216=dane!$I$7,AA216=dane!$I$8,AA216=dane!$I$10,AA216=dane!$I$11),AR216,\"\")","v":0},{"$f":"IF(OR(AA216=dane!$I$12,AA216=dane!$I$13,AA216=dane!$I$14,AA216=dane!$I$15),AR216,\"\")","v":""},{"$f":"IF(OR(AA216=dane!$I$16,AA216=dane!$I$17,AA216=dane!$I$18,AA216=dane!$I$19),AR216,\"\")","v":""},{"$f":"IF(OR(AA216=dane!$I$20,AA216=dane!$I$21,AA216=dane!$I$22,AA216=dane!$I$23),AR216,\"\")","v":""},{"$f":"IF(OR(AA216=dane!$I$3,AA216=dane!$I$4,AA216=dane!$I$5,AA216=dane!$I$6),AS216,\"\")","v":""},{"$f":"IF(OR(AA216=dane!$I$7,AA216=dane!$I$8,AA216=dane!$I$10,AA216=dane!$I$11),AS216,\"\")","v":0},{"$f":"IF(OR(AA216=dane!$I$12,AA216=dane!$I$13,AA216=dane!$I$14,AA216=dane!$I$15),AS216,\"\")","v":""},{"$f":"IF(OR(AA216=dane!$I$16,AA216=dane!$I$17,AA216=dane!$I$18,AA216=dane!$I$19),AS216,\"\")","v":""},{"$f":"IF(OR(AA216=dane!$I$20,AA216=dane!$I$21,AA216=dane!$I$22,AA216=dane!$I$23),AS216,\"\")","v":""},{"$f":"IF($T$1=\"\",\"\",IF(C216=\"\",\"\",IF(Q216=\"\",C217,\"\")))","v":""},{"$f":"IF(LEN(L218)>0,$V$3,$V$2)+Q216+$T$1+C214-1","v":"2014-11-03T00:25:00"},{"$f":"IF(BE216>NOW(),C217,\"\")","v":""},{"$f":"IF(C216<>\"\",\"\",VLOOKUP(C217,BD:BD,1,FALSE))","v":{"$error":"#N/A"}},{"$f":"IF(Q216<>\"\",\"\",VLOOKUP(C217,BF:BF,1,FALSE))","v":"Iza Pomykała (Marki)"},{"$f":"IF(BF216<>\"\",BE216,\"\")","v":""},{"$f":"IF(Q216=\"\",C216,\"\")","v":0},null,null,null,null,null,null,null,null,null,null,null,null,{"$f":"IF((LEN(C216)+LEN(C220)+LEN(L220))=0,I217,\"\")","v":""},{"$f":"IF(LEN(BW216)>0,A216,\"\")","v":""}]
[{"$f":"IF(TYPE(VLOOKUP(C217,BF:BI,4,FALSE))=1,VLOOKUP(C217,BF:BI,4,FALSE),\"\")","v":41962.010416666664},{"$f":"IF(TYPE(VLOOKUP(I217,BW:BX,2,FALSE))=16,\"\",VLOOKUP(I217,BW:BX,2,FALSE))","v":""},{"$f":"IF(I217=\"\",\"\",VLOOKUP(I217,zawodnicy!$A:$D,2,FALSE)&\" \"&VLOOKUP(I217,zawodnicy!$A:$D,3,FALSE)&\" (\"&VLOOKUP(I217,zawodnicy!$A:$D,4,FALSE)&\")\")","v":"Iza Pomykała (Marki)"},null,null,null,null,null,{"$f":"IF(TYPE(VLOOKUP(A216,'grup-puch'!$A:$E,2,FALSE))=2,VLOOKUP(A216,'grup-puch'!$A:$E,2,FALSE),IF(TYPE(VLOOKUP(A216,puch!$A:$E,2,FALSE))=2,VLOOKUP(A216,puch!$A:$E,2,FALSE),\"\"))","v":"x38"},null,null,{"$f":"IF(TYPE(VLOOKUP(A216,'grup-puch'!$A:$E,4,FALSE))=2,VLOOKUP(A216,'grup-puch'!$A:$E,4,FALSE),IF(TYPE(VLOOKUP(A216,puch!$A:$E,4,FALSE))=2,VLOOKUP(A216,puch!$A:$E,4,FALSE),\"\"))","v":"x48"},null,null,{"$f":"IF(L217=\"\",\"\",VLOOKUP(L217,zawodnicy!$A:$D,2,FALSE)&\" \"&VLOOKUP(L217,zawodnicy!$A:$D,3,FALSE)&\" (\"&VLOOKUP(L217,zawodnicy!$A:$D,4,FALSE)&\")\")","v":"Ewelina Stec (Ząbki)"},null,null,null,null,null,{"$f":"IF(TYPE(VLOOKUP(L217,BW:BX,2,FALSE))=16,\"\",VLOOKUP(L217,BW:BX,2,FALSE))","v":""},{"$f":"IF(TYPE(VLOOKUP(O217,BF:BI,4,FALSE))=1,VLOOKUP(O217,BF:BI,4,FALSE),\"\")","v":41961.010416666664},{"$f":"IF(AND(COUNTA(M216,N216)=2,AF216=I217),\",\"&FIXED(M216,0,TRUE)&\":\"&FIXED(N216,0,TRUE),IF(AND(COUNTA(M216,N216)=2,AF216=L217),\",\"&FIXED(N216,0,TRUE)&\":\"&FIXED(M216,0,TRUE),\"\"))","v":""},{"$f":"IF(AND(COUNTA(M216,N216)=2,AF216=I217),\",\"&FIXED(N216,0,TRUE)&\":\"&FIXED(M216,0,TRUE),IF(AND(COUNTA(M216,N216)=2,AF216=L217),\",\"&FIXED(M216,0,TRUE)&\":\"&FIXED(N216,0,TRUE),\"\"))","v":""},null,null,null,null,null,null,null,null,null,null,null,null,null,null,null,null,null,null,null,null,null,null,null,null,null,null,null,null,null,null,null,{"$f":"IF($T$1=\"\",\"\",IF(C216=\"\",\"\",IF(Q216=\"\",C218,\"\")))","v":""},null,{"$f":"IF(BE216>NOW(),C218,\"\")","v":""},{"$f":"IF(C216<>\"\",\"\",VLOOKUP(C218,BD:BD,1,FALSE))","v":""},{"$f":"IF(Q216<>\"\",\"\",VLOOKUP(C218,BF:BF,1,FALSE))","v":""},{"$f":"IF(BF217<>\"\",BE216,\"\")","v":""},null,null,null,null,null,null,null,null,null,null,null,{"$f":"IF(VLOOKUP(I217,zawodnicy!A:E,5,FALSE)=0,\"\",C217)","v":""},{"$f":"IF(VLOOKUP(L217,zawodnicy!A:E,5,FALSE)=0,\"\",O217)","v":""},{"$f":"IF((LEN(C216)+LEN(C220)+LEN(L220))=0,I218,\"\")","v":""},{"$f":"IF(LEN(BW217)>0,A216,\"\")","v":""}]
["","",{"$f":"IF(OR(I218=0,I218=\"\"),\"\",VLOOKUP(I218,zawodnicy!$A:$D,2,FALSE)&\" \"&VLOOKUP(I218,zawodnicy!$A:$D,3,FALSE)&\" (\"&VLOOKUP(I218,zawodnicy!$A:$D,4,FALSE)&\")\")","v":""},null,null,null,null,null,{"$f":"IF(TYPE(VLOOKUP(A216,'grup-puch'!$A:$E,3,FALSE))=2,VLOOKUP(A216,'grup-puch'!$A:$E,3,FALSE),IF(TYPE(VLOOKUP(A216,puch!$A:$E,3,FALSE))=2,VLOOKUP(A216,puch!$A:$E,3,FALSE),\"\"))","v":""},null,null,{"$f":"IF(TYPE(VLOOKUP(A216,'grup-puch'!$A:$E,5,FALSE))=2,VLOOKUP(A216,'grup-puch'!$A:$E,5,FALSE),IF(TYPE(VLOOKUP(A216,puch!$A:$E,5,FALSE))=2,VLOOKUP(A216,puch!$A:$E,5,FALSE),\"\"))","v":""},null,null,{"$f":"IF(OR(L218=\"\",L218=0),\"\",VLOOKUP(L218,zawodnicy!$A:$D,2,FALSE)&\" \"&VLOOKUP(L218,zawodnicy!$A:$D,3,FALSE)&\" (\"&VLOOKUP(L218,zawodnicy!$A:$D,4,FALSE)&\")\")","v":""},null,null,null,null,null,"","",null,null,null,null,null,null,null,null,null,null,null,null,null,null,null,null,null,null,null,null,null,null,null,null,null,null,null,null,null,null,null,null,null,{"$f":"IF($T$1=\"\",\"\",IF(C216=\"\",\"\",IF(Q216=\"\",O217,\"\")))","v":""},null,{"$f":"IF(BE216>NOW(),O217,\"\")","v":""},{"$f":"IF(C216<>\"\",\"\",VLOOKUP(O217,BD:BD,1,FALSE))","v":{"$error":"#N/A"}},{"$f":"IF(Q216<>\"\",\"\",VLOOKUP(O217,BF:BF,1,FALSE))","v":"Ewelina Stec (Ząbki)"},{"$f":"IF(BF218<>\"\",BE216,\"\")","v":""},null,null,null,null,null,null,null,null,null,null,null,{"$f":"IF(VLOOKUP(I218,zawodnicy!A:E,5,FALSE)=0,\"\",C218)","v":{"$error":"#N/A"}},{"$f":"IF(VLOOKUP(L218,zawodnicy!A:E,5,FALSE)=0,\"\",O218)","v":{"$error":"#N/A"}},{"$f":"IF((LEN(C216)+LEN(C220)+LEN(L220))=0,L217,\"\")","v":""},{"$f":"IF(LEN(BW218)>0,A216,\"\")","v":""}]
[null,null,null,null,null,null,null,null,null,null,null,null,null,null,null,null,null,null,null,null,null,null,null,null,null,null,null,null,null,null,null,null,null,null,null,null,null,null,null,null,null,null,null,null,null,null,null,null,null,null,null,null,null,null,null,{"$f":"IF($T$1=\"\",\"\",IF(C216=\"\",\"\",IF(Q216=\"\",O218,\"\")))","v":""},null,{"$f":"IF(BE216>NOW(),O218,\"\")","v":""},{"$f":"IF(C216<>\"\",\"\",VLOOKUP(O218,BD:BD,1,FALSE))","v":""},{"$f":"IF(Q216<>\"\",\"\",VLOOKUP(O218,BF:BF,1,FALSE))","v":""},{"$f":"IF(BF219<>\"\",BE216,\"\")","v":""},null,null,null,null,null,null,null,null,null,null,null,null,null,{"$f":"IF((LEN(C216)+LEN(C220)+LEN(L220))=0,L218,\"\")","v":""},{"$f":"IF(LEN(BW219)>0,A216,\"\")","v":""}]
[null,null,{"$f":"IF(I217=\"\",\"\",IF(I217=AF216,\"zwycięzca(cy):\"&\" \"&AH216,\"\"))","v":"zwycięzca(cy): 15:5,15:2"},null,null,null,null,null,null,null,null,{"$f":"IF(L217=\"\",\"\",IF(L217=AF216,\"zwycięzca(cy):\"&\" \"&AH216,\"\"))","v":""}]
[null,null,32,"dzień turnieju.",null,null,null,null,null,"Nr meczu",null,null,null,null,"Godz.",null,null,null,"S. prow.",null,null,null,{"$f":"IF(I223>J223,1,0)+IF(K223>L223,1,0)+IF(M223>N223,1,0)","v":2},{"$f":"IF(J223>I223,1,0)+IF(L223>K223,1,0)+IF(N223>M223,1,0)","v":0},null,null,null,null,null,null,null,null,null,"wygrany","przegrany"]
[null,null,"Boisko","Gra",null,null,null,null,null,{"$f":"A223","v":32},null,null,null,null,"rozp.",null,"zak.",null,"S. serw.",null,null,null,{"$f":"IF(AND(COUNTA(I223,J223)=2,AF223=I224),FIXED(I223,0,TRUE)&\":\"&FIXED(J223,0,TRUE),IF(AND(COUNTA(I223,J223)=2,AF223=L224),FIXED(J223,0,TRUE)&\":\"&FIXED(I223,0,TRUE),\"\"))","v":"15:5"},{"$f":"IF(AND(COUNTA(I223,J223)=2,AF223=I224),FIXED(J223,0,TRUE)&\":\"&FIXED(I223,0,TRUE),IF(AND(COUNTA(I223,J223)=2,AF223=L224),FIXED(I223,0,TRUE)&\":\"&FIXED(J223,0,TRUE),\"\"))","v":"5:15"}]
[32,null,null,{"$f":"IF(TYPE(VLOOKUP(A223,'grup-puch'!$A:$M,13,FALSE))=2,VLOOKUP(A223,'grup-puch'!$A:$M,13,FALSE),IF(TYPE(VLOOKUP(A223,puch!$A:$J,10,FALSE))=2,VLOOKUP(A223,puch!$A:$J,10,FALSE),\"\"))","v":"GIMNAZJUM DZIEWCZĘTA"},null,null,null,null,15,5,15,3,null,null,null,null,null,null,{"$f":"Q223-O223","v":"00:00:00"},{"$f":"IF(VLOOKUP(A223,dane!F:G,2,FALSE)=\"\",\"\",VLOOKUP(A223,dane!F:G,2,FALSE))","v":{"$error":"#N/A"}},null,null,{"$f":"IF(AND(COUNTA(K223,L223)=2,AF223=I224),\",\"&FIXED(K223,0,TRUE)&\":\"&FIXED(L223,0,TRUE),IF(AND(COUNTA(K223,L223)=2,AF223=L224),\",\"&FIXED(L223,0,TRUE)&\":\"&FIXED(K223,0,TRUE),\"\"))","v":",15:3"},{"$f":"IF(AND(COUNTA(K223,L223)=2,AF223=I224),\",\"&FIXED(L223,0,TRUE)&\":\"&FIXED(K223,0,TRUE),IF(AND(COUNTA(K223,L223)=2,AF223=L224),\",\"&FIXED(K223,0,TRUE)&\":\"&FIXED(L223,0,TRUE),\"\"))","v":",3:15"},null,{"$f":"A223","v":32},{"$f":"IF(ISBLANK(D223),\"\",D223)","v":"GIMNAZJUM DZIEWCZĘTA"},{"$f":"IF(OR(I224=0,I224=\"\"),\"\",I224)","v":"x21"},{"$f":"IF(OR(I225=0,I225=\"\"),\"\",I225)","v":""},{"$f":"IF(OR(L224=0,L224=\"\"),\"\",L224)","v":"x48"},{"$f":"IF(OR(L225=0,L225=\"\"),\"\",L225)","v":""},{"$f":"IF(COUNTA(C226,L226)=1,IF(ISTEXT(C226),I224,L224),IF(OR(I223=\"\",W221=X221),\"\",IF(W221>X221,I224,L224)))","v":"x21"},{"$f":"IF(COUNTA(C226,L226)=1,IF(ISTEXT(C226),I225,L225),IF(OR(I223=\"\",W221=X221),\"\",IF(W221>X221,I225,L225)))","v":""},{"$f":"IF(OR(AF223=I224,AF223=L224),IF(AF223=I224,W222&W223&W224&IF(ISTEXT(C226),\" \"&C226,\"\"),W222&W223&W224&IF(ISTEXT(L226),\" \"&L226,\"\")),\"\")","v":"15:5,15:3"},{"$f":"IF(OR(AF223=I224,AF223=L224),IF(AF223=I224,X222&X223&X224&IF(ISTEXT(C226),\" \"&C226,\"\"),X222&X223&X224&IF(ISTEXT(L226),\" \"&L226,\"\")),\"\")","v":"5:15,3:15"},{"$f":"IF(ISBLANK(L226),\"\",L226)","v":""},{"$f":"I223","v":15},{"$f":"J223","v":5},{"$f":"K223","v":15},{"$f":"L223","v":3},{"$f":"M223","v":0},{"$f":"N223","v":0},null,{"$f":"T221","v":0},{"$f":"T222","v":0},{"$f":"IF(OR(AA223=dane!$I$3,AA223=dane!$I$4,AA223=dane!$I$5,AA223=dane!$I$6),AR223,\"\")","v":""},{"$f":"IF(OR(AA223=dane!$I$7,AA223=dane!$I$8,AA223=dane!$I$10,AA223=dane!$I$11),AR223,\"\")","v":0},{"$f":"IF(OR(AA223=dane!$I$12,AA223=dane!$I$13,AA223=dane!$I$14,AA223=dane!$I$15),AR223,\"\")","v":""},{"$f":"IF(OR(AA223=dane!$I$16,AA223=dane!$I$17,AA223=dane!$I$18,AA223=dane!$I$19),AR223,\"\")","v":""},{"$f":"IF(OR(AA223=dane!$I$20,AA223=dane!$I$21,AA223=dane!$I$22,AA223=dane!$I$23),AR223,\"\")","v":""},{"$f":"IF(OR(AA223=dane!$I$3,AA223=dane!$I$4,AA223=dane!$I$5,AA223=dane!$I$6),AS223,\"\")","v":""},{"$f":"IF(OR(AA223=dane!$I$7,AA223=dane!$I$8,AA223=dane!$I$10,AA223=dane!$I$11),AS223,\"\")","v":0},{"$f":"IF(OR(AA223=dane!$I$12,AA223=dane!$I$13,AA223=dane!$I$14,AA223=dane!$I$15),AS223,\"\")","v":""},{"$f":"IF(OR(AA223=dane!$I$16,AA223=dane!$I$17,AA223=dane!$I$18,AA223=dane!$I$19),AS223,\"\")","v":""},{"$f":"IF(OR(AA223=dane!$I$20,AA223=dane!$I$21,AA223=dane!$I$22,AA223=dane!$I$23),AS223,\"\")","v":""},{"$f":"IF($T$1=\"\",\"\",IF(C223=\"\",\"\",IF(Q223=\"\",C224,\"\")))","v":""},{"$f":"IF(LEN(L225)>0,$V$3,$V$2)+Q223+$T$1+C221-1","v":"2014-11-04T00:25:00"},{"$f":"IF(BE223>NOW(),C224,\"\")","v":""},{"$f":"IF(C223<>\"\",\"\",VLOOKUP(C224,BD:BD,1,FALSE))","v":{"$error":"#N/A"}},{"$f":"IF(Q223<>\"\",\"\",VLOOKUP(C224,BF:BF,1,FALSE))","v":"Magdalena  Krupa (Wesoła)"},{"$f":"IF(BF223<>\"\",BE223,\"\")","v":""},{"$f":"IF(Q223=\"\",C223,\"\")","v":0},null,null,null,null,null,null,null,null,null,null,null,null,{"$f":"IF((LEN(C223)+LEN(C227)+LEN(L227))=0,I224,\"\")","v":""},{"$f":"IF(LEN(BW223)>0,A223,\"\")","v":""}]
[{"$f":"IF(TYPE(VLOOKUP(C224,BF:BI,4,FALSE))=1,VLOOKUP(C224,BF:BI,4,FALSE),\"\")","v":41964.010416666664},{"$f":"IF(TYPE(VLOOKUP(I224,BW:BX,2,FALSE))=16,\"\",VLOOKUP(I224,BW:BX,2,FALSE))","v":""},{"$f":"IF(I224=\"\",\"\",VLOOKUP(I224,zawodnicy!$A:$D,2,FALSE)&\" \"&VLOOKUP(I224,zawodnicy!$A:$D,3,FALSE)&\" (\"&VLOOKUP(I224,zawodnicy!$A:$D,4,FALSE)&\")\")","v":"Magdalena  Krupa (Wesoła)"},null,null,null,null,null,{"$f":"IF(TYPE(VLOOKUP(A223,'grup-puch'!$A:$E,2,FALSE))=2,VLOOKUP(A223,'grup-puch'!$A:$E,2,FALSE),IF(TYPE(VLOOKUP(A223,puch!$A:$E,2,FALSE))=2,VLOOKUP(A223,puch!$A:$E,2,FALSE),\"\"))","v":"x21"},null,null,{"$f":"IF(TYPE(VLOOKUP(A223,'grup-puch'!$A:$E,4,FALSE))=2,VLOOKUP(A223,'grup-puch'!$A:$E,4,FALSE),IF(TYPE(VLOOKUP(A223,puch!$A:$E,4,FALSE))=2,VLOOKUP(A223,puch!$A:$E,4,FALSE),\"\"))","v":"x48"},null,null,{"$f":"IF(L224=\"\",\"\",VLOOKUP(L224,zawodnicy!$A:$D,2,FALSE)&\" \"&VLOOKUP(L224,zawodnicy!$A:$D,3,FALSE)&\" (\"&VLOOKUP(L224,zawodnicy!$A:$D,4,FALSE)&\")\")","v":"Ewelina Stec (Ząbki)"},null,null,null,null,null,{"$f":"IF(TYPE(VLOOKUP(L224,BW:BX,2,FALSE))=16,\"\",VLOOKUP(L224,BW:BX,2,FALSE))","v":""},{"$f":"IF(TYPE(VLOOKUP(O224,BF:BI,4,FALSE))=1,VLOOKUP(O224,BF:BI,4,FALSE),\"\")","v":41961.010416666664},{"$f":"IF(AND(COUNTA(M223,N223)=2,AF223=I224),\",\"&FIXED(M223,0,TRUE)&\":\"&FIXED(N223,0,TRUE),IF(AND(COUNTA(M223,N223)=2,AF223=L224),\",\"&FIXED(N223,0,TRUE)&\":\"&FIXED(M223,0,TRUE),\"\"))","v":""},{"$f":"IF(AND(COUNTA(M223,N223)=2,AF223=I224),\",\"&FIXED(N223,0,TRUE)&\":\"&FIXED(M223,0,TRUE),IF(AND(COUNTA(M223,N223)=2,AF223=L224),\",\"&FIXED(M223,0,TRUE)&\":\"&FIXED(N223,0,TRUE),\"\"))","v":""},null,null,null,null,null,null,null,null,null,null,null,null,null,null,null,null,null,null,null,null,null,null,null,null,null,null,null,null,null,null,null,{"$f":"IF($T$1=\"\",\"\",IF(C223=\"\",\"\",IF(Q223=\"\",C225,\"\")))","v":""},null,{"$f":"IF(BE223>NOW(),C225,\"\")","v":""},{"$f":"IF(C223<>\"\",\"\",VLOOKUP(C225,BD:BD,1,FALSE))","v":""},{"$f":"IF(Q223<>\"\",\"\",VLOOKUP(C225,BF:BF,1,FALSE))","v":""},{"$f":"IF(BF224<>\"\",BE223,\"\")","v":""},null,null,null,null,null,null,null,null,null,null,null,{"$f":"IF(VLOOKUP(I224,zawodnicy!A:E,5,FALSE)=0,\"\",C224)","v":""},{"$f":"IF(VLOOKUP(L224,zawodnicy!A:E,5,FALSE)=0,\"\",O224)","v":""},{"$f":"IF((LEN(C223)+LEN(C227)+LEN(L227))=0,I225,\"\")","v":""},{"$f":"IF(LEN(BW224)>0,A223,\"\")","v":""}]
["","",{"$f":"IF(OR(I225=0,I225=\"\"),\"\",VLOOKUP(I225,zawodnicy!$A:$D,2,FALSE)&\" \"&VLOOKUP(I225,zawodnicy!$A:$D,3,FALSE)&\" (\"&VLOOKUP(I225,zawodnicy!$A:$D,4,FALSE)&\")\")","v":""},null,null,null,null,null,{"$f":"IF(TYPE(VLOOKUP(A223,'grup-puch'!$A:$E,3,FALSE))=2,VLOOKUP(A223,'grup-puch'!$A:$E,3,FALSE),IF(TYPE(VLOOKUP(A223,puch!$A:$E,3,FALSE))=2,VLOOKUP(A223,puch!$A:$E,3,FALSE),\"\"))","v":""},null,null,{"$f":"IF(TYPE(VLOOKUP(A223,'grup-puch'!$A:$E,5,FALSE))=2,VLOOKUP(A223,'grup-puch'!$A:$E,5,FALSE),IF(TYPE(VLOOKUP(A223,puch!$A:$E,5,FALSE))=2,VLOOKUP(A223,puch!$A:$E,5,FALSE),\"\"))","v":""},null,null,{"$f":"IF(OR(L225=\"\",L225=0),\"\",VLOOKUP(L225,zawodnicy!$A:$D,2,FALSE)&\" \"&VLOOKUP(L225,zawodnicy!$A:$D,3,FALSE)&\" (\"&VLOOKUP(L225,zawodnicy!$A:$D,4,FALSE)&\")\")","v":""},null,null,null,null,null,"","",null,null,null,null,null,null,null,null,null,null,null,null,null,null,null,null,null,null,null,null,null,null,null,null,null,null,null,null,null,null,null,null,null,{"$f":"IF($T$1=\"\",\"\",IF(C223=\"\",\"\",IF(Q223=\"\",O224,\"\")))","v":""},null,{"$f":"IF(BE223>NOW(),O224,\"\")","v":""},{"$f":"IF(C223<>\"\",\"\",VLOOKUP(O224,BD:BD,1,FALSE))","v":{"$error":"#N/A"}},{"$f":"IF(Q223<>\"\",\"\",VLOOKUP(O224,BF:BF,1,FALSE))","v":"Ewelina Stec (Ząbki)"},{"$f":"IF(BF225<>\"\",BE223,\"\")","v":""},null,null,null,null,null,null,null,null,null,null,null,{"$f":"IF(VLOOKUP(I225,zawodnicy!A:E,5,FALSE)=0,\"\",C225)","v":{"$error":"#N/A"}},{"$f":"IF(VLOOKUP(L225,zawodnicy!A:E,5,FALSE)=0,\"\",O225)","v":{"$error":"#N/A"}},{"$f":"IF((LEN(C223)+LEN(C227)+LEN(L227))=0,L224,\"\")","v":""},{"$f":"IF(LEN(BW225)>0,A223,\"\")","v":""}]
[null,null,null,null,null,null,null,null,null,null,null,null,null,null,null,null,null,null,null,null,null,null,null,null,null,null,null,null,null,null,null,null,null,null,null,null,null,null,null,null,null,null,null,null,null,null,null,null,null,null,null,null,null,null,null,{"$f":"IF($T$1=\"\",\"\",IF(C223=\"\",\"\",IF(Q223=\"\",O225,\"\")))","v":""},null,{"$f":"IF(BE223>NOW(),O225,\"\")","v":""},{"$f":"IF(C223<>\"\",\"\",VLOOKUP(O225,BD:BD,1,FALSE))","v":""},{"$f":"IF(Q223<>\"\",\"\",VLOOKUP(O225,BF:BF,1,FALSE))","v":""},{"$f":"IF(BF226<>\"\",BE223,\"\")","v":""},null,null,null,null,null,null,null,null,null,null,null,null,null,{"$f":"IF((LEN(C223)+LEN(C227)+LEN(L227))=0,L225,\"\")","v":""},{"$f":"IF(LEN(BW226)>0,A223,\"\")","v":""}]
[null,null,{"$f":"IF(I224=\"\",\"\",IF(I224=AF223,\"zwycięzca(cy):\"&\" \"&AH223,\"\"))","v":"zwycięzca(cy): 15:5,15:3"},null,null,null,null,null,null,null,null,{"$f":"IF(L224=\"\",\"\",IF(L224=AF223,\"zwycięzca(cy):\"&\" \"&AH223,\"\"))","v":""}]
[null,null,33,"dzień turnieju.",null,null,null,null,null,"Nr meczu",null,null,null,null,"Godz.",null,null,null,"S. prow.",null,null,null,{"$f":"IF(I230>J230,1,0)+IF(K230>L230,1,0)+IF(M230>N230,1,0)","v":2},{"$f":"IF(J230>I230,1,0)+IF(L230>K230,1,0)+IF(N230>M230,1,0)","v":0},null,null,null,null,null,null,null,null,null,"wygrany","przegrany"]
[null,null,"Boisko","Gra",null,null,null,null,null,{"$f":"A230","v":33},null,null,null,null,"rozp.",null,"zak.",null,"S. serw.",null,null,null,{"$f":"IF(AND(COUNTA(I230,J230)=2,AF230=I231),FIXED(I230,0,TRUE)&\":\"&FIXED(J230,0,TRUE),IF(AND(COUNTA(I230,J230)=2,AF230=L231),FIXED(J230,0,TRUE)&\":\"&FIXED(I230,0,TRUE),\"\"))","v":"15:9"},{"$f":"IF(AND(COUNTA(I230,J230)=2,AF230=I231),FIXED(J230,0,TRUE)&\":\"&FIXED(I230,0,TRUE),IF(AND(COUNTA(I230,J230)=2,AF230=L231),FIXED(I230,0,TRUE)&\":\"&FIXED(J230,0,TRUE),\"\"))","v":"9:15"}]
[33,null,null,{"$f":"IF(TYPE(VLOOKUP(A230,'grup-puch'!$A:$M,13,FALSE))=2,VLOOKUP(A230,'grup-puch'!$A:$M,13,FALSE),IF(TYPE(VLOOKUP(A230,puch!$A:$J,10,FALSE))=2,VLOOKUP(A230,puch!$A:$J,10,FALSE),\"\"))","v":"GIMNAZJUM DZIEWCZĘTA"},null,null,null,null,15,9,15,3,null,null,null,null,null,null,{"$f":"Q230-O230","v":"00:00:00"},{"$f":"IF(VLOOKUP(A230,dane!F:G,2,FALSE)=\"\",\"\",VLOOKUP(A230,dane!F:G,2,FALSE))","v":{"$error":"#N/A"}},null,null,{"$f":"IF(AND(COUNTA(K230,L230)=2,AF230=I231),\",\"&FIXED(K230,0,TRUE)&\":\"&FIXED(L230,0,TRUE),IF(AND(COUNTA(K230,L230)=2,AF230=L231),\",\"&FIXED(L230,0,TRUE)&\":\"&FIXED(K230,0,TRUE),\"\"))","v":",15:3"},{"$f":"IF(AND(COUNTA(K230,L230)=2,AF230=I231),\",\"&FIXED(L230,0,TRUE)&\":\"&FIXED(K230,0,TRUE),IF(AND(COUNTA(K230,L230)=2,AF230=L231),\",\"&FIXED(K230,0,TRUE)&\":\"&FIXED(L230,0,TRUE),\"\"))","v":",3:15"},null,{"$f":"A230","v":33},{"$f":"IF(ISBLANK(D230),\"\",D230)","v":"GIMNAZJUM DZIEWCZĘTA"},{"$f":"IF(OR(I231=0,I231=\"\"),\"\",I231)","v":"x24"},{"$f":"IF(OR(I232=0,I232=\"\"),\"\",I232)","v":""},{"$f":"IF(OR(L231=0,L231=\"\"),\"\",L231)","v":"x48"},{"$f":"IF(OR(L232=0,L232=\"\"),\"\",L232)","v":""},{"$f":"IF(COUNTA(C233,L233)=1,IF(ISTEXT(C233),I231,L231),IF(OR(I230=\"\",W228=X228),\"\",IF(W228>X228,I231,L231)))","v":"x24"},{"$f":"IF(COUNTA(C233,L233)=1,IF(ISTEXT(C233),I232,L232),IF(OR(I230=\"\",W228=X228),\"\",IF(W228>X228,I232,L232)))","v":""},{"$f":"IF(OR(AF230=I231,AF230=L231),IF(AF230=I231,W229&W230&W231&IF(ISTEXT(C233),\" \"&C233,\"\"),W229&W230&W231&IF(ISTEXT(L233),\" \"&L233,\"\")),\"\")","v":"15:9,15:3"},{"$f":"IF(OR(AF230=I231,AF230=L231),IF(AF230=I231,X229&X230&X231&IF(ISTEXT(C233),\" \"&C233,\"\"),X229&X230&X231&IF(ISTEXT(L233),\" \"&L233,\"\")),\"\")","v":"9:15,3:15"},{"$f":"IF(ISBLANK(L233),\"\",L233)","v":""},{"$f":"I230","v":15},{"$f":"J230","v":9},{"$f":"K230","v":15},{"$f":"L230","v":3},{"$f":"M230","v":0},{"$f":"N230","v":0},null,{"$f":"T228","v":0},{"$f":"T229","v":0},{"$f":"IF(OR(AA230=dane!$I$3,AA230=dane!$I$4,AA230=dane!$I$5,AA230=dane!$I$6),AR230,\"\")","v":""},{"$f":"IF(OR(AA230=dane!$I$7,AA230=dane!$I$8,AA230=dane!$I$10,AA230=dane!$I$11),AR230,\"\")","v":0},{"$f":"IF(OR(AA230=dane!$I$12,AA230=dane!$I$13,AA230=dane!$I$14,AA230=dane!$I$15),AR230,\"\")","v":""},{"$f":"IF(OR(AA230=dane!$I$16,AA230=dane!$I$17,AA230=dane!$I$18,AA230=dane!$I$19),AR230,\"\")","v":""},{"$f":"IF(OR(AA230=dane!$I$20,AA230=dane!$I$21,AA230=dane!$I$22,AA230=dane!$I$23),AR230,\"\")","v":""},{"$f":"IF(OR(AA230=dane!$I$3,AA230=dane!$I$4,AA230=dane!$I$5,AA230=dane!$I$6),AS230,\"\")","v":""},{"$f":"IF(OR(AA230=dane!$I$7,AA230=dane!$I$8,AA230=dane!$I$10,AA230=dane!$I$11),AS230,\"\")","v":0},{"$f":"IF(OR(AA230=dane!$I$12,AA230=dane!$I$13,AA230=dane!$I$14,AA230=dane!$I$15),AS230,\"\")","v":""},{"$f":"IF(OR(AA230=dane!$I$16,AA230=dane!$I$17,AA230=dane!$I$18,AA230=dane!$I$19),AS230,\"\")","v":""},{"$f":"IF(OR(AA230=dane!$I$20,AA230=dane!$I$21,AA230=dane!$I$22,AA230=dane!$I$23),AS230,\"\")","v":""},{"$f":"IF($T$1=\"\",\"\",IF(C230=\"\",\"\",IF(Q230=\"\",C231,\"\")))","v":""},{"$f":"IF(LEN(L232)>0,$V$3,$V$2)+Q230+$T$1+C228-1","v":"2014-11-05T00:25:00"},{"$f":"IF(BE230>NOW(),C231,\"\")","v":""},{"$f":"IF(C230<>\"\",\"\",VLOOKUP(C231,BD:BD,1,FALSE))","v":{"$error":"#N/A"}},{"$f":"IF(Q230<>\"\",\"\",VLOOKUP(C231,BF:BF,1,FALSE))","v":"Karolina Łukomska (Zielonka)"},{"$f":"IF(BF230<>\"\",BE230,\"\")","v":""},{"$f":"IF(Q230=\"\",C230,\"\")","v":0},null,null,null,null,null,null,null,null,null,null,null,null,{"$f":"IF((LEN(C230)+LEN(C234)+LEN(L234))=0,I231,\"\")","v":""},{"$f":"IF(LEN(BW230)>0,A230,\"\")","v":""}]
[{"$f":"IF(TYPE(VLOOKUP(C231,BF:BI,4,FALSE))=1,VLOOKUP(C231,BF:BI,4,FALSE),\"\")","v":41964.010416666664},{"$f":"IF(TYPE(VLOOKUP(I231,BW:BX,2,FALSE))=16,\"\",VLOOKUP(I231,BW:BX,2,FALSE))","v":""},{"$f":"IF(I231=\"\",\"\",VLOOKUP(I231,zawodnicy!$A:$D,2,FALSE)&\" \"&VLOOKUP(I231,zawodnicy!$A:$D,3,FALSE)&\" (\"&VLOOKUP(I231,zawodnicy!$A:$D,4,FALSE)&\")\")","v":"Karolina Łukomska (Zielonka)"},null,null,null,null,null,{"$f":"IF(TYPE(VLOOKUP(A230,'grup-puch'!$A:$E,2,FALSE))=2,VLOOKUP(A230,'grup-puch'!$A:$E,2,FALSE),IF(TYPE(VLOOKUP(A230,puch!$A:$E,2,FALSE))=2,VLOOKUP(A230,puch!$A:$E,2,FALSE),\"\"))","v":"x24"},null,null,{"$f":"IF(TYPE(VLOOKUP(A230,'grup-puch'!$A:$E,4,FALSE))=2,VLOOKUP(A230,'grup-puch'!$A:$E,4,FALSE),IF(TYPE(VLOOKUP(A230,puch!$A:$E,4,FALSE))=2,VLOOKUP(A230,puch!$A:$E,4,FALSE),\"\"))","v":"x48"},null,null,{"$f":"IF(L231=\"\",\"\",VLOOKUP(L231,zawodnicy!$A:$D,2,FALSE)&\" \"&VLOOKUP(L231,zawodnicy!$A:$D,3,FALSE)&\" (\"&VLOOKUP(L231,zawodnicy!$A:$D,4,FALSE)&\")\")","v":"Ewelina Stec (Ząbki)"},null,null,null,null,null,{"$f":"IF(TYPE(VLOOKUP(L231,BW:BX,2,FALSE))=16,\"\",VLOOKUP(L231,BW:BX,2,FALSE))","v":""},{"$f":"IF(TYPE(VLOOKUP(O231,BF:BI,4,FALSE))=1,VLOOKUP(O231,BF:BI,4,FALSE),\"\")","v":41961.010416666664},{"$f":"IF(AND(COUNTA(M230,N230)=2,AF230=I231),\",\"&FIXED(M230,0,TRUE)&\":\"&FIXED(N230,0,TRUE),IF(AND(COUNTA(M230,N230)=2,AF230=L231),\",\"&FIXED(N230,0,TRUE)&\":\"&FIXED(M230,0,TRUE),\"\"))","v":""},{"$f":"IF(AND(COUNTA(M230,N230)=2,AF230=I231),\",\"&FIXED(N230,0,TRUE)&\":\"&FIXED(M230,0,TRUE),IF(AND(COUNTA(M230,N230)=2,AF230=L231),\",\"&FIXED(M230,0,TRUE)&\":\"&FIXED(N230,0,TRUE),\"\"))","v":""},null,null,null,null,null,null,null,null,null,null,null,null,null,null,null,null,null,null,null,null,null,null,null,null,null,null,null,null,null,null,null,{"$f":"IF($T$1=\"\",\"\",IF(C230=\"\",\"\",IF(Q230=\"\",C232,\"\")))","v":""},null,{"$f":"IF(BE230>NOW(),C232,\"\")","v":""},{"$f":"IF(C230<>\"\",\"\",VLOOKUP(C232,BD:BD,1,FALSE))","v":""},{"$f":"IF(Q230<>\"\",\"\",VLOOKUP(C232,BF:BF,1,FALSE))","v":""},{"$f":"IF(BF231<>\"\",BE230,\"\")","v":""},null,null,null,null,null,null,null,null,null,null,null,{"$f":"IF(VLOOKUP(I231,zawodnicy!A:E,5,FALSE)=0,\"\",C231)","v":""},{"$f":"IF(VLOOKUP(L231,zawodnicy!A:E,5,FALSE)=0,\"\",O231)","v":""},{"$f":"IF((LEN(C230)+LEN(C234)+LEN(L234))=0,I232,\"\")","v":""},{"$f":"IF(LEN(BW231)>0,A230,\"\")","v":""}]
["","",{"$f":"IF(OR(I232=0,I232=\"\"),\"\",VLOOKUP(I232,zawodnicy!$A:$D,2,FALSE)&\" \"&VLOOKUP(I232,zawodnicy!$A:$D,3,FALSE)&\" (\"&VLOOKUP(I232,zawodnicy!$A:$D,4,FALSE)&\")\")","v":""},null,null,null,null,null,{"$f":"IF(TYPE(VLOOKUP(A230,'grup-puch'!$A:$E,3,FALSE))=2,VLOOKUP(A230,'grup-puch'!$A:$E,3,FALSE),IF(TYPE(VLOOKUP(A230,puch!$A:$E,3,FALSE))=2,VLOOKUP(A230,puch!$A:$E,3,FALSE),\"\"))","v":""},null,null,{"$f":"IF(TYPE(VLOOKUP(A230,'grup-puch'!$A:$E,5,FALSE))=2,VLOOKUP(A230,'grup-puch'!$A:$E,5,FALSE),IF(TYPE(VLOOKUP(A230,puch!$A:$E,5,FALSE))=2,VLOOKUP(A230,puch!$A:$E,5,FALSE),\"\"))","v":""},null,null,{"$f":"IF(OR(L232=\"\",L232=0),\"\",VLOOKUP(L232,zawodnicy!$A:$D,2,FALSE)&\" \"&VLOOKUP(L232,zawodnicy!$A:$D,3,FALSE)&\" (\"&VLOOKUP(L232,zawodnicy!$A:$D,4,FALSE)&\")\")","v":""},null,null,null,null,null,"","",null,null,null,null,null,null,null,null,null,null,null,null,null,null,null,null,null,null,null,null,null,null,null,null,null,null,null,null,null,null,null,null,null,{"$f":"IF($T$1=\"\",\"\",IF(C230=\"\",\"\",IF(Q230=\"\",O231,\"\")))","v":""},null,{"$f":"IF(BE230>NOW(),O231,\"\")","v":""},{"$f":"IF(C230<>\"\",\"\",VLOOKUP(O231,BD:BD,1,FALSE))","v":{"$error":"#N/A"}},{"$f":"IF(Q230<>\"\",\"\",VLOOKUP(O231,BF:BF,1,FALSE))","v":"Ewelina Stec (Ząbki)"},{"$f":"IF(BF232<>\"\",BE230,\"\")","v":""},null,null,null,null,null,null,null,null,null,null,null,{"$f":"IF(VLOOKUP(I232,zawodnicy!A:E,5,FALSE)=0,\"\",C232)","v":{"$error":"#N/A"}},{"$f":"IF(VLOOKUP(L232,zawodnicy!A:E,5,FALSE)=0,\"\",O232)","v":{"$error":"#N/A"}},{"$f":"IF((LEN(C230)+LEN(C234)+LEN(L234))=0,L231,\"\")","v":""},{"$f":"IF(LEN(BW232)>0,A230,\"\")","v":""}]
[null,null,null,null,null,null,null,null,null,null,null,null,null,null,null,null,null,null,null,null,null,null,null,null,null,null,null,null,null,null,null,null,null,null,null,null,null,null,null,null,null,null,null,null,null,null,null,null,null,null,null,null,null,null,null,{"$f":"IF($T$1=\"\",\"\",IF(C230=\"\",\"\",IF(Q230=\"\",O232,\"\")))","v":""},null,{"$f":"IF(BE230>NOW(),O232,\"\")","v":""},{"$f":"IF(C230<>\"\",\"\",VLOOKUP(O232,BD:BD,1,FALSE))","v":""},{"$f":"IF(Q230<>\"\",\"\",VLOOKUP(O232,BF:BF,1,FALSE))","v":""},{"$f":"IF(BF233<>\"\",BE230,\"\")","v":""},null,null,null,null,null,null,null,null,null,null,null,null,null,{"$f":"IF((LEN(C230)+LEN(C234)+LEN(L234))=0,L232,\"\")","v":""},{"$f":"IF(LEN(BW233)>0,A230,\"\")","v":""}]
[null,null,{"$f":"IF(I231=\"\",\"\",IF(I231=AF230,\"zwycięzca(cy):\"&\" \"&AH230,\"\"))","v":"zwycięzca(cy): 15:9,15:3"},null,null,null,null,null,null,null,null,{"$f":"IF(L231=\"\",\"\",IF(L231=AF230,\"zwycięzca(cy):\"&\" \"&AH230,\"\"))","v":""}]
[null,null,34,"dzień turnieju.",null,null,null,null,null,"Nr meczu",null,null,null,null,"Godz.",null,null,null,"S. prow.",null,null,null,{"$f":"IF(I237>J237,1,0)+IF(K237>L237,1,0)+IF(M237>N237,1,0)","v":2},{"$f":"IF(J237>I237,1,0)+IF(L237>K237,1,0)+IF(N237>M237,1,0)","v":0},null,null,null,null,null,null,null,null,null,"wygrany","przegrany"]
[null,null,"Boisko","Gra",null,null,null,null,null,{"$f":"A237","v":34},null,null,null,null,"rozp.",null,"zak.",null,"S. serw.",null,null,null,{"$f":"IF(AND(COUNTA(I237,J237)=2,AF237=I238),FIXED(I237,0,TRUE)&\":\"&FIXED(J237,0,TRUE),IF(AND(COUNTA(I237,J237)=2,AF237=L238),FIXED(J237,0,TRUE)&\":\"&FIXED(I237,0,TRUE),\"\"))","v":"16:14"},{"$f":"IF(AND(COUNTA(I237,J237)=2,AF237=I238),FIXED(J237,0,TRUE)&\":\"&FIXED(I237,0,TRUE),IF(AND(COUNTA(I237,J237)=2,AF237=L238),FIXED(I237,0,TRUE)&\":\"&FIXED(J237,0,TRUE),\"\"))","v":"14:16"}]
[34,null,null,{"$f":"IF(TYPE(VLOOKUP(A237,'grup-puch'!$A:$M,13,FALSE))=2,VLOOKUP(A237,'grup-puch'!$A:$M,13,FALSE),IF(TYPE(VLOOKUP(A237,puch!$A:$J,10,FALSE))=2,VLOOKUP(A237,puch!$A:$J,10,FALSE),\"\"))","v":"KLASY 4-6 CHŁOPCY"},null,null,null,null,16,14,15,8,null,null,null,null,null,null,{"$f":"Q237-O237","v":"00:00:00"},{"$f":"IF(VLOOKUP(A237,dane!F:G,2,FALSE)=\"\",\"\",VLOOKUP(A237,dane!F:G,2,FALSE))","v":{"$error":"#N/A"}},null,null,{"$f":"IF(AND(COUNTA(K237,L237)=2,AF237=I238),\",\"&FIXED(K237,0,TRUE)&\":\"&FIXED(L237,0,TRUE),IF(AND(COUNTA(K237,L237)=2,AF237=L238),\",\"&FIXED(L237,0,TRUE)&\":\"&FIXED(K237,0,TRUE),\"\"))","v":",15:8"},{"$f":"IF(AND(COUNTA(K237,L237)=2,AF237=I238),\",\"&FIXED(L237,0,TRUE)&\":\"&FIXED(K237,0,TRUE),IF(AND(COUNTA(K237,L237)=2,AF237=L238),\",\"&FIXED(K237,0,TRUE)&\":\"&FIXED(L237,0,TRUE),\"\"))","v":",8:15"},null,{"$f":"A237","v":34},{"$f":"IF(ISBLANK(D237),\"\",D237)","v":"KLASY 4-6 CHŁOPCY"},{"$f":"IF(OR(I238=0,I238=\"\"),\"\",I238)","v":"X68"},{"$f":"IF(OR(I239=0,I239=\"\"),\"\",I239)","v":""},{"$f":"IF(OR(L238=0,L238=\"\"),\"\",L238)","v":"X20"},{"$f":"IF(OR(L239=0,L239=\"\"),\"\",L239)","v":""},{"$f":"IF(COUNTA(C240,L240)=1,IF(ISTEXT(C240),I238,L238),IF(OR(I237=\"\",W235=X235),\"\",IF(W235>X235,I238,L238)))","v":"X68"},{"$f":"IF(COUNTA(C240,L240)=1,IF(ISTEXT(C240),I239,L239),IF(OR(I237=\"\",W235=X235),\"\",IF(W235>X235,I239,L239)))","v":""},{"$f":"IF(OR(AF237=I238,AF237=L238),IF(AF237=I238,W236&W237&W238&IF(ISTEXT(C240),\" \"&C240,\"\"),W236&W237&W238&IF(ISTEXT(L240),\" \"&L240,\"\")),\"\")","v":"16:14,15:8"},{"$f":"IF(OR(AF237=I238,AF237=L238),IF(AF237=I238,X236&X237&X238&IF(ISTEXT(C240),\" \"&C240,\"\"),X236&X237&X238&IF(ISTEXT(L240),\" \"&L240,\"\")),\"\")","v":"14:16,8:15"},{"$f":"IF(ISBLANK(L240),\"\",L240)","v":""},{"$f":"I237","v":16},{"$f":"J237","v":14},{"$f":"K237","v":15},{"$f":"L237","v":8},{"$f":"M237","v":0},{"$f":"N237","v":0},null,{"$f":"T235","v":0},{"$f":"T236","v":0},{"$f":"IF(OR(AA237=dane!$I$3,AA237=dane!$I$4,AA237=dane!$I$5,AA237=dane!$I$6),AR237,\"\")","v":0},{"$f":"IF(OR(AA237=dane!$I$7,AA237=dane!$I$8,AA237=dane!$I$10,AA237=dane!$I$11),AR237,\"\")","v":""},{"$f":"IF(OR(AA237=dane!$I$12,AA237=dane!$I$13,AA237=dane!$I$14,AA237=dane!$I$15),AR237,\"\")","v":""},{"$f":"IF(OR(AA237=dane!$I$16,AA237=dane!$I$17,AA237=dane!$I$18,AA237=dane!$I$19),AR237,\"\")","v":""},{"$f":"IF(OR(AA237=dane!$I$20,AA237=dane!$I$21,AA237=dane!$I$22,AA237=dane!$I$23),AR237,\"\")","v":""},{"$f":"IF(OR(AA237=dane!$I$3,AA237=dane!$I$4,AA237=dane!$I$5,AA237=dane!$I$6),AS237,\"\")","v":0},{"$f":"IF(OR(AA237=dane!$I$7,AA237=dane!$I$8,AA237=dane!$I$10,AA237=dane!$I$11),AS237,\"\")","v":""},{"$f":"IF(OR(AA237=dane!$I$12,AA237=dane!$I$13,AA237=dane!$I$14,AA237=dane!$I$15),AS237,\"\")","v":""},{"$f":"IF(OR(AA237=dane!$I$16,AA237=dane!$I$17,AA237=dane!$I$18,AA237=dane!$I$19),AS237,\"\")","v":""},{"$f":"IF(OR(AA237=dane!$I$20,AA237=dane!$I$21,AA237=dane!$I$22,AA237=dane!$I$23),AS237,\"\")","v":""},{"$f":"IF($T$1=\"\",\"\",IF(C237=\"\",\"\",IF(Q237=\"\",C238,\"\")))","v":""},{"$f":"IF(LEN(L239)>0,$V$3,$V$2)+Q237+$T$1+C235-1","v":"2014-11-06T00:25:00"},{"$f":"IF(BE237>NOW(),C238,\"\")","v":""},{"$f":"IF(C237<>\"\",\"\",VLOOKUP(C238,BD:BD,1,FALSE))","v":{"$error":"#N/A"}},{"$f":"IF(Q237<>\"\",\"\",VLOOKUP(C238,BF:BF,1,FALSE))","v":"Kacper Winek (Garwolin)"},{"$f":"IF(BF237<>\"\",BE237,\"\")","v":""},{"$f":"IF(Q237=\"\",C237,\"\")","v":0},null,null,null,null,null,null,null,null,null,null,null,null,{"$f":"IF((LEN(C237)+LEN(C241)+LEN(L241))=0,I238,\"\")","v":""},{"$f":"IF(LEN(BW237)>0,A237,\"\")","v":""}]
[{"$f":"IF(TYPE(VLOOKUP(C238,BF:BI,4,FALSE))=1,VLOOKUP(C238,BF:BI,4,FALSE),\"\")","v":41958.017361111109},{"$f":"IF(TYPE(VLOOKUP(I238,BW:BX,2,FALSE))=16,\"\",VLOOKUP(I238,BW:BX,2,FALSE))","v":""},{"$f":"IF(I238=\"\",\"\",VLOOKUP(I238,zawodnicy!$A:$D,2,FALSE)&\" \"&VLOOKUP(I238,zawodnicy!$A:$D,3,FALSE)&\" (\"&VLOOKUP(I238,zawodnicy!$A:$D,4,FALSE)&\")\")","v":"Kacper Winek (Garwolin)"},null,null,null,null,null,{"$f":"IF(TYPE(VLOOKUP(A237,'grup-puch'!$A:$E,2,FALSE))=2,VLOOKUP(A237,'grup-puch'!$A:$E,2,FALSE),IF(TYPE(VLOOKUP(A237,puch!$A:$E,2,FALSE))=2,VLOOKUP(A237,puch!$A:$E,2,FALSE),\"\"))","v":"X68"},null,null,{"$f":"IF(TYPE(VLOOKUP(A237,'grup-puch'!$A:$E,4,FALSE))=2,VLOOKUP(A237,'grup-puch'!$A:$E,4,FALSE),IF(TYPE(VLOOKUP(A237,puch!$A:$E,4,FALSE))=2,VLOOKUP(A237,puch!$A:$E,4,FALSE),\"\"))","v":"X20"},null,null,{"$f":"IF(L238=\"\",\"\",VLOOKUP(L238,zawodnicy!$A:$D,2,FALSE)&\" \"&VLOOKUP(L238,zawodnicy!$A:$D,3,FALSE)&\" (\"&VLOOKUP(L238,zawodnicy!$A:$D,4,FALSE)&\")\")","v":"Błażej  Krawczyk (Ząbki)"},null,null,null,null,null,{"$f":"IF(TYPE(VLOOKUP(L238,BW:BX,2,FALSE))=16,\"\",VLOOKUP(L238,BW:BX,2,FALSE))","v":""},{"$f":"IF(TYPE(VLOOKUP(O238,BF:BI,4,FALSE))=1,VLOOKUP(O238,BF:BI,4,FALSE),\"\")","v":41964.010416666664},{"$f":"IF(AND(COUNTA(M237,N237)=2,AF237=I238),\",\"&FIXED(M237,0,TRUE)&\":\"&FIXED(N237,0,TRUE),IF(AND(COUNTA(M237,N237)=2,AF237=L238),\",\"&FIXED(N237,0,TRUE)&\":\"&FIXED(M237,0,TRUE),\"\"))","v":""},{"$f":"IF(AND(COUNTA(M237,N237)=2,AF237=I238),\",\"&FIXED(N237,0,TRUE)&\":\"&FIXED(M237,0,TRUE),IF(AND(COUNTA(M237,N237)=2,AF237=L238),\",\"&FIXED(M237,0,TRUE)&\":\"&FIXED(N237,0,TRUE),\"\"))","v":""},null,null,null,null,null,null,null,null,null,null,null,null,null,null,null,null,null,null,null,null,null,null,null,null,null,null,null,null,null,null,null,{"$f":"IF($T$1=\"\",\"\",IF(C237=\"\",\"\",IF(Q237=\"\",C239,\"\")))","v":""},null,{"$f":"IF(BE237>NOW(),C239,\"\")","v":""},{"$f":"IF(C237<>\"\",\"\",VLOOKUP(C239,BD:BD,1,FALSE))","v":""},{"$f":"IF(Q237<>\"\",\"\",VLOOKUP(C239,BF:BF,1,FALSE))","v":""},{"$f":"IF(BF238<>\"\",BE237,\"\")","v":""},null,null,null,null,null,null,null,null,null,null,null,{"$f":"IF(VLOOKUP(I238,zawodnicy!A:E,5,FALSE)=0,\"\",C238)","v":""},{"$f":"IF(VLOOKUP(L238,zawodnicy!A:E,5,FALSE)=0,\"\",O238)","v":""},{"$f":"IF((LEN(C237)+LEN(C241)+LEN(L241))=0,I239,\"\")","v":""},{"$f":"IF(LEN(BW238)>0,A237,\"\")","v":""}]
["","",{"$f":"IF(OR(I239=0,I239=\"\"),\"\",VLOOKUP(I239,zawodnicy!$A:$D,2,FALSE)&\" \"&VLOOKUP(I239,zawodnicy!$A:$D,3,FALSE)&\" (\"&VLOOKUP(I239,zawodnicy!$A:$D,4,FALSE)&\")\")","v":""},null,null,null,null,null,{"$f":"IF(TYPE(VLOOKUP(A237,'grup-puch'!$A:$E,3,FALSE))=2,VLOOKUP(A237,'grup-puch'!$A:$E,3,FALSE),IF(TYPE(VLOOKUP(A237,puch!$A:$E,3,FALSE))=2,VLOOKUP(A237,puch!$A:$E,3,FALSE),\"\"))","v":""},null,null,{"$f":"IF(TYPE(VLOOKUP(A237,'grup-puch'!$A:$E,5,FALSE))=2,VLOOKUP(A237,'grup-puch'!$A:$E,5,FALSE),IF(TYPE(VLOOKUP(A237,puch!$A:$E,5,FALSE))=2,VLOOKUP(A237,puch!$A:$E,5,FALSE),\"\"))","v":""},null,null,{"$f":"IF(OR(L239=\"\",L239=0),\"\",VLOOKUP(L239,zawodnicy!$A:$D,2,FALSE)&\" \"&VLOOKUP(L239,zawodnicy!$A:$D,3,FALSE)&\" (\"&VLOOKUP(L239,zawodnicy!$A:$D,4,FALSE)&\")\")","v":""},null,null,null,null,null,"","",null,null,null,null,null,null,null,null,null,null,null,null,null,null,null,null,null,null,null,null,null,null,null,null,null,null,null,null,null,null,null,null,null,{"$f":"IF($T$1=\"\",\"\",IF(C237=\"\",\"\",IF(Q237=\"\",O238,\"\")))","v":""},null,{"$f":"IF(BE237>NOW(),O238,\"\")","v":""},{"$f":"IF(C237<>\"\",\"\",VLOOKUP(O238,BD:BD,1,FALSE))","v":{"$error":"#N/A"}},{"$f":"IF(Q237<>\"\",\"\",VLOOKUP(O238,BF:BF,1,FALSE))","v":"Błażej  Krawczyk (Ząbki)"},{"$f":"IF(BF239<>\"\",BE237,\"\")","v":""},null,null,null,null,null,null,null,null,null,null,null,{"$f":"IF(VLOOKUP(I239,zawodnicy!A:E,5,FALSE)=0,\"\",C239)","v":{"$error":"#N/A"}},{"$f":"IF(VLOOKUP(L239,zawodnicy!A:E,5,FALSE)=0,\"\",O239)","v":{"$error":"#N/A"}},{"$f":"IF((LEN(C237)+LEN(C241)+LEN(L241))=0,L238,\"\")","v":""},{"$f":"IF(LEN(BW239)>0,A237,\"\")","v":""}]
[null,null,null,null,null,null,null,null,null,null,null,null,null,null,null,null,null,null,null,null,null,null,null,null,null,null,null,null,null,null,null,null,null,null,null,null,null,null,null,null,null,null,null,null,null,null,null,null,null,null,null,null,null,null,null,{"$f":"IF($T$1=\"\",\"\",IF(C237=\"\",\"\",IF(Q237=\"\",O239,\"\")))","v":""},null,{"$f":"IF(BE237>NOW(),O239,\"\")","v":""},{"$f":"IF(C237<>\"\",\"\",VLOOKUP(O239,BD:BD,1,FALSE))","v":""},{"$f":"IF(Q237<>\"\",\"\",VLOOKUP(O239,BF:BF,1,FALSE))","v":""},{"$f":"IF(BF240<>\"\",BE237,\"\")","v":""},null,null,null,null,null,null,null,null,null,null,null,null,null,{"$f":"IF((LEN(C237)+LEN(C241)+LEN(L241))=0,L239,\"\")","v":""},{"$f":"IF(LEN(BW240)>0,A237,\"\")","v":""}]
[null,null,{"$f":"IF(I238=\"\",\"\",IF(I238=AF237,\"zwycięzca(cy):\"&\" \"&AH237,\"\"))","v":"zwycięzca(cy): 16:14,15:8"},null,null,null,null,null,null,null,null,{"$f":"IF(L238=\"\",\"\",IF(L238=AF237,\"zwycięzca(cy):\"&\" \"&AH237,\"\"))","v":""}]
[null,null,35,"dzień turnieju.",null,null,null,null,null,"Nr meczu",null,null,null,null,"Godz.",null,null,null,"S. prow.",null,null,null,{"$f":"IF(I244>J244,1,0)+IF(K244>L244,1,0)+IF(M244>N244,1,0)","v":2},{"$f":"IF(J244>I244,1,0)+IF(L244>K244,1,0)+IF(N244>M244,1,0)","v":1},null,null,null,null,null,null,null,null,null,"wygrany","przegrany"]
[null,null,"Boisko","Gra",null,null,null,null,null,{"$f":"A244","v":35},null,null,null,null,"rozp.",null,"zak.",null,"S. serw.",null,null,null,{"$f":"IF(AND(COUNTA(I244,J244)=2,AF244=I245),FIXED(I244,0,TRUE)&\":\"&FIXED(J244,0,TRUE),IF(AND(COUNTA(I244,J244)=2,AF244=L245),FIXED(J244,0,TRUE)&\":\"&FIXED(I244,0,TRUE),\"\"))","v":"15:12"},{"$f":"IF(AND(COUNTA(I244,J244)=2,AF244=I245),FIXED(J244,0,TRUE)&\":\"&FIXED(I244,0,TRUE),IF(AND(COUNTA(I244,J244)=2,AF244=L245),FIXED(I244,0,TRUE)&\":\"&FIXED(J244,0,TRUE),\"\"))","v":"12:15"}]
[35,null,null,{"$f":"IF(TYPE(VLOOKUP(A244,'grup-puch'!$A:$M,13,FALSE))=2,VLOOKUP(A244,'grup-puch'!$A:$M,13,FALSE),IF(TYPE(VLOOKUP(A244,puch!$A:$J,10,FALSE))=2,VLOOKUP(A244,puch!$A:$J,10,FALSE),\"\"))","v":"KLASY 4-6 CHŁOPCY"},null,null,null,null,15,12,12,15,15,6,null,null,null,null,{"$f":"Q244-O244","v":"00:00:00"},{"$f":"IF(VLOOKUP(A244,dane!F:G,2,FALSE)=\"\",\"\",VLOOKUP(A244,dane!F:G,2,FALSE))","v":{"$error":"#N/A"}},null,null,{"$f":"IF(AND(COUNTA(K244,L244)=2,AF244=I245),\",\"&FIXED(K244,0,TRUE)&\":\"&FIXED(L244,0,TRUE),IF(AND(COUNTA(K244,L244)=2,AF244=L245),\",\"&FIXED(L244,0,TRUE)&\":\"&FIXED(K244,0,TRUE),\"\"))","v":",12:15"},{"$f":"IF(AND(COUNTA(K244,L244)=2,AF244=I245),\",\"&FIXED(L244,0,TRUE)&\":\"&FIXED(K244,0,TRUE),IF(AND(COUNTA(K244,L244)=2,AF244=L245),\",\"&FIXED(K244,0,TRUE)&\":\"&FIXED(L244,0,TRUE),\"\"))","v":",15:12"},null,{"$f":"A244","v":35},{"$f":"IF(ISBLANK(D244),\"\",D244)","v":"KLASY 4-6 CHŁOPCY"},{"$f":"IF(OR(I245=0,I245=\"\"),\"\",I245)","v":"X59"},{"$f":"IF(OR(I246=0,I246=\"\"),\"\",I246)","v":""},{"$f":"IF(OR(L245=0,L245=\"\"),\"\",L245)","v":"X41"},{"$f":"IF(OR(L246=0,L246=\"\"),\"\",L246)","v":""},{"$f":"IF(COUNTA(C247,L247)=1,IF(ISTEXT(C247),I245,L245),IF(OR(I244=\"\",W242=X242),\"\",IF(W242>X242,I245,L245)))","v":"X59"},{"$f":"IF(COUNTA(C247,L247)=1,IF(ISTEXT(C247),I246,L246),IF(OR(I244=\"\",W242=X242),\"\",IF(W242>X242,I246,L246)))","v":""},{"$f":"IF(OR(AF244=I245,AF244=L245),IF(AF244=I245,W243&W244&W245&IF(ISTEXT(C247),\" \"&C247,\"\"),W243&W244&W245&IF(ISTEXT(L247),\" \"&L247,\"\")),\"\")","v":"15:12,12:15,15:6"},{"$f":"IF(OR(AF244=I245,AF244=L245),IF(AF244=I245,X243&X244&X245&IF(ISTEXT(C247),\" \"&C247,\"\"),X243&X244&X245&IF(ISTEXT(L247),\" \"&L247,\"\")),\"\")","v":"12:15,15:12,6:15"},{"$f":"IF(ISBLANK(L247),\"\",L247)","v":""},{"$f":"I244","v":15},{"$f":"J244","v":12},{"$f":"K244","v":12},{"$f":"L244","v":15},{"$f":"M244","v":15},{"$f":"N244","v":6},null,{"$f":"T242","v":0},{"$f":"T243","v":0},{"$f":"IF(OR(AA244=dane!$I$3,AA244=dane!$I$4,AA244=dane!$I$5,AA244=dane!$I$6),AR244,\"\")","v":0},{"$f":"IF(OR(AA244=dane!$I$7,AA244=dane!$I$8,AA244=dane!$I$10,AA244=dane!$I$11),AR244,\"\")","v":""},{"$f":"IF(OR(AA244=dane!$I$12,AA244=dane!$I$13,AA244=dane!$I$14,AA244=dane!$I$15),AR244,\"\")","v":""},{"$f":"IF(OR(AA244=dane!$I$16,AA244=dane!$I$17,AA244=dane!$I$18,AA244=dane!$I$19),AR244,\"\")","v":""},{"$f":"IF(OR(AA244=dane!$I$20,AA244=dane!$I$21,AA244=dane!$I$22,AA244=dane!$I$23),AR244,\"\")","v":""},{"$f":"IF(OR(AA244=dane!$I$3,AA244=dane!$I$4,AA244=dane!$I$5,AA244=dane!$I$6),AS244,\"\")","v":0},{"$f":"IF(OR(AA244=dane!$I$7,AA244=dane!$I$8,AA244=dane!$I$10,AA244=dane!$I$11),AS244,\"\")","v":""},{"$f":"IF(OR(AA244=dane!$I$12,AA244=dane!$I$13,AA244=dane!$I$14,AA244=dane!$I$15),AS244,\"\")","v":""},{"$f":"IF(OR(AA244=dane!$I$16,AA244=dane!$I$17,AA244=dane!$I$18,AA244=dane!$I$19),AS244,\"\")","v":""},{"$f":"IF(OR(AA244=dane!$I$20,AA244=dane!$I$21,AA244=dane!$I$22,AA244=dane!$I$23),AS244,\"\")","v":""},{"$f":"IF($T$1=\"\",\"\",IF(C244=\"\",\"\",IF(Q244=\"\",C245,\"\")))","v":""},{"$f":"IF(LEN(L246)>0,$V$3,$V$2)+Q244+$T$1+C242-1","v":"2014-11-07T00:25:00"},{"$f":"IF(BE244>NOW(),C245,\"\")","v":""},{"$f":"IF(C244<>\"\",\"\",VLOOKUP(C245,BD:BD,1,FALSE))","v":{"$error":"#N/A"}},{"$f":"IF(Q244<>\"\",\"\",VLOOKUP(C245,BF:BF,1,FALSE))","v":"Jakub  Walocha (Ząbki)"},{"$f":"IF(BF244<>\"\",BE244,\"\")","v":""},{"$f":"IF(Q244=\"\",C244,\"\")","v":0},null,null,null,null,null,null,null,null,null,null,null,null,{"$f":"IF((LEN(C244)+LEN(C248)+LEN(L248))=0,I245,\"\")","v":""},{"$f":"IF(LEN(BW244)>0,A244,\"\")","v":""}]
[{"$f":"IF(TYPE(VLOOKUP(C245,BF:BI,4,FALSE))=1,VLOOKUP(C245,BF:BI,4,FALSE),\"\")","v":41958.017361111109},{"$f":"IF(TYPE(VLOOKUP(I245,BW:BX,2,FALSE))=16,\"\",VLOOKUP(I245,BW:BX,2,FALSE))","v":""},{"$f":"IF(I245=\"\",\"\",VLOOKUP(I245,zawodnicy!$A:$D,2,FALSE)&\" \"&VLOOKUP(I245,zawodnicy!$A:$D,3,FALSE)&\" (\"&VLOOKUP(I245,zawodnicy!$A:$D,4,FALSE)&\")\")","v":"Jakub  Walocha (Ząbki)"},null,null,null,null,null,{"$f":"IF(TYPE(VLOOKUP(A244,'grup-puch'!$A:$E,2,FALSE))=2,VLOOKUP(A244,'grup-puch'!$A:$E,2,FALSE),IF(TYPE(VLOOKUP(A244,puch!$A:$E,2,FALSE))=2,VLOOKUP(A244,puch!$A:$E,2,FALSE),\"\"))","v":"X59"},null,null,{"$f":"IF(TYPE(VLOOKUP(A244,'grup-puch'!$A:$E,4,FALSE))=2,VLOOKUP(A244,'grup-puch'!$A:$E,4,FALSE),IF(TYPE(VLOOKUP(A244,puch!$A:$E,4,FALSE))=2,VLOOKUP(A244,puch!$A:$E,4,FALSE),\"\"))","v":"X41"},null,null,{"$f":"IF(L245=\"\",\"\",VLOOKUP(L245,zawodnicy!$A:$D,2,FALSE)&\" \"&VLOOKUP(L245,zawodnicy!$A:$D,3,FALSE)&\" (\"&VLOOKUP(L245,zawodnicy!$A:$D,4,FALSE)&\")\")","v":"Ignacy Repiński (Marki)"},null,null,null,null,null,{"$f":"IF(TYPE(VLOOKUP(L245,BW:BX,2,FALSE))=16,\"\",VLOOKUP(L245,BW:BX,2,FALSE))","v":""},{"$f":"IF(TYPE(VLOOKUP(O245,BF:BI,4,FALSE))=1,VLOOKUP(O245,BF:BI,4,FALSE),\"\")","v":41964.010416666664},{"$f":"IF(AND(COUNTA(M244,N244)=2,AF244=I245),\",\"&FIXED(M244,0,TRUE)&\":\"&FIXED(N244,0,TRUE),IF(AND(COUNTA(M244,N244)=2,AF244=L245),\",\"&FIXED(N244,0,TRUE)&\":\"&FIXED(M244,0,TRUE),\"\"))","v":",15:6"},{"$f":"IF(AND(COUNTA(M244,N244)=2,AF244=I245),\",\"&FIXED(N244,0,TRUE)&\":\"&FIXED(M244,0,TRUE),IF(AND(COUNTA(M244,N244)=2,AF244=L245),\",\"&FIXED(M244,0,TRUE)&\":\"&FIXED(N244,0,TRUE),\"\"))","v":",6:15"},null,null,null,null,null,null,null,null,null,null,null,null,null,null,null,null,null,null,null,null,null,null,null,null,null,null,null,null,null,null,null,{"$f":"IF($T$1=\"\",\"\",IF(C244=\"\",\"\",IF(Q244=\"\",C246,\"\")))","v":""},null,{"$f":"IF(BE244>NOW(),C246,\"\")","v":""},{"$f":"IF(C244<>\"\",\"\",VLOOKUP(C246,BD:BD,1,FALSE))","v":""},{"$f":"IF(Q244<>\"\",\"\",VLOOKUP(C246,BF:BF,1,FALSE))","v":""},{"$f":"IF(BF245<>\"\",BE244,\"\")","v":""},null,null,null,null,null,null,null,null,null,null,null,{"$f":"IF(VLOOKUP(I245,zawodnicy!A:E,5,FALSE)=0,\"\",C245)","v":""},{"$f":"IF(VLOOKUP(L245,zawodnicy!A:E,5,FALSE)=0,\"\",O245)","v":""},{"$f":"IF((LEN(C244)+LEN(C248)+LEN(L248))=0,I246,\"\")","v":""},{"$f":"IF(LEN(BW245)>0,A244,\"\")","v":""}]
["","",{"$f":"IF(OR(I246=0,I246=\"\"),\"\",VLOOKUP(I246,zawodnicy!$A:$D,2,FALSE)&\" \"&VLOOKUP(I246,zawodnicy!$A:$D,3,FALSE)&\" (\"&VLOOKUP(I246,zawodnicy!$A:$D,4,FALSE)&\")\")","v":""},null,null,null,null,null,{"$f":"IF(TYPE(VLOOKUP(A244,'grup-puch'!$A:$E,3,FALSE))=2,VLOOKUP(A244,'grup-puch'!$A:$E,3,FALSE),IF(TYPE(VLOOKUP(A244,puch!$A:$E,3,FALSE))=2,VLOOKUP(A244,puch!$A:$E,3,FALSE),\"\"))","v":""},null,null,{"$f":"IF(TYPE(VLOOKUP(A244,'grup-puch'!$A:$E,5,FALSE))=2,VLOOKUP(A244,'grup-puch'!$A:$E,5,FALSE),IF(TYPE(VLOOKUP(A244,puch!$A:$E,5,FALSE))=2,VLOOKUP(A244,puch!$A:$E,5,FALSE),\"\"))","v":""},null,null,{"$f":"IF(OR(L246=\"\",L246=0),\"\",VLOOKUP(L246,zawodnicy!$A:$D,2,FALSE)&\" \"&VLOOKUP(L246,zawodnicy!$A:$D,3,FALSE)&\" (\"&VLOOKUP(L246,zawodnicy!$A:$D,4,FALSE)&\")\")","v":""},null,null,null,null,null,"","",null,null,null,null,null,null,null,null,null,null,null,null,null,null,null,null,null,null,null,null,null,null,null,null,null,null,null,null,null,null,null,null,null,{"$f":"IF($T$1=\"\",\"\",IF(C244=\"\",\"\",IF(Q244=\"\",O245,\"\")))","v":""},null,{"$f":"IF(BE244>NOW(),O245,\"\")","v":""},{"$f":"IF(C244<>\"\",\"\",VLOOKUP(O245,BD:BD,1,FALSE))","v":{"$error":"#N/A"}},{"$f":"IF(Q244<>\"\",\"\",VLOOKUP(O245,BF:BF,1,FALSE))","v":"Ignacy Repiński (Marki)"},{"$f":"IF(BF246<>\"\",BE244,\"\")","v":""},null,null,null,null,null,null,null,null,null,null,null,{"$f":"IF(VLOOKUP(I246,zawodnicy!A:E,5,FALSE)=0,\"\",C246)","v":{"$error":"#N/A"}},{"$f":"IF(VLOOKUP(L246,zawodnicy!A:E,5,FALSE)=0,\"\",O246)","v":{"$error":"#N/A"}},{"$f":"IF((LEN(C244)+LEN(C248)+LEN(L248))=0,L245,\"\")","v":""},{"$f":"IF(LEN(BW246)>0,A244,\"\")","v":""}]
[null,null,null,null,null,null,null,null,null,null,null,null,null,null,null,null,null,null,null,null,null,null,null,null,null,null,null,null,null,null,null,null,null,null,null,null,null,null,null,null,null,null,null,null,null,null,null,null,null,null,null,null,null,null,null,{"$f":"IF($T$1=\"\",\"\",IF(C244=\"\",\"\",IF(Q244=\"\",O246,\"\")))","v":""},null,{"$f":"IF(BE244>NOW(),O246,\"\")","v":""},{"$f":"IF(C244<>\"\",\"\",VLOOKUP(O246,BD:BD,1,FALSE))","v":""},{"$f":"IF(Q244<>\"\",\"\",VLOOKUP(O246,BF:BF,1,FALSE))","v":""},{"$f":"IF(BF247<>\"\",BE244,\"\")","v":""},null,null,null,null,null,null,null,null,null,null,null,null,null,{"$f":"IF((LEN(C244)+LEN(C248)+LEN(L248))=0,L246,\"\")","v":""},{"$f":"IF(LEN(BW247)>0,A244,\"\")","v":""}]
[null,null,{"$f":"IF(I245=\"\",\"\",IF(I245=AF244,\"zwycięzca(cy):\"&\" \"&AH244,\"\"))","v":"zwycięzca(cy): 15:12,12:15,15:6"},null,null,null,null,null,null,null,null,{"$f":"IF(L245=\"\",\"\",IF(L245=AF244,\"zwycięzca(cy):\"&\" \"&AH244,\"\"))","v":""}]
[null,null,36,"dzień turnieju.",null,null,null,null,null,"Nr meczu",null,null,null,null,"Godz.",null,null,null,"S. prow.",null,null,null,{"$f":"IF(I251>J251,1,0)+IF(K251>L251,1,0)+IF(M251>N251,1,0)","v":2},{"$f":"IF(J251>I251,1,0)+IF(L251>K251,1,0)+IF(N251>M251,1,0)","v":1},null,null,null,null,null,null,null,null,null,"wygrany","przegrany"]
[null,null,"Boisko","Gra",null,null,null,null,null,{"$f":"A251","v":36},null,null,null,null,"rozp.",null,"zak.",null,"S. serw.",null,null,null,{"$f":"IF(AND(COUNTA(I251,J251)=2,AF251=I252),FIXED(I251,0,TRUE)&\":\"&FIXED(J251,0,TRUE),IF(AND(COUNTA(I251,J251)=2,AF251=L252),FIXED(J251,0,TRUE)&\":\"&FIXED(I251,0,TRUE),\"\"))","v":"15:7"},{"$f":"IF(AND(COUNTA(I251,J251)=2,AF251=I252),FIXED(J251,0,TRUE)&\":\"&FIXED(I251,0,TRUE),IF(AND(COUNTA(I251,J251)=2,AF251=L252),FIXED(I251,0,TRUE)&\":\"&FIXED(J251,0,TRUE),\"\"))","v":"7:15"}]
[36,null,null,{"$f":"IF(TYPE(VLOOKUP(A251,'grup-puch'!$A:$M,13,FALSE))=2,VLOOKUP(A251,'grup-puch'!$A:$M,13,FALSE),IF(TYPE(VLOOKUP(A251,puch!$A:$J,10,FALSE))=2,VLOOKUP(A251,puch!$A:$J,10,FALSE),\"\"))","v":"KLASY 4-6 CHŁOPCY"},null,null,null,null,15,7,11,15,15,12,null,null,null,null,{"$f":"Q251-O251","v":"00:00:00"},{"$f":"IF(VLOOKUP(A251,dane!F:G,2,FALSE)=\"\",\"\",VLOOKUP(A251,dane!F:G,2,FALSE))","v":{"$error":"#N/A"}},null,null,{"$f":"IF(AND(COUNTA(K251,L251)=2,AF251=I252),\",\"&FIXED(K251,0,TRUE)&\":\"&FIXED(L251,0,TRUE),IF(AND(COUNTA(K251,L251)=2,AF251=L252),\",\"&FIXED(L251,0,TRUE)&\":\"&FIXED(K251,0,TRUE),\"\"))","v":",11:15"},{"$f":"IF(AND(COUNTA(K251,L251)=2,AF251=I252),\",\"&FIXED(L251,0,TRUE)&\":\"&FIXED(K251,0,TRUE),IF(AND(COUNTA(K251,L251)=2,AF251=L252),\",\"&FIXED(K251,0,TRUE)&\":\"&FIXED(L251,0,TRUE),\"\"))","v":",15:11"},null,{"$f":"A251","v":36},{"$f":"IF(ISBLANK(D251),\"\",D251)","v":"KLASY 4-6 CHŁOPCY"},{"$f":"IF(OR(I252=0,I252=\"\"),\"\",I252)","v":"X33"},{"$f":"IF(OR(I253=0,I253=\"\"),\"\",I253)","v":""},{"$f":"IF(OR(L252=0,L252=\"\"),\"\",L252)","v":"X69"},{"$f":"IF(OR(L253=0,L253=\"\"),\"\",L253)","v":""},{"$f":"IF(COUNTA(C254,L254)=1,IF(ISTEXT(C254),I252,L252),IF(OR(I251=\"\",W249=X249),\"\",IF(W249>X249,I252,L252)))","v":"X33"},{"$f":"IF(COUNTA(C254,L254)=1,IF(ISTEXT(C254),I253,L253),IF(OR(I251=\"\",W249=X249),\"\",IF(W249>X249,I253,L253)))","v":""},{"$f":"IF(OR(AF251=I252,AF251=L252),IF(AF251=I252,W250&W251&W252&IF(ISTEXT(C254),\" \"&C254,\"\"),W250&W251&W252&IF(ISTEXT(L254),\" \"&L254,\"\")),\"\")","v":"15:7,11:15,15:12"},{"$f":"IF(OR(AF251=I252,AF251=L252),IF(AF251=I252,X250&X251&X252&IF(ISTEXT(C254),\" \"&C254,\"\"),X250&X251&X252&IF(ISTEXT(L254),\" \"&L254,\"\")),\"\")","v":"7:15,15:11,12:15"},{"$f":"IF(ISBLANK(L254),\"\",L254)","v":""},{"$f":"I251","v":15},{"$f":"J251","v":7},{"$f":"K251","v":11},{"$f":"L251","v":15},{"$f":"M251","v":15},{"$f":"N251","v":12},null,{"$f":"T249","v":0},{"$f":"T250","v":0},{"$f":"IF(OR(AA251=dane!$I$3,AA251=dane!$I$4,AA251=dane!$I$5,AA251=dane!$I$6),AR251,\"\")","v":0},{"$f":"IF(OR(AA251=dane!$I$7,AA251=dane!$I$8,AA251=dane!$I$10,AA251=dane!$I$11),AR251,\"\")","v":""},{"$f":"IF(OR(AA251=dane!$I$12,AA251=dane!$I$13,AA251=dane!$I$14,AA251=dane!$I$15),AR251,\"\")","v":""},{"$f":"IF(OR(AA251=dane!$I$16,AA251=dane!$I$17,AA251=dane!$I$18,AA251=dane!$I$19),AR251,\"\")","v":""},{"$f":"IF(OR(AA251=dane!$I$20,AA251=dane!$I$21,AA251=dane!$I$22,AA251=dane!$I$23),AR251,\"\")","v":""},{"$f":"IF(OR(AA251=dane!$I$3,AA251=dane!$I$4,AA251=dane!$I$5,AA251=dane!$I$6),AS251,\"\")","v":0},{"$f":"IF(OR(AA251=dane!$I$7,AA251=dane!$I$8,AA251=dane!$I$10,AA251=dane!$I$11),AS251,\"\")","v":""},{"$f":"IF(OR(AA251=dane!$I$12,AA251=dane!$I$13,AA251=dane!$I$14,AA251=dane!$I$15),AS251,\"\")","v":""},{"$f":"IF(OR(AA251=dane!$I$16,AA251=dane!$I$17,AA251=dane!$I$18,AA251=dane!$I$19),AS251,\"\")","v":""},{"$f":"IF(OR(AA251=dane!$I$20,AA251=dane!$I$21,AA251=dane!$I$22,AA251=dane!$I$23),AS251,\"\")","v":""},{"$f":"IF($T$1=\"\",\"\",IF(C251=\"\",\"\",IF(Q251=\"\",C252,\"\")))","v":""},{"$f":"IF(LEN(L253)>0,$V$3,$V$2)+Q251+$T$1+C249-1","v":"2014-11-08T00:25:00"},{"$f":"IF(BE251>NOW(),C252,\"\")","v":""},{"$f":"IF(C251<>\"\",\"\",VLOOKUP(C252,BD:BD,1,FALSE))","v":{"$error":"#N/A"}},{"$f":"IF(Q251<>\"\",\"\",VLOOKUP(C252,BF:BF,1,FALSE))","v":{"$error":"#N/A"}},{"$f":"IF(BF251<>\"\",BE251,\"\")","v":""},{"$f":"IF(Q251=\"\",C251,\"\")","v":0},null,null,null,null,null,null,null,null,null,null,null,null,{"$f":"IF((LEN(C251)+LEN(C255)+LEN(L255))=0,I252,\"\")","v":""},{"$f":"IF(LEN(BW251)>0,A251,\"\")","v":""}]
[{"$f":"IF(TYPE(VLOOKUP(C252,BF:BI,4,FALSE))=1,VLOOKUP(C252,BF:BI,4,FALSE),\"\")","v":""},{"$f":"IF(TYPE(VLOOKUP(I252,BW:BX,2,FALSE))=16,\"\",VLOOKUP(I252,BW:BX,2,FALSE))","v":""},{"$f":"IF(I252=\"\",\"\",VLOOKUP(I252,zawodnicy!$A:$D,2,FALSE)&\" \"&VLOOKUP(I252,zawodnicy!$A:$D,3,FALSE)&\" (\"&VLOOKUP(I252,zawodnicy!$A:$D,4,FALSE)&\")\")","v":"Jakub  Niemirski (Ząbki)"},null,null,null,null,null,{"$f":"IF(TYPE(VLOOKUP(A251,'grup-puch'!$A:$E,2,FALSE))=2,VLOOKUP(A251,'grup-puch'!$A:$E,2,FALSE),IF(TYPE(VLOOKUP(A251,puch!$A:$E,2,FALSE))=2,VLOOKUP(A251,puch!$A:$E,2,FALSE),\"\"))","v":"X33"},null,null,{"$f":"IF(TYPE(VLOOKUP(A251,'grup-puch'!$A:$E,4,FALSE))=2,VLOOKUP(A251,'grup-puch'!$A:$E,4,FALSE),IF(TYPE(VLOOKUP(A251,puch!$A:$E,4,FALSE))=2,VLOOKUP(A251,puch!$A:$E,4,FALSE),\"\"))","v":"X69"},null,null,{"$f":"IF(L252=\"\",\"\",VLOOKUP(L252,zawodnicy!$A:$D,2,FALSE)&\" \"&VLOOKUP(L252,zawodnicy!$A:$D,3,FALSE)&\" (\"&VLOOKUP(L252,zawodnicy!$A:$D,4,FALSE)&\")\")","v":"Ela  Przybysz (Garwolin)"},null,null,null,null,null,{"$f":"IF(TYPE(VLOOKUP(L252,BW:BX,2,FALSE))=16,\"\",VLOOKUP(L252,BW:BX,2,FALSE))","v":""},{"$f":"IF(TYPE(VLOOKUP(O252,BF:BI,4,FALSE))=1,VLOOKUP(O252,BF:BI,4,FALSE),\"\")","v":41962.010416666664},{"$f":"IF(AND(COUNTA(M251,N251)=2,AF251=I252),\",\"&FIXED(M251,0,TRUE)&\":\"&FIXED(N251,0,TRUE),IF(AND(COUNTA(M251,N251)=2,AF251=L252),\",\"&FIXED(N251,0,TRUE)&\":\"&FIXED(M251,0,TRUE),\"\"))","v":",15:12"},{"$f":"IF(AND(COUNTA(M251,N251)=2,AF251=I252),\",\"&FIXED(N251,0,TRUE)&\":\"&FIXED(M251,0,TRUE),IF(AND(COUNTA(M251,N251)=2,AF251=L252),\",\"&FIXED(M251,0,TRUE)&\":\"&FIXED(N251,0,TRUE),\"\"))","v":",12:15"},null,null,null,null,null,null,null,null,null,null,null,null,null,null,null,null,null,null,null,null,null,null,null,null,null,null,null,null,null,null,null,{"$f":"IF($T$1=\"\",\"\",IF(C251=\"\",\"\",IF(Q251=\"\",C253,\"\")))","v":""},null,{"$f":"IF(BE251>NOW(),C253,\"\")","v":""},{"$f":"IF(C251<>\"\",\"\",VLOOKUP(C253,BD:BD,1,FALSE))","v":""},{"$f":"IF(Q251<>\"\",\"\",VLOOKUP(C253,BF:BF,1,FALSE))","v":""},{"$f":"IF(BF252<>\"\",BE251,\"\")","v":""},null,null,null,null,null,null,null,null,null,null,null,{"$f":"IF(VLOOKUP(I252,zawodnicy!A:E,5,FALSE)=0,\"\",C252)","v":""},{"$f":"IF(VLOOKUP(L252,zawodnicy!A:E,5,FALSE)=0,\"\",O252)","v":""},{"$f":"IF((LEN(C251)+LEN(C255)+LEN(L255))=0,I253,\"\")","v":""},{"$f":"IF(LEN(BW252)>0,A251,\"\")","v":""}]
["","",{"$f":"IF(OR(I253=0,I253=\"\"),\"\",VLOOKUP(I253,zawodnicy!$A:$D,2,FALSE)&\" \"&VLOOKUP(I253,zawodnicy!$A:$D,3,FALSE)&\" (\"&VLOOKUP(I253,zawodnicy!$A:$D,4,FALSE)&\")\")","v":""},null,null,null,null,null,{"$f":"IF(TYPE(VLOOKUP(A251,'grup-puch'!$A:$E,3,FALSE))=2,VLOOKUP(A251,'grup-puch'!$A:$E,3,FALSE),IF(TYPE(VLOOKUP(A251,puch!$A:$E,3,FALSE))=2,VLOOKUP(A251,puch!$A:$E,3,FALSE),\"\"))","v":""},null,null,{"$f":"IF(TYPE(VLOOKUP(A251,'grup-puch'!$A:$E,5,FALSE))=2,VLOOKUP(A251,'grup-puch'!$A:$E,5,FALSE),IF(TYPE(VLOOKUP(A251,puch!$A:$E,5,FALSE))=2,VLOOKUP(A251,puch!$A:$E,5,FALSE),\"\"))","v":""},null,null,{"$f":"IF(OR(L253=\"\",L253=0),\"\",VLOOKUP(L253,zawodnicy!$A:$D,2,FALSE)&\" \"&VLOOKUP(L253,zawodnicy!$A:$D,3,FALSE)&\" (\"&VLOOKUP(L253,zawodnicy!$A:$D,4,FALSE)&\")\")","v":""},null,null,null,null,null,"","",null,null,null,null,null,null,null,null,null,null,null,null,null,null,null,null,null,null,null,null,null,null,null,null,null,null,null,null,null,null,null,null,null,{"$f":"IF($T$1=\"\",\"\",IF(C251=\"\",\"\",IF(Q251=\"\",O252,\"\")))","v":""},null,{"$f":"IF(BE251>NOW(),O252,\"\")","v":""},{"$f":"IF(C251<>\"\",\"\",VLOOKUP(O252,BD:BD,1,FALSE))","v":{"$error":"#N/A"}},{"$f":"IF(Q251<>\"\",\"\",VLOOKUP(O252,BF:BF,1,FALSE))","v":"Ela  Przybysz (Garwolin)"},{"$f":"IF(BF253<>\"\",BE251,\"\")","v":""},null,null,null,null,null,null,null,null,null,null,null,{"$f":"IF(VLOOKUP(I253,zawodnicy!A:E,5,FALSE)=0,\"\",C253)","v":{"$error":"#N/A"}},{"$f":"IF(VLOOKUP(L253,zawodnicy!A:E,5,FALSE)=0,\"\",O253)","v":{"$error":"#N/A"}},{"$f":"IF((LEN(C251)+LEN(C255)+LEN(L255))=0,L252,\"\")","v":""},{"$f":"IF(LEN(BW253)>0,A251,\"\")","v":""}]
[null,null,null,null,null,null,null,null,null,null,null,null,null,null,null,null,null,null,null,null,null,null,null,null,null,null,null,null,null,null,null,null,null,null,null,null,null,null,null,null,null,null,null,null,null,null,null,null,null,null,null,null,null,null,null,{"$f":"IF($T$1=\"\",\"\",IF(C251=\"\",\"\",IF(Q251=\"\",O253,\"\")))","v":""},null,{"$f":"IF(BE251>NOW(),O253,\"\")","v":""},{"$f":"IF(C251<>\"\",\"\",VLOOKUP(O253,BD:BD,1,FALSE))","v":""},{"$f":"IF(Q251<>\"\",\"\",VLOOKUP(O253,BF:BF,1,FALSE))","v":""},{"$f":"IF(BF254<>\"\",BE251,\"\")","v":""},null,null,null,null,null,null,null,null,null,null,null,null,null,{"$f":"IF((LEN(C251)+LEN(C255)+LEN(L255))=0,L253,\"\")","v":""},{"$f":"IF(LEN(BW254)>0,A251,\"\")","v":""}]
[null,null,{"$f":"IF(I252=\"\",\"\",IF(I252=AF251,\"zwycięzca(cy):\"&\" \"&AH251,\"\"))","v":"zwycięzca(cy): 15:7,11:15,15:12"},null,null,null,null,null,null,null,null,{"$f":"IF(L252=\"\",\"\",IF(L252=AF251,\"zwycięzca(cy):\"&\" \"&AH251,\"\"))","v":""}]
[null,null,37,"dzień turnieju.",null,null,null,null,null,"Nr meczu",null,null,null,null,"Godz.",null,null,null,"S. prow.",null,null,null,{"$f":"IF(I258>J258,1,0)+IF(K258>L258,1,0)+IF(M258>N258,1,0)","v":2},{"$f":"IF(J258>I258,1,0)+IF(L258>K258,1,0)+IF(N258>M258,1,0)","v":1},null,null,null,null,null,null,null,null,null,"wygrany","przegrany"]
[null,null,"Boisko","Gra",null,null,null,null,null,{"$f":"A258","v":37},null,null,null,null,"rozp.",null,"zak.",null,"S. serw.",null,null,null,{"$f":"IF(AND(COUNTA(I258,J258)=2,AF258=I259),FIXED(I258,0,TRUE)&\":\"&FIXED(J258,0,TRUE),IF(AND(COUNTA(I258,J258)=2,AF258=L259),FIXED(J258,0,TRUE)&\":\"&FIXED(I258,0,TRUE),\"\"))","v":"10:15"},{"$f":"IF(AND(COUNTA(I258,J258)=2,AF258=I259),FIXED(J258,0,TRUE)&\":\"&FIXED(I258,0,TRUE),IF(AND(COUNTA(I258,J258)=2,AF258=L259),FIXED(I258,0,TRUE)&\":\"&FIXED(J258,0,TRUE),\"\"))","v":"15:10"}]
[37,null,null,{"$f":"IF(TYPE(VLOOKUP(A258,'grup-puch'!$A:$M,13,FALSE))=2,VLOOKUP(A258,'grup-puch'!$A:$M,13,FALSE),IF(TYPE(VLOOKUP(A258,puch!$A:$J,10,FALSE))=2,VLOOKUP(A258,puch!$A:$J,10,FALSE),\"\"))","v":"KLASY 4-6 CHŁOPCY"},null,null,null,null,10,15,15,13,15,12,null,null,null,null,{"$f":"Q258-O258","v":"00:00:00"},{"$f":"IF(VLOOKUP(A258,dane!F:G,2,FALSE)=\"\",\"\",VLOOKUP(A258,dane!F:G,2,FALSE))","v":{"$error":"#N/A"}},null,null,{"$f":"IF(AND(COUNTA(K258,L258)=2,AF258=I259),\",\"&FIXED(K258,0,TRUE)&\":\"&FIXED(L258,0,TRUE),IF(AND(COUNTA(K258,L258)=2,AF258=L259),\",\"&FIXED(L258,0,TRUE)&\":\"&FIXED(K258,0,TRUE),\"\"))","v":",15:13"},{"$f":"IF(AND(COUNTA(K258,L258)=2,AF258=I259),\",\"&FIXED(L258,0,TRUE)&\":\"&FIXED(K258,0,TRUE),IF(AND(COUNTA(K258,L258)=2,AF258=L259),\",\"&FIXED(K258,0,TRUE)&\":\"&FIXED(L258,0,TRUE),\"\"))","v":",13:15"},null,{"$f":"A258","v":37},{"$f":"IF(ISBLANK(D258),\"\",D258)","v":"KLASY 4-6 CHŁOPCY"},{"$f":"IF(OR(I259=0,I259=\"\"),\"\",I259)","v":"X35"},{"$f":"IF(OR(I260=0,I260=\"\"),\"\",I260)","v":""},{"$f":"IF(OR(L259=0,L259=\"\"),\"\",L259)","v":"X66"},{"$f":"IF(OR(L260=0,L260=\"\"),\"\",L260)","v":""},{"$f":"IF(COUNTA(C261,L261)=1,IF(ISTEXT(C261),I259,L259),IF(OR(I258=\"\",W256=X256),\"\",IF(W256>X256,I259,L259)))","v":"X35"},{"$f":"IF(COUNTA(C261,L261)=1,IF(ISTEXT(C261),I260,L260),IF(OR(I258=\"\",W256=X256),\"\",IF(W256>X256,I260,L260)))","v":""},{"$f":"IF(OR(AF258=I259,AF258=L259),IF(AF258=I259,W257&W258&W259&IF(ISTEXT(C261),\" \"&C261,\"\"),W257&W258&W259&IF(ISTEXT(L261),\" \"&L261,\"\")),\"\")","v":"10:15,15:13,15:12"},{"$f":"IF(OR(AF258=I259,AF258=L259),IF(AF258=I259,X257&X258&X259&IF(ISTEXT(C261),\" \"&C261,\"\"),X257&X258&X259&IF(ISTEXT(L261),\" \"&L261,\"\")),\"\")","v":"15:10,13:15,12:15"},{"$f":"IF(ISBLANK(L261),\"\",L261)","v":""},{"$f":"I258","v":10},{"$f":"J258","v":15},{"$f":"K258","v":15},{"$f":"L258","v":13},{"$f":"M258","v":15},{"$f":"N258","v":12},null,{"$f":"T256","v":0},{"$f":"T257","v":0},{"$f":"IF(OR(AA258=dane!$I$3,AA258=dane!$I$4,AA258=dane!$I$5,AA258=dane!$I$6),AR258,\"\")","v":0},{"$f":"IF(OR(AA258=dane!$I$7,AA258=dane!$I$8,AA258=dane!$I$10,AA258=dane!$I$11),AR258,\"\")","v":""},{"$f":"IF(OR(AA258=dane!$I$12,AA258=dane!$I$13,AA258=dane!$I$14,AA258=dane!$I$15),AR258,\"\")","v":""},{"$f":"IF(OR(AA258=dane!$I$16,AA258=dane!$I$17,AA258=dane!$I$18,AA258=dane!$I$19),AR258,\"\")","v":""},{"$f":"IF(OR(AA258=dane!$I$20,AA258=dane!$I$21,AA258=dane!$I$22,AA258=dane!$I$23),AR258,\"\")","v":""},{"$f":"IF(OR(AA258=dane!$I$3,AA258=dane!$I$4,AA258=dane!$I$5,AA258=dane!$I$6),AS258,\"\")","v":0},{"$f":"IF(OR(AA258=dane!$I$7,AA258=dane!$I$8,AA258=dane!$I$10,AA258=dane!$I$11),AS258,\"\")","v":""},{"$f":"IF(OR(AA258=dane!$I$12,AA258=dane!$I$13,AA258=dane!$I$14,AA258=dane!$I$15),AS258,\"\")","v":""},{"$f":"IF(OR(AA258=dane!$I$16,AA258=dane!$I$17,AA258=dane!$I$18,AA258=dane!$I$19),AS258,\"\")","v":""},{"$f":"IF(OR(AA258=dane!$I$20,AA258=dane!$I$21,AA258=dane!$I$22,AA258=dane!$I$23),AS258,\"\")","v":""},{"$f":"IF($T$1=\"\",\"\",IF(C258=\"\",\"\",IF(Q258=\"\",C259,\"\")))","v":""},{"$f":"IF(LEN(L260)>0,$V$3,$V$2)+Q258+$T$1+C256-1","v":"2014-11-09T00:25:00"},{"$f":"IF(BE258>NOW(),C259,\"\")","v":""},{"$f":"IF(C258<>\"\",\"\",VLOOKUP(C259,BD:BD,1,FALSE))","v":{"$error":"#N/A"}},{"$f":"IF(Q258<>\"\",\"\",VLOOKUP(C259,BF:BF,1,FALSE))","v":{"$error":"#N/A"}},{"$f":"IF(BF258<>\"\",BE258,\"\")","v":""},{"$f":"IF(Q258=\"\",C258,\"\")","v":0},null,null,null,null,null,null,null,null,null,null,null,null,{"$f":"IF((LEN(C258)+LEN(C262)+LEN(L262))=0,I259,\"\")","v":""},{"$f":"IF(LEN(BW258)>0,A258,\"\")","v":""}]
[{"$f":"IF(TYPE(VLOOKUP(C259,BF:BI,4,FALSE))=1,VLOOKUP(C259,BF:BI,4,FALSE),\"\")","v":""},{"$f":"IF(TYPE(VLOOKUP(I259,BW:BX,2,FALSE))=16,\"\",VLOOKUP(I259,BW:BX,2,FALSE))","v":""},{"$f":"IF(I259=\"\",\"\",VLOOKUP(I259,zawodnicy!$A:$D,2,FALSE)&\" \"&VLOOKUP(I259,zawodnicy!$A:$D,3,FALSE)&\" (\"&VLOOKUP(I259,zawodnicy!$A:$D,4,FALSE)&\")\")","v":"Kuba  Niewczas (Ząbki)"},null,null,null,null,null,{"$f":"IF(TYPE(VLOOKUP(A258,'grup-puch'!$A:$E,2,FALSE))=2,VLOOKUP(A258,'grup-puch'!$A:$E,2,FALSE),IF(TYPE(VLOOKUP(A258,puch!$A:$E,2,FALSE))=2,VLOOKUP(A258,puch!$A:$E,2,FALSE),\"\"))","v":"X35"},null,null,{"$f":"IF(TYPE(VLOOKUP(A258,'grup-puch'!$A:$E,4,FALSE))=2,VLOOKUP(A258,'grup-puch'!$A:$E,4,FALSE),IF(TYPE(VLOOKUP(A258,puch!$A:$E,4,FALSE))=2,VLOOKUP(A258,puch!$A:$E,4,FALSE),\"\"))","v":"X66"},null,null,{"$f":"IF(L259=\"\",\"\",VLOOKUP(L259,zawodnicy!$A:$D,2,FALSE)&\" \"&VLOOKUP(L259,zawodnicy!$A:$D,3,FALSE)&\" (\"&VLOOKUP(L259,zawodnicy!$A:$D,4,FALSE)&\")\")","v":"Miłosz  Siepsiak (Wesoła)"},null,null,null,null,null,{"$f":"IF(TYPE(VLOOKUP(L259,BW:BX,2,FALSE))=16,\"\",VLOOKUP(L259,BW:BX,2,FALSE))","v":""},{"$f":"IF(TYPE(VLOOKUP(O259,BF:BI,4,FALSE))=1,VLOOKUP(O259,BF:BI,4,FALSE),\"\")","v":""},{"$f":"IF(AND(COUNTA(M258,N258)=2,AF258=I259),\",\"&FIXED(M258,0,TRUE)&\":\"&FIXED(N258,0,TRUE),IF(AND(COUNTA(M258,N258)=2,AF258=L259),\",\"&FIXED(N258,0,TRUE)&\":\"&FIXED(M258,0,TRUE),\"\"))","v":",15:12"},{"$f":"IF(AND(COUNTA(M258,N258)=2,AF258=I259),\",\"&FIXED(N258,0,TRUE)&\":\"&FIXED(M258,0,TRUE),IF(AND(COUNTA(M258,N258)=2,AF258=L259),\",\"&FIXED(M258,0,TRUE)&\":\"&FIXED(N258,0,TRUE),\"\"))","v":",12:15"},null,null,null,null,null,null,null,null,null,null,null,null,null,null,null,null,null,null,null,null,null,null,null,null,null,null,null,null,null,null,null,{"$f":"IF($T$1=\"\",\"\",IF(C258=\"\",\"\",IF(Q258=\"\",C260,\"\")))","v":""},null,{"$f":"IF(BE258>NOW(),C260,\"\")","v":""},{"$f":"IF(C258<>\"\",\"\",VLOOKUP(C260,BD:BD,1,FALSE))","v":""},{"$f":"IF(Q258<>\"\",\"\",VLOOKUP(C260,BF:BF,1,FALSE))","v":""},{"$f":"IF(BF259<>\"\",BE258,\"\")","v":""},null,null,null,null,null,null,null,null,null,null,null,{"$f":"IF(VLOOKUP(I259,zawodnicy!A:E,5,FALSE)=0,\"\",C259)","v":""},{"$f":"IF(VLOOKUP(L259,zawodnicy!A:E,5,FALSE)=0,\"\",O259)","v":""},{"$f":"IF((LEN(C258)+LEN(C262)+LEN(L262))=0,I260,\"\")","v":""},{"$f":"IF(LEN(BW259)>0,A258,\"\")","v":""}]
["","",{"$f":"IF(OR(I260=0,I260=\"\"),\"\",VLOOKUP(I260,zawodnicy!$A:$D,2,FALSE)&\" \"&VLOOKUP(I260,zawodnicy!$A:$D,3,FALSE)&\" (\"&VLOOKUP(I260,zawodnicy!$A:$D,4,FALSE)&\")\")","v":""},null,null,null,null,null,{"$f":"IF(TYPE(VLOOKUP(A258,'grup-puch'!$A:$E,3,FALSE))=2,VLOOKUP(A258,'grup-puch'!$A:$E,3,FALSE),IF(TYPE(VLOOKUP(A258,puch!$A:$E,3,FALSE))=2,VLOOKUP(A258,puch!$A:$E,3,FALSE),\"\"))","v":""},null,null,{"$f":"IF(TYPE(VLOOKUP(A258,'grup-puch'!$A:$E,5,FALSE))=2,VLOOKUP(A258,'grup-puch'!$A:$E,5,FALSE),IF(TYPE(VLOOKUP(A258,puch!$A:$E,5,FALSE))=2,VLOOKUP(A258,puch!$A:$E,5,FALSE),\"\"))","v":""},null,null,{"$f":"IF(OR(L260=\"\",L260=0),\"\",VLOOKUP(L260,zawodnicy!$A:$D,2,FALSE)&\" \"&VLOOKUP(L260,zawodnicy!$A:$D,3,FALSE)&\" (\"&VLOOKUP(L260,zawodnicy!$A:$D,4,FALSE)&\")\")","v":""},null,null,null,null,null,"","",null,null,null,null,null,null,null,null,null,null,null,null,null,null,null,null,null,null,null,null,null,null,null,null,null,null,null,null,null,null,null,null,null,{"$f":"IF($T$1=\"\",\"\",IF(C258=\"\",\"\",IF(Q258=\"\",O259,\"\")))","v":""},null,{"$f":"IF(BE258>NOW(),O259,\"\")","v":""},{"$f":"IF(C258<>\"\",\"\",VLOOKUP(O259,BD:BD,1,FALSE))","v":{"$error":"#N/A"}},{"$f":"IF(Q258<>\"\",\"\",VLOOKUP(O259,BF:BF,1,FALSE))","v":{"$error":"#N/A"}},{"$f":"IF(BF260<>\"\",BE258,\"\")","v":""},null,null,null,null,null,null,null,null,null,null,null,{"$f":"IF(VLOOKUP(I260,zawodnicy!A:E,5,FALSE)=0,\"\",C260)","v":{"$error":"#N/A"}},{"$f":"IF(VLOOKUP(L260,zawodnicy!A:E,5,FALSE)=0,\"\",O260)","v":{"$error":"#N/A"}},{"$f":"IF((LEN(C258)+LEN(C262)+LEN(L262))=0,L259,\"\")","v":""},{"$f":"IF(LEN(BW260)>0,A258,\"\")","v":""}]
[null,null,null,null,null,null,null,null,null,null,null,null,null,null,null,null,null,null,null,null,null,null,null,null,null,null,null,null,null,null,null,null,null,null,null,null,null,null,null,null,null,null,null,null,null,null,null,null,null,null,null,null,null,null,null,{"$f":"IF($T$1=\"\",\"\",IF(C258=\"\",\"\",IF(Q258=\"\",O260,\"\")))","v":""},null,{"$f":"IF(BE258>NOW(),O260,\"\")","v":""},{"$f":"IF(C258<>\"\",\"\",VLOOKUP(O260,BD:BD,1,FALSE))","v":""},{"$f":"IF(Q258<>\"\",\"\",VLOOKUP(O260,BF:BF,1,FALSE))","v":""},{"$f":"IF(BF261<>\"\",BE258,\"\")","v":""},null,null,null,null,null,null,null,null,null,null,null,null,null,{"$f":"IF((LEN(C258)+LEN(C262)+LEN(L262))=0,L260,\"\")","v":""},{"$f":"IF(LEN(BW261)>0,A258,\"\")","v":""}]
[null,null,{"$f":"IF(I259=\"\",\"\",IF(I259=AF258,\"zwycięzca(cy):\"&\" \"&AH258,\"\"))","v":"zwycięzca(cy): 10:15,15:13,15:12"},null,null,null,null,null,null,null,null,{"$f":"IF(L259=\"\",\"\",IF(L259=AF258,\"zwycięzca(cy):\"&\" \"&AH258,\"\"))","v":""}]
[null,null,38,"dzień turnieju.",null,null,null,null,null,"Nr meczu",null,null,null,null,"Godz.",null,null,null,"S. prow.",null,null,null,{"$f":"IF(I265>J265,1,0)+IF(K265>L265,1,0)+IF(M265>N265,1,0)","v":2},{"$f":"IF(J265>I265,1,0)+IF(L265>K265,1,0)+IF(N265>M265,1,0)","v":0},null,null,null,null,null,null,null,null,null,"wygrany","przegrany"]
[null,null,"Boisko","Gra",null,null,null,null,null,{"$f":"A265","v":38},null,null,null,null,"rozp.",null,"zak.",null,"S. serw.",null,null,null,{"$f":"IF(AND(COUNTA(I265,J265)=2,AF265=I266),FIXED(I265,0,TRUE)&\":\"&FIXED(J265,0,TRUE),IF(AND(COUNTA(I265,J265)=2,AF265=L266),FIXED(J265,0,TRUE)&\":\"&FIXED(I265,0,TRUE),\"\"))","v":"15:4"},{"$f":"IF(AND(COUNTA(I265,J265)=2,AF265=I266),FIXED(J265,0,TRUE)&\":\"&FIXED(I265,0,TRUE),IF(AND(COUNTA(I265,J265)=2,AF265=L266),FIXED(I265,0,TRUE)&\":\"&FIXED(J265,0,TRUE),\"\"))","v":"4:15"}]
[38,null,null,{"$f":"IF(TYPE(VLOOKUP(A265,'grup-puch'!$A:$M,13,FALSE))=2,VLOOKUP(A265,'grup-puch'!$A:$M,13,FALSE),IF(TYPE(VLOOKUP(A265,puch!$A:$J,10,FALSE))=2,VLOOKUP(A265,puch!$A:$J,10,FALSE),\"\"))","v":"GIMNAZJUM CHŁOPCY"},null,null,null,null,15,4,15,7,null,null,null,null,null,null,{"$f":"Q265-O265","v":"00:00:00"},{"$f":"IF(VLOOKUP(A265,dane!F:G,2,FALSE)=\"\",\"\",VLOOKUP(A265,dane!F:G,2,FALSE))","v":{"$error":"#N/A"}},null,null,{"$f":"IF(AND(COUNTA(K265,L265)=2,AF265=I266),\",\"&FIXED(K265,0,TRUE)&\":\"&FIXED(L265,0,TRUE),IF(AND(COUNTA(K265,L265)=2,AF265=L266),\",\"&FIXED(L265,0,TRUE)&\":\"&FIXED(K265,0,TRUE),\"\"))","v":",15:7"},{"$f":"IF(AND(COUNTA(K265,L265)=2,AF265=I266),\",\"&FIXED(L265,0,TRUE)&\":\"&FIXED(K265,0,TRUE),IF(AND(COUNTA(K265,L265)=2,AF265=L266),\",\"&FIXED(K265,0,TRUE)&\":\"&FIXED(L265,0,TRUE),\"\"))","v":",7:15"},null,{"$f":"A265","v":38},{"$f":"IF(ISBLANK(D265),\"\",D265)","v":"GIMNAZJUM CHŁOPCY"},{"$f":"IF(OR(I266=0,I266=\"\"),\"\",I266)","v":"X60"},{"$f":"IF(OR(I267=0,I267=\"\"),\"\",I267)","v":""},{"$f":"IF(OR(L266=0,L266=\"\"),\"\",L266)","v":"X31"},{"$f":"IF(OR(L267=0,L267=\"\"),\"\",L267)","v":""},{"$f":"IF(COUNTA(C268,L268)=1,IF(ISTEXT(C268),I266,L266),IF(OR(I265=\"\",W263=X263),\"\",IF(W263>X263,I266,L266)))","v":"X60"},{"$f":"IF(COUNTA(C268,L268)=1,IF(ISTEXT(C268),I267,L267),IF(OR(I265=\"\",W263=X263),\"\",IF(W263>X263,I267,L267)))","v":""},{"$f":"IF(OR(AF265=I266,AF265=L266),IF(AF265=I266,W264&W265&W266&IF(ISTEXT(C268),\" \"&C268,\"\"),W264&W265&W266&IF(ISTEXT(L268),\" \"&L268,\"\")),\"\")","v":"15:4,15:7"},{"$f":"IF(OR(AF265=I266,AF265=L266),IF(AF265=I266,X264&X265&X266&IF(ISTEXT(C268),\" \"&C268,\"\"),X264&X265&X266&IF(ISTEXT(L268),\" \"&L268,\"\")),\"\")","v":"4:15,7:15"},{"$f":"IF(ISBLANK(L268),\"\",L268)","v":""},{"$f":"I265","v":15},{"$f":"J265","v":4},{"$f":"K265","v":15},{"$f":"L265","v":7},{"$f":"M265","v":0},{"$f":"N265","v":0},null,{"$f":"T263","v":0},{"$f":"T264","v":0},{"$f":"IF(OR(AA265=dane!$I$3,AA265=dane!$I$4,AA265=dane!$I$5,AA265=dane!$I$6),AR265,\"\")","v":""},{"$f":"IF(OR(AA265=dane!$I$7,AA265=dane!$I$8,AA265=dane!$I$10,AA265=dane!$I$11),AR265,\"\")","v":0},{"$f":"IF(OR(AA265=dane!$I$12,AA265=dane!$I$13,AA265=dane!$I$14,AA265=dane!$I$15),AR265,\"\")","v":""},{"$f":"IF(OR(AA265=dane!$I$16,AA265=dane!$I$17,AA265=dane!$I$18,AA265=dane!$I$19),AR265,\"\")","v":""},{"$f":"IF(OR(AA265=dane!$I$20,AA265=dane!$I$21,AA265=dane!$I$22,AA265=dane!$I$23),AR265,\"\")","v":""},{"$f":"IF(OR(AA265=dane!$I$3,AA265=dane!$I$4,AA265=dane!$I$5,AA265=dane!$I$6),AS265,\"\")","v":""},{"$f":"IF(OR(AA265=dane!$I$7,AA265=dane!$I$8,AA265=dane!$I$10,AA265=dane!$I$11),AS265,\"\")","v":0},{"$f":"IF(OR(AA265=dane!$I$12,AA265=dane!$I$13,AA265=dane!$I$14,AA265=dane!$I$15),AS265,\"\")","v":""},{"$f":"IF(OR(AA265=dane!$I$16,AA265=dane!$I$17,AA265=dane!$I$18,AA265=dane!$I$19),AS265,\"\")","v":""},{"$f":"IF(OR(AA265=dane!$I$20,AA265=dane!$I$21,AA265=dane!$I$22,AA265=dane!$I$23),AS265,\"\")","v":""},{"$f":"IF($T$1=\"\",\"\",IF(C265=\"\",\"\",IF(Q265=\"\",C266,\"\")))","v":""},{"$f":"IF(LEN(L267)>0,$V$3,$V$2)+Q265+$T$1+C263-1","v":"2014-11-10T00:25:00"},{"$f":"IF(BE265>NOW(),C266,\"\")","v":""},{"$f":"IF(C265<>\"\",\"\",VLOOKUP(C266,BD:BD,1,FALSE))","v":{"$error":"#N/A"}},{"$f":"IF(Q265<>\"\",\"\",VLOOKUP(C266,BF:BF,1,FALSE))","v":"Adam  Walocha (Ząbki)"},{"$f":"IF(BF265<>\"\",BE265,\"\")","v":""},{"$f":"IF(Q265=\"\",C265,\"\")","v":0},null,null,null,null,null,null,null,null,null,null,null,null,{"$f":"IF((LEN(C265)+LEN(C269)+LEN(L269))=0,I266,\"\")","v":""},{"$f":"IF(LEN(BW265)>0,A265,\"\")","v":""}]
[{"$f":"IF(TYPE(VLOOKUP(C266,BF:BI,4,FALSE))=1,VLOOKUP(C266,BF:BI,4,FALSE),\"\")","v":41960.017361111109},{"$f":"IF(TYPE(VLOOKUP(I266,BW:BX,2,FALSE))=16,\"\",VLOOKUP(I266,BW:BX,2,FALSE))","v":""},{"$f":"IF(I266=\"\",\"\",VLOOKUP(I266,zawodnicy!$A:$D,2,FALSE)&\" \"&VLOOKUP(I266,zawodnicy!$A:$D,3,FALSE)&\" (\"&VLOOKUP(I266,zawodnicy!$A:$D,4,FALSE)&\")\")","v":"Adam  Walocha (Ząbki)"},null,null,null,null,null,{"$f":"IF(TYPE(VLOOKUP(A265,'grup-puch'!$A:$E,2,FALSE))=2,VLOOKUP(A265,'grup-puch'!$A:$E,2,FALSE),IF(TYPE(VLOOKUP(A265,puch!$A:$E,2,FALSE))=2,VLOOKUP(A265,puch!$A:$E,2,FALSE),\"\"))","v":"X60"},null,null,{"$f":"IF(TYPE(VLOOKUP(A265,'grup-puch'!$A:$E,4,FALSE))=2,VLOOKUP(A265,'grup-puch'!$A:$E,4,FALSE),IF(TYPE(VLOOKUP(A265,puch!$A:$E,4,FALSE))=2,VLOOKUP(A265,puch!$A:$E,4,FALSE),\"\"))","v":"X31"},null,null,{"$f":"IF(L266=\"\",\"\",VLOOKUP(L266,zawodnicy!$A:$D,2,FALSE)&\" \"&VLOOKUP(L266,zawodnicy!$A:$D,3,FALSE)&\" (\"&VLOOKUP(L266,zawodnicy!$A:$D,4,FALSE)&\")\")","v":"Damian  Mil (Ząbki)"},null,null,null,null,null,{"$f":"IF(TYPE(VLOOKUP(L266,BW:BX,2,FALSE))=16,\"\",VLOOKUP(L266,BW:BX,2,FALSE))","v":""},{"$f":"IF(TYPE(VLOOKUP(O266,BF:BI,4,FALSE))=1,VLOOKUP(O266,BF:BI,4,FALSE),\"\")","v":41959.017361111109},{"$f":"IF(AND(COUNTA(M265,N265)=2,AF265=I266),\",\"&FIXED(M265,0,TRUE)&\":\"&FIXED(N265,0,TRUE),IF(AND(COUNTA(M265,N265)=2,AF265=L266),\",\"&FIXED(N265,0,TRUE)&\":\"&FIXED(M265,0,TRUE),\"\"))","v":""},{"$f":"IF(AND(COUNTA(M265,N265)=2,AF265=I266),\",\"&FIXED(N265,0,TRUE)&\":\"&FIXED(M265,0,TRUE),IF(AND(COUNTA(M265,N265)=2,AF265=L266),\",\"&FIXED(M265,0,TRUE)&\":\"&FIXED(N265,0,TRUE),\"\"))","v":""},null,null,null,null,null,null,null,null,null,null,null,null,null,null,null,null,null,null,null,null,null,null,null,null,null,null,null,null,null,null,null,{"$f":"IF($T$1=\"\",\"\",IF(C265=\"\",\"\",IF(Q265=\"\",C267,\"\")))","v":""},null,{"$f":"IF(BE265>NOW(),C267,\"\")","v":""},{"$f":"IF(C265<>\"\",\"\",VLOOKUP(C267,BD:BD,1,FALSE))","v":""},{"$f":"IF(Q265<>\"\",\"\",VLOOKUP(C267,BF:BF,1,FALSE))","v":""},{"$f":"IF(BF266<>\"\",BE265,\"\")","v":""},null,null,null,null,null,null,null,null,null,null,null,{"$f":"IF(VLOOKUP(I266,zawodnicy!A:E,5,FALSE)=0,\"\",C266)","v":""},{"$f":"IF(VLOOKUP(L266,zawodnicy!A:E,5,FALSE)=0,\"\",O266)","v":""},{"$f":"IF((LEN(C265)+LEN(C269)+LEN(L269))=0,I267,\"\")","v":""},{"$f":"IF(LEN(BW266)>0,A265,\"\")","v":""}]
["","",{"$f":"IF(OR(I267=0,I267=\"\"),\"\",VLOOKUP(I267,zawodnicy!$A:$D,2,FALSE)&\" \"&VLOOKUP(I267,zawodnicy!$A:$D,3,FALSE)&\" (\"&VLOOKUP(I267,zawodnicy!$A:$D,4,FALSE)&\")\")","v":""},null,null,null,null,null,{"$f":"IF(TYPE(VLOOKUP(A265,'grup-puch'!$A:$E,3,FALSE))=2,VLOOKUP(A265,'grup-puch'!$A:$E,3,FALSE),IF(TYPE(VLOOKUP(A265,puch!$A:$E,3,FALSE))=2,VLOOKUP(A265,puch!$A:$E,3,FALSE),\"\"))","v":""},null,null,{"$f":"IF(TYPE(VLOOKUP(A265,'grup-puch'!$A:$E,5,FALSE))=2,VLOOKUP(A265,'grup-puch'!$A:$E,5,FALSE),IF(TYPE(VLOOKUP(A265,puch!$A:$E,5,FALSE))=2,VLOOKUP(A265,puch!$A:$E,5,FALSE),\"\"))","v":""},null,null,{"$f":"IF(OR(L267=\"\",L267=0),\"\",VLOOKUP(L267,zawodnicy!$A:$D,2,FALSE)&\" \"&VLOOKUP(L267,zawodnicy!$A:$D,3,FALSE)&\" (\"&VLOOKUP(L267,zawodnicy!$A:$D,4,FALSE)&\")\")","v":""},null,null,null,null,null,"","",null,null,null,null,null,null,null,null,null,null,null,null,null,null,null,null,null,null,null,null,null,null,null,null,null,null,null,null,null,null,null,null,null,{"$f":"IF($T$1=\"\",\"\",IF(C265=\"\",\"\",IF(Q265=\"\",O266,\"\")))","v":""},null,{"$f":"IF(BE265>NOW(),O266,\"\")","v":""},{"$f":"IF(C265<>\"\",\"\",VLOOKUP(O266,BD:BD,1,FALSE))","v":{"$error":"#N/A"}},{"$f":"IF(Q265<>\"\",\"\",VLOOKUP(O266,BF:BF,1,FALSE))","v":"Damian  Mil (Ząbki)"},{"$f":"IF(BF267<>\"\",BE265,\"\")","v":""},null,null,null,null,null,null,null,null,null,null,null,{"$f":"IF(VLOOKUP(I267,zawodnicy!A:E,5,FALSE)=0,\"\",C267)","v":{"$error":"#N/A"}},{"$f":"IF(VLOOKUP(L267,zawodnicy!A:E,5,FALSE)=0,\"\",O267)","v":{"$error":"#N/A"}},{"$f":"IF((LEN(C265)+LEN(C269)+LEN(L269))=0,L266,\"\")","v":""},{"$f":"IF(LEN(BW267)>0,A265,\"\")","v":""}]
[null,null,null,null,null,null,null,null,null,null,null,null,null,null,null,null,null,null,null,null,null,null,null,null,null,null,null,null,null,null,null,null,null,null,null,null,null,null,null,null,null,null,null,null,null,null,null,null,null,null,null,null,null,null,null,{"$f":"IF($T$1=\"\",\"\",IF(C265=\"\",\"\",IF(Q265=\"\",O267,\"\")))","v":""},null,{"$f":"IF(BE265>NOW(),O267,\"\")","v":""},{"$f":"IF(C265<>\"\",\"\",VLOOKUP(O267,BD:BD,1,FALSE))","v":""},{"$f":"IF(Q265<>\"\",\"\",VLOOKUP(O267,BF:BF,1,FALSE))","v":""},{"$f":"IF(BF268<>\"\",BE265,\"\")","v":""},null,null,null,null,null,null,null,null,null,null,null,null,null,{"$f":"IF((LEN(C265)+LEN(C269)+LEN(L269))=0,L267,\"\")","v":""},{"$f":"IF(LEN(BW268)>0,A265,\"\")","v":""}]
[null,null,{"$f":"IF(I266=\"\",\"\",IF(I266=AF265,\"zwycięzca(cy):\"&\" \"&AH265,\"\"))","v":"zwycięzca(cy): 15:4,15:7"},null,null,null,null,null,null,null,null,{"$f":"IF(L266=\"\",\"\",IF(L266=AF265,\"zwycięzca(cy):\"&\" \"&AH265,\"\"))","v":""}]
[null,null,39,"dzień turnieju.",null,null,null,null,null,"Nr meczu",null,null,null,null,"Godz.",null,null,null,"S. prow.",null,null,null,{"$f":"IF(I272>J272,1,0)+IF(K272>L272,1,0)+IF(M272>N272,1,0)","v":2},{"$f":"IF(J272>I272,1,0)+IF(L272>K272,1,0)+IF(N272>M272,1,0)","v":1},null,null,null,null,null,null,null,null,null,"wygrany","przegrany"]
[null,null,"Boisko","Gra",null,null,null,null,null,{"$f":"A272","v":39},null,null,null,null,"rozp.",null,"zak.",null,"S. serw.",null,null,null,{"$f":"IF(AND(COUNTA(I272,J272)=2,AF272=I273),FIXED(I272,0,TRUE)&\":\"&FIXED(J272,0,TRUE),IF(AND(COUNTA(I272,J272)=2,AF272=L273),FIXED(J272,0,TRUE)&\":\"&FIXED(I272,0,TRUE),\"\"))","v":"11:15"},{"$f":"IF(AND(COUNTA(I272,J272)=2,AF272=I273),FIXED(J272,0,TRUE)&\":\"&FIXED(I272,0,TRUE),IF(AND(COUNTA(I272,J272)=2,AF272=L273),FIXED(I272,0,TRUE)&\":\"&FIXED(J272,0,TRUE),\"\"))","v":"15:11"}]
[39,null,null,{"$f":"IF(TYPE(VLOOKUP(A272,'grup-puch'!$A:$M,13,FALSE))=2,VLOOKUP(A272,'grup-puch'!$A:$M,13,FALSE),IF(TYPE(VLOOKUP(A272,puch!$A:$J,10,FALSE))=2,VLOOKUP(A272,puch!$A:$J,10,FALSE),\"\"))","v":"GIMNAZJUM CHŁOPCY"},null,null,null,null,11,15,15,11,15,13,null,null,null,null,{"$f":"Q272-O272","v":"00:00:00"},{"$f":"IF(VLOOKUP(A272,dane!F:G,2,FALSE)=\"\",\"\",VLOOKUP(A272,dane!F:G,2,FALSE))","v":{"$error":"#N/A"}},null,null,{"$f":"IF(AND(COUNTA(K272,L272)=2,AF272=I273),\",\"&FIXED(K272,0,TRUE)&\":\"&FIXED(L272,0,TRUE),IF(AND(COUNTA(K272,L272)=2,AF272=L273),\",\"&FIXED(L272,0,TRUE)&\":\"&FIXED(K272,0,TRUE),\"\"))","v":",15:11"},{"$f":"IF(AND(COUNTA(K272,L272)=2,AF272=I273),\",\"&FIXED(L272,0,TRUE)&\":\"&FIXED(K272,0,TRUE),IF(AND(COUNTA(K272,L272)=2,AF272=L273),\",\"&FIXED(K272,0,TRUE)&\":\"&FIXED(L272,0,TRUE),\"\"))","v":",11:15"},null,{"$f":"A272","v":39},{"$f":"IF(ISBLANK(D272),\"\",D272)","v":"GIMNAZJUM CHŁOPCY"},{"$f":"IF(OR(I273=0,I273=\"\"),\"\",I273)","v":"X63"},{"$f":"IF(OR(I274=0,I274=\"\"),\"\",I274)","v":""},{"$f":"IF(OR(L273=0,L273=\"\"),\"\",L273)","v":"X71"},{"$f":"IF(OR(L274=0,L274=\"\"),\"\",L274)","v":""},{"$f":"IF(COUNTA(C275,L275)=1,IF(ISTEXT(C275),I273,L273),IF(OR(I272=\"\",W270=X270),\"\",IF(W270>X270,I273,L273)))","v":"X63"},{"$f":"IF(COUNTA(C275,L275)=1,IF(ISTEXT(C275),I274,L274),IF(OR(I272=\"\",W270=X270),\"\",IF(W270>X270,I274,L274)))","v":""},{"$f":"IF(OR(AF272=I273,AF272=L273),IF(AF272=I273,W271&W272&W273&IF(ISTEXT(C275),\" \"&C275,\"\"),W271&W272&W273&IF(ISTEXT(L275),\" \"&L275,\"\")),\"\")","v":"11:15,15:11,15:13"},{"$f":"IF(OR(AF272=I273,AF272=L273),IF(AF272=I273,X271&X272&X273&IF(ISTEXT(C275),\" \"&C275,\"\"),X271&X272&X273&IF(ISTEXT(L275),\" \"&L275,\"\")),\"\")","v":"15:11,11:15,13:15"},{"$f":"IF(ISBLANK(L275),\"\",L275)","v":""},{"$f":"I272","v":11},{"$f":"J272","v":15},{"$f":"K272","v":15},{"$f":"L272","v":11},{"$f":"M272","v":15},{"$f":"N272","v":13},null,{"$f":"T270","v":0},{"$f":"T271","v":0},{"$f":"IF(OR(AA272=dane!$I$3,AA272=dane!$I$4,AA272=dane!$I$5,AA272=dane!$I$6),AR272,\"\")","v":""},{"$f":"IF(OR(AA272=dane!$I$7,AA272=dane!$I$8,AA272=dane!$I$10,AA272=dane!$I$11),AR272,\"\")","v":0},{"$f":"IF(OR(AA272=dane!$I$12,AA272=dane!$I$13,AA272=dane!$I$14,AA272=dane!$I$15),AR272,\"\")","v":""},{"$f":"IF(OR(AA272=dane!$I$16,AA272=dane!$I$17,AA272=dane!$I$18,AA272=dane!$I$19),AR272,\"\")","v":""},{"$f":"IF(OR(AA272=dane!$I$20,AA272=dane!$I$21,AA272=dane!$I$22,AA272=dane!$I$23),AR272,\"\")","v":""},{"$f":"IF(OR(AA272=dane!$I$3,AA272=dane!$I$4,AA272=dane!$I$5,AA272=dane!$I$6),AS272,\"\")","v":""},{"$f":"IF(OR(AA272=dane!$I$7,AA272=dane!$I$8,AA272=dane!$I$10,AA272=dane!$I$11),AS272,\"\")","v":0},{"$f":"IF(OR(AA272=dane!$I$12,AA272=dane!$I$13,AA272=dane!$I$14,AA272=dane!$I$15),AS272,\"\")","v":""},{"$f":"IF(OR(AA272=dane!$I$16,AA272=dane!$I$17,AA272=dane!$I$18,AA272=dane!$I$19),AS272,\"\")","v":""},{"$f":"IF(OR(AA272=dane!$I$20,AA272=dane!$I$21,AA272=dane!$I$22,AA272=dane!$I$23),AS272,\"\")","v":""},{"$f":"IF($T$1=\"\",\"\",IF(C272=\"\",\"\",IF(Q272=\"\",C273,\"\")))","v":""},{"$f":"IF(LEN(L274)>0,$V$3,$V$2)+Q272+$T$1+C270-1","v":"2014-11-11T00:25:00"},{"$f":"IF(BE272>NOW(),C273,\"\")","v":""},{"$f":"IF(C272<>\"\",\"\",VLOOKUP(C273,BD:BD,1,FALSE))","v":{"$error":"#N/A"}},{"$f":"IF(Q272<>\"\",\"\",VLOOKUP(C273,BF:BF,1,FALSE))","v":"Kasia Wróblewska (Mińsk Mazowiecki)"},{"$f":"IF(BF272<>\"\",BE272,\"\")","v":""},{"$f":"IF(Q272=\"\",C272,\"\")","v":0},null,null,null,null,null,null,null,null,null,null,null,null,{"$f":"IF((LEN(C272)+LEN(C276)+LEN(L276))=0,I273,\"\")","v":""},{"$f":"IF(LEN(BW272)>0,A272,\"\")","v":""}]
[{"$f":"IF(TYPE(VLOOKUP(C273,BF:BI,4,FALSE))=1,VLOOKUP(C273,BF:BI,4,FALSE),\"\")","v":41960.017361111109},{"$f":"IF(TYPE(VLOOKUP(I273,BW:BX,2,FALSE))=16,\"\",VLOOKUP(I273,BW:BX,2,FALSE))","v":""},{"$f":"IF(I273=\"\",\"\",VLOOKUP(I273,zawodnicy!$A:$D,2,FALSE)&\" \"&VLOOKUP(I273,zawodnicy!$A:$D,3,FALSE)&\" (\"&VLOOKUP(I273,zawodnicy!$A:$D,4,FALSE)&\")\")","v":"Kasia Wróblewska (Mińsk Mazowiecki)"},null,null,null,null,null,{"$f":"IF(TYPE(VLOOKUP(A272,'grup-puch'!$A:$E,2,FALSE))=2,VLOOKUP(A272,'grup-puch'!$A:$E,2,FALSE),IF(TYPE(VLOOKUP(A272,puch!$A:$E,2,FALSE))=2,VLOOKUP(A272,puch!$A:$E,2,FALSE),\"\"))","v":"X63"},null,null,{"$f":"IF(TYPE(VLOOKUP(A272,'grup-puch'!$A:$E,4,FALSE))=2,VLOOKUP(A272,'grup-puch'!$A:$E,4,FALSE),IF(TYPE(VLOOKUP(A272,puch!$A:$E,4,FALSE))=2,VLOOKUP(A272,puch!$A:$E,4,FALSE),\"\"))","v":"X71"},null,null,{"$f":"IF(L273=\"\",\"\",VLOOKUP(L273,zawodnicy!$A:$D,2,FALSE)&\" \"&VLOOKUP(L273,zawodnicy!$A:$D,3,FALSE)&\" (\"&VLOOKUP(L273,zawodnicy!$A:$D,4,FALSE)&\")\")","v":"Grzegorz  Cybulski (Garwolin)"},null,null,null,null,null,{"$f":"IF(TYPE(VLOOKUP(L273,BW:BX,2,FALSE))=16,\"\",VLOOKUP(L273,BW:BX,2,FALSE))","v":""},{"$f":"IF(TYPE(VLOOKUP(O273,BF:BI,4,FALSE))=1,VLOOKUP(O273,BF:BI,4,FALSE),\"\")","v":41959.017361111109},{"$f":"IF(AND(COUNTA(M272,N272)=2,AF272=I273),\",\"&FIXED(M272,0,TRUE)&\":\"&FIXED(N272,0,TRUE),IF(AND(COUNTA(M272,N272)=2,AF272=L273),\",\"&FIXED(N272,0,TRUE)&\":\"&FIXED(M272,0,TRUE),\"\"))","v":",15:13"},{"$f":"IF(AND(COUNTA(M272,N272)=2,AF272=I273),\",\"&FIXED(N272,0,TRUE)&\":\"&FIXED(M272,0,TRUE),IF(AND(COUNTA(M272,N272)=2,AF272=L273),\",\"&FIXED(M272,0,TRUE)&\":\"&FIXED(N272,0,TRUE),\"\"))","v":",13:15"},null,null,null,null,null,null,null,null,null,null,null,null,null,null,null,null,null,null,null,null,null,null,null,null,null,null,null,null,null,null,null,{"$f":"IF($T$1=\"\",\"\",IF(C272=\"\",\"\",IF(Q272=\"\",C274,\"\")))","v":""},null,{"$f":"IF(BE272>NOW(),C274,\"\")","v":""},{"$f":"IF(C272<>\"\",\"\",VLOOKUP(C274,BD:BD,1,FALSE))","v":""},{"$f":"IF(Q272<>\"\",\"\",VLOOKUP(C274,BF:BF,1,FALSE))","v":""},{"$f":"IF(BF273<>\"\",BE272,\"\")","v":""},null,null,null,null,null,null,null,null,null,null,null,{"$f":"IF(VLOOKUP(I273,zawodnicy!A:E,5,FALSE)=0,\"\",C273)","v":""},{"$f":"IF(VLOOKUP(L273,zawodnicy!A:E,5,FALSE)=0,\"\",O273)","v":""},{"$f":"IF((LEN(C272)+LEN(C276)+LEN(L276))=0,I274,\"\")","v":""},{"$f":"IF(LEN(BW273)>0,A272,\"\")","v":""}]
["","",{"$f":"IF(OR(I274=0,I274=\"\"),\"\",VLOOKUP(I274,zawodnicy!$A:$D,2,FALSE)&\" \"&VLOOKUP(I274,zawodnicy!$A:$D,3,FALSE)&\" (\"&VLOOKUP(I274,zawodnicy!$A:$D,4,FALSE)&\")\")","v":""},null,null,null,null,null,{"$f":"IF(TYPE(VLOOKUP(A272,'grup-puch'!$A:$E,3,FALSE))=2,VLOOKUP(A272,'grup-puch'!$A:$E,3,FALSE),IF(TYPE(VLOOKUP(A272,puch!$A:$E,3,FALSE))=2,VLOOKUP(A272,puch!$A:$E,3,FALSE),\"\"))","v":""},null,null,{"$f":"IF(TYPE(VLOOKUP(A272,'grup-puch'!$A:$E,5,FALSE))=2,VLOOKUP(A272,'grup-puch'!$A:$E,5,FALSE),IF(TYPE(VLOOKUP(A272,puch!$A:$E,5,FALSE))=2,VLOOKUP(A272,puch!$A:$E,5,FALSE),\"\"))","v":""},null,null,{"$f":"IF(OR(L274=\"\",L274=0),\"\",VLOOKUP(L274,zawodnicy!$A:$D,2,FALSE)&\" \"&VLOOKUP(L274,zawodnicy!$A:$D,3,FALSE)&\" (\"&VLOOKUP(L274,zawodnicy!$A:$D,4,FALSE)&\")\")","v":""},null,null,null,null,null,"","",null,null,null,null,null,null,null,null,null,null,null,null,null,null,null,null,null,null,null,null,null,null,null,null,null,null,null,null,null,null,null,null,null,{"$f":"IF($T$1=\"\",\"\",IF(C272=\"\",\"\",IF(Q272=\"\",O273,\"\")))","v":""},null,{"$f":"IF(BE272>NOW(),O273,\"\")","v":""},{"$f":"IF(C272<>\"\",\"\",VLOOKUP(O273,BD:BD,1,FALSE))","v":{"$error":"#N/A"}},{"$f":"IF(Q272<>\"\",\"\",VLOOKUP(O273,BF:BF,1,FALSE))","v":"Grzegorz  Cybulski (Garwolin)"},{"$f":"IF(BF274<>\"\",BE272,\"\")","v":""},null,null,null,null,null,null,null,null,null,null,null,{"$f":"IF(VLOOKUP(I274,zawodnicy!A:E,5,FALSE)=0,\"\",C274)","v":{"$error":"#N/A"}},{"$f":"IF(VLOOKUP(L274,zawodnicy!A:E,5,FALSE)=0,\"\",O274)","v":{"$error":"#N/A"}},{"$f":"IF((LEN(C272)+LEN(C276)+LEN(L276))=0,L273,\"\")","v":""},{"$f":"IF(LEN(BW274)>0,A272,\"\")","v":""}]
[null,null,null,null,null,null,null,null,null,null,null,null,null,null,null,null,null,null,null,null,null,null,null,null,null,null,null,null,null,null,null,null,null,null,null,null,null,null,null,null,null,null,null,null,null,null,null,null,null,null,null,null,null,null,null,{"$f":"IF($T$1=\"\",\"\",IF(C272=\"\",\"\",IF(Q272=\"\",O274,\"\")))","v":""},null,{"$f":"IF(BE272>NOW(),O274,\"\")","v":""},{"$f":"IF(C272<>\"\",\"\",VLOOKUP(O274,BD:BD,1,FALSE))","v":""},{"$f":"IF(Q272<>\"\",\"\",VLOOKUP(O274,BF:BF,1,FALSE))","v":""},{"$f":"IF(BF275<>\"\",BE272,\"\")","v":""},null,null,null,null,null,null,null,null,null,null,null,null,null,{"$f":"IF((LEN(C272)+LEN(C276)+LEN(L276))=0,L274,\"\")","v":""},{"$f":"IF(LEN(BW275)>0,A272,\"\")","v":""}]
[null,null,{"$f":"IF(I273=\"\",\"\",IF(I273=AF272,\"zwycięzca(cy):\"&\" \"&AH272,\"\"))","v":"zwycięzca(cy): 11:15,15:11,15:13"},null,null,null,null,null,null,null,null,{"$f":"IF(L273=\"\",\"\",IF(L273=AF272,\"zwycięzca(cy):\"&\" \"&AH272,\"\"))","v":""}]
[null,null,40,"dzień turnieju.",null,null,null,null,null,"Nr meczu",null,null,null,null,"Godz.",null,null,null,"S. prow.",null,null,null,{"$f":"IF(I279>J279,1,0)+IF(K279>L279,1,0)+IF(M279>N279,1,0)","v":2},{"$f":"IF(J279>I279,1,0)+IF(L279>K279,1,0)+IF(N279>M279,1,0)","v":0},null,null,null,null,null,null,null,null,null,"wygrany","przegrany"]
[null,null,"Boisko","Gra",null,null,null,null,null,{"$f":"A279","v":40},null,null,null,null,"rozp.",null,"zak.",null,"S. serw.",null,null,null,{"$f":"IF(AND(COUNTA(I279,J279)=2,AF279=I280),FIXED(I279,0,TRUE)&\":\"&FIXED(J279,0,TRUE),IF(AND(COUNTA(I279,J279)=2,AF279=L280),FIXED(J279,0,TRUE)&\":\"&FIXED(I279,0,TRUE),\"\"))","v":"15:7"},{"$f":"IF(AND(COUNTA(I279,J279)=2,AF279=I280),FIXED(J279,0,TRUE)&\":\"&FIXED(I279,0,TRUE),IF(AND(COUNTA(I279,J279)=2,AF279=L280),FIXED(I279,0,TRUE)&\":\"&FIXED(J279,0,TRUE),\"\"))","v":"7:15"}]
[40,null,null,{"$f":"IF(TYPE(VLOOKUP(A279,'grup-puch'!$A:$M,13,FALSE))=2,VLOOKUP(A279,'grup-puch'!$A:$M,13,FALSE),IF(TYPE(VLOOKUP(A279,puch!$A:$J,10,FALSE))=2,VLOOKUP(A279,puch!$A:$J,10,FALSE),\"\"))","v":"GIMNAZJUM CHŁOPCY"},null,null,null,null,15,7,15,6,null,null,null,null,null,null,{"$f":"Q279-O279","v":"00:00:00"},{"$f":"IF(VLOOKUP(A279,dane!F:G,2,FALSE)=\"\",\"\",VLOOKUP(A279,dane!F:G,2,FALSE))","v":{"$error":"#N/A"}},null,null,{"$f":"IF(AND(COUNTA(K279,L279)=2,AF279=I280),\",\"&FIXED(K279,0,TRUE)&\":\"&FIXED(L279,0,TRUE),IF(AND(COUNTA(K279,L279)=2,AF279=L280),\",\"&FIXED(L279,0,TRUE)&\":\"&FIXED(K279,0,TRUE),\"\"))","v":",15:6"},{"$f":"IF(AND(COUNTA(K279,L279)=2,AF279=I280),\",\"&FIXED(L279,0,TRUE)&\":\"&FIXED(K279,0,TRUE),IF(AND(COUNTA(K279,L279)=2,AF279=L280),\",\"&FIXED(K279,0,TRUE)&\":\"&FIXED(L279,0,TRUE),\"\"))","v":",6:15"},null,{"$f":"A279","v":40},{"$f":"IF(ISBLANK(D279),\"\",D279)","v":"GIMNAZJUM CHŁOPCY"},{"$f":"IF(OR(I280=0,I280=\"\"),\"\",I280)","v":"X70"},{"$f":"IF(OR(I281=0,I281=\"\"),\"\",I281)","v":""},{"$f":"IF(OR(L280=0,L280=\"\"),\"\",L280)","v":"X72"},{"$f":"IF(OR(L281=0,L281=\"\"),\"\",L281)","v":""},{"$f":"IF(COUNTA(C282,L282)=1,IF(ISTEXT(C282),I280,L280),IF(OR(I279=\"\",W277=X277),\"\",IF(W277>X277,I280,L280)))","v":"X70"},{"$f":"IF(COUNTA(C282,L282)=1,IF(ISTEXT(C282),I281,L281),IF(OR(I279=\"\",W277=X277),\"\",IF(W277>X277,I281,L281)))","v":""},{"$f":"IF(OR(AF279=I280,AF279=L280),IF(AF279=I280,W278&W279&W280&IF(ISTEXT(C282),\" \"&C282,\"\"),W278&W279&W280&IF(ISTEXT(L282),\" \"&L282,\"\")),\"\")","v":"15:7,15:6"},{"$f":"IF(OR(AF279=I280,AF279=L280),IF(AF279=I280,X278&X279&X280&IF(ISTEXT(C282),\" \"&C282,\"\"),X278&X279&X280&IF(ISTEXT(L282),\" \"&L282,\"\")),\"\")","v":"7:15,6:15"},{"$f":"IF(ISBLANK(L282),\"\",L282)","v":""},{"$f":"I279","v":15},{"$f":"J279","v":7},{"$f":"K279","v":15},{"$f":"L279","v":6},{"$f":"M279","v":0},{"$f":"N279","v":0},null,{"$f":"T277","v":0},{"$f":"T278","v":0},{"$f":"IF(OR(AA279=dane!$I$3,AA279=dane!$I$4,AA279=dane!$I$5,AA279=dane!$I$6),AR279,\"\")","v":""},{"$f":"IF(OR(AA279=dane!$I$7,AA279=dane!$I$8,AA279=dane!$I$10,AA279=dane!$I$11),AR279,\"\")","v":0},{"$f":"IF(OR(AA279=dane!$I$12,AA279=dane!$I$13,AA279=dane!$I$14,AA279=dane!$I$15),AR279,\"\")","v":""},{"$f":"IF(OR(AA279=dane!$I$16,AA279=dane!$I$17,AA279=dane!$I$18,AA279=dane!$I$19),AR279,\"\")","v":""},{"$f":"IF(OR(AA279=dane!$I$20,AA279=dane!$I$21,AA279=dane!$I$22,AA279=dane!$I$23),AR279,\"\")","v":""},{"$f":"IF(OR(AA279=dane!$I$3,AA279=dane!$I$4,AA279=dane!$I$5,AA279=dane!$I$6),AS279,\"\")","v":""},{"$f":"IF(OR(AA279=dane!$I$7,AA279=dane!$I$8,AA279=dane!$I$10,AA279=dane!$I$11),AS279,\"\")","v":0},{"$f":"IF(OR(AA279=dane!$I$12,AA279=dane!$I$13,AA279=dane!$I$14,AA279=dane!$I$15),AS279,\"\")","v":""},{"$f":"IF(OR(AA279=dane!$I$16,AA279=dane!$I$17,AA279=dane!$I$18,AA279=dane!$I$19),AS279,\"\")","v":""},{"$f":"IF(OR(AA279=dane!$I$20,AA279=dane!$I$21,AA279=dane!$I$22,AA279=dane!$I$23),AS279,\"\")","v":""},{"$f":"IF($T$1=\"\",\"\",IF(C279=\"\",\"\",IF(Q279=\"\",C280,\"\")))","v":""},{"$f":"IF(LEN(L281)>0,$V$3,$V$2)+Q279+$T$1+C277-1","v":"2014-11-12T00:25:00"},{"$f":"IF(BE279>NOW(),C280,\"\")","v":""},{"$f":"IF(C279<>\"\",\"\",VLOOKUP(C280,BD:BD,1,FALSE))","v":{"$error":"#N/A"}},{"$f":"IF(Q279<>\"\",\"\",VLOOKUP(C280,BF:BF,1,FALSE))","v":"Konrad  Kalinowski (Garwolin)"},{"$f":"IF(BF279<>\"\",BE279,\"\")","v":""},{"$f":"IF(Q279=\"\",C279,\"\")","v":0},null,null,null,null,null,null,null,null,null,null,null,null,{"$f":"IF((LEN(C279)+LEN(C283)+LEN(L283))=0,I280,\"\")","v":""},{"$f":"IF(LEN(BW279)>0,A279,\"\")","v":""}]
[{"$f":"IF(TYPE(VLOOKUP(C280,BF:BI,4,FALSE))=1,VLOOKUP(C280,BF:BI,4,FALSE),\"\")","v":41963.010416666664},{"$f":"IF(TYPE(VLOOKUP(I280,BW:BX,2,FALSE))=16,\"\",VLOOKUP(I280,BW:BX,2,FALSE))","v":""},{"$f":"IF(I280=\"\",\"\",VLOOKUP(I280,zawodnicy!$A:$D,2,FALSE)&\" \"&VLOOKUP(I280,zawodnicy!$A:$D,3,FALSE)&\" (\"&VLOOKUP(I280,zawodnicy!$A:$D,4,FALSE)&\")\")","v":"Konrad  Kalinowski (Garwolin)"},null,null,null,null,null,{"$f":"IF(TYPE(VLOOKUP(A279,'grup-puch'!$A:$E,2,FALSE))=2,VLOOKUP(A279,'grup-puch'!$A:$E,2,FALSE),IF(TYPE(VLOOKUP(A279,puch!$A:$E,2,FALSE))=2,VLOOKUP(A279,puch!$A:$E,2,FALSE),\"\"))","v":"X70"},null,null,{"$f":"IF(TYPE(VLOOKUP(A279,'grup-puch'!$A:$E,4,FALSE))=2,VLOOKUP(A279,'grup-puch'!$A:$E,4,FALSE),IF(TYPE(VLOOKUP(A279,puch!$A:$E,4,FALSE))=2,VLOOKUP(A279,puch!$A:$E,4,FALSE),\"\"))","v":"X72"},null,null,{"$f":"IF(L280=\"\",\"\",VLOOKUP(L280,zawodnicy!$A:$D,2,FALSE)&\" \"&VLOOKUP(L280,zawodnicy!$A:$D,3,FALSE)&\" (\"&VLOOKUP(L280,zawodnicy!$A:$D,4,FALSE)&\")\")","v":"Kacper Urbaniak (Ząbki)"},null,null,null,null,null,{"$f":"IF(TYPE(VLOOKUP(L280,BW:BX,2,FALSE))=16,\"\",VLOOKUP(L280,BW:BX,2,FALSE))","v":""},{"$f":"IF(TYPE(VLOOKUP(O280,BF:BI,4,FALSE))=1,VLOOKUP(O280,BF:BI,4,FALSE),\"\")","v":""},{"$f":"IF(AND(COUNTA(M279,N279)=2,AF279=I280),\",\"&FIXED(M279,0,TRUE)&\":\"&FIXED(N279,0,TRUE),IF(AND(COUNTA(M279,N279)=2,AF279=L280),\",\"&FIXED(N279,0,TRUE)&\":\"&FIXED(M279,0,TRUE),\"\"))","v":""},{"$f":"IF(AND(COUNTA(M279,N279)=2,AF279=I280),\",\"&FIXED(N279,0,TRUE)&\":\"&FIXED(M279,0,TRUE),IF(AND(COUNTA(M279,N279)=2,AF279=L280),\",\"&FIXED(M279,0,TRUE)&\":\"&FIXED(N279,0,TRUE),\"\"))","v":""},null,null,null,null,null,null,null,null,null,null,null,null,null,null,null,null,null,null,null,null,null,null,null,null,null,null,null,null,null,null,null,{"$f":"IF($T$1=\"\",\"\",IF(C279=\"\",\"\",IF(Q279=\"\",C281,\"\")))","v":""},null,{"$f":"IF(BE279>NOW(),C281,\"\")","v":""},{"$f":"IF(C279<>\"\",\"\",VLOOKUP(C281,BD:BD,1,FALSE))","v":""},{"$f":"IF(Q279<>\"\",\"\",VLOOKUP(C281,BF:BF,1,FALSE))","v":""},{"$f":"IF(BF280<>\"\",BE279,\"\")","v":""},null,null,null,null,null,null,null,null,null,null,null,{"$f":"IF(VLOOKUP(I280,zawodnicy!A:E,5,FALSE)=0,\"\",C280)","v":""},{"$f":"IF(VLOOKUP(L280,zawodnicy!A:E,5,FALSE)=0,\"\",O280)","v":""},{"$f":"IF((LEN(C279)+LEN(C283)+LEN(L283))=0,I281,\"\")","v":""},{"$f":"IF(LEN(BW280)>0,A279,\"\")","v":""}]
["","",{"$f":"IF(OR(I281=0,I281=\"\"),\"\",VLOOKUP(I281,zawodnicy!$A:$D,2,FALSE)&\" \"&VLOOKUP(I281,zawodnicy!$A:$D,3,FALSE)&\" (\"&VLOOKUP(I281,zawodnicy!$A:$D,4,FALSE)&\")\")","v":""},null,null,null,null,null,{"$f":"IF(TYPE(VLOOKUP(A279,'grup-puch'!$A:$E,3,FALSE))=2,VLOOKUP(A279,'grup-puch'!$A:$E,3,FALSE),IF(TYPE(VLOOKUP(A279,puch!$A:$E,3,FALSE))=2,VLOOKUP(A279,puch!$A:$E,3,FALSE),\"\"))","v":""},null,null,{"$f":"IF(TYPE(VLOOKUP(A279,'grup-puch'!$A:$E,5,FALSE))=2,VLOOKUP(A279,'grup-puch'!$A:$E,5,FALSE),IF(TYPE(VLOOKUP(A279,puch!$A:$E,5,FALSE))=2,VLOOKUP(A279,puch!$A:$E,5,FALSE),\"\"))","v":""},null,null,{"$f":"IF(OR(L281=\"\",L281=0),\"\",VLOOKUP(L281,zawodnicy!$A:$D,2,FALSE)&\" \"&VLOOKUP(L281,zawodnicy!$A:$D,3,FALSE)&\" (\"&VLOOKUP(L281,zawodnicy!$A:$D,4,FALSE)&\")\")","v":""},null,null,null,null,null,"","",null,null,null,null,null,null,null,null,null,null,null,null,null,null,null,null,null,null,null,null,null,null,null,null,null,null,null,null,null,null,null,null,null,{"$f":"IF($T$1=\"\",\"\",IF(C279=\"\",\"\",IF(Q279=\"\",O280,\"\")))","v":""},null,{"$f":"IF(BE279>NOW(),O280,\"\")","v":""},{"$f":"IF(C279<>\"\",\"\",VLOOKUP(O280,BD:BD,1,FALSE))","v":{"$error":"#N/A"}},{"$f":"IF(Q279<>\"\",\"\",VLOOKUP(O280,BF:BF,1,FALSE))","v":{"$error":"#N/A"}},{"$f":"IF(BF281<>\"\",BE279,\"\")","v":""},null,null,null,null,null,null,null,null,null,null,null,{"$f":"IF(VLOOKUP(I281,zawodnicy!A:E,5,FALSE)=0,\"\",C281)","v":{"$error":"#N/A"}},{"$f":"IF(VLOOKUP(L281,zawodnicy!A:E,5,FALSE)=0,\"\",O281)","v":{"$error":"#N/A"}},{"$f":"IF((LEN(C279)+LEN(C283)+LEN(L283))=0,L280,\"\")","v":""},{"$f":"IF(LEN(BW281)>0,A279,\"\")","v":""}]
[null,null,null,null,null,null,null,null,null,null,null,null,null,null,null,null,null,null,null,null,null,null,null,null,null,null,null,null,null,null,null,null,null,null,null,null,null,null,null,null,null,null,null,null,null,null,null,null,null,null,null,null,null,null,null,{"$f":"IF($T$1=\"\",\"\",IF(C279=\"\",\"\",IF(Q279=\"\",O281,\"\")))","v":""},null,{"$f":"IF(BE279>NOW(),O281,\"\")","v":""},{"$f":"IF(C279<>\"\",\"\",VLOOKUP(O281,BD:BD,1,FALSE))","v":""},{"$f":"IF(Q279<>\"\",\"\",VLOOKUP(O281,BF:BF,1,FALSE))","v":""},{"$f":"IF(BF282<>\"\",BE279,\"\")","v":""},null,null,null,null,null,null,null,null,null,null,null,null,null,{"$f":"IF((LEN(C279)+LEN(C283)+LEN(L283))=0,L281,\"\")","v":""},{"$f":"IF(LEN(BW282)>0,A279,\"\")","v":""}]
[null,null,{"$f":"IF(I280=\"\",\"\",IF(I280=AF279,\"zwycięzca(cy):\"&\" \"&AH279,\"\"))","v":"zwycięzca(cy): 15:7,15:6"},null,null,null,null,null,null,null,null,{"$f":"IF(L280=\"\",\"\",IF(L280=AF279,\"zwycięzca(cy):\"&\" \"&AH279,\"\"))","v":""}]
[null,null,41,"dzień turnieju.",null,null,null,null,null,"Nr meczu",null,null,null,null,"Godz.",null,null,null,"S. prow.",null,null,null,{"$f":"IF(I286>J286,1,0)+IF(K286>L286,1,0)+IF(M286>N286,1,0)","v":0},{"$f":"IF(J286>I286,1,0)+IF(L286>K286,1,0)+IF(N286>M286,1,0)","v":2},null,null,null,null,null,null,null,null,null,"wygrany","przegrany"]
[null,null,"Boisko","Gra",null,null,null,null,null,{"$f":"A286","v":41},null,null,null,null,"rozp.",null,"zak.",null,"S. serw.",null,null,null,{"$f":"IF(AND(COUNTA(I286,J286)=2,AF286=I287),FIXED(I286,0,TRUE)&\":\"&FIXED(J286,0,TRUE),IF(AND(COUNTA(I286,J286)=2,AF286=L287),FIXED(J286,0,TRUE)&\":\"&FIXED(I286,0,TRUE),\"\"))","v":"16:14"},{"$f":"IF(AND(COUNTA(I286,J286)=2,AF286=I287),FIXED(J286,0,TRUE)&\":\"&FIXED(I286,0,TRUE),IF(AND(COUNTA(I286,J286)=2,AF286=L287),FIXED(I286,0,TRUE)&\":\"&FIXED(J286,0,TRUE),\"\"))","v":"14:16"}]
[41,null,null,{"$f":"IF(TYPE(VLOOKUP(A286,'grup-puch'!$A:$M,13,FALSE))=2,VLOOKUP(A286,'grup-puch'!$A:$M,13,FALSE),IF(TYPE(VLOOKUP(A286,puch!$A:$J,10,FALSE))=2,VLOOKUP(A286,puch!$A:$J,10,FALSE),\"\"))","v":"GIMNAZJUM CHŁOPCY"},null,null,null,null,14,16,7,15,null,null,null,null,null,null,{"$f":"Q286-O286","v":"00:00:00"},{"$f":"IF(VLOOKUP(A286,dane!F:G,2,FALSE)=\"\",\"\",VLOOKUP(A286,dane!F:G,2,FALSE))","v":{"$error":"#N/A"}},null,null,{"$f":"IF(AND(COUNTA(K286,L286)=2,AF286=I287),\",\"&FIXED(K286,0,TRUE)&\":\"&FIXED(L286,0,TRUE),IF(AND(COUNTA(K286,L286)=2,AF286=L287),\",\"&FIXED(L286,0,TRUE)&\":\"&FIXED(K286,0,TRUE),\"\"))","v":",15:7"},{"$f":"IF(AND(COUNTA(K286,L286)=2,AF286=I287),\",\"&FIXED(L286,0,TRUE)&\":\"&FIXED(K286,0,TRUE),IF(AND(COUNTA(K286,L286)=2,AF286=L287),\",\"&FIXED(K286,0,TRUE)&\":\"&FIXED(L286,0,TRUE),\"\"))","v":",7:15"},null,{"$f":"A286","v":41},{"$f":"IF(ISBLANK(D286),\"\",D286)","v":"GIMNAZJUM CHŁOPCY"},{"$f":"IF(OR(I287=0,I287=\"\"),\"\",I287)","v":"X37"},{"$f":"IF(OR(I288=0,I288=\"\"),\"\",I288)","v":""},{"$f":"IF(OR(L287=0,L287=\"\"),\"\",L287)","v":"X5"},{"$f":"IF(OR(L288=0,L288=\"\"),\"\",L288)","v":""},{"$f":"IF(COUNTA(C289,L289)=1,IF(ISTEXT(C289),I287,L287),IF(OR(I286=\"\",W284=X284),\"\",IF(W284>X284,I287,L287)))","v":"X5"},{"$f":"IF(COUNTA(C289,L289)=1,IF(ISTEXT(C289),I288,L288),IF(OR(I286=\"\",W284=X284),\"\",IF(W284>X284,I288,L288)))","v":""},{"$f":"IF(OR(AF286=I287,AF286=L287),IF(AF286=I287,W285&W286&W287&IF(ISTEXT(C289),\" \"&C289,\"\"),W285&W286&W287&IF(ISTEXT(L289),\" \"&L289,\"\")),\"\")","v":"16:14,15:7"},{"$f":"IF(OR(AF286=I287,AF286=L287),IF(AF286=I287,X285&X286&X287&IF(ISTEXT(C289),\" \"&C289,\"\"),X285&X286&X287&IF(ISTEXT(L289),\" \"&L289,\"\")),\"\")","v":"14:16,7:15"},{"$f":"IF(ISBLANK(L289),\"\",L289)","v":""},{"$f":"I286","v":14},{"$f":"J286","v":16},{"$f":"K286","v":7},{"$f":"L286","v":15},{"$f":"M286","v":0},{"$f":"N286","v":0},null,{"$f":"T284","v":0},{"$f":"T285","v":0},{"$f":"IF(OR(AA286=dane!$I$3,AA286=dane!$I$4,AA286=dane!$I$5,AA286=dane!$I$6),AR286,\"\")","v":""},{"$f":"IF(OR(AA286=dane!$I$7,AA286=dane!$I$8,AA286=dane!$I$10,AA286=dane!$I$11),AR286,\"\")","v":0},{"$f":"IF(OR(AA286=dane!$I$12,AA286=dane!$I$13,AA286=dane!$I$14,AA286=dane!$I$15),AR286,\"\")","v":""},{"$f":"IF(OR(AA286=dane!$I$16,AA286=dane!$I$17,AA286=dane!$I$18,AA286=dane!$I$19),AR286,\"\")","v":""},{"$f":"IF(OR(AA286=dane!$I$20,AA286=dane!$I$21,AA286=dane!$I$22,AA286=dane!$I$23),AR286,\"\")","v":""},{"$f":"IF(OR(AA286=dane!$I$3,AA286=dane!$I$4,AA286=dane!$I$5,AA286=dane!$I$6),AS286,\"\")","v":""},{"$f":"IF(OR(AA286=dane!$I$7,AA286=dane!$I$8,AA286=dane!$I$10,AA286=dane!$I$11),AS286,\"\")","v":0},{"$f":"IF(OR(AA286=dane!$I$12,AA286=dane!$I$13,AA286=dane!$I$14,AA286=dane!$I$15),AS286,\"\")","v":""},{"$f":"IF(OR(AA286=dane!$I$16,AA286=dane!$I$17,AA286=dane!$I$18,AA286=dane!$I$19),AS286,\"\")","v":""},{"$f":"IF(OR(AA286=dane!$I$20,AA286=dane!$I$21,AA286=dane!$I$22,AA286=dane!$I$23),AS286,\"\")","v":""},{"$f":"IF($T$1=\"\",\"\",IF(C286=\"\",\"\",IF(Q286=\"\",C287,\"\")))","v":""},{"$f":"IF(LEN(L288)>0,$V$3,$V$2)+Q286+$T$1+C284-1","v":"2014-11-13T00:25:00"},{"$f":"IF(BE286>NOW(),C287,\"\")","v":""},{"$f":"IF(C286<>\"\",\"\",VLOOKUP(C287,BD:BD,1,FALSE))","v":{"$error":"#N/A"}},{"$f":"IF(Q286<>\"\",\"\",VLOOKUP(C287,BF:BF,1,FALSE))","v":{"$error":"#N/A"}},{"$f":"IF(BF286<>\"\",BE286,\"\")","v":""},{"$f":"IF(Q286=\"\",C286,\"\")","v":0},null,null,null,null,null,null,null,null,null,null,null,null,{"$f":"IF((LEN(C286)+LEN(C290)+LEN(L290))=0,I287,\"\")","v":""},{"$f":"IF(LEN(BW286)>0,A286,\"\")","v":""}]
[{"$f":"IF(TYPE(VLOOKUP(C287,BF:BI,4,FALSE))=1,VLOOKUP(C287,BF:BI,4,FALSE),\"\")","v":""},{"$f":"IF(TYPE(VLOOKUP(I287,BW:BX,2,FALSE))=16,\"\",VLOOKUP(I287,BW:BX,2,FALSE))","v":""},{"$f":"IF(I287=\"\",\"\",VLOOKUP(I287,zawodnicy!$A:$D,2,FALSE)&\" \"&VLOOKUP(I287,zawodnicy!$A:$D,3,FALSE)&\" (\"&VLOOKUP(I287,zawodnicy!$A:$D,4,FALSE)&\")\")","v":"Kuba  Paciorek (Ząbki)"},null,null,null,null,null,{"$f":"IF(TYPE(VLOOKUP(A286,'grup-puch'!$A:$E,2,FALSE))=2,VLOOKUP(A286,'grup-puch'!$A:$E,2,FALSE),IF(TYPE(VLOOKUP(A286,puch!$A:$E,2,FALSE))=2,VLOOKUP(A286,puch!$A:$E,2,FALSE),\"\"))","v":"X37"},null,null,{"$f":"IF(TYPE(VLOOKUP(A286,'grup-puch'!$A:$E,4,FALSE))=2,VLOOKUP(A286,'grup-puch'!$A:$E,4,FALSE),IF(TYPE(VLOOKUP(A286,puch!$A:$E,4,FALSE))=2,VLOOKUP(A286,puch!$A:$E,4,FALSE),\"\"))","v":"X5"},null,null,{"$f":"IF(L287=\"\",\"\",VLOOKUP(L287,zawodnicy!$A:$D,2,FALSE)&\" \"&VLOOKUP(L287,zawodnicy!$A:$D,3,FALSE)&\" (\"&VLOOKUP(L287,zawodnicy!$A:$D,4,FALSE)&\")\")","v":"Jakub  Dworzak (Zielonka)"},null,null,null,null,null,{"$f":"IF(TYPE(VLOOKUP(L287,BW:BX,2,FALSE))=16,\"\",VLOOKUP(L287,BW:BX,2,FALSE))","v":""},{"$f":"IF(TYPE(VLOOKUP(O287,BF:BI,4,FALSE))=1,VLOOKUP(O287,BF:BI,4,FALSE),\"\")","v":""},{"$f":"IF(AND(COUNTA(M286,N286)=2,AF286=I287),\",\"&FIXED(M286,0,TRUE)&\":\"&FIXED(N286,0,TRUE),IF(AND(COUNTA(M286,N286)=2,AF286=L287),\",\"&FIXED(N286,0,TRUE)&\":\"&FIXED(M286,0,TRUE),\"\"))","v":""},{"$f":"IF(AND(COUNTA(M286,N286)=2,AF286=I287),\",\"&FIXED(N286,0,TRUE)&\":\"&FIXED(M286,0,TRUE),IF(AND(COUNTA(M286,N286)=2,AF286=L287),\",\"&FIXED(M286,0,TRUE)&\":\"&FIXED(N286,0,TRUE),\"\"))","v":""},null,null,null,null,null,null,null,null,null,null,null,null,null,null,null,null,null,null,null,null,null,null,null,null,null,null,null,null,null,null,null,{"$f":"IF($T$1=\"\",\"\",IF(C286=\"\",\"\",IF(Q286=\"\",C288,\"\")))","v":""},null,{"$f":"IF(BE286>NOW(),C288,\"\")","v":""},{"$f":"IF(C286<>\"\",\"\",VLOOKUP(C288,BD:BD,1,FALSE))","v":""},{"$f":"IF(Q286<>\"\",\"\",VLOOKUP(C288,BF:BF,1,FALSE))","v":""},{"$f":"IF(BF287<>\"\",BE286,\"\")","v":""},null,null,null,null,null,null,null,null,null,null,null,{"$f":"IF(VLOOKUP(I287,zawodnicy!A:E,5,FALSE)=0,\"\",C287)","v":""},{"$f":"IF(VLOOKUP(L287,zawodnicy!A:E,5,FALSE)=0,\"\",O287)","v":""},{"$f":"IF((LEN(C286)+LEN(C290)+LEN(L290))=0,I288,\"\")","v":""},{"$f":"IF(LEN(BW287)>0,A286,\"\")","v":""}]
["","",{"$f":"IF(OR(I288=0,I288=\"\"),\"\",VLOOKUP(I288,zawodnicy!$A:$D,2,FALSE)&\" \"&VLOOKUP(I288,zawodnicy!$A:$D,3,FALSE)&\" (\"&VLOOKUP(I288,zawodnicy!$A:$D,4,FALSE)&\")\")","v":""},null,null,null,null,null,{"$f":"IF(TYPE(VLOOKUP(A286,'grup-puch'!$A:$E,3,FALSE))=2,VLOOKUP(A286,'grup-puch'!$A:$E,3,FALSE),IF(TYPE(VLOOKUP(A286,puch!$A:$E,3,FALSE))=2,VLOOKUP(A286,puch!$A:$E,3,FALSE),\"\"))","v":""},null,null,{"$f":"IF(TYPE(VLOOKUP(A286,'grup-puch'!$A:$E,5,FALSE))=2,VLOOKUP(A286,'grup-puch'!$A:$E,5,FALSE),IF(TYPE(VLOOKUP(A286,puch!$A:$E,5,FALSE))=2,VLOOKUP(A286,puch!$A:$E,5,FALSE),\"\"))","v":""},null,null,{"$f":"IF(OR(L288=\"\",L288=0),\"\",VLOOKUP(L288,zawodnicy!$A:$D,2,FALSE)&\" \"&VLOOKUP(L288,zawodnicy!$A:$D,3,FALSE)&\" (\"&VLOOKUP(L288,zawodnicy!$A:$D,4,FALSE)&\")\")","v":""},null,null,null,null,null,"","",null,null,null,null,null,null,null,null,null,null,null,null,null,null,null,null,null,null,null,null,null,null,null,null,null,null,null,null,null,null,null,null,null,{"$f":"IF($T$1=\"\",\"\",IF(C286=\"\",\"\",IF(Q286=\"\",O287,\"\")))","v":""},null,{"$f":"IF(BE286>NOW(),O287,\"\")","v":""},{"$f":"IF(C286<>\"\",\"\",VLOOKUP(O287,BD:BD,1,FALSE))","v":{"$error":"#N/A"}},{"$f":"IF(Q286<>\"\",\"\",VLOOKUP(O287,BF:BF,1,FALSE))","v":{"$error":"#N/A"}},{"$f":"IF(BF288<>\"\",BE286,\"\")","v":""},null,null,null,null,null,null,null,null,null,null,null,{"$f":"IF(VLOOKUP(I288,zawodnicy!A:E,5,FALSE)=0,\"\",C288)","v":{"$error":"#N/A"}},{"$f":"IF(VLOOKUP(L288,zawodnicy!A:E,5,FALSE)=0,\"\",O288)","v":{"$error":"#N/A"}},{"$f":"IF((LEN(C286)+LEN(C290)+LEN(L290))=0,L287,\"\")","v":""},{"$f":"IF(LEN(BW288)>0,A286,\"\")","v":""}]
[null,null,null,null,null,null,null,null,null,null,null,null,null,null,null,null,null,null,null,null,null,null,null,null,null,null,null,null,null,null,null,null,null,null,null,null,null,null,null,null,null,null,null,null,null,null,null,null,null,null,null,null,null,null,null,{"$f":"IF($T$1=\"\",\"\",IF(C286=\"\",\"\",IF(Q286=\"\",O288,\"\")))","v":""},null,{"$f":"IF(BE286>NOW(),O288,\"\")","v":""},{"$f":"IF(C286<>\"\",\"\",VLOOKUP(O288,BD:BD,1,FALSE))","v":""},{"$f":"IF(Q286<>\"\",\"\",VLOOKUP(O288,BF:BF,1,FALSE))","v":""},{"$f":"IF(BF289<>\"\",BE286,\"\")","v":""},null,null,null,null,null,null,null,null,null,null,null,null,null,{"$f":"IF((LEN(C286)+LEN(C290)+LEN(L290))=0,L288,\"\")","v":""},{"$f":"IF(LEN(BW289)>0,A286,\"\")","v":""}]
[null,null,{"$f":"IF(I287=\"\",\"\",IF(I287=AF286,\"zwycięzca(cy):\"&\" \"&AH286,\"\"))","v":""},null,null,null,null,null,null,null,null,{"$f":"IF(L287=\"\",\"\",IF(L287=AF286,\"zwycięzca(cy):\"&\" \"&AH286,\"\"))","v":"zwycięzca(cy): 16:14,15:7"}]
[null,null,42,"dzień turnieju.",null,null,null,null,null,"Nr meczu",null,null,null,null,"Godz.",null,null,null,"S. prow.",null,null,null,{"$f":"IF(I293>J293,1,0)+IF(K293>L293,1,0)+IF(M293>N293,1,0)","v":0},{"$f":"IF(J293>I293,1,0)+IF(L293>K293,1,0)+IF(N293>M293,1,0)","v":2},null,null,null,null,null,null,null,null,null,"wygrany","przegrany"]
[null,null,"Boisko","Gra",null,null,null,null,null,{"$f":"A293","v":42},null,null,null,null,"rozp.",null,"zak.",null,"S. serw.",null,null,null,{"$f":"IF(AND(COUNTA(I293,J293)=2,AF293=I294),FIXED(I293,0,TRUE)&\":\"&FIXED(J293,0,TRUE),IF(AND(COUNTA(I293,J293)=2,AF293=L294),FIXED(J293,0,TRUE)&\":\"&FIXED(I293,0,TRUE),\"\"))","v":"15:13"},{"$f":"IF(AND(COUNTA(I293,J293)=2,AF293=I294),FIXED(J293,0,TRUE)&\":\"&FIXED(I293,0,TRUE),IF(AND(COUNTA(I293,J293)=2,AF293=L294),FIXED(I293,0,TRUE)&\":\"&FIXED(J293,0,TRUE),\"\"))","v":"13:15"}]
[42,null,null,{"$f":"IF(TYPE(VLOOKUP(A293,'grup-puch'!$A:$M,13,FALSE))=2,VLOOKUP(A293,'grup-puch'!$A:$M,13,FALSE),IF(TYPE(VLOOKUP(A293,puch!$A:$J,10,FALSE))=2,VLOOKUP(A293,puch!$A:$J,10,FALSE),\"\"))","v":"KLASY 4-6 CHŁOPCY"},null,null,null,null,13,15,12,15,null,null,null,null,null,null,{"$f":"Q293-O293","v":"00:00:00"},{"$f":"IF(VLOOKUP(A293,dane!F:G,2,FALSE)=\"\",\"\",VLOOKUP(A293,dane!F:G,2,FALSE))","v":{"$error":"#N/A"}},null,null,{"$f":"IF(AND(COUNTA(K293,L293)=2,AF293=I294),\",\"&FIXED(K293,0,TRUE)&\":\"&FIXED(L293,0,TRUE),IF(AND(COUNTA(K293,L293)=2,AF293=L294),\",\"&FIXED(L293,0,TRUE)&\":\"&FIXED(K293,0,TRUE),\"\"))","v":",15:12"},{"$f":"IF(AND(COUNTA(K293,L293)=2,AF293=I294),\",\"&FIXED(L293,0,TRUE)&\":\"&FIXED(K293,0,TRUE),IF(AND(COUNTA(K293,L293)=2,AF293=L294),\",\"&FIXED(K293,0,TRUE)&\":\"&FIXED(L293,0,TRUE),\"\"))","v":",12:15"},null,{"$f":"A293","v":42},{"$f":"IF(ISBLANK(D293),\"\",D293)","v":"KLASY 4-6 CHŁOPCY"},{"$f":"IF(OR(I294=0,I294=\"\"),\"\",I294)","v":"X20"},{"$f":"IF(OR(I295=0,I295=\"\"),\"\",I295)","v":""},{"$f":"IF(OR(L294=0,L294=\"\"),\"\",L294)","v":"X41"},{"$f":"IF(OR(L295=0,L295=\"\"),\"\",L295)","v":""},{"$f":"IF(COUNTA(C296,L296)=1,IF(ISTEXT(C296),I294,L294),IF(OR(I293=\"\",W291=X291),\"\",IF(W291>X291,I294,L294)))","v":"X41"},{"$f":"IF(COUNTA(C296,L296)=1,IF(ISTEXT(C296),I295,L295),IF(OR(I293=\"\",W291=X291),\"\",IF(W291>X291,I295,L295)))","v":""},{"$f":"IF(OR(AF293=I294,AF293=L294),IF(AF293=I294,W292&W293&W294&IF(ISTEXT(C296),\" \"&C296,\"\"),W292&W293&W294&IF(ISTEXT(L296),\" \"&L296,\"\")),\"\")","v":"15:13,15:12"},{"$f":"IF(OR(AF293=I294,AF293=L294),IF(AF293=I294,X292&X293&X294&IF(ISTEXT(C296),\" \"&C296,\"\"),X292&X293&X294&IF(ISTEXT(L296),\" \"&L296,\"\")),\"\")","v":"13:15,12:15"},{"$f":"IF(ISBLANK(L296),\"\",L296)","v":""},{"$f":"I293","v":13},{"$f":"J293","v":15},{"$f":"K293","v":12},{"$f":"L293","v":15},{"$f":"M293","v":0},{"$f":"N293","v":0},null,{"$f":"T291","v":0},{"$f":"T292","v":0},{"$f":"IF(OR(AA293=dane!$I$3,AA293=dane!$I$4,AA293=dane!$I$5,AA293=dane!$I$6),AR293,\"\")","v":0},{"$f":"IF(OR(AA293=dane!$I$7,AA293=dane!$I$8,AA293=dane!$I$10,AA293=dane!$I$11),AR293,\"\")","v":""},{"$f":"IF(OR(AA293=dane!$I$12,AA293=dane!$I$13,AA293=dane!$I$14,AA293=dane!$I$15),AR293,\"\")","v":""},{"$f":"IF(OR(AA293=dane!$I$16,AA293=dane!$I$17,AA293=dane!$I$18,AA293=dane!$I$19),AR293,\"\")","v":""},{"$f":"IF(OR(AA293=dane!$I$20,AA293=dane!$I$21,AA293=dane!$I$22,AA293=dane!$I$23),AR293,\"\")","v":""},{"$f":"IF(OR(AA293=dane!$I$3,AA293=dane!$I$4,AA293=dane!$I$5,AA293=dane!$I$6),AS293,\"\")","v":0},{"$f":"IF(OR(AA293=dane!$I$7,AA293=dane!$I$8,AA293=dane!$I$10,AA293=dane!$I$11),AS293,\"\")","v":""},{"$f":"IF(OR(AA293=dane!$I$12,AA293=dane!$I$13,AA293=dane!$I$14,AA293=dane!$I$15),AS293,\"\")","v":""},{"$f":"IF(OR(AA293=dane!$I$16,AA293=dane!$I$17,AA293=dane!$I$18,AA293=dane!$I$19),AS293,\"\")","v":""},{"$f":"IF(OR(AA293=dane!$I$20,AA293=dane!$I$21,AA293=dane!$I$22,AA293=dane!$I$23),AS293,\"\")","v":""},{"$f":"IF($T$1=\"\",\"\",IF(C293=\"\",\"\",IF(Q293=\"\",C294,\"\")))","v":""},{"$f":"IF(LEN(L295)>0,$V$3,$V$2)+Q293+$T$1+C291-1","v":"2014-11-14T00:25:00"},{"$f":"IF(BE293>NOW(),C294,\"\")","v":""},{"$f":"IF(C293<>\"\",\"\",VLOOKUP(C294,BD:BD,1,FALSE))","v":{"$error":"#N/A"}},{"$f":"IF(Q293<>\"\",\"\",VLOOKUP(C294,BF:BF,1,FALSE))","v":"Błażej  Krawczyk (Ząbki)"},{"$f":"IF(BF293<>\"\",BE293,\"\")","v":""},{"$f":"IF(Q293=\"\",C293,\"\")","v":0},null,null,null,null,null,null,null,null,null,null,null,null,{"$f":"IF((LEN(C293)+LEN(C297)+LEN(L297))=0,I294,\"\")","v":""},{"$f":"IF(LEN(BW293)>0,A293,\"\")","v":""}]
[{"$f":"IF(TYPE(VLOOKUP(C294,BF:BI,4,FALSE))=1,VLOOKUP(C294,BF:BI,4,FALSE),\"\")","v":41964.010416666664},{"$f":"IF(TYPE(VLOOKUP(I294,BW:BX,2,FALSE))=16,\"\",VLOOKUP(I294,BW:BX,2,FALSE))","v":""},{"$f":"IF(I294=\"\",\"\",VLOOKUP(I294,zawodnicy!$A:$D,2,FALSE)&\" \"&VLOOKUP(I294,zawodnicy!$A:$D,3,FALSE)&\" (\"&VLOOKUP(I294,zawodnicy!$A:$D,4,FALSE)&\")\")","v":"Błażej  Krawczyk (Ząbki)"},null,null,null,null,null,{"$f":"IF(TYPE(VLOOKUP(A293,'grup-puch'!$A:$E,2,FALSE))=2,VLOOKUP(A293,'grup-puch'!$A:$E,2,FALSE),IF(TYPE(VLOOKUP(A293,puch!$A:$E,2,FALSE))=2,VLOOKUP(A293,puch!$A:$E,2,FALSE),\"\"))","v":"X20"},null,null,{"$f":"IF(TYPE(VLOOKUP(A293,'grup-puch'!$A:$E,4,FALSE))=2,VLOOKUP(A293,'grup-puch'!$A:$E,4,FALSE),IF(TYPE(VLOOKUP(A293,puch!$A:$E,4,FALSE))=2,VLOOKUP(A293,puch!$A:$E,4,FALSE),\"\"))","v":"X41"},null,null,{"$f":"IF(L294=\"\",\"\",VLOOKUP(L294,zawodnicy!$A:$D,2,FALSE)&\" \"&VLOOKUP(L294,zawodnicy!$A:$D,3,FALSE)&\" (\"&VLOOKUP(L294,zawodnicy!$A:$D,4,FALSE)&\")\")","v":"Ignacy Repiński (Marki)"},null,null,null,null,null,{"$f":"IF(TYPE(VLOOKUP(L294,BW:BX,2,FALSE))=16,\"\",VLOOKUP(L294,BW:BX,2,FALSE))","v":""},{"$f":"IF(TYPE(VLOOKUP(O294,BF:BI,4,FALSE))=1,VLOOKUP(O294,BF:BI,4,FALSE),\"\")","v":41964.010416666664},{"$f":"IF(AND(COUNTA(M293,N293)=2,AF293=I294),\",\"&FIXED(M293,0,TRUE)&\":\"&FIXED(N293,0,TRUE),IF(AND(COUNTA(M293,N293)=2,AF293=L294),\",\"&FIXED(N293,0,TRUE)&\":\"&FIXED(M293,0,TRUE),\"\"))","v":""},{"$f":"IF(AND(COUNTA(M293,N293)=2,AF293=I294),\",\"&FIXED(N293,0,TRUE)&\":\"&FIXED(M293,0,TRUE),IF(AND(COUNTA(M293,N293)=2,AF293=L294),\",\"&FIXED(M293,0,TRUE)&\":\"&FIXED(N293,0,TRUE),\"\"))","v":""},null,null,null,null,null,null,null,null,null,null,null,null,null,null,null,null,null,null,null,null,null,null,null,null,null,null,null,null,null,null,null,{"$f":"IF($T$1=\"\",\"\",IF(C293=\"\",\"\",IF(Q293=\"\",C295,\"\")))","v":""},null,{"$f":"IF(BE293>NOW(),C295,\"\")","v":""},{"$f":"IF(C293<>\"\",\"\",VLOOKUP(C295,BD:BD,1,FALSE))","v":""},{"$f":"IF(Q293<>\"\",\"\",VLOOKUP(C295,BF:BF,1,FALSE))","v":""},{"$f":"IF(BF294<>\"\",BE293,\"\")","v":""},null,null,null,null,null,null,null,null,null,null,null,{"$f":"IF(VLOOKUP(I294,zawodnicy!A:E,5,FALSE)=0,\"\",C294)","v":""},{"$f":"IF(VLOOKUP(L294,zawodnicy!A:E,5,FALSE)=0,\"\",O294)","v":""},{"$f":"IF((LEN(C293)+LEN(C297)+LEN(L297))=0,I295,\"\")","v":""},{"$f":"IF(LEN(BW294)>0,A293,\"\")","v":""}]
["","",{"$f":"IF(OR(I295=0,I295=\"\"),\"\",VLOOKUP(I295,zawodnicy!$A:$D,2,FALSE)&\" \"&VLOOKUP(I295,zawodnicy!$A:$D,3,FALSE)&\" (\"&VLOOKUP(I295,zawodnicy!$A:$D,4,FALSE)&\")\")","v":""},null,null,null,null,null,{"$f":"IF(TYPE(VLOOKUP(A293,'grup-puch'!$A:$E,3,FALSE))=2,VLOOKUP(A293,'grup-puch'!$A:$E,3,FALSE),IF(TYPE(VLOOKUP(A293,puch!$A:$E,3,FALSE))=2,VLOOKUP(A293,puch!$A:$E,3,FALSE),\"\"))","v":""},null,null,{"$f":"IF(TYPE(VLOOKUP(A293,'grup-puch'!$A:$E,5,FALSE))=2,VLOOKUP(A293,'grup-puch'!$A:$E,5,FALSE),IF(TYPE(VLOOKUP(A293,puch!$A:$E,5,FALSE))=2,VLOOKUP(A293,puch!$A:$E,5,FALSE),\"\"))","v":""},null,null,{"$f":"IF(OR(L295=\"\",L295=0),\"\",VLOOKUP(L295,zawodnicy!$A:$D,2,FALSE)&\" \"&VLOOKUP(L295,zawodnicy!$A:$D,3,FALSE)&\" (\"&VLOOKUP(L295,zawodnicy!$A:$D,4,FALSE)&\")\")","v":""},null,null,null,null,null,"","",null,null,null,null,null,null,null,null,null,null,null,null,null,null,null,null,null,null,null,null,null,null,null,null,null,null,null,null,null,null,null,null,null,{"$f":"IF($T$1=\"\",\"\",IF(C293=\"\",\"\",IF(Q293=\"\",O294,\"\")))","v":""},null,{"$f":"IF(BE293>NOW(),O294,\"\")","v":""},{"$f":"IF(C293<>\"\",\"\",VLOOKUP(O294,BD:BD,1,FALSE))","v":{"$error":"#N/A"}},{"$f":"IF(Q293<>\"\",\"\",VLOOKUP(O294,BF:BF,1,FALSE))","v":"Ignacy Repiński (Marki)"},{"$f":"IF(BF295<>\"\",BE293,\"\")","v":""},null,null,null,null,null,null,null,null,null,null,null,{"$f":"IF(VLOOKUP(I295,zawodnicy!A:E,5,FALSE)=0,\"\",C295)","v":{"$error":"#N/A"}},{"$f":"IF(VLOOKUP(L295,zawodnicy!A:E,5,FALSE)=0,\"\",O295)","v":{"$error":"#N/A"}},{"$f":"IF((LEN(C293)+LEN(C297)+LEN(L297))=0,L294,\"\")","v":""},{"$f":"IF(LEN(BW295)>0,A293,\"\")","v":""}]
[null,null,null,null,null,null,null,null,null,null,null,null,null,null,null,null,null,null,null,null,null,null,null,null,null,null,null,null,null,null,null,null,null,null,null,null,null,null,null,null,null,null,null,null,null,null,null,null,null,null,null,null,null,null,null,{"$f":"IF($T$1=\"\",\"\",IF(C293=\"\",\"\",IF(Q293=\"\",O295,\"\")))","v":""},null,{"$f":"IF(BE293>NOW(),O295,\"\")","v":""},{"$f":"IF(C293<>\"\",\"\",VLOOKUP(O295,BD:BD,1,FALSE))","v":""},{"$f":"IF(Q293<>\"\",\"\",VLOOKUP(O295,BF:BF,1,FALSE))","v":""},{"$f":"IF(BF296<>\"\",BE293,\"\")","v":""},null,null,null,null,null,null,null,null,null,null,null,null,null,{"$f":"IF((LEN(C293)+LEN(C297)+LEN(L297))=0,L295,\"\")","v":""},{"$f":"IF(LEN(BW296)>0,A293,\"\")","v":""}]
[null,null,{"$f":"IF(I294=\"\",\"\",IF(I294=AF293,\"zwycięzca(cy):\"&\" \"&AH293,\"\"))","v":""},null,null,null,null,null,null,null,null,{"$f":"IF(L294=\"\",\"\",IF(L294=AF293,\"zwycięzca(cy):\"&\" \"&AH293,\"\"))","v":"zwycięzca(cy): 15:13,15:12"}]
[null,null,43,"dzień turnieju.",null,null,null,null,null,"Nr meczu",null,null,null,null,"Godz.",null,null,null,"S. prow.",null,null,null,{"$f":"IF(I300>J300,1,0)+IF(K300>L300,1,0)+IF(M300>N300,1,0)","v":2},{"$f":"IF(J300>I300,1,0)+IF(L300>K300,1,0)+IF(N300>M300,1,0)","v":0},null,null,null,null,null,null,null,null,null,"wygrany","przegrany"]
[null,null,"Boisko","Gra",null,null,null,null,null,{"$f":"A300","v":43},null,null,null,null,"rozp.",null,"zak.",null,"S. serw.",null,null,null,{"$f":"IF(AND(COUNTA(I300,J300)=2,AF300=I301),FIXED(I300,0,TRUE)&\":\"&FIXED(J300,0,TRUE),IF(AND(COUNTA(I300,J300)=2,AF300=L301),FIXED(J300,0,TRUE)&\":\"&FIXED(I300,0,TRUE),\"\"))","v":"15:11"},{"$f":"IF(AND(COUNTA(I300,J300)=2,AF300=I301),FIXED(J300,0,TRUE)&\":\"&FIXED(I300,0,TRUE),IF(AND(COUNTA(I300,J300)=2,AF300=L301),FIXED(I300,0,TRUE)&\":\"&FIXED(J300,0,TRUE),\"\"))","v":"11:15"}]
[43,null,null,{"$f":"IF(TYPE(VLOOKUP(A300,'grup-puch'!$A:$M,13,FALSE))=2,VLOOKUP(A300,'grup-puch'!$A:$M,13,FALSE),IF(TYPE(VLOOKUP(A300,puch!$A:$J,10,FALSE))=2,VLOOKUP(A300,puch!$A:$J,10,FALSE),\"\"))","v":"KLASY 4-6 CHŁOPCY"},null,null,null,null,15,11,15,7,null,null,null,null,null,null,{"$f":"Q300-O300","v":"00:00:00"},{"$f":"IF(VLOOKUP(A300,dane!F:G,2,FALSE)=\"\",\"\",VLOOKUP(A300,dane!F:G,2,FALSE))","v":{"$error":"#N/A"}},null,null,{"$f":"IF(AND(COUNTA(K300,L300)=2,AF300=I301),\",\"&FIXED(K300,0,TRUE)&\":\"&FIXED(L300,0,TRUE),IF(AND(COUNTA(K300,L300)=2,AF300=L301),\",\"&FIXED(L300,0,TRUE)&\":\"&FIXED(K300,0,TRUE),\"\"))","v":",15:7"},{"$f":"IF(AND(COUNTA(K300,L300)=2,AF300=I301),\",\"&FIXED(L300,0,TRUE)&\":\"&FIXED(K300,0,TRUE),IF(AND(COUNTA(K300,L300)=2,AF300=L301),\",\"&FIXED(K300,0,TRUE)&\":\"&FIXED(L300,0,TRUE),\"\"))","v":",7:15"},null,{"$f":"A300","v":43},{"$f":"IF(ISBLANK(D300),\"\",D300)","v":"KLASY 4-6 CHŁOPCY"},{"$f":"IF(OR(I301=0,I301=\"\"),\"\",I301)","v":"X68"},{"$f":"IF(OR(I302=0,I302=\"\"),\"\",I302)","v":""},{"$f":"IF(OR(L301=0,L301=\"\"),\"\",L301)","v":"X59"},{"$f":"IF(OR(L302=0,L302=\"\"),\"\",L302)","v":""},{"$f":"IF(COUNTA(C303,L303)=1,IF(ISTEXT(C303),I301,L301),IF(OR(I300=\"\",W298=X298),\"\",IF(W298>X298,I301,L301)))","v":"X68"},{"$f":"IF(COUNTA(C303,L303)=1,IF(ISTEXT(C303),I302,L302),IF(OR(I300=\"\",W298=X298),\"\",IF(W298>X298,I302,L302)))","v":""},{"$f":"IF(OR(AF300=I301,AF300=L301),IF(AF300=I301,W299&W300&W301&IF(ISTEXT(C303),\" \"&C303,\"\"),W299&W300&W301&IF(ISTEXT(L303),\" \"&L303,\"\")),\"\")","v":"15:11,15:7"},{"$f":"IF(OR(AF300=I301,AF300=L301),IF(AF300=I301,X299&X300&X301&IF(ISTEXT(C303),\" \"&C303,\"\"),X299&X300&X301&IF(ISTEXT(L303),\" \"&L303,\"\")),\"\")","v":"11:15,7:15"},{"$f":"IF(ISBLANK(L303),\"\",L303)","v":""},{"$f":"I300","v":15},{"$f":"J300","v":11},{"$f":"K300","v":15},{"$f":"L300","v":7},{"$f":"M300","v":0},{"$f":"N300","v":0},null,{"$f":"T298","v":0},{"$f":"T299","v":0},{"$f":"IF(OR(AA300=dane!$I$3,AA300=dane!$I$4,AA300=dane!$I$5,AA300=dane!$I$6),AR300,\"\")","v":0},{"$f":"IF(OR(AA300=dane!$I$7,AA300=dane!$I$8,AA300=dane!$I$10,AA300=dane!$I$11),AR300,\"\")","v":""},{"$f":"IF(OR(AA300=dane!$I$12,AA300=dane!$I$13,AA300=dane!$I$14,AA300=dane!$I$15),AR300,\"\")","v":""},{"$f":"IF(OR(AA300=dane!$I$16,AA300=dane!$I$17,AA300=dane!$I$18,AA300=dane!$I$19),AR300,\"\")","v":""},{"$f":"IF(OR(AA300=dane!$I$20,AA300=dane!$I$21,AA300=dane!$I$22,AA300=dane!$I$23),AR300,\"\")","v":""},{"$f":"IF(OR(AA300=dane!$I$3,AA300=dane!$I$4,AA300=dane!$I$5,AA300=dane!$I$6),AS300,\"\")","v":0},{"$f":"IF(OR(AA300=dane!$I$7,AA300=dane!$I$8,AA300=dane!$I$10,AA300=dane!$I$11),AS300,\"\")","v":""},{"$f":"IF(OR(AA300=dane!$I$12,AA300=dane!$I$13,AA300=dane!$I$14,AA300=dane!$I$15),AS300,\"\")","v":""},{"$f":"IF(OR(AA300=dane!$I$16,AA300=dane!$I$17,AA300=dane!$I$18,AA300=dane!$I$19),AS300,\"\")","v":""},{"$f":"IF(OR(AA300=dane!$I$20,AA300=dane!$I$21,AA300=dane!$I$22,AA300=dane!$I$23),AS300,\"\")","v":""},{"$f":"IF($T$1=\"\",\"\",IF(C300=\"\",\"\",IF(Q300=\"\",C301,\"\")))","v":""},{"$f":"IF(LEN(L302)>0,$V$3,$V$2)+Q300+$T$1+C298-1","v":"2014-11-15T00:25:00"},{"$f":"IF(BE300>NOW(),C301,\"\")","v":"Kacper Winek (Garwolin)"},{"$f":"IF(C300<>\"\",\"\",VLOOKUP(C301,BD:BD,1,FALSE))","v":{"$error":"#N/A"}},{"$f":"IF(Q300<>\"\",\"\",VLOOKUP(C301,BF:BF,1,FALSE))","v":"Kacper Winek (Garwolin)"},{"$f":"IF(BF300<>\"\",BE300,\"\")","v":41958.017361111109},{"$f":"IF(Q300=\"\",C300,\"\")","v":0},null,null,null,null,null,null,null,null,null,null,null,null,{"$f":"IF((LEN(C300)+LEN(C304)+LEN(L304))=0,I301,\"\")","v":""},{"$f":"IF(LEN(BW300)>0,A300,\"\")","v":""}]
[{"$f":"IF(TYPE(VLOOKUP(C301,BF:BI,4,FALSE))=1,VLOOKUP(C301,BF:BI,4,FALSE),\"\")","v":41958.017361111109},{"$f":"IF(TYPE(VLOOKUP(I301,BW:BX,2,FALSE))=16,\"\",VLOOKUP(I301,BW:BX,2,FALSE))","v":""},{"$f":"IF(I301=\"\",\"\",VLOOKUP(I301,zawodnicy!$A:$D,2,FALSE)&\" \"&VLOOKUP(I301,zawodnicy!$A:$D,3,FALSE)&\" (\"&VLOOKUP(I301,zawodnicy!$A:$D,4,FALSE)&\")\")","v":"Kacper Winek (Garwolin)"},null,null,null,null,null,{"$f":"IF(TYPE(VLOOKUP(A300,'grup-puch'!$A:$E,2,FALSE))=2,VLOOKUP(A300,'grup-puch'!$A:$E,2,FALSE),IF(TYPE(VLOOKUP(A300,puch!$A:$E,2,FALSE))=2,VLOOKUP(A300,puch!$A:$E,2,FALSE),\"\"))","v":"X68"},null,null,{"$f":"IF(TYPE(VLOOKUP(A300,'grup-puch'!$A:$E,4,FALSE))=2,VLOOKUP(A300,'grup-puch'!$A:$E,4,FALSE),IF(TYPE(VLOOKUP(A300,puch!$A:$E,4,FALSE))=2,VLOOKUP(A300,puch!$A:$E,4,FALSE),\"\"))","v":"X59"},null,null,{"$f":"IF(L301=\"\",\"\",VLOOKUP(L301,zawodnicy!$A:$D,2,FALSE)&\" \"&VLOOKUP(L301,zawodnicy!$A:$D,3,FALSE)&\" (\"&VLOOKUP(L301,zawodnicy!$A:$D,4,FALSE)&\")\")","v":"Jakub  Walocha (Ząbki)"},null,null,null,null,null,{"$f":"IF(TYPE(VLOOKUP(L301,BW:BX,2,FALSE))=16,\"\",VLOOKUP(L301,BW:BX,2,FALSE))","v":""},{"$f":"IF(TYPE(VLOOKUP(O301,BF:BI,4,FALSE))=1,VLOOKUP(O301,BF:BI,4,FALSE),\"\")","v":41958.017361111109},{"$f":"IF(AND(COUNTA(M300,N300)=2,AF300=I301),\",\"&FIXED(M300,0,TRUE)&\":\"&FIXED(N300,0,TRUE),IF(AND(COUNTA(M300,N300)=2,AF300=L301),\",\"&FIXED(N300,0,TRUE)&\":\"&FIXED(M300,0,TRUE),\"\"))","v":""},{"$f":"IF(AND(COUNTA(M300,N300)=2,AF300=I301),\",\"&FIXED(N300,0,TRUE)&\":\"&FIXED(M300,0,TRUE),IF(AND(COUNTA(M300,N300)=2,AF300=L301),\",\"&FIXED(M300,0,TRUE)&\":\"&FIXED(N300,0,TRUE),\"\"))","v":""},null,null,null,null,null,null,null,null,null,null,null,null,null,null,null,null,null,null,null,null,null,null,null,null,null,null,null,null,null,null,null,{"$f":"IF($T$1=\"\",\"\",IF(C300=\"\",\"\",IF(Q300=\"\",C302,\"\")))","v":""},null,{"$f":"IF(BE300>NOW(),C302,\"\")","v":""},{"$f":"IF(C300<>\"\",\"\",VLOOKUP(C302,BD:BD,1,FALSE))","v":""},{"$f":"IF(Q300<>\"\",\"\",VLOOKUP(C302,BF:BF,1,FALSE))","v":""},{"$f":"IF(BF301<>\"\",BE300,\"\")","v":""},null,null,null,null,null,null,null,null,null,null,null,{"$f":"IF(VLOOKUP(I301,zawodnicy!A:E,5,FALSE)=0,\"\",C301)","v":""},{"$f":"IF(VLOOKUP(L301,zawodnicy!A:E,5,FALSE)=0,\"\",O301)","v":""},{"$f":"IF((LEN(C300)+LEN(C304)+LEN(L304))=0,I302,\"\")","v":""},{"$f":"IF(LEN(BW301)>0,A300,\"\")","v":""}]
["","",{"$f":"IF(OR(I302=0,I302=\"\"),\"\",VLOOKUP(I302,zawodnicy!$A:$D,2,FALSE)&\" \"&VLOOKUP(I302,zawodnicy!$A:$D,3,FALSE)&\" (\"&VLOOKUP(I302,zawodnicy!$A:$D,4,FALSE)&\")\")","v":""},null,null,null,null,null,{"$f":"IF(TYPE(VLOOKUP(A300,'grup-puch'!$A:$E,3,FALSE))=2,VLOOKUP(A300,'grup-puch'!$A:$E,3,FALSE),IF(TYPE(VLOOKUP(A300,puch!$A:$E,3,FALSE))=2,VLOOKUP(A300,puch!$A:$E,3,FALSE),\"\"))","v":""},null,null,{"$f":"IF(TYPE(VLOOKUP(A300,'grup-puch'!$A:$E,5,FALSE))=2,VLOOKUP(A300,'grup-puch'!$A:$E,5,FALSE),IF(TYPE(VLOOKUP(A300,puch!$A:$E,5,FALSE))=2,VLOOKUP(A300,puch!$A:$E,5,FALSE),\"\"))","v":""},null,null,{"$f":"IF(OR(L302=\"\",L302=0),\"\",VLOOKUP(L302,zawodnicy!$A:$D,2,FALSE)&\" \"&VLOOKUP(L302,zawodnicy!$A:$D,3,FALSE)&\" (\"&VLOOKUP(L302,zawodnicy!$A:$D,4,FALSE)&\")\")","v":""},null,null,null,null,null,"","",null,null,null,null,null,null,null,null,null,null,null,null,null,null,null,null,null,null,null,null,null,null,null,null,null,null,null,null,null,null,null,null,null,{"$f":"IF($T$1=\"\",\"\",IF(C300=\"\",\"\",IF(Q300=\"\",O301,\"\")))","v":""},null,{"$f":"IF(BE300>NOW(),O301,\"\")","v":"Jakub  Walocha (Ząbki)"},{"$f":"IF(C300<>\"\",\"\",VLOOKUP(O301,BD:BD,1,FALSE))","v":{"$error":"#N/A"}},{"$f":"IF(Q300<>\"\",\"\",VLOOKUP(O301,BF:BF,1,FALSE))","v":"Jakub  Walocha (Ząbki)"},{"$f":"IF(BF302<>\"\",BE300,\"\")","v":41958.017361111109},null,null,null,null,null,null,null,null,null,null,null,{"$f":"IF(VLOOKUP(I302,zawodnicy!A:E,5,FALSE)=0,\"\",C302)","v":{"$error":"#N/A"}},{"$f":"IF(VLOOKUP(L302,zawodnicy!A:E,5,FALSE)=0,\"\",O302)","v":{"$error":"#N/A"}},{"$f":"IF((LEN(C300)+LEN(C304)+LEN(L304))=0,L301,\"\")","v":""},{"$f":"IF(LEN(BW302)>0,A300,\"\")","v":""}]
[null,null,null,null,null,null,null,null,null,null,null,null,null,null,null,null,null,null,null,null,null,null,null,null,null,null,null,null,null,null,null,null,null,null,null,null,null,null,null,null,null,null,null,null,null,null,null,null,null,null,null,null,null,null,null,{"$f":"IF($T$1=\"\",\"\",IF(C300=\"\",\"\",IF(Q300=\"\",O302,\"\")))","v":""},null,{"$f":"IF(BE300>NOW(),O302,\"\")","v":""},{"$f":"IF(C300<>\"\",\"\",VLOOKUP(O302,BD:BD,1,FALSE))","v":""},{"$f":"IF(Q300<>\"\",\"\",VLOOKUP(O302,BF:BF,1,FALSE))","v":""},{"$f":"IF(BF303<>\"\",BE300,\"\")","v":""},null,null,null,null,null,null,null,null,null,null,null,null,null,{"$f":"IF((LEN(C300)+LEN(C304)+LEN(L304))=0,L302,\"\")","v":""},{"$f":"IF(LEN(BW303)>0,A300,\"\")","v":""}]
[null,null,{"$f":"IF(I301=\"\",\"\",IF(I301=AF300,\"zwycięzca(cy):\"&\" \"&AH300,\"\"))","v":"zwycięzca(cy): 15:11,15:7"},null,null,null,null,null,null,null,null,{"$f":"IF(L301=\"\",\"\",IF(L301=AF300,\"zwycięzca(cy):\"&\" \"&AH300,\"\"))","v":""}]
[null,null,44,"dzień turnieju.",null,null,null,null,null,"Nr meczu",null,null,null,null,"Godz.",null,null,null,"S. prow.",null,null,null,{"$f":"IF(I307>J307,1,0)+IF(K307>L307,1,0)+IF(M307>N307,1,0)","v":1},{"$f":"IF(J307>I307,1,0)+IF(L307>K307,1,0)+IF(N307>M307,1,0)","v":2},null,null,null,null,null,null,null,null,null,"wygrany","przegrany"]
[null,null,"Boisko","Gra",null,null,null,null,null,{"$f":"A307","v":44},null,null,null,null,"rozp.",null,"zak.",null,"S. serw.",null,null,null,{"$f":"IF(AND(COUNTA(I307,J307)=2,AF307=I308),FIXED(I307,0,TRUE)&\":\"&FIXED(J307,0,TRUE),IF(AND(COUNTA(I307,J307)=2,AF307=L308),FIXED(J307,0,TRUE)&\":\"&FIXED(I307,0,TRUE),\"\"))","v":"15:7"},{"$f":"IF(AND(COUNTA(I307,J307)=2,AF307=I308),FIXED(J307,0,TRUE)&\":\"&FIXED(I307,0,TRUE),IF(AND(COUNTA(I307,J307)=2,AF307=L308),FIXED(I307,0,TRUE)&\":\"&FIXED(J307,0,TRUE),\"\"))","v":"7:15"}]
[44,null,null,{"$f":"IF(TYPE(VLOOKUP(A307,'grup-puch'!$A:$M,13,FALSE))=2,VLOOKUP(A307,'grup-puch'!$A:$M,13,FALSE),IF(TYPE(VLOOKUP(A307,puch!$A:$J,10,FALSE))=2,VLOOKUP(A307,puch!$A:$J,10,FALSE),\"\"))","v":"GIMNAZJUM CHŁOPCY"},null,null,null,null,7,15,17,15,9,15,null,null,null,null,{"$f":"Q307-O307","v":"00:00:00"},{"$f":"IF(VLOOKUP(A307,dane!F:G,2,FALSE)=\"\",\"\",VLOOKUP(A307,dane!F:G,2,FALSE))","v":{"$error":"#N/A"}},null,null,{"$f":"IF(AND(COUNTA(K307,L307)=2,AF307=I308),\",\"&FIXED(K307,0,TRUE)&\":\"&FIXED(L307,0,TRUE),IF(AND(COUNTA(K307,L307)=2,AF307=L308),\",\"&FIXED(L307,0,TRUE)&\":\"&FIXED(K307,0,TRUE),\"\"))","v":",15:17"},{"$f":"IF(AND(COUNTA(K307,L307)=2,AF307=I308),\",\"&FIXED(L307,0,TRUE)&\":\"&FIXED(K307,0,TRUE),IF(AND(COUNTA(K307,L307)=2,AF307=L308),\",\"&FIXED(K307,0,TRUE)&\":\"&FIXED(L307,0,TRUE),\"\"))","v":",17:15"},null,{"$f":"A307","v":44},{"$f":"IF(ISBLANK(D307),\"\",D307)","v":"GIMNAZJUM CHŁOPCY"},{"$f":"IF(OR(I308=0,I308=\"\"),\"\",I308)","v":"X31"},{"$f":"IF(OR(I309=0,I309=\"\"),\"\",I309)","v":""},{"$f":"IF(OR(L308=0,L308=\"\"),\"\",L308)","v":"X71"},{"$f":"IF(OR(L309=0,L309=\"\"),\"\",L309)","v":""},{"$f":"IF(COUNTA(C310,L310)=1,IF(ISTEXT(C310),I308,L308),IF(OR(I307=\"\",W305=X305),\"\",IF(W305>X305,I308,L308)))","v":"X71"},{"$f":"IF(COUNTA(C310,L310)=1,IF(ISTEXT(C310),I309,L309),IF(OR(I307=\"\",W305=X305),\"\",IF(W305>X305,I309,L309)))","v":""},{"$f":"IF(OR(AF307=I308,AF307=L308),IF(AF307=I308,W306&W307&W308&IF(ISTEXT(C310),\" \"&C310,\"\"),W306&W307&W308&IF(ISTEXT(L310),\" \"&L310,\"\")),\"\")","v":"15:7,15:17,15:9"},{"$f":"IF(OR(AF307=I308,AF307=L308),IF(AF307=I308,X306&X307&X308&IF(ISTEXT(C310),\" \"&C310,\"\"),X306&X307&X308&IF(ISTEXT(L310),\" \"&L310,\"\")),\"\")","v":"7:15,17:15,9:15"},{"$f":"IF(ISBLANK(L310),\"\",L310)","v":""},{"$f":"I307","v":7},{"$f":"J307","v":15},{"$f":"K307","v":17},{"$f":"L307","v":15},{"$f":"M307","v":9},{"$f":"N307","v":15},null,{"$f":"T305","v":0},{"$f":"T306","v":0},{"$f":"IF(OR(AA307=dane!$I$3,AA307=dane!$I$4,AA307=dane!$I$5,AA307=dane!$I$6),AR307,\"\")","v":""},{"$f":"IF(OR(AA307=dane!$I$7,AA307=dane!$I$8,AA307=dane!$I$10,AA307=dane!$I$11),AR307,\"\")","v":0},{"$f":"IF(OR(AA307=dane!$I$12,AA307=dane!$I$13,AA307=dane!$I$14,AA307=dane!$I$15),AR307,\"\")","v":""},{"$f":"IF(OR(AA307=dane!$I$16,AA307=dane!$I$17,AA307=dane!$I$18,AA307=dane!$I$19),AR307,\"\")","v":""},{"$f":"IF(OR(AA307=dane!$I$20,AA307=dane!$I$21,AA307=dane!$I$22,AA307=dane!$I$23),AR307,\"\")","v":""},{"$f":"IF(OR(AA307=dane!$I$3,AA307=dane!$I$4,AA307=dane!$I$5,AA307=dane!$I$6),AS307,\"\")","v":""},{"$f":"IF(OR(AA307=dane!$I$7,AA307=dane!$I$8,AA307=dane!$I$10,AA307=dane!$I$11),AS307,\"\")","v":0},{"$f":"IF(OR(AA307=dane!$I$12,AA307=dane!$I$13,AA307=dane!$I$14,AA307=dane!$I$15),AS307,\"\")","v":""},{"$f":"IF(OR(AA307=dane!$I$16,AA307=dane!$I$17,AA307=dane!$I$18,AA307=dane!$I$19),AS307,\"\")","v":""},{"$f":"IF(OR(AA307=dane!$I$20,AA307=dane!$I$21,AA307=dane!$I$22,AA307=dane!$I$23),AS307,\"\")","v":""},{"$f":"IF($T$1=\"\",\"\",IF(C307=\"\",\"\",IF(Q307=\"\",C308,\"\")))","v":""},{"$f":"IF(LEN(L309)>0,$V$3,$V$2)+Q307+$T$1+C305-1","v":"2014-11-16T00:25:00"},{"$f":"IF(BE307>NOW(),C308,\"\")","v":"Damian  Mil (Ząbki)"},{"$f":"IF(C307<>\"\",\"\",VLOOKUP(C308,BD:BD,1,FALSE))","v":{"$error":"#N/A"}},{"$f":"IF(Q307<>\"\",\"\",VLOOKUP(C308,BF:BF,1,FALSE))","v":"Damian  Mil (Ząbki)"},{"$f":"IF(BF307<>\"\",BE307,\"\")","v":41959.017361111109},{"$f":"IF(Q307=\"\",C307,\"\")","v":0},null,null,null,null,null,null,null,null,null,null,null,null,{"$f":"IF((LEN(C307)+LEN(C311)+LEN(L311))=0,I308,\"\")","v":""},{"$f":"IF(LEN(BW307)>0,A307,\"\")","v":""}]
[{"$f":"IF(TYPE(VLOOKUP(C308,BF:BI,4,FALSE))=1,VLOOKUP(C308,BF:BI,4,FALSE),\"\")","v":41959.017361111109},{"$f":"IF(TYPE(VLOOKUP(I308,BW:BX,2,FALSE))=16,\"\",VLOOKUP(I308,BW:BX,2,FALSE))","v":""},{"$f":"IF(I308=\"\",\"\",VLOOKUP(I308,zawodnicy!$A:$D,2,FALSE)&\" \"&VLOOKUP(I308,zawodnicy!$A:$D,3,FALSE)&\" (\"&VLOOKUP(I308,zawodnicy!$A:$D,4,FALSE)&\")\")","v":"Damian  Mil (Ząbki)"},null,null,null,null,null,{"$f":"IF(TYPE(VLOOKUP(A307,'grup-puch'!$A:$E,2,FALSE))=2,VLOOKUP(A307,'grup-puch'!$A:$E,2,FALSE),IF(TYPE(VLOOKUP(A307,puch!$A:$E,2,FALSE))=2,VLOOKUP(A307,puch!$A:$E,2,FALSE),\"\"))","v":"X31"},null,null,{"$f":"IF(TYPE(VLOOKUP(A307,'grup-puch'!$A:$E,4,FALSE))=2,VLOOKUP(A307,'grup-puch'!$A:$E,4,FALSE),IF(TYPE(VLOOKUP(A307,puch!$A:$E,4,FALSE))=2,VLOOKUP(A307,puch!$A:$E,4,FALSE),\"\"))","v":"X71"},null,null,{"$f":"IF(L308=\"\",\"\",VLOOKUP(L308,zawodnicy!$A:$D,2,FALSE)&\" \"&VLOOKUP(L308,zawodnicy!$A:$D,3,FALSE)&\" (\"&VLOOKUP(L308,zawodnicy!$A:$D,4,FALSE)&\")\")","v":"Grzegorz  Cybulski (Garwolin)"},null,null,null,null,null,{"$f":"IF(TYPE(VLOOKUP(L308,BW:BX,2,FALSE))=16,\"\",VLOOKUP(L308,BW:BX,2,FALSE))","v":""},{"$f":"IF(TYPE(VLOOKUP(O308,BF:BI,4,FALSE))=1,VLOOKUP(O308,BF:BI,4,FALSE),\"\")","v":41959.017361111109},{"$f":"IF(AND(COUNTA(M307,N307)=2,AF307=I308),\",\"&FIXED(M307,0,TRUE)&\":\"&FIXED(N307,0,TRUE),IF(AND(COUNTA(M307,N307)=2,AF307=L308),\",\"&FIXED(N307,0,TRUE)&\":\"&FIXED(M307,0,TRUE),\"\"))","v":",15:9"},{"$f":"IF(AND(COUNTA(M307,N307)=2,AF307=I308),\",\"&FIXED(N307,0,TRUE)&\":\"&FIXED(M307,0,TRUE),IF(AND(COUNTA(M307,N307)=2,AF307=L308),\",\"&FIXED(M307,0,TRUE)&\":\"&FIXED(N307,0,TRUE),\"\"))","v":",9:15"},null,null,null,null,null,null,null,null,null,null,null,null,null,null,null,null,null,null,null,null,null,null,null,null,null,null,null,null,null,null,null,{"$f":"IF($T$1=\"\",\"\",IF(C307=\"\",\"\",IF(Q307=\"\",C309,\"\")))","v":""},null,{"$f":"IF(BE307>NOW(),C309,\"\")","v":""},{"$f":"IF(C307<>\"\",\"\",VLOOKUP(C309,BD:BD,1,FALSE))","v":""},{"$f":"IF(Q307<>\"\",\"\",VLOOKUP(C309,BF:BF,1,FALSE))","v":""},{"$f":"IF(BF308<>\"\",BE307,\"\")","v":""},null,null,null,null,null,null,null,null,null,null,null,{"$f":"IF(VLOOKUP(I308,zawodnicy!A:E,5,FALSE)=0,\"\",C308)","v":""},{"$f":"IF(VLOOKUP(L308,zawodnicy!A:E,5,FALSE)=0,\"\",O308)","v":""},{"$f":"IF((LEN(C307)+LEN(C311)+LEN(L311))=0,I309,\"\")","v":""},{"$f":"IF(LEN(BW308)>0,A307,\"\")","v":""}]
["","",{"$f":"IF(OR(I309=0,I309=\"\"),\"\",VLOOKUP(I309,zawodnicy!$A:$D,2,FALSE)&\" \"&VLOOKUP(I309,zawodnicy!$A:$D,3,FALSE)&\" (\"&VLOOKUP(I309,zawodnicy!$A:$D,4,FALSE)&\")\")","v":""},null,null,null,null,null,{"$f":"IF(TYPE(VLOOKUP(A307,'grup-puch'!$A:$E,3,FALSE))=2,VLOOKUP(A307,'grup-puch'!$A:$E,3,FALSE),IF(TYPE(VLOOKUP(A307,puch!$A:$E,3,FALSE))=2,VLOOKUP(A307,puch!$A:$E,3,FALSE),\"\"))","v":""},null,null,{"$f":"IF(TYPE(VLOOKUP(A307,'grup-puch'!$A:$E,5,FALSE))=2,VLOOKUP(A307,'grup-puch'!$A:$E,5,FALSE),IF(TYPE(VLOOKUP(A307,puch!$A:$E,5,FALSE))=2,VLOOKUP(A307,puch!$A:$E,5,FALSE),\"\"))","v":""},null,null,{"$f":"IF(OR(L309=\"\",L309=0),\"\",VLOOKUP(L309,zawodnicy!$A:$D,2,FALSE)&\" \"&VLOOKUP(L309,zawodnicy!$A:$D,3,FALSE)&\" (\"&VLOOKUP(L309,zawodnicy!$A:$D,4,FALSE)&\")\")","v":""},null,null,null,null,null,"","",null,null,null,null,null,null,null,null,null,null,null,null,null,null,null,null,null,null,null,null,null,null,null,null,null,null,null,null,null,null,null,null,null,{"$f":"IF($T$1=\"\",\"\",IF(C307=\"\",\"\",IF(Q307=\"\",O308,\"\")))","v":""},null,{"$f":"IF(BE307>NOW(),O308,\"\")","v":"Grzegorz  Cybulski (Garwolin)"},{"$f":"IF(C307<>\"\",\"\",VLOOKUP(O308,BD:BD,1,FALSE))","v":{"$error":"#N/A"}},{"$f":"IF(Q307<>\"\",\"\",VLOOKUP(O308,BF:BF,1,FALSE))","v":"Grzegorz  Cybulski (Garwolin)"},{"$f":"IF(BF309<>\"\",BE307,\"\")","v":41959.017361111109},null,null,null,null,null,null,null,null,null,null,null,{"$f":"IF(VLOOKUP(I309,zawodnicy!A:E,5,FALSE)=0,\"\",C309)","v":{"$error":"#N/A"}},{"$f":"IF(VLOOKUP(L309,zawodnicy!A:E,5,FALSE)=0,\"\",O309)","v":{"$error":"#N/A"}},{"$f":"IF((LEN(C307)+LEN(C311)+LEN(L311))=0,L308,\"\")","v":""},{"$f":"IF(LEN(BW309)>0,A307,\"\")","v":""}]
[null,null,null,null,null,null,null,null,null,null,null,null,null,null,null,null,null,null,null,null,null,null,null,null,null,null,null,null,null,null,null,null,null,null,null,null,null,null,null,null,null,null,null,null,null,null,null,null,null,null,null,null,null,null,null,{"$f":"IF($T$1=\"\",\"\",IF(C307=\"\",\"\",IF(Q307=\"\",O309,\"\")))","v":""},null,{"$f":"IF(BE307>NOW(),O309,\"\")","v":""},{"$f":"IF(C307<>\"\",\"\",VLOOKUP(O309,BD:BD,1,FALSE))","v":""},{"$f":"IF(Q307<>\"\",\"\",VLOOKUP(O309,BF:BF,1,FALSE))","v":""},{"$f":"IF(BF310<>\"\",BE307,\"\")","v":""},null,null,null,null,null,null,null,null,null,null,null,null,null,{"$f":"IF((LEN(C307)+LEN(C311)+LEN(L311))=0,L309,\"\")","v":""},{"$f":"IF(LEN(BW310)>0,A307,\"\")","v":""}]
[null,null,{"$f":"IF(I308=\"\",\"\",IF(I308=AF307,\"zwycięzca(cy):\"&\" \"&AH307,\"\"))","v":""},null,null,null,null,null,null,null,null,{"$f":"IF(L308=\"\",\"\",IF(L308=AF307,\"zwycięzca(cy):\"&\" \"&AH307,\"\"))","v":"zwycięzca(cy): 15:7,15:17,15:9"}]
[null,null,45,"dzień turnieju.",null,null,null,null,null,"Nr meczu",null,null,null,null,"Godz.",null,null,null,"S. prow.",null,null,null,{"$f":"IF(I314>J314,1,0)+IF(K314>L314,1,0)+IF(M314>N314,1,0)","v":0},{"$f":"IF(J314>I314,1,0)+IF(L314>K314,1,0)+IF(N314>M314,1,0)","v":2},null,null,null,null,null,null,null,null,null,"wygrany","przegrany"]
[null,null,"Boisko","Gra",null,null,null,null,null,{"$f":"A314","v":45},null,null,null,null,"rozp.",null,"zak.",null,"S. serw.",null,null,null,{"$f":"IF(AND(COUNTA(I314,J314)=2,AF314=I315),FIXED(I314,0,TRUE)&\":\"&FIXED(J314,0,TRUE),IF(AND(COUNTA(I314,J314)=2,AF314=L315),FIXED(J314,0,TRUE)&\":\"&FIXED(I314,0,TRUE),\"\"))","v":"15:9"},{"$f":"IF(AND(COUNTA(I314,J314)=2,AF314=I315),FIXED(J314,0,TRUE)&\":\"&FIXED(I314,0,TRUE),IF(AND(COUNTA(I314,J314)=2,AF314=L315),FIXED(I314,0,TRUE)&\":\"&FIXED(J314,0,TRUE),\"\"))","v":"9:15"}]
[45,null,null,{"$f":"IF(TYPE(VLOOKUP(A314,'grup-puch'!$A:$M,13,FALSE))=2,VLOOKUP(A314,'grup-puch'!$A:$M,13,FALSE),IF(TYPE(VLOOKUP(A314,puch!$A:$J,10,FALSE))=2,VLOOKUP(A314,puch!$A:$J,10,FALSE),\"\"))","v":"GIMNAZJUM CHŁOPCY"},null,null,null,null,9,15,8,15,null,null,null,null,null,null,{"$f":"Q314-O314","v":"00:00:00"},{"$f":"IF(VLOOKUP(A314,dane!F:G,2,FALSE)=\"\",\"\",VLOOKUP(A314,dane!F:G,2,FALSE))","v":{"$error":"#N/A"}},null,null,{"$f":"IF(AND(COUNTA(K314,L314)=2,AF314=I315),\",\"&FIXED(K314,0,TRUE)&\":\"&FIXED(L314,0,TRUE),IF(AND(COUNTA(K314,L314)=2,AF314=L315),\",\"&FIXED(L314,0,TRUE)&\":\"&FIXED(K314,0,TRUE),\"\"))","v":",15:8"},{"$f":"IF(AND(COUNTA(K314,L314)=2,AF314=I315),\",\"&FIXED(L314,0,TRUE)&\":\"&FIXED(K314,0,TRUE),IF(AND(COUNTA(K314,L314)=2,AF314=L315),\",\"&FIXED(K314,0,TRUE)&\":\"&FIXED(L314,0,TRUE),\"\"))","v":",8:15"},null,{"$f":"A314","v":45},{"$f":"IF(ISBLANK(D314),\"\",D314)","v":"GIMNAZJUM CHŁOPCY"},{"$f":"IF(OR(I315=0,I315=\"\"),\"\",I315)","v":"X60"},{"$f":"IF(OR(I316=0,I316=\"\"),\"\",I316)","v":""},{"$f":"IF(OR(L315=0,L315=\"\"),\"\",L315)","v":"X63"},{"$f":"IF(OR(L316=0,L316=\"\"),\"\",L316)","v":""},{"$f":"IF(COUNTA(C317,L317)=1,IF(ISTEXT(C317),I315,L315),IF(OR(I314=\"\",W312=X312),\"\",IF(W312>X312,I315,L315)))","v":"X63"},{"$f":"IF(COUNTA(C317,L317)=1,IF(ISTEXT(C317),I316,L316),IF(OR(I314=\"\",W312=X312),\"\",IF(W312>X312,I316,L316)))","v":""},{"$f":"IF(OR(AF314=I315,AF314=L315),IF(AF314=I315,W313&W314&W315&IF(ISTEXT(C317),\" \"&C317,\"\"),W313&W314&W315&IF(ISTEXT(L317),\" \"&L317,\"\")),\"\")","v":"15:9,15:8"},{"$f":"IF(OR(AF314=I315,AF314=L315),IF(AF314=I315,X313&X314&X315&IF(ISTEXT(C317),\" \"&C317,\"\"),X313&X314&X315&IF(ISTEXT(L317),\" \"&L317,\"\")),\"\")","v":"9:15,8:15"},{"$f":"IF(ISBLANK(L317),\"\",L317)","v":""},{"$f":"I314","v":9},{"$f":"J314","v":15},{"$f":"K314","v":8},{"$f":"L314","v":15},{"$f":"M314","v":0},{"$f":"N314","v":0},null,{"$f":"T312","v":0},{"$f":"T313","v":0},{"$f":"IF(OR(AA314=dane!$I$3,AA314=dane!$I$4,AA314=dane!$I$5,AA314=dane!$I$6),AR314,\"\")","v":""},{"$f":"IF(OR(AA314=dane!$I$7,AA314=dane!$I$8,AA314=dane!$I$10,AA314=dane!$I$11),AR314,\"\")","v":0},{"$f":"IF(OR(AA314=dane!$I$12,AA314=dane!$I$13,AA314=dane!$I$14,AA314=dane!$I$15),AR314,\"\")","v":""},{"$f":"IF(OR(AA314=dane!$I$16,AA314=dane!$I$17,AA314=dane!$I$18,AA314=dane!$I$19),AR314,\"\")","v":""},{"$f":"IF(OR(AA314=dane!$I$20,AA314=dane!$I$21,AA314=dane!$I$22,AA314=dane!$I$23),AR314,\"\")","v":""},{"$f":"IF(OR(AA314=dane!$I$3,AA314=dane!$I$4,AA314=dane!$I$5,AA314=dane!$I$6),AS314,\"\")","v":""},{"$f":"IF(OR(AA314=dane!$I$7,AA314=dane!$I$8,AA314=dane!$I$10,AA314=dane!$I$11),AS314,\"\")","v":0},{"$f":"IF(OR(AA314=dane!$I$12,AA314=dane!$I$13,AA314=dane!$I$14,AA314=dane!$I$15),AS314,\"\")","v":""},{"$f":"IF(OR(AA314=dane!$I$16,AA314=dane!$I$17,AA314=dane!$I$18,AA314=dane!$I$19),AS314,\"\")","v":""},{"$f":"IF(OR(AA314=dane!$I$20,AA314=dane!$I$21,AA314=dane!$I$22,AA314=dane!$I$23),AS314,\"\")","v":""},{"$f":"IF($T$1=\"\",\"\",IF(C314=\"\",\"\",IF(Q314=\"\",C315,\"\")))","v":""},{"$f":"IF(LEN(L316)>0,$V$3,$V$2)+Q314+$T$1+C312-1","v":"2014-11-17T00:25:00"},{"$f":"IF(BE314>NOW(),C315,\"\")","v":"Adam  Walocha (Ząbki)"},{"$f":"IF(C314<>\"\",\"\",VLOOKUP(C315,BD:BD,1,FALSE))","v":{"$error":"#N/A"}},{"$f":"IF(Q314<>\"\",\"\",VLOOKUP(C315,BF:BF,1,FALSE))","v":"Adam  Walocha (Ząbki)"},{"$f":"IF(BF314<>\"\",BE314,\"\")","v":41960.017361111109},{"$f":"IF(Q314=\"\",C314,\"\")","v":0},null,null,null,null,null,null,null,null,null,null,null,null,{"$f":"IF((LEN(C314)+LEN(C318)+LEN(L318))=0,I315,\"\")","v":""},{"$f":"IF(LEN(BW314)>0,A314,\"\")","v":""}]
[{"$f":"IF(TYPE(VLOOKUP(C315,BF:BI,4,FALSE))=1,VLOOKUP(C315,BF:BI,4,FALSE),\"\")","v":41960.017361111109},{"$f":"IF(TYPE(VLOOKUP(I315,BW:BX,2,FALSE))=16,\"\",VLOOKUP(I315,BW:BX,2,FALSE))","v":""},{"$f":"IF(I315=\"\",\"\",VLOOKUP(I315,zawodnicy!$A:$D,2,FALSE)&\" \"&VLOOKUP(I315,zawodnicy!$A:$D,3,FALSE)&\" (\"&VLOOKUP(I315,zawodnicy!$A:$D,4,FALSE)&\")\")","v":"Adam  Walocha (Ząbki)"},null,null,null,null,null,{"$f":"IF(TYPE(VLOOKUP(A314,'grup-puch'!$A:$E,2,FALSE))=2,VLOOKUP(A314,'grup-puch'!$A:$E,2,FALSE),IF(TYPE(VLOOKUP(A314,puch!$A:$E,2,FALSE))=2,VLOOKUP(A314,puch!$A:$E,2,FALSE),\"\"))","v":"X60"},null,null,{"$f":"IF(TYPE(VLOOKUP(A314,'grup-puch'!$A:$E,4,FALSE))=2,VLOOKUP(A314,'grup-puch'!$A:$E,4,FALSE),IF(TYPE(VLOOKUP(A314,puch!$A:$E,4,FALSE))=2,VLOOKUP(A314,puch!$A:$E,4,FALSE),\"\"))","v":"X63"},null,null,{"$f":"IF(L315=\"\",\"\",VLOOKUP(L315,zawodnicy!$A:$D,2,FALSE)&\" \"&VLOOKUP(L315,zawodnicy!$A:$D,3,FALSE)&\" (\"&VLOOKUP(L315,zawodnicy!$A:$D,4,FALSE)&\")\")","v":"Kasia Wróblewska (Mińsk Mazowiecki)"},null,null,null,null,null,{"$f":"IF(TYPE(VLOOKUP(L315,BW:BX,2,FALSE))=16,\"\",VLOOKUP(L315,BW:BX,2,FALSE))","v":""},{"$f":"IF(TYPE(VLOOKUP(O315,BF:BI,4,FALSE))=1,VLOOKUP(O315,BF:BI,4,FALSE),\"\")","v":41960.017361111109},{"$f":"IF(AND(COUNTA(M314,N314)=2,AF314=I315),\",\"&FIXED(M314,0,TRUE)&\":\"&FIXED(N314,0,TRUE),IF(AND(COUNTA(M314,N314)=2,AF314=L315),\",\"&FIXED(N314,0,TRUE)&\":\"&FIXED(M314,0,TRUE),\"\"))","v":""},{"$f":"IF(AND(COUNTA(M314,N314)=2,AF314=I315),\",\"&FIXED(N314,0,TRUE)&\":\"&FIXED(M314,0,TRUE),IF(AND(COUNTA(M314,N314)=2,AF314=L315),\",\"&FIXED(M314,0,TRUE)&\":\"&FIXED(N314,0,TRUE),\"\"))","v":""},null,null,null,null,null,null,null,null,null,null,null,null,null,null,null,null,null,null,null,null,null,null,null,null,null,null,null,null,null,null,null,{"$f":"IF($T$1=\"\",\"\",IF(C314=\"\",\"\",IF(Q314=\"\",C316,\"\")))","v":""},null,{"$f":"IF(BE314>NOW(),C316,\"\")","v":""},{"$f":"IF(C314<>\"\",\"\",VLOOKUP(C316,BD:BD,1,FALSE))","v":""},{"$f":"IF(Q314<>\"\",\"\",VLOOKUP(C316,BF:BF,1,FALSE))","v":""},{"$f":"IF(BF315<>\"\",BE314,\"\")","v":""},null,null,null,null,null,null,null,null,null,null,null,{"$f":"IF(VLOOKUP(I315,zawodnicy!A:E,5,FALSE)=0,\"\",C315)","v":""},{"$f":"IF(VLOOKUP(L315,zawodnicy!A:E,5,FALSE)=0,\"\",O315)","v":""},{"$f":"IF((LEN(C314)+LEN(C318)+LEN(L318))=0,I316,\"\")","v":""},{"$f":"IF(LEN(BW315)>0,A314,\"\")","v":""}]
["","",{"$f":"IF(OR(I316=0,I316=\"\"),\"\",VLOOKUP(I316,zawodnicy!$A:$D,2,FALSE)&\" \"&VLOOKUP(I316,zawodnicy!$A:$D,3,FALSE)&\" (\"&VLOOKUP(I316,zawodnicy!$A:$D,4,FALSE)&\")\")","v":""},null,null,null,null,null,{"$f":"IF(TYPE(VLOOKUP(A314,'grup-puch'!$A:$E,3,FALSE))=2,VLOOKUP(A314,'grup-puch'!$A:$E,3,FALSE),IF(TYPE(VLOOKUP(A314,puch!$A:$E,3,FALSE))=2,VLOOKUP(A314,puch!$A:$E,3,FALSE),\"\"))","v":""},null,null,{"$f":"IF(TYPE(VLOOKUP(A314,'grup-puch'!$A:$E,5,FALSE))=2,VLOOKUP(A314,'grup-puch'!$A:$E,5,FALSE),IF(TYPE(VLOOKUP(A314,puch!$A:$E,5,FALSE))=2,VLOOKUP(A314,puch!$A:$E,5,FALSE),\"\"))","v":""},null,null,{"$f":"IF(OR(L316=\"\",L316=0),\"\",VLOOKUP(L316,zawodnicy!$A:$D,2,FALSE)&\" \"&VLOOKUP(L316,zawodnicy!$A:$D,3,FALSE)&\" (\"&VLOOKUP(L316,zawodnicy!$A:$D,4,FALSE)&\")\")","v":""},null,null,null,null,null,"","",null,null,null,null,null,null,null,null,null,null,null,null,null,null,null,null,null,null,null,null,null,null,null,null,null,null,null,null,null,null,null,null,null,{"$f":"IF($T$1=\"\",\"\",IF(C314=\"\",\"\",IF(Q314=\"\",O315,\"\")))","v":""},null,{"$f":"IF(BE314>NOW(),O315,\"\")","v":"Kasia Wróblewska (Mińsk Mazowiecki)"},{"$f":"IF(C314<>\"\",\"\",VLOOKUP(O315,BD:BD,1,FALSE))","v":{"$error":"#N/A"}},{"$f":"IF(Q314<>\"\",\"\",VLOOKUP(O315,BF:BF,1,FALSE))","v":"Kasia Wróblewska (Mińsk Mazowiecki)"},{"$f":"IF(BF316<>\"\",BE314,\"\")","v":41960.017361111109},null,null,null,null,null,null,null,null,null,null,null,{"$f":"IF(VLOOKUP(I316,zawodnicy!A:E,5,FALSE)=0,\"\",C316)","v":{"$error":"#N/A"}},{"$f":"IF(VLOOKUP(L316,zawodnicy!A:E,5,FALSE)=0,\"\",O316)","v":{"$error":"#N/A"}},{"$f":"IF((LEN(C314)+LEN(C318)+LEN(L318))=0,L315,\"\")","v":""},{"$f":"IF(LEN(BW316)>0,A314,\"\")","v":""}]
[null,null,null,null,null,null,null,null,null,null,null,null,null,null,null,null,null,null,null,null,null,null,null,null,null,null,null,null,null,null,null,null,null,null,null,null,null,null,null,null,null,null,null,null,null,null,null,null,null,null,null,null,null,null,null,{"$f":"IF($T$1=\"\",\"\",IF(C314=\"\",\"\",IF(Q314=\"\",O316,\"\")))","v":""},null,{"$f":"IF(BE314>NOW(),O316,\"\")","v":""},{"$f":"IF(C314<>\"\",\"\",VLOOKUP(O316,BD:BD,1,FALSE))","v":""},{"$f":"IF(Q314<>\"\",\"\",VLOOKUP(O316,BF:BF,1,FALSE))","v":""},{"$f":"IF(BF317<>\"\",BE314,\"\")","v":""},null,null,null,null,null,null,null,null,null,null,null,null,null,{"$f":"IF((LEN(C314)+LEN(C318)+LEN(L318))=0,L316,\"\")","v":""},{"$f":"IF(LEN(BW317)>0,A314,\"\")","v":""}]
[null,null,{"$f":"IF(I315=\"\",\"\",IF(I315=AF314,\"zwycięzca(cy):\"&\" \"&AH314,\"\"))","v":""},null,null,null,null,null,null,null,null,{"$f":"IF(L315=\"\",\"\",IF(L315=AF314,\"zwycięzca(cy):\"&\" \"&AH314,\"\"))","v":"zwycięzca(cy): 15:9,15:8"}]
[null,null,46,"dzień turnieju.",null,null,null,null,null,"Nr meczu",null,null,null,null,"Godz.",null,null,null,"S. prow.",null,null,null,{"$f":"IF(I321>J321,1,0)+IF(K321>L321,1,0)+IF(M321>N321,1,0)","v":2},{"$f":"IF(J321>I321,1,0)+IF(L321>K321,1,0)+IF(N321>M321,1,0)","v":0},null,null,null,null,null,null,null,null,null,"wygrany","przegrany"]
[null,null,"Boisko","Gra",null,null,null,null,null,{"$f":"A321","v":46},null,null,null,null,"rozp.",null,"zak.",null,"S. serw.",null,null,null,{"$f":"IF(AND(COUNTA(I321,J321)=2,AF321=I322),FIXED(I321,0,TRUE)&\":\"&FIXED(J321,0,TRUE),IF(AND(COUNTA(I321,J321)=2,AF321=L322),FIXED(J321,0,TRUE)&\":\"&FIXED(I321,0,TRUE),\"\"))","v":"11:6"},{"$f":"IF(AND(COUNTA(I321,J321)=2,AF321=I322),FIXED(J321,0,TRUE)&\":\"&FIXED(I321,0,TRUE),IF(AND(COUNTA(I321,J321)=2,AF321=L322),FIXED(I321,0,TRUE)&\":\"&FIXED(J321,0,TRUE),\"\"))","v":"6:11"}]
[46,null,null,{"$f":"IF(TYPE(VLOOKUP(A321,'grup-puch'!$A:$M,13,FALSE))=2,VLOOKUP(A321,'grup-puch'!$A:$M,13,FALSE),IF(TYPE(VLOOKUP(A321,puch!$A:$J,10,FALSE))=2,VLOOKUP(A321,puch!$A:$J,10,FALSE),\"\"))","v":"PODWÓJNA DZIECI"},null,null,null,null,11,6,11,1,null,null,null,null,null,null,{"$f":"Q321-O321","v":"00:00:00"},{"$f":"IF(VLOOKUP(A321,dane!F:G,2,FALSE)=\"\",\"\",VLOOKUP(A321,dane!F:G,2,FALSE))","v":{"$error":"#N/A"}},null,null,{"$f":"IF(AND(COUNTA(K321,L321)=2,AF321=I322),\",\"&FIXED(K321,0,TRUE)&\":\"&FIXED(L321,0,TRUE),IF(AND(COUNTA(K321,L321)=2,AF321=L322),\",\"&FIXED(L321,0,TRUE)&\":\"&FIXED(K321,0,TRUE),\"\"))","v":",11:1"},{"$f":"IF(AND(COUNTA(K321,L321)=2,AF321=I322),\",\"&FIXED(L321,0,TRUE)&\":\"&FIXED(K321,0,TRUE),IF(AND(COUNTA(K321,L321)=2,AF321=L322),\",\"&FIXED(K321,0,TRUE)&\":\"&FIXED(L321,0,TRUE),\"\"))","v":",1:11"},null,{"$f":"A321","v":46},{"$f":"IF(ISBLANK(D321),\"\",D321)","v":"PODWÓJNA DZIECI"},{"$f":"IF(OR(I322=0,I322=\"\"),\"\",I322)","v":"X60"},{"$f":"IF(OR(I323=0,I323=\"\"),\"\",I323)","v":"X59"},{"$f":"IF(OR(L322=0,L322=\"\"),\"\",L322)","v":"X31"},{"$f":"IF(OR(L323=0,L323=\"\"),\"\",L323)","v":"X48"},{"$f":"IF(COUNTA(C324,L324)=1,IF(ISTEXT(C324),I322,L322),IF(OR(I321=\"\",W319=X319),\"\",IF(W319>X319,I322,L322)))","v":"X60"},{"$f":"IF(COUNTA(C324,L324)=1,IF(ISTEXT(C324),I323,L323),IF(OR(I321=\"\",W319=X319),\"\",IF(W319>X319,I323,L323)))","v":"X59"},{"$f":"IF(OR(AF321=I322,AF321=L322),IF(AF321=I322,W320&W321&W322&IF(ISTEXT(C324),\" \"&C324,\"\"),W320&W321&W322&IF(ISTEXT(L324),\" \"&L324,\"\")),\"\")","v":"11:6,11:1"},{"$f":"IF(OR(AF321=I322,AF321=L322),IF(AF321=I322,X320&X321&X322&IF(ISTEXT(C324),\" \"&C324,\"\"),X320&X321&X322&IF(ISTEXT(L324),\" \"&L324,\"\")),\"\")","v":"6:11,1:11"},{"$f":"IF(ISBLANK(L324),\"\",L324)","v":""},{"$f":"I321","v":11},{"$f":"J321","v":6},{"$f":"K321","v":11},{"$f":"L321","v":1},{"$f":"M321","v":0},{"$f":"N321","v":0},null,{"$f":"T319","v":0},{"$f":"T320","v":0},{"$f":"IF(OR(AA321=dane!$I$3,AA321=dane!$I$4,AA321=dane!$I$5,AA321=dane!$I$6),AR321,\"\")","v":""},{"$f":"IF(OR(AA321=dane!$I$7,AA321=dane!$I$8,AA321=dane!$I$10,AA321=dane!$I$11),AR321,\"\")","v":""},{"$f":"IF(OR(AA321=dane!$I$12,AA321=dane!$I$13,AA321=dane!$I$14,AA321=dane!$I$15),AR321,\"\")","v":0},{"$f":"IF(OR(AA321=dane!$I$16,AA321=dane!$I$17,AA321=dane!$I$18,AA321=dane!$I$19),AR321,\"\")","v":""},{"$f":"IF(OR(AA321=dane!$I$20,AA321=dane!$I$21,AA321=dane!$I$22,AA321=dane!$I$23),AR321,\"\")","v":""},{"$f":"IF(OR(AA321=dane!$I$3,AA321=dane!$I$4,AA321=dane!$I$5,AA321=dane!$I$6),AS321,\"\")","v":""},{"$f":"IF(OR(AA321=dane!$I$7,AA321=dane!$I$8,AA321=dane!$I$10,AA321=dane!$I$11),AS321,\"\")","v":""},{"$f":"IF(OR(AA321=dane!$I$12,AA321=dane!$I$13,AA321=dane!$I$14,AA321=dane!$I$15),AS321,\"\")","v":0},{"$f":"IF(OR(AA321=dane!$I$16,AA321=dane!$I$17,AA321=dane!$I$18,AA321=dane!$I$19),AS321,\"\")","v":""},{"$f":"IF(OR(AA321=dane!$I$20,AA321=dane!$I$21,AA321=dane!$I$22,AA321=dane!$I$23),AS321,\"\")","v":""},{"$f":"IF($T$1=\"\",\"\",IF(C321=\"\",\"\",IF(Q321=\"\",C322,\"\")))","v":""},{"$f":"IF(LEN(L323)>0,$V$3,$V$2)+Q321+$T$1+C319-1","v":"2014-11-18T00:15:00"},{"$f":"IF(BE321>NOW(),C322,\"\")","v":"Adam  Walocha (Ząbki)"},{"$f":"IF(C321<>\"\",\"\",VLOOKUP(C322,BD:BD,1,FALSE))","v":{"$error":"#N/A"}},{"$f":"IF(Q321<>\"\",\"\",VLOOKUP(C322,BF:BF,1,FALSE))","v":"Adam  Walocha (Ząbki)"},{"$f":"IF(BF321<>\"\",BE321,\"\")","v":41961.010416666664},{"$f":"IF(Q321=\"\",C321,\"\")","v":0},null,null,null,null,null,null,null,null,null,null,null,null,{"$f":"IF((LEN(C321)+LEN(C325)+LEN(L325))=0,I322,\"\")","v":""},{"$f":"IF(LEN(BW321)>0,A321,\"\")","v":""}]
[{"$f":"IF(TYPE(VLOOKUP(C322,BF:BI,4,FALSE))=1,VLOOKUP(C322,BF:BI,4,FALSE),\"\")","v":41960.017361111109},{"$f":"IF(TYPE(VLOOKUP(I322,BW:BX,2,FALSE))=16,\"\",VLOOKUP(I322,BW:BX,2,FALSE))","v":""},{"$f":"IF(I322=\"\",\"\",VLOOKUP(I322,zawodnicy!$A:$D,2,FALSE)&\" \"&VLOOKUP(I322,zawodnicy!$A:$D,3,FALSE)&\" (\"&VLOOKUP(I322,zawodnicy!$A:$D,4,FALSE)&\")\")","v":"Adam  Walocha (Ząbki)"},null,null,null,null,null,{"$f":"IF(TYPE(VLOOKUP(A321,'grup-puch'!$A:$E,2,FALSE))=2,VLOOKUP(A321,'grup-puch'!$A:$E,2,FALSE),IF(TYPE(VLOOKUP(A321,puch!$A:$E,2,FALSE))=2,VLOOKUP(A321,puch!$A:$E,2,FALSE),\"\"))","v":"X60"},null,null,{"$f":"IF(TYPE(VLOOKUP(A321,'grup-puch'!$A:$E,4,FALSE))=2,VLOOKUP(A321,'grup-puch'!$A:$E,4,FALSE),IF(TYPE(VLOOKUP(A321,puch!$A:$E,4,FALSE))=2,VLOOKUP(A321,puch!$A:$E,4,FALSE),\"\"))","v":"X31"},null,null,{"$f":"IF(L322=\"\",\"\",VLOOKUP(L322,zawodnicy!$A:$D,2,FALSE)&\" \"&VLOOKUP(L322,zawodnicy!$A:$D,3,FALSE)&\" (\"&VLOOKUP(L322,zawodnicy!$A:$D,4,FALSE)&\")\")","v":"Damian  Mil (Ząbki)"},null,null,null,null,null,{"$f":"IF(TYPE(VLOOKUP(L322,BW:BX,2,FALSE))=16,\"\",VLOOKUP(L322,BW:BX,2,FALSE))","v":""},{"$f":"IF(TYPE(VLOOKUP(O322,BF:BI,4,FALSE))=1,VLOOKUP(O322,BF:BI,4,FALSE),\"\")","v":41959.017361111109},{"$f":"IF(AND(COUNTA(M321,N321)=2,AF321=I322),\",\"&FIXED(M321,0,TRUE)&\":\"&FIXED(N321,0,TRUE),IF(AND(COUNTA(M321,N321)=2,AF321=L322),\",\"&FIXED(N321,0,TRUE)&\":\"&FIXED(M321,0,TRUE),\"\"))","v":""},{"$f":"IF(AND(COUNTA(M321,N321)=2,AF321=I322),\",\"&FIXED(N321,0,TRUE)&\":\"&FIXED(M321,0,TRUE),IF(AND(COUNTA(M321,N321)=2,AF321=L322),\",\"&FIXED(M321,0,TRUE)&\":\"&FIXED(N321,0,TRUE),\"\"))","v":""},null,null,null,null,null,null,null,null,null,null,null,null,null,null,null,null,null,null,null,null,null,null,null,null,null,null,null,null,null,null,null,{"$f":"IF($T$1=\"\",\"\",IF(C321=\"\",\"\",IF(Q321=\"\",C323,\"\")))","v":""},null,{"$f":"IF(BE321>NOW(),C323,\"\")","v":"Jakub  Walocha (Ząbki)"},{"$f":"IF(C321<>\"\",\"\",VLOOKUP(C323,BD:BD,1,FALSE))","v":{"$error":"#N/A"}},{"$f":"IF(Q321<>\"\",\"\",VLOOKUP(C323,BF:BF,1,FALSE))","v":"Jakub  Walocha (Ząbki)"},{"$f":"IF(BF322<>\"\",BE321,\"\")","v":41961.010416666664},null,null,null,null,null,null,null,null,null,null,null,{"$f":"IF(VLOOKUP(I322,zawodnicy!A:E,5,FALSE)=0,\"\",C322)","v":""},{"$f":"IF(VLOOKUP(L322,zawodnicy!A:E,5,FALSE)=0,\"\",O322)","v":""},{"$f":"IF((LEN(C321)+LEN(C325)+LEN(L325))=0,I323,\"\")","v":""},{"$f":"IF(LEN(BW322)>0,A321,\"\")","v":""}]
[41958.017361111109,"",{"$f":"IF(OR(I323=0,I323=\"\"),\"\",VLOOKUP(I323,zawodnicy!$A:$D,2,FALSE)&\" \"&VLOOKUP(I323,zawodnicy!$A:$D,3,FALSE)&\" (\"&VLOOKUP(I323,zawodnicy!$A:$D,4,FALSE)&\")\")","v":"Jakub  Walocha (Ząbki)"},null,null,null,null,null,{"$f":"IF(TYPE(VLOOKUP(A321,'grup-puch'!$A:$E,3,FALSE))=2,VLOOKUP(A321,'grup-puch'!$A:$E,3,FALSE),IF(TYPE(VLOOKUP(A321,puch!$A:$E,3,FALSE))=2,VLOOKUP(A321,puch!$A:$E,3,FALSE),\"\"))","v":"X59"},null,null,{"$f":"IF(TYPE(VLOOKUP(A321,'grup-puch'!$A:$E,5,FALSE))=2,VLOOKUP(A321,'grup-puch'!$A:$E,5,FALSE),IF(TYPE(VLOOKUP(A321,puch!$A:$E,5,FALSE))=2,VLOOKUP(A321,puch!$A:$E,5,FALSE),\"\"))","v":"X48"},null,null,{"$f":"IF(OR(L323=\"\",L323=0),\"\",VLOOKUP(L323,zawodnicy!$A:$D,2,FALSE)&\" \"&VLOOKUP(L323,zawodnicy!$A:$D,3,FALSE)&\" (\"&VLOOKUP(L323,zawodnicy!$A:$D,4,FALSE)&\")\")","v":"Ewelina Stec (Ząbki)"},null,null,null,null,null,"",41961.010416666664,null,null,null,null,null,null,null,null,null,null,null,null,null,null,null,null,null,null,null,null,null,null,null,null,null,null,null,null,null,null,null,null,null,{"$f":"IF($T$1=\"\",\"\",IF(C321=\"\",\"\",IF(Q321=\"\",O322,\"\")))","v":""},null,{"$f":"IF(BE321>NOW(),O322,\"\")","v":"Damian  Mil (Ząbki)"},{"$f":"IF(C321<>\"\",\"\",VLOOKUP(O322,BD:BD,1,FALSE))","v":{"$error":"#N/A"}},{"$f":"IF(Q321<>\"\",\"\",VLOOKUP(O322,BF:BF,1,FALSE))","v":"Damian  Mil (Ząbki)"},{"$f":"IF(BF323<>\"\",BE321,\"\")","v":41961.010416666664},null,null,null,null,null,null,null,null,null,null,null,{"$f":"IF(VLOOKUP(I323,zawodnicy!A:E,5,FALSE)=0,\"\",C323)","v":""},{"$f":"IF(VLOOKUP(L323,zawodnicy!A:E,5,FALSE)=0,\"\",O323)","v":""},{"$f":"IF((LEN(C321)+LEN(C325)+LEN(L325))=0,L322,\"\")","v":""},{"$f":"IF(LEN(BW323)>0,A321,\"\")","v":""}]
[null,null,null,null,null,null,null,null,null,null,null,null,null,null,null,null,null,null,null,null,null,null,null,null,null,null,null,null,null,null,null,null,null,null,null,null,null,null,null,null,null,null,null,null,null,null,null,null,null,null,null,null,null,null,null,{"$f":"IF($T$1=\"\",\"\",IF(C321=\"\",\"\",IF(Q321=\"\",O323,\"\")))","v":""},null,{"$f":"IF(BE321>NOW(),O323,\"\")","v":"Ewelina Stec (Ząbki)"},{"$f":"IF(C321<>\"\",\"\",VLOOKUP(O323,BD:BD,1,FALSE))","v":{"$error":"#N/A"}},{"$f":"IF(Q321<>\"\",\"\",VLOOKUP(O323,BF:BF,1,FALSE))","v":"Ewelina Stec (Ząbki)"},{"$f":"IF(BF324<>\"\",BE321,\"\")","v":41961.010416666664},null,null,null,null,null,null,null,null,null,null,null,null,null,{"$f":"IF((LEN(C321)+LEN(C325)+LEN(L325))=0,L323,\"\")","v":""},{"$f":"IF(LEN(BW324)>0,A321,\"\")","v":""}]
[null,null,{"$f":"IF(I322=\"\",\"\",IF(I322=AF321,\"zwycięzca(cy):\"&\" \"&AH321,\"\"))","v":"zwycięzca(cy): 11:6,11:1"},null,null,null,null,null,null,null,null,{"$f":"IF(L322=\"\",\"\",IF(L322=AF321,\"zwycięzca(cy):\"&\" \"&AH321,\"\"))","v":""}]
[null,null,47,"dzień turnieju.",null,null,null,null,null,"Nr meczu",null,null,null,null,"Godz.",null,null,null,"S. prow.",null,null,null,{"$f":"IF(I328>J328,1,0)+IF(K328>L328,1,0)+IF(M328>N328,1,0)","v":2},{"$f":"IF(J328>I328,1,0)+IF(L328>K328,1,0)+IF(N328>M328,1,0)","v":0},null,null,null,null,null,null,null,null,null,"wygrany","przegrany"]
[null,null,"Boisko","Gra",null,null,null,null,null,{"$f":"A328","v":47},null,null,null,null,"rozp.",null,"zak.",null,"S. serw.",null,null,null,{"$f":"IF(AND(COUNTA(I328,J328)=2,AF328=I329),FIXED(I328,0,TRUE)&\":\"&FIXED(J328,0,TRUE),IF(AND(COUNTA(I328,J328)=2,AF328=L329),FIXED(J328,0,TRUE)&\":\"&FIXED(I328,0,TRUE),\"\"))","v":"11:5"},{"$f":"IF(AND(COUNTA(I328,J328)=2,AF328=I329),FIXED(J328,0,TRUE)&\":\"&FIXED(I328,0,TRUE),IF(AND(COUNTA(I328,J328)=2,AF328=L329),FIXED(I328,0,TRUE)&\":\"&FIXED(J328,0,TRUE),\"\"))","v":"5:11"}]
[47,null,null,{"$f":"IF(TYPE(VLOOKUP(A328,'grup-puch'!$A:$M,13,FALSE))=2,VLOOKUP(A328,'grup-puch'!$A:$M,13,FALSE),IF(TYPE(VLOOKUP(A328,puch!$A:$J,10,FALSE))=2,VLOOKUP(A328,puch!$A:$J,10,FALSE),\"\"))","v":"PODWÓJNA DZIECI"},null,null,null,null,11,5,11,7,null,null,null,null,null,null,{"$f":"Q328-O328","v":"00:00:00"},{"$f":"IF(VLOOKUP(A328,dane!F:G,2,FALSE)=\"\",\"\",VLOOKUP(A328,dane!F:G,2,FALSE))","v":{"$error":"#N/A"}},null,null,{"$f":"IF(AND(COUNTA(K328,L328)=2,AF328=I329),\",\"&FIXED(K328,0,TRUE)&\":\"&FIXED(L328,0,TRUE),IF(AND(COUNTA(K328,L328)=2,AF328=L329),\",\"&FIXED(L328,0,TRUE)&\":\"&FIXED(K328,0,TRUE),\"\"))","v":",11:7"},{"$f":"IF(AND(COUNTA(K328,L328)=2,AF328=I329),\",\"&FIXED(L328,0,TRUE)&\":\"&FIXED(K328,0,TRUE),IF(AND(COUNTA(K328,L328)=2,AF328=L329),\",\"&FIXED(K328,0,TRUE)&\":\"&FIXED(L328,0,TRUE),\"\"))","v":",7:11"},null,{"$f":"A328","v":47},{"$f":"IF(ISBLANK(D328),\"\",D328)","v":"PODWÓJNA DZIECI"},{"$f":"IF(OR(I329=0,I329=\"\"),\"\",I329)","v":"X38"},{"$f":"IF(OR(I330=0,I330=\"\"),\"\",I330)","v":"X63"},{"$f":"IF(OR(L329=0,L329=\"\"),\"\",L329)","v":"X69"},{"$f":"IF(OR(L330=0,L330=\"\"),\"\",L330)","v":"X68"},{"$f":"IF(COUNTA(C331,L331)=1,IF(ISTEXT(C331),I329,L329),IF(OR(I328=\"\",W326=X326),\"\",IF(W326>X326,I329,L329)))","v":"X38"},{"$f":"IF(COUNTA(C331,L331)=1,IF(ISTEXT(C331),I330,L330),IF(OR(I328=\"\",W326=X326),\"\",IF(W326>X326,I330,L330)))","v":"X63"},{"$f":"IF(OR(AF328=I329,AF328=L329),IF(AF328=I329,W327&W328&W329&IF(ISTEXT(C331),\" \"&C331,\"\"),W327&W328&W329&IF(ISTEXT(L331),\" \"&L331,\"\")),\"\")","v":"11:5,11:7"},{"$f":"IF(OR(AF328=I329,AF328=L329),IF(AF328=I329,X327&X328&X329&IF(ISTEXT(C331),\" \"&C331,\"\"),X327&X328&X329&IF(ISTEXT(L331),\" \"&L331,\"\")),\"\")","v":"5:11,7:11"},{"$f":"IF(ISBLANK(L331),\"\",L331)","v":""},{"$f":"I328","v":11},{"$f":"J328","v":5},{"$f":"K328","v":11},{"$f":"L328","v":7},{"$f":"M328","v":0},{"$f":"N328","v":0},null,{"$f":"T326","v":0},{"$f":"T327","v":0},{"$f":"IF(OR(AA328=dane!$I$3,AA328=dane!$I$4,AA328=dane!$I$5,AA328=dane!$I$6),AR328,\"\")","v":""},{"$f":"IF(OR(AA328=dane!$I$7,AA328=dane!$I$8,AA328=dane!$I$10,AA328=dane!$I$11),AR328,\"\")","v":""},{"$f":"IF(OR(AA328=dane!$I$12,AA328=dane!$I$13,AA328=dane!$I$14,AA328=dane!$I$15),AR328,\"\")","v":0},{"$f":"IF(OR(AA328=dane!$I$16,AA328=dane!$I$17,AA328=dane!$I$18,AA328=dane!$I$19),AR328,\"\")","v":""},{"$f":"IF(OR(AA328=dane!$I$20,AA328=dane!$I$21,AA328=dane!$I$22,AA328=dane!$I$23),AR328,\"\")","v":""},{"$f":"IF(OR(AA328=dane!$I$3,AA328=dane!$I$4,AA328=dane!$I$5,AA328=dane!$I$6),AS328,\"\")","v":""},{"$f":"IF(OR(AA328=dane!$I$7,AA328=dane!$I$8,AA328=dane!$I$10,AA328=dane!$I$11),AS328,\"\")","v":""},{"$f":"IF(OR(AA328=dane!$I$12,AA328=dane!$I$13,AA328=dane!$I$14,AA328=dane!$I$15),AS328,\"\")","v":0},{"$f":"IF(OR(AA328=dane!$I$16,AA328=dane!$I$17,AA328=dane!$I$18,AA328=dane!$I$19),AS328,\"\")","v":""},{"$f":"IF(OR(AA328=dane!$I$20,AA328=dane!$I$21,AA328=dane!$I$22,AA328=dane!$I$23),AS328,\"\")","v":""},{"$f":"IF($T$1=\"\",\"\",IF(C328=\"\",\"\",IF(Q328=\"\",C329,\"\")))","v":""},{"$f":"IF(LEN(L330)>0,$V$3,$V$2)+Q328+$T$1+C326-1","v":"2014-11-19T00:15:00"},{"$f":"IF(BE328>NOW(),C329,\"\")","v":"Iza Pomykała (Marki)"},{"$f":"IF(C328<>\"\",\"\",VLOOKUP(C329,BD:BD,1,FALSE))","v":{"$error":"#N/A"}},{"$f":"IF(Q328<>\"\",\"\",VLOOKUP(C329,BF:BF,1,FALSE))","v":"Iza Pomykała (Marki)"},{"$f":"IF(BF328<>\"\",BE328,\"\")","v":41962.010416666664},{"$f":"IF(Q328=\"\",C328,\"\")","v":0},null,null,null,null,null,null,null,null,null,null,null,null,{"$f":"IF((LEN(C328)+LEN(C332)+LEN(L332))=0,I329,\"\")","v":""},{"$f":"IF(LEN(BW328)>0,A328,\"\")","v":""}]
[{"$f":"IF(TYPE(VLOOKUP(C329,BF:BI,4,FALSE))=1,VLOOKUP(C329,BF:BI,4,FALSE),\"\")","v":41962.010416666664},{"$f":"IF(TYPE(VLOOKUP(I329,BW:BX,2,FALSE))=16,\"\",VLOOKUP(I329,BW:BX,2,FALSE))","v":""},{"$f":"IF(I329=\"\",\"\",VLOOKUP(I329,zawodnicy!$A:$D,2,FALSE)&\" \"&VLOOKUP(I329,zawodnicy!$A:$D,3,FALSE)&\" (\"&VLOOKUP(I329,zawodnicy!$A:$D,4,FALSE)&\")\")","v":"Iza Pomykała (Marki)"},null,null,null,null,null,{"$f":"IF(TYPE(VLOOKUP(A328,'grup-puch'!$A:$E,2,FALSE))=2,VLOOKUP(A328,'grup-puch'!$A:$E,2,FALSE),IF(TYPE(VLOOKUP(A328,puch!$A:$E,2,FALSE))=2,VLOOKUP(A328,puch!$A:$E,2,FALSE),\"\"))","v":"X38"},null,null,{"$f":"IF(TYPE(VLOOKUP(A328,'grup-puch'!$A:$E,4,FALSE))=2,VLOOKUP(A328,'grup-puch'!$A:$E,4,FALSE),IF(TYPE(VLOOKUP(A328,puch!$A:$E,4,FALSE))=2,VLOOKUP(A328,puch!$A:$E,4,FALSE),\"\"))","v":"X69"},null,null,{"$f":"IF(L329=\"\",\"\",VLOOKUP(L329,zawodnicy!$A:$D,2,FALSE)&\" \"&VLOOKUP(L329,zawodnicy!$A:$D,3,FALSE)&\" (\"&VLOOKUP(L329,zawodnicy!$A:$D,4,FALSE)&\")\")","v":"Ela  Przybysz (Garwolin)"},null,null,null,null,null,{"$f":"IF(TYPE(VLOOKUP(L329,BW:BX,2,FALSE))=16,\"\",VLOOKUP(L329,BW:BX,2,FALSE))","v":""},{"$f":"IF(TYPE(VLOOKUP(O329,BF:BI,4,FALSE))=1,VLOOKUP(O329,BF:BI,4,FALSE),\"\")","v":41962.010416666664},{"$f":"IF(AND(COUNTA(M328,N328)=2,AF328=I329),\",\"&FIXED(M328,0,TRUE)&\":\"&FIXED(N328,0,TRUE),IF(AND(COUNTA(M328,N328)=2,AF328=L329),\",\"&FIXED(N328,0,TRUE)&\":\"&FIXED(M328,0,TRUE),\"\"))","v":""},{"$f":"IF(AND(COUNTA(M328,N328)=2,AF328=I329),\",\"&FIXED(N328,0,TRUE)&\":\"&FIXED(M328,0,TRUE),IF(AND(COUNTA(M328,N328)=2,AF328=L329),\",\"&FIXED(M328,0,TRUE)&\":\"&FIXED(N328,0,TRUE),\"\"))","v":""},null,null,null,null,null,null,null,null,null,null,null,null,null,null,null,null,null,null,null,null,null,null,null,null,null,null,null,null,null,null,null,{"$f":"IF($T$1=\"\",\"\",IF(C328=\"\",\"\",IF(Q328=\"\",C330,\"\")))","v":""},null,{"$f":"IF(BE328>NOW(),C330,\"\")","v":"Kasia Wróblewska (Mińsk Mazowiecki)"},{"$f":"IF(C328<>\"\",\"\",VLOOKUP(C330,BD:BD,1,FALSE))","v":{"$error":"#N/A"}},{"$f":"IF(Q328<>\"\",\"\",VLOOKUP(C330,BF:BF,1,FALSE))","v":"Kasia Wróblewska (Mińsk Mazowiecki)"},{"$f":"IF(BF329<>\"\",BE328,\"\")","v":41962.010416666664},null,null,null,null,null,null,null,null,null,null,null,{"$f":"IF(VLOOKUP(I329,zawodnicy!A:E,5,FALSE)=0,\"\",C329)","v":""},{"$f":"IF(VLOOKUP(L329,zawodnicy!A:E,5,FALSE)=0,\"\",O329)","v":""},{"$f":"IF((LEN(C328)+LEN(C332)+LEN(L332))=0,I330,\"\")","v":""},{"$f":"IF(LEN(BW329)>0,A328,\"\")","v":""}]
[41960.017361111109,"",{"$f":"IF(OR(I330=0,I330=\"\"),\"\",VLOOKUP(I330,zawodnicy!$A:$D,2,FALSE)&\" \"&VLOOKUP(I330,zawodnicy!$A:$D,3,FALSE)&\" (\"&VLOOKUP(I330,zawodnicy!$A:$D,4,FALSE)&\")\")","v":"Kasia Wróblewska (Mińsk Mazowiecki)"},null,null,null,null,null,{"$f":"IF(TYPE(VLOOKUP(A328,'grup-puch'!$A:$E,3,FALSE))=2,VLOOKUP(A328,'grup-puch'!$A:$E,3,FALSE),IF(TYPE(VLOOKUP(A328,puch!$A:$E,3,FALSE))=2,VLOOKUP(A328,puch!$A:$E,3,FALSE),\"\"))","v":"X63"},null,null,{"$f":"IF(TYPE(VLOOKUP(A328,'grup-puch'!$A:$E,5,FALSE))=2,VLOOKUP(A328,'grup-puch'!$A:$E,5,FALSE),IF(TYPE(VLOOKUP(A328,puch!$A:$E,5,FALSE))=2,VLOOKUP(A328,puch!$A:$E,5,FALSE),\"\"))","v":"X68"},null,null,{"$f":"IF(OR(L330=\"\",L330=0),\"\",VLOOKUP(L330,zawodnicy!$A:$D,2,FALSE)&\" \"&VLOOKUP(L330,zawodnicy!$A:$D,3,FALSE)&\" (\"&VLOOKUP(L330,zawodnicy!$A:$D,4,FALSE)&\")\")","v":"Kacper Winek (Garwolin)"},null,null,null,null,null,"",41958.017361111109,null,null,null,null,null,null,null,null,null,null,null,null,null,null,null,null,null,null,null,null,null,null,null,null,null,null,null,null,null,null,null,null,null,{"$f":"IF($T$1=\"\",\"\",IF(C328=\"\",\"\",IF(Q328=\"\",O329,\"\")))","v":""},null,{"$f":"IF(BE328>NOW(),O329,\"\")","v":"Ela  Przybysz (Garwolin)"},{"$f":"IF(C328<>\"\",\"\",VLOOKUP(O329,BD:BD,1,FALSE))","v":{"$error":"#N/A"}},{"$f":"IF(Q328<>\"\",\"\",VLOOKUP(O329,BF:BF,1,FALSE))","v":"Ela  Przybysz (Garwolin)"},{"$f":"IF(BF330<>\"\",BE328,\"\")","v":41962.010416666664},null,null,null,null,null,null,null,null,null,null,null,{"$f":"IF(VLOOKUP(I330,zawodnicy!A:E,5,FALSE)=0,\"\",C330)","v":""},{"$f":"IF(VLOOKUP(L330,zawodnicy!A:E,5,FALSE)=0,\"\",O330)","v":""},{"$f":"IF((LEN(C328)+LEN(C332)+LEN(L332))=0,L329,\"\")","v":""},{"$f":"IF(LEN(BW330)>0,A328,\"\")","v":""}]
[null,null,null,null,null,null,null,null,null,null,null,null,null,null,null,null,null,null,null,null,null,null,null,null,null,null,null,null,null,null,null,null,null,null,null,null,null,null,null,null,null,null,null,null,null,null,null,null,null,null,null,null,null,null,null,{"$f":"IF($T$1=\"\",\"\",IF(C328=\"\",\"\",IF(Q328=\"\",O330,\"\")))","v":""},null,{"$f":"IF(BE328>NOW(),O330,\"\")","v":"Kacper Winek (Garwolin)"},{"$f":"IF(C328<>\"\",\"\",VLOOKUP(O330,BD:BD,1,FALSE))","v":{"$error":"#N/A"}},{"$f":"IF(Q328<>\"\",\"\",VLOOKUP(O330,BF:BF,1,FALSE))","v":"Kacper Winek (Garwolin)"},{"$f":"IF(BF331<>\"\",BE328,\"\")","v":41962.010416666664},null,null,null,null,null,null,null,null,null,null,null,null,null,{"$f":"IF((LEN(C328)+LEN(C332)+LEN(L332))=0,L330,\"\")","v":""},{"$f":"IF(LEN(BW331)>0,A328,\"\")","v":""}]
[null,null,{"$f":"IF(I329=\"\",\"\",IF(I329=AF328,\"zwycięzca(cy):\"&\" \"&AH328,\"\"))","v":"zwycięzca(cy): 11:5,11:7"},null,null,null,null,null,null,null,null,{"$f":"IF(L329=\"\",\"\",IF(L329=AF328,\"zwycięzca(cy):\"&\" \"&AH328,\"\"))","v":""}]
[null,null,48,"dzień turnieju.",null,null,null,null,null,"Nr meczu",null,null,null,null,"Godz.",null,null,null,"S. prow.",null,null,null,{"$f":"IF(I335>J335,1,0)+IF(K335>L335,1,0)+IF(M335>N335,1,0)","v":0},{"$f":"IF(J335>I335,1,0)+IF(L335>K335,1,0)+IF(N335>M335,1,0)","v":2},null,null,null,null,null,null,null,null,null,"wygrany","przegrany"]
[null,null,"Boisko","Gra",null,null,null,null,null,{"$f":"A335","v":48},null,null,null,null,"rozp.",null,"zak.",null,"S. serw.",null,null,null,{"$f":"IF(AND(COUNTA(I335,J335)=2,AF335=I336),FIXED(I335,0,TRUE)&\":\"&FIXED(J335,0,TRUE),IF(AND(COUNTA(I335,J335)=2,AF335=L336),FIXED(J335,0,TRUE)&\":\"&FIXED(I335,0,TRUE),\"\"))","v":"11:6"},{"$f":"IF(AND(COUNTA(I335,J335)=2,AF335=I336),FIXED(J335,0,TRUE)&\":\"&FIXED(I335,0,TRUE),IF(AND(COUNTA(I335,J335)=2,AF335=L336),FIXED(I335,0,TRUE)&\":\"&FIXED(J335,0,TRUE),\"\"))","v":"6:11"}]
[48,null,null,{"$f":"IF(TYPE(VLOOKUP(A335,'grup-puch'!$A:$M,13,FALSE))=2,VLOOKUP(A335,'grup-puch'!$A:$M,13,FALSE),IF(TYPE(VLOOKUP(A335,puch!$A:$J,10,FALSE))=2,VLOOKUP(A335,puch!$A:$J,10,FALSE),\"\"))","v":"PODWÓJNA DZIECI"},null,null,null,null,6,11,2,11,null,null,null,null,null,null,{"$f":"Q335-O335","v":"00:00:00"},{"$f":"IF(VLOOKUP(A335,dane!F:G,2,FALSE)=\"\",\"\",VLOOKUP(A335,dane!F:G,2,FALSE))","v":{"$error":"#N/A"}},null,null,{"$f":"IF(AND(COUNTA(K335,L335)=2,AF335=I336),\",\"&FIXED(K335,0,TRUE)&\":\"&FIXED(L335,0,TRUE),IF(AND(COUNTA(K335,L335)=2,AF335=L336),\",\"&FIXED(L335,0,TRUE)&\":\"&FIXED(K335,0,TRUE),\"\"))","v":",11:2"},{"$f":"IF(AND(COUNTA(K335,L335)=2,AF335=I336),\",\"&FIXED(L335,0,TRUE)&\":\"&FIXED(K335,0,TRUE),IF(AND(COUNTA(K335,L335)=2,AF335=L336),\",\"&FIXED(K335,0,TRUE)&\":\"&FIXED(L335,0,TRUE),\"\"))","v":",2:11"},null,{"$f":"A335","v":48},{"$f":"IF(ISBLANK(D335),\"\",D335)","v":"PODWÓJNA DZIECI"},{"$f":"IF(OR(I336=0,I336=\"\"),\"\",I336)","v":"X43"},{"$f":"IF(OR(I337=0,I337=\"\"),\"\",I337)","v":"X22"},{"$f":"IF(OR(L336=0,L336=\"\"),\"\",L336)","v":"X70"},{"$f":"IF(OR(L337=0,L337=\"\"),\"\",L337)","v":"X71"},{"$f":"IF(COUNTA(C338,L338)=1,IF(ISTEXT(C338),I336,L336),IF(OR(I335=\"\",W333=X333),\"\",IF(W333>X333,I336,L336)))","v":"X70"},{"$f":"IF(COUNTA(C338,L338)=1,IF(ISTEXT(C338),I337,L337),IF(OR(I335=\"\",W333=X333),\"\",IF(W333>X333,I337,L337)))","v":"X71"},{"$f":"IF(OR(AF335=I336,AF335=L336),IF(AF335=I336,W334&W335&W336&IF(ISTEXT(C338),\" \"&C338,\"\"),W334&W335&W336&IF(ISTEXT(L338),\" \"&L338,\"\")),\"\")","v":"11:6,11:2"},{"$f":"IF(OR(AF335=I336,AF335=L336),IF(AF335=I336,X334&X335&X336&IF(ISTEXT(C338),\" \"&C338,\"\"),X334&X335&X336&IF(ISTEXT(L338),\" \"&L338,\"\")),\"\")","v":"6:11,2:11"},{"$f":"IF(ISBLANK(L338),\"\",L338)","v":""},{"$f":"I335","v":6},{"$f":"J335","v":11},{"$f":"K335","v":2},{"$f":"L335","v":11},{"$f":"M335","v":0},{"$f":"N335","v":0},null,{"$f":"T333","v":0},{"$f":"T334","v":0},{"$f":"IF(OR(AA335=dane!$I$3,AA335=dane!$I$4,AA335=dane!$I$5,AA335=dane!$I$6),AR335,\"\")","v":""},{"$f":"IF(OR(AA335=dane!$I$7,AA335=dane!$I$8,AA335=dane!$I$10,AA335=dane!$I$11),AR335,\"\")","v":""},{"$f":"IF(OR(AA335=dane!$I$12,AA335=dane!$I$13,AA335=dane!$I$14,AA335=dane!$I$15),AR335,\"\")","v":0},{"$f":"IF(OR(AA335=dane!$I$16,AA335=dane!$I$17,AA335=dane!$I$18,AA335=dane!$I$19),AR335,\"\")","v":""},{"$f":"IF(OR(AA335=dane!$I$20,AA335=dane!$I$21,AA335=dane!$I$22,AA335=dane!$I$23),AR335,\"\")","v":""},{"$f":"IF(OR(AA335=dane!$I$3,AA335=dane!$I$4,AA335=dane!$I$5,AA335=dane!$I$6),AS335,\"\")","v":""},{"$f":"IF(OR(AA335=dane!$I$7,AA335=dane!$I$8,AA335=dane!$I$10,AA335=dane!$I$11),AS335,\"\")","v":""},{"$f":"IF(OR(AA335=dane!$I$12,AA335=dane!$I$13,AA335=dane!$I$14,AA335=dane!$I$15),AS335,\"\")","v":0},{"$f":"IF(OR(AA335=dane!$I$16,AA335=dane!$I$17,AA335=dane!$I$18,AA335=dane!$I$19),AS335,\"\")","v":""},{"$f":"IF(OR(AA335=dane!$I$20,AA335=dane!$I$21,AA335=dane!$I$22,AA335=dane!$I$23),AS335,\"\")","v":""},{"$f":"IF($T$1=\"\",\"\",IF(C335=\"\",\"\",IF(Q335=\"\",C336,\"\")))","v":""},{"$f":"IF(LEN(L337)>0,$V$3,$V$2)+Q335+$T$1+C333-1","v":"2014-11-20T00:15:00"},{"$f":"IF(BE335>NOW(),C336,\"\")","v":"Maks  Siepsiak (Wesoła)"},{"$f":"IF(C335<>\"\",\"\",VLOOKUP(C336,BD:BD,1,FALSE))","v":{"$error":"#N/A"}},{"$f":"IF(Q335<>\"\",\"\",VLOOKUP(C336,BF:BF,1,FALSE))","v":"Maks  Siepsiak (Wesoła)"},{"$f":"IF(BF335<>\"\",BE335,\"\")","v":41963.010416666664},{"$f":"IF(Q335=\"\",C335,\"\")","v":0},null,null,null,null,null,null,null,null,null,null,null,null,{"$f":"IF((LEN(C335)+LEN(C339)+LEN(L339))=0,I336,\"\")","v":""},{"$f":"IF(LEN(BW335)>0,A335,\"\")","v":""}]
[{"$f":"IF(TYPE(VLOOKUP(C336,BF:BI,4,FALSE))=1,VLOOKUP(C336,BF:BI,4,FALSE),\"\")","v":41963.010416666664},{"$f":"IF(TYPE(VLOOKUP(I336,BW:BX,2,FALSE))=16,\"\",VLOOKUP(I336,BW:BX,2,FALSE))","v":""},{"$f":"IF(I336=\"\",\"\",VLOOKUP(I336,zawodnicy!$A:$D,2,FALSE)&\" \"&VLOOKUP(I336,zawodnicy!$A:$D,3,FALSE)&\" (\"&VLOOKUP(I336,zawodnicy!$A:$D,4,FALSE)&\")\")","v":"Maks  Siepsiak (Wesoła)"},null,null,null,null,null,{"$f":"IF(TYPE(VLOOKUP(A335,'grup-puch'!$A:$E,2,FALSE))=2,VLOOKUP(A335,'grup-puch'!$A:$E,2,FALSE),IF(TYPE(VLOOKUP(A335,puch!$A:$E,2,FALSE))=2,VLOOKUP(A335,puch!$A:$E,2,FALSE),\"\"))","v":"X43"},null,null,{"$f":"IF(TYPE(VLOOKUP(A335,'grup-puch'!$A:$E,4,FALSE))=2,VLOOKUP(A335,'grup-puch'!$A:$E,4,FALSE),IF(TYPE(VLOOKUP(A335,puch!$A:$E,4,FALSE))=2,VLOOKUP(A335,puch!$A:$E,4,FALSE),\"\"))","v":"X70"},null,null,{"$f":"IF(L336=\"\",\"\",VLOOKUP(L336,zawodnicy!$A:$D,2,FALSE)&\" \"&VLOOKUP(L336,zawodnicy!$A:$D,3,FALSE)&\" (\"&VLOOKUP(L336,zawodnicy!$A:$D,4,FALSE)&\")\")","v":"Konrad  Kalinowski (Garwolin)"},null,null,null,null,null,{"$f":"IF(TYPE(VLOOKUP(L336,BW:BX,2,FALSE))=16,\"\",VLOOKUP(L336,BW:BX,2,FALSE))","v":""},{"$f":"IF(TYPE(VLOOKUP(O336,BF:BI,4,FALSE))=1,VLOOKUP(O336,BF:BI,4,FALSE),\"\")","v":41963.010416666664},{"$f":"IF(AND(COUNTA(M335,N335)=2,AF335=I336),\",\"&FIXED(M335,0,TRUE)&\":\"&FIXED(N335,0,TRUE),IF(AND(COUNTA(M335,N335)=2,AF335=L336),\",\"&FIXED(N335,0,TRUE)&\":\"&FIXED(M335,0,TRUE),\"\"))","v":""},{"$f":"IF(AND(COUNTA(M335,N335)=2,AF335=I336),\",\"&FIXED(N335,0,TRUE)&\":\"&FIXED(M335,0,TRUE),IF(AND(COUNTA(M335,N335)=2,AF335=L336),\",\"&FIXED(M335,0,TRUE)&\":\"&FIXED(N335,0,TRUE),\"\"))","v":""},null,null,null,null,null,null,null,null,null,null,null,null,null,null,null,null,null,null,null,null,null,null,null,null,null,null,null,null,null,null,null,{"$f":"IF($T$1=\"\",\"\",IF(C335=\"\",\"\",IF(Q335=\"\",C337,\"\")))","v":""},null,{"$f":"IF(BE335>NOW(),C337,\"\")","v":"Hanna  Lewandowska (Wesoła)"},{"$f":"IF(C335<>\"\",\"\",VLOOKUP(C337,BD:BD,1,FALSE))","v":{"$error":"#N/A"}},{"$f":"IF(Q335<>\"\",\"\",VLOOKUP(C337,BF:BF,1,FALSE))","v":"Hanna  Lewandowska (Wesoła)"},{"$f":"IF(BF336<>\"\",BE335,\"\")","v":41963.010416666664},null,null,null,null,null,null,null,null,null,null,null,{"$f":"IF(VLOOKUP(I336,zawodnicy!A:E,5,FALSE)=0,\"\",C336)","v":""},{"$f":"IF(VLOOKUP(L336,zawodnicy!A:E,5,FALSE)=0,\"\",O336)","v":""},{"$f":"IF((LEN(C335)+LEN(C339)+LEN(L339))=0,I337,\"\")","v":""},{"$f":"IF(LEN(BW336)>0,A335,\"\")","v":""}]
[41963.010416666664,"",{"$f":"IF(OR(I337=0,I337=\"\"),\"\",VLOOKUP(I337,zawodnicy!$A:$D,2,FALSE)&\" \"&VLOOKUP(I337,zawodnicy!$A:$D,3,FALSE)&\" (\"&VLOOKUP(I337,zawodnicy!$A:$D,4,FALSE)&\")\")","v":"Hanna  Lewandowska (Wesoła)"},null,null,null,null,null,{"$f":"IF(TYPE(VLOOKUP(A335,'grup-puch'!$A:$E,3,FALSE))=2,VLOOKUP(A335,'grup-puch'!$A:$E,3,FALSE),IF(TYPE(VLOOKUP(A335,puch!$A:$E,3,FALSE))=2,VLOOKUP(A335,puch!$A:$E,3,FALSE),\"\"))","v":"X22"},null,null,{"$f":"IF(TYPE(VLOOKUP(A335,'grup-puch'!$A:$E,5,FALSE))=2,VLOOKUP(A335,'grup-puch'!$A:$E,5,FALSE),IF(TYPE(VLOOKUP(A335,puch!$A:$E,5,FALSE))=2,VLOOKUP(A335,puch!$A:$E,5,FALSE),\"\"))","v":"X71"},null,null,{"$f":"IF(OR(L337=\"\",L337=0),\"\",VLOOKUP(L337,zawodnicy!$A:$D,2,FALSE)&\" \"&VLOOKUP(L337,zawodnicy!$A:$D,3,FALSE)&\" (\"&VLOOKUP(L337,zawodnicy!$A:$D,4,FALSE)&\")\")","v":"Grzegorz  Cybulski (Garwolin)"},null,null,null,null,null,"",41959.017361111109,null,null,null,null,null,null,null,null,null,null,null,null,null,null,null,null,null,null,null,null,null,null,null,null,null,null,null,null,null,null,null,null,null,{"$f":"IF($T$1=\"\",\"\",IF(C335=\"\",\"\",IF(Q335=\"\",O336,\"\")))","v":""},null,{"$f":"IF(BE335>NOW(),O336,\"\")","v":"Konrad  Kalinowski (Garwolin)"},{"$f":"IF(C335<>\"\",\"\",VLOOKUP(O336,BD:BD,1,FALSE))","v":{"$error":"#N/A"}},{"$f":"IF(Q335<>\"\",\"\",VLOOKUP(O336,BF:BF,1,FALSE))","v":"Konrad  Kalinowski (Garwolin)"},{"$f":"IF(BF337<>\"\",BE335,\"\")","v":41963.010416666664},null,null,null,null,null,null,null,null,null,null,null,{"$f":"IF(VLOOKUP(I337,zawodnicy!A:E,5,FALSE)=0,\"\",C337)","v":""},{"$f":"IF(VLOOKUP(L337,zawodnicy!A:E,5,FALSE)=0,\"\",O337)","v":""},{"$f":"IF((LEN(C335)+LEN(C339)+LEN(L339))=0,L336,\"\")","v":""},{"$f":"IF(LEN(BW337)>0,A335,\"\")","v":""}]
[null,null,null,null,null,null,null,null,null,null,null,null,null,null,null,null,null,null,null,null,null,null,null,null,null,null,null,null,null,null,null,null,null,null,null,null,null,null,null,null,null,null,null,null,null,null,null,null,null,null,null,null,null,null,null,{"$f":"IF($T$1=\"\",\"\",IF(C335=\"\",\"\",IF(Q335=\"\",O337,\"\")))","v":""},null,{"$f":"IF(BE335>NOW(),O337,\"\")","v":"Grzegorz  Cybulski (Garwolin)"},{"$f":"IF(C335<>\"\",\"\",VLOOKUP(O337,BD:BD,1,FALSE))","v":{"$error":"#N/A"}},{"$f":"IF(Q335<>\"\",\"\",VLOOKUP(O337,BF:BF,1,FALSE))","v":"Grzegorz  Cybulski (Garwolin)"},{"$f":"IF(BF338<>\"\",BE335,\"\")","v":41963.010416666664},null,null,null,null,null,null,null,null,null,null,null,null,null,{"$f":"IF((LEN(C335)+LEN(C339)+LEN(L339))=0,L337,\"\")","v":""},{"$f":"IF(LEN(BW338)>0,A335,\"\")","v":""}]
[null,null,{"$f":"IF(I336=\"\",\"\",IF(I336=AF335,\"zwycięzca(cy):\"&\" \"&AH335,\"\"))","v":""},null,null,null,null,null,null,null,null,{"$f":"IF(L336=\"\",\"\",IF(L336=AF335,\"zwycięzca(cy):\"&\" \"&AH335,\"\"))","v":"zwycięzca(cy): 11:6,11:2"}]
[null,null,49,"dzień turnieju.",null,null,null,null,null,"Nr meczu",null,null,null,null,"Godz.",null,null,null,"S. prow.",null,null,null,{"$f":"IF(I342>J342,1,0)+IF(K342>L342,1,0)+IF(M342>N342,1,0)","v":1},{"$f":"IF(J342>I342,1,0)+IF(L342>K342,1,0)+IF(N342>M342,1,0)","v":2},null,null,null,null,null,null,null,null,null,"wygrany","przegrany"]
[null,null,"Boisko","Gra",null,null,null,null,null,{"$f":"A342","v":49},null,null,null,null,"rozp.",null,"zak.",null,"S. serw.",null,null,null,{"$f":"IF(AND(COUNTA(I342,J342)=2,AF342=I343),FIXED(I342,0,TRUE)&\":\"&FIXED(J342,0,TRUE),IF(AND(COUNTA(I342,J342)=2,AF342=L343),FIXED(J342,0,TRUE)&\":\"&FIXED(I342,0,TRUE),\"\"))","v":"11:8"},{"$f":"IF(AND(COUNTA(I342,J342)=2,AF342=I343),FIXED(J342,0,TRUE)&\":\"&FIXED(I342,0,TRUE),IF(AND(COUNTA(I342,J342)=2,AF342=L343),FIXED(I342,0,TRUE)&\":\"&FIXED(J342,0,TRUE),\"\"))","v":"8:11"}]
[49,null,null,{"$f":"IF(TYPE(VLOOKUP(A342,'grup-puch'!$A:$M,13,FALSE))=2,VLOOKUP(A342,'grup-puch'!$A:$M,13,FALSE),IF(TYPE(VLOOKUP(A342,puch!$A:$J,10,FALSE))=2,VLOOKUP(A342,puch!$A:$J,10,FALSE),\"\"))","v":"PODWÓJNA DZIECI"},null,null,null,null,8,11,11,8,9,11,null,null,null,null,{"$f":"Q342-O342","v":"00:00:00"},{"$f":"IF(VLOOKUP(A342,dane!F:G,2,FALSE)=\"\",\"\",VLOOKUP(A342,dane!F:G,2,FALSE))","v":{"$error":"#N/A"}},null,null,{"$f":"IF(AND(COUNTA(K342,L342)=2,AF342=I343),\",\"&FIXED(K342,0,TRUE)&\":\"&FIXED(L342,0,TRUE),IF(AND(COUNTA(K342,L342)=2,AF342=L343),\",\"&FIXED(L342,0,TRUE)&\":\"&FIXED(K342,0,TRUE),\"\"))","v":",8:11"},{"$f":"IF(AND(COUNTA(K342,L342)=2,AF342=I343),\",\"&FIXED(L342,0,TRUE)&\":\"&FIXED(K342,0,TRUE),IF(AND(COUNTA(K342,L342)=2,AF342=L343),\",\"&FIXED(K342,0,TRUE)&\":\"&FIXED(L342,0,TRUE),\"\"))","v":",11:8"},null,{"$f":"A342","v":49},{"$f":"IF(ISBLANK(D342),\"\",D342)","v":"PODWÓJNA DZIECI"},{"$f":"IF(OR(I343=0,I343=\"\"),\"\",I343)","v":"X20"},{"$f":"IF(OR(I344=0,I344=\"\"),\"\",I344)","v":"X41"},{"$f":"IF(OR(L343=0,L343=\"\"),\"\",L343)","v":"X21"},{"$f":"IF(OR(L344=0,L344=\"\"),\"\",L344)","v":"X24"},{"$f":"IF(COUNTA(C345,L345)=1,IF(ISTEXT(C345),I343,L343),IF(OR(I342=\"\",W340=X340),\"\",IF(W340>X340,I343,L343)))","v":"X21"},{"$f":"IF(COUNTA(C345,L345)=1,IF(ISTEXT(C345),I344,L344),IF(OR(I342=\"\",W340=X340),\"\",IF(W340>X340,I344,L344)))","v":"X24"},{"$f":"IF(OR(AF342=I343,AF342=L343),IF(AF342=I343,W341&W342&W343&IF(ISTEXT(C345),\" \"&C345,\"\"),W341&W342&W343&IF(ISTEXT(L345),\" \"&L345,\"\")),\"\")","v":"11:8,8:11,11:9"},{"$f":"IF(OR(AF342=I343,AF342=L343),IF(AF342=I343,X341&X342&X343&IF(ISTEXT(C345),\" \"&C345,\"\"),X341&X342&X343&IF(ISTEXT(L345),\" \"&L345,\"\")),\"\")","v":"8:11,11:8,9:11"},{"$f":"IF(ISBLANK(L345),\"\",L345)","v":""},{"$f":"I342","v":8},{"$f":"J342","v":11},{"$f":"K342","v":11},{"$f":"L342","v":8},{"$f":"M342","v":9},{"$f":"N342","v":11},null,{"$f":"T340","v":0},{"$f":"T341","v":0},{"$f":"IF(OR(AA342=dane!$I$3,AA342=dane!$I$4,AA342=dane!$I$5,AA342=dane!$I$6),AR342,\"\")","v":""},{"$f":"IF(OR(AA342=dane!$I$7,AA342=dane!$I$8,AA342=dane!$I$10,AA342=dane!$I$11),AR342,\"\")","v":""},{"$f":"IF(OR(AA342=dane!$I$12,AA342=dane!$I$13,AA342=dane!$I$14,AA342=dane!$I$15),AR342,\"\")","v":0},{"$f":"IF(OR(AA342=dane!$I$16,AA342=dane!$I$17,AA342=dane!$I$18,AA342=dane!$I$19),AR342,\"\")","v":""},{"$f":"IF(OR(AA342=dane!$I$20,AA342=dane!$I$21,AA342=dane!$I$22,AA342=dane!$I$23),AR342,\"\")","v":""},{"$f":"IF(OR(AA342=dane!$I$3,AA342=dane!$I$4,AA342=dane!$I$5,AA342=dane!$I$6),AS342,\"\")","v":""},{"$f":"IF(OR(AA342=dane!$I$7,AA342=dane!$I$8,AA342=dane!$I$10,AA342=dane!$I$11),AS342,\"\")","v":""},{"$f":"IF(OR(AA342=dane!$I$12,AA342=dane!$I$13,AA342=dane!$I$14,AA342=dane!$I$15),AS342,\"\")","v":0},{"$f":"IF(OR(AA342=dane!$I$16,AA342=dane!$I$17,AA342=dane!$I$18,AA342=dane!$I$19),AS342,\"\")","v":""},{"$f":"IF(OR(AA342=dane!$I$20,AA342=dane!$I$21,AA342=dane!$I$22,AA342=dane!$I$23),AS342,\"\")","v":""},{"$f":"IF($T$1=\"\",\"\",IF(C342=\"\",\"\",IF(Q342=\"\",C343,\"\")))","v":""},{"$f":"IF(LEN(L344)>0,$V$3,$V$2)+Q342+$T$1+C340-1","v":"2014-11-21T00:15:00"},{"$f":"IF(BE342>NOW(),C343,\"\")","v":"Błażej  Krawczyk (Ząbki)"},{"$f":"IF(C342<>\"\",\"\",VLOOKUP(C343,BD:BD,1,FALSE))","v":{"$error":"#N/A"}},{"$f":"IF(Q342<>\"\",\"\",VLOOKUP(C343,BF:BF,1,FALSE))","v":"Błażej  Krawczyk (Ząbki)"},{"$f":"IF(BF342<>\"\",BE342,\"\")","v":41964.010416666664},{"$f":"IF(Q342=\"\",C342,\"\")","v":0},null,null,null,null,null,null,null,null,null,null,null,null,{"$f":"IF((LEN(C342)+LEN(C346)+LEN(L346))=0,I343,\"\")","v":""},{"$f":"IF(LEN(BW342)>0,A342,\"\")","v":""}]
[{"$f":"IF(TYPE(VLOOKUP(C343,BF:BI,4,FALSE))=1,VLOOKUP(C343,BF:BI,4,FALSE),\"\")","v":41964.010416666664},{"$f":"IF(TYPE(VLOOKUP(I343,BW:BX,2,FALSE))=16,\"\",VLOOKUP(I343,BW:BX,2,FALSE))","v":""},{"$f":"IF(I343=\"\",\"\",VLOOKUP(I343,zawodnicy!$A:$D,2,FALSE)&\" \"&VLOOKUP(I343,zawodnicy!$A:$D,3,FALSE)&\" (\"&VLOOKUP(I343,zawodnicy!$A:$D,4,FALSE)&\")\")","v":"Błażej  Krawczyk (Ząbki)"},null,null,null,null,null,{"$f":"IF(TYPE(VLOOKUP(A342,'grup-puch'!$A:$E,2,FALSE))=2,VLOOKUP(A342,'grup-puch'!$A:$E,2,FALSE),IF(TYPE(VLOOKUP(A342,puch!$A:$E,2,FALSE))=2,VLOOKUP(A342,puch!$A:$E,2,FALSE),\"\"))","v":"X20"},null,null,{"$f":"IF(TYPE(VLOOKUP(A342,'grup-puch'!$A:$E,4,FALSE))=2,VLOOKUP(A342,'grup-puch'!$A:$E,4,FALSE),IF(TYPE(VLOOKUP(A342,puch!$A:$E,4,FALSE))=2,VLOOKUP(A342,puch!$A:$E,4,FALSE),\"\"))","v":"X21"},null,null,{"$f":"IF(L343=\"\",\"\",VLOOKUP(L343,zawodnicy!$A:$D,2,FALSE)&\" \"&VLOOKUP(L343,zawodnicy!$A:$D,3,FALSE)&\" (\"&VLOOKUP(L343,zawodnicy!$A:$D,4,FALSE)&\")\")","v":"Magdalena  Krupa (Wesoła)"},null,null,null,null,null,{"$f":"IF(TYPE(VLOOKUP(L343,BW:BX,2,FALSE))=16,\"\",VLOOKUP(L343,BW:BX,2,FALSE))","v":""},{"$f":"IF(TYPE(VLOOKUP(O343,BF:BI,4,FALSE))=1,VLOOKUP(O343,BF:BI,4,FALSE),\"\")","v":41964.010416666664},{"$f":"IF(AND(COUNTA(M342,N342)=2,AF342=I343),\",\"&FIXED(M342,0,TRUE)&\":\"&FIXED(N342,0,TRUE),IF(AND(COUNTA(M342,N342)=2,AF342=L343),\",\"&FIXED(N342,0,TRUE)&\":\"&FIXED(M342,0,TRUE),\"\"))","v":",11:9"},{"$f":"IF(AND(COUNTA(M342,N342)=2,AF342=I343),\",\"&FIXED(N342,0,TRUE)&\":\"&FIXED(M342,0,TRUE),IF(AND(COUNTA(M342,N342)=2,AF342=L343),\",\"&FIXED(M342,0,TRUE)&\":\"&FIXED(N342,0,TRUE),\"\"))","v":",9:11"},null,null,null,null,null,null,null,null,null,null,null,null,null,null,null,null,null,null,null,null,null,null,null,null,null,null,null,null,null,null,null,{"$f":"IF($T$1=\"\",\"\",IF(C342=\"\",\"\",IF(Q342=\"\",C344,\"\")))","v":""},null,{"$f":"IF(BE342>NOW(),C344,\"\")","v":"Ignacy Repiński (Marki)"},{"$f":"IF(C342<>\"\",\"\",VLOOKUP(C344,BD:BD,1,FALSE))","v":{"$error":"#N/A"}},{"$f":"IF(Q342<>\"\",\"\",VLOOKUP(C344,BF:BF,1,FALSE))","v":"Ignacy Repiński (Marki)"},{"$f":"IF(BF343<>\"\",BE342,\"\")","v":41964.010416666664},null,null,null,null,null,null,null,null,null,null,null,{"$f":"IF(VLOOKUP(I343,zawodnicy!A:E,5,FALSE)=0,\"\",C343)","v":""},{"$f":"IF(VLOOKUP(L343,zawodnicy!A:E,5,FALSE)=0,\"\",O343)","v":""},{"$f":"IF((LEN(C342)+LEN(C346)+LEN(L346))=0,I344,\"\")","v":""},{"$f":"IF(LEN(BW343)>0,A342,\"\")","v":""}]
[41964.010416666664,"",{"$f":"IF(OR(I344=0,I344=\"\"),\"\",VLOOKUP(I344,zawodnicy!$A:$D,2,FALSE)&\" \"&VLOOKUP(I344,zawodnicy!$A:$D,3,FALSE)&\" (\"&VLOOKUP(I344,zawodnicy!$A:$D,4,FALSE)&\")\")","v":"Ignacy Repiński (Marki)"},null,null,null,null,null,{"$f":"IF(TYPE(VLOOKUP(A342,'grup-puch'!$A:$E,3,FALSE))=2,VLOOKUP(A342,'grup-puch'!$A:$E,3,FALSE),IF(TYPE(VLOOKUP(A342,puch!$A:$E,3,FALSE))=2,VLOOKUP(A342,puch!$A:$E,3,FALSE),\"\"))","v":"X41"},null,null,{"$f":"IF(TYPE(VLOOKUP(A342,'grup-puch'!$A:$E,5,FALSE))=2,VLOOKUP(A342,'grup-puch'!$A:$E,5,FALSE),IF(TYPE(VLOOKUP(A342,puch!$A:$E,5,FALSE))=2,VLOOKUP(A342,puch!$A:$E,5,FALSE),\"\"))","v":"X24"},null,null,{"$f":"IF(OR(L344=\"\",L344=0),\"\",VLOOKUP(L344,zawodnicy!$A:$D,2,FALSE)&\" \"&VLOOKUP(L344,zawodnicy!$A:$D,3,FALSE)&\" (\"&VLOOKUP(L344,zawodnicy!$A:$D,4,FALSE)&\")\")","v":"Karolina Łukomska (Zielonka)"},null,null,null,null,null,"",41964.010416666664,null,null,null,null,null,null,null,null,null,null,null,null,null,null,null,null,null,null,null,null,null,null,null,null,null,null,null,null,null,null,null,null,null,{"$f":"IF($T$1=\"\",\"\",IF(C342=\"\",\"\",IF(Q342=\"\",O343,\"\")))","v":""},null,{"$f":"IF(BE342>NOW(),O343,\"\")","v":"Magdalena  Krupa (Wesoła)"},{"$f":"IF(C342<>\"\",\"\",VLOOKUP(O343,BD:BD,1,FALSE))","v":{"$error":"#N/A"}},{"$f":"IF(Q342<>\"\",\"\",VLOOKUP(O343,BF:BF,1,FALSE))","v":"Magdalena  Krupa (Wesoła)"},{"$f":"IF(BF344<>\"\",BE342,\"\")","v":41964.010416666664},null,null,null,null,null,null,null,null,null,null,null,{"$f":"IF(VLOOKUP(I344,zawodnicy!A:E,5,FALSE)=0,\"\",C344)","v":""},{"$f":"IF(VLOOKUP(L344,zawodnicy!A:E,5,FALSE)=0,\"\",O344)","v":""},{"$f":"IF((LEN(C342)+LEN(C346)+LEN(L346))=0,L343,\"\")","v":""},{"$f":"IF(LEN(BW344)>0,A342,\"\")","v":""}]
[null,null,null,null,null,null,null,null,null,null,null,null,null,null,null,null,null,null,null,null,null,null,null,null,null,null,null,null,null,null,null,null,null,null,null,null,null,null,null,null,null,null,null,null,null,null,null,null,null,null,null,null,null,null,null,{"$f":"IF($T$1=\"\",\"\",IF(C342=\"\",\"\",IF(Q342=\"\",O344,\"\")))","v":""},null,{"$f":"IF(BE342>NOW(),O344,\"\")","v":"Karolina Łukomska (Zielonka)"},{"$f":"IF(C342<>\"\",\"\",VLOOKUP(O344,BD:BD,1,FALSE))","v":{"$error":"#N/A"}},{"$f":"IF(Q342<>\"\",\"\",VLOOKUP(O344,BF:BF,1,FALSE))","v":"Karolina Łukomska (Zielonka)"},{"$f":"IF(BF345<>\"\",BE342,\"\")","v":41964.010416666664},null,null,null,null,null,null,null,null,null,null,null,null,null,{"$f":"IF((LEN(C342)+LEN(C346)+LEN(L346))=0,L344,\"\")","v":""},{"$f":"IF(LEN(BW345)>0,A342,\"\")","v":""}]
[null,null,{"$f":"IF(I343=\"\",\"\",IF(I343=AF342,\"zwycięzca(cy):\"&\" \"&AH342,\"\"))","v":""},null,null,null,null,null,null,null,null,{"$f":"IF(L343=\"\",\"\",IF(L343=AF342,\"zwycięzca(cy):\"&\" \"&AH342,\"\"))","v":"zwycięzca(cy): 11:8,8:11,11:9"}]
[null,null,50,"dzień turnieju.",null,null,null,null,null,"Nr meczu",null,null,null,null,"Godz.",null,null,null,"S. prow.",null,null,null,{"$f":"IF(I349>J349,1,0)+IF(K349>L349,1,0)+IF(M349>N349,1,0)","v":1},{"$f":"IF(J349>I349,1,0)+IF(L349>K349,1,0)+IF(N349>M349,1,0)","v":2},null,null,null,null,null,null,null,null,null,"wygrany","przegrany"]
[null,null,"Boisko","Gra",null,null,null,null,null,{"$f":"A349","v":50},null,null,null,null,"rozp.",null,"zak.",null,"S. serw.",null,null,null,{"$f":"IF(AND(COUNTA(I349,J349)=2,AF349=I350),FIXED(I349,0,TRUE)&\":\"&FIXED(J349,0,TRUE),IF(AND(COUNTA(I349,J349)=2,AF349=L350),FIXED(J349,0,TRUE)&\":\"&FIXED(I349,0,TRUE),\"\"))","v":"8:11"},{"$f":"IF(AND(COUNTA(I349,J349)=2,AF349=I350),FIXED(J349,0,TRUE)&\":\"&FIXED(I349,0,TRUE),IF(AND(COUNTA(I349,J349)=2,AF349=L350),FIXED(I349,0,TRUE)&\":\"&FIXED(J349,0,TRUE),\"\"))","v":"11:8"}]
[50,null,null,{"$f":"IF(TYPE(VLOOKUP(A349,'grup-puch'!$A:$M,13,FALSE))=2,VLOOKUP(A349,'grup-puch'!$A:$M,13,FALSE),IF(TYPE(VLOOKUP(A349,puch!$A:$J,10,FALSE))=2,VLOOKUP(A349,puch!$A:$J,10,FALSE),\"\"))","v":"PODWÓJNA DZIECI"},null,null,null,null,11,8,9,11,2,11,null,null,null,null,{"$f":"Q349-O349","v":"00:00:00"},{"$f":"IF(VLOOKUP(A349,dane!F:G,2,FALSE)=\"\",\"\",VLOOKUP(A349,dane!F:G,2,FALSE))","v":{"$error":"#N/A"}},null,null,{"$f":"IF(AND(COUNTA(K349,L349)=2,AF349=I350),\",\"&FIXED(K349,0,TRUE)&\":\"&FIXED(L349,0,TRUE),IF(AND(COUNTA(K349,L349)=2,AF349=L350),\",\"&FIXED(L349,0,TRUE)&\":\"&FIXED(K349,0,TRUE),\"\"))","v":",11:9"},{"$f":"IF(AND(COUNTA(K349,L349)=2,AF349=I350),\",\"&FIXED(L349,0,TRUE)&\":\"&FIXED(K349,0,TRUE),IF(AND(COUNTA(K349,L349)=2,AF349=L350),\",\"&FIXED(K349,0,TRUE)&\":\"&FIXED(L349,0,TRUE),\"\"))","v":",9:11"},null,{"$f":"A349","v":50},{"$f":"IF(ISBLANK(D349),\"\",D349)","v":"PODWÓJNA DZIECI"},{"$f":"IF(OR(I350=0,I350=\"\"),\"\",I350)","v":"X60"},{"$f":"IF(OR(I351=0,I351=\"\"),\"\",I351)","v":"X59"},{"$f":"IF(OR(L350=0,L350=\"\"),\"\",L350)","v":"X38"},{"$f":"IF(OR(L351=0,L351=\"\"),\"\",L351)","v":"X63"},{"$f":"IF(COUNTA(C352,L352)=1,IF(ISTEXT(C352),I350,L350),IF(OR(I349=\"\",W347=X347),\"\",IF(W347>X347,I350,L350)))","v":"X38"},{"$f":"IF(COUNTA(C352,L352)=1,IF(ISTEXT(C352),I351,L351),IF(OR(I349=\"\",W347=X347),\"\",IF(W347>X347,I351,L351)))","v":"X63"},{"$f":"IF(OR(AF349=I350,AF349=L350),IF(AF349=I350,W348&W349&W350&IF(ISTEXT(C352),\" \"&C352,\"\"),W348&W349&W350&IF(ISTEXT(L352),\" \"&L352,\"\")),\"\")","v":"8:11,11:9,11:2"},{"$f":"IF(OR(AF349=I350,AF349=L350),IF(AF349=I350,X348&X349&X350&IF(ISTEXT(C352),\" \"&C352,\"\"),X348&X349&X350&IF(ISTEXT(L352),\" \"&L352,\"\")),\"\")","v":"11:8,9:11,2:11"},{"$f":"IF(ISBLANK(L352),\"\",L352)","v":""},{"$f":"I349","v":11},{"$f":"J349","v":8},{"$f":"K349","v":9},{"$f":"L349","v":11},{"$f":"M349","v":2},{"$f":"N349","v":11},null,{"$f":"T347","v":0},{"$f":"T348","v":0},{"$f":"IF(OR(AA349=dane!$I$3,AA349=dane!$I$4,AA349=dane!$I$5,AA349=dane!$I$6),AR349,\"\")","v":""},{"$f":"IF(OR(AA349=dane!$I$7,AA349=dane!$I$8,AA349=dane!$I$10,AA349=dane!$I$11),AR349,\"\")","v":""},{"$f":"IF(OR(AA349=dane!$I$12,AA349=dane!$I$13,AA349=dane!$I$14,AA349=dane!$I$15),AR349,\"\")","v":0},{"$f":"IF(OR(AA349=dane!$I$16,AA349=dane!$I$17,AA349=dane!$I$18,AA349=dane!$I$19),AR349,\"\")","v":""},{"$f":"IF(OR(AA349=dane!$I$20,AA349=dane!$I$21,AA349=dane!$I$22,AA349=dane!$I$23),AR349,\"\")","v":""},{"$f":"IF(OR(AA349=dane!$I$3,AA349=dane!$I$4,AA349=dane!$I$5,AA349=dane!$I$6),AS349,\"\")","v":""},{"$f":"IF(OR(AA349=dane!$I$7,AA349=dane!$I$8,AA349=dane!$I$10,AA349=dane!$I$11),AS349,\"\")","v":""},{"$f":"IF(OR(AA349=dane!$I$12,AA349=dane!$I$13,AA349=dane!$I$14,AA349=dane!$I$15),AS349,\"\")","v":0},{"$f":"IF(OR(AA349=dane!$I$16,AA349=dane!$I$17,AA349=dane!$I$18,AA349=dane!$I$19),AS349,\"\")","v":""},{"$f":"IF(OR(AA349=dane!$I$20,AA349=dane!$I$21,AA349=dane!$I$22,AA349=dane!$I$23),AS349,\"\")","v":""},{"$f":"IF($T$1=\"\",\"\",IF(C349=\"\",\"\",IF(Q349=\"\",C350,\"\")))","v":""},{"$f":"IF(LEN(L351)>0,$V$3,$V$2)+Q349+$T$1+C347-1","v":"2014-11-22T00:15:00"},{"$f":"IF(BE349>NOW(),C350,\"\")","v":"Adam  Walocha (Ząbki)"},{"$f":"IF(C349<>\"\",\"\",VLOOKUP(C350,BD:BD,1,FALSE))","v":{"$error":"#N/A"}},{"$f":"IF(Q349<>\"\",\"\",VLOOKUP(C350,BF:BF,1,FALSE))","v":"Adam  Walocha (Ząbki)"},{"$f":"IF(BF349<>\"\",BE349,\"\")","v":41965.010416666664},{"$f":"IF(Q349=\"\",C349,\"\")","v":0},null,null,null,null,null,null,null,null,null,null,null,null,{"$f":"IF((LEN(C349)+LEN(C353)+LEN(L353))=0,I350,\"\")","v":""},{"$f":"IF(LEN(BW349)>0,A349,\"\")","v":""}]
[{"$f":"IF(TYPE(VLOOKUP(C350,BF:BI,4,FALSE))=1,VLOOKUP(C350,BF:BI,4,FALSE),\"\")","v":41960.017361111109},{"$f":"IF(TYPE(VLOOKUP(I350,BW:BX,2,FALSE))=16,\"\",VLOOKUP(I350,BW:BX,2,FALSE))","v":""},{"$f":"IF(I350=\"\",\"\",VLOOKUP(I350,zawodnicy!$A:$D,2,FALSE)&\" \"&VLOOKUP(I350,zawodnicy!$A:$D,3,FALSE)&\" (\"&VLOOKUP(I350,zawodnicy!$A:$D,4,FALSE)&\")\")","v":"Adam  Walocha (Ząbki)"},null,null,null,null,null,{"$f":"IF(TYPE(VLOOKUP(A349,'grup-puch'!$A:$E,2,FALSE))=2,VLOOKUP(A349,'grup-puch'!$A:$E,2,FALSE),IF(TYPE(VLOOKUP(A349,puch!$A:$E,2,FALSE))=2,VLOOKUP(A349,puch!$A:$E,2,FALSE),\"\"))","v":"X60"},null,null,{"$f":"IF(TYPE(VLOOKUP(A349,'grup-puch'!$A:$E,4,FALSE))=2,VLOOKUP(A349,'grup-puch'!$A:$E,4,FALSE),IF(TYPE(VLOOKUP(A349,puch!$A:$E,4,FALSE))=2,VLOOKUP(A349,puch!$A:$E,4,FALSE),\"\"))","v":"X38"},null,null,{"$f":"IF(L350=\"\",\"\",VLOOKUP(L350,zawodnicy!$A:$D,2,FALSE)&\" \"&VLOOKUP(L350,zawodnicy!$A:$D,3,FALSE)&\" (\"&VLOOKUP(L350,zawodnicy!$A:$D,4,FALSE)&\")\")","v":"Iza Pomykała (Marki)"},null,null,null,null,null,{"$f":"IF(TYPE(VLOOKUP(L350,BW:BX,2,FALSE))=16,\"\",VLOOKUP(L350,BW:BX,2,FALSE))","v":""},{"$f":"IF(TYPE(VLOOKUP(O350,BF:BI,4,FALSE))=1,VLOOKUP(O350,BF:BI,4,FALSE),\"\")","v":41962.010416666664},{"$f":"IF(AND(COUNTA(M349,N349)=2,AF349=I350),\",\"&FIXED(M349,0,TRUE)&\":\"&FIXED(N349,0,TRUE),IF(AND(COUNTA(M349,N349)=2,AF349=L350),\",\"&FIXED(N349,0,TRUE)&\":\"&FIXED(M349,0,TRUE),\"\"))","v":",11:2"},{"$f":"IF(AND(COUNTA(M349,N349)=2,AF349=I350),\",\"&FIXED(N349,0,TRUE)&\":\"&FIXED(M349,0,TRUE),IF(AND(COUNTA(M349,N349)=2,AF349=L350),\",\"&FIXED(M349,0,TRUE)&\":\"&FIXED(N349,0,TRUE),\"\"))","v":",2:11"},null,null,null,null,null,null,null,null,null,null,null,null,null,null,null,null,null,null,null,null,null,null,null,null,null,null,null,null,null,null,null,{"$f":"IF($T$1=\"\",\"\",IF(C349=\"\",\"\",IF(Q349=\"\",C351,\"\")))","v":""},null,{"$f":"IF(BE349>NOW(),C351,\"\")","v":"Jakub  Walocha (Ząbki)"},{"$f":"IF(C349<>\"\",\"\",VLOOKUP(C351,BD:BD,1,FALSE))","v":{"$error":"#N/A"}},{"$f":"IF(Q349<>\"\",\"\",VLOOKUP(C351,BF:BF,1,FALSE))","v":"Jakub  Walocha (Ząbki)"},{"$f":"IF(BF350<>\"\",BE349,\"\")","v":41965.010416666664},null,null,null,null,null,null,null,null,null,null,null,{"$f":"IF(VLOOKUP(I350,zawodnicy!A:E,5,FALSE)=0,\"\",C350)","v":""},{"$f":"IF(VLOOKUP(L350,zawodnicy!A:E,5,FALSE)=0,\"\",O350)","v":""},{"$f":"IF((LEN(C349)+LEN(C353)+LEN(L353))=0,I351,\"\")","v":""},{"$f":"IF(LEN(BW350)>0,A349,\"\")","v":""}]
[41958.017361111109,"",{"$f":"IF(OR(I351=0,I351=\"\"),\"\",VLOOKUP(I351,zawodnicy!$A:$D,2,FALSE)&\" \"&VLOOKUP(I351,zawodnicy!$A:$D,3,FALSE)&\" (\"&VLOOKUP(I351,zawodnicy!$A:$D,4,FALSE)&\")\")","v":"Jakub  Walocha (Ząbki)"},null,null,null,null,null,{"$f":"IF(TYPE(VLOOKUP(A349,'grup-puch'!$A:$E,3,FALSE))=2,VLOOKUP(A349,'grup-puch'!$A:$E,3,FALSE),IF(TYPE(VLOOKUP(A349,puch!$A:$E,3,FALSE))=2,VLOOKUP(A349,puch!$A:$E,3,FALSE),\"\"))","v":"X59"},null,null,{"$f":"IF(TYPE(VLOOKUP(A349,'grup-puch'!$A:$E,5,FALSE))=2,VLOOKUP(A349,'grup-puch'!$A:$E,5,FALSE),IF(TYPE(VLOOKUP(A349,puch!$A:$E,5,FALSE))=2,VLOOKUP(A349,puch!$A:$E,5,FALSE),\"\"))","v":"X63"},null,null,{"$f":"IF(OR(L351=\"\",L351=0),\"\",VLOOKUP(L351,zawodnicy!$A:$D,2,FALSE)&\" \"&VLOOKUP(L351,zawodnicy!$A:$D,3,FALSE)&\" (\"&VLOOKUP(L351,zawodnicy!$A:$D,4,FALSE)&\")\")","v":"Kasia Wróblewska (Mińsk Mazowiecki)"},null,null,null,null,null,"",41960.017361111109,null,null,null,null,null,null,null,null,null,null,null,null,null,null,null,null,null,null,null,null,null,null,null,null,null,null,null,null,null,null,null,null,null,{"$f":"IF($T$1=\"\",\"\",IF(C349=\"\",\"\",IF(Q349=\"\",O350,\"\")))","v":""},null,{"$f":"IF(BE349>NOW(),O350,\"\")","v":"Iza Pomykała (Marki)"},{"$f":"IF(C349<>\"\",\"\",VLOOKUP(O350,BD:BD,1,FALSE))","v":{"$error":"#N/A"}},{"$f":"IF(Q349<>\"\",\"\",VLOOKUP(O350,BF:BF,1,FALSE))","v":"Iza Pomykała (Marki)"},{"$f":"IF(BF351<>\"\",BE349,\"\")","v":41965.010416666664},null,null,null,null,null,null,null,null,null,null,null,{"$f":"IF(VLOOKUP(I351,zawodnicy!A:E,5,FALSE)=0,\"\",C351)","v":""},{"$f":"IF(VLOOKUP(L351,zawodnicy!A:E,5,FALSE)=0,\"\",O351)","v":""},{"$f":"IF((LEN(C349)+LEN(C353)+LEN(L353))=0,L350,\"\")","v":""},{"$f":"IF(LEN(BW351)>0,A349,\"\")","v":""}]
[null,null,null,null,null,null,null,null,null,null,null,null,null,null,null,null,null,null,null,null,null,null,null,null,null,null,null,null,null,null,null,null,null,null,null,null,null,null,null,null,null,null,null,null,null,null,null,null,null,null,null,null,null,null,null,{"$f":"IF($T$1=\"\",\"\",IF(C349=\"\",\"\",IF(Q349=\"\",O351,\"\")))","v":""},null,{"$f":"IF(BE349>NOW(),O351,\"\")","v":"Kasia Wróblewska (Mińsk Mazowiecki)"},{"$f":"IF(C349<>\"\",\"\",VLOOKUP(O351,BD:BD,1,FALSE))","v":{"$error":"#N/A"}},{"$f":"IF(Q349<>\"\",\"\",VLOOKUP(O351,BF:BF,1,FALSE))","v":"Kasia Wróblewska (Mińsk Mazowiecki)"},{"$f":"IF(BF352<>\"\",BE349,\"\")","v":41965.010416666664},null,null,null,null,null,null,null,null,null,null,null,null,null,{"$f":"IF((LEN(C349)+LEN(C353)+LEN(L353))=0,L351,\"\")","v":""},{"$f":"IF(LEN(BW352)>0,A349,\"\")","v":""}]
[null,null,{"$f":"IF(I350=\"\",\"\",IF(I350=AF349,\"zwycięzca(cy):\"&\" \"&AH349,\"\"))","v":""},null,null,null,null,null,null,null,null,{"$f":"IF(L350=\"\",\"\",IF(L350=AF349,\"zwycięzca(cy):\"&\" \"&AH349,\"\"))","v":"zwycięzca(cy): 8:11,11:9,11:2"}]
[null,null,51,"dzień turnieju.",null,null,null,null,null,"Nr meczu",null,null,null,null,"Godz.",null,null,null,"S. prow.",null,null,null,{"$f":"IF(I356>J356,1,0)+IF(K356>L356,1,0)+IF(M356>N356,1,0)","v":2},{"$f":"IF(J356>I356,1,0)+IF(L356>K356,1,0)+IF(N356>M356,1,0)","v":0},null,null,null,null,null,null,null,null,null,"wygrany","przegrany"]
[null,null,"Boisko","Gra",null,null,null,null,null,{"$f":"A356","v":51},null,null,null,null,"rozp.",null,"zak.",null,"S. serw.",null,null,null,{"$f":"IF(AND(COUNTA(I356,J356)=2,AF356=I357),FIXED(I356,0,TRUE)&\":\"&FIXED(J356,0,TRUE),IF(AND(COUNTA(I356,J356)=2,AF356=L357),FIXED(J356,0,TRUE)&\":\"&FIXED(I356,0,TRUE),\"\"))","v":"11:6"},{"$f":"IF(AND(COUNTA(I356,J356)=2,AF356=I357),FIXED(J356,0,TRUE)&\":\"&FIXED(I356,0,TRUE),IF(AND(COUNTA(I356,J356)=2,AF356=L357),FIXED(I356,0,TRUE)&\":\"&FIXED(J356,0,TRUE),\"\"))","v":"6:11"}]
[51,null,null,{"$f":"IF(TYPE(VLOOKUP(A356,'grup-puch'!$A:$M,13,FALSE))=2,VLOOKUP(A356,'grup-puch'!$A:$M,13,FALSE),IF(TYPE(VLOOKUP(A356,puch!$A:$J,10,FALSE))=2,VLOOKUP(A356,puch!$A:$J,10,FALSE),\"\"))","v":"PODWÓJNA DZIECI"},null,null,null,null,11,6,11,8,null,null,null,null,null,null,{"$f":"Q356-O356","v":"00:00:00"},{"$f":"IF(VLOOKUP(A356,dane!F:G,2,FALSE)=\"\",\"\",VLOOKUP(A356,dane!F:G,2,FALSE))","v":{"$error":"#N/A"}},null,null,{"$f":"IF(AND(COUNTA(K356,L356)=2,AF356=I357),\",\"&FIXED(K356,0,TRUE)&\":\"&FIXED(L356,0,TRUE),IF(AND(COUNTA(K356,L356)=2,AF356=L357),\",\"&FIXED(L356,0,TRUE)&\":\"&FIXED(K356,0,TRUE),\"\"))","v":",11:8"},{"$f":"IF(AND(COUNTA(K356,L356)=2,AF356=I357),\",\"&FIXED(L356,0,TRUE)&\":\"&FIXED(K356,0,TRUE),IF(AND(COUNTA(K356,L356)=2,AF356=L357),\",\"&FIXED(K356,0,TRUE)&\":\"&FIXED(L356,0,TRUE),\"\"))","v":",8:11"},null,{"$f":"A356","v":51},{"$f":"IF(ISBLANK(D356),\"\",D356)","v":"PODWÓJNA DZIECI"},{"$f":"IF(OR(I357=0,I357=\"\"),\"\",I357)","v":"X70"},{"$f":"IF(OR(I358=0,I358=\"\"),\"\",I358)","v":"X71"},{"$f":"IF(OR(L357=0,L357=\"\"),\"\",L357)","v":"X21"},{"$f":"IF(OR(L358=0,L358=\"\"),\"\",L358)","v":"X24"},{"$f":"IF(COUNTA(C359,L359)=1,IF(ISTEXT(C359),I357,L357),IF(OR(I356=\"\",W354=X354),\"\",IF(W354>X354,I357,L357)))","v":"X70"},{"$f":"IF(COUNTA(C359,L359)=1,IF(ISTEXT(C359),I358,L358),IF(OR(I356=\"\",W354=X354),\"\",IF(W354>X354,I358,L358)))","v":"X71"},{"$f":"IF(OR(AF356=I357,AF356=L357),IF(AF356=I357,W355&W356&W357&IF(ISTEXT(C359),\" \"&C359,\"\"),W355&W356&W357&IF(ISTEXT(L359),\" \"&L359,\"\")),\"\")","v":"11:6,11:8"},{"$f":"IF(OR(AF356=I357,AF356=L357),IF(AF356=I357,X355&X356&X357&IF(ISTEXT(C359),\" \"&C359,\"\"),X355&X356&X357&IF(ISTEXT(L359),\" \"&L359,\"\")),\"\")","v":"6:11,8:11"},{"$f":"IF(ISBLANK(L359),\"\",L359)","v":""},{"$f":"I356","v":11},{"$f":"J356","v":6},{"$f":"K356","v":11},{"$f":"L356","v":8},{"$f":"M356","v":0},{"$f":"N356","v":0},null,{"$f":"T354","v":0},{"$f":"T355","v":0},{"$f":"IF(OR(AA356=dane!$I$3,AA356=dane!$I$4,AA356=dane!$I$5,AA356=dane!$I$6),AR356,\"\")","v":""},{"$f":"IF(OR(AA356=dane!$I$7,AA356=dane!$I$8,AA356=dane!$I$10,AA356=dane!$I$11),AR356,\"\")","v":""},{"$f":"IF(OR(AA356=dane!$I$12,AA356=dane!$I$13,AA356=dane!$I$14,AA356=dane!$I$15),AR356,\"\")","v":0},{"$f":"IF(OR(AA356=dane!$I$16,AA356=dane!$I$17,AA356=dane!$I$18,AA356=dane!$I$19),AR356,\"\")","v":""},{"$f":"IF(OR(AA356=dane!$I$20,AA356=dane!$I$21,AA356=dane!$I$22,AA356=dane!$I$23),AR356,\"\")","v":""},{"$f":"IF(OR(AA356=dane!$I$3,AA356=dane!$I$4,AA356=dane!$I$5,AA356=dane!$I$6),AS356,\"\")","v":""},{"$f":"IF(OR(AA356=dane!$I$7,AA356=dane!$I$8,AA356=dane!$I$10,AA356=dane!$I$11),AS356,\"\")","v":""},{"$f":"IF(OR(AA356=dane!$I$12,AA356=dane!$I$13,AA356=dane!$I$14,AA356=dane!$I$15),AS356,\"\")","v":0},{"$f":"IF(OR(AA356=dane!$I$16,AA356=dane!$I$17,AA356=dane!$I$18,AA356=dane!$I$19),AS356,\"\")","v":""},{"$f":"IF(OR(AA356=dane!$I$20,AA356=dane!$I$21,AA356=dane!$I$22,AA356=dane!$I$23),AS356,\"\")","v":""},{"$f":"IF($T$1=\"\",\"\",IF(C356=\"\",\"\",IF(Q356=\"\",C357,\"\")))","v":""},{"$f":"IF(LEN(L358)>0,$V$3,$V$2)+Q356+$T$1+C354-1","v":"2014-11-23T00:15:00"},{"$f":"IF(BE356>NOW(),C357,\"\")","v":"Konrad  Kalinowski (Garwolin)"},{"$f":"IF(C356<>\"\",\"\",VLOOKUP(C357,BD:BD,1,FALSE))","v":{"$error":"#N/A"}},{"$f":"IF(Q356<>\"\",\"\",VLOOKUP(C357,BF:BF,1,FALSE))","v":"Konrad  Kalinowski (Garwolin)"},{"$f":"IF(BF356<>\"\",BE356,\"\")","v":41966.010416666664},{"$f":"IF(Q356=\"\",C356,\"\")","v":0},null,null,null,null,null,null,null,null,null,null,null,null,{"$f":"IF((LEN(C356)+LEN(C360)+LEN(L360))=0,I357,\"\")","v":""},{"$f":"IF(LEN(BW356)>0,A356,\"\")","v":""}]
[{"$f":"IF(TYPE(VLOOKUP(C357,BF:BI,4,FALSE))=1,VLOOKUP(C357,BF:BI,4,FALSE),\"\")","v":41963.010416666664},{"$f":"IF(TYPE(VLOOKUP(I357,BW:BX,2,FALSE))=16,\"\",VLOOKUP(I357,BW:BX,2,FALSE))","v":""},{"$f":"IF(I357=\"\",\"\",VLOOKUP(I357,zawodnicy!$A:$D,2,FALSE)&\" \"&VLOOKUP(I357,zawodnicy!$A:$D,3,FALSE)&\" (\"&VLOOKUP(I357,zawodnicy!$A:$D,4,FALSE)&\")\")","v":"Konrad  Kalinowski (Garwolin)"},null,null,null,null,null,{"$f":"IF(TYPE(VLOOKUP(A356,'grup-puch'!$A:$E,2,FALSE))=2,VLOOKUP(A356,'grup-puch'!$A:$E,2,FALSE),IF(TYPE(VLOOKUP(A356,puch!$A:$E,2,FALSE))=2,VLOOKUP(A356,puch!$A:$E,2,FALSE),\"\"))","v":"X70"},null,null,{"$f":"IF(TYPE(VLOOKUP(A356,'grup-puch'!$A:$E,4,FALSE))=2,VLOOKUP(A356,'grup-puch'!$A:$E,4,FALSE),IF(TYPE(VLOOKUP(A356,puch!$A:$E,4,FALSE))=2,VLOOKUP(A356,puch!$A:$E,4,FALSE),\"\"))","v":"X21"},null,null,{"$f":"IF(L357=\"\",\"\",VLOOKUP(L357,zawodnicy!$A:$D,2,FALSE)&\" \"&VLOOKUP(L357,zawodnicy!$A:$D,3,FALSE)&\" (\"&VLOOKUP(L357,zawodnicy!$A:$D,4,FALSE)&\")\")","v":"Magdalena  Krupa (Wesoła)"},null,null,null,null,null,{"$f":"IF(TYPE(VLOOKUP(L357,BW:BX,2,FALSE))=16,\"\",VLOOKUP(L357,BW:BX,2,FALSE))","v":""},{"$f":"IF(TYPE(VLOOKUP(O357,BF:BI,4,FALSE))=1,VLOOKUP(O357,BF:BI,4,FALSE),\"\")","v":41964.010416666664},{"$f":"IF(AND(COUNTA(M356,N356)=2,AF356=I357),\",\"&FIXED(M356,0,TRUE)&\":\"&FIXED(N356,0,TRUE),IF(AND(COUNTA(M356,N356)=2,AF356=L357),\",\"&FIXED(N356,0,TRUE)&\":\"&FIXED(M356,0,TRUE),\"\"))","v":""},{"$f":"IF(AND(COUNTA(M356,N356)=2,AF356=I357),\",\"&FIXED(N356,0,TRUE)&\":\"&FIXED(M356,0,TRUE),IF(AND(COUNTA(M356,N356)=2,AF356=L357),\",\"&FIXED(M356,0,TRUE)&\":\"&FIXED(N356,0,TRUE),\"\"))","v":""},null,null,null,null,null,null,null,null,null,null,null,null,null,null,null,null,null,null,null,null,null,null,null,null,null,null,null,null,null,null,null,{"$f":"IF($T$1=\"\",\"\",IF(C356=\"\",\"\",IF(Q356=\"\",C358,\"\")))","v":""},null,{"$f":"IF(BE356>NOW(),C358,\"\")","v":"Grzegorz  Cybulski (Garwolin)"},{"$f":"IF(C356<>\"\",\"\",VLOOKUP(C358,BD:BD,1,FALSE))","v":{"$error":"#N/A"}},{"$f":"IF(Q356<>\"\",\"\",VLOOKUP(C358,BF:BF,1,FALSE))","v":"Grzegorz  Cybulski (Garwolin)"},{"$f":"IF(BF357<>\"\",BE356,\"\")","v":41966.010416666664},null,null,null,null,null,null,null,null,null,null,null,{"$f":"IF(VLOOKUP(I357,zawodnicy!A:E,5,FALSE)=0,\"\",C357)","v":""},{"$f":"IF(VLOOKUP(L357,zawodnicy!A:E,5,FALSE)=0,\"\",O357)","v":""},{"$f":"IF((LEN(C356)+LEN(C360)+LEN(L360))=0,I358,\"\")","v":""},{"$f":"IF(LEN(BW357)>0,A356,\"\")","v":""}]
[41959.017361111109,"",{"$f":"IF(OR(I358=0,I358=\"\"),\"\",VLOOKUP(I358,zawodnicy!$A:$D,2,FALSE)&\" \"&VLOOKUP(I358,zawodnicy!$A:$D,3,FALSE)&\" (\"&VLOOKUP(I358,zawodnicy!$A:$D,4,FALSE)&\")\")","v":"Grzegorz  Cybulski (Garwolin)"},null,null,null,null,null,{"$f":"IF(TYPE(VLOOKUP(A356,'grup-puch'!$A:$E,3,FALSE))=2,VLOOKUP(A356,'grup-puch'!$A:$E,3,FALSE),IF(TYPE(VLOOKUP(A356,puch!$A:$E,3,FALSE))=2,VLOOKUP(A356,puch!$A:$E,3,FALSE),\"\"))","v":"X71"},null,null,{"$f":"IF(TYPE(VLOOKUP(A356,'grup-puch'!$A:$E,5,FALSE))=2,VLOOKUP(A356,'grup-puch'!$A:$E,5,FALSE),IF(TYPE(VLOOKUP(A356,puch!$A:$E,5,FALSE))=2,VLOOKUP(A356,puch!$A:$E,5,FALSE),\"\"))","v":"X24"},null,null,{"$f":"IF(OR(L358=\"\",L358=0),\"\",VLOOKUP(L358,zawodnicy!$A:$D,2,FALSE)&\" \"&VLOOKUP(L358,zawodnicy!$A:$D,3,FALSE)&\" (\"&VLOOKUP(L358,zawodnicy!$A:$D,4,FALSE)&\")\")","v":"Karolina Łukomska (Zielonka)"},null,null,null,null,null,"",41964.010416666664,null,null,null,null,null,null,null,null,null,null,null,null,null,null,null,null,null,null,null,null,null,null,null,null,null,null,null,null,null,null,null,null,null,{"$f":"IF($T$1=\"\",\"\",IF(C356=\"\",\"\",IF(Q356=\"\",O357,\"\")))","v":""},null,{"$f":"IF(BE356>NOW(),O357,\"\")","v":"Magdalena  Krupa (Wesoła)"},{"$f":"IF(C356<>\"\",\"\",VLOOKUP(O357,BD:BD,1,FALSE))","v":{"$error":"#N/A"}},{"$f":"IF(Q356<>\"\",\"\",VLOOKUP(O357,BF:BF,1,FALSE))","v":"Magdalena  Krupa (Wesoła)"},{"$f":"IF(BF358<>\"\",BE356,\"\")","v":41966.010416666664},null,null,null,null,null,null,null,null,null,null,null,{"$f":"IF(VLOOKUP(I358,zawodnicy!A:E,5,FALSE)=0,\"\",C358)","v":""},{"$f":"IF(VLOOKUP(L358,zawodnicy!A:E,5,FALSE)=0,\"\",O358)","v":""},{"$f":"IF((LEN(C356)+LEN(C360)+LEN(L360))=0,L357,\"\")","v":""},{"$f":"IF(LEN(BW358)>0,A356,\"\")","v":""}]
[null,null,null,null,null,null,null,null,null,null,null,null,null,null,null,null,null,null,null,null,null,null,null,null,null,null,null,null,null,null,null,null,null,null,null,null,null,null,null,null,null,null,null,null,null,null,null,null,null,null,null,null,null,null,null,{"$f":"IF($T$1=\"\",\"\",IF(C356=\"\",\"\",IF(Q356=\"\",O358,\"\")))","v":""},null,{"$f":"IF(BE356>NOW(),O358,\"\")","v":"Karolina Łukomska (Zielonka)"},{"$f":"IF(C356<>\"\",\"\",VLOOKUP(O358,BD:BD,1,FALSE))","v":{"$error":"#N/A"}},{"$f":"IF(Q356<>\"\",\"\",VLOOKUP(O358,BF:BF,1,FALSE))","v":"Karolina Łukomska (Zielonka)"},{"$f":"IF(BF359<>\"\",BE356,\"\")","v":41966.010416666664},null,null,null,null,null,null,null,null,null,null,null,null,null,{"$f":"IF((LEN(C356)+LEN(C360)+LEN(L360))=0,L358,\"\")","v":""},{"$f":"IF(LEN(BW359)>0,A356,\"\")","v":""}]
[null,null,{"$f":"IF(I357=\"\",\"\",IF(I357=AF356,\"zwycięzca(cy):\"&\" \"&AH356,\"\"))","v":"zwycięzca(cy): 11:6,11:8"},null,null,null,null,null,null,null,null,{"$f":"IF(L357=\"\",\"\",IF(L357=AF356,\"zwycięzca(cy):\"&\" \"&AH356,\"\"))","v":""}]
[null,null,52,"dzień turnieju.",null,null,null,null,null,"Nr meczu",null,null,null,null,"Godz.",null,null,null,"S. prow.",null,null,null,{"$f":"IF(I363>J363,1,0)+IF(K363>L363,1,0)+IF(M363>N363,1,0)","v":2},{"$f":"IF(J363>I363,1,0)+IF(L363>K363,1,0)+IF(N363>M363,1,0)","v":0},null,null,null,null,null,null,null,null,null,"wygrany","przegrany"]
[null,null,"Boisko","Gra",null,null,null,null,null,{"$f":"A363","v":52},null,null,null,null,"rozp.",null,"zak.",null,"S. serw.",null,null,null,{"$f":"IF(AND(COUNTA(I363,J363)=2,AF363=I364),FIXED(I363,0,TRUE)&\":\"&FIXED(J363,0,TRUE),IF(AND(COUNTA(I363,J363)=2,AF363=L364),FIXED(J363,0,TRUE)&\":\"&FIXED(I363,0,TRUE),\"\"))","v":"11:5"},{"$f":"IF(AND(COUNTA(I363,J363)=2,AF363=I364),FIXED(J363,0,TRUE)&\":\"&FIXED(I363,0,TRUE),IF(AND(COUNTA(I363,J363)=2,AF363=L364),FIXED(I363,0,TRUE)&\":\"&FIXED(J363,0,TRUE),\"\"))","v":"5:11"}]
[52,null,null,{"$f":"IF(TYPE(VLOOKUP(A363,'grup-puch'!$A:$M,13,FALSE))=2,VLOOKUP(A363,'grup-puch'!$A:$M,13,FALSE),IF(TYPE(VLOOKUP(A363,puch!$A:$J,10,FALSE))=2,VLOOKUP(A363,puch!$A:$J,10,FALSE),\"\"))","v":"PODWÓJNA DZIECI"},null,null,null,null,11,5,11,1,null,null,null,null,null,null,{"$f":"Q363-O363","v":"00:00:00"},{"$f":"IF(VLOOKUP(A363,dane!F:G,2,FALSE)=\"\",\"\",VLOOKUP(A363,dane!F:G,2,FALSE))","v":{"$error":"#N/A"}},null,null,{"$f":"IF(AND(COUNTA(K363,L363)=2,AF363=I364),\",\"&FIXED(K363,0,TRUE)&\":\"&FIXED(L363,0,TRUE),IF(AND(COUNTA(K363,L363)=2,AF363=L364),\",\"&FIXED(L363,0,TRUE)&\":\"&FIXED(K363,0,TRUE),\"\"))","v":",11:1"},{"$f":"IF(AND(COUNTA(K363,L363)=2,AF363=I364),\",\"&FIXED(L363,0,TRUE)&\":\"&FIXED(K363,0,TRUE),IF(AND(COUNTA(K363,L363)=2,AF363=L364),\",\"&FIXED(K363,0,TRUE)&\":\"&FIXED(L363,0,TRUE),\"\"))","v":",1:11"},null,{"$f":"A363","v":52},{"$f":"IF(ISBLANK(D363),\"\",D363)","v":"PODWÓJNA DZIECI"},{"$f":"IF(OR(I364=0,I364=\"\"),\"\",I364)","v":"X60"},{"$f":"IF(OR(I365=0,I365=\"\"),\"\",I365)","v":"X59"},{"$f":"IF(OR(L364=0,L364=\"\"),\"\",L364)","v":"X21"},{"$f":"IF(OR(L365=0,L365=\"\"),\"\",L365)","v":"X24"},{"$f":"IF(COUNTA(C366,L366)=1,IF(ISTEXT(C366),I364,L364),IF(OR(I363=\"\",W361=X361),\"\",IF(W361>X361,I364,L364)))","v":"X60"},{"$f":"IF(COUNTA(C366,L366)=1,IF(ISTEXT(C366),I365,L365),IF(OR(I363=\"\",W361=X361),\"\",IF(W361>X361,I365,L365)))","v":"X59"},{"$f":"IF(OR(AF363=I364,AF363=L364),IF(AF363=I364,W362&W363&W364&IF(ISTEXT(C366),\" \"&C366,\"\"),W362&W363&W364&IF(ISTEXT(L366),\" \"&L366,\"\")),\"\")","v":"11:5,11:1"},{"$f":"IF(OR(AF363=I364,AF363=L364),IF(AF363=I364,X362&X363&X364&IF(ISTEXT(C366),\" \"&C366,\"\"),X362&X363&X364&IF(ISTEXT(L366),\" \"&L366,\"\")),\"\")","v":"5:11,1:11"},{"$f":"IF(ISBLANK(L366),\"\",L366)","v":""},{"$f":"I363","v":11},{"$f":"J363","v":5},{"$f":"K363","v":11},{"$f":"L363","v":1},{"$f":"M363","v":0},{"$f":"N363","v":0},null,{"$f":"T361","v":0},{"$f":"T362","v":0},{"$f":"IF(OR(AA363=dane!$I$3,AA363=dane!$I$4,AA363=dane!$I$5,AA363=dane!$I$6),AR363,\"\")","v":""},{"$f":"IF(OR(AA363=dane!$I$7,AA363=dane!$I$8,AA363=dane!$I$10,AA363=dane!$I$11),AR363,\"\")","v":""},{"$f":"IF(OR(AA363=dane!$I$12,AA363=dane!$I$13,AA363=dane!$I$14,AA363=dane!$I$15),AR363,\"\")","v":0},{"$f":"IF(OR(AA363=dane!$I$16,AA363=dane!$I$17,AA363=dane!$I$18,AA363=dane!$I$19),AR363,\"\")","v":""},{"$f":"IF(OR(AA363=dane!$I$20,AA363=dane!$I$21,AA363=dane!$I$22,AA363=dane!$I$23),AR363,\"\")","v":""},{"$f":"IF(OR(AA363=dane!$I$3,AA363=dane!$I$4,AA363=dane!$I$5,AA363=dane!$I$6),AS363,\"\")","v":""},{"$f":"IF(OR(AA363=dane!$I$7,AA363=dane!$I$8,AA363=dane!$I$10,AA363=dane!$I$11),AS363,\"\")","v":""},{"$f":"IF(OR(AA363=dane!$I$12,AA363=dane!$I$13,AA363=dane!$I$14,AA363=dane!$I$15),AS363,\"\")","v":0},{"$f":"IF(OR(AA363=dane!$I$16,AA363=dane!$I$17,AA363=dane!$I$18,AA363=dane!$I$19),AS363,\"\")","v":""},{"$f":"IF(OR(AA363=dane!$I$20,AA363=dane!$I$21,AA363=dane!$I$22,AA363=dane!$I$23),AS363,\"\")","v":""},{"$f":"IF($T$1=\"\",\"\",IF(C363=\"\",\"\",IF(Q363=\"\",C364,\"\")))","v":""},{"$f":"IF(LEN(L365)>0,$V$3,$V$2)+Q363+$T$1+C361-1","v":"2014-11-24T00:15:00"},{"$f":"IF(BE363>NOW(),C364,\"\")","v":"Adam  Walocha (Ząbki)"},{"$f":"IF(C363<>\"\",\"\",VLOOKUP(C364,BD:BD,1,FALSE))","v":{"$error":"#N/A"}},{"$f":"IF(Q363<>\"\",\"\",VLOOKUP(C364,BF:BF,1,FALSE))","v":"Adam  Walocha (Ząbki)"},{"$f":"IF(BF363<>\"\",BE363,\"\")","v":41967.010416666664},{"$f":"IF(Q363=\"\",C363,\"\")","v":0},null,null,null,null,null,null,null,null,null,null,null,null,{"$f":"IF((LEN(C363)+LEN(C367)+LEN(L367))=0,I364,\"\")","v":""},{"$f":"IF(LEN(BW363)>0,A363,\"\")","v":""}]
[{"$f":"IF(TYPE(VLOOKUP(C364,BF:BI,4,FALSE))=1,VLOOKUP(C364,BF:BI,4,FALSE),\"\")","v":41960.017361111109},{"$f":"IF(TYPE(VLOOKUP(I364,BW:BX,2,FALSE))=16,\"\",VLOOKUP(I364,BW:BX,2,FALSE))","v":""},{"$f":"IF(I364=\"\",\"\",VLOOKUP(I364,zawodnicy!$A:$D,2,FALSE)&\" \"&VLOOKUP(I364,zawodnicy!$A:$D,3,FALSE)&\" (\"&VLOOKUP(I364,zawodnicy!$A:$D,4,FALSE)&\")\")","v":"Adam  Walocha (Ząbki)"},null,null,null,null,null,{"$f":"IF(TYPE(VLOOKUP(A363,'grup-puch'!$A:$E,2,FALSE))=2,VLOOKUP(A363,'grup-puch'!$A:$E,2,FALSE),IF(TYPE(VLOOKUP(A363,puch!$A:$E,2,FALSE))=2,VLOOKUP(A363,puch!$A:$E,2,FALSE),\"\"))","v":"X60"},null,null,{"$f":"IF(TYPE(VLOOKUP(A363,'grup-puch'!$A:$E,4,FALSE))=2,VLOOKUP(A363,'grup-puch'!$A:$E,4,FALSE),IF(TYPE(VLOOKUP(A363,puch!$A:$E,4,FALSE))=2,VLOOKUP(A363,puch!$A:$E,4,FALSE),\"\"))","v":"X21"},null,null,{"$f":"IF(L364=\"\",\"\",VLOOKUP(L364,zawodnicy!$A:$D,2,FALSE)&\" \"&VLOOKUP(L364,zawodnicy!$A:$D,3,FALSE)&\" (\"&VLOOKUP(L364,zawodnicy!$A:$D,4,FALSE)&\")\")","v":"Magdalena  Krupa (Wesoła)"},null,null,null,null,null,{"$f":"IF(TYPE(VLOOKUP(L364,BW:BX,2,FALSE))=16,\"\",VLOOKUP(L364,BW:BX,2,FALSE))","v":""},{"$f":"IF(TYPE(VLOOKUP(O364,BF:BI,4,FALSE))=1,VLOOKUP(O364,BF:BI,4,FALSE),\"\")","v":41964.010416666664},{"$f":"IF(AND(COUNTA(M363,N363)=2,AF363=I364),\",\"&FIXED(M363,0,TRUE)&\":\"&FIXED(N363,0,TRUE),IF(AND(COUNTA(M363,N363)=2,AF363=L364),\",\"&FIXED(N363,0,TRUE)&\":\"&FIXED(M363,0,TRUE),\"\"))","v":""},{"$f":"IF(AND(COUNTA(M363,N363)=2,AF363=I364),\",\"&FIXED(N363,0,TRUE)&\":\"&FIXED(M363,0,TRUE),IF(AND(COUNTA(M363,N363)=2,AF363=L364),\",\"&FIXED(M363,0,TRUE)&\":\"&FIXED(N363,0,TRUE),\"\"))","v":""},null,null,null,null,null,null,null,null,null,null,null,null,null,null,null,null,null,null,null,null,null,null,null,null,null,null,null,null,null,null,null,{"$f":"IF($T$1=\"\",\"\",IF(C363=\"\",\"\",IF(Q363=\"\",C365,\"\")))","v":""},null,{"$f":"IF(BE363>NOW(),C365,\"\")","v":"Jakub  Walocha (Ząbki)"},{"$f":"IF(C363<>\"\",\"\",VLOOKUP(C365,BD:BD,1,FALSE))","v":{"$error":"#N/A"}},{"$f":"IF(Q363<>\"\",\"\",VLOOKUP(C365,BF:BF,1,FALSE))","v":"Jakub  Walocha (Ząbki)"},{"$f":"IF(BF364<>\"\",BE363,\"\")","v":41967.010416666664},null,null,null,null,null,null,null,null,null,null,null,{"$f":"IF(VLOOKUP(I364,zawodnicy!A:E,5,FALSE)=0,\"\",C364)","v":""},{"$f":"IF(VLOOKUP(L364,zawodnicy!A:E,5,FALSE)=0,\"\",O364)","v":""},{"$f":"IF((LEN(C363)+LEN(C367)+LEN(L367))=0,I365,\"\")","v":""},{"$f":"IF(LEN(BW364)>0,A363,\"\")","v":""}]
[41958.017361111109,"",{"$f":"IF(OR(I365=0,I365=\"\"),\"\",VLOOKUP(I365,zawodnicy!$A:$D,2,FALSE)&\" \"&VLOOKUP(I365,zawodnicy!$A:$D,3,FALSE)&\" (\"&VLOOKUP(I365,zawodnicy!$A:$D,4,FALSE)&\")\")","v":"Jakub  Walocha (Ząbki)"},null,null,null,null,null,{"$f":"IF(TYPE(VLOOKUP(A363,'grup-puch'!$A:$E,3,FALSE))=2,VLOOKUP(A363,'grup-puch'!$A:$E,3,FALSE),IF(TYPE(VLOOKUP(A363,puch!$A:$E,3,FALSE))=2,VLOOKUP(A363,puch!$A:$E,3,FALSE),\"\"))","v":"X59"},null,null,{"$f":"IF(TYPE(VLOOKUP(A363,'grup-puch'!$A:$E,5,FALSE))=2,VLOOKUP(A363,'grup-puch'!$A:$E,5,FALSE),IF(TYPE(VLOOKUP(A363,puch!$A:$E,5,FALSE))=2,VLOOKUP(A363,puch!$A:$E,5,FALSE),\"\"))","v":"X24"},null,null,{"$f":"IF(OR(L365=\"\",L365=0),\"\",VLOOKUP(L365,zawodnicy!$A:$D,2,FALSE)&\" \"&VLOOKUP(L365,zawodnicy!$A:$D,3,FALSE)&\" (\"&VLOOKUP(L365,zawodnicy!$A:$D,4,FALSE)&\")\")","v":"Karolina Łukomska (Zielonka)"},null,null,null,null,null,"",41964.010416666664,null,null,null,null,null,null,null,null,null,null,null,null,null,null,null,null,null,null,null,null,null,null,null,null,null,null,null,null,null,null,null,null,null,{"$f":"IF($T$1=\"\",\"\",IF(C363=\"\",\"\",IF(Q363=\"\",O364,\"\")))","v":""},null,{"$f":"IF(BE363>NOW(),O364,\"\")","v":"Magdalena  Krupa (Wesoła)"},{"$f":"IF(C363<>\"\",\"\",VLOOKUP(O364,BD:BD,1,FALSE))","v":{"$error":"#N/A"}},{"$f":"IF(Q363<>\"\",\"\",VLOOKUP(O364,BF:BF,1,FALSE))","v":"Magdalena  Krupa (Wesoła)"},{"$f":"IF(BF365<>\"\",BE363,\"\")","v":41967.010416666664},null,null,null,null,null,null,null,null,null,null,null,{"$f":"IF(VLOOKUP(I365,zawodnicy!A:E,5,FALSE)=0,\"\",C365)","v":""},{"$f":"IF(VLOOKUP(L365,zawodnicy!A:E,5,FALSE)=0,\"\",O365)","v":""},{"$f":"IF((LEN(C363)+LEN(C367)+LEN(L367))=0,L364,\"\")","v":""},{"$f":"IF(LEN(BW365)>0,A363,\"\")","v":""}]
[null,null,null,null,null,null,null,null,null,null,null,null,null,null,null,null,null,null,null,null,null,null,null,null,null,null,null,null,null,null,null,null,null,null,null,null,null,null,null,null,null,null,null,null,null,null,null,null,null,null,null,null,null,null,null,{"$f":"IF($T$1=\"\",\"\",IF(C363=\"\",\"\",IF(Q363=\"\",O365,\"\")))","v":""},null,{"$f":"IF(BE363>NOW(),O365,\"\")","v":"Karolina Łukomska (Zielonka)"},{"$f":"IF(C363<>\"\",\"\",VLOOKUP(O365,BD:BD,1,FALSE))","v":{"$error":"#N/A"}},{"$f":"IF(Q363<>\"\",\"\",VLOOKUP(O365,BF:BF,1,FALSE))","v":"Karolina Łukomska (Zielonka)"},{"$f":"IF(BF366<>\"\",BE363,\"\")","v":41967.010416666664},null,null,null,null,null,null,null,null,null,null,null,null,null,{"$f":"IF((LEN(C363)+LEN(C367)+LEN(L367))=0,L365,\"\")","v":""},{"$f":"IF(LEN(BW366)>0,A363,\"\")","v":""}]
[null,null,{"$f":"IF(I364=\"\",\"\",IF(I364=AF363,\"zwycięzca(cy):\"&\" \"&AH363,\"\"))","v":"zwycięzca(cy): 11:5,11:1"},null,null,null,null,null,null,null,null,{"$f":"IF(L364=\"\",\"\",IF(L364=AF363,\"zwycięzca(cy):\"&\" \"&AH363,\"\"))","v":""}]
[null,null,53,"dzień turnieju.",null,null,null,null,null,"Nr meczu",null,null,null,null,"Godz.",null,null,null,"S. prow.",null,null,null,{"$f":"IF(I370>J370,1,0)+IF(K370>L370,1,0)+IF(M370>N370,1,0)","v":2},{"$f":"IF(J370>I370,1,0)+IF(L370>K370,1,0)+IF(N370>M370,1,0)","v":1},null,null,null,null,null,null,null,null,null,"wygrany","przegrany"]
[null,null,"Boisko","Gra",null,null,null,null,null,{"$f":"A370","v":53},null,null,null,null,"rozp.",null,"zak.",null,"S. serw.",null,null,null,{"$f":"IF(AND(COUNTA(I370,J370)=2,AF370=I371),FIXED(I370,0,TRUE)&\":\"&FIXED(J370,0,TRUE),IF(AND(COUNTA(I370,J370)=2,AF370=L371),FIXED(J370,0,TRUE)&\":\"&FIXED(I370,0,TRUE),\"\"))","v":"11:3"},{"$f":"IF(AND(COUNTA(I370,J370)=2,AF370=I371),FIXED(J370,0,TRUE)&\":\"&FIXED(I370,0,TRUE),IF(AND(COUNTA(I370,J370)=2,AF370=L371),FIXED(I370,0,TRUE)&\":\"&FIXED(J370,0,TRUE),\"\"))","v":"3:11"}]
[53,null,null,{"$f":"IF(TYPE(VLOOKUP(A370,'grup-puch'!$A:$M,13,FALSE))=2,VLOOKUP(A370,'grup-puch'!$A:$M,13,FALSE),IF(TYPE(VLOOKUP(A370,puch!$A:$J,10,FALSE))=2,VLOOKUP(A370,puch!$A:$J,10,FALSE),\"\"))","v":"PODWÓJNA DZIECI"},null,null,null,null,11,3,9,11,11,9,null,null,null,null,{"$f":"Q370-O370","v":"00:00:00"},{"$f":"IF(VLOOKUP(A370,dane!F:G,2,FALSE)=\"\",\"\",VLOOKUP(A370,dane!F:G,2,FALSE))","v":{"$error":"#N/A"}},null,null,{"$f":"IF(AND(COUNTA(K370,L370)=2,AF370=I371),\",\"&FIXED(K370,0,TRUE)&\":\"&FIXED(L370,0,TRUE),IF(AND(COUNTA(K370,L370)=2,AF370=L371),\",\"&FIXED(L370,0,TRUE)&\":\"&FIXED(K370,0,TRUE),\"\"))","v":",9:11"},{"$f":"IF(AND(COUNTA(K370,L370)=2,AF370=I371),\",\"&FIXED(L370,0,TRUE)&\":\"&FIXED(K370,0,TRUE),IF(AND(COUNTA(K370,L370)=2,AF370=L371),\",\"&FIXED(K370,0,TRUE)&\":\"&FIXED(L370,0,TRUE),\"\"))","v":",11:9"},null,{"$f":"A370","v":53},{"$f":"IF(ISBLANK(D370),\"\",D370)","v":"PODWÓJNA DZIECI"},{"$f":"IF(OR(I371=0,I371=\"\"),\"\",I371)","v":"X38"},{"$f":"IF(OR(I372=0,I372=\"\"),\"\",I372)","v":"X63"},{"$f":"IF(OR(L371=0,L371=\"\"),\"\",L371)","v":"X70"},{"$f":"IF(OR(L372=0,L372=\"\"),\"\",L372)","v":"X71"},{"$f":"IF(COUNTA(C373,L373)=1,IF(ISTEXT(C373),I371,L371),IF(OR(I370=\"\",W368=X368),\"\",IF(W368>X368,I371,L371)))","v":"X38"},{"$f":"IF(COUNTA(C373,L373)=1,IF(ISTEXT(C373),I372,L372),IF(OR(I370=\"\",W368=X368),\"\",IF(W368>X368,I372,L372)))","v":"X63"},{"$f":"IF(OR(AF370=I371,AF370=L371),IF(AF370=I371,W369&W370&W371&IF(ISTEXT(C373),\" \"&C373,\"\"),W369&W370&W371&IF(ISTEXT(L373),\" \"&L373,\"\")),\"\")","v":"11:3,9:11,11:9"},{"$f":"IF(OR(AF370=I371,AF370=L371),IF(AF370=I371,X369&X370&X371&IF(ISTEXT(C373),\" \"&C373,\"\"),X369&X370&X371&IF(ISTEXT(L373),\" \"&L373,\"\")),\"\")","v":"3:11,11:9,9:11"},{"$f":"IF(ISBLANK(L373),\"\",L373)","v":""},{"$f":"I370","v":11},{"$f":"J370","v":3},{"$f":"K370","v":9},{"$f":"L370","v":11},{"$f":"M370","v":11},{"$f":"N370","v":9},null,{"$f":"T368","v":0},{"$f":"T369","v":0},{"$f":"IF(OR(AA370=dane!$I$3,AA370=dane!$I$4,AA370=dane!$I$5,AA370=dane!$I$6),AR370,\"\")","v":""},{"$f":"IF(OR(AA370=dane!$I$7,AA370=dane!$I$8,AA370=dane!$I$10,AA370=dane!$I$11),AR370,\"\")","v":""},{"$f":"IF(OR(AA370=dane!$I$12,AA370=dane!$I$13,AA370=dane!$I$14,AA370=dane!$I$15),AR370,\"\")","v":0},{"$f":"IF(OR(AA370=dane!$I$16,AA370=dane!$I$17,AA370=dane!$I$18,AA370=dane!$I$19),AR370,\"\")","v":""},{"$f":"IF(OR(AA370=dane!$I$20,AA370=dane!$I$21,AA370=dane!$I$22,AA370=dane!$I$23),AR370,\"\")","v":""},{"$f":"IF(OR(AA370=dane!$I$3,AA370=dane!$I$4,AA370=dane!$I$5,AA370=dane!$I$6),AS370,\"\")","v":""},{"$f":"IF(OR(AA370=dane!$I$7,AA370=dane!$I$8,AA370=dane!$I$10,AA370=dane!$I$11),AS370,\"\")","v":""},{"$f":"IF(OR(AA370=dane!$I$12,AA370=dane!$I$13,AA370=dane!$I$14,AA370=dane!$I$15),AS370,\"\")","v":0},{"$f":"IF(OR(AA370=dane!$I$16,AA370=dane!$I$17,AA370=dane!$I$18,AA370=dane!$I$19),AS370,\"\")","v":""},{"$f":"IF(OR(AA370=dane!$I$20,AA370=dane!$I$21,AA370=dane!$I$22,AA370=dane!$I$23),AS370,\"\")","v":""},{"$f":"IF($T$1=\"\",\"\",IF(C370=\"\",\"\",IF(Q370=\"\",C371,\"\")))","v":""},{"$f":"IF(LEN(L372)>0,$V$3,$V$2)+Q370+$T$1+C368-1","v":"2014-11-25T00:15:00"},{"$f":"IF(BE370>NOW(),C371,\"\")","v":"Iza Pomykała (Marki)"},{"$f":"IF(C370<>\"\",\"\",VLOOKUP(C371,BD:BD,1,FALSE))","v":{"$error":"#N/A"}},{"$f":"IF(Q370<>\"\",\"\",VLOOKUP(C371,BF:BF,1,FALSE))","v":"Iza Pomykała (Marki)"},{"$f":"IF(BF370<>\"\",BE370,\"\")","v":41968.010416666664},{"$f":"IF(Q370=\"\",C370,\"\")","v":0},null,null,null,null,null,null,null,null,null,null,null,null,{"$f":"IF((LEN(C370)+LEN(C374)+LEN(L374))=0,I371,\"\")","v":""},{"$f":"IF(LEN(BW370)>0,A370,\"\")","v":""}]
[{"$f":"IF(TYPE(VLOOKUP(C371,BF:BI,4,FALSE))=1,VLOOKUP(C371,BF:BI,4,FALSE),\"\")","v":41962.010416666664},{"$f":"IF(TYPE(VLOOKUP(I371,BW:BX,2,FALSE))=16,\"\",VLOOKUP(I371,BW:BX,2,FALSE))","v":""},{"$f":"IF(I371=\"\",\"\",VLOOKUP(I371,zawodnicy!$A:$D,2,FALSE)&\" \"&VLOOKUP(I371,zawodnicy!$A:$D,3,FALSE)&\" (\"&VLOOKUP(I371,zawodnicy!$A:$D,4,FALSE)&\")\")","v":"Iza Pomykała (Marki)"},null,null,null,null,null,{"$f":"IF(TYPE(VLOOKUP(A370,'grup-puch'!$A:$E,2,FALSE))=2,VLOOKUP(A370,'grup-puch'!$A:$E,2,FALSE),IF(TYPE(VLOOKUP(A370,puch!$A:$E,2,FALSE))=2,VLOOKUP(A370,puch!$A:$E,2,FALSE),\"\"))","v":"X38"},null,null,{"$f":"IF(TYPE(VLOOKUP(A370,'grup-puch'!$A:$E,4,FALSE))=2,VLOOKUP(A370,'grup-puch'!$A:$E,4,FALSE),IF(TYPE(VLOOKUP(A370,puch!$A:$E,4,FALSE))=2,VLOOKUP(A370,puch!$A:$E,4,FALSE),\"\"))","v":"X70"},null,null,{"$f":"IF(L371=\"\",\"\",VLOOKUP(L371,zawodnicy!$A:$D,2,FALSE)&\" \"&VLOOKUP(L371,zawodnicy!$A:$D,3,FALSE)&\" (\"&VLOOKUP(L371,zawodnicy!$A:$D,4,FALSE)&\")\")","v":"Konrad  Kalinowski (Garwolin)"},null,null,null,null,null,{"$f":"IF(TYPE(VLOOKUP(L371,BW:BX,2,FALSE))=16,\"\",VLOOKUP(L371,BW:BX,2,FALSE))","v":""},{"$f":"IF(TYPE(VLOOKUP(O371,BF:BI,4,FALSE))=1,VLOOKUP(O371,BF:BI,4,FALSE),\"\")","v":41963.010416666664},{"$f":"IF(AND(COUNTA(M370,N370)=2,AF370=I371),\",\"&FIXED(M370,0,TRUE)&\":\"&FIXED(N370,0,TRUE),IF(AND(COUNTA(M370,N370)=2,AF370=L371),\",\"&FIXED(N370,0,TRUE)&\":\"&FIXED(M370,0,TRUE),\"\"))","v":",11:9"},{"$f":"IF(AND(COUNTA(M370,N370)=2,AF370=I371),\",\"&FIXED(N370,0,TRUE)&\":\"&FIXED(M370,0,TRUE),IF(AND(COUNTA(M370,N370)=2,AF370=L371),\",\"&FIXED(M370,0,TRUE)&\":\"&FIXED(N370,0,TRUE),\"\"))","v":",9:11"},null,null,null,null,null,null,null,null,null,null,null,null,null,null,null,null,null,null,null,null,null,null,null,null,null,null,null,null,null,null,null,{"$f":"IF($T$1=\"\",\"\",IF(C370=\"\",\"\",IF(Q370=\"\",C372,\"\")))","v":""},null,{"$f":"IF(BE370>NOW(),C372,\"\")","v":"Kasia Wróblewska (Mińsk Mazowiecki)"},{"$f":"IF(C370<>\"\",\"\",VLOOKUP(C372,BD:BD,1,FALSE))","v":{"$error":"#N/A"}},{"$f":"IF(Q370<>\"\",\"\",VLOOKUP(C372,BF:BF,1,FALSE))","v":"Kasia Wróblewska (Mińsk Mazowiecki)"},{"$f":"IF(BF371<>\"\",BE370,\"\")","v":41968.010416666664},null,null,null,null,null,null,null,null,null,null,null,{"$f":"IF(VLOOKUP(I371,zawodnicy!A:E,5,FALSE)=0,\"\",C371)","v":""},{"$f":"IF(VLOOKUP(L371,zawodnicy!A:E,5,FALSE)=0,\"\",O371)","v":""},{"$f":"IF((LEN(C370)+LEN(C374)+LEN(L374))=0,I372,\"\")","v":""},{"$f":"IF(LEN(BW371)>0,A370,\"\")","v":""}]
[41960.017361111109,"",{"$f":"IF(OR(I372=0,I372=\"\"),\"\",VLOOKUP(I372,zawodnicy!$A:$D,2,FALSE)&\" \"&VLOOKUP(I372,zawodnicy!$A:$D,3,FALSE)&\" (\"&VLOOKUP(I372,zawodnicy!$A:$D,4,FALSE)&\")\")","v":"Kasia Wróblewska (Mińsk Mazowiecki)"},null,null,null,null,null,{"$f":"IF(TYPE(VLOOKUP(A370,'grup-puch'!$A:$E,3,FALSE))=2,VLOOKUP(A370,'grup-puch'!$A:$E,3,FALSE),IF(TYPE(VLOOKUP(A370,puch!$A:$E,3,FALSE))=2,VLOOKUP(A370,puch!$A:$E,3,FALSE),\"\"))","v":"X63"},null,null,{"$f":"IF(TYPE(VLOOKUP(A370,'grup-puch'!$A:$E,5,FALSE))=2,VLOOKUP(A370,'grup-puch'!$A:$E,5,FALSE),IF(TYPE(VLOOKUP(A370,puch!$A:$E,5,FALSE))=2,VLOOKUP(A370,puch!$A:$E,5,FALSE),\"\"))","v":"X71"},null,null,{"$f":"IF(OR(L372=\"\",L372=0),\"\",VLOOKUP(L372,zawodnicy!$A:$D,2,FALSE)&\" \"&VLOOKUP(L372,zawodnicy!$A:$D,3,FALSE)&\" (\"&VLOOKUP(L372,zawodnicy!$A:$D,4,FALSE)&\")\")","v":"Grzegorz  Cybulski (Garwolin)"},null,null,null,null,null,"",41959.017361111109,null,null,null,null,null,null,null,null,null,null,null,null,null,null,null,null,null,null,null,null,null,null,null,null,null,null,null,null,null,null,null,null,null,{"$f":"IF($T$1=\"\",\"\",IF(C370=\"\",\"\",IF(Q370=\"\",O371,\"\")))","v":""},null,{"$f":"IF(BE370>NOW(),O371,\"\")","v":"Konrad  Kalinowski (Garwolin)"},{"$f":"IF(C370<>\"\",\"\",VLOOKUP(O371,BD:BD,1,FALSE))","v":{"$error":"#N/A"}},{"$f":"IF(Q370<>\"\",\"\",VLOOKUP(O371,BF:BF,1,FALSE))","v":"Konrad  Kalinowski (Garwolin)"},{"$f":"IF(BF372<>\"\",BE370,\"\")","v":41968.010416666664},null,null,null,null,null,null,null,null,null,null,null,{"$f":"IF(VLOOKUP(I372,zawodnicy!A:E,5,FALSE)=0,\"\",C372)","v":""},{"$f":"IF(VLOOKUP(L372,zawodnicy!A:E,5,FALSE)=0,\"\",O372)","v":""},{"$f":"IF((LEN(C370)+LEN(C374)+LEN(L374))=0,L371,\"\")","v":""},{"$f":"IF(LEN(BW372)>0,A370,\"\")","v":""}]
[null,null,null,null,null,null,null,null,null,null,null,null,null,null,null,null,null,null,null,null,null,null,null,null,null,null,null,null,null,null,null,null,null,null,null,null,null,null,null,null,null,null,null,null,null,null,null,null,null,null,null,null,null,null,null,{"$f":"IF($T$1=\"\",\"\",IF(C370=\"\",\"\",IF(Q370=\"\",O372,\"\")))","v":""},null,{"$f":"IF(BE370>NOW(),O372,\"\")","v":"Grzegorz  Cybulski (Garwolin)"},{"$f":"IF(C370<>\"\",\"\",VLOOKUP(O372,BD:BD,1,FALSE))","v":{"$error":"#N/A"}},{"$f":"IF(Q370<>\"\",\"\",VLOOKUP(O372,BF:BF,1,FALSE))","v":"Grzegorz  Cybulski (Garwolin)"},{"$f":"IF(BF373<>\"\",BE370,\"\")","v":41968.010416666664},null,null,null,null,null,null,null,null,null,null,null,null,null,{"$f":"IF((LEN(C370)+LEN(C374)+LEN(L374))=0,L372,\"\")","v":""},{"$f":"IF(LEN(BW373)>0,A370,\"\")","v":""}]
[null,null,{"$f":"IF(I371=\"\",\"\",IF(I371=AF370,\"zwycięzca(cy):\"&\" \"&AH370,\"\"))","v":"zwycięzca(cy): 11:3,9:11,11:9"},null,null,null,null,null,null,null,null,{"$f":"IF(L371=\"\",\"\",IF(L371=AF370,\"zwycięzca(cy):\"&\" \"&AH370,\"\"))","v":""}]
[null,null,54,"dzień turnieju.",null,null,null,null,null,"Nr meczu",null,null,null,null,"Godz.",null,null,null,"S. prow.",null,null,null,{"$f":"IF(I377>J377,1,0)+IF(K377>L377,1,0)+IF(M377>N377,1,0)","v":0},{"$f":"IF(J377>I377,1,0)+IF(L377>K377,1,0)+IF(N377>M377,1,0)","v":0},null,null,null,null,null,null,null,null,null,"wygrany","przegrany"]
[null,null,"Boisko","Gra",null,null,null,null,null,{"$f":"A377","v":54},null,null,null,null,"rozp.",null,"zak.",null,"S. serw.",null,null,null,{"$f":"IF(AND(COUNTA(I377,J377)=2,AF377=I378),FIXED(I377,0,TRUE)&\":\"&FIXED(J377,0,TRUE),IF(AND(COUNTA(I377,J377)=2,AF377=L378),FIXED(J377,0,TRUE)&\":\"&FIXED(I377,0,TRUE),\"\"))","v":""},{"$f":"IF(AND(COUNTA(I377,J377)=2,AF377=I378),FIXED(J377,0,TRUE)&\":\"&FIXED(I377,0,TRUE),IF(AND(COUNTA(I377,J377)=2,AF377=L378),FIXED(I377,0,TRUE)&\":\"&FIXED(J377,0,TRUE),\"\"))","v":""}]
[54,null,null,{"$f":"IF(TYPE(VLOOKUP(A377,'grup-puch'!$A:$M,13,FALSE))=2,VLOOKUP(A377,'grup-puch'!$A:$M,13,FALSE),IF(TYPE(VLOOKUP(A377,puch!$A:$J,10,FALSE))=2,VLOOKUP(A377,puch!$A:$J,10,FALSE),\"\"))","v":""},null,null,null,null,null,null,null,null,null,null,null,null,null,null,{"$f":"Q377-O377","v":"00:00:00"},{"$f":"IF(VLOOKUP(A377,dane!F:G,2,FALSE)=\"\",\"\",VLOOKUP(A377,dane!F:G,2,FALSE))","v":{"$error":"#N/A"}},null,null,{"$f":"IF(AND(COUNTA(K377,L377)=2,AF377=I378),\",\"&FIXED(K377,0,TRUE)&\":\"&FIXED(L377,0,TRUE),IF(AND(COUNTA(K377,L377)=2,AF377=L378),\",\"&FIXED(L377,0,TRUE)&\":\"&FIXED(K377,0,TRUE),\"\"))","v":""},{"$f":"IF(AND(COUNTA(K377,L377)=2,AF377=I378),\",\"&FIXED(L377,0,TRUE)&\":\"&FIXED(K377,0,TRUE),IF(AND(COUNTA(K377,L377)=2,AF377=L378),\",\"&FIXED(K377,0,TRUE)&\":\"&FIXED(L377,0,TRUE),\"\"))","v":""},null,{"$f":"A377","v":54},{"$f":"IF(ISBLANK(D377),\"\",D377)","v":""},{"$f":"IF(OR(I378=0,I378=\"\"),\"\",I378)","v":""},{"$f":"IF(OR(I379=0,I379=\"\"),\"\",I379)","v":""},{"$f":"IF(OR(L378=0,L378=\"\"),\"\",L378)","v":""},{"$f":"IF(OR(L379=0,L379=\"\"),\"\",L379)","v":""},{"$f":"IF(COUNTA(C380,L380)=1,IF(ISTEXT(C380),I378,L378),IF(OR(I377=\"\",W375=X375),\"\",IF(W375>X375,I378,L378)))","v":""},{"$f":"IF(COUNTA(C380,L380)=1,IF(ISTEXT(C380),I379,L379),IF(OR(I377=\"\",W375=X375),\"\",IF(W375>X375,I379,L379)))","v":""},{"$f":"IF(OR(AF377=I378,AF377=L378),IF(AF377=I378,W376&W377&W378&IF(ISTEXT(C380),\" \"&C380,\"\"),W376&W377&W378&IF(ISTEXT(L380),\" \"&L380,\"\")),\"\")","v":""},{"$f":"IF(OR(AF377=I378,AF377=L378),IF(AF377=I378,X376&X377&X378&IF(ISTEXT(C380),\" \"&C380,\"\"),X376&X377&X378&IF(ISTEXT(L380),\" \"&L380,\"\")),\"\")","v":""},{"$f":"IF(ISBLANK(L380),\"\",L380)","v":""},{"$f":"I377","v":0},{"$f":"J377","v":0},{"$f":"K377","v":0},{"$f":"L377","v":0},{"$f":"M377","v":0},{"$f":"N377","v":0},null,{"$f":"T375","v":0},{"$f":"T376","v":0},{"$f":"IF(OR(AA377=dane!$I$3,AA377=dane!$I$4,AA377=dane!$I$5,AA377=dane!$I$6),AR377,\"\")","v":""},{"$f":"IF(OR(AA377=dane!$I$7,AA377=dane!$I$8,AA377=dane!$I$10,AA377=dane!$I$11),AR377,\"\")","v":""},{"$f":"IF(OR(AA377=dane!$I$12,AA377=dane!$I$13,AA377=dane!$I$14,AA377=dane!$I$15),AR377,\"\")","v":0},{"$f":"IF(OR(AA377=dane!$I$16,AA377=dane!$I$17,AA377=dane!$I$18,AA377=dane!$I$19),AR377,\"\")","v":0},{"$f":"IF(OR(AA377=dane!$I$20,AA377=dane!$I$21,AA377=dane!$I$22,AA377=dane!$I$23),AR377,\"\")","v":0},{"$f":"IF(OR(AA377=dane!$I$3,AA377=dane!$I$4,AA377=dane!$I$5,AA377=dane!$I$6),AS377,\"\")","v":""},{"$f":"IF(OR(AA377=dane!$I$7,AA377=dane!$I$8,AA377=dane!$I$10,AA377=dane!$I$11),AS377,\"\")","v":""},{"$f":"IF(OR(AA377=dane!$I$12,AA377=dane!$I$13,AA377=dane!$I$14,AA377=dane!$I$15),AS377,\"\")","v":0},{"$f":"IF(OR(AA377=dane!$I$16,AA377=dane!$I$17,AA377=dane!$I$18,AA377=dane!$I$19),AS377,\"\")","v":0},{"$f":"IF(OR(AA377=dane!$I$20,AA377=dane!$I$21,AA377=dane!$I$22,AA377=dane!$I$23),AS377,\"\")","v":0},{"$f":"IF($T$1=\"\",\"\",IF(C377=\"\",\"\",IF(Q377=\"\",C378,\"\")))","v":""},{"$f":"IF(LEN(L379)>0,$V$3,$V$2)+Q377+$T$1+C375-1","v":"2014-11-26T00:25:00"},{"$f":"IF(BE377>NOW(),C378,\"\")","v":""},{"$f":"IF(C377<>\"\",\"\",VLOOKUP(C378,BD:BD,1,FALSE))","v":""},{"$f":"IF(Q377<>\"\",\"\",VLOOKUP(C378,BF:BF,1,FALSE))","v":""},{"$f":"IF(BF377<>\"\",BE377,\"\")","v":""},{"$f":"IF(Q377=\"\",C377,\"\")","v":0},null,null,null,null,null,null,null,null,null,null,null,null,{"$f":"IF((LEN(C377)+LEN(C381)+LEN(L381))=0,I378,\"\")","v":""},{"$f":"IF(LEN(BW377)>0,A377,\"\")","v":""}]
[{"$f":"IF(TYPE(VLOOKUP(C378,BF:BI,4,FALSE))=1,VLOOKUP(C378,BF:BI,4,FALSE),\"\")","v":""},{"$f":"IF(TYPE(VLOOKUP(I378,BW:BX,2,FALSE))=16,\"\",VLOOKUP(I378,BW:BX,2,FALSE))","v":""},{"$f":"IF(I378=\"\",\"\",VLOOKUP(I378,zawodnicy!$A:$D,2,FALSE)&\" \"&VLOOKUP(I378,zawodnicy!$A:$D,3,FALSE)&\" (\"&VLOOKUP(I378,zawodnicy!$A:$D,4,FALSE)&\")\")","v":""},null,null,null,null,null,{"$f":"IF(TYPE(VLOOKUP(A377,'grup-puch'!$A:$E,2,FALSE))=2,VLOOKUP(A377,'grup-puch'!$A:$E,2,FALSE),IF(TYPE(VLOOKUP(A377,puch!$A:$E,2,FALSE))=2,VLOOKUP(A377,puch!$A:$E,2,FALSE),\"\"))","v":""},null,null,{"$f":"IF(TYPE(VLOOKUP(A377,'grup-puch'!$A:$E,4,FALSE))=2,VLOOKUP(A377,'grup-puch'!$A:$E,4,FALSE),IF(TYPE(VLOOKUP(A377,puch!$A:$E,4,FALSE))=2,VLOOKUP(A377,puch!$A:$E,4,FALSE),\"\"))","v":""},null,null,{"$f":"IF(L378=\"\",\"\",VLOOKUP(L378,zawodnicy!$A:$D,2,FALSE)&\" \"&VLOOKUP(L378,zawodnicy!$A:$D,3,FALSE)&\" (\"&VLOOKUP(L378,zawodnicy!$A:$D,4,FALSE)&\")\")","v":""},null,null,null,null,null,{"$f":"IF(TYPE(VLOOKUP(L378,BW:BX,2,FALSE))=16,\"\",VLOOKUP(L378,BW:BX,2,FALSE))","v":""},{"$f":"IF(TYPE(VLOOKUP(O378,BF:BI,4,FALSE))=1,VLOOKUP(O378,BF:BI,4,FALSE),\"\")","v":""},{"$f":"IF(AND(COUNTA(M377,N377)=2,AF377=I378),\",\"&FIXED(M377,0,TRUE)&\":\"&FIXED(N377,0,TRUE),IF(AND(COUNTA(M377,N377)=2,AF377=L378),\",\"&FIXED(N377,0,TRUE)&\":\"&FIXED(M377,0,TRUE),\"\"))","v":""},{"$f":"IF(AND(COUNTA(M377,N377)=2,AF377=I378),\",\"&FIXED(N377,0,TRUE)&\":\"&FIXED(M377,0,TRUE),IF(AND(COUNTA(M377,N377)=2,AF377=L378),\",\"&FIXED(M377,0,TRUE)&\":\"&FIXED(N377,0,TRUE),\"\"))","v":""},null,null,null,null,null,null,null,null,null,null,null,null,null,null,null,null,null,null,null,null,null,null,null,null,null,null,null,null,null,null,null,{"$f":"IF($T$1=\"\",\"\",IF(C377=\"\",\"\",IF(Q377=\"\",C379,\"\")))","v":""},null,{"$f":"IF(BE377>NOW(),C379,\"\")","v":""},{"$f":"IF(C377<>\"\",\"\",VLOOKUP(C379,BD:BD,1,FALSE))","v":""},{"$f":"IF(Q377<>\"\",\"\",VLOOKUP(C379,BF:BF,1,FALSE))","v":""},{"$f":"IF(BF378<>\"\",BE377,\"\")","v":""},null,null,null,null,null,null,null,null,null,null,null,{"$f":"IF(VLOOKUP(I378,zawodnicy!A:E,5,FALSE)=0,\"\",C378)","v":{"$error":"#N/A"}},{"$f":"IF(VLOOKUP(L378,zawodnicy!A:E,5,FALSE)=0,\"\",O378)","v":{"$error":"#N/A"}},{"$f":"IF((LEN(C377)+LEN(C381)+LEN(L381))=0,I379,\"\")","v":""},{"$f":"IF(LEN(BW378)>0,A377,\"\")","v":""}]
["","",{"$f":"IF(OR(I379=0,I379=\"\"),\"\",VLOOKUP(I379,zawodnicy!$A:$D,2,FALSE)&\" \"&VLOOKUP(I379,zawodnicy!$A:$D,3,FALSE)&\" (\"&VLOOKUP(I379,zawodnicy!$A:$D,4,FALSE)&\")\")","v":""},null,null,null,null,null,{"$f":"IF(TYPE(VLOOKUP(A377,'grup-puch'!$A:$E,3,FALSE))=2,VLOOKUP(A377,'grup-puch'!$A:$E,3,FALSE),IF(TYPE(VLOOKUP(A377,puch!$A:$E,3,FALSE))=2,VLOOKUP(A377,puch!$A:$E,3,FALSE),\"\"))","v":""},null,null,{"$f":"IF(TYPE(VLOOKUP(A377,'grup-puch'!$A:$E,5,FALSE))=2,VLOOKUP(A377,'grup-puch'!$A:$E,5,FALSE),IF(TYPE(VLOOKUP(A377,puch!$A:$E,5,FALSE))=2,VLOOKUP(A377,puch!$A:$E,5,FALSE),\"\"))","v":""},null,null,{"$f":"IF(OR(L379=\"\",L379=0),\"\",VLOOKUP(L379,zawodnicy!$A:$D,2,FALSE)&\" \"&VLOOKUP(L379,zawodnicy!$A:$D,3,FALSE)&\" (\"&VLOOKUP(L379,zawodnicy!$A:$D,4,FALSE)&\")\")","v":""},null,null,null,null,null,"","",null,null,null,null,null,null,null,null,null,null,null,null,null,null,null,null,null,null,null,null,null,null,null,null,null,null,null,null,null,null,null,null,null,{"$f":"IF($T$1=\"\",\"\",IF(C377=\"\",\"\",IF(Q377=\"\",O378,\"\")))","v":""},null,{"$f":"IF(BE377>NOW(),O378,\"\")","v":""},{"$f":"IF(C377<>\"\",\"\",VLOOKUP(O378,BD:BD,1,FALSE))","v":""},{"$f":"IF(Q377<>\"\",\"\",VLOOKUP(O378,BF:BF,1,FALSE))","v":""},{"$f":"IF(BF379<>\"\",BE377,\"\")","v":""},null,null,null,null,null,null,null,null,null,null,null,{"$f":"IF(VLOOKUP(I379,zawodnicy!A:E,5,FALSE)=0,\"\",C379)","v":{"$error":"#N/A"}},{"$f":"IF(VLOOKUP(L379,zawodnicy!A:E,5,FALSE)=0,\"\",O379)","v":{"$error":"#N/A"}},{"$f":"IF((LEN(C377)+LEN(C381)+LEN(L381))=0,L378,\"\")","v":""},{"$f":"IF(LEN(BW379)>0,A377,\"\")","v":""}]
[null,null,null,null,null,null,null,null,null,null,null,null,null,null,null,null,null,null,null,null,null,null,null,null,null,null,null,null,null,null,null,null,null,null,null,null,null,null,null,null,null,null,null,null,null,null,null,null,null,null,null,null,null,null,null,{"$f":"IF($T$1=\"\",\"\",IF(C377=\"\",\"\",IF(Q377=\"\",O379,\"\")))","v":""},null,{"$f":"IF(BE377>NOW(),O379,\"\")","v":""},{"$f":"IF(C377<>\"\",\"\",VLOOKUP(O379,BD:BD,1,FALSE))","v":""},{"$f":"IF(Q377<>\"\",\"\",VLOOKUP(O379,BF:BF,1,FALSE))","v":""},{"$f":"IF(BF380<>\"\",BE377,\"\")","v":""},null,null,null,null,null,null,null,null,null,null,null,null,null,{"$f":"IF((LEN(C377)+LEN(C381)+LEN(L381))=0,L379,\"\")","v":""},{"$f":"IF(LEN(BW380)>0,A377,\"\")","v":""}]
[null,null,{"$f":"IF(I378=\"\",\"\",IF(I378=AF377,\"zwycięzca(cy):\"&\" \"&AH377,\"\"))","v":""},null,null,null,null,null,null,null,null,{"$f":"IF(L378=\"\",\"\",IF(L378=AF377,\"zwycięzca(cy):\"&\" \"&AH377,\"\"))","v":""}]
[null,null,55,"dzień turnieju.",null,null,null,null,null,"Nr meczu",null,null,null,null,"Godz.",null,null,null,"S. prow.",null,null,null,{"$f":"IF(I384>J384,1,0)+IF(K384>L384,1,0)+IF(M384>N384,1,0)","v":0},{"$f":"IF(J384>I384,1,0)+IF(L384>K384,1,0)+IF(N384>M384,1,0)","v":0},null,null,null,null,null,null,null,null,null,"wygrany","przegrany"]
[null,null,"Boisko","Gra",null,null,null,null,null,{"$f":"A384","v":55},null,null,null,null,"rozp.",null,"zak.",null,"S. serw.",null,null,null,{"$f":"IF(AND(COUNTA(I384,J384)=2,AF384=I385),FIXED(I384,0,TRUE)&\":\"&FIXED(J384,0,TRUE),IF(AND(COUNTA(I384,J384)=2,AF384=L385),FIXED(J384,0,TRUE)&\":\"&FIXED(I384,0,TRUE),\"\"))","v":""},{"$f":"IF(AND(COUNTA(I384,J384)=2,AF384=I385),FIXED(J384,0,TRUE)&\":\"&FIXED(I384,0,TRUE),IF(AND(COUNTA(I384,J384)=2,AF384=L385),FIXED(I384,0,TRUE)&\":\"&FIXED(J384,0,TRUE),\"\"))","v":""}]
[55,null,null,{"$f":"IF(TYPE(VLOOKUP(A384,'grup-puch'!$A:$M,13,FALSE))=2,VLOOKUP(A384,'grup-puch'!$A:$M,13,FALSE),IF(TYPE(VLOOKUP(A384,puch!$A:$J,10,FALSE))=2,VLOOKUP(A384,puch!$A:$J,10,FALSE),\"\"))","v":""},null,null,null,null,null,null,null,null,null,null,null,null,null,null,{"$f":"Q384-O384","v":"00:00:00"},{"$f":"IF(VLOOKUP(A384,dane!F:G,2,FALSE)=\"\",\"\",VLOOKUP(A384,dane!F:G,2,FALSE))","v":{"$error":"#N/A"}},null,null,{"$f":"IF(AND(COUNTA(K384,L384)=2,AF384=I385),\",\"&FIXED(K384,0,TRUE)&\":\"&FIXED(L384,0,TRUE),IF(AND(COUNTA(K384,L384)=2,AF384=L385),\",\"&FIXED(L384,0,TRUE)&\":\"&FIXED(K384,0,TRUE),\"\"))","v":""},{"$f":"IF(AND(COUNTA(K384,L384)=2,AF384=I385),\",\"&FIXED(L384,0,TRUE)&\":\"&FIXED(K384,0,TRUE),IF(AND(COUNTA(K384,L384)=2,AF384=L385),\",\"&FIXED(K384,0,TRUE)&\":\"&FIXED(L384,0,TRUE),\"\"))","v":""},null,{"$f":"A384","v":55},{"$f":"IF(ISBLANK(D384),\"\",D384)","v":""},{"$f":"IF(OR(I385=0,I385=\"\"),\"\",I385)","v":""},{"$f":"IF(OR(I386=0,I386=\"\"),\"\",I386)","v":""},{"$f":"IF(OR(L385=0,L385=\"\"),\"\",L385)","v":""},{"$f":"IF(OR(L386=0,L386=\"\"),\"\",L386)","v":""},{"$f":"IF(COUNTA(C387,L387)=1,IF(ISTEXT(C387),I385,L385),IF(OR(I384=\"\",W382=X382),\"\",IF(W382>X382,I385,L385)))","v":""},{"$f":"IF(COUNTA(C387,L387)=1,IF(ISTEXT(C387),I386,L386),IF(OR(I384=\"\",W382=X382),\"\",IF(W382>X382,I386,L386)))","v":""},{"$f":"IF(OR(AF384=I385,AF384=L385),IF(AF384=I385,W383&W384&W385&IF(ISTEXT(C387),\" \"&C387,\"\"),W383&W384&W385&IF(ISTEXT(L387),\" \"&L387,\"\")),\"\")","v":""},{"$f":"IF(OR(AF384=I385,AF384=L385),IF(AF384=I385,X383&X384&X385&IF(ISTEXT(C387),\" \"&C387,\"\"),X383&X384&X385&IF(ISTEXT(L387),\" \"&L387,\"\")),\"\")","v":""},{"$f":"IF(ISBLANK(L387),\"\",L387)","v":""},{"$f":"I384","v":0},{"$f":"J384","v":0},{"$f":"K384","v":0},{"$f":"L384","v":0},{"$f":"M384","v":0},{"$f":"N384","v":0},null,{"$f":"T382","v":0},{"$f":"T383","v":0},{"$f":"IF(OR(AA384=dane!$I$3,AA384=dane!$I$4,AA384=dane!$I$5,AA384=dane!$I$6),AR384,\"\")","v":""},{"$f":"IF(OR(AA384=dane!$I$7,AA384=dane!$I$8,AA384=dane!$I$10,AA384=dane!$I$11),AR384,\"\")","v":""},{"$f":"IF(OR(AA384=dane!$I$12,AA384=dane!$I$13,AA384=dane!$I$14,AA384=dane!$I$15),AR384,\"\")","v":0},{"$f":"IF(OR(AA384=dane!$I$16,AA384=dane!$I$17,AA384=dane!$I$18,AA384=dane!$I$19),AR384,\"\")","v":0},{"$f":"IF(OR(AA384=dane!$I$20,AA384=dane!$I$21,AA384=dane!$I$22,AA384=dane!$I$23),AR384,\"\")","v":0},{"$f":"IF(OR(AA384=dane!$I$3,AA384=dane!$I$4,AA384=dane!$I$5,AA384=dane!$I$6),AS384,\"\")","v":""},{"$f":"IF(OR(AA384=dane!$I$7,AA384=dane!$I$8,AA384=dane!$I$10,AA384=dane!$I$11),AS384,\"\")","v":""},{"$f":"IF(OR(AA384=dane!$I$12,AA384=dane!$I$13,AA384=dane!$I$14,AA384=dane!$I$15),AS384,\"\")","v":0},{"$f":"IF(OR(AA384=dane!$I$16,AA384=dane!$I$17,AA384=dane!$I$18,AA384=dane!$I$19),AS384,\"\")","v":0},{"$f":"IF(OR(AA384=dane!$I$20,AA384=dane!$I$21,AA384=dane!$I$22,AA384=dane!$I$23),AS384,\"\")","v":0},{"$f":"IF($T$1=\"\",\"\",IF(C384=\"\",\"\",IF(Q384=\"\",C385,\"\")))","v":""},{"$f":"IF(LEN(L386)>0,$V$3,$V$2)+Q384+$T$1+C382-1","v":"2014-11-27T00:25:00"},{"$f":"IF(BE384>NOW(),C385,\"\")","v":""},{"$f":"IF(C384<>\"\",\"\",VLOOKUP(C385,BD:BD,1,FALSE))","v":""},{"$f":"IF(Q384<>\"\",\"\",VLOOKUP(C385,BF:BF,1,FALSE))","v":""},{"$f":"IF(BF384<>\"\",BE384,\"\")","v":""},{"$f":"IF(Q384=\"\",C384,\"\")","v":0},null,null,null,null,null,null,null,null,null,null,null,null,{"$f":"IF((LEN(C384)+LEN(C388)+LEN(L388))=0,I385,\"\")","v":""},{"$f":"IF(LEN(BW384)>0,A384,\"\")","v":""}]
[{"$f":"IF(TYPE(VLOOKUP(C385,BF:BI,4,FALSE))=1,VLOOKUP(C385,BF:BI,4,FALSE),\"\")","v":""},{"$f":"IF(TYPE(VLOOKUP(I385,BW:BX,2,FALSE))=16,\"\",VLOOKUP(I385,BW:BX,2,FALSE))","v":""},{"$f":"IF(I385=\"\",\"\",VLOOKUP(I385,zawodnicy!$A:$D,2,FALSE)&\" \"&VLOOKUP(I385,zawodnicy!$A:$D,3,FALSE)&\" (\"&VLOOKUP(I385,zawodnicy!$A:$D,4,FALSE)&\")\")","v":""},null,null,null,null,null,{"$f":"IF(TYPE(VLOOKUP(A384,'grup-puch'!$A:$E,2,FALSE))=2,VLOOKUP(A384,'grup-puch'!$A:$E,2,FALSE),IF(TYPE(VLOOKUP(A384,puch!$A:$E,2,FALSE))=2,VLOOKUP(A384,puch!$A:$E,2,FALSE),\"\"))","v":""},null,null,{"$f":"IF(TYPE(VLOOKUP(A384,'grup-puch'!$A:$E,4,FALSE))=2,VLOOKUP(A384,'grup-puch'!$A:$E,4,FALSE),IF(TYPE(VLOOKUP(A384,puch!$A:$E,4,FALSE))=2,VLOOKUP(A384,puch!$A:$E,4,FALSE),\"\"))","v":""},null,null,{"$f":"IF(L385=\"\",\"\",VLOOKUP(L385,zawodnicy!$A:$D,2,FALSE)&\" \"&VLOOKUP(L385,zawodnicy!$A:$D,3,FALSE)&\" (\"&VLOOKUP(L385,zawodnicy!$A:$D,4,FALSE)&\")\")","v":""},null,null,null,null,null,{"$f":"IF(TYPE(VLOOKUP(L385,BW:BX,2,FALSE))=16,\"\",VLOOKUP(L385,BW:BX,2,FALSE))","v":""},{"$f":"IF(TYPE(VLOOKUP(O385,BF:BI,4,FALSE))=1,VLOOKUP(O385,BF:BI,4,FALSE),\"\")","v":""},{"$f":"IF(AND(COUNTA(M384,N384)=2,AF384=I385),\",\"&FIXED(M384,0,TRUE)&\":\"&FIXED(N384,0,TRUE),IF(AND(COUNTA(M384,N384)=2,AF384=L385),\",\"&FIXED(N384,0,TRUE)&\":\"&FIXED(M384,0,TRUE),\"\"))","v":""},{"$f":"IF(AND(COUNTA(M384,N384)=2,AF384=I385),\",\"&FIXED(N384,0,TRUE)&\":\"&FIXED(M384,0,TRUE),IF(AND(COUNTA(M384,N384)=2,AF384=L385),\",\"&FIXED(M384,0,TRUE)&\":\"&FIXED(N384,0,TRUE),\"\"))","v":""},null,null,null,null,null,null,null,null,null,null,null,null,null,null,null,null,null,null,null,null,null,null,null,null,null,null,null,null,null,null,null,{"$f":"IF($T$1=\"\",\"\",IF(C384=\"\",\"\",IF(Q384=\"\",C386,\"\")))","v":""},null,{"$f":"IF(BE384>NOW(),C386,\"\")","v":""},{"$f":"IF(C384<>\"\",\"\",VLOOKUP(C386,BD:BD,1,FALSE))","v":""},{"$f":"IF(Q384<>\"\",\"\",VLOOKUP(C386,BF:BF,1,FALSE))","v":""},{"$f":"IF(BF385<>\"\",BE384,\"\")","v":""},null,null,null,null,null,null,null,null,null,null,null,{"$f":"IF(VLOOKUP(I385,zawodnicy!A:E,5,FALSE)=0,\"\",C385)","v":{"$error":"#N/A"}},{"$f":"IF(VLOOKUP(L385,zawodnicy!A:E,5,FALSE)=0,\"\",O385)","v":{"$error":"#N/A"}},{"$f":"IF((LEN(C384)+LEN(C388)+LEN(L388))=0,I386,\"\")","v":""},{"$f":"IF(LEN(BW385)>0,A384,\"\")","v":""}]
["","",{"$f":"IF(OR(I386=0,I386=\"\"),\"\",VLOOKUP(I386,zawodnicy!$A:$D,2,FALSE)&\" \"&VLOOKUP(I386,zawodnicy!$A:$D,3,FALSE)&\" (\"&VLOOKUP(I386,zawodnicy!$A:$D,4,FALSE)&\")\")","v":""},null,null,null,null,null,{"$f":"IF(TYPE(VLOOKUP(A384,'grup-puch'!$A:$E,3,FALSE))=2,VLOOKUP(A384,'grup-puch'!$A:$E,3,FALSE),IF(TYPE(VLOOKUP(A384,puch!$A:$E,3,FALSE))=2,VLOOKUP(A384,puch!$A:$E,3,FALSE),\"\"))","v":""},null,null,{"$f":"IF(TYPE(VLOOKUP(A384,'grup-puch'!$A:$E,5,FALSE))=2,VLOOKUP(A384,'grup-puch'!$A:$E,5,FALSE),IF(TYPE(VLOOKUP(A384,puch!$A:$E,5,FALSE))=2,VLOOKUP(A384,puch!$A:$E,5,FALSE),\"\"))","v":""},null,null,{"$f":"IF(OR(L386=\"\",L386=0),\"\",VLOOKUP(L386,zawodnicy!$A:$D,2,FALSE)&\" \"&VLOOKUP(L386,zawodnicy!$A:$D,3,FALSE)&\" (\"&VLOOKUP(L386,zawodnicy!$A:$D,4,FALSE)&\")\")","v":""},null,null,null,null,null,"","",null,null,null,null,null,null,null,null,null,null,null,null,null,null,null,null,null,null,null,null,null,null,null,null,null,null,null,null,null,null,null,null,null,{"$f":"IF($T$1=\"\",\"\",IF(C384=\"\",\"\",IF(Q384=\"\",O385,\"\")))","v":""},null,{"$f":"IF(BE384>NOW(),O385,\"\")","v":""},{"$f":"IF(C384<>\"\",\"\",VLOOKUP(O385,BD:BD,1,FALSE))","v":""},{"$f":"IF(Q384<>\"\",\"\",VLOOKUP(O385,BF:BF,1,FALSE))","v":""},{"$f":"IF(BF386<>\"\",BE384,\"\")","v":""},null,null,null,null,null,null,null,null,null,null,null,{"$f":"IF(VLOOKUP(I386,zawodnicy!A:E,5,FALSE)=0,\"\",C386)","v":{"$error":"#N/A"}},{"$f":"IF(VLOOKUP(L386,zawodnicy!A:E,5,FALSE)=0,\"\",O386)","v":{"$error":"#N/A"}},{"$f":"IF((LEN(C384)+LEN(C388)+LEN(L388))=0,L385,\"\")","v":""},{"$f":"IF(LEN(BW386)>0,A384,\"\")","v":""}]
[null,null,null,null,null,null,null,null,null,null,null,null,null,null,null,null,null,null,null,null,null,null,null,null,null,null,null,null,null,null,null,null,null,null,null,null,null,null,null,null,null,null,null,null,null,null,null,null,null,null,null,null,null,null,null,{"$f":"IF($T$1=\"\",\"\",IF(C384=\"\",\"\",IF(Q384=\"\",O386,\"\")))","v":""},null,{"$f":"IF(BE384>NOW(),O386,\"\")","v":""},{"$f":"IF(C384<>\"\",\"\",VLOOKUP(O386,BD:BD,1,FALSE))","v":""},{"$f":"IF(Q384<>\"\",\"\",VLOOKUP(O386,BF:BF,1,FALSE))","v":""},{"$f":"IF(BF387<>\"\",BE384,\"\")","v":""},null,null,null,null,null,null,null,null,null,null,null,null,null,{"$f":"IF((LEN(C384)+LEN(C388)+LEN(L388))=0,L386,\"\")","v":""},{"$f":"IF(LEN(BW387)>0,A384,\"\")","v":""}]
[null,null,{"$f":"IF(I385=\"\",\"\",IF(I385=AF384,\"zwycięzca(cy):\"&\" \"&AH384,\"\"))","v":""},null,null,null,null,null,null,null,null,{"$f":"IF(L385=\"\",\"\",IF(L385=AF384,\"zwycięzca(cy):\"&\" \"&AH384,\"\"))","v":""}]
[null,null,56,"dzień turnieju.",null,null,null,null,null,"Nr meczu",null,null,null,null,"Godz.",null,null,null,"S. prow.",null,null,null,{"$f":"IF(I391>J391,1,0)+IF(K391>L391,1,0)+IF(M391>N391,1,0)","v":0},{"$f":"IF(J391>I391,1,0)+IF(L391>K391,1,0)+IF(N391>M391,1,0)","v":0},null,null,null,null,null,null,null,null,null,"wygrany","przegrany"]
[null,null,"Boisko","Gra",null,null,null,null,null,{"$f":"A391","v":56},null,null,null,null,"rozp.",null,"zak.",null,"S. serw.",null,null,null,{"$f":"IF(AND(COUNTA(I391,J391)=2,AF391=I392),FIXED(I391,0,TRUE)&\":\"&FIXED(J391,0,TRUE),IF(AND(COUNTA(I391,J391)=2,AF391=L392),FIXED(J391,0,TRUE)&\":\"&FIXED(I391,0,TRUE),\"\"))","v":""},{"$f":"IF(AND(COUNTA(I391,J391)=2,AF391=I392),FIXED(J391,0,TRUE)&\":\"&FIXED(I391,0,TRUE),IF(AND(COUNTA(I391,J391)=2,AF391=L392),FIXED(I391,0,TRUE)&\":\"&FIXED(J391,0,TRUE),\"\"))","v":""}]
[56,null,null,{"$f":"IF(TYPE(VLOOKUP(A391,'grup-puch'!$A:$M,13,FALSE))=2,VLOOKUP(A391,'grup-puch'!$A:$M,13,FALSE),IF(TYPE(VLOOKUP(A391,puch!$A:$J,10,FALSE))=2,VLOOKUP(A391,puch!$A:$J,10,FALSE),\"\"))","v":""},null,null,null,null,null,null,null,null,null,null,null,null,null,null,{"$f":"Q391-O391","v":"00:00:00"},{"$f":"IF(VLOOKUP(A391,dane!F:G,2,FALSE)=\"\",\"\",VLOOKUP(A391,dane!F:G,2,FALSE))","v":{"$error":"#N/A"}},null,null,{"$f":"IF(AND(COUNTA(K391,L391)=2,AF391=I392),\",\"&FIXED(K391,0,TRUE)&\":\"&FIXED(L391,0,TRUE),IF(AND(COUNTA(K391,L391)=2,AF391=L392),\",\"&FIXED(L391,0,TRUE)&\":\"&FIXED(K391,0,TRUE),\"\"))","v":""},{"$f":"IF(AND(COUNTA(K391,L391)=2,AF391=I392),\",\"&FIXED(L391,0,TRUE)&\":\"&FIXED(K391,0,TRUE),IF(AND(COUNTA(K391,L391)=2,AF391=L392),\",\"&FIXED(K391,0,TRUE)&\":\"&FIXED(L391,0,TRUE),\"\"))","v":""},null,{"$f":"A391","v":56},{"$f":"IF(ISBLANK(D391),\"\",D391)","v":""},{"$f":"IF(OR(I392=0,I392=\"\"),\"\",I392)","v":""},{"$f":"IF(OR(I393=0,I393=\"\"),\"\",I393)","v":""},{"$f":"IF(OR(L392=0,L392=\"\"),\"\",L392)","v":""},{"$f":"IF(OR(L393=0,L393=\"\"),\"\",L393)","v":""},{"$f":"IF(COUNTA(C394,L394)=1,IF(ISTEXT(C394),I392,L392),IF(OR(I391=\"\",W389=X389),\"\",IF(W389>X389,I392,L392)))","v":""},{"$f":"IF(COUNTA(C394,L394)=1,IF(ISTEXT(C394),I393,L393),IF(OR(I391=\"\",W389=X389),\"\",IF(W389>X389,I393,L393)))","v":""},{"$f":"IF(OR(AF391=I392,AF391=L392),IF(AF391=I392,W390&W391&W392&IF(ISTEXT(C394),\" \"&C394,\"\"),W390&W391&W392&IF(ISTEXT(L394),\" \"&L394,\"\")),\"\")","v":""},{"$f":"IF(OR(AF391=I392,AF391=L392),IF(AF391=I392,X390&X391&X392&IF(ISTEXT(C394),\" \"&C394,\"\"),X390&X391&X392&IF(ISTEXT(L394),\" \"&L394,\"\")),\"\")","v":""},{"$f":"IF(ISBLANK(L394),\"\",L394)","v":""},{"$f":"I391","v":0},{"$f":"J391","v":0},{"$f":"K391","v":0},{"$f":"L391","v":0},{"$f":"M391","v":0},{"$f":"N391","v":0},null,{"$f":"T389","v":0},{"$f":"T390","v":0},{"$f":"IF(OR(AA391=dane!$I$3,AA391=dane!$I$4,AA391=dane!$I$5,AA391=dane!$I$6),AR391,\"\")","v":""},{"$f":"IF(OR(AA391=dane!$I$7,AA391=dane!$I$8,AA391=dane!$I$10,AA391=dane!$I$11),AR391,\"\")","v":""},{"$f":"IF(OR(AA391=dane!$I$12,AA391=dane!$I$13,AA391=dane!$I$14,AA391=dane!$I$15),AR391,\"\")","v":0},{"$f":"IF(OR(AA391=dane!$I$16,AA391=dane!$I$17,AA391=dane!$I$18,AA391=dane!$I$19),AR391,\"\")","v":0},{"$f":"IF(OR(AA391=dane!$I$20,AA391=dane!$I$21,AA391=dane!$I$22,AA391=dane!$I$23),AR391,\"\")","v":0},{"$f":"IF(OR(AA391=dane!$I$3,AA391=dane!$I$4,AA391=dane!$I$5,AA391=dane!$I$6),AS391,\"\")","v":""},{"$f":"IF(OR(AA391=dane!$I$7,AA391=dane!$I$8,AA391=dane!$I$10,AA391=dane!$I$11),AS391,\"\")","v":""},{"$f":"IF(OR(AA391=dane!$I$12,AA391=dane!$I$13,AA391=dane!$I$14,AA391=dane!$I$15),AS391,\"\")","v":0},{"$f":"IF(OR(AA391=dane!$I$16,AA391=dane!$I$17,AA391=dane!$I$18,AA391=dane!$I$19),AS391,\"\")","v":0},{"$f":"IF(OR(AA391=dane!$I$20,AA391=dane!$I$21,AA391=dane!$I$22,AA391=dane!$I$23),AS391,\"\")","v":0},{"$f":"IF($T$1=\"\",\"\",IF(C391=\"\",\"\",IF(Q391=\"\",C392,\"\")))","v":""},{"$f":"IF(LEN(L393)>0,$V$3,$V$2)+Q391+$T$1+C389-1","v":"2014-11-28T00:25:00"},{"$f":"IF(BE391>NOW(),C392,\"\")","v":""},{"$f":"IF(C391<>\"\",\"\",VLOOKUP(C392,BD:BD,1,FALSE))","v":""},{"$f":"IF(Q391<>\"\",\"\",VLOOKUP(C392,BF:BF,1,FALSE))","v":""},{"$f":"IF(BF391<>\"\",BE391,\"\")","v":""},{"$f":"IF(Q391=\"\",C391,\"\")","v":0},null,null,null,null,null,null,null,null,null,null,null,null,{"$f":"IF((LEN(C391)+LEN(C395)+LEN(L395))=0,I392,\"\")","v":""},{"$f":"IF(LEN(BW391)>0,A391,\"\")","v":""}]
[{"$f":"IF(TYPE(VLOOKUP(C392,BF:BI,4,FALSE))=1,VLOOKUP(C392,BF:BI,4,FALSE),\"\")","v":""},{"$f":"IF(TYPE(VLOOKUP(I392,BW:BX,2,FALSE))=16,\"\",VLOOKUP(I392,BW:BX,2,FALSE))","v":""},{"$f":"IF(I392=\"\",\"\",VLOOKUP(I392,zawodnicy!$A:$D,2,FALSE)&\" \"&VLOOKUP(I392,zawodnicy!$A:$D,3,FALSE)&\" (\"&VLOOKUP(I392,zawodnicy!$A:$D,4,FALSE)&\")\")","v":""},null,null,null,null,null,{"$f":"IF(TYPE(VLOOKUP(A391,'grup-puch'!$A:$E,2,FALSE))=2,VLOOKUP(A391,'grup-puch'!$A:$E,2,FALSE),IF(TYPE(VLOOKUP(A391,puch!$A:$E,2,FALSE))=2,VLOOKUP(A391,puch!$A:$E,2,FALSE),\"\"))","v":""},null,null,{"$f":"IF(TYPE(VLOOKUP(A391,'grup-puch'!$A:$E,4,FALSE))=2,VLOOKUP(A391,'grup-puch'!$A:$E,4,FALSE),IF(TYPE(VLOOKUP(A391,puch!$A:$E,4,FALSE))=2,VLOOKUP(A391,puch!$A:$E,4,FALSE),\"\"))","v":""},null,null,{"$f":"IF(L392=\"\",\"\",VLOOKUP(L392,zawodnicy!$A:$D,2,FALSE)&\" \"&VLOOKUP(L392,zawodnicy!$A:$D,3,FALSE)&\" (\"&VLOOKUP(L392,zawodnicy!$A:$D,4,FALSE)&\")\")","v":""},null,null,null,null,null,{"$f":"IF(TYPE(VLOOKUP(L392,BW:BX,2,FALSE))=16,\"\",VLOOKUP(L392,BW:BX,2,FALSE))","v":""},{"$f":"IF(TYPE(VLOOKUP(O392,BF:BI,4,FALSE))=1,VLOOKUP(O392,BF:BI,4,FALSE),\"\")","v":""},{"$f":"IF(AND(COUNTA(M391,N391)=2,AF391=I392),\",\"&FIXED(M391,0,TRUE)&\":\"&FIXED(N391,0,TRUE),IF(AND(COUNTA(M391,N391)=2,AF391=L392),\",\"&FIXED(N391,0,TRUE)&\":\"&FIXED(M391,0,TRUE),\"\"))","v":""},{"$f":"IF(AND(COUNTA(M391,N391)=2,AF391=I392),\",\"&FIXED(N391,0,TRUE)&\":\"&FIXED(M391,0,TRUE),IF(AND(COUNTA(M391,N391)=2,AF391=L392),\",\"&FIXED(M391,0,TRUE)&\":\"&FIXED(N391,0,TRUE),\"\"))","v":""},null,null,null,null,null,null,null,null,null,null,null,null,null,null,null,null,null,null,null,null,null,null,null,null,null,null,null,null,null,null,null,{"$f":"IF($T$1=\"\",\"\",IF(C391=\"\",\"\",IF(Q391=\"\",C393,\"\")))","v":""},null,{"$f":"IF(BE391>NOW(),C393,\"\")","v":""},{"$f":"IF(C391<>\"\",\"\",VLOOKUP(C393,BD:BD,1,FALSE))","v":""},{"$f":"IF(Q391<>\"\",\"\",VLOOKUP(C393,BF:BF,1,FALSE))","v":""},{"$f":"IF(BF392<>\"\",BE391,\"\")","v":""},null,null,null,null,null,null,null,null,null,null,null,{"$f":"IF(VLOOKUP(I392,zawodnicy!A:E,5,FALSE)=0,\"\",C392)","v":{"$error":"#N/A"}},{"$f":"IF(VLOOKUP(L392,zawodnicy!A:E,5,FALSE)=0,\"\",O392)","v":{"$error":"#N/A"}},{"$f":"IF((LEN(C391)+LEN(C395)+LEN(L395))=0,I393,\"\")","v":""},{"$f":"IF(LEN(BW392)>0,A391,\"\")","v":""}]
["","",{"$f":"IF(OR(I393=0,I393=\"\"),\"\",VLOOKUP(I393,zawodnicy!$A:$D,2,FALSE)&\" \"&VLOOKUP(I393,zawodnicy!$A:$D,3,FALSE)&\" (\"&VLOOKUP(I393,zawodnicy!$A:$D,4,FALSE)&\")\")","v":""},null,null,null,null,null,{"$f":"IF(TYPE(VLOOKUP(A391,'grup-puch'!$A:$E,3,FALSE))=2,VLOOKUP(A391,'grup-puch'!$A:$E,3,FALSE),IF(TYPE(VLOOKUP(A391,puch!$A:$E,3,FALSE))=2,VLOOKUP(A391,puch!$A:$E,3,FALSE),\"\"))","v":""},null,null,{"$f":"IF(TYPE(VLOOKUP(A391,'grup-puch'!$A:$E,5,FALSE))=2,VLOOKUP(A391,'grup-puch'!$A:$E,5,FALSE),IF(TYPE(VLOOKUP(A391,puch!$A:$E,5,FALSE))=2,VLOOKUP(A391,puch!$A:$E,5,FALSE),\"\"))","v":""},null,null,{"$f":"IF(OR(L393=\"\",L393=0),\"\",VLOOKUP(L393,zawodnicy!$A:$D,2,FALSE)&\" \"&VLOOKUP(L393,zawodnicy!$A:$D,3,FALSE)&\" (\"&VLOOKUP(L393,zawodnicy!$A:$D,4,FALSE)&\")\")","v":""},null,null,null,null,null,"","",null,null,null,null,null,null,null,null,null,null,null,null,null,null,null,null,null,null,null,null,null,null,null,null,null,null,null,null,null,null,null,null,null,{"$f":"IF($T$1=\"\",\"\",IF(C391=\"\",\"\",IF(Q391=\"\",O392,\"\")))","v":""},null,{"$f":"IF(BE391>NOW(),O392,\"\")","v":""},{"$f":"IF(C391<>\"\",\"\",VLOOKUP(O392,BD:BD,1,FALSE))","v":""},{"$f":"IF(Q391<>\"\",\"\",VLOOKUP(O392,BF:BF,1,FALSE))","v":""},{"$f":"IF(BF393<>\"\",BE391,\"\")","v":""},null,null,null,null,null,null,null,null,null,null,null,{"$f":"IF(VLOOKUP(I393,zawodnicy!A:E,5,FALSE)=0,\"\",C393)","v":{"$error":"#N/A"}},{"$f":"IF(VLOOKUP(L393,zawodnicy!A:E,5,FALSE)=0,\"\",O393)","v":{"$error":"#N/A"}},{"$f":"IF((LEN(C391)+LEN(C395)+LEN(L395))=0,L392,\"\")","v":""},{"$f":"IF(LEN(BW393)>0,A391,\"\")","v":""}]
[null,null,null,null,null,null,null,null,null,null,null,null,null,null,null,null,null,null,null,null,null,null,null,null,null,null,null,null,null,null,null,null,null,null,null,null,null,null,null,null,null,null,null,null,null,null,null,null,null,null,null,null,null,null,null,{"$f":"IF($T$1=\"\",\"\",IF(C391=\"\",\"\",IF(Q391=\"\",O393,\"\")))","v":""},null,{"$f":"IF(BE391>NOW(),O393,\"\")","v":""},{"$f":"IF(C391<>\"\",\"\",VLOOKUP(O393,BD:BD,1,FALSE))","v":""},{"$f":"IF(Q391<>\"\",\"\",VLOOKUP(O393,BF:BF,1,FALSE))","v":""},{"$f":"IF(BF394<>\"\",BE391,\"\")","v":""},null,null,null,null,null,null,null,null,null,null,null,null,null,{"$f":"IF((LEN(C391)+LEN(C395)+LEN(L395))=0,L393,\"\")","v":""},{"$f":"IF(LEN(BW394)>0,A391,\"\")","v":""}]
[null,null,{"$f":"IF(I392=\"\",\"\",IF(I392=AF391,\"zwycięzca(cy):\"&\" \"&AH391,\"\"))","v":""},null,null,null,null,null,null,null,null,{"$f":"IF(L392=\"\",\"\",IF(L392=AF391,\"zwycięzca(cy):\"&\" \"&AH391,\"\"))","v":""}]

{"sheet":"gry","index":2,"n_rows":95,"n_cols":9,"rows_kept":95,"cut":false,"hidden":false,"merged":[[0,0,0,8],[2,0,6,0],[2,6,6,6],[2,7,6,7],[2,8,6,8],[24,0,24,8],[26,0,30,0],[26,6,30,6],[26,7,30,7],[26,8,30,8],[8,0,8,8],[16,0,16,8],[18,0,22,0],[18,6,22,6],[18,7,22,7],[18,8,22,8],[10,0,14,0],[10,6,14,6],[10,7,14,7],[10,8,14,8],[32,0,32,8],[48,0,48,8],[40,0,40,8],[42,0,46,0],[42,6,46,6],[56,0,56,8],[34,0,38,0],[34,6,38,6],[34,7,38,7],[34,8,38,8],[42,7,46,7],[42,8,46,8],[50,0,54,0],[50,6,54,6],[50,7,54,7],[50,8,54,8],[58,0,62,0],[58,6,62,6],[58,7,62,7],[58,8,62,8],[64,0,64,8],[72,0,72,8],[74,8,78,8],[66,0,70,0],[66,6,70,6],[66,7,70,7],[66,8,70,8],[80,0,80,8],[74,0,78,0],[74,6,78,6],[74,7,78,7],[82,7,86,7],[82,8,86,8],[82,0,86,0],[82,6,86,6],[88,0,88,8],[90,0,94,0],[90,6,94,6],[90,7,94,7],[90,8,94,8]]}
[{"$f":"\"Gra \"&VLOOKUP(A3,'plan gier'!$Z:$AA,2,FALSE)","v":"Gra PODWÓJNA DZIECI"}]
["Nr meczu",{"$f":"IF(ISBLANK('plan gier'!$O$2),\"\",IF(LEN(VLOOKUP(A3,'plan gier'!$Z:$AE,3,FALSE))=0,\"\",VLOOKUP(VLOOKUP(A3,'plan gier'!$Z:$AE,3,FALSE),zawodnicy!$A:$C,2,FALSE)&\" \"&VLOOKUP(VLOOKUP(A3,'plan gier'!$Z:$AE,3,FALSE),zawodnicy!$A:$C,3,FALSE)))","v":"Adam  Walocha"},null,null,null,{"$f":"IF(ISBLANK('plan gier'!$O$2),\"\",IF(LEN(VLOOKUP(A3,'plan gier'!$Z:$AE,5,FALSE))=0,\"\",VLOOKUP(VLOOKUP(A3,'plan gier'!$Z:$AE,5,FALSE),zawodnicy!$A:$C,2,FALSE)&\" \"&VLOOKUP(VLOOKUP(A3,'plan gier'!$Z:$AE,5,FALSE),zawodnicy!$A:$C,3,FALSE)))","v":"Magdalena  Krupa"},"Boisko","Godz. roz..","Godz. zak."]
[52,null,null,null,null,null,null,{"$f":"IF(VLOOKUP(A3,'plan gier'!A:O,14,FALSE)<>\"\",VLOOKUP(A3,'plan gier'!A:O,14,FALSE),\"\")","v":""}]
[null,{"$f":"IF(ISBLANK('plan gier'!$O$2),\"\",IF(LEN(VLOOKUP(A3,'plan gier'!$Z:$AE,3,FALSE))=0,\"\",VLOOKUP(VLOOKUP(A3,'plan gier'!$Z:$AE,3,FALSE),zawodnicy!$A:$D,4,FALSE)))","v":"Ząbki"},null,null,null,{"$f":"IF(ISBLANK('plan gier'!$O$2),\"\",IF(LEN(VLOOKUP(A3,'plan gier'!$Z:$AE,5,FALSE))=0,\"\",VLOOKUP(VLOOKUP(A3,'plan gier'!$Z:$AE,5,FALSE),zawodnicy!$A:$D,4,FALSE)))","v":"Wesoła"}]
[null,{"$f":"IF(ISBLANK('plan gier'!$O$2),\"\",IF(LEN(VLOOKUP(A3,'plan gier'!$Z:$AE,4,FALSE))=0,\"\",VLOOKUP(VLOOKUP(A3,'plan gier'!$Z:$AE,4,FALSE),zawodnicy!$A:$C,2,FALSE)&\" \"&VLOOKUP(VLOOKUP(A3,'plan gier'!$Z:$AE,4,FALSE),zawodnicy!$A:$C,3,FALSE)))","v":"Jakub  Walocha"},null,null,null,{"$f":"IF(ISBLANK('plan gier'!$O$2),\"\",IF(LEN(VLOOKUP(A3,'plan gier'!$Z:$AE,6,FALSE))=0,\"\",VLOOKUP(VLOOKUP(A3,'plan gier'!$Z:$AE,6,FALSE),zawodnicy!$A:$C,2,FALSE)&\" \"&VLOOKUP(VLOOKUP(A3,'plan gier'!$Z:$AE,6,FALSE),zawodnicy!$A:$C,3,FALSE)))","v":"Karolina Łukomska"}]
[]
[null,{"$f":"IF(ISBLANK('plan gier'!$O$2),\"\",IF(LEN(VLOOKUP(A3,'plan gier'!$Z:$AE,4,FALSE))=0,\"\",VLOOKUP(VLOOKUP(A3,'plan gier'!$Z:$AE,4,FALSE),zawodnicy!$A:$D,4,FALSE)))","v":"Ząbki"},null,null,null,{"$f":"IF(ISBLANK('plan gier'!$O$2),\"\",IF(LEN(VLOOKUP(A3,'plan gier'!$Z:$AE,6,FALSE))=0,\"\",VLOOKUP(VLOOKUP(A3,'plan gier'!$Z:$AE,6,FALSE),zawodnicy!$A:$D,4,FALSE)))","v":"Zielonka"}]
[]
[{"$f":"\"Gra \"&VLOOKUP(A11,'plan gier'!$Z:$AA,2,FALSE)","v":"Gra PODWÓJNA DZIECI"}]
["Nr meczu",{"$f":"IF(ISBLANK('plan gier'!$O$2),\"\",IF(LEN(VLOOKUP(A11,'plan gier'!$Z:$AE,3,FALSE))=0,\"\",VLOOKUP(VLOOKUP(A11,'plan gier'!$Z:$AE,3,FALSE),zawodnicy!$A:$C,2,FALSE)&\" \"&VLOOKUP(VLOOKUP(A11,'plan gier'!$Z:$AE,3,FALSE),zawodnicy!$A:$C,3,FALSE)))","v":"Iza Pomykała"},null,null,null,{"$f":"IF(ISBLANK('plan gier'!$O$2),\"\",IF(LEN(VLOOKUP(A11,'plan gier'!$Z:$AE,5,FALSE))=0,\"\",VLOOKUP(VLOOKUP(A11,'plan gier'!$Z:$AE,5,FALSE),zawodnicy!$A:$C,2,FALSE)&\" \"&VLOOKUP(VLOOKUP(A11,'plan gier'!$Z:$AE,5,FALSE),zawodnicy!$A:$C,3,FALSE)))","v":"Konrad  Kalinowski"},"Boisko","Godz. roz..","Godz. zak."]
[{"$f":"A3+1","v":53},null,null,null,null,null,null,{"$f":"IF(VLOOKUP(A11,'plan gier'!A:O,14,FALSE)<>\"\",VLOOKUP(A11,'plan gier'!A:O,14,FALSE),\"\")","v":9}]
[null,{"$f":"IF(ISBLANK('plan gier'!$O$2),\"\",IF(LEN(VLOOKUP(A11,'plan gier'!$Z:$AE,3,FALSE))=0,\"\",VLOOKUP(VLOOKUP(A11,'plan gier'!$Z:$AE,3,FALSE),zawodnicy!$A:$D,4,FALSE)))","v":"Marki"},null,null,null,{"$f":"IF(ISBLANK('plan gier'!$O$2),\"\",IF(LEN(VLOOKUP(A11,'plan gier'!$Z:$AE,5,FALSE))=0,\"\",VLOOKUP(VLOOKUP(A11,'plan gier'!$Z:$AE,5,FALSE),zawodnicy!$A:$D,4,FALSE)))","v":"Garwolin"}]
[null,{"$f":"IF(ISBLANK('plan gier'!$O$2),\"\",IF(LEN(VLOOKUP(A11,'plan gier'!$Z:$AE,4,FALSE))=0,\"\",VLOOKUP(VLOOKUP(A11,'plan gier'!$Z:$AE,4,FALSE),zawodnicy!$A:$C,2,FALSE)&\" \"&VLOOKUP(VLOOKUP(A11,'plan gier'!$Z:$AE,4,FALSE),zawodnicy!$A:$C,3,FALSE)))","v":"Kasia Wróblewska"},null,null,null,{"$f":"IF(ISBLANK('plan gier'!$O$2),\"\",IF(LEN(VLOOKUP(A11,'plan gier'!$Z:$AE,6,FALSE))=0,\"\",VLOOKUP(VLOOKUP(A11,'plan gier'!$Z:$AE,6,FALSE),zawodnicy!$A:$C,2,FALSE)&\" \"&VLOOKUP(VLOOKUP(A11,'plan gier'!$Z:$AE,6,FALSE),zawodnicy!$A:$C,3,FALSE)))","v":"Grzegorz  Cybulski"}]
[]
[null,{"$f":"IF(ISBLANK('plan gier'!$O$2),\"\",IF(LEN(VLOOKUP(A11,'plan gier'!$Z:$AE,4,FALSE))=0,\"\",VLOOKUP(VLOOKUP(A11,'plan gier'!$Z:$AE,4,FALSE),zawodnicy!$A:$D,4,FALSE)))","v":"Mińsk Mazowiecki"},null,null,null,{"$f":"IF(ISBLANK('plan gier'!$O$2),\"\",IF(LEN(VLOOKUP(A11,'plan gier'!$Z:$AE,6,FALSE))=0,\"\",VLOOKUP(VLOOKUP(A11,'plan gier'!$Z:$AE,6,FALSE),zawodnicy!$A:$D,4,FALSE)))","v":"Garwolin"}]
[]
[{"$f":"\"Gra \"&VLOOKUP(A19,'plan gier'!$Z:$AA,2,FALSE)","v":"Gra "}]
["Nr meczu",{"$f":"IF(ISBLANK('plan gier'!$O$2),\"\",IF(LEN(VLOOKUP(A19,'plan gier'!$Z:$AE,3,FALSE))=0,\"\",VLOOKUP(VLOOKUP(A19,'plan gier'!$Z:$AE,3,FALSE),zawodnicy!$A:$C,2,FALSE)&\" \"&VLOOKUP(VLOOKUP(A19,'plan gier'!$Z:$AE,3,FALSE),zawodnicy!$A:$C,3,FALSE)))","v":""},null,null,null,{"$f":"IF(ISBLANK('plan gier'!$O$2),\"\",IF(LEN(VLOOKUP(A19,'plan gier'!$Z:$AE,5,FALSE))=0,\"\",VLOOKUP(VLOOKUP(A19,'plan gier'!$Z:$AE,5,FALSE),zawodnicy!$A:$C,2,FALSE)&\" \"&VLOOKUP(VLOOKUP(A19,'plan gier'!$Z:$AE,5,FALSE),zawodnicy!$A:$C,3,FALSE)))","v":""},"Boisko","Godz. roz..","Godz. zak."]
[{"$f":"A11+1","v":54},null,null,null,null,null,null,{"$f":"IF(VLOOKUP(A19,'plan gier'!A:O,14,FALSE)<>\"\",VLOOKUP(A19,'plan gier'!A:O,14,FALSE),\"\")","v":""}]
[null,{"$f":"IF(ISBLANK('plan gier'!$O$2),\"\",IF(LEN(VLOOKUP(A19,'plan gier'!$Z:$AE,3,FALSE))=0,\"\",VLOOKUP(VLOOKUP(A19,'plan gier'!$Z:$AE,3,FALSE),zawodnicy!$A:$D,4,FALSE)))","v":""},null,null,null,{"$f":"IF(ISBLANK('plan gier'!$O$2),\"\",IF(LEN(VLOOKUP(A19,'plan gier'!$Z:$AE,5,FALSE))=0,\"\",VLOOKUP(VLOOKUP(A19,'plan gier'!$Z:$AE,5,FALSE),zawodnicy!$A:$D,4,FALSE)))","v":""}]
[null,{"$f":"IF(ISBLANK('plan gier'!$O$2),\"\",IF(LEN(VLOOKUP(A19,'plan gier'!$Z:$AE,4,FALSE))=0,\"\",VLOOKUP(VLOOKUP(A19,'plan gier'!$Z:$AE,4,FALSE),zawodnicy!$A:$C,2,FALSE)&\" \"&VLOOKUP(VLOOKUP(A19,'plan gier'!$Z:$AE,4,FALSE),zawodnicy!$A:$C,3,FALSE)))","v":""},null,null,null,{"$f":"IF(ISBLANK('plan gier'!$O$2),\"\",IF(LEN(VLOOKUP(A19,'plan gier'!$Z:$AE,6,FALSE))=0,\"\",VLOOKUP(VLOOKUP(A19,'plan gier'!$Z:$AE,6,FALSE),zawodnicy!$A:$C,2,FALSE)&\" \"&VLOOKUP(VLOOKUP(A19,'plan gier'!$Z:$AE,6,FALSE),zawodnicy!$A:$C,3,FALSE)))","v":""}]
[]
[null,{"$f":"IF(ISBLANK('plan gier'!$O$2),\"\",IF(LEN(VLOOKUP(A19,'plan gier'!$Z:$AE,4,FALSE))=0,\"\",VLOOKUP(VLOOKUP(A19,'plan gier'!$Z:$AE,4,FALSE),zawodnicy!$A:$D,4,FALSE)))","v":""},null,null,null,{"$f":"IF(ISBLANK('plan gier'!$O$2),\"\",IF(LEN(VLOOKUP(A19,'plan gier'!$Z:$AE,6,FALSE))=0,\"\",VLOOKUP(VLOOKUP(A19,'plan gier'!$Z:$AE,6,FALSE),zawodnicy!$A:$D,4,FALSE)))","v":""}]
[]
[{"$f":"\"Gra \"&VLOOKUP(A27,'plan gier'!$Z:$AA,2,FALSE)","v":"Gra "}]
["Nr meczu",{"$f":"IF(ISBLANK('plan gier'!$O$2),\"\",IF(LEN(VLOOKUP(A27,'plan gier'!$Z:$AE,3,FALSE))=0,\"\",VLOOKUP(VLOOKUP(A27,'plan gier'!$Z:$AE,3,FALSE),zawodnicy!$A:$C,2,FALSE)&\" \"&VLOOKUP(VLOOKUP(A27,'plan gier'!$Z:$AE,3,FALSE),zawodnicy!$A:$C,3,FALSE)))","v":""},null,null,null,{"$f":"IF(ISBLANK('plan gier'!$O$2),\"\",IF(LEN(VLOOKUP(A27,'plan gier'!$Z:$AE,5,FALSE))=0,\"\",VLOOKUP(VLOOKUP(A27,'plan gier'!$Z:$AE,5,FALSE),zawodnicy!$A:$C,2,FALSE)&\" \"&VLOOKUP(VLOOKUP(A27,'plan gier'!$Z:$AE,5,FALSE),zawodnicy!$A:$C,3,FALSE)))","v":""},"Boisko","Godz. roz..","Godz. zak."]
[{"$f":"A19+1","v":55},null,null,null,null,null,null,{"$f":"IF(VLOOKUP(A27,'plan gier'!A:O,14,FALSE)<>\"\",VLOOKUP(A27,'plan gier'!A:O,14,FALSE),\"\")","v":""}]
[null,{"$f":"IF(ISBLANK('plan gier'!$O$2),\"\",IF(LEN(VLOOKUP(A27,'plan gier'!$Z:$AE,3,FALSE))=0,\"\",VLOOKUP(VLOOKUP(A27,'plan gier'!$Z:$AE,3,FALSE),zawodnicy!$A:$D,4,FALSE)))","v":""},null,null,null,{"$f":"IF(ISBLANK('plan gier'!$O$2),\"\",IF(LEN(VLOOKUP(A27,'plan gier'!$Z:$AE,5,FALSE))=0,\"\",VLOOKUP(VLOOKUP(A27,'plan gier'!$Z:$AE,5,FALSE),zawodnicy!$A:$D,4,FALSE)))","v":""}]
[null,{"$f":"IF(ISBLANK('plan gier'!$O$2),\"\",IF(LEN(VLOOKUP(A27,'plan gier'!$Z:$AE,4,FALSE))=0,\"\",VLOOKUP(VLOOKUP(A27,'plan gier'!$Z:$AE,4,FALSE),zawodnicy!$A:$C,2,FALSE)&\" \"&VLOOKUP(VLOOKUP(A27,'plan gier'!$Z:$AE,4,FALSE),zawodnicy!$A:$C,3,FALSE)))","v":""},null,null,null,{"$f":"IF(ISBLANK('plan gier'!$O$2),\"\",IF(LEN(VLOOKUP(A27,'plan gier'!$Z:$AE,6,FALSE))=0,\"\",VLOOKUP(VLOOKUP(A27,'plan gier'!$Z:$AE,6,FALSE),zawodnicy!$A:$C,2,FALSE)&\" \"&VLOOKUP(VLOOKUP(A27,'plan gier'!$Z:$AE,6,FALSE),zawodnicy!$A:$C,3,FALSE)))","v":""}]
[]
[null,{"$f":"IF(ISBLANK('plan gier'!$O$2),\"\",IF(LEN(VLOOKUP(A27,'plan gier'!$Z:$AE,4,FALSE))=0,\"\",VLOOKUP(VLOOKUP(A27,'plan gier'!$Z:$AE,4,FALSE),zawodnicy!$A:$D,4,FALSE)))","v":""},null,null,null,{"$f":"IF(ISBLANK('plan gier'!$O$2),\"\",IF(LEN(VLOOKUP(A27,'plan gier'!$Z:$AE,6,FALSE))=0,\"\",VLOOKUP(VLOOKUP(A27,'plan gier'!$Z:$AE,6,FALSE),zawodnicy!$A:$D,4,FALSE)))","v":""}]
[]
[{"$f":"\"Gra \"&VLOOKUP(A35,'plan gier'!$Z:$AA,2,FALSE)","v":"Gra "}]
["Nr meczu",{"$f":"IF(ISBLANK('plan gier'!$O$2),\"\",IF(LEN(VLOOKUP(A35,'plan gier'!$Z:$AE,3,FALSE))=0,\"\",VLOOKUP(VLOOKUP(A35,'plan gier'!$Z:$AE,3,FALSE),zawodnicy!$A:$C,2,FALSE)&\" \"&VLOOKUP(VLOOKUP(A35,'plan gier'!$Z:$AE,3,FALSE),zawodnicy!$A:$C,3,FALSE)))","v":""},null,null,null,{"$f":"IF(ISBLANK('plan gier'!$O$2),\"\",IF(LEN(VLOOKUP(A35,'plan gier'!$Z:$AE,5,FALSE))=0,\"\",VLOOKUP(VLOOKUP(A35,'plan gier'!$Z:$AE,5,FALSE),zawodnicy!$A:$C,2,FALSE)&\" \"&VLOOKUP(VLOOKUP(A35,'plan gier'!$Z:$AE,5,FALSE),zawodnicy!$A:$C,3,FALSE)))","v":""},"Boisko","Godz. roz..","Godz. zak."]
[{"$f":"A27+1","v":56},null,null,null,null,null,null,{"$f":"IF(VLOOKUP(A35,'plan gier'!A:O,14,FALSE)<>\"\",VLOOKUP(A35,'plan gier'!A:O,14,FALSE),\"\")","v":""}]
[null,{"$f":"IF(ISBLANK('plan gier'!$O$2),\"\",IF(LEN(VLOOKUP(A35,'plan gier'!$Z:$AE,3,FALSE))=0,\"\",VLOOKUP(VLOOKUP(A35,'plan gier'!$Z:$AE,3,FALSE),zawodnicy!$A:$D,4,FALSE)))","v":""},null,null,null,{"$f":"IF(ISBLANK('plan gier'!$O$2),\"\",IF(LEN(VLOOKUP(A35,'plan gier'!$Z:$AE,5,FALSE))=0,\"\",VLOOKUP(VLOOKUP(A35,'plan gier'!$Z:$AE,5,FALSE),zawodnicy!$A:$D,4,FALSE)))","v":""}]
[null,{"$f":"IF(ISBLANK('plan gier'!$O$2),\"\",IF(LEN(VLOOKUP(A35,'plan gier'!$Z:$AE,4,FALSE))=0,\"\",VLOOKUP(VLOOKUP(A35,'plan gier'!$Z:$AE,4,FALSE),zawodnicy!$A:$C,2,FALSE)&\" \"&VLOOKUP(VLOOKUP(A35,'plan gier'!$Z:$AE,4,FALSE),zawodnicy!$A:$C,3,FALSE)))","v":""},null,null,null,{"$f":"IF(ISBLANK('plan gier'!$O$2),\"\",IF(LEN(VLOOKUP(A35,'plan gier'!$Z:$AE,6,FALSE))=0,\"\",VLOOKUP(VLOOKUP(A35,'plan gier'!$Z:$AE,6,FALSE),zawodnicy!$A:$C,2,FALSE)&\" \"&VLOOKUP(VLOOKUP(A35,'plan gier'!$Z:$AE,6,FALSE),zawodnicy!$A:$C,3,FALSE)))","v":""}]
[]
[null,{"$f":"IF(ISBLANK('plan gier'!$O$2),\"\",IF(LEN(VLOOKUP(A35,'plan gier'!$Z:$AE,4,FALSE))=0,\"\",VLOOKUP(VLOOKUP(A35,'plan gier'!$Z:$AE,4,FALSE),zawodnicy!$A:$D,4,FALSE)))","v":""},null,null,null,{"$f":"IF(ISBLANK('plan gier'!$O$2),\"\",IF(LEN(VLOOKUP(A35,'plan gier'!$Z:$AE,6,FALSE))=0,\"\",VLOOKUP(VLOOKUP(A35,'plan gier'!$Z:$AE,6,FALSE),zawodnicy!$A:$D,4,FALSE)))","v":""}]
[]
[{"$f":"\"Gra \"&VLOOKUP(A43,'plan gier'!$Z:$AA,2,FALSE)","v":{"$error":"#N/A"}}]
["Nr meczu",{"$f":"IF(ISBLANK('plan gier'!$O$2),\"\",IF(LEN(VLOOKUP(A43,'plan gier'!$Z:$AE,3,FALSE))=0,\"\",VLOOKUP(VLOOKUP(A43,'plan gier'!$Z:$AE,3,FALSE),zawodnicy!$A:$C,2,FALSE)&\" \"&VLOOKUP(VLOOKUP(A43,'plan gier'!$Z:$AE,3,FALSE),zawodnicy!$A:$C,3,FALSE)))","v":{"$error":"#N/A"}},null,null,null,{"$f":"IF(ISBLANK('plan gier'!$O$2),\"\",IF(LEN(VLOOKUP(A43,'plan gier'!$Z:$AE,5,FALSE))=0,\"\",VLOOKUP(VLOOKUP(A43,'plan gier'!$Z:$AE,5,FALSE),zawodnicy!$A:$C,2,FALSE)&\" \"&VLOOKUP(VLOOKUP(A43,'plan gier'!$Z:$AE,5,FALSE),zawodnicy!$A:$C,3,FALSE)))","v":{"$error":"#N/A"}},"Boisko","Godz. roz..","Godz. zak."]
[{"$f":"A35+1","v":57},null,null,null,null,null,null,{"$f":"IF(VLOOKUP(A43,'plan gier'!A:O,14,FALSE)<>\"\",VLOOKUP(A43,'plan gier'!A:O,14,FALSE),\"\")","v":{"$error":"#N/A"}}]
[null,{"$f":"IF(ISBLANK('plan gier'!$O$2),\"\",IF(LEN(VLOOKUP(A43,'plan gier'!$Z:$AE,3,FALSE))=0,\"\",VLOOKUP(VLOOKUP(A43,'plan gier'!$Z:$AE,3,FALSE),zawodnicy!$A:$D,4,FALSE)))","v":{"$error":"#N/A"}},null,null,null,{"$f":"IF(ISBLANK('plan gier'!$O$2),\"\",IF(LEN(VLOOKUP(A43,'plan gier'!$Z:$AE,5,FALSE))=0,\"\",VLOOKUP(VLOOKUP(A43,'plan gier'!$Z:$AE,5,FALSE),zawodnicy!$A:$D,4,FALSE)))","v":{"$error":"#N/A"}}]
[null,{"$f":"IF(ISBLANK('plan gier'!$O$2),\"\",IF(LEN(VLOOKUP(A43,'plan gier'!$Z:$AE,4,FALSE))=0,\"\",VLOOKUP(VLOOKUP(A43,'plan gier'!$Z:$AE,4,FALSE),zawodnicy!$A:$C,2,FALSE)&\" \"&VLOOKUP(VLOOKUP(A43,'plan gier'!$Z:$AE,4,FALSE),zawodnicy!$A:$C,3,FALSE)))","v":{"$error":"#N/A"}},null,null,null,{"$f":"IF(ISBLANK('plan gier'!$O$2),\"\",IF(LEN(VLOOKUP(A43,'plan gier'!$Z:$AE,6,FALSE))=0,\"\",VLOOKUP(VLOOKUP(A43,'plan gier'!$Z:$AE,6,FALSE),zawodnicy!$A:$C,2,FALSE)&\" \"&VLOOKUP(VLOOKUP(A43,'plan gier'!$Z:$AE,6,FALSE),zawodnicy!$A:$C,3,FALSE)))","v":{"$error":"#N/A"}}]
[]
[null,{"$f":"IF(ISBLANK('plan gier'!$O$2),\"\",IF(LEN(VLOOKUP(A43,'plan gier'!$Z:$AE,4,FALSE))=0,\"\",VLOOKUP(VLOOKUP(A43,'plan gier'!$Z:$AE,4,FALSE),zawodnicy!$A:$D,4,FALSE)))","v":{"$error":"#N/A"}},null,null,null,{"$f":"IF(ISBLANK('plan gier'!$O$2),\"\",IF(LEN(VLOOKUP(A43,'plan gier'!$Z:$AE,6,FALSE))=0,\"\",VLOOKUP(VLOOKUP(A43,'plan gier'!$Z:$AE,6,FALSE),zawodnicy!$A:$D,4,FALSE)))","v":{"$error":"#N/A"}}]
[]
[{"$f":"\"Gra \"&VLOOKUP(A51,'plan gier'!$Z:$AA,2,FALSE)","v":{"$error":"#N/A"}}]
["Nr meczu",{"$f":"IF(ISBLANK('plan gier'!$O$2),\"\",IF(LEN(VLOOKUP(A51,'plan gier'!$Z:$AE,3,FALSE))=0,\"\",VLOOKUP(VLOOKUP(A51,'plan gier'!$Z:$AE,3,FALSE),zawodnicy!$A:$C,2,FALSE)&\" \"&VLOOKUP(VLOOKUP(A51,'plan gier'!$Z:$AE,3,FALSE),zawodnicy!$A:$C,3,FALSE)))","v":{"$error":"#N/A"}},null,null,null,{"$f":"IF(ISBLANK('plan gier'!$O$2),\"\",IF(LEN(VLOOKUP(A51,'plan gier'!$Z:$AE,5,FALSE))=0,\"\",VLOOKUP(VLOOKUP(A51,'plan gier'!$Z:$AE,5,FALSE),zawodnicy!$A:$C,2,FALSE)&\" \"&VLOOKUP(VLOOKUP(A51,'plan gier'!$Z:$AE,5,FALSE),zawodnicy!$A:$C,3,FALSE)))","v":{"$error":"#N/A"}},"Boisko","Godz. roz..","Godz. zak."]
[{"$f":"A43+1","v":58},null,null,null,null,null,null,{"$f":"IF(VLOOKUP(A51,'plan gier'!A:O,14,FALSE)<>\"\",VLOOKUP(A51,'plan gier'!A:O,14,FALSE),\"\")","v":{"$error":"#N/A"}}]
[null,{"$f":"IF(ISBLANK('plan gier'!$O$2),\"\",IF(LEN(VLOOKUP(A51,'plan gier'!$Z:$AE,3,FALSE))=0,\"\",VLOOKUP(VLOOKUP(A51,'plan gier'!$Z:$AE,3,FALSE),zawodnicy!$A:$D,4,FALSE)))","v":{"$error":"#N/A"}},null,null,null,{"$f":"IF(ISBLANK('plan gier'!$O$2),\"\",IF(LEN(VLOOKUP(A51,'plan gier'!$Z:$AE,5,FALSE))=0,\"\",VLOOKUP(VLOOKUP(A51,'plan gier'!$Z:$AE,5,FALSE),zawodnicy!$A:$D,4,FALSE)))","v":{"$error":"#N/A"}}]
[null,{"$f":"IF(ISBLANK('plan gier'!$O$2),\"\",IF(LEN(VLOOKUP(A51,'plan gier'!$Z:$AE,4,FALSE))=0,\"\",VLOOKUP(VLOOKUP(A51,'plan gier'!$Z:$AE,4,FALSE),zawodnicy!$A:$C,2,FALSE)&\" \"&VLOOKUP(VLOOKUP(A51,'plan gier'!$Z:$AE,4,FALSE),zawodnicy!$A:$C,3,FALSE)))","v":{"$error":"#N/A"}},null,null,null,{"$f":"IF(ISBLANK('plan gier'!$O$2),\"\",IF(LEN(VLOOKUP(A51,'plan gier'!$Z:$AE,6,FALSE))=0,\"\",VLOOKUP(VLOOKUP(A51,'plan gier'!$Z:$AE,6,FALSE),zawodnicy!$A:$C,2,FALSE)&\" \"&VLOOKUP(VLOOKUP(A51,'plan gier'!$Z:$AE,6,FALSE),zawodnicy!$A:$C,3,FALSE)))","v":{"$error":"#N/A"}}]
[]
[null,{"$f":"IF(ISBLANK('plan gier'!$O$2),\"\",IF(LEN(VLOOKUP(A51,'plan gier'!$Z:$AE,4,FALSE))=0,\"\",VLOOKUP(VLOOKUP(A51,'plan gier'!$Z:$AE,4,FALSE),zawodnicy!$A:$D,4,FALSE)))","v":{"$error":"#N/A"}},null,null,null,{"$f":"IF(ISBLANK('plan gier'!$O$2),\"\",IF(LEN(VLOOKUP(A51,'plan gier'!$Z:$AE,6,FALSE))=0,\"\",VLOOKUP(VLOOKUP(A51,'plan gier'!$Z:$AE,6,FALSE),zawodnicy!$A:$D,4,FALSE)))","v":{"$error":"#N/A"}}]
[]
[{"$f":"\"Gra \"&VLOOKUP(A59,'plan gier'!$Z:$AA,2,FALSE)","v":{"$error":"#N/A"}}]
["Nr meczu",{"$f":"IF(ISBLANK('plan gier'!$O$2),\"\",IF(LEN(VLOOKUP(A59,'plan gier'!$Z:$AE,3,FALSE))=0,\"\",VLOOKUP(VLOOKUP(A59,'plan gier'!$Z:$AE,3,FALSE),zawodnicy!$A:$C,2,FALSE)&\" \"&VLOOKUP(VLOOKUP(A59,'plan gier'!$Z:$AE,3,FALSE),zawodnicy!$A:$C,3,FALSE)))","v":{"$error":"#N/A"}},null,null,null,{"$f":"IF(ISBLANK('plan gier'!$O$2),\"\",IF(LEN(VLOOKUP(A59,'plan gier'!$Z:$AE,5,FALSE))=0,\"\",VLOOKUP(VLOOKUP(A59,'plan gier'!$Z:$AE,5,FALSE),zawodnicy!$A:$C,2,FALSE)&\" \"&VLOOKUP(VLOOKUP(A59,'plan gier'!$Z:$AE,5,FALSE),zawodnicy!$A:$C,3,FALSE)))","v":{"$error":"#N/A"}},"Boisko","Godz. roz..","Godz. zak."]
[{"$f":"A51+1","v":59},null,null,null,null,null,null,{"$f":"IF(VLOOKUP(A59,'plan gier'!A:O,14,FALSE)<>\"\",VLOOKUP(A59,'plan gier'!A:O,14,FALSE),\"\")","v":{"$error":"#N/A"}}]
[null,{"$f":"IF(ISBLANK('plan gier'!$O$2),\"\",IF(LEN(VLOOKUP(A59,'plan gier'!$Z:$AE,3,FALSE))=0,\"\",VLOOKUP(VLOOKUP(A59,'plan gier'!$Z:$AE,3,FALSE),zawodnicy!$A:$D,4,FALSE)))","v":{"$error":"#N/A"}},null,null,null,{"$f":"IF(ISBLANK('plan gier'!$O$2),\"\",IF(LEN(VLOOKUP(A59,'plan gier'!$Z:$AE,5,FALSE))=0,\"\",VLOOKUP(VLOOKUP(A59,'plan gier'!$Z:$AE,5,FALSE),zawodnicy!$A:$D,4,FALSE)))","v":{"$error":"#N/A"}}]
[null,{"$f":"IF(ISBLANK('plan gier'!$O$2),\"\",IF(LEN(VLOOKUP(A59,'plan gier'!$Z:$AE,4,FALSE))=0,\"\",VLOOKUP(VLOOKUP(A59,'plan gier'!$Z:$AE,4,FALSE),zawodnicy!$A:$C,2,FALSE)&\" \"&VLOOKUP(VLOOKUP(A59,'plan gier'!$Z:$AE,4,FALSE),zawodnicy!$A:$C,3,FALSE)))","v":{"$error":"#N/A"}},null,null,null,{"$f":"IF(ISBLANK('plan gier'!$O$2),\"\",IF(LEN(VLOOKUP(A59,'plan gier'!$Z:$AE,6,FALSE))=0,\"\",VLOOKUP(VLOOKUP(A59,'plan gier'!$Z:$AE,6,FALSE),zawodnicy!$A:$C,2,FALSE)&\" \"&VLOOKUP(VLOOKUP(A59,'plan gier'!$Z:$AE,6,FALSE),zawodnicy!$A:$C,3,FALSE)))","v":{"$error":"#N/A"}}]
[]
[null,{"$f":"IF(ISBLANK('plan gier'!$O$2),\"\",IF(LEN(VLOOKUP(A59,'plan gier'!$Z:$AE,4,FALSE))=0,\"\",VLOOKUP(VLOOKUP(A59,'plan gier'!$Z:$AE,4,FALSE),zawodnicy!$A:$D,4,FALSE)))","v":{"$error":"#N/A"}},null,null,null,{"$f":"IF(ISBLANK('plan gier'!$O$2),\"\",IF(LEN(VLOOKUP(A59,'plan gier'!$Z:$AE,6,FALSE))=0,\"\",VLOOKUP(VLOOKUP(A59,'plan gier'!$Z:$AE,6,FALSE),zawodnicy!$A:$D,4,FALSE)))","v":{"$error":"#N/A"}}]
[]
[{"$f":"\"Gra \"&VLOOKUP(A67,'plan gier'!$Z:$AA,2,FALSE)","v":{"$error":"#N/A"}}]
["Nr meczu",{"$f":"IF(ISBLANK('plan gier'!$O$2),\"\",IF(LEN(VLOOKUP(A67,'plan gier'!$Z:$AE,3,FALSE))=0,\"\",VLOOKUP(VLOOKUP(A67,'plan gier'!$Z:$AE,3,FALSE),zawodnicy!$A:$C,2,FALSE)&\" \"&VLOOKUP(VLOOKUP(A67,'plan gier'!$Z:$AE,3,FALSE),zawodnicy!$A:$C,3,FALSE)))","v":{"$error":"#N/A"}},null,null,null,{"$f":"IF(ISBLANK('plan gier'!$O$2),\"\",IF(LEN(VLOOKUP(A67,'plan gier'!$Z:$AE,5,FALSE))=0,\"\",VLOOKUP(VLOOKUP(A67,'plan gier'!$Z:$AE,5,FALSE),zawodnicy!$A:$C,2,FALSE)&\" \"&VLOOKUP(VLOOKUP(A67,'plan gier'!$Z:$AE,5,FALSE),zawodnicy!$A:$C,3,FALSE)))","v":{"$error":"#N/A"}},"Boisko","Godz. roz..","Godz. zak."]
[{"$f":"A59+1","v":60},null,null,null,null,null,null,{"$f":"IF(VLOOKUP(A67,'plan gier'!A:O,14,FALSE)<>\"\",VLOOKUP(A67,'plan gier'!A:O,14,FALSE),\"\")","v":{"$error":"#N/A"}}]
[null,{"$f":"IF(ISBLANK('plan gier'!$O$2),\"\",IF(LEN(VLOOKUP(A67,'plan gier'!$Z:$AE,3,FALSE))=0,\"\",VLOOKUP(VLOOKUP(A67,'plan gier'!$Z:$AE,3,FALSE),zawodnicy!$A:$D,4,FALSE)))","v":{"$error":"#N/A"}},null,null,null,{"$f":"IF(ISBLANK('plan gier'!$O$2),\"\",IF(LEN(VLOOKUP(A67,'plan gier'!$Z:$AE,5,FALSE))=0,\"\",VLOOKUP(VLOOKUP(A67,'plan gier'!$Z:$AE,5,FALSE),zawodnicy!$A:$D,4,FALSE)))","v":{"$error":"#N/A"}}]
[null,{"$f":"IF(ISBLANK('plan gier'!$O$2),\"\",IF(LEN(VLOOKUP(A67,'plan gier'!$Z:$AE,4,FALSE))=0,\"\",VLOOKUP(VLOOKUP(A67,'plan gier'!$Z:$AE,4,FALSE),zawodnicy!$A:$C,2,FALSE)&\" \"&VLOOKUP(VLOOKUP(A67,'plan gier'!$Z:$AE,4,FALSE),zawodnicy!$A:$C,3,FALSE)))","v":{"$error":"#N/A"}},null,null,null,{"$f":"IF(ISBLANK('plan gier'!$O$2),\"\",IF(LEN(VLOOKUP(A67,'plan gier'!$Z:$AE,6,FALSE))=0,\"\",VLOOKUP(VLOOKUP(A67,'plan gier'!$Z:$AE,6,FALSE),zawodnicy!$A:$C,2,FALSE)&\" \"&VLOOKUP(VLOOKUP(A67,'plan gier'!$Z:$AE,6,FALSE),zawodnicy!$A:$C,3,FALSE)))","v":{"$error":"#N/A"}}]
[]
[null,{"$f":"IF(ISBLANK('plan gier'!$O$2),\"\",IF(LEN(VLOOKUP(A67,'plan gier'!$Z:$AE,4,FALSE))=0,\"\",VLOOKUP(VLOOKUP(A67,'plan gier'!$Z:$AE,4,FALSE),zawodnicy!$A:$D,4,FALSE)))","v":{"$error":"#N/A"}},null,null,null,{"$f":"IF(ISBLANK('plan gier'!$O$2),\"\",IF(LEN(VLOOKUP(A67,'plan gier'!$Z:$AE,6,FALSE))=0,\"\",VLOOKUP(VLOOKUP(A67,'plan gier'!$Z:$AE,6,FALSE),zawodnicy!$A:$D,4,FALSE)))","v":{"$error":"#N/A"}}]
[]
[{"$f":"\"Gra \"&VLOOKUP(A75,'plan gier'!$Z:$AA,2,FALSE)","v":{"$error":"#N/A"}}]
["Nr meczu",{"$f":"IF(ISBLANK('plan gier'!$O$2),\"\",IF(LEN(VLOOKUP(A75,'plan gier'!$Z:$AE,3,FALSE))=0,\"\",VLOOKUP(VLOOKUP(A75,'plan gier'!$Z:$AE,3,FALSE),zawodnicy!$A:$C,2,FALSE)&\" \"&VLOOKUP(VLOOKUP(A75,'plan gier'!$Z:$AE,3,FALSE),zawodnicy!$A:$C,3,FALSE)))","v":{"$error":"#N/A"}},null,null,null,{"$f":"IF(ISBLANK('plan gier'!$O$2),\"\",IF(LEN(VLOOKUP(A75,'plan gier'!$Z:$AE,5,FALSE))=0,\"\",VLOOKUP(VLOOKUP(A75,'plan gier'!$Z:$AE,5,FALSE),zawodnicy!$A:$C,2,FALSE)&\" \"&VLOOKUP(VLOOKUP(A75,'plan gier'!$Z:$AE,5,FALSE),zawodnicy!$A:$C,3,FALSE)))","v":{"$error":"#N/A"}},"Boisko","Godz. roz..","Godz. zak."]
[{"$f":"A67+1","v":61},null,null,null,null,null,null,{"$f":"IF(VLOOKUP(A75,'plan gier'!A:O,14,FALSE)<>\"\",VLOOKUP(A75,'plan gier'!A:O,14,FALSE),\"\")","v":{"$error":"#N/A"}}]
[null,{"$f":"IF(ISBLANK('plan gier'!$O$2),\"\",IF(LEN(VLOOKUP(A75,'plan gier'!$Z:$AE,3,FALSE))=0,\"\",VLOOKUP(VLOOKUP(A75,'plan gier'!$Z:$AE,3,FALSE),zawodnicy!$A:$D,4,FALSE)))","v":{"$error":"#N/A"}},null,null,null,{"$f":"IF(ISBLANK('plan gier'!$O$2),\"\",IF(LEN(VLOOKUP(A75,'plan gier'!$Z:$AE,5,FALSE))=0,\"\",VLOOKUP(VLOOKUP(A75,'plan gier'!$Z:$AE,5,FALSE),zawodnicy!$A:$D,4,FALSE)))","v":{"$error":"#N/A"}}]
[null,{"$f":"IF(ISBLANK('plan gier'!$O$2),\"\",IF(LEN(VLOOKUP(A75,'plan gier'!$Z:$AE,4,FALSE))=0,\"\",VLOOKUP(VLOOKUP(A75,'plan gier'!$Z:$AE,4,FALSE),zawodnicy!$A:$C,2,FALSE)&\" \"&VLOOKUP(VLOOKUP(A75,'plan gier'!$Z:$AE,4,FALSE),zawodnicy!$A:$C,3,FALSE)))","v":{"$error":"#N/A"}},null,null,null,{"$f":"IF(ISBLANK('plan gier'!$O$2),\"\",IF(LEN(VLOOKUP(A75,'plan gier'!$Z:$AE,6,FALSE))=0,\"\",VLOOKUP(VLOOKUP(A75,'plan gier'!$Z:$AE,6,FALSE),zawodnicy!$A:$C,2,FALSE)&\" \"&VLOOKUP(VLOOKUP(A75,'plan gier'!$Z:$AE,6,FALSE),zawodnicy!$A:$C,3,FALSE)))","v":{"$error":"#N/A"}}]
[]
[null,{"$f":"IF(ISBLANK('plan gier'!$O$2),\"\",IF(LEN(VLOOKUP(A75,'plan gier'!$Z:$AE,4,FALSE))=0,\"\",VLOOKUP(VLOOKUP(A75,'plan gier'!$Z:$AE,4,FALSE),zawodnicy!$A:$D,4,FALSE)))","v":{"$error":"#N/A"}},null,null,null,{"$f":"IF(ISBLANK('plan gier'!$O$2),\"\",IF(LEN(VLOOKUP(A75,'plan gier'!$Z:$AE,6,FALSE))=0,\"\",VLOOKUP(VLOOKUP(A75,'plan gier'!$Z:$AE,6,FALSE),zawodnicy!$A:$D,4,FALSE)))","v":{"$error":"#N/A"}}]
[]
[{"$f":"\"Gra \"&VLOOKUP(A83,'plan gier'!$Z:$AA,2,FALSE)","v":{"$error":"#N/A"}}]
["Nr meczu",{"$f":"IF(ISBLANK('plan gier'!$O$2),\"\",IF(LEN(VLOOKUP(A83,'plan gier'!$Z:$AE,3,FALSE))=0,\"\",VLOOKUP(VLOOKUP(A83,'plan gier'!$Z:$AE,3,FALSE),zawodnicy!$A:$C,2,FALSE)&\" \"&VLOOKUP(VLOOKUP(A83,'plan gier'!$Z:$AE,3,FALSE),zawodnicy!$A:$C,3,FALSE)))","v":{"$error":"#N/A"}},null,null,null,{"$f":"IF(ISBLANK('plan gier'!$O$2),\"\",IF(LEN(VLOOKUP(A83,'plan gier'!$Z:$AE,5,FALSE))=0,\"\",VLOOKUP(VLOOKUP(A83,'plan gier'!$Z:$AE,5,FALSE),zawodnicy!$A:$C,2,FALSE)&\" \"&VLOOKUP(VLOOKUP(A83,'plan gier'!$Z:$AE,5,FALSE),zawodnicy!$A:$C,3,FALSE)))","v":{"$error":"#N/A"}},"Boisko","Godz. roz..","Godz. zak."]
[{"$f":"A75+1","v":62},null,null,null,null,null,null,{"$f":"IF(VLOOKUP(A83,'plan gier'!A:O,14,FALSE)<>\"\",VLOOKUP(A83,'plan gier'!A:O,14,FALSE),\"\")","v":{"$error":"#N/A"}}]
[null,{"$f":"IF(ISBLANK('plan gier'!$O$2),\"\",IF(LEN(VLOOKUP(A83,'plan gier'!$Z:$AE,3,FALSE))=0,\"\",VLOOKUP(VLOOKUP(A83,'plan gier'!$Z:$AE,3,FALSE),zawodnicy!$A:$D,4,FALSE)))","v":{"$error":"#N/A"}},null,null,null,{"$f":"IF(ISBLANK('plan gier'!$O$2),\"\",IF(LEN(VLOOKUP(A83,'plan gier'!$Z:$AE,5,FALSE))=0,\"\",VLOOKUP(VLOOKUP(A83,'plan gier'!$Z:$AE,5,FALSE),zawodnicy!$A:$D,4,FALSE)))","v":{"$error":"#N/A"}}]
[null,{"$f":"IF(ISBLANK('plan gier'!$O$2),\"\",IF(LEN(VLOOKUP(A83,'plan gier'!$Z:$AE,4,FALSE))=0,\"\",VLOOKUP(VLOOKUP(A83,'plan gier'!$Z:$AE,4,FALSE),zawodnicy!$A:$C,2,FALSE)&\" \"&VLOOKUP(VLOOKUP(A83,'plan gier'!$Z:$AE,4,FALSE),zawodnicy!$A:$C,3,FALSE)))","v":{"$error":"#N/A"}},null,null,null,{"$f":"IF(ISBLANK('plan gier'!$O$2),\"\",IF(LEN(VLOOKUP(A83,'plan gier'!$Z:$AE,6,FALSE))=0,\"\",VLOOKUP(VLOOKUP(A83,'plan gier'!$Z:$AE,6,FALSE),zawodnicy!$A:$C,2,FALSE)&\" \"&VLOOKUP(VLOOKUP(A83,'plan gier'!$Z:$AE,6,FALSE),zawodnicy!$A:$C,3,FALSE)))","v":{"$error":"#N/A"}}]
[]
[null,{"$f":"IF(ISBLANK('plan gier'!$O$2),\"\",IF(LEN(VLOOKUP(A83,'plan gier'!$Z:$AE,4,FALSE))=0,\"\",VLOOKUP(VLOOKUP(A83,'plan gier'!$Z:$AE,4,FALSE),zawodnicy!$A:$D,4,FALSE)))","v":{"$error":"#N/A"}},null,null,null,{"$f":"IF(ISBLANK('plan gier'!$O$2),\"\",IF(LEN(VLOOKUP(A83,'plan gier'!$Z:$AE,6,FALSE))=0,\"\",VLOOKUP(VLOOKUP(A83,'plan gier'!$Z:$AE,6,FALSE),zawodnicy!$A:$D,4,FALSE)))","v":{"$error":"#N/A"}}]
[]
[{"$f":"\"Gra \"&VLOOKUP(A91,'plan gier'!$Z:$AA,2,FALSE)","v":{"$error":"#N/A"}}]
["Nr meczu",{"$f":"IF(ISBLANK('plan gier'!$O$2),\"\",IF(LEN(VLOOKUP(A91,'plan gier'!$Z:$AE,3,FALSE))=0,\"\",VLOOKUP(VLOOKUP(A91,'plan gier'!$Z:$AE,3,FALSE),zawodnicy!$A:$C,2,FALSE)&\" \"&VLOOKUP(VLOOKUP(A91,'plan gier'!$Z:$AE,3,FALSE),zawodnicy!$A:$C,3,FALSE)))","v":{"$error":"#N/A"}},null,null,null,{"$f":"IF(ISBLANK('plan gier'!$O$2),\"\",IF(LEN(VLOOKUP(A91,'plan gier'!$Z:$AE,5,FALSE))=0,\"\",VLOOKUP(VLOOKUP(A91,'plan gier'!$Z:$AE,5,FALSE),zawodnicy!$A:$C,2,FALSE)&\" \"&VLOOKUP(VLOOKUP(A91,'plan gier'!$Z:$AE,5,FALSE),zawodnicy!$A:$C,3,FALSE)))","v":{"$error":"#N/A"}},"Boisko","Godz. roz..","Godz. zak."]
[{"$f":"A83+1","v":63},null,null,null,null,null,null,{"$f":"IF(VLOOKUP(A91,'plan gier'!A:O,14,FALSE)<>\"\",VLOOKUP(A91,'plan gier'!A:O,14,FALSE),\"\")","v":{"$error":"#N/A"}}]
[null,{"$f":"IF(ISBLANK('plan gier'!$O$2),\"\",IF(LEN(VLOOKUP(A91,'plan gier'!$Z:$AE,3,FALSE))=0,\"\",VLOOKUP(VLOOKUP(A91,'plan gier'!$Z:$AE,3,FALSE),zawodnicy!$A:$D,4,FALSE)))","v":{"$error":"#N/A"}},null,null,null,{"$f":"IF(ISBLANK('plan gier'!$O$2),\"\",IF(LEN(VLOOKUP(A91,'plan gier'!$Z:$AE,5,FALSE))=0,\"\",VLOOKUP(VLOOKUP(A91,'plan gier'!$Z:$AE,5,FALSE),zawodnicy!$A:$D,4,FALSE)))","v":{"$error":"#N/A"}}]
[null,{"$f":"IF(ISBLANK('plan gier'!$O$2),\"\",IF(LEN(VLOOKUP(A91,'plan gier'!$Z:$AE,4,FALSE))=0,\"\",VLOOKUP(VLOOKUP(A91,'plan gier'!$Z:$AE,4,FALSE),zawodnicy!$A:$C,2,FALSE)&\" \"&VLOOKUP(VLOOKUP(A91,'plan gier'!$Z:$AE,4,FALSE),zawodnicy!$A:$C,3,FALSE)))","v":{"$error":"#N/A"}},null,null,null,{"$f":"IF(ISBLANK('plan gier'!$O$2),\"\",IF(LEN(VLOOKUP(A91,'plan gier'!$Z:$AE,6,FALSE))=0,\"\",VLOOKUP(VLOOKUP(A91,'plan gier'!$Z:$AE,6,FALSE),zawodnicy!$A:$C,2,FALSE)&\" \"&VLOOKUP(VLOOKUP(A91,'plan gier'!$Z:$AE,6,FALSE),zawodnicy!$A:$C,3,FALSE)))","v":{"$error":"#N/A"}}]
[]
[null,{"$f":"IF(ISBLANK('plan gier'!$O$2),\"\",IF(LEN(VLOOKUP(A91,'plan gier'!$Z:$AE,4,FALSE))=0,\"\",VLOOKUP(VLOOKUP(A91,'plan gier'!$Z:$AE,4,FALSE),zawodnicy!$A:$D,4,FALSE)))","v":{"$error":"#N/A"}},null,null,null,{"$f":"IF(ISBLANK('plan gier'!$O$2),\"\",IF(LEN(VLOOKUP(A91,'plan gier'!$Z:$AE,6,FALSE))=0,\"\",VLOOKUP(VLOOKUP(A91,'plan gier'!$Z:$AE,6,FALSE),zawodnicy!$A:$D,4,FALSE)))","v":{"$error":"#N/A"}}]

{"sheet":"mecze","index":3,"n_rows":80,"n_cols":6,"rows_kept":80,"cut":false,"hidden":false,"merged":[[79,0,79,3],[74,0,75,0],[74,2,75,2],[74,4,75,4],[74,5,75,5],[76,1,76,3],[77,0,78,0],[77,2,78,2],[77,4,78,4],[77,5,78,5],[70,1,70,3],[71,0,72,0],[71,2,72,2],[71,4,72,4],[71,5,72,5],[73,1,73,3],[65,0,66,0],[65,2,66,2],[65,4,66,4],[65,5,66,5],[67,1,67,3],[68,0,69,0],[68,2,69,2],[68,4,69,4],[68,5,69,5],[61,1,61,3],[62,0,63,0],[62,2,63,2],[62,4,63,4],[62,5,63,5],[64,1,64,3],[56,0,57,0],[56,2,57,2],[56,4,57,4],[56,5,57,5],[58,1,58,3],[59,0,60,0],[59,2,60,2],[59,4,60,4],[59,5,60,5],[52,1,52,3],[53,0,54,0],[53,2,54,2],[53,4,54,4],[53,5,54,5],[55,1,55,3],[47,0,48,0],[47,2,48,2],[47,4,48,4],[47,5,48,5],[49,1,49,3],[50,0,51,0],[50,2,51,2],[50,4,51,4],[50,5,51,5],[43,1,43,3],[44,0,45,0],[44,2,45,2],[44,4,45,4],[44,5,45,5],[46,1,46,3],[38,0,39,0],[38,2,39,2],[38,4,39,4],[38,5,39,5],[40,1,40,3],[41,0,42,0],[41,2,42,2],[41,4,42,4],[41,5,42,5],[34,1,34,3],[35,0,36,0],[35,2,36,2],[35,4,36,4],[35,5,36,5],[37,1,37,3],[29,0,30,0],[29,2,30,2],[29,4,30,4],[29,5,30,5],[31,1,31,3],[32,0,33,0],[32,2,33,2],[32,4,33,4],[32,5,33,5],[25,1,25,3],[26,0,27,0],[26,2,27,2],[26,4,27,4],[26,5,27,5],[28,1,28,3],[20,0,21,0],[20,2,21,2],[20,4,21,4],[20,5,21,5],[22,1,22,3],[23,0,24,0],[23,2,24,2],[23,4,24,4],[23,5,24,5],[16,1,16,3],[17,0,18,0],[17,2,18,2],[17,4,18,4],[17,5,18,5],[19,1,19,3],[11,0,12,0],[11,2,12,2],[11,4,12,4],[11,5,12,5],[13,1,13,3],[14,0,15,0],[14,2,15,2],[14,4,15,4],[14,5,15,5],[7,1,7,3],[8,0,9,0],[8,2,9,2],[8,4,9,4],[8,5,9,5],[10,1,10,3],[0,0,0,5],[1,0,1,5],[2,0,2,5],[4,1,4,3],[5,0,6,0],[5,2,6,2],[5,4,6,4],[5,5,6,5]]}
[{"$f":"dane!D2","v":"VICTOR GRAND PRIX ZĄBEK"}]
[{"$f":"dane!D3","v":"ZĄBKI ; 04.10.2014"}]
["Kolejność gier "]
[]
["Nr meczu",{"$f":"\"Gra \"&VLOOKUP(A6,'plan gier'!$Z:$AA,2,FALSE)","v":"Gra KLASY 1-3 CHŁOPCY"},null,null,"Boisko","Godz. roz."]
[1,{"$f":"IF(ISBLANK(A6),\"\",IF(LEN(VLOOKUP(A6,'plan gier'!$Z:$AE,3,FALSE))=0,\"\",VLOOKUP(VLOOKUP(A6,'plan gier'!$Z:$AE,3,FALSE),zawodnicy!$A:$C,2,FALSE)&\" \"&VLOOKUP(VLOOKUP(A6,'plan gier'!$Z:$AE,3,FALSE),zawodnicy!$A:$C,3,FALSE)&\" - \"&VLOOKUP(VLOOKUP(A6,'plan gier'!$Z:$AE,3,FALSE),zawodnicy!$A:$D,4,FALSE)))","v":"Hanna  Lewandowska - Wesoła"},":",{"$f":"IF(ISBLANK(A6),\"\",IF(LEN(VLOOKUP(A6,'plan gier'!$Z:$AE,5,FALSE))=0,\"\",VLOOKUP(VLOOKUP(A6,'plan gier'!$Z:$AE,5,FALSE),zawodnicy!$A:$C,2,FALSE)&\" \"&VLOOKUP(VLOOKUP(A6,'plan gier'!$Z:$AE,5,FALSE),zawodnicy!$A:$C,3,FALSE)&\" - \"&VLOOKUP(VLOOKUP(A6,'plan gier'!$Z:$AE,5,FALSE),zawodnicy!$A:$D,4,FALSE)))","v":"Kacper Gajos - Ząbki"},null,{"$f":"IF(VLOOKUP(A6,'plan gier'!A:T,19,FALSE)<>\"\",VLOOKUP(A6,'plan gier'!A:T,19,FALSE),\"\")","v":"00:00:00"}]
[null,{"$f":"IF(ISBLANK(A6),\"\",IF(LEN(VLOOKUP(A6,'plan gier'!$Z:$AE,4,FALSE))=0,\"\",VLOOKUP(VLOOKUP(A6,'plan gier'!$Z:$AE,4,FALSE),zawodnicy!$A:$C,2,FALSE)&\" \"&VLOOKUP(VLOOKUP(A6,'plan gier'!$Z:$AE,4,FALSE),zawodnicy!$A:$C,3,FALSE)&\" - \"&VLOOKUP(VLOOKUP(A6,'plan gier'!$Z:$AE,4,FALSE),zawodnicy!$A:$D,4,FALSE)))","v":""},null,{"$f":"IF(ISBLANK(A6),\"\",IF(LEN(VLOOKUP(A6,'plan gier'!$Z:$AE,6,FALSE))=0,\"\",VLOOKUP(VLOOKUP(A6,'plan gier'!$Z:$AE,6,FALSE),zawodnicy!$A:$C,2,FALSE)&\" \"&VLOOKUP(VLOOKUP(A6,'plan gier'!$Z:$AE,6,FALSE),zawodnicy!$A:$C,3,FALSE)&\" - \"&VLOOKUP(VLOOKUP(A6,'plan gier'!$Z:$AE,6,FALSE),zawodnicy!$A:$D,4,FALSE)))","v":""}]
["Nr meczu",{"$f":"\"Gra \"&VLOOKUP(A9,'plan gier'!$Z:$AA,2,FALSE)","v":"Gra KLASY 4-6 CHŁOPCY"},null,null,"Boisko","Godz. roz."]
[{"$f":"IF(A6=\"\",\"\",A6+1)","v":2},{"$f":"IF(ISBLANK(A9),\"\",IF(LEN(VLOOKUP(A9,'plan gier'!$Z:$AE,3,FALSE))=0,\"\",VLOOKUP(VLOOKUP(A9,'plan gier'!$Z:$AE,3,FALSE),zawodnicy!$A:$C,2,FALSE)&\" \"&VLOOKUP(VLOOKUP(A9,'plan gier'!$Z:$AE,3,FALSE),zawodnicy!$A:$C,3,FALSE)&\" - \"&VLOOKUP(VLOOKUP(A9,'plan gier'!$Z:$AE,3,FALSE),zawodnicy!$A:$D,4,FALSE)))","v":"Kacper Winek - Garwolin"},":",{"$f":"IF(ISBLANK(A9),\"\",IF(LEN(VLOOKUP(A9,'plan gier'!$Z:$AE,5,FALSE))=0,\"\",VLOOKUP(VLOOKUP(A9,'plan gier'!$Z:$AE,5,FALSE),zawodnicy!$A:$C,2,FALSE)&\" \"&VLOOKUP(VLOOKUP(A9,'plan gier'!$Z:$AE,5,FALSE),zawodnicy!$A:$C,3,FALSE)&\" - \"&VLOOKUP(VLOOKUP(A9,'plan gier'!$Z:$AE,5,FALSE),zawodnicy!$A:$D,4,FALSE)))","v":"Kuba  Niewczas - Ząbki"},null,{"$f":"IF(VLOOKUP(A9,'plan gier'!A:T,19,FALSE)<>\"\",VLOOKUP(A9,'plan gier'!A:T,19,FALSE),\"\")","v":"00:00:00"}]
[null,{"$f":"IF(ISBLANK(A9),\"\",IF(LEN(VLOOKUP(A9,'plan gier'!$Z:$AE,4,FALSE))=0,\"\",VLOOKUP(VLOOKUP(A9,'plan gier'!$Z:$AE,4,FALSE),zawodnicy!$A:$C,2,FALSE)&\" \"&VLOOKUP(VLOOKUP(A9,'plan gier'!$Z:$AE,4,FALSE),zawodnicy!$A:$C,3,FALSE)&\" - \"&VLOOKUP(VLOOKUP(A9,'plan gier'!$Z:$AE,4,FALSE),zawodnicy!$A:$D,4,FALSE)))","v":""},null,{"$f":"IF(ISBLANK(A9),\"\",IF(LEN(VLOOKUP(A9,'plan gier'!$Z:$AE,6,FALSE))=0,\"\",VLOOKUP(VLOOKUP(A9,'plan gier'!$Z:$AE,6,FALSE),zawodnicy!$A:$C,2,FALSE)&\" \"&VLOOKUP(VLOOKUP(A9,'plan gier'!$Z:$AE,6,FALSE),zawodnicy!$A:$C,3,FALSE)&\" - \"&VLOOKUP(VLOOKUP(A9,'plan gier'!$Z:$AE,6,FALSE),zawodnicy!$A:$D,4,FALSE)))","v":""}]
["Nr meczu",{"$f":"\"Gra \"&VLOOKUP(A12,'plan gier'!$Z:$AA,2,FALSE)","v":"Gra KLASY 4-6 CHŁOPCY"},null,null,"Boisko","Godz. roz."]
[{"$f":"IF(A9=\"\",\"\",A9+1)","v":3},{"$f":"IF(ISBLANK(A12),\"\",IF(LEN(VLOOKUP(A12,'plan gier'!$Z:$AE,3,FALSE))=0,\"\",VLOOKUP(VLOOKUP(A12,'plan gier'!$Z:$AE,3,FALSE),zawodnicy!$A:$C,2,FALSE)&\" \"&VLOOKUP(VLOOKUP(A12,'plan gier'!$Z:$AE,3,FALSE),zawodnicy!$A:$C,3,FALSE)&\" - \"&VLOOKUP(VLOOKUP(A12,'plan gier'!$Z:$AE,3,FALSE),zawodnicy!$A:$D,4,FALSE)))","v":"Jakub  Walocha - Ząbki"},":",{"$f":"IF(ISBLANK(A12),\"\",IF(LEN(VLOOKUP(A12,'plan gier'!$Z:$AE,5,FALSE))=0,\"\",VLOOKUP(VLOOKUP(A12,'plan gier'!$Z:$AE,5,FALSE),zawodnicy!$A:$C,2,FALSE)&\" \"&VLOOKUP(VLOOKUP(A12,'plan gier'!$Z:$AE,5,FALSE),zawodnicy!$A:$C,3,FALSE)&\" - \"&VLOOKUP(VLOOKUP(A12,'plan gier'!$Z:$AE,5,FALSE),zawodnicy!$A:$D,4,FALSE)))","v":"Jakub  Niemirski - Ząbki"},null,{"$f":"IF(VLOOKUP(A12,'plan gier'!A:T,19,FALSE)<>\"\",VLOOKUP(A12,'plan gier'!A:T,19,FALSE),\"\")","v":"00:00:00"}]
[null,{"$f":"IF(ISBLANK(A12),\"\",IF(LEN(VLOOKUP(A12,'plan gier'!$Z:$AE,4,FALSE))=0,\"\",VLOOKUP(VLOOKUP(A12,'plan gier'!$Z:$AE,4,FALSE),zawodnicy!$A:$C,2,FALSE)&\" \"&VLOOKUP(VLOOKUP(A12,'plan gier'!$Z:$AE,4,FALSE),zawodnicy!$A:$C,3,FALSE)&\" - \"&VLOOKUP(VLOOKUP(A12,'plan gier'!$Z:$AE,4,FALSE),zawodnicy!$A:$D,4,FALSE)))","v":""},null,{"$f":"IF(ISBLANK(A12),\"\",IF(LEN(VLOOKUP(A12,'plan gier'!$Z:$AE,6,FALSE))=0,\"\",VLOOKUP(VLOOKUP(A12,'plan gier'!$Z:$AE,6,FALSE),zawodnicy!$A:$C,2,FALSE)&\" \"&VLOOKUP(VLOOKUP(A12,'plan gier'!$Z:$AE,6,FALSE),zawodnicy!$A:$C,3,FALSE)&\" - \"&VLOOKUP(VLOOKUP(A12,'plan gier'!$Z:$AE,6,FALSE),zawodnicy!$A:$D,4,FALSE)))","v":""}]
["Nr meczu",{"$f":"\"Gra \"&VLOOKUP(A15,'plan gier'!$Z:$AA,2,FALSE)","v":"Gra KLASY 4-6 CHŁOPCY"},null,null,"Boisko","Godz. roz."]
[{"$f":"IF(A12=\"\",\"\",A12+1)","v":4},{"$f":"IF(ISBLANK(A15),\"\",IF(LEN(VLOOKUP(A15,'plan gier'!$Z:$AE,3,FALSE))=0,\"\",VLOOKUP(VLOOKUP(A15,'plan gier'!$Z:$AE,3,FALSE),zawodnicy!$A:$C,2,FALSE)&\" \"&VLOOKUP(VLOOKUP(A15,'plan gier'!$Z:$AE,3,FALSE),zawodnicy!$A:$C,3,FALSE)&\" - \"&VLOOKUP(VLOOKUP(A15,'plan gier'!$Z:$AE,3,FALSE),zawodnicy!$A:$D,4,FALSE)))","v":"Miłosz  Siepsiak - Wesoła"},":",{"$f":"IF(ISBLANK(A15),\"\",IF(LEN(VLOOKUP(A15,'plan gier'!$Z:$AE,5,FALSE))=0,\"\",VLOOKUP(VLOOKUP(A15,'plan gier'!$Z:$AE,5,FALSE),zawodnicy!$A:$C,2,FALSE)&\" \"&VLOOKUP(VLOOKUP(A15,'plan gier'!$Z:$AE,5,FALSE),zawodnicy!$A:$C,3,FALSE)&\" - \"&VLOOKUP(VLOOKUP(A15,'plan gier'!$Z:$AE,5,FALSE),zawodnicy!$A:$D,4,FALSE)))","v":"Ela  Przybysz - Garwolin"},null,{"$f":"IF(VLOOKUP(A15,'plan gier'!A:T,19,FALSE)<>\"\",VLOOKUP(A15,'plan gier'!A:T,19,FALSE),\"\")","v":"00:00:00"}]
[null,{"$f":"IF(ISBLANK(A15),\"\",IF(LEN(VLOOKUP(A15,'plan gier'!$Z:$AE,4,FALSE))=0,\"\",VLOOKUP(VLOOKUP(A15,'plan gier'!$Z:$AE,4,FALSE),zawodnicy!$A:$C,2,FALSE)&\" \"&VLOOKUP(VLOOKUP(A15,'plan gier'!$Z:$AE,4,FALSE),zawodnicy!$A:$C,3,FALSE)&\" - \"&VLOOKUP(VLOOKUP(A15,'plan gier'!$Z:$AE,4,FALSE),zawodnicy!$A:$D,4,FALSE)))","v":""},null,{"$f":"IF(ISBLANK(A15),\"\",IF(LEN(VLOOKUP(A15,'plan gier'!$Z:$AE,6,FALSE))=0,\"\",VLOOKUP(VLOOKUP(A15,'plan gier'!$Z:$AE,6,FALSE),zawodnicy!$A:$C,2,FALSE)&\" \"&VLOOKUP(VLOOKUP(A15,'plan gier'!$Z:$AE,6,FALSE),zawodnicy!$A:$C,3,FALSE)&\" - \"&VLOOKUP(VLOOKUP(A15,'plan gier'!$Z:$AE,6,FALSE),zawodnicy!$A:$D,4,FALSE)))","v":""}]
["Nr meczu",{"$f":"\"Gra \"&VLOOKUP(A18,'plan gier'!$Z:$AA,2,FALSE)","v":"Gra KLASY 4-6 CHŁOPCY"},null,null,"Boisko","Godz. roz."]
[{"$f":"IF(A15=\"\",\"\",A15+1)","v":5},{"$f":"IF(ISBLANK(A18),\"\",IF(LEN(VLOOKUP(A18,'plan gier'!$Z:$AE,3,FALSE))=0,\"\",VLOOKUP(VLOOKUP(A18,'plan gier'!$Z:$AE,3,FALSE),zawodnicy!$A:$C,2,FALSE)&\" \"&VLOOKUP(VLOOKUP(A18,'plan gier'!$Z:$AE,3,FALSE),zawodnicy!$A:$C,3,FALSE)&\" - \"&VLOOKUP(VLOOKUP(A18,'plan gier'!$Z:$AE,3,FALSE),zawodnicy!$A:$D,4,FALSE)))","v":"Błażej  Krawczyk - Ząbki"},":",{"$f":"IF(ISBLANK(A18),\"\",IF(LEN(VLOOKUP(A18,'plan gier'!$Z:$AE,5,FALSE))=0,\"\",VLOOKUP(VLOOKUP(A18,'plan gier'!$Z:$AE,5,FALSE),zawodnicy!$A:$C,2,FALSE)&\" \"&VLOOKUP(VLOOKUP(A18,'plan gier'!$Z:$AE,5,FALSE),zawodnicy!$A:$C,3,FALSE)&\" - \"&VLOOKUP(VLOOKUP(A18,'plan gier'!$Z:$AE,5,FALSE),zawodnicy!$A:$D,4,FALSE)))","v":"Ignacy Repiński - Marki"},null,{"$f":"IF(VLOOKUP(A18,'plan gier'!A:T,19,FALSE)<>\"\",VLOOKUP(A18,'plan gier'!A:T,19,FALSE),\"\")","v":"00:00:00"}]
[null,{"$f":"IF(ISBLANK(A18),\"\",IF(LEN(VLOOKUP(A18,'plan gier'!$Z:$AE,4,FALSE))=0,\"\",VLOOKUP(VLOOKUP(A18,'plan gier'!$Z:$AE,4,FALSE),zawodnicy!$A:$C,2,FALSE)&\" \"&VLOOKUP(VLOOKUP(A18,'plan gier'!$Z:$AE,4,FALSE),zawodnicy!$A:$C,3,FALSE)&\" - \"&VLOOKUP(VLOOKUP(A18,'plan gier'!$Z:$AE,4,FALSE),zawodnicy!$A:$D,4,FALSE)))","v":""},null,{"$f":"IF(ISBLANK(A18),\"\",IF(LEN(VLOOKUP(A18,'plan gier'!$Z:$AE,6,FALSE))=0,\"\",VLOOKUP(VLOOKUP(A18,'plan gier'!$Z:$AE,6,FALSE),zawodnicy!$A:$C,2,FALSE)&\" \"&VLOOKUP(VLOOKUP(A18,'plan gier'!$Z:$AE,6,FALSE),zawodnicy!$A:$C,3,FALSE)&\" - \"&VLOOKUP(VLOOKUP(A18,'plan gier'!$Z:$AE,6,FALSE),zawodnicy!$A:$D,4,FALSE)))","v":""}]
["Nr meczu",{"$f":"\"Gra \"&VLOOKUP(A21,'plan gier'!$Z:$AA,2,FALSE)","v":"Gra GIMNAZJUM DZIEWCZĘTA"},null,null,"Boisko","Godz. roz."]
[{"$f":"IF(A18=\"\",\"\",A18+1)","v":6},{"$f":"IF(ISBLANK(A21),\"\",IF(LEN(VLOOKUP(A21,'plan gier'!$Z:$AE,3,FALSE))=0,\"\",VLOOKUP(VLOOKUP(A21,'plan gier'!$Z:$AE,3,FALSE),zawodnicy!$A:$C,2,FALSE)&\" \"&VLOOKUP(VLOOKUP(A21,'plan gier'!$Z:$AE,3,FALSE),zawodnicy!$A:$C,3,FALSE)&\" - \"&VLOOKUP(VLOOKUP(A21,'plan gier'!$Z:$AE,3,FALSE),zawodnicy!$A:$D,4,FALSE)))","v":"Karolina Łukomska - Zielonka"},":",{"$f":"IF(ISBLANK(A21),\"\",IF(LEN(VLOOKUP(A21,'plan gier'!$Z:$AE,5,FALSE))=0,\"\",VLOOKUP(VLOOKUP(A21,'plan gier'!$Z:$AE,5,FALSE),zawodnicy!$A:$C,2,FALSE)&\" \"&VLOOKUP(VLOOKUP(A21,'plan gier'!$Z:$AE,5,FALSE),zawodnicy!$A:$C,3,FALSE)&\" - \"&VLOOKUP(VLOOKUP(A21,'plan gier'!$Z:$AE,5,FALSE),zawodnicy!$A:$D,4,FALSE)))","v":"Magdalena  Krupa - Wesoła"},null,{"$f":"IF(VLOOKUP(A21,'plan gier'!A:T,19,FALSE)<>\"\",VLOOKUP(A21,'plan gier'!A:T,19,FALSE),\"\")","v":"00:00:00"}]
[null,{"$f":"IF(ISBLANK(A21),\"\",IF(LEN(VLOOKUP(A21,'plan gier'!$Z:$AE,4,FALSE))=0,\"\",VLOOKUP(VLOOKUP(A21,'plan gier'!$Z:$AE,4,FALSE),zawodnicy!$A:$C,2,FALSE)&\" \"&VLOOKUP(VLOOKUP(A21,'plan gier'!$Z:$AE,4,FALSE),zawodnicy!$A:$C,3,FALSE)&\" - \"&VLOOKUP(VLOOKUP(A21,'plan gier'!$Z:$AE,4,FALSE),zawodnicy!$A:$D,4,FALSE)))","v":""},null,{"$f":"IF(ISBLANK(A21),\"\",IF(LEN(VLOOKUP(A21,'plan gier'!$Z:$AE,6,FALSE))=0,\"\",VLOOKUP(VLOOKUP(A21,'plan gier'!$Z:$AE,6,FALSE),zawodnicy!$A:$C,2,FALSE)&\" \"&VLOOKUP(VLOOKUP(A21,'plan gier'!$Z:$AE,6,FALSE),zawodnicy!$A:$C,3,FALSE)&\" - \"&VLOOKUP(VLOOKUP(A21,'plan gier'!$Z:$AE,6,FALSE),zawodnicy!$A:$D,4,FALSE)))","v":""}]
["Nr meczu",{"$f":"\"Gra \"&VLOOKUP(A24,'plan gier'!$Z:$AA,2,FALSE)","v":"Gra GIMNAZJUM CHŁOPCY"},null,null,"Boisko","Godz. roz."]
[{"$f":"IF(A21=\"\",\"\",A21+1)","v":7},{"$f":"IF(ISBLANK(A24),\"\",IF(LEN(VLOOKUP(A24,'plan gier'!$Z:$AE,3,FALSE))=0,\"\",VLOOKUP(VLOOKUP(A24,'plan gier'!$Z:$AE,3,FALSE),zawodnicy!$A:$C,2,FALSE)&\" \"&VLOOKUP(VLOOKUP(A24,'plan gier'!$Z:$AE,3,FALSE),zawodnicy!$A:$C,3,FALSE)&\" - \"&VLOOKUP(VLOOKUP(A24,'plan gier'!$Z:$AE,3,FALSE),zawodnicy!$A:$D,4,FALSE)))","v":"Konrad  Kalinowski - Garwolin"},":",{"$f":"IF(ISBLANK(A24),\"\",IF(LEN(VLOOKUP(A24,'plan gier'!$Z:$AE,5,FALSE))=0,\"\",VLOOKUP(VLOOKUP(A24,'plan gier'!$Z:$AE,5,FALSE),zawodnicy!$A:$C,2,FALSE)&\" \"&VLOOKUP(VLOOKUP(A24,'plan gier'!$Z:$AE,5,FALSE),zawodnicy!$A:$C,3,FALSE)&\" - \"&VLOOKUP(VLOOKUP(A24,'plan gier'!$Z:$AE,5,FALSE),zawodnicy!$A:$D,4,FALSE)))","v":"Kuba  Paciorek - Ząbki"},null,{"$f":"IF(VLOOKUP(A24,'plan gier'!A:T,19,FALSE)<>\"\",VLOOKUP(A24,'plan gier'!A:T,19,FALSE),\"\")","v":"00:00:00"}]
[null,{"$f":"IF(ISBLANK(A24),\"\",IF(LEN(VLOOKUP(A24,'plan gier'!$Z:$AE,4,FALSE))=0,\"\",VLOOKUP(VLOOKUP(A24,'plan gier'!$Z:$AE,4,FALSE),zawodnicy!$A:$C,2,FALSE)&\" \"&VLOOKUP(VLOOKUP(A24,'plan gier'!$Z:$AE,4,FALSE),zawodnicy!$A:$C,3,FALSE)&\" - \"&VLOOKUP(VLOOKUP(A24,'plan gier'!$Z:$AE,4,FALSE),zawodnicy!$A:$D,4,FALSE)))","v":""},null,{"$f":"IF(ISBLANK(A24),\"\",IF(LEN(VLOOKUP(A24,'plan gier'!$Z:$AE,6,FALSE))=0,\"\",VLOOKUP(VLOOKUP(A24,'plan gier'!$Z:$AE,6,FALSE),zawodnicy!$A:$C,2,FALSE)&\" \"&VLOOKUP(VLOOKUP(A24,'plan gier'!$Z:$AE,6,FALSE),zawodnicy!$A:$C,3,FALSE)&\" - \"&VLOOKUP(VLOOKUP(A24,'plan gier'!$Z:$AE,6,FALSE),zawodnicy!$A:$D,4,FALSE)))","v":""}]
["Nr meczu",{"$f":"\"Gra \"&VLOOKUP(A27,'plan gier'!$Z:$AA,2,FALSE)","v":"Gra GIMNAZJUM CHŁOPCY"},null,null,"Boisko","Godz. roz."]
[{"$f":"IF(A24=\"\",\"\",A24+1)","v":8},{"$f":"IF(ISBLANK(A27),\"\",IF(LEN(VLOOKUP(A27,'plan gier'!$Z:$AE,3,FALSE))=0,\"\",VLOOKUP(VLOOKUP(A27,'plan gier'!$Z:$AE,3,FALSE),zawodnicy!$A:$C,2,FALSE)&\" \"&VLOOKUP(VLOOKUP(A27,'plan gier'!$Z:$AE,3,FALSE),zawodnicy!$A:$C,3,FALSE)&\" - \"&VLOOKUP(VLOOKUP(A27,'plan gier'!$Z:$AE,3,FALSE),zawodnicy!$A:$D,4,FALSE)))","v":"Adam  Walocha - Ząbki"},":",{"$f":"IF(ISBLANK(A27),\"\",IF(LEN(VLOOKUP(A27,'plan gier'!$Z:$AE,5,FALSE))=0,\"\",VLOOKUP(VLOOKUP(A27,'plan gier'!$Z:$AE,5,FALSE),zawodnicy!$A:$C,2,FALSE)&\" \"&VLOOKUP(VLOOKUP(A27,'plan gier'!$Z:$AE,5,FALSE),zawodnicy!$A:$C,3,FALSE)&\" - \"&VLOOKUP(VLOOKUP(A27,'plan gier'!$Z:$AE,5,FALSE),zawodnicy!$A:$D,4,FALSE)))","v":"Kasia Wróblewska - Mińsk Mazowiecki"},null,{"$f":"IF(VLOOKUP(A27,'plan gier'!A:T,19,FALSE)<>\"\",VLOOKUP(A27,'plan gier'!A:T,19,FALSE),\"\")","v":"00:00:00"}]
[null,{"$f":"IF(ISBLANK(A27),\"\",IF(LEN(VLOOKUP(A27,'plan gier'!$Z:$AE,4,FALSE))=0,\"\",VLOOKUP(VLOOKUP(A27,'plan gier'!$Z:$AE,4,FALSE),zawodnicy!$A:$C,2,FALSE)&\" \"&VLOOKUP(VLOOKUP(A27,'plan gier'!$Z:$AE,4,FALSE),zawodnicy!$A:$C,3,FALSE)&\" - \"&VLOOKUP(VLOOKUP(A27,'plan gier'!$Z:$AE,4,FALSE),zawodnicy!$A:$D,4,FALSE)))","v":""},null,{"$f":"IF(ISBLANK(A27),\"\",IF(LEN(VLOOKUP(A27,'plan gier'!$Z:$AE,6,FALSE))=0,\"\",VLOOKUP(VLOOKUP(A27,'plan gier'!$Z:$AE,6,FALSE),zawodnicy!$A:$C,2,FALSE)&\" \"&VLOOKUP(VLOOKUP(A27,'plan gier'!$Z:$AE,6,FALSE),zawodnicy!$A:$C,3,FALSE)&\" - \"&VLOOKUP(VLOOKUP(A27,'plan gier'!$Z:$AE,6,FALSE),zawodnicy!$A:$D,4,FALSE)))","v":""}]
["Nr meczu",{"$f":"\"Gra \"&VLOOKUP(A30,'plan gier'!$Z:$AA,2,FALSE)","v":"Gra GIMNAZJUM CHŁOPCY"},null,null,"Boisko","Godz. roz."]
[{"$f":"IF(A27=\"\",\"\",A27+1)","v":9},{"$f":"IF(ISBLANK(A30),\"\",IF(LEN(VLOOKUP(A30,'plan gier'!$Z:$AE,3,FALSE))=0,\"\",VLOOKUP(VLOOKUP(A30,'plan gier'!$Z:$AE,3,FALSE),zawodnicy!$A:$C,2,FALSE)&\" \"&VLOOKUP(VLOOKUP(A30,'plan gier'!$Z:$AE,3,FALSE),zawodnicy!$A:$C,3,FALSE)&\" - \"&VLOOKUP(VLOOKUP(A30,'plan gier'!$Z:$AE,3,FALSE),zawodnicy!$A:$D,4,FALSE)))","v":"Grzegorz  Cybulski - Garwolin"},":",{"$f":"IF(ISBLANK(A30),\"\",IF(LEN(VLOOKUP(A30,'plan gier'!$Z:$AE,5,FALSE))=0,\"\",VLOOKUP(VLOOKUP(A30,'plan gier'!$Z:$AE,5,FALSE),zawodnicy!$A:$C,2,FALSE)&\" \"&VLOOKUP(VLOOKUP(A30,'plan gier'!$Z:$AE,5,FALSE),zawodnicy!$A:$C,3,FALSE)&\" - \"&VLOOKUP(VLOOKUP(A30,'plan gier'!$Z:$AE,5,FALSE),zawodnicy!$A:$D,4,FALSE)))","v":"Kacper Urbaniak - Ząbki"},null,{"$f":"IF(VLOOKUP(A30,'plan gier'!A:T,19,FALSE)<>\"\",VLOOKUP(A30,'plan gier'!A:T,19,FALSE),\"\")","v":"00:00:00"}]
[null,{"$f":"IF(ISBLANK(A30),\"\",IF(LEN(VLOOKUP(A30,'plan gier'!$Z:$AE,4,FALSE))=0,\"\",VLOOKUP(VLOOKUP(A30,'plan gier'!$Z:$AE,4,FALSE),zawodnicy!$A:$C,2,FALSE)&\" \"&VLOOKUP(VLOOKUP(A30,'plan gier'!$Z:$AE,4,FALSE),zawodnicy!$A:$C,3,FALSE)&\" - \"&VLOOKUP(VLOOKUP(A30,'plan gier'!$Z:$AE,4,FALSE),zawodnicy!$A:$D,4,FALSE)))","v":""},null,{"$f":"IF(ISBLANK(A30),\"\",IF(LEN(VLOOKUP(A30,'plan gier'!$Z:$AE,6,FALSE))=0,\"\",VLOOKUP(VLOOKUP(A30,'plan gier'!$Z:$AE,6,FALSE),zawodnicy!$A:$C,2,FALSE)&\" \"&VLOOKUP(VLOOKUP(A30,'plan gier'!$Z:$AE,6,FALSE),zawodnicy!$A:$C,3,FALSE)&\" - \"&VLOOKUP(VLOOKUP(A30,'plan gier'!$Z:$AE,6,FALSE),zawodnicy!$A:$D,4,FALSE)))","v":""}]
["Nr meczu",{"$f":"\"Gra \"&VLOOKUP(A33,'plan gier'!$Z:$AA,2,FALSE)","v":"Gra GIMNAZJUM CHŁOPCY"},null,null,"Boisko","Godz. roz."]
[{"$f":"IF(A30=\"\",\"\",A30+1)","v":10},{"$f":"IF(ISBLANK(A33),\"\",IF(LEN(VLOOKUP(A33,'plan gier'!$Z:$AE,3,FALSE))=0,\"\",VLOOKUP(VLOOKUP(A33,'plan gier'!$Z:$AE,3,FALSE),zawodnicy!$A:$C,2,FALSE)&\" \"&VLOOKUP(VLOOKUP(A33,'plan gier'!$Z:$AE,3,FALSE),zawodnicy!$A:$C,3,FALSE)&\" - \"&VLOOKUP(VLOOKUP(A33,'plan gier'!$Z:$AE,3,FALSE),zawodnicy!$A:$D,4,FALSE)))","v":"Jakub  Dworzak - Zielonka"},":",{"$f":"IF(ISBLANK(A33),\"\",IF(LEN(VLOOKUP(A33,'plan gier'!$Z:$AE,5,FALSE))=0,\"\",VLOOKUP(VLOOKUP(A33,'plan gier'!$Z:$AE,5,FALSE),zawodnicy!$A:$C,2,FALSE)&\" \"&VLOOKUP(VLOOKUP(A33,'plan gier'!$Z:$AE,5,FALSE),zawodnicy!$A:$C,3,FALSE)&\" - \"&VLOOKUP(VLOOKUP(A33,'plan gier'!$Z:$AE,5,FALSE),zawodnicy!$A:$D,4,FALSE)))","v":"Damian  Mil - Ząbki"},null,{"$f":"IF(VLOOKUP(A33,'plan gier'!A:T,19,FALSE)<>\"\",VLOOKUP(A33,'plan gier'!A:T,19,FALSE),\"\")","v":"00:00:00"}]
[null,{"$f":"IF(ISBLANK(A33),\"\",IF(LEN(VLOOKUP(A33,'plan gier'!$Z:$AE,4,FALSE))=0,\"\",VLOOKUP(VLOOKUP(A33,'plan gier'!$Z:$AE,4,FALSE),zawodnicy!$A:$C,2,FALSE)&\" \"&VLOOKUP(VLOOKUP(A33,'plan gier'!$Z:$AE,4,FALSE),zawodnicy!$A:$C,3,FALSE)&\" - \"&VLOOKUP(VLOOKUP(A33,'plan gier'!$Z:$AE,4,FALSE),zawodnicy!$A:$D,4,FALSE)))","v":""},null,{"$f":"IF(ISBLANK(A33),\"\",IF(LEN(VLOOKUP(A33,'plan gier'!$Z:$AE,6,FALSE))=0,\"\",VLOOKUP(VLOOKUP(A33,'plan gier'!$Z:$AE,6,FALSE),zawodnicy!$A:$C,2,FALSE)&\" \"&VLOOKUP(VLOOKUP(A33,'plan gier'!$Z:$AE,6,FALSE),zawodnicy!$A:$C,3,FALSE)&\" - \"&VLOOKUP(VLOOKUP(A33,'plan gier'!$Z:$AE,6,FALSE),zawodnicy!$A:$D,4,FALSE)))","v":""}]
["Nr meczu",{"$f":"\"Gra \"&VLOOKUP(A36,'plan gier'!$Z:$AA,2,FALSE)","v":"Gra KLASY 1-3 CHŁOPCY"},null,null,"Boisko","Godz. roz."]
[{"$f":"IF(A33=\"\",\"\",A33+1)","v":11},{"$f":"IF(ISBLANK(A36),\"\",IF(LEN(VLOOKUP(A36,'plan gier'!$Z:$AE,3,FALSE))=0,\"\",VLOOKUP(VLOOKUP(A36,'plan gier'!$Z:$AE,3,FALSE),zawodnicy!$A:$C,2,FALSE)&\" \"&VLOOKUP(VLOOKUP(A36,'plan gier'!$Z:$AE,3,FALSE),zawodnicy!$A:$C,3,FALSE)&\" - \"&VLOOKUP(VLOOKUP(A36,'plan gier'!$Z:$AE,3,FALSE),zawodnicy!$A:$D,4,FALSE)))","v":"Maks  Siepsiak - Wesoła"},":",{"$f":"IF(ISBLANK(A36),\"\",IF(LEN(VLOOKUP(A36,'plan gier'!$Z:$AE,5,FALSE))=0,\"\",VLOOKUP(VLOOKUP(A36,'plan gier'!$Z:$AE,5,FALSE),zawodnicy!$A:$C,2,FALSE)&\" \"&VLOOKUP(VLOOKUP(A36,'plan gier'!$Z:$AE,5,FALSE),zawodnicy!$A:$C,3,FALSE)&\" - \"&VLOOKUP(VLOOKUP(A36,'plan gier'!$Z:$AE,5,FALSE),zawodnicy!$A:$D,4,FALSE)))","v":"Hanna  Lewandowska - Wesoła"},null,{"$f":"IF(VLOOKUP(A36,'plan gier'!A:T,19,FALSE)<>\"\",VLOOKUP(A36,'plan gier'!A:T,19,FALSE),\"\")","v":"00:00:00"}]
[null,{"$f":"IF(ISBLANK(A36),\"\",IF(LEN(VLOOKUP(A36,'plan gier'!$Z:$AE,4,FALSE))=0,\"\",VLOOKUP(VLOOKUP(A36,'plan gier'!$Z:$AE,4,FALSE),zawodnicy!$A:$C,2,FALSE)&\" \"&VLOOKUP(VLOOKUP(A36,'plan gier'!$Z:$AE,4,FALSE),zawodnicy!$A:$C,3,FALSE)&\" - \"&VLOOKUP(VLOOKUP(A36,'plan gier'!$Z:$AE,4,FALSE),zawodnicy!$A:$D,4,FALSE)))","v":""},null,{"$f":"IF(ISBLANK(A36),\"\",IF(LEN(VLOOKUP(A36,'plan gier'!$Z:$AE,6,FALSE))=0,\"\",VLOOKUP(VLOOKUP(A36,'plan gier'!$Z:$AE,6,FALSE),zawodnicy!$A:$C,2,FALSE)&\" \"&VLOOKUP(VLOOKUP(A36,'plan gier'!$Z:$AE,6,FALSE),zawodnicy!$A:$C,3,FALSE)&\" - \"&VLOOKUP(VLOOKUP(A36,'plan gier'!$Z:$AE,6,FALSE),zawodnicy!$A:$D,4,FALSE)))","v":""}]
["Nr meczu",{"$f":"\"Gra \"&VLOOKUP(A39,'plan gier'!$Z:$AA,2,FALSE)","v":"Gra KLASY 4-6 CHŁOPCY"},null,null,"Boisko","Godz. roz."]
[{"$f":"IF(A36=\"\",\"\",A36+1)","v":12},{"$f":"IF(ISBLANK(A39),\"\",IF(LEN(VLOOKUP(A39,'plan gier'!$Z:$AE,3,FALSE))=0,\"\",VLOOKUP(VLOOKUP(A39,'plan gier'!$Z:$AE,3,FALSE),zawodnicy!$A:$C,2,FALSE)&\" \"&VLOOKUP(VLOOKUP(A39,'plan gier'!$Z:$AE,3,FALSE),zawodnicy!$A:$C,3,FALSE)&\" - \"&VLOOKUP(VLOOKUP(A39,'plan gier'!$Z:$AE,3,FALSE),zawodnicy!$A:$D,4,FALSE)))","v":"Jakub  Walocha - Ząbki"},":",{"$f":"IF(ISBLANK(A39),\"\",IF(LEN(VLOOKUP(A39,'plan gier'!$Z:$AE,5,FALSE))=0,\"\",VLOOKUP(VLOOKUP(A39,'plan gier'!$Z:$AE,5,FALSE),zawodnicy!$A:$C,2,FALSE)&\" \"&VLOOKUP(VLOOKUP(A39,'plan gier'!$Z:$AE,5,FALSE),zawodnicy!$A:$C,3,FALSE)&\" - \"&VLOOKUP(VLOOKUP(A39,'plan gier'!$Z:$AE,5,FALSE),zawodnicy!$A:$D,4,FALSE)))","v":"Kacper Winek - Garwolin"},null,{"$f":"IF(VLOOKUP(A39,'plan gier'!A:T,19,FALSE)<>\"\",VLOOKUP(A39,'plan gier'!A:T,19,FALSE),\"\")","v":"00:00:00"}]
[null,{"$f":"IF(ISBLANK(A39),\"\",IF(LEN(VLOOKUP(A39,'plan gier'!$Z:$AE,4,FALSE))=0,\"\",VLOOKUP(VLOOKUP(A39,'plan gier'!$Z:$AE,4,FALSE),zawodnicy!$A:$C,2,FALSE)&\" \"&VLOOKUP(VLOOKUP(A39,'plan gier'!$Z:$AE,4,FALSE),zawodnicy!$A:$C,3,FALSE)&\" - \"&VLOOKUP(VLOOKUP(A39,'plan gier'!$Z:$AE,4,FALSE),zawodnicy!$A:$D,4,FALSE)))","v":""},null,{"$f":"IF(ISBLANK(A39),\"\",IF(LEN(VLOOKUP(A39,'plan gier'!$Z:$AE,6,FALSE))=0,\"\",VLOOKUP(VLOOKUP(A39,'plan gier'!$Z:$AE,6,FALSE),zawodnicy!$A:$C,2,FALSE)&\" \"&VLOOKUP(VLOOKUP(A39,'plan gier'!$Z:$AE,6,FALSE),zawodnicy!$A:$C,3,FALSE)&\" - \"&VLOOKUP(VLOOKUP(A39,'plan gier'!$Z:$AE,6,FALSE),zawodnicy!$A:$D,4,FALSE)))","v":""}]
["Nr meczu",{"$f":"\"Gra \"&VLOOKUP(A42,'plan gier'!$Z:$AA,2,FALSE)","v":"Gra KLASY 4-6 CHŁOPCY"},null,null,"Boisko","Godz. roz."]
[{"$f":"IF(A39=\"\",\"\",A39+1)","v":13},{"$f":"IF(ISBLANK(A42),\"\",IF(LEN(VLOOKUP(A42,'plan gier'!$Z:$AE,3,FALSE))=0,\"\",VLOOKUP(VLOOKUP(A42,'plan gier'!$Z:$AE,3,FALSE),zawodnicy!$A:$C,2,FALSE)&\" \"&VLOOKUP(VLOOKUP(A42,'plan gier'!$Z:$AE,3,FALSE),zawodnicy!$A:$C,3,FALSE)&\" - \"&VLOOKUP(VLOOKUP(A42,'plan gier'!$Z:$AE,3,FALSE),zawodnicy!$A:$D,4,FALSE)))","v":"Kuba  Niewczas - Ząbki"},":",{"$f":"IF(ISBLANK(A42),\"\",IF(LEN(VLOOKUP(A42,'plan gier'!$Z:$AE,5,FALSE))=0,\"\",VLOOKUP(VLOOKUP(A42,'plan gier'!$Z:$AE,5,FALSE),zawodnicy!$A:$C,2,FALSE)&\" \"&VLOOKUP(VLOOKUP(A42,'plan gier'!$Z:$AE,5,FALSE),zawodnicy!$A:$C,3,FALSE)&\" - \"&VLOOKUP(VLOOKUP(A42,'plan gier'!$Z:$AE,5,FALSE),zawodnicy!$A:$D,4,FALSE)))","v":"Jakub  Niemirski - Ząbki"},null,{"$f":"IF(VLOOKUP(A42,'plan gier'!A:T,19,FALSE)<>\"\",VLOOKUP(A42,'plan gier'!A:T,19,FALSE),\"\")","v":"00:00:00"}]
[null,{"$f":"IF(ISBLANK(A42),\"\",IF(LEN(VLOOKUP(A42,'plan gier'!$Z:$AE,4,FALSE))=0,\"\",VLOOKUP(VLOOKUP(A42,'plan gier'!$Z:$AE,4,FALSE),zawodnicy!$A:$C,2,FALSE)&\" \"&VLOOKUP(VLOOKUP(A42,'plan gier'!$Z:$AE,4,FALSE),zawodnicy!$A:$C,3,FALSE)&\" - \"&VLOOKUP(VLOOKUP(A42,'plan gier'!$Z:$AE,4,FALSE),zawodnicy!$A:$D,4,FALSE)))","v":""},null,{"$f":"IF(ISBLANK(A42),\"\",IF(LEN(VLOOKUP(A42,'plan gier'!$Z:$AE,6,FALSE))=0,\"\",VLOOKUP(VLOOKUP(A42,'plan gier'!$Z:$AE,6,FALSE),zawodnicy!$A:$C,2,FALSE)&\" \"&VLOOKUP(VLOOKUP(A42,'plan gier'!$Z:$AE,6,FALSE),zawodnicy!$A:$C,3,FALSE)&\" - \"&VLOOKUP(VLOOKUP(A42,'plan gier'!$Z:$AE,6,FALSE),zawodnicy!$A:$D,4,FALSE)))","v":""}]
["Nr meczu",{"$f":"\"Gra \"&VLOOKUP(A45,'plan gier'!$Z:$AA,2,FALSE)","v":"Gra KLASY 4-6 CHŁOPCY"},null,null,"Boisko","Godz. roz."]
[{"$f":"IF(A42=\"\",\"\",A42+1)","v":14},{"$f":"IF(ISBLANK(A45),\"\",IF(LEN(VLOOKUP(A45,'plan gier'!$Z:$AE,3,FALSE))=0,\"\",VLOOKUP(VLOOKUP(A45,'plan gier'!$Z:$AE,3,FALSE),zawodnicy!$A:$C,2,FALSE)&\" \"&VLOOKUP(VLOOKUP(A45,'plan gier'!$Z:$AE,3,FALSE),zawodnicy!$A:$C,3,FALSE)&\" - \"&VLOOKUP(VLOOKUP(A45,'plan gier'!$Z:$AE,3,FALSE),zawodnicy!$A:$D,4,FALSE)))","v":"Błażej  Krawczyk - Ząbki"},":",{"$f":"IF(ISBLANK(A45),\"\",IF(LEN(VLOOKUP(A45,'plan gier'!$Z:$AE,5,FALSE))=0,\"\",VLOOKUP(VLOOKUP(A45,'plan gier'!$Z:$AE,5,FALSE),zawodnicy!$A:$C,2,FALSE)&\" \"&VLOOKUP(VLOOKUP(A45,'plan gier'!$Z:$AE,5,FALSE),zawodnicy!$A:$C,3,FALSE)&\" - \"&VLOOKUP(VLOOKUP(A45,'plan gier'!$Z:$AE,5,FALSE),zawodnicy!$A:$D,4,FALSE)))","v":"Miłosz  Siepsiak - Wesoła"},null,{"$f":"IF(VLOOKUP(A45,'plan gier'!A:T,19,FALSE)<>\"\",VLOOKUP(A45,'plan gier'!A:T,19,FALSE),\"\")","v":"00:00:00"}]
[null,{"$f":"IF(ISBLANK(A45),\"\",IF(LEN(VLOOKUP(A45,'plan gier'!$Z:$AE,4,FALSE))=0,\"\",VLOOKUP(VLOOKUP(A45,'plan gier'!$Z:$AE,4,FALSE),zawodnicy!$A:$C,2,FALSE)&\" \"&VLOOKUP(VLOOKUP(A45,'plan gier'!$Z:$AE,4,FALSE),zawodnicy!$A:$C,3,FALSE)&\" - \"&VLOOKUP(VLOOKUP(A45,'plan gier'!$Z:$AE,4,FALSE),zawodnicy!$A:$D,4,FALSE)))","v":""},null,{"$f":"IF(ISBLANK(A45),\"\",IF(LEN(VLOOKUP(A45,'plan gier'!$Z:$AE,6,FALSE))=0,\"\",VLOOKUP(VLOOKUP(A45,'plan gier'!$Z:$AE,6,FALSE),zawodnicy!$A:$C,2,FALSE)&\" \"&VLOOKUP(VLOOKUP(A45,'plan gier'!$Z:$AE,6,FALSE),zawodnicy!$A:$C,3,FALSE)&\" - \"&VLOOKUP(VLOOKUP(A45,'plan gier'!$Z:$AE,6,FALSE),zawodnicy!$A:$D,4,FALSE)))","v":""}]
["Nr meczu",{"$f":"\"Gra \"&VLOOKUP(A48,'plan gier'!$Z:$AA,2,FALSE)","v":"Gra KLASY 4-6 CHŁOPCY"},null,null,"Boisko","Godz. roz."]
[{"$f":"IF(A45=\"\",\"\",A45+1)","v":15},{"$f":"IF(ISBLANK(A48),\"\",IF(LEN(VLOOKUP(A48,'plan gier'!$Z:$AE,3,FALSE))=0,\"\",VLOOKUP(VLOOKUP(A48,'plan gier'!$Z:$AE,3,FALSE),zawodnicy!$A:$C,2,FALSE)&\" \"&VLOOKUP(VLOOKUP(A48,'plan gier'!$Z:$AE,3,FALSE),zawodnicy!$A:$C,3,FALSE)&\" - \"&VLOOKUP(VLOOKUP(A48,'plan gier'!$Z:$AE,3,FALSE),zawodnicy!$A:$D,4,FALSE)))","v":"Ela  Przybysz - Garwolin"},":",{"$f":"IF(ISBLANK(A48),\"\",IF(LEN(VLOOKUP(A48,'plan gier'!$Z:$AE,5,FALSE))=0,\"\",VLOOKUP(VLOOKUP(A48,'plan gier'!$Z:$AE,5,FALSE),zawodnicy!$A:$C,2,FALSE)&\" \"&VLOOKUP(VLOOKUP(A48,'plan gier'!$Z:$AE,5,FALSE),zawodnicy!$A:$C,3,FALSE)&\" - \"&VLOOKUP(VLOOKUP(A48,'plan gier'!$Z:$AE,5,FALSE),zawodnicy!$A:$D,4,FALSE)))","v":"Ignacy Repiński - Marki"},null,{"$f":"IF(VLOOKUP(A48,'plan gier'!A:T,19,FALSE)<>\"\",VLOOKUP(A48,'plan gier'!A:T,19,FALSE),\"\")","v":"00:00:00"}]
[null,{"$f":"IF(ISBLANK(A48),\"\",IF(LEN(VLOOKUP(A48,'plan gier'!$Z:$AE,4,FALSE))=0,\"\",VLOOKUP(VLOOKUP(A48,'plan gier'!$Z:$AE,4,FALSE),zawodnicy!$A:$C,2,FALSE)&\" \"&VLOOKUP(VLOOKUP(A48,'plan gier'!$Z:$AE,4,FALSE),zawodnicy!$A:$C,3,FALSE)&\" - \"&VLOOKUP(VLOOKUP(A48,'plan gier'!$Z:$AE,4,FALSE),zawodnicy!$A:$D,4,FALSE)))","v":""},null,{"$f":"IF(ISBLANK(A48),\"\",IF(LEN(VLOOKUP(A48,'plan gier'!$Z:$AE,6,FALSE))=0,\"\",VLOOKUP(VLOOKUP(A48,'plan gier'!$Z:$AE,6,FALSE),zawodnicy!$A:$C,2,FALSE)&\" \"&VLOOKUP(VLOOKUP(A48,'plan gier'!$Z:$AE,6,FALSE),zawodnicy!$A:$C,3,FALSE)&\" - \"&VLOOKUP(VLOOKUP(A48,'plan gier'!$Z:$AE,6,FALSE),zawodnicy!$A:$D,4,FALSE)))","v":""}]
["Nr meczu",{"$f":"\"Gra \"&VLOOKUP(A51,'plan gier'!$Z:$AA,2,FALSE)","v":"Gra GIMNAZJUM DZIEWCZĘTA"},null,null,"Boisko","Godz. roz."]
[{"$f":"IF(A48=\"\",\"\",A48+1)","v":16},{"$f":"IF(ISBLANK(A51),\"\",IF(LEN(VLOOKUP(A51,'plan gier'!$Z:$AE,3,FALSE))=0,\"\",VLOOKUP(VLOOKUP(A51,'plan gier'!$Z:$AE,3,FALSE),zawodnicy!$A:$C,2,FALSE)&\" \"&VLOOKUP(VLOOKUP(A51,'plan gier'!$Z:$AE,3,FALSE),zawodnicy!$A:$C,3,FALSE)&\" - \"&VLOOKUP(VLOOKUP(A51,'plan gier'!$Z:$AE,3,FALSE),zawodnicy!$A:$D,4,FALSE)))","v":"Iza Pomykała - Marki"},":",{"$f":"IF(ISBLANK(A51),\"\",IF(LEN(VLOOKUP(A51,'plan gier'!$Z:$AE,5,FALSE))=0,\"\",VLOOKUP(VLOOKUP(A51,'plan gier'!$Z:$AE,5,FALSE),zawodnicy!$A:$C,2,FALSE)&\" \"&VLOOKUP(VLOOKUP(A51,'plan gier'!$Z:$AE,5,FALSE),zawodnicy!$A:$C,3,FALSE)&\" - \"&VLOOKUP(VLOOKUP(A51,'plan gier'!$Z:$AE,5,FALSE),zawodnicy!$A:$D,4,FALSE)))","v":"Karolina Łukomska - Zielonka"},null,{"$f":"IF(VLOOKUP(A51,'plan gier'!A:T,19,FALSE)<>\"\",VLOOKUP(A51,'plan gier'!A:T,19,FALSE),\"\")","v":"00:00:00"}]
[null,{"$f":"IF(ISBLANK(A51),\"\",IF(LEN(VLOOKUP(A51,'plan gier'!$Z:$AE,4,FALSE))=0,\"\",VLOOKUP(VLOOKUP(A51,'plan gier'!$Z:$AE,4,FALSE),zawodnicy!$A:$C,2,FALSE)&\" \"&VLOOKUP(VLOOKUP(A51,'plan gier'!$Z:$AE,4,FALSE),zawodnicy!$A:$C,3,FALSE)&\" - \"&VLOOKUP(VLOOKUP(A51,'plan gier'!$Z:$AE,4,FALSE),zawodnicy!$A:$D,4,FALSE)))","v":""},null,{"$f":"IF(ISBLANK(A51),\"\",IF(LEN(VLOOKUP(A51,'plan gier'!$Z:$AE,6,FALSE))=0,\"\",VLOOKUP(VLOOKUP(A51,'plan gier'!$Z:$AE,6,FALSE),zawodnicy!$A:$C,2,FALSE)&\" \"&VLOOKUP(VLOOKUP(A51,'plan gier'!$Z:$AE,6,FALSE),zawodnicy!$A:$C,3,FALSE)&\" - \"&VLOOKUP(VLOOKUP(A51,'plan gier'!$Z:$AE,6,FALSE),zawodnicy!$A:$D,4,FALSE)))","v":""}]
["Nr meczu",{"$f":"\"Gra \"&VLOOKUP(A54,'plan gier'!$Z:$AA,2,FALSE)","v":"Gra GIMNAZJUM CHŁOPCY"},null,null,"Boisko","Godz. roz."]
[{"$f":"IF(A51=\"\",\"\",A51+1)","v":17},{"$f":"IF(ISBLANK(A54),\"\",IF(LEN(VLOOKUP(A54,'plan gier'!$Z:$AE,3,FALSE))=0,\"\",VLOOKUP(VLOOKUP(A54,'plan gier'!$Z:$AE,3,FALSE),zawodnicy!$A:$C,2,FALSE)&\" \"&VLOOKUP(VLOOKUP(A54,'plan gier'!$Z:$AE,3,FALSE),zawodnicy!$A:$C,3,FALSE)&\" - \"&VLOOKUP(VLOOKUP(A54,'plan gier'!$Z:$AE,3,FALSE),zawodnicy!$A:$D,4,FALSE)))","v":"Adam  Walocha - Ząbki"},":",{"$f":"IF(ISBLANK(A54),\"\",IF(LEN(VLOOKUP(A54,'plan gier'!$Z:$AE,5,FALSE))=0,\"\",VLOOKUP(VLOOKUP(A54,'plan gier'!$Z:$AE,5,FALSE),zawodnicy!$A:$C,2,FALSE)&\" \"&VLOOKUP(VLOOKUP(A54,'plan gier'!$Z:$AE,5,FALSE),zawodnicy!$A:$C,3,FALSE)&\" - \"&VLOOKUP(VLOOKUP(A54,'plan gier'!$Z:$AE,5,FALSE),zawodnicy!$A:$D,4,FALSE)))","v":"Konrad  Kalinowski - Garwolin"},null,{"$f":"IF(VLOOKUP(A54,'plan gier'!A:T,19,FALSE)<>\"\",VLOOKUP(A54,'plan gier'!A:T,19,FALSE),\"\")","v":"00:00:00"}]
[null,{"$f":"IF(ISBLANK(A54),\"\",IF(LEN(VLOOKUP(A54,'plan gier'!$Z:$AE,4,FALSE))=0,\"\",VLOOKUP(VLOOKUP(A54,'plan gier'!$Z:$AE,4,FALSE),zawodnicy!$A:$C,2,FALSE)&\" \"&VLOOKUP(VLOOKUP(A54,'plan gier'!$Z:$AE,4,FALSE),zawodnicy!$A:$C,3,FALSE)&\" - \"&VLOOKUP(VLOOKUP(A54,'plan gier'!$Z:$AE,4,FALSE),zawodnicy!$A:$D,4,FALSE)))","v":""},null,{"$f":"IF(ISBLANK(A54),\"\",IF(LEN(VLOOKUP(A54,'plan gier'!$Z:$AE,6,FALSE))=0,\"\",VLOOKUP(VLOOKUP(A54,'plan gier'!$Z:$AE,6,FALSE),zawodnicy!$A:$C,2,FALSE)&\" \"&VLOOKUP(VLOOKUP(A54,'plan gier'!$Z:$AE,6,FALSE),zawodnicy!$A:$C,3,FALSE)&\" - \"&VLOOKUP(VLOOKUP(A54,'plan gier'!$Z:$AE,6,FALSE),zawodnicy!$A:$D,4,FALSE)))","v":""}]
["Nr meczu",{"$f":"\"Gra \"&VLOOKUP(A57,'plan gier'!$Z:$AA,2,FALSE)","v":"Gra GIMNAZJUM CHŁOPCY"},null,null,"Boisko","Godz. roz."]
[{"$f":"IF(A54=\"\",\"\",A54+1)","v":18},{"$f":"IF(ISBLANK(A57),\"\",IF(LEN(VLOOKUP(A57,'plan gier'!$Z:$AE,3,FALSE))=0,\"\",VLOOKUP(VLOOKUP(A57,'plan gier'!$Z:$AE,3,FALSE),zawodnicy!$A:$C,2,FALSE)&\" \"&VLOOKUP(VLOOKUP(A57,'plan gier'!$Z:$AE,3,FALSE),zawodnicy!$A:$C,3,FALSE)&\" - \"&VLOOKUP(VLOOKUP(A57,'plan gier'!$Z:$AE,3,FALSE),zawodnicy!$A:$D,4,FALSE)))","v":"Kuba  Paciorek - Ząbki"},":",{"$f":"IF(ISBLANK(A57),\"\",IF(LEN(VLOOKUP(A57,'plan gier'!$Z:$AE,5,FALSE))=0,\"\",VLOOKUP(VLOOKUP(A57,'plan gier'!$Z:$AE,5,FALSE),zawodnicy!$A:$C,2,FALSE)&\" \"&VLOOKUP(VLOOKUP(A57,'plan gier'!$Z:$AE,5,FALSE),zawodnicy!$A:$C,3,FALSE)&\" - \"&VLOOKUP(VLOOKUP(A57,'plan gier'!$Z:$AE,5,FALSE),zawodnicy!$A:$D,4,FALSE)))","v":"Kasia Wróblewska - Mińsk Mazowiecki"},null,{"$f":"IF(VLOOKUP(A57,'plan gier'!A:T,19,FALSE)<>\"\",VLOOKUP(A57,'plan gier'!A:T,19,FALSE),\"\")","v":"00:00:00"}]
[null,{"$f":"IF(ISBLANK(A57),\"\",IF(LEN(VLOOKUP(A57,'plan gier'!$Z:$AE,4,FALSE))=0,\"\",VLOOKUP(VLOOKUP(A57,'plan gier'!$Z:$AE,4,FALSE),zawodnicy!$A:$C,2,FALSE)&\" \"&VLOOKUP(VLOOKUP(A57,'plan gier'!$Z:$AE,4,FALSE),zawodnicy!$A:$C,3,FALSE)&\" - \"&VLOOKUP(VLOOKUP(A57,'plan gier'!$Z:$AE,4,FALSE),zawodnicy!$A:$D,4,FALSE)))","v":""},null,{"$f":"IF(ISBLANK(A57),\"\",IF(LEN(VLOOKUP(A57,'plan gier'!$Z:$AE,6,FALSE))=0,\"\",VLOOKUP(VLOOKUP(A57,'plan gier'!$Z:$AE,6,FALSE),zawodnicy!$A:$C,2,FALSE)&\" \"&VLOOKUP(VLOOKUP(A57,'plan gier'!$Z:$AE,6,FALSE),zawodnicy!$A:$C,3,FALSE)&\" - \"&VLOOKUP(VLOOKUP(A57,'plan gier'!$Z:$AE,6,FALSE),zawodnicy!$A:$D,4,FALSE)))","v":""}]
["Nr meczu",{"$f":"\"Gra \"&VLOOKUP(A60,'plan gier'!$Z:$AA,2,FALSE)","v":"Gra GIMNAZJUM CHŁOPCY"},null,null,"Boisko","Godz. roz."]
[{"$f":"IF(A57=\"\",\"\",A57+1)","v":19},{"$f":"IF(ISBLANK(A60),\"\",IF(LEN(VLOOKUP(A60,'plan gier'!$Z:$AE,3,FALSE))=0,\"\",VLOOKUP(VLOOKUP(A60,'plan gier'!$Z:$AE,3,FALSE),zawodnicy!$A:$C,2,FALSE)&\" \"&VLOOKUP(VLOOKUP(A60,'plan gier'!$Z:$AE,3,FALSE),zawodnicy!$A:$C,3,FALSE)&\" - \"&VLOOKUP(VLOOKUP(A60,'plan gier'!$Z:$AE,3,FALSE),zawodnicy!$A:$D,4,FALSE)))","v":"Jakub  Dworzak - Zielonka"},":",{"$f":"IF(ISBLANK(A60),\"\",IF(LEN(VLOOKUP(A60,'plan gier'!$Z:$AE,5,FALSE))=0,\"\",VLOOKUP(VLOOKUP(A60,'plan gier'!$Z:$AE,5,FALSE),zawodnicy!$A:$C,2,FALSE)&\" \"&VLOOKUP(VLOOKUP(A60,'plan gier'!$Z:$AE,5,FALSE),zawodnicy!$A:$C,3,FALSE)&\" - \"&VLOOKUP(VLOOKUP(A60,'plan gier'!$Z:$AE,5,FALSE),zawodnicy!$A:$D,4,FALSE)))","v":"Grzegorz  Cybulski - Garwolin"},null,{"$f":"IF(VLOOKUP(A60,'plan gier'!A:T,19,FALSE)<>\"\",VLOOKUP(A60,'plan gier'!A:T,19,FALSE),\"\")","v":"00:00:00"}]
[null,{"$f":"IF(ISBLANK(A60),\"\",IF(LEN(VLOOKUP(A60,'plan gier'!$Z:$AE,4,FALSE))=0,\"\",VLOOKUP(VLOOKUP(A60,'plan gier'!$Z:$AE,4,FALSE),zawodnicy!$A:$C,2,FALSE)&\" \"&VLOOKUP(VLOOKUP(A60,'plan gier'!$Z:$AE,4,FALSE),zawodnicy!$A:$C,3,FALSE)&\" - \"&VLOOKUP(VLOOKUP(A60,'plan gier'!$Z:$AE,4,FALSE),zawodnicy!$A:$D,4,FALSE)))","v":""},null,{"$f":"IF(ISBLANK(A60),\"\",IF(LEN(VLOOKUP(A60,'plan gier'!$Z:$AE,6,FALSE))=0,\"\",VLOOKUP(VLOOKUP(A60,'plan gier'!$Z:$AE,6,FALSE),zawodnicy!$A:$C,2,FALSE)&\" \"&VLOOKUP(VLOOKUP(A60,'plan gier'!$Z:$AE,6,FALSE),zawodnicy!$A:$C,3,FALSE)&\" - \"&VLOOKUP(VLOOKUP(A60,'plan gier'!$Z:$AE,6,FALSE),zawodnicy!$A:$D,4,FALSE)))","v":""}]
["Nr meczu",{"$f":"\"Gra \"&VLOOKUP(A63,'plan gier'!$Z:$AA,2,FALSE)","v":"Gra GIMNAZJUM CHŁOPCY"},null,null,"Boisko","Godz. roz."]
[{"$f":"IF(A60=\"\",\"\",A60+1)","v":20},{"$f":"IF(ISBLANK(A63),\"\",IF(LEN(VLOOKUP(A63,'plan gier'!$Z:$AE,3,FALSE))=0,\"\",VLOOKUP(VLOOKUP(A63,'plan gier'!$Z:$AE,3,FALSE),zawodnicy!$A:$C,2,FALSE)&\" \"&VLOOKUP(VLOOKUP(A63,'plan gier'!$Z:$AE,3,FALSE),zawodnicy!$A:$C,3,FALSE)&\" - \"&VLOOKUP(VLOOKUP(A63,'plan gier'!$Z:$AE,3,FALSE),zawodnicy!$A:$D,4,FALSE)))","v":"Kacper Urbaniak - Ząbki"},":",{"$f":"IF(ISBLANK(A63),\"\",IF(LEN(VLOOKUP(A63,'plan gier'!$Z:$AE,5,FALSE))=0,\"\",VLOOKUP(VLOOKUP(A63,'plan gier'!$Z:$AE,5,FALSE),zawodnicy!$A:$C,2,FALSE)&\" \"&VLOOKUP(VLOOKUP(A63,'plan gier'!$Z:$AE,5,FALSE),zawodnicy!$A:$C,3,FALSE)&\" - \"&VLOOKUP(VLOOKUP(A63,'plan gier'!$Z:$AE,5,FALSE),zawodnicy!$A:$D,4,FALSE)))","v":"Damian  Mil - Ząbki"},null,{"$f":"IF(VLOOKUP(A63,'plan gier'!A:T,19,FALSE)<>\"\",VLOOKUP(A63,'plan gier'!A:T,19,FALSE),\"\")","v":"00:00:00"}]
[null,{"$f":"IF(ISBLANK(A63),\"\",IF(LEN(VLOOKUP(A63,'plan gier'!$Z:$AE,4,FALSE))=0,\"\",VLOOKUP(VLOOKUP(A63,'plan gier'!$Z:$AE,4,FALSE),zawodnicy!$A:$C,2,FALSE)&\" \"&VLOOKUP(VLOOKUP(A63,'plan gier'!$Z:$AE,4,FALSE),zawodnicy!$A:$C,3,FALSE)&\" - \"&VLOOKUP(VLOOKUP(A63,'plan gier'!$Z:$AE,4,FALSE),zawodnicy!$A:$D,4,FALSE)))","v":""},null,{"$f":"IF(ISBLANK(A63),\"\",IF(LEN(VLOOKUP(A63,'plan gier'!$Z:$AE,6,FALSE))=0,\"\",VLOOKUP(VLOOKUP(A63,'plan gier'!$Z:$AE,6,FALSE),zawodnicy!$A:$C,2,FALSE)&\" \"&VLOOKUP(VLOOKUP(A63,'plan gier'!$Z:$AE,6,FALSE),zawodnicy!$A:$C,3,FALSE)&\" - \"&VLOOKUP(VLOOKUP(A63,'plan gier'!$Z:$AE,6,FALSE),zawodnicy!$A:$D,4,FALSE)))","v":""}]
["Nr meczu",{"$f":"\"Gra \"&VLOOKUP(A66,'plan gier'!$Z:$AA,2,FALSE)","v":"Gra KLASY 1-3 CHŁOPCY"},null,null,"Boisko","Godz. roz."]
[{"$f":"IF(A63=\"\",\"\",A63+1)","v":21},{"$f":"IF(ISBLANK(A66),\"\",IF(LEN(VLOOKUP(A66,'plan gier'!$Z:$AE,3,FALSE))=0,\"\",VLOOKUP(VLOOKUP(A66,'plan gier'!$Z:$AE,3,FALSE),zawodnicy!$A:$C,2,FALSE)&\" \"&VLOOKUP(VLOOKUP(A66,'plan gier'!$Z:$AE,3,FALSE),zawodnicy!$A:$C,3,FALSE)&\" - \"&VLOOKUP(VLOOKUP(A66,'plan gier'!$Z:$AE,3,FALSE),zawodnicy!$A:$D,4,FALSE)))","v":"Maks  Siepsiak - Wesoła"},":",{"$f":"IF(ISBLANK(A66),\"\",IF(LEN(VLOOKUP(A66,'plan gier'!$Z:$AE,5,FALSE))=0,\"\",VLOOKUP(VLOOKUP(A66,'plan gier'!$Z:$AE,5,FALSE),zawodnicy!$A:$C,2,FALSE)&\" \"&VLOOKUP(VLOOKUP(A66,'plan gier'!$Z:$AE,5,FALSE),zawodnicy!$A:$C,3,FALSE)&\" - \"&VLOOKUP(VLOOKUP(A66,'plan gier'!$Z:$AE,5,FALSE),zawodnicy!$A:$D,4,FALSE)))","v":"Kacper Gajos - Ząbki"},null,{"$f":"IF(VLOOKUP(A66,'plan gier'!A:T,19,FALSE)<>\"\",VLOOKUP(A66,'plan gier'!A:T,19,FALSE),\"\")","v":"00:00:00"}]
[null,{"$f":"IF(ISBLANK(A66),\"\",IF(LEN(VLOOKUP(A66,'plan gier'!$Z:$AE,4,FALSE))=0,\"\",VLOOKUP(VLOOKUP(A66,'plan gier'!$Z:$AE,4,FALSE),zawodnicy!$A:$C,2,FALSE)&\" \"&VLOOKUP(VLOOKUP(A66,'plan gier'!$Z:$AE,4,FALSE),zawodnicy!$A:$C,3,FALSE)&\" - \"&VLOOKUP(VLOOKUP(A66,'plan gier'!$Z:$AE,4,FALSE),zawodnicy!$A:$D,4,FALSE)))","v":""},null,{"$f":"IF(ISBLANK(A66),\"\",IF(LEN(VLOOKUP(A66,'plan gier'!$Z:$AE,6,FALSE))=0,\"\",VLOOKUP(VLOOKUP(A66,'plan gier'!$Z:$AE,6,FALSE),zawodnicy!$A:$C,2,FALSE)&\" \"&VLOOKUP(VLOOKUP(A66,'plan gier'!$Z:$AE,6,FALSE),zawodnicy!$A:$C,3,FALSE)&\" - \"&VLOOKUP(VLOOKUP(A66,'plan gier'!$Z:$AE,6,FALSE),zawodnicy!$A:$D,4,FALSE)))","v":""}]
["Nr meczu",{"$f":"\"Gra \"&VLOOKUP(A69,'plan gier'!$Z:$AA,2,FALSE)","v":"Gra KLASY 4-6 CHŁOPCY"},null,null,"Boisko","Godz. roz."]
[{"$f":"IF(A66=\"\",\"\",A66+1)","v":22},{"$f":"IF(ISBLANK(A69),\"\",IF(LEN(VLOOKUP(A69,'plan gier'!$Z:$AE,3,FALSE))=0,\"\",VLOOKUP(VLOOKUP(A69,'plan gier'!$Z:$AE,3,FALSE),zawodnicy!$A:$C,2,FALSE)&\" \"&VLOOKUP(VLOOKUP(A69,'plan gier'!$Z:$AE,3,FALSE),zawodnicy!$A:$C,3,FALSE)&\" - \"&VLOOKUP(VLOOKUP(A69,'plan gier'!$Z:$AE,3,FALSE),zawodnicy!$A:$D,4,FALSE)))","v":"Jakub  Walocha - Ząbki"},":",{"$f":"IF(ISBLANK(A69),\"\",IF(LEN(VLOOKUP(A69,'plan gier'!$Z:$AE,5,FALSE))=0,\"\",VLOOKUP(VLOOKUP(A69,'plan gier'!$Z:$AE,5,FALSE),zawodnicy!$A:$C,2,FALSE)&\" \"&VLOOKUP(VLOOKUP(A69,'plan gier'!$Z:$AE,5,FALSE),zawodnicy!$A:$C,3,FALSE)&\" - \"&VLOOKUP(VLOOKUP(A69,'plan gier'!$Z:$AE,5,FALSE),zawodnicy!$A:$D,4,FALSE)))","v":"Kuba  Niewczas - Ząbki"},null,{"$f":"IF(VLOOKUP(A69,'plan gier'!A:T,19,FALSE)<>\"\",VLOOKUP(A69,'plan gier'!A:T,19,FALSE),\"\")","v":"00:00:00"}]
[null,{"$f":"IF(ISBLANK(A69),\"\",IF(LEN(VLOOKUP(A69,'plan gier'!$Z:$AE,4,FALSE))=0,\"\",VLOOKUP(VLOOKUP(A69,'plan gier'!$Z:$AE,4,FALSE),zawodnicy!$A:$C,2,FALSE)&\" \"&VLOOKUP(VLOOKUP(A69,'plan gier'!$Z:$AE,4,FALSE),zawodnicy!$A:$C,3,FALSE)&\" - \"&VLOOKUP(VLOOKUP(A69,'plan gier'!$Z:$AE,4,FALSE),zawodnicy!$A:$D,4,FALSE)))","v":""},null,{"$f":"IF(ISBLANK(A69),\"\",IF(LEN(VLOOKUP(A69,'plan gier'!$Z:$AE,6,FALSE))=0,\"\",VLOOKUP(VLOOKUP(A69,'plan gier'!$Z:$AE,6,FALSE),zawodnicy!$A:$C,2,FALSE)&\" \"&VLOOKUP(VLOOKUP(A69,'plan gier'!$Z:$AE,6,FALSE),zawodnicy!$A:$C,3,FALSE)&\" - \"&VLOOKUP(VLOOKUP(A69,'plan gier'!$Z:$AE,6,FALSE),zawodnicy!$A:$D,4,FALSE)))","v":""}]
["Nr meczu",{"$f":"\"Gra \"&VLOOKUP(A72,'plan gier'!$Z:$AA,2,FALSE)","v":"Gra KLASY 4-6 CHŁOPCY"},null,null,"Boisko","Godz. roz."]
[{"$f":"IF(A69=\"\",\"\",A69+1)","v":23},{"$f":"IF(ISBLANK(A72),\"\",IF(LEN(VLOOKUP(A72,'plan gier'!$Z:$AE,3,FALSE))=0,\"\",VLOOKUP(VLOOKUP(A72,'plan gier'!$Z:$AE,3,FALSE),zawodnicy!$A:$C,2,FALSE)&\" \"&VLOOKUP(VLOOKUP(A72,'plan gier'!$Z:$AE,3,FALSE),zawodnicy!$A:$C,3,FALSE)&\" - \"&VLOOKUP(VLOOKUP(A72,'plan gier'!$Z:$AE,3,FALSE),zawodnicy!$A:$D,4,FALSE)))","v":"Kacper Winek - Garwolin"},":",{"$f":"IF(ISBLANK(A72),\"\",IF(LEN(VLOOKUP(A72,'plan gier'!$Z:$AE,5,FALSE))=0,\"\",VLOOKUP(VLOOKUP(A72,'plan gier'!$Z:$AE,5,FALSE),zawodnicy!$A:$C,2,FALSE)&\" \"&VLOOKUP(VLOOKUP(A72,'plan gier'!$Z:$AE,5,FALSE),zawodnicy!$A:$C,3,FALSE)&\" - \"&VLOOKUP(VLOOKUP(A72,'plan gier'!$Z:$AE,5,FALSE),zawodnicy!$A:$D,4,FALSE)))","v":"Jakub  Niemirski - Ząbki"},null,{"$f":"IF(VLOOKUP(A72,'plan gier'!A:T,19,FALSE)<>\"\",VLOOKUP(A72,'plan gier'!A:T,19,FALSE),\"\")","v":"00:00:00"}]
[null,{"$f":"IF(ISBLANK(A72),\"\",IF(LEN(VLOOKUP(A72,'plan gier'!$Z:$AE,4,FALSE))=0,\"\",VLOOKUP(VLOOKUP(A72,'plan gier'!$Z:$AE,4,FALSE),zawodnicy!$A:$C,2,FALSE)&\" \"&VLOOKUP(VLOOKUP(A72,'plan gier'!$Z:$AE,4,FALSE),zawodnicy!$A:$C,3,FALSE)&\" - \"&VLOOKUP(VLOOKUP(A72,'plan gier'!$Z:$AE,4,FALSE),zawodnicy!$A:$D,4,FALSE)))","v":""},null,{"$f":"IF(ISBLANK(A72),\"\",IF(LEN(VLOOKUP(A72,'plan gier'!$Z:$AE,6,FALSE))=0,\"\",VLOOKUP(VLOOKUP(A72,'plan gier'!$Z:$AE,6,FALSE),zawodnicy!$A:$C,2,FALSE)&\" \"&VLOOKUP(VLOOKUP(A72,'plan gier'!$Z:$AE,6,FALSE),zawodnicy!$A:$C,3,FALSE)&\" - \"&VLOOKUP(VLOOKUP(A72,'plan gier'!$Z:$AE,6,FALSE),zawodnicy!$A:$D,4,FALSE)))","v":""}]
["Nr meczu",{"$f":"\"Gra \"&VLOOKUP(A75,'plan gier'!$Z:$AA,2,FALSE)","v":"Gra KLASY 4-6 CHŁOPCY"},null,null,"Boisko","Godz. roz."]
[{"$f":"IF(A72=\"\",\"\",A72+1)","v":24},{"$f":"IF(ISBLANK(A75),\"\",IF(LEN(VLOOKUP(A75,'plan gier'!$Z:$AE,3,FALSE))=0,\"\",VLOOKUP(VLOOKUP(A75,'plan gier'!$Z:$AE,3,FALSE),zawodnicy!$A:$C,2,FALSE)&\" \"&VLOOKUP(VLOOKUP(A75,'plan gier'!$Z:$AE,3,FALSE),zawodnicy!$A:$C,3,FALSE)&\" - \"&VLOOKUP(VLOOKUP(A75,'plan gier'!$Z:$AE,3,FALSE),zawodnicy!$A:$D,4,FALSE)))","v":"Błażej  Krawczyk - Ząbki"},":",{"$f":"IF(ISBLANK(A75),\"\",IF(LEN(VLOOKUP(A75,'plan gier'!$Z:$AE,5,FALSE))=0,\"\",VLOOKUP(VLOOKUP(A75,'plan gier'!$Z:$AE,5,FALSE),zawodnicy!$A:$C,2,FALSE)&\" \"&VLOOKUP(VLOOKUP(A75,'plan gier'!$Z:$AE,5,FALSE),zawodnicy!$A:$C,3,FALSE)&\" - \"&VLOOKUP(VLOOKUP(A75,'plan gier'!$Z:$AE,5,FALSE),zawodnicy!$A:$D,4,FALSE)))","v":"Ela  Przybysz - Garwolin"},null,{"$f":"IF(VLOOKUP(A75,'plan gier'!A:T,19,FALSE)<>\"\",VLOOKUP(A75,'plan gier'!A:T,19,FALSE),\"\")","v":"00:00:00"}]
[null,{"$f":"IF(ISBLANK(A75),\"\",IF(LEN(VLOOKUP(A75,'plan gier'!$Z:$AE,4,FALSE))=0,\"\",VLOOKUP(VLOOKUP(A75,'plan gier'!$Z:$AE,4,FALSE),zawodnicy!$A:$C,2,FALSE)&\" \"&VLOOKUP(VLOOKUP(A75,'plan gier'!$Z:$AE,4,FALSE),zawodnicy!$A:$C,3,FALSE)&\" - \"&VLOOKUP(VLOOKUP(A75,'plan gier'!$Z:$AE,4,FALSE),zawodnicy!$A:$D,4,FALSE)))","v":""},null,{"$f":"IF(ISBLANK(A75),\"\",IF(LEN(VLOOKUP(A75,'plan gier'!$Z:$AE,6,FALSE))=0,\"\",VLOOKUP(VLOOKUP(A75,'plan gier'!$Z:$AE,6,FALSE),zawodnicy!$A:$C,2,FALSE)&\" \"&VLOOKUP(VLOOKUP(A75,'plan gier'!$Z:$AE,6,FALSE),zawodnicy!$A:$C,3,FALSE)&\" - \"&VLOOKUP(VLOOKUP(A75,'plan gier'!$Z:$AE,6,FALSE),zawodnicy!$A:$D,4,FALSE)))","v":""}]
["Nr meczu",{"$f":"\"Gra \"&VLOOKUP(A78,'plan gier'!$Z:$AA,2,FALSE)","v":"Gra KLASY 4-6 CHŁOPCY"},null,null,"Boisko","Godz. roz."]
[{"$f":"IF(A75=\"\",\"\",A75+1)","v":25},{"$f":"IF(ISBLANK(A78),\"\",IF(LEN(VLOOKUP(A78,'plan gier'!$Z:$AE,3,FALSE))=0,\"\",VLOOKUP(VLOOKUP(A78,'plan gier'!$Z:$AE,3,FALSE),zawodnicy!$A:$C,2,FALSE)&\" \"&VLOOKUP(VLOOKUP(A78,'plan gier'!$Z:$AE,3,FALSE),zawodnicy!$A:$C,3,FALSE)&\" - \"&VLOOKUP(VLOOKUP(A78,'plan gier'!$Z:$AE,3,FALSE),zawodnicy!$A:$D,4,FALSE)))","v":"Miłosz  Siepsiak - Wesoła"},":",{"$f":"IF(ISBLANK(A78),\"\",IF(LEN(VLOOKUP(A78,'plan gier'!$Z:$AE,5,FALSE))=0,\"\",VLOOKUP(VLOOKUP(A78,'plan gier'!$Z:$AE,5,FALSE),zawodnicy!$A:$C,2,FALSE)&\" \"&VLOOKUP(VLOOKUP(A78,'plan gier'!$Z:$AE,5,FALSE),zawodnicy!$A:$C,3,FALSE)&\" - \"&VLOOKUP(VLOOKUP(A78,'plan gier'!$Z:$AE,5,FALSE),zawodnicy!$A:$D,4,FALSE)))","v":"Ignacy Repiński - Marki"},null,{"$f":"IF(VLOOKUP(A78,'plan gier'!A:T,19,FALSE)<>\"\",VLOOKUP(A78,'plan gier'!A:T,19,FALSE),\"\")","v":"00:00:00"}]
[null,{"$f":"IF(ISBLANK(A78),\"\",IF(LEN(VLOOKUP(A78,'plan gier'!$Z:$AE,4,FALSE))=0,\"\",VLOOKUP(VLOOKUP(A78,'plan gier'!$Z:$AE,4,FALSE),zawodnicy!$A:$C,2,FALSE)&\" \"&VLOOKUP(VLOOKUP(A78,'plan gier'!$Z:$AE,4,FALSE),zawodnicy!$A:$C,3,FALSE)&\" - \"&VLOOKUP(VLOOKUP(A78,'plan gier'!$Z:$AE,4,FALSE),zawodnicy!$A:$D,4,FALSE)))","v":""},null,{"$f":"IF(ISBLANK(A78),\"\",IF(LEN(VLOOKUP(A78,'plan gier'!$Z:$AE,6,FALSE))=0,\"\",VLOOKUP(VLOOKUP(A78,'plan gier'!$Z:$AE,6,FALSE),zawodnicy!$A:$C,2,FALSE)&\" \"&VLOOKUP(VLOOKUP(A78,'plan gier'!$Z:$AE,6,FALSE),zawodnicy!$A:$C,3,FALSE)&\" - \"&VLOOKUP(VLOOKUP(A78,'plan gier'!$Z:$AE,6,FALSE),zawodnicy!$A:$D,4,FALSE)))","v":""}]
["W przypadku blokowania się gier kolejność wywoływania meczy może ulec zmianie w celu płynnego przebiegu turnieju."]

{"sheet":"grup-puch","index":4,"n_rows":208,"n_cols":64,"rows_kept":208,"cut":false,"hidden":false,"merged":[[75,19,75,20],[75,23,75,25],[78,19,78,22],[78,23,78,25],[78,26,78,28],[80,19,80,20],[80,23,80,25],[81,19,81,20],[81,23,81,25],[69,19,69,20],[69,23,69,25],[70,19,70,20],[70,23,70,25],[72,19,72,22],[72,23,72,25],[72,26,72,28],[74,19,74,20],[74,23,74,25],[62,26,62,28],[63,26,63,28],[64,16,64,18],[64,19,64,20],[64,23,64,25],[65,16,65,18],[65,19,65,20],[65,23,65,25],[67,19,67,22],[67,23,67,25],[67,26,67,28],[58,19,58,22],[58,23,58,25],[58,26,58,28],[58,29,58,31],[60,16,60,18],[60,19,60,20],[60,23,60,25],[61,16,61,18],[61,19,61,20],[61,23,61,25],[50,19,52,19],[50,20,50,22],[50,27,52,27],[50,28,52,28],[50,29,52,29],[50,30,52,30],[51,20,51,22],[52,20,52,22],[53,19,55,19],[53,20,53,22],[53,27,55,27],[53,28,55,28],[53,29,55,29],[53,30,55,30],[54,20,54,22],[55,20,55,22],[46,48,46,49],[46,50,46,51],[46,52,46,53],[46,54,46,55],[46,56,46,57],[46,58,46,59],[46,60,46,61],[47,19,49,19],[47,20,47,22],[47,27,49,27],[47,28,49,28],[47,29,49,29],[47,30,49,30],[47,48,47,49],[48,20,48,22],[49,20,49,22],[43,34,43,39],[43,40,43,45],[44,16,46,17],[44,18,46,18],[44,19,46,19],[44,20,44,22],[44,27,46,27],[44,28,46,28],[44,29,46,29],[44,30,46,30],[45,20,45,22],[46,20,46,22],[46,34,46,35],[46,36,46,37],[46,38,46,39],[46,40,46,41],[46,42,46,43],[46,44,46,45],[39,27,41,27],[39,28,41,28],[39,29,41,29],[39,30,41,30],[40,20,40,22],[41,20,41,22],[42,28,42,32],[43,16,43,18],[43,20,43,22],[32,48,32,49],[32,50,32,51],[32,52,32,53],[32,54,32,55],[32,56,32,57],[32,58,32,59],[32,60,32,61],[33,19,35,19],[33,20,33,22],[33,27,35,27],[33,28,35,28],[33,29,35,29],[33,30,35,30],[33,48,33,49],[34,20,34,22],[35,20,35,22],[151,26,151,28],[156,26,156,28],[29,16,29,18],[29,20,29,22],[29,34,29,39],[29,40,29,45],[30,16,32,17],[30,18,32,18],[30,19,32,19],[30,20,30,22],[30,27,32,27],[30,28,32,28],[30,29,32,29],[30,30,32,30],[31,20,31,22],[32,20,32,22],[32,34,32,35],[32,36,32,37],[32,38,32,39],[32,40,32,41],[32,42,32,43],[32,44,32,45],[36,19,38,19],[36,20,36,22],[127,34,127,39],[127,40,127,45],[128,30,130,30],[130,54,130,55],[131,30,133,30],[131,48,131,49],[134,30,136,30],[137,30,139,30],[130,34,130,35],[130,36,130,37],[130,38,130,39],[130,40,130,41],[130,42,130,43],[130,44,130,45],[130,50,130,51],[130,52,130,53],[142,19,142,22],[142,23,142,25],[142,26,142,28],[142,29,142,31],[91,16,91,31],[87,28,87,32],[88,28,88,32],[114,30,116,30],[115,20,115,22],[116,20,116,22],[114,16,116,17],[114,18,116,18],[114,19,116,19],[114,20,114,22],[114,27,116,27],[128,29,130,29],[134,29,136,29],[137,28,139,28],[137,29,139,29],[138,20,138,22],[139,20,139,22],[18,19,20,19],[18,20,18,22],[18,27,20,27],[18,28,20,28],[18,29,20,29],[18,30,20,30],[19,20,19,22],[20,20,20,22],[0,16,0,31],[1,16,1,31],[5,16,5,31],[16,20,16,22],[17,20,17,22],[9,28,11,28],[9,29,11,29],[15,19,17,19],[15,20,15,22],[15,27,17,27],[15,28,17,28],[15,29,17,29],[15,30,17,30],[8,34,8,39],[8,40,8,45],[9,30,11,30],[10,20,10,22],[11,20,11,22],[9,16,11,17],[9,18,11,18],[9,19,11,19],[9,20,9,22],[9,27,11,27],[8,16,8,18],[8,20,8,22],[11,38,11,39],[11,40,11,41],[11,42,11,43],[11,56,11,57],[11,58,11,59],[11,60,11,61],[12,19,14,19],[12,20,12,22],[12,27,14,27],[12,28,14,28],[12,29,14,29],[12,30,14,30],[12,48,12,49],[13,20,13,22],[14,20,14,22],[11,44,11,45],[11,48,11,49],[11,50,11,51],[11,52,11,53],[11,54,11,55],[11,34,11,35],[11,36,11,37],[26,16,26,31],[21,28,21,32],[22,28,22,32],[36,27,38,27],[94,34,94,39],[94,40,94,45],[95,30,97,30],[96,20,96,22],[97,20,97,22],[95,16,97,17],[95,18,97,18],[95,19,97,19],[95,20,95,22],[95,27,97,27],[94,16,94,18],[94,20,94,22],[95,29,97,29],[36,28,38,28],[36,29,38,29],[36,30,38,30],[37,20,37,22],[38,20,38,22],[39,19,41,19],[39,20,39,22],[97,56,97,57],[97,58,97,59],[97,60,97,61],[98,19,100,19],[98,20,98,22],[98,27,100,27],[98,28,100,28],[98,29,100,29],[98,30,100,30],[98,48,98,49],[99,20,99,22],[100,20,100,22],[97,44,97,45],[97,48,97,49],[97,50,97,51],[97,52,97,53],[97,54,97,55],[97,34,97,35],[97,36,97,37],[97,38,97,39],[97,40,97,41],[97,42,97,43],[95,28,97,28],[113,34,113,39],[113,40,113,45],[101,30,103,30],[102,20,102,22],[103,20,103,22],[104,19,106,19],[104,20,104,22],[104,27,106,27],[104,28,106,28],[104,29,106,29],[104,30,106,30],[105,20,105,22],[106,20,106,22],[101,19,103,19],[101,20,101,22],[101,27,103,27],[101,28,103,28],[101,29,103,29],[107,28,107,32],[108,28,108,32],[110,16,110,31],[113,16,113,18],[113,20,113,22],[116,56,116,57],[116,58,116,59],[116,60,116,61],[117,19,119,19],[117,20,117,22],[117,27,119,27],[117,28,119,28],[117,29,119,29],[117,30,119,30],[117,48,117,49],[118,20,118,22],[119,20,119,22],[116,44,116,45],[116,48,116,49],[116,50,116,51],[116,52,116,53],[116,54,116,55],[116,34,116,35],[116,36,116,37],[116,38,116,39],[116,40,116,41],[116,42,116,43],[114,28,116,28],[114,29,116,29],[174,16,174,31],[178,19,178,22],[178,23,178,25],[178,26,178,28],[178,29,178,31],[120,30,122,30],[121,20,121,22],[122,20,122,22],[123,19,125,19],[123,20,123,22],[123,27,125,27],[123,28,125,28],[123,29,125,29],[123,30,125,30],[124,20,124,22],[125,20,125,22],[120,19,122,19],[120,20,120,22],[120,27,122,27],[120,28,122,28],[120,29,122,29],[126,28,126,32],[171,28,171,32],[127,16,127,18],[182,26,182,28],[183,19,183,20],[183,26,183,28],[184,19,184,20],[184,23,184,25],[184,26,184,28],[180,19,180,20],[180,23,180,25],[181,19,181,20],[181,23,181,25],[182,19,182,20],[182,23,182,25],[187,29,187,31],[188,19,188,20],[188,23,188,25],[188,29,188,31],[185,19,185,20],[185,23,185,25],[186,19,186,20],[186,23,186,25],[186,29,186,31],[206,28,206,32],[207,28,207,32],[193,19,193,20],[193,23,193,25],[194,19,194,20],[194,23,194,25],[195,19,195,20],[191,19,191,20],[191,26,191,28],[192,19,192,20],[192,23,192,25],[192,26,192,28],[198,19,198,22],[198,23,198,25],[200,19,200,20],[200,23,200,25],[201,19,201,20],[201,23,201,25],[202,19,202,20],[202,23,202,25],[203,19,203,20],[189,19,189,20],[189,23,189,25],[190,19,190,20],[190,23,190,25],[190,26,190,28],[187,19,187,20],[127,20,127,22],[128,16,130,17],[128,18,130,18],[128,19,130,19],[128,20,128,22],[128,27,130,27],[128,28,130,28],[129,20,129,22],[130,20,130,22],[134,19,136,19],[134,20,134,22],[134,27,136,27],[134,28,136,28],[135,20,135,22],[136,20,136,22],[137,19,139,19],[137,20,137,22],[137,27,139,27],[130,56,130,57],[130,58,130,59],[130,60,130,61],[131,19,133,19],[131,20,131,22],[131,27,133,27],[131,28,133,28],[131,29,133,29],[132,20,132,22],[133,20,133,22],[130,48,130,49],[144,16,144,18],[144,19,144,20],[146,26,146,28],[148,16,148,18],[148,19,148,20],[148,23,148,25],[145,16,145,18],[145,19,145,20],[145,23,145,25],[147,26,147,28],[144,23,144,25],[149,16,149,18],[149,19,149,20],[149,23,149,25],[156,23,156,25],[151,23,151,25],[151,19,151,22],[153,19,153,20],[153,23,153,25],[154,19,154,20],[154,23,154,25],[156,19,156,22],[169,28,169,32],[170,28,170,32],[158,23,158,25],[158,19,158,20],[159,19,159,20],[162,19,162,22],[162,23,162,25],[162,26,162,28],[164,19,164,20],[164,23,164,25],[165,19,165,20],[165,23,165,25],[159,23,159,25]]}
[null,null,null,null,null,null,null,null,null,null,null,null,null,null,null,null,{"$f":"dane!$D$2","v":"VICTOR GRAND PRIX ZĄBEK"}]
[null,null,null,null,null,null,null,null,null,null,null,null,null,null,null,null,{"$f":"IF(ISBLANK(dane!$D$3),\"\",dane!$D$3)","v":"ZĄBKI ; 04.10.2014"}]
[]
[]
[]
[null,null,null,null,null,null,null,null,null,null,null,null,null,"KLASY 1-3 CHŁOPCY",null,null,{"$f":"\"Gra \"&N6","v":"Gra KLASY 1-3 CHŁOPCY"}]
[]
[]
[null,null,null,null,null,null,null,null,null,null,null,null,null,null,1,null,{"$f":"\"Grupa \"&O9&\".\"","v":"Grupa 1."},null,null,"Lp","Zawodnik",null,null,1,2,3,4,"Punkty","Sety","Mecze","Miejsce",null,null,null,"Z planu gier",null,null,null,null,null,"Do obliczeń"]
[null,null,null,null,null,null,null,null,null,null,null,null,null,"KLASY 1-3 CHŁOPCY",null,null,"Kolejność\ngier",null,"Nr\ngry",1,{"$f":"IF(AND(N11<>\"\",N12<>\"\"),CONCATENATE(VLOOKUP(N11,zawodnicy!$A:$E,1,FALSE),\" \",VLOOKUP(N11,zawodnicy!$A:$E,2,FALSE),\" \",VLOOKUP(N11,zawodnicy!$A:$E,3,FALSE),\" - \",VLOOKUP(N11,zawodnicy!$A:$E,4,FALSE)),\"\")","v":""},null,null,null,{"$f":"IF(SUM(AO15:AP15)=0,\"\",AO15&\":\"&AP15)","v":"15:5"},{"$f":"IF(SUM(AO17:AP17)=0,\"\",AO17&\":\"&AP17)","v":"15:8"},{"$f":"IF(SUM(AO14:AP14)=0,\"\",AO14&\":\"&AP14)","v":""},{"$f":"IF(SUM(AY13:BD13)=0,\"\",BE13&\":\"&BF13)","v":"60:28"},{"$f":"IF(SUM(AY13:BD13)=0,\"\",BG13&\":\"&BH13)","v":"4:0"},{"$f":"IF(SUM(AY13:BD13)=0,\"\",BI13&\":\"&BJ13)","v":"2:0"},{"$f":"IF(SUM(BI13:BI16)>0,BK13,\"\")","v":1}]
[null,null,null,null,null,null,null,null,{"$f":"\"1\"&O9&N10","v":"11KLASY 1-3 CHŁOPCY"},{"$f":"IF(SUM(AE10:AE21)=0,\"\",IF(AE10=1,N11,IF(AE13=1,N14,IF(AE16=1,N17,IF(AE19=1,N20,\"\")))))","v":"x43"},{"$f":"IF(SUM(AE10:AE21)=0,\"\",IF(AE10=1,N12,IF(AE13=1,N15,IF(AE16=1,N18,IF(AE19=1,N21,\"\")))))","v":0},{"$f":"IF(VLOOKUP(N11,zawodnicy!A:E,5,FALSE)=0,\"\",N11)","v":""},null,"x43",{"$f":"IF(O9>0,(O9&1)*1,\"\")","v":11},null,null,null,null,null,{"$f":"IF(AND(N11<>\"\",N12=\"\"),CONCATENATE(VLOOKUP(N11,zawodnicy!$A:$E,1,FALSE),\" \",VLOOKUP(N11,zawodnicy!$A:$E,2,FALSE),\" \",VLOOKUP(N11,zawodnicy!$A:$E,3,FALSE),\" - \",VLOOKUP(N11,zawodnicy!$A:$E,4,FALSE)),\"\")","v":"X43 Maks  Siepsiak - Wesoła"},null,null,null,{"$f":"IF(SUM(AQ15:AR15)=0,\"\",AQ15&\":\"&AR15)","v":"15:8"},{"$f":"IF(SUM(AQ17:AR17)=0,\"\",AQ17&\":\"&AR17)","v":"15:7"},{"$f":"IF(SUM(AQ14:AR14)=0,\"\",AQ14&\":\"&AR14)","v":""}]
[null,null,null,null,null,null,null,null,null,null,null,{"$f":"IF(VLOOKUP(N12,zawodnicy!A:E,5,FALSE)=0,\"\",N12)","v":{"$error":"#N/A"}},null,null,null,null,null,null,null,null,{"$f":"IF(N12<>\"\",CONCATENATE(VLOOKUP(N12,zawodnicy!$A:$E,1,FALSE),\" \",VLOOKUP(N12,zawodnicy!$A:$E,2,FALSE),\" \",VLOOKUP(N12,zawodnicy!$A:$E,3,FALSE),\" - \",VLOOKUP(N12,zawodnicy!$A:$E,4,FALSE)),\"\")","v":""},null,null,null,{"$f":"IF(SUM(AS15:AT15)=0,\"\",AS15&\":\"&AT15)","v":""},{"$f":"IF(SUM(AS17:AT17)=0,\"\",AS17&\":\"&AT17)","v":""},{"$f":"IF(SUM(AS14:AT14)=0,\"\",AS14&\":\"&AT14)","v":""},null,null,null,null,null,null,null,"1 set",null,"2 set",null,"3 set",null,"1 set",null,"2 set",null,"3 set",null,null,null,1,null,2,null,3,null,4,null,"Punkty",null,"Sety",null,"Mecze",null,"Miejsce"]
[{"$f":"S13","v":1},{"$f":"IF(N14=\"\",\"\",N14)","v":"x22"},{"$f":"IF(N15=\"\",\"\",N15)","v":""},{"$f":"IF(N17=\"\",\"\",N17)","v":"x7"},{"$f":"IF(N18=\"\",\"\",N18)","v":""},null,null,null,{"$f":"\"2\"&O9&N10","v":"21KLASY 1-3 CHŁOPCY"},{"$f":"IF(SUM(AE10:AE21)=0,\"\",IF(AE10=2,N11,IF(AE13=2,N14,IF(AE16=2,N17,IF(AE19=2,N20,\"\")))))","v":"x22"},{"$f":"IF(SUM(AE10:AE21)=0,\"\",IF(AE10=2,N12,IF(AE13=2,N15,IF(AE16=2,N18,IF(AE19=2,N21,\"\")))))","v":0},null,{"$f":"N10","v":"KLASY 1-3 CHŁOPCY"},null,null,null,{"$f":"IF(AU13>0,\"\",IF(A13=0,\"\",IF(VLOOKUP(A13,'plan gier'!A:T,20,FALSE)=\"\",\"\",VLOOKUP(A13,'plan gier'!A:T,20,FALSE))))","v":""},"2-3",1,2,{"$f":"IF(AND(N14<>\"\",N15<>\"\"),CONCATENATE(VLOOKUP(N14,zawodnicy!$A:$E,1,FALSE),\" \",VLOOKUP(N14,zawodnicy!$A:$E,2,FALSE),\" \",VLOOKUP(N14,zawodnicy!$A:$E,3,FALSE),\" - \",VLOOKUP(N14,zawodnicy!$A:$E,4,FALSE)),\"\")","v":""},null,null,{"$f":"IF(SUM(AO15:AP15)=0,\"\",AP15&\":\"&AO15)","v":"5:15"},null,{"$f":"IF(SUM(AO13:AP13)=0,\"\",AO13&\":\"&AP13)","v":"15:5"},{"$f":"IF(SUM(AO18:AP18)=0,\"\",AO18&\":\"&AP18)","v":""},{"$f":"IF(SUM(AW14:AX14,BA14:BD14)=0,\"\",BE14&\":\"&BF14)","v":"43:38"},{"$f":"IF(SUM(AW14:AX14,BA14:BD14)=0,\"\",BG14&\":\"&BH14)","v":"2:2"},{"$f":"IF(SUM(AW14:AX14,BA14:BD14)=0,\"\",BI14&\":\"&BJ14)","v":"1:1"},{"$f":"IF(SUM(BI13:BI16)>0,BK14,\"\")","v":2},null,null,"2-3",{"$f":"IF(ISBLANK(S13),\"\",VLOOKUP(S13,'plan gier'!$Z:$AP,12,FALSE))","v":15},{"$f":"IF(ISBLANK(S13),\"\",VLOOKUP(S13,'plan gier'!$Z:$AP,13,FALSE))","v":5},{"$f":"IF(ISBLANK(S13),\"\",VLOOKUP(S13,'plan gier'!$Z:$AP,14,FALSE))","v":15},{"$f":"IF(ISBLANK(S13),\"\",VLOOKUP(S13,'plan gier'!$Z:$AP,15,FALSE))","v":3},{"$f":"IF(ISBLANK(S13),\"\",VLOOKUP(S13,'plan gier'!$Z:$AP,16,FALSE))","v":0},{"$f":"IF(ISBLANK(S13),\"\",VLOOKUP(S13,'plan gier'!$Z:$AP,17,FALSE))","v":0},{"$f":"IF(AI13=\"\",0,AI13)","v":15},{"$f":"IF(AJ13=\"\",0,AJ13)","v":5},{"$f":"IF(AK13=\"\",0,AK13)","v":15},{"$f":"IF(AL13=\"\",0,AL13)","v":3},{"$f":"IF(AM13=\"\",0,AM13)","v":0},{"$f":"IF(AN13=\"\",0,AN13)","v":0},{"$f":"SUM(AO13:AT13)","v":38},1,null,null,{"$f":"IF(AI15>AJ15,1,0)+IF(AK15>AL15,1,0)+IF(AM15>AN15,1,0)","v":2},{"$f":"AW14","v":0},{"$f":"IF(AI17>AJ17,1,0)+IF(AK17>AL17,1,0)+IF(AM17>AN17,1,0)","v":2},{"$f":"AW15","v":0},{"$f":"IF(AI14>AJ14,1,0)+IF(AK14>AL14,1,0)+IF(AM14>AN14,1,0)","v":0},{"$f":"AW16","v":0},{"$f":"AO14+AQ14+AS14+AO15+AQ15+AS15+AO17+AQ17+AS17","v":60},{"$f":"AP14+AR14+AT14+AP15+AR15+AT15+AP17+AR17+AT17","v":28},{"$f":"AY13+BA13+BC13","v":4},{"$f":"AZ13+BB13+BD13","v":0},{"$f":"IF(AY13>AZ13,1,0)+IF(BA13>BB13,1,0)+IF(BC13>BD13,1,0)","v":2},{"$f":"IF(AZ13>AY13,1,0)+IF(BB13>BA13,1,0)+IF(BD13>BC13,1,0)","v":0},{"$f":"IF(BI13+BJ13=0,\"\",IF(BL13=MAX(BL13:BL16),1,IF(BL13=LARGE(BL13:BL16,2),2,IF(BL13=LARGE(BL13:BL16,3),3,4))))","v":1},{"$f":"IF(BI13+BJ13<>0,BI13+1+(BG13-BH13)/100+(BE13-BF13)/100000+IF(BF13=0,0,(BE13/BF13)/1000000),0)","v":3.0403221428571428}]
[0,{"$f":"IF(N11=\"\",\"\",N11)","v":"x43"},{"$f":"IF(N12=\"\",\"\",N12)","v":""},{"$f":"IF(N20=\"\",\"\",N20)","v":""},{"$f":"IF(N21=\"\",\"\",N21)","v":""},null,null,null,null,null,null,{"$f":"IF(VLOOKUP(N14,zawodnicy!A:E,5,FALSE)=0,\"\",N14)","v":""},{"$f":"N10","v":"KLASY 1-3 CHŁOPCY"},"x22",{"$f":"IF(O9>0,(O9&2)*1,\"\")","v":12},null,{"$f":"IF(AU14>0,\"\",IF(A14=0,\"\",IF(VLOOKUP(A14,'plan gier'!A:T,20,FALSE)=\"\",\"\",VLOOKUP(A14,'plan gier'!A:T,20,FALSE))))","v":""},"1-4",null,null,{"$f":"IF(AND(N14<>\"\",N15=\"\"),CONCATENATE(VLOOKUP(N14,zawodnicy!$A:$E,1,FALSE),\" \",VLOOKUP(N14,zawodnicy!$A:$E,2,FALSE),\" \",VLOOKUP(N14,zawodnicy!$A:$E,3,FALSE),\" - \",VLOOKUP(N14,zawodnicy!$A:$E,4,FALSE)),\"\")","v":"X22 Hanna  Lewandowska - Wesoła"},null,null,{"$f":"IF(SUM(AQ15:AR15)=0,\"\",AR15&\":\"&AQ15)","v":"8:15"},null,{"$f":"IF(SUM(AQ13:AR13)=0,\"\",AQ13&\":\"&AR13)","v":"15:3"},{"$f":"IF(SUM(AQ18:AR18)=0,\"\",AQ18&\":\"&AR18)","v":""},null,null,null,null,null,null,"1-4",{"$f":"IF(ISBLANK(S14),\"\",VLOOKUP(S14,'plan gier'!$Z:$AP,12,FALSE))","v":""},{"$f":"IF(ISBLANK(S14),\"\",VLOOKUP(S14,'plan gier'!$Z:$AP,13,FALSE))","v":""},{"$f":"IF(ISBLANK(S14),\"\",VLOOKUP(S14,'plan gier'!$Z:$AP,14,FALSE))","v":""},{"$f":"IF(ISBLANK(S14),\"\",VLOOKUP(S14,'plan gier'!$Z:$AP,15,FALSE))","v":""},{"$f":"IF(ISBLANK(S14),\"\",VLOOKUP(S14,'plan gier'!$Z:$AP,16,FALSE))","v":""},{"$f":"IF(ISBLANK(S14),\"\",VLOOKUP(S14,'plan gier'!$Z:$AP,17,FALSE))","v":""},0,0,0,0,0,0,0,2,{"$f":"IF(AI15<AJ15,1,0)+IF(AK15<AL15,1,0)+IF(AM15<AN15,1,0)","v":0},{"$f":"AY13","v":2},null,null,{"$f":"IF(AI13>AJ13,1,0)+IF(AK13>AL13,1,0)+IF(AM13>AN13,1,0)","v":2},{"$f":"AY15","v":0},{"$f":"IF(AI18>AJ18,1,0)+IF(AK18>AL18,1,0)+IF(AM18>AN18,1,0)","v":0},{"$f":"AY16","v":0},{"$f":"AO13+AQ13+AS13+AP15+AR15+AT15+AO18+AQ18+AS18","v":43},{"$f":"AP13+AR13+AT13+AO15+AQ15+AS15+AP18+AR18+AT18","v":38},{"$f":"AW14+BA14+BC14","v":2},{"$f":"AX14+BB14+BD14","v":2},{"$f":"IF(AW14>AX14,1,0)+IF(BA14>BB14,1,0)+IF(BC14>BD14,1,0)","v":1},{"$f":"IF(AX14>AW14,1,0)+IF(BB14>BA14,1,0)+IF(BD14>BC14,1,0)","v":1},{"$f":"IF(BI14+BJ14=0,\"\",IF(BL14=MAX(BL13:BL16),1,IF(BL14=LARGE(BL13:BL16,2),2,IF(BL14=LARGE(BL13:BL16,3),3,4))))","v":2},{"$f":"IF(BI14+BJ14<>0,BI14+1+(BG14-BH14)/100+(BE14-BF14)/100000+IF(BF14=0,0,(BE14/BF14)/1000000),0)","v":2.0000511315789473}]
[11,{"$f":"IF(N11=\"\",\"\",N11)","v":"x43"},{"$f":"IF(N12=\"\",\"\",N12)","v":""},{"$f":"IF(N14=\"\",\"\",N14)","v":"x22"},{"$f":"IF(N15=\"\",\"\",N15)","v":""},null,null,null,{"$f":"\"3\"&O9&N10","v":"31KLASY 1-3 CHŁOPCY"},{"$f":"IF(SUM(AE10:AE21)=0,\"\",IF(AE10=3,N11,IF(AE13=3,N14,IF(AE16=3,N17,IF(AE19=3,N20,\"\")))))","v":"x7"},{"$f":"IF(SUM(AE10:AE21)=0,\"\",IF(AE10=3,N12,IF(AE13=3,N15,IF(AE16=3,N18,IF(AE19=3,N21,\"\")))))","v":0},{"$f":"IF(VLOOKUP(N15,zawodnicy!A:E,5,FALSE)=0,\"\",N15)","v":{"$error":"#N/A"}},{"$f":"N10","v":"KLASY 1-3 CHŁOPCY"},null,null,null,{"$f":"IF(AU15>0,\"\",IF(A15=0,\"\",IF(VLOOKUP(A15,'plan gier'!A:T,20,FALSE)=\"\",\"\",VLOOKUP(A15,'plan gier'!A:T,20,FALSE))))","v":""},"1-2",11,null,{"$f":"IF(N15<>\"\",CONCATENATE(VLOOKUP(N15,zawodnicy!$A:$E,1,FALSE),\" \",VLOOKUP(N15,zawodnicy!$A:$E,2,FALSE),\" \",VLOOKUP(N15,zawodnicy!$A:$E,3,FALSE),\" - \",VLOOKUP(N15,zawodnicy!$A:$E,4,FALSE)),\"\")","v":""},null,null,{"$f":"IF(SUM(AS15:AT15)=0,\"\",AT15&\":\"&AS15)","v":""},null,{"$f":"IF(SUM(AS13:AT13)=0,\"\",AS13&\":\"&AT13)","v":""},{"$f":"IF(SUM(AS18:AT18)=0,\"\",AS18&\":\"&AT18)","v":""},null,null,null,null,null,null,"1-2",{"$f":"IF(ISBLANK(S15),\"\",VLOOKUP(S15,'plan gier'!$Z:$AP,12,FALSE))","v":15},{"$f":"IF(ISBLANK(S15),\"\",VLOOKUP(S15,'plan gier'!$Z:$AP,13,FALSE))","v":5},{"$f":"IF(ISBLANK(S15),\"\",VLOOKUP(S15,'plan gier'!$Z:$AP,14,FALSE))","v":15},{"$f":"IF(ISBLANK(S15),\"\",VLOOKUP(S15,'plan gier'!$Z:$AP,15,FALSE))","v":8},{"$f":"IF(ISBLANK(S15),\"\",VLOOKUP(S15,'plan gier'!$Z:$AP,16,FALSE))","v":0},{"$f":"IF(ISBLANK(S15),\"\",VLOOKUP(S15,'plan gier'!$Z:$AP,17,FALSE))","v":0},15,5,15,8,0,0,43,3,{"$f":"IF(AI17<AJ17,1,0)+IF(AK17<AL17,1,0)+IF(AM17<AN17,1,0)","v":0},{"$f":"BA13","v":2},{"$f":"IF(AI13<AJ13,1,0)+IF(AK13<AL13,1,0)+IF(AM13<AN13,1,0)","v":0},{"$f":"BA14","v":2},null,null,{"$f":"IF(AI16>AJ16,1,0)+IF(AK16>AL16,1,0)+IF(AM16>AN16,1,0)","v":0},{"$f":"BA16","v":0},{"$f":"AP13+AR13+AT13+AO16+AQ16+AS16+AP17+AR17+AT17","v":23},{"$f":"AO13+AQ13+AS13+AP16+AR16+AT16+AO17+AQ17+AS17","v":60},{"$f":"AW15+AY15+BC15","v":0},{"$f":"AX15+AZ15+BD15","v":4},{"$f":"IF(AW15>AX15,1,0)+IF(AY15>AZ15,1,0)+IF(BC15>BD15,1,0)","v":0},{"$f":"IF(AX15>AW15,1,0)+IF(AZ15>AY15,1,0)+IF(BD15>BC15,1,0)","v":2},{"$f":"IF(BI15+BJ15=0,\"\",IF(BL15=MAX(BL13:BL16),1,IF(BL15=LARGE(BL13:BL16,2),2,IF(BL15=LARGE(BL13:BL16,3),3,4))))","v":3},{"$f":"IF(BI15+BJ15<>0,BI15+1+(BG15-BH15)/100+(BE15-BF15)/100000+IF(BF15=0,0,(BE15/BF15)/1000000),0)","v":0.95963038333333328}]
[0,{"$f":"IF(N17=\"\",\"\",N17)","v":"x7"},{"$f":"IF(N18=\"\",\"\",N18)","v":""},{"$f":"IF(N20=\"\",\"\",N20)","v":""},{"$f":"IF(N21=\"\",\"\",N21)","v":""},null,null,null,null,null,null,null,{"$f":"N10","v":"KLASY 1-3 CHŁOPCY"},null,null,null,{"$f":"IF(AU16>0,\"\",IF(A16=0,\"\",IF(VLOOKUP(A16,'plan gier'!A:T,20,FALSE)=\"\",\"\",VLOOKUP(A16,'plan gier'!A:T,20,FALSE))))","v":""},"3-4",null,3,{"$f":"IF(AND(N17<>\"\",N18<>\"\"),CONCATENATE(VLOOKUP(N17,zawodnicy!$A:$E,1,FALSE),\" \",VLOOKUP(N17,zawodnicy!$A:$E,2,FALSE),\" \",VLOOKUP(N17,zawodnicy!$A:$E,3,FALSE),\" - \",VLOOKUP(N17,zawodnicy!$A:$E,4,FALSE)),\"\")","v":""},null,null,{"$f":"IF(SUM(AO17:AP17)=0,\"\",AP17&\":\"&AO17)","v":"8:15"},{"$f":"IF(SUM(AO13:AP13)=0,\"\",AP13&\":\"&AO13)","v":"5:15"},null,{"$f":"IF(SUM(AO16:AP16)=0,\"\",AO16&\":\"&AP16)","v":""},{"$f":"IF(SUM(AW15:AZ15,BC15:BD15)=0,\"\",BE15&\":\"&BF15)","v":"23:60"},{"$f":"IF(SUM(AW15:AZ15,BC15:BD15)=0,\"\",BG15&\":\"&BH15)","v":"0:4"},{"$f":"IF(SUM(AW15:AZ15,BC15:BD15)=0,\"\",BI15&\":\"&BJ15)","v":"0:2"},{"$f":"IF(SUM(BI13:BI16)>0,BK15,\"\")","v":3},null,null,"3-4",{"$f":"IF(ISBLANK(S16),\"\",VLOOKUP(S16,'plan gier'!$Z:$AP,12,FALSE))","v":""},{"$f":"IF(ISBLANK(S16),\"\",VLOOKUP(S16,'plan gier'!$Z:$AP,13,FALSE))","v":""},{"$f":"IF(ISBLANK(S16),\"\",VLOOKUP(S16,'plan gier'!$Z:$AP,14,FALSE))","v":""},{"$f":"IF(ISBLANK(S16),\"\",VLOOKUP(S16,'plan gier'!$Z:$AP,15,FALSE))","v":""},{"$f":"IF(ISBLANK(S16),\"\",VLOOKUP(S16,'plan gier'!$Z:$AP,16,FALSE))","v":""},{"$f":"IF(ISBLANK(S16),\"\",VLOOKUP(S16,'plan gier'!$Z:$AP,17,FALSE))","v":""},0,0,0,0,0,0,0,4,{"$f":"IF(AI14<AJ14,1,0)+IF(AK14<AL14,1,0)+IF(AM14<AN14,1,0)","v":0},{"$f":"BC13","v":0},{"$f":"IF(AI18<AJ18,1,0)+IF(AK18<AL18,1,0)+IF(AM18<AN18,1,0)","v":0},{"$f":"BC14","v":0},{"$f":"IF(AI16<AJ16,1,0)+IF(AK16<AL16,1,0)+IF(AM16<AN16,1,0)","v":0},{"$f":"BC15","v":0},null,null,{"$f":"AP14+AR14+AT14+AP16+AR16+AT16+AP18+AR18+AT18","v":0},{"$f":"AO14+AQ14+AS14+AO16+AQ16+AS16+AO18+AQ18+AS18","v":0},{"$f":"AW16+AY16+BA16","v":0},{"$f":"AX16+AZ16+BB16","v":0},{"$f":"IF(AW16>AX16,1,0)+IF(AY16>AZ16,1,0)+IF(BA16>BB16,1,0)","v":0},{"$f":"IF(AX16>AW16,1,0)+IF(AZ16>AY16,1,0)+IF(BB16>BA16,1,0)","v":0},{"$f":"IF(BI16+BJ16=0,\"\",IF(BL16=MAX(BL13:BL16),1,IF(BL16=LARGE(BL13:BL16,2),2,IF(BL16=LARGE(BL13:BL16,3),3,4))))","v":""},{"$f":"IF(BI16+BJ16<>0,BI16+1+(BG16-BH16)/100+(BE16-BF16)/100000+IF(BF16=0,0,(BE16/BF16)/1000000),0)","v":0}]
[21,{"$f":"IF(N11=\"\",\"\",N11)","v":"x43"},{"$f":"IF(N12=\"\",\"\",N12)","v":""},{"$f":"IF(N17=\"\",\"\",N17)","v":"x7"},{"$f":"IF(N18=\"\",\"\",N18)","v":""},null,null,null,{"$f":"\"4\"&O9&N10","v":"41KLASY 1-3 CHŁOPCY"},{"$f":"IF(SUM(AE10:AE21)=0,\"\",IF(AE10=4,N11,IF(AE13=4,N14,IF(AE16=4,N17,IF(AE19=4,N20,\"\")))))","v":""},{"$f":"IF(SUM(AE10:AE21)=0,\"\",IF(AE10=4,N12,IF(AE13=4,N15,IF(AE16=4,N18,IF(AE19=4,N21,\"\")))))","v":""},{"$f":"IF(VLOOKUP(N17,zawodnicy!A:E,5,FALSE)=0,\"\",N17)","v":""},{"$f":"N10","v":"KLASY 1-3 CHŁOPCY"},"x7",{"$f":"IF(O9>0,(O9&3)*1,\"\")","v":13},null,{"$f":"IF(AU17>0,\"\",IF(A17=0,\"\",IF(VLOOKUP(A17,'plan gier'!A:T,20,FALSE)=\"\",\"\",VLOOKUP(A17,'plan gier'!A:T,20,FALSE))))","v":""},"1-3",21,null,{"$f":"IF(AND(N17<>\"\",N18=\"\"),CONCATENATE(VLOOKUP(N17,zawodnicy!$A:$E,1,FALSE),\" \",VLOOKUP(N17,zawodnicy!$A:$E,2,FALSE),\" \",VLOOKUP(N17,zawodnicy!$A:$E,3,FALSE),\" - \",VLOOKUP(N17,zawodnicy!$A:$E,4,FALSE)),\"\")","v":"X7 Kacper Gajos - Ząbki"},null,null,{"$f":"IF(SUM(AQ17:AR17)=0,\"\",AR17&\":\"&AQ17)","v":"7:15"},{"$f":"IF(SUM(AQ13:AR13)=0,\"\",AR13&\":\"&AQ13)","v":"3:15"},null,{"$f":"IF(SUM(AQ16:AR16)=0,\"\",AQ16&\":\"&AR16)","v":""},null,null,null,null,null,null,"1-3",{"$f":"IF(ISBLANK(S17),\"\",VLOOKUP(S17,'plan gier'!$Z:$AP,12,FALSE))","v":15},{"$f":"IF(ISBLANK(S17),\"\",VLOOKUP(S17,'plan gier'!$Z:$AP,13,FALSE))","v":8},{"$f":"IF(ISBLANK(S17),\"\",VLOOKUP(S17,'plan gier'!$Z:$AP,14,FALSE))","v":15},{"$f":"IF(ISBLANK(S17),\"\",VLOOKUP(S17,'plan gier'!$Z:$AP,15,FALSE))","v":7},{"$f":"IF(ISBLANK(S17),\"\",VLOOKUP(S17,'plan gier'!$Z:$AP,16,FALSE))","v":0},{"$f":"IF(ISBLANK(S17),\"\",VLOOKUP(S17,'plan gier'!$Z:$AP,17,FALSE))","v":0},15,8,15,7,0,0,45,null,null,null,null,null,null,null,null,null,{"$f":"SUM(BE13:BE16)","v":126},126,6,6,3,3]
[0,{"$f":"IF(N14=\"\",\"\",N14)","v":"x22"},{"$f":"IF(N15=\"\",\"\",N15)","v":""},{"$f":"IF(N20=\"\",\"\",N20)","v":""},{"$f":"IF(N21=\"\",\"\",N21)","v":""},null,null,null,null,null,null,{"$f":"IF(VLOOKUP(N18,zawodnicy!A:E,5,FALSE)=0,\"\",N18)","v":{"$error":"#N/A"}},{"$f":"N10","v":"KLASY 1-3 CHŁOPCY"},null,null,null,{"$f":"IF(AU18>0,\"\",IF(A18=0,\"\",IF(VLOOKUP(A18,'plan gier'!A:T,20,FALSE)=\"\",\"\",VLOOKUP(A18,'plan gier'!A:T,20,FALSE))))","v":""},"2-4",null,null,{"$f":"IF(N18<>\"\",CONCATENATE(VLOOKUP(N18,zawodnicy!$A:$E,1,FALSE),\" \",VLOOKUP(N18,zawodnicy!$A:$E,2,FALSE),\" \",VLOOKUP(N18,zawodnicy!$A:$E,3,FALSE),\" - \",VLOOKUP(N18,zawodnicy!$A:$E,4,FALSE)),\"\")","v":""},null,null,{"$f":"IF(SUM(AS17:AT17)=0,\"\",AT17&\":\"&AS17)","v":""},{"$f":"IF(SUM(AS13:AT13)=0,\"\",AT13&\":\"&AS13)","v":""},null,{"$f":"IF(SUM(AS16:AT16)=0,\"\",AS16&\":\"&AT16)","v":""},null,null,null,null,null,null,"2-4",{"$f":"IF(ISBLANK(S18),\"\",VLOOKUP(S18,'plan gier'!$Z:$AP,12,FALSE))","v":""},{"$f":"IF(ISBLANK(S18),\"\",VLOOKUP(S18,'plan gier'!$Z:$AP,13,FALSE))","v":""},{"$f":"IF(ISBLANK(S18),\"\",VLOOKUP(S18,'plan gier'!$Z:$AP,14,FALSE))","v":""},{"$f":"IF(ISBLANK(S18),\"\",VLOOKUP(S18,'plan gier'!$Z:$AP,15,FALSE))","v":""},{"$f":"IF(ISBLANK(S18),\"\",VLOOKUP(S18,'plan gier'!$Z:$AP,16,FALSE))","v":""},{"$f":"IF(ISBLANK(S18),\"\",VLOOKUP(S18,'plan gier'!$Z:$AP,17,FALSE))","v":""},0,0,0,0,0,0,0]
[null,null,null,null,null,null,null,null,null,null,null,null,null,null,null,null,null,null,null,4,{"$f":"IF(AND(N20<>\"\",N21<>\"\"),CONCATENATE(VLOOKUP(N20,zawodnicy!$A:$E,1,FALSE),\" \",VLOOKUP(N20,zawodnicy!$A:$E,2,FALSE),\" \",VLOOKUP(N20,zawodnicy!$A:$E,3,FALSE),\" - \",VLOOKUP(N20,zawodnicy!$A:$E,4,FALSE)),\"\")","v":""},null,null,{"$f":"IF(SUM(AO14:AP14)=0,\"\",AP14&\":\"&AO14)","v":""},{"$f":"IF(SUM(AO18:AP18)=0,\"\",AP18&\":\"&AO18)","v":""},{"$f":"IF(SUM(AO16:AP16)=0,\"\",AP16&\":\"&AO16)","v":""},null,{"$f":"IF(SUM(AW16:BB16)=0,\"\",BE16&\":\"&BF16)","v":""},{"$f":"IF(SUM(AW16:BB16)=0,\"\",BG16&\":\"&BH16)","v":""},{"$f":"IF(SUM(AW16:BB16)=0,\"\",BI16&\":\"&BJ16)","v":""},{"$f":"IF(SUM(BI13:BI16)>0,BK16,\"\")","v":""}]
[null,null,null,null,null,null,null,null,null,null,null,{"$f":"IF(VLOOKUP(N20,zawodnicy!A:E,5,FALSE)=0,\"\",N20)","v":{"$error":"#N/A"}},null,null,{"$f":"IF(O9>0,(O9&4)*1,\"\")","v":14},null,null,null,null,null,{"$f":"IF(AND(N20<>\"\",N21=\"\"),CONCATENATE(VLOOKUP(N20,zawodnicy!$A:$E,1,FALSE),\" \",VLOOKUP(N20,zawodnicy!$A:$E,2,FALSE),\" \",VLOOKUP(N20,zawodnicy!$A:$E,3,FALSE),\" - \",VLOOKUP(N20,zawodnicy!$A:$E,4,FALSE)),\"\")","v":""},null,null,{"$f":"IF(SUM(AQ14:AR14)=0,\"\",AR14&\":\"&AQ14)","v":""},{"$f":"IF(SUM(AQ18:AR18)=0,\"\",AR18&\":\"&AQ18)","v":""},{"$f":"IF(SUM(AQ16:AR16)=0,\"\",AR16&\":\"&AQ16)","v":""}]
[null,null,null,null,null,null,null,null,null,null,null,{"$f":"IF(VLOOKUP(N21,zawodnicy!A:E,5,FALSE)=0,\"\",N21)","v":{"$error":"#N/A"}},null,null,null,null,null,null,null,null,{"$f":"IF(N21<>\"\",CONCATENATE(VLOOKUP(N21,zawodnicy!$A:$E,1,FALSE),\" \",VLOOKUP(N21,zawodnicy!$A:$E,2,FALSE),\" \",VLOOKUP(N21,zawodnicy!$A:$E,3,FALSE),\" - \",VLOOKUP(N21,zawodnicy!$A:$E,4,FALSE)),\"\")","v":""},null,null,{"$f":"IF(SUM(AS14:AT14)=0,\"\",AT14&\":\"&AS14)","v":""},{"$f":"IF(SUM(AS18:AT18)=0,\"\",AT18&\":\"&AS18)","v":""},{"$f":"IF(SUM(AS16:AT16)=0,\"\",AT16&\":\"&AS16)","v":""}]
[null,null,null,null,null,null,null,null,null,null,null,null,null,null,null,null,null,null,null,null,null,null,null,null,null,null,null,null,"Sędzia główny"]
[null,null,null,null,null,null,null,null,null,null,null,null,null,null,null,null,null,null,null,null,null,null,null,null,null,null,null,null,{"$f":"IF(ISBLANK(dane!$D$4),\"\",dane!$D$4)","v":"Marek Krawczyk"}]
[]
[]
[]
[null,null,null,null,null,null,null,null,null,null,null,null,null,"KLASY 4-6 CHŁOPCY",null,null,{"$f":"\"Gra \"&N27","v":"Gra KLASY 4-6 CHŁOPCY"}]
[]
[]
[null,null,null,null,null,null,null,null,null,null,null,null,null,null,1,null,{"$f":"\"Grupa \"&O30&\".\"","v":"Grupa 1."},null,null,"Lp","Zawodnik",null,null,1,2,3,4,"Punkty","Sety","Mecze","Miejsce",null,null,null,"Z planu gier",null,null,null,null,null,"Do obliczeń"]
[null,null,null,null,null,null,null,null,null,null,null,null,null,"KLASY 4-6 CHŁOPCY",null,null,"Kolejność\ngier",null,"Nr\ngry",1,{"$f":"IF(AND(N32<>\"\",N33<>\"\"),CONCATENATE(VLOOKUP(N32,zawodnicy!$A:$E,1,FALSE),\" \",VLOOKUP(N32,zawodnicy!$A:$E,2,FALSE),\" \",VLOOKUP(N32,zawodnicy!$A:$E,3,FALSE),\" - \",VLOOKUP(N32,zawodnicy!$A:$E,4,FALSE)),\"\")","v":""},null,null,null,{"$f":"IF(SUM(AO36:AP36)=0,\"\",AO36&\":\"&AP36)","v":"15:12"},{"$f":"IF(SUM(AO38:AP38)=0,\"\",AO38&\":\"&AP38)","v":"15:1"},{"$f":"IF(SUM(AO35:AP35)=0,\"\",AO35&\":\"&AP35)","v":"15:8"},{"$f":"IF(SUM(AY34:BD34)=0,\"\",BE34&\":\"&BF34)","v":"86:61"},{"$f":"IF(SUM(AY34:BD34)=0,\"\",BG34&\":\"&BH34)","v":"5:2"},{"$f":"IF(SUM(AY34:BD34)=0,\"\",BI34&\":\"&BJ34)","v":"2:1"},{"$f":"IF(SUM(BI34:BI37)>0,BK34,\"\")","v":2}]
[null,null,null,null,null,null,null,null,{"$f":"\"1\"&O30&N31","v":"11KLASY 4-6 CHŁOPCY"},{"$f":"IF(SUM(AE31:AE42)=0,\"\",IF(AE31=1,N32,IF(AE34=1,N35,IF(AE37=1,N38,IF(AE40=1,N41,\"\")))))","v":"x68"},{"$f":"IF(SUM(AE31:AE42)=0,\"\",IF(AE31=1,N33,IF(AE34=1,N36,IF(AE37=1,N39,IF(AE40=1,N42,\"\")))))","v":0},{"$f":"IF(VLOOKUP(N32,zawodnicy!A:E,5,FALSE)=0,\"\",N32)","v":""},null,"x59",{"$f":"IF(O30>0,(O30&1)*1,\"\")","v":11},null,null,null,null,null,{"$f":"IF(AND(N32<>\"\",N33=\"\"),CONCATENATE(VLOOKUP(N32,zawodnicy!$A:$E,1,FALSE),\" \",VLOOKUP(N32,zawodnicy!$A:$E,2,FALSE),\" \",VLOOKUP(N32,zawodnicy!$A:$E,3,FALSE),\" - \",VLOOKUP(N32,zawodnicy!$A:$E,4,FALSE)),\"\")","v":"X59 Jakub  Walocha - Ząbki"},null,null,null,{"$f":"IF(SUM(AQ36:AR36)=0,\"\",AQ36&\":\"&AR36)","v":"8:15"},{"$f":"IF(SUM(AQ38:AR38)=0,\"\",AQ38&\":\"&AR38)","v":"15:6"},{"$f":"IF(SUM(AQ35:AR35)=0,\"\",AQ35&\":\"&AR35)","v":"15:4"}]
[null,null,null,null,null,null,null,null,null,null,null,{"$f":"IF(VLOOKUP(N33,zawodnicy!A:E,5,FALSE)=0,\"\",N33)","v":{"$error":"#N/A"}},null,null,null,null,null,null,null,null,{"$f":"IF(N33<>\"\",CONCATENATE(VLOOKUP(N33,zawodnicy!$A:$E,1,FALSE),\" \",VLOOKUP(N33,zawodnicy!$A:$E,2,FALSE),\" \",VLOOKUP(N33,zawodnicy!$A:$E,3,FALSE),\" - \",VLOOKUP(N33,zawodnicy!$A:$E,4,FALSE)),\"\")","v":""},null,null,null,{"$f":"IF(SUM(AS36:AT36)=0,\"\",AS36&\":\"&AT36)","v":"3:15"},{"$f":"IF(SUM(AS38:AT38)=0,\"\",AS38&\":\"&AT38)","v":""},{"$f":"IF(SUM(AS35:AT35)=0,\"\",AS35&\":\"&AT35)","v":""},null,null,null,null,null,null,null,"1 set",null,"2 set",null,"3 set",null,"1 set",null,"2 set",null,"3 set",null,null,null,1,null,2,null,3,null,4,null,"Punkty",null,"Sety",null,"Mecze",null,"Miejsce"]
[{"$f":"S34","v":2},{"$f":"IF(N35=\"\",\"\",N35)","v":"x68"},{"$f":"IF(N36=\"\",\"\",N36)","v":""},{"$f":"IF(N38=\"\",\"\",N38)","v":"x35"},{"$f":"IF(N39=\"\",\"\",N39)","v":""},null,null,null,{"$f":"\"2\"&O30&N31","v":"21KLASY 4-6 CHŁOPCY"},{"$f":"IF(SUM(AE31:AE42)=0,\"\",IF(AE31=2,N32,IF(AE34=2,N35,IF(AE37=2,N38,IF(AE40=2,N41,\"\")))))","v":"x59"},{"$f":"IF(SUM(AE31:AE42)=0,\"\",IF(AE31=2,N33,IF(AE34=2,N36,IF(AE37=2,N39,IF(AE40=2,N42,\"\")))))","v":0},null,{"$f":"N31","v":"KLASY 4-6 CHŁOPCY"},null,null,null,{"$f":"IF(AU34>0,\"\",IF(A34=0,\"\",IF(VLOOKUP(A34,'plan gier'!A:T,20,FALSE)=\"\",\"\",VLOOKUP(A34,'plan gier'!A:T,20,FALSE))))","v":""},"2-3",2,2,{"$f":"IF(AND(N35<>\"\",N36<>\"\"),CONCATENATE(VLOOKUP(N35,zawodnicy!$A:$E,1,FALSE),\" \",VLOOKUP(N35,zawodnicy!$A:$E,2,FALSE),\" \",VLOOKUP(N35,zawodnicy!$A:$E,3,FALSE),\" - \",VLOOKUP(N35,zawodnicy!$A:$E,4,FALSE)),\"\")","v":""},null,null,{"$f":"IF(SUM(AO36:AP36)=0,\"\",AP36&\":\"&AO36)","v":"12:15"},null,{"$f":"IF(SUM(AO34:AP34)=0,\"\",AO34&\":\"&AP34)","v":"15:7"},{"$f":"IF(SUM(AO39:AP39)=0,\"\",AO39&\":\"&AP39)","v":"15:5"},{"$f":"IF(SUM(AW35:AX35,BA35:BD35)=0,\"\",BE35&\":\"&BF35)","v":"102:53"},{"$f":"IF(SUM(AW35:AX35,BA35:BD35)=0,\"\",BG35&\":\"&BH35)","v":"6:1"},{"$f":"IF(SUM(AW35:AX35,BA35:BD35)=0,\"\",BI35&\":\"&BJ35)","v":"3:0"},{"$f":"IF(SUM(BI34:BI37)>0,BK35,\"\")","v":1},null,null,"2-3",{"$f":"IF(ISBLANK(S34),\"\",VLOOKUP(S34,'plan gier'!$Z:$AP,12,FALSE))","v":15},{"$f":"IF(ISBLANK(S34),\"\",VLOOKUP(S34,'plan gier'!$Z:$AP,13,FALSE))","v":7},{"$f":"IF(ISBLANK(S34),\"\",VLOOKUP(S34,'plan gier'!$Z:$AP,14,FALSE))","v":15},{"$f":"IF(ISBLANK(S34),\"\",VLOOKUP(S34,'plan gier'!$Z:$AP,15,FALSE))","v":4},{"$f":"IF(ISBLANK(S34),\"\",VLOOKUP(S34,'plan gier'!$Z:$AP,16,FALSE))","v":0},{"$f":"IF(ISBLANK(S34),\"\",VLOOKUP(S34,'plan gier'!$Z:$AP,17,FALSE))","v":0},{"$f":"IF(AI34=\"\",0,AI34)","v":15},{"$f":"IF(AJ34=\"\",0,AJ34)","v":7},{"$f":"IF(AK34=\"\",0,AK34)","v":15},{"$f":"IF(AL34=\"\",0,AL34)","v":4},{"$f":"IF(AM34=\"\",0,AM34)","v":0},{"$f":"IF(AN34=\"\",0,AN34)","v":0},{"$f":"SUM(AO34:AT34)","v":41},1,null,null,{"$f":"IF(AI36>AJ36,1,0)+IF(AK36>AL36,1,0)+IF(AM36>AN36,1,0)","v":1},{"$f":"AW35","v":2},{"$f":"IF(AI38>AJ38,1,0)+IF(AK38>AL38,1,0)+IF(AM38>AN38,1,0)","v":2},{"$f":"AW36","v":0},{"$f":"IF(AI35>AJ35,1,0)+IF(AK35>AL35,1,0)+IF(AM35>AN35,1,0)","v":2},{"$f":"AW37","v":0},{"$f":"AO35+AQ35+AS35+AO36+AQ36+AS36+AO38+AQ38+AS38","v":86},{"$f":"AP35+AR35+AT35+AP36+AR36+AT36+AP38+AR38+AT38","v":61},{"$f":"AY34+BA34+BC34","v":5},{"$f":"AZ34+BB34+BD34","v":2},{"$f":"IF(AY34>AZ34,1,0)+IF(BA34>BB34,1,0)+IF(BC34>BD34,1,0)","v":2},{"$f":"IF(AZ34>AY34,1,0)+IF(BB34>BA34,1,0)+IF(BD34>BC34,1,0)","v":1},{"$f":"IF(BI34+BJ34=0,\"\",IF(BL34=MAX(BL34:BL37),1,IF(BL34=LARGE(BL34:BL37,2),2,IF(BL34=LARGE(BL34:BL37,3),3,4))))","v":2},{"$f":"IF(BI34+BJ34<>0,BI34+1+(BG34-BH34)/100+(BE34-BF34)/100000+IF(BF34=0,0,(BE34/BF34)/1000000),0)","v":3.0302514098360653}]
[3,{"$f":"IF(N32=\"\",\"\",N32)","v":"x59"},{"$f":"IF(N33=\"\",\"\",N33)","v":""},{"$f":"IF(N41=\"\",\"\",N41)","v":"x33"},{"$f":"IF(N42=\"\",\"\",N42)","v":""},null,null,null,null,null,null,{"$f":"IF(VLOOKUP(N35,zawodnicy!A:E,5,FALSE)=0,\"\",N35)","v":""},{"$f":"N31","v":"KLASY 4-6 CHŁOPCY"},"x68",{"$f":"IF(O30>0,(O30&2)*1,\"\")","v":12},null,{"$f":"IF(AU35>0,\"\",IF(A35=0,\"\",IF(VLOOKUP(A35,'plan gier'!A:T,20,FALSE)=\"\",\"\",VLOOKUP(A35,'plan gier'!A:T,20,FALSE))))","v":""},"1-4",3,null,{"$f":"IF(AND(N35<>\"\",N36=\"\"),CONCATENATE(VLOOKUP(N35,zawodnicy!$A:$E,1,FALSE),\" \",VLOOKUP(N35,zawodnicy!$A:$E,2,FALSE),\" \",VLOOKUP(N35,zawodnicy!$A:$E,3,FALSE),\" - \",VLOOKUP(N35,zawodnicy!$A:$E,4,FALSE)),\"\")","v":"X68 Kacper Winek - Garwolin"},null,null,{"$f":"IF(SUM(AQ36:AR36)=0,\"\",AR36&\":\"&AQ36)","v":"15:8"},null,{"$f":"IF(SUM(AQ34:AR34)=0,\"\",AQ34&\":\"&AR34)","v":"15:4"},{"$f":"IF(SUM(AQ39:AR39)=0,\"\",AQ39&\":\"&AR39)","v":"15:11"},null,null,null,null,null,null,"1-4",{"$f":"IF(ISBLANK(S35),\"\",VLOOKUP(S35,'plan gier'!$Z:$AP,12,FALSE))","v":15},{"$f":"IF(ISBLANK(S35),\"\",VLOOKUP(S35,'plan gier'!$Z:$AP,13,FALSE))","v":8},{"$f":"IF(ISBLANK(S35),\"\",VLOOKUP(S35,'plan gier'!$Z:$AP,14,FALSE))","v":15},{"$f":"IF(ISBLANK(S35),\"\",VLOOKUP(S35,'plan gier'!$Z:$AP,15,FALSE))","v":4},{"$f":"IF(ISBLANK(S35),\"\",VLOOKUP(S35,'plan gier'!$Z:$AP,16,FALSE))","v":0},{"$f":"IF(ISBLANK(S35),\"\",VLOOKUP(S35,'plan gier'!$Z:$AP,17,FALSE))","v":0},15,8,15,4,0,0,42,2,{"$f":"IF(AI36<AJ36,1,0)+IF(AK36<AL36,1,0)+IF(AM36<AN36,1,0)","v":2},{"$f":"AY34","v":1},null,null,{"$f":"IF(AI34>AJ34,1,0)+IF(AK34>AL34,1,0)+IF(AM34>AN34,1,0)","v":2},{"$f":"AY36","v":0},{"$f":"IF(AI39>AJ39,1,0)+IF(AK39>AL39,1,0)+IF(AM39>AN39,1,0)","v":2},{"$f":"AY37","v":0},{"$f":"AO34+AQ34+AS34+AP36+AR36+AT36+AO39+AQ39+AS39","v":102},{"$f":"AP34+AR34+AT34+AO36+AQ36+AS36+AP39+AR39+AT39","v":53},{"$f":"AW35+BA35+BC35","v":6},{"$f":"AX35+BB35+BD35","v":1},{"$f":"IF(AW35>AX35,1,0)+IF(BA35>BB35,1,0)+IF(BC35>BD35,1,0)","v":3},{"$f":"IF(AX35>AW35,1,0)+IF(BB35>BA35,1,0)+IF(BD35>BC35,1,0)","v":0},{"$f":"IF(BI35+BJ35=0,\"\",IF(BL35=MAX(BL34:BL37),1,IF(BL35=LARGE(BL34:BL37,2),2,IF(BL35=LARGE(BL34:BL37,3),3,4))))","v":1},{"$f":"IF(BI35+BJ35<>0,BI35+1+(BG35-BH35)/100+(BE35-BF35)/100000+IF(BF35=0,0,(BE35/BF35)/1000000),0)","v":4.050491924528302}]
[12,{"$f":"IF(N32=\"\",\"\",N32)","v":"x59"},{"$f":"IF(N33=\"\",\"\",N33)","v":""},{"$f":"IF(N35=\"\",\"\",N35)","v":"x68"},{"$f":"IF(N36=\"\",\"\",N36)","v":""},null,null,null,{"$f":"\"3\"&O30&N31","v":"31KLASY 4-6 CHŁOPCY"},{"$f":"IF(SUM(AE31:AE42)=0,\"\",IF(AE31=3,N32,IF(AE34=3,N35,IF(AE37=3,N38,IF(AE40=3,N41,\"\")))))","v":"x33"},{"$f":"IF(SUM(AE31:AE42)=0,\"\",IF(AE31=3,N33,IF(AE34=3,N36,IF(AE37=3,N39,IF(AE40=3,N42,\"\")))))","v":0},{"$f":"IF(VLOOKUP(N36,zawodnicy!A:E,5,FALSE)=0,\"\",N36)","v":{"$error":"#N/A"}},{"$f":"N31","v":"KLASY 4-6 CHŁOPCY"},null,null,null,{"$f":"IF(AU36>0,\"\",IF(A36=0,\"\",IF(VLOOKUP(A36,'plan gier'!A:T,20,FALSE)=\"\",\"\",VLOOKUP(A36,'plan gier'!A:T,20,FALSE))))","v":""},"1-2",12,null,{"$f":"IF(N36<>\"\",CONCATENATE(VLOOKUP(N36,zawodnicy!$A:$E,1,FALSE),\" \",VLOOKUP(N36,zawodnicy!$A:$E,2,FALSE),\" \",VLOOKUP(N36,zawodnicy!$A:$E,3,FALSE),\" - \",VLOOKUP(N36,zawodnicy!$A:$E,4,FALSE)),\"\")","v":""},null,null,{"$f":"IF(SUM(AS36:AT36)=0,\"\",AT36&\":\"&AS36)","v":"15:3"},null,{"$f":"IF(SUM(AS34:AT34)=0,\"\",AS34&\":\"&AT34)","v":""},{"$f":"IF(SUM(AS39:AT39)=0,\"\",AS39&\":\"&AT39)","v":""},null,null,null,null,null,null,"1-2",{"$f":"IF(ISBLANK(S36),\"\",VLOOKUP(S36,'plan gier'!$Z:$AP,12,FALSE))","v":15},{"$f":"IF(ISBLANK(S36),\"\",VLOOKUP(S36,'plan gier'!$Z:$AP,13,FALSE))","v":12},{"$f":"IF(ISBLANK(S36),\"\",VLOOKUP(S36,'plan gier'!$Z:$AP,14,FALSE))","v":8},{"$f":"IF(ISBLANK(S36),\"\",VLOOKUP(S36,'plan gier'!$Z:$AP,15,FALSE))","v":15},{"$f":"IF(ISBLANK(S36),\"\",VLOOKUP(S36,'plan gier'!$Z:$AP,16,FALSE))","v":3},{"$f":"IF(ISBLANK(S36),\"\",VLOOKUP(S36,'plan gier'!$Z:$AP,17,FALSE))","v":15},15,12,8,15,3,15,68,3,{"$f":"IF(AI38<AJ38,1,0)+IF(AK38<AL38,1,0)+IF(AM38<AN38,1,0)","v":0},{"$f":"BA34","v":2},{"$f":"IF(AI34<AJ34,1,0)+IF(AK34<AL34,1,0)+IF(AM34<AN34,1,0)","v":0},{"$f":"BA35","v":2},null,null,{"$f":"IF(AI37>AJ37,1,0)+IF(AK37>AL37,1,0)+IF(AM37>AN37,1,0)","v":0},{"$f":"BA37","v":2},{"$f":"AP34+AR34+AT34+AO37+AQ37+AS37+AP38+AR38+AT38","v":31},{"$f":"AO34+AQ34+AS34+AP37+AR37+AT37+AO38+AQ38+AS38","v":90},{"$f":"AW36+AY36+BC36","v":0},{"$f":"AX36+AZ36+BD36","v":6},{"$f":"IF(AW36>AX36,1,0)+IF(AY36>AZ36,1,0)+IF(BC36>BD36,1,0)","v":0},{"$f":"IF(AX36>AW36,1,0)+IF(AZ36>AY36,1,0)+IF(BD36>BC36,1,0)","v":3},{"$f":"IF(BI36+BJ36=0,\"\",IF(BL36=MAX(BL34:BL37),1,IF(BL36=LARGE(BL34:BL37,2),2,IF(BL36=LARGE(BL34:BL37,3),3,4))))","v":4},{"$f":"IF(BI36+BJ36<>0,BI36+1+(BG36-BH36)/100+(BE36-BF36)/100000+IF(BF36=0,0,(BE36/BF36)/1000000),0)","v":0.93941034444444438}]
[13,{"$f":"IF(N38=\"\",\"\",N38)","v":"x35"},{"$f":"IF(N39=\"\",\"\",N39)","v":""},{"$f":"IF(N41=\"\",\"\",N41)","v":"x33"},{"$f":"IF(N42=\"\",\"\",N42)","v":""},null,null,null,null,null,null,null,{"$f":"N31","v":"KLASY 4-6 CHŁOPCY"},null,null,null,{"$f":"IF(AU37>0,\"\",IF(A37=0,\"\",IF(VLOOKUP(A37,'plan gier'!A:T,20,FALSE)=\"\",\"\",VLOOKUP(A37,'plan gier'!A:T,20,FALSE))))","v":""},"3-4",13,3,{"$f":"IF(AND(N38<>\"\",N39<>\"\"),CONCATENATE(VLOOKUP(N38,zawodnicy!$A:$E,1,FALSE),\" \",VLOOKUP(N38,zawodnicy!$A:$E,2,FALSE),\" \",VLOOKUP(N38,zawodnicy!$A:$E,3,FALSE),\" - \",VLOOKUP(N38,zawodnicy!$A:$E,4,FALSE)),\"\")","v":""},null,null,{"$f":"IF(SUM(AO38:AP38)=0,\"\",AP38&\":\"&AO38)","v":"1:15"},{"$f":"IF(SUM(AO34:AP34)=0,\"\",AP34&\":\"&AO34)","v":"7:15"},null,{"$f":"IF(SUM(AO37:AP37)=0,\"\",AO37&\":\"&AP37)","v":"8:15"},{"$f":"IF(SUM(AW36:AZ36,BC36:BD36)=0,\"\",BE36&\":\"&BF36)","v":"31:90"},{"$f":"IF(SUM(AW36:AZ36,BC36:BD36)=0,\"\",BG36&\":\"&BH36)","v":"0:6"},{"$f":"IF(SUM(AW36:AZ36,BC36:BD36)=0,\"\",BI36&\":\"&BJ36)","v":"0:3"},{"$f":"IF(SUM(BI34:BI37)>0,BK36,\"\")","v":4},null,null,"3-4",{"$f":"IF(ISBLANK(S37),\"\",VLOOKUP(S37,'plan gier'!$Z:$AP,12,FALSE))","v":8},{"$f":"IF(ISBLANK(S37),\"\",VLOOKUP(S37,'plan gier'!$Z:$AP,13,FALSE))","v":15},{"$f":"IF(ISBLANK(S37),\"\",VLOOKUP(S37,'plan gier'!$Z:$AP,14,FALSE))","v":5},{"$f":"IF(ISBLANK(S37),\"\",VLOOKUP(S37,'plan gier'!$Z:$AP,15,FALSE))","v":15},{"$f":"IF(ISBLANK(S37),\"\",VLOOKUP(S37,'plan gier'!$Z:$AP,16,FALSE))","v":0},{"$f":"IF(ISBLANK(S37),\"\",VLOOKUP(S37,'plan gier'!$Z:$AP,17,FALSE))","v":0},8,15,5,15,0,0,43,4,{"$f":"IF(AI35<AJ35,1,0)+IF(AK35<AL35,1,0)+IF(AM35<AN35,1,0)","v":0},{"$f":"BC34","v":2},{"$f":"IF(AI39<AJ39,1,0)+IF(AK39<AL39,1,0)+IF(AM39<AN39,1,0)","v":0},{"$f":"BC35","v":2},{"$f":"IF(AI37<AJ37,1,0)+IF(AK37<AL37,1,0)+IF(AM37<AN37,1,0)","v":2},{"$f":"BC36","v":0},null,null,{"$f":"AP35+AR35+AT35+AP37+AR37+AT37+AP39+AR39+AT39","v":58},{"$f":"AO35+AQ35+AS35+AO37+AQ37+AS37+AO39+AQ39+AS39","v":73},{"$f":"AW37+AY37+BA37","v":2},{"$f":"AX37+AZ37+BB37","v":4},{"$f":"IF(AW37>AX37,1,0)+IF(AY37>AZ37,1,0)+IF(BA37>BB37,1,0)","v":1},{"$f":"IF(AX37>AW37,1,0)+IF(AZ37>AY37,1,0)+IF(BB37>BA37,1,0)","v":2},{"$f":"IF(BI37+BJ37=0,\"\",IF(BL37=MAX(BL34:BL37),1,IF(BL37=LARGE(BL34:BL37,2),2,IF(BL37=LARGE(BL34:BL37,3),3,4))))","v":3},{"$f":"IF(BI37+BJ37<>0,BI37+1+(BG37-BH37)/100+(BE37-BF37)/100000+IF(BF37=0,0,(BE37/BF37)/1000000),0)","v":1.9798507945205479}]
[22,{"$f":"IF(N32=\"\",\"\",N32)","v":"x59"},{"$f":"IF(N33=\"\",\"\",N33)","v":""},{"$f":"IF(N38=\"\",\"\",N38)","v":"x35"},{"$f":"IF(N39=\"\",\"\",N39)","v":""},null,null,null,{"$f":"\"4\"&O30&N31","v":"41KLASY 4-6 CHŁOPCY"},{"$f":"IF(SUM(AE31:AE42)=0,\"\",IF(AE31=4,N32,IF(AE34=4,N35,IF(AE37=4,N38,IF(AE40=4,N41,\"\")))))","v":"x35"},{"$f":"IF(SUM(AE31:AE42)=0,\"\",IF(AE31=4,N33,IF(AE34=4,N36,IF(AE37=4,N39,IF(AE40=4,N42,\"\")))))","v":0},{"$f":"IF(VLOOKUP(N38,zawodnicy!A:E,5,FALSE)=0,\"\",N38)","v":""},{"$f":"N31","v":"KLASY 4-6 CHŁOPCY"},"x35",{"$f":"IF(O30>0,(O30&3)*1,\"\")","v":13},null,{"$f":"IF(AU38>0,\"\",IF(A38=0,\"\",IF(VLOOKUP(A38,'plan gier'!A:T,20,FALSE)=\"\",\"\",VLOOKUP(A38,'plan gier'!A:T,20,FALSE))))","v":""},"1-3",22,null,{"$f":"IF(AND(N38<>\"\",N39=\"\"),CONCATENATE(VLOOKUP(N38,zawodnicy!$A:$E,1,FALSE),\" \",VLOOKUP(N38,zawodnicy!$A:$E,2,FALSE),\" \",VLOOKUP(N38,zawodnicy!$A:$E,3,FALSE),\" - \",VLOOKUP(N38,zawodnicy!$A:$E,4,FALSE)),\"\")","v":"X35 Kuba  Niewczas - Ząbki"},null,null,{"$f":"IF(SUM(AQ38:AR38)=0,\"\",AR38&\":\"&AQ38)","v":"6:15"},{"$f":"IF(SUM(AQ34:AR34)=0,\"\",AR34&\":\"&AQ34)","v":"4:15"},null,{"$f":"IF(SUM(AQ37:AR37)=0,\"\",AQ37&\":\"&AR37)","v":"5:15"},null,null,null,null,null,null,"1-3",{"$f":"IF(ISBLANK(S38),\"\",VLOOKUP(S38,'plan gier'!$Z:$AP,12,FALSE))","v":15},{"$f":"IF(ISBLANK(S38),\"\",VLOOKUP(S38,'plan gier'!$Z:$AP,13,FALSE))","v":1},{"$f":"IF(ISBLANK(S38),\"\",VLOOKUP(S38,'plan gier'!$Z:$AP,14,FALSE))","v":15},{"$f":"IF(ISBLANK(S38),\"\",VLOOKUP(S38,'plan gier'!$Z:$AP,15,FALSE))","v":6},{"$f":"IF(ISBLANK(S38),\"\",VLOOKUP(S38,'plan gier'!$Z:$AP,16,FALSE))","v":0},{"$f":"IF(ISBLANK(S38),\"\",VLOOKUP(S38,'plan gier'!$Z:$AP,17,FALSE))","v":0},15,1,15,6,0,0,37,null,null,null,null,null,null,null,null,null,{"$f":"SUM(BE34:BE37)","v":277},277,13,13,6,6]
[23,{"$f":"IF(N35=\"\",\"\",N35)","v":"x68"},{"$f":"IF(N36=\"\",\"\",N36)","v":""},{"$f":"IF(N41=\"\",\"\",N41)","v":"x33"},{"$f":"IF(N42=\"\",\"\",N42)","v":""},null,null,null,null,null,null,{"$f":"IF(VLOOKUP(N39,zawodnicy!A:E,5,FALSE)=0,\"\",N39)","v":{"$error":"#N/A"}},{"$f":"N31","v":"KLASY 4-6 CHŁOPCY"},null,null,null,{"$f":"IF(AU39>0,\"\",IF(A39=0,\"\",IF(VLOOKUP(A39,'plan gier'!A:T,20,FALSE)=\"\",\"\",VLOOKUP(A39,'plan gier'!A:T,20,FALSE))))","v":""},"2-4",23,null,{"$f":"IF(N39<>\"\",CONCATENATE(VLOOKUP(N39,zawodnicy!$A:$E,1,FALSE),\" \",VLOOKUP(N39,zawodnicy!$A:$E,2,FALSE),\" \",VLOOKUP(N39,zawodnicy!$A:$E,3,FALSE),\" - \",VLOOKUP(N39,zawodnicy!$A:$E,4,FALSE)),\"\")","v":""},null,null,{"$f":"IF(SUM(AS38:AT38)=0,\"\",AT38&\":\"&AS38)","v":""},{"$f":"IF(SUM(AS34:AT34)=0,\"\",AT34&\":\"&AS34)","v":""},null,{"$f":"IF(SUM(AS37:AT37)=0,\"\",AS37&\":\"&AT37)","v":""},null,null,null,null,null,null,"2-4",{"$f":"IF(ISBLANK(S39),\"\",VLOOKUP(S39,'plan gier'!$Z:$AP,12,FALSE))","v":15},{"$f":"IF(ISBLANK(S39),\"\",VLOOKUP(S39,'plan gier'!$Z:$AP,13,FALSE))","v":5},{"$f":"IF(ISBLANK(S39),\"\",VLOOKUP(S39,'plan gier'!$Z:$AP,14,FALSE))","v":15},{"$f":"IF(ISBLANK(S39),\"\",VLOOKUP(S39,'plan gier'!$Z:$AP,15,FALSE))","v":11},{"$f":"IF(ISBLANK(S39),\"\",VLOOKUP(S39,'plan gier'!$Z:$AP,16,FALSE))","v":0},{"$f":"IF(ISBLANK(S39),\"\",VLOOKUP(S39,'plan gier'!$Z:$AP,17,FALSE))","v":0},15,5,15,11,0,0,46]
[null,null,null,null,null,null,null,null,null,null,null,null,null,null,null,null,null,null,null,4,{"$f":"IF(AND(N41<>\"\",N42<>\"\"),CONCATENATE(VLOOKUP(N41,zawodnicy!$A:$E,1,FALSE),\" \",VLOOKUP(N41,zawodnicy!$A:$E,2,FALSE),\" \",VLOOKUP(N41,zawodnicy!$A:$E,3,FALSE),\" - \",VLOOKUP(N41,zawodnicy!$A:$E,4,FALSE)),\"\")","v":""},null,null,{"$f":"IF(SUM(AO35:AP35)=0,\"\",AP35&\":\"&AO35)","v":"8:15"},{"$f":"IF(SUM(AO39:AP39)=0,\"\",AP39&\":\"&AO39)","v":"5:15"},{"$f":"IF(SUM(AO37:AP37)=0,\"\",AP37&\":\"&AO37)","v":"15:8"},null,{"$f":"IF(SUM(AW37:BB37)=0,\"\",BE37&\":\"&BF37)","v":"58:73"},{"$f":"IF(SUM(AW37:BB37)=0,\"\",BG37&\":\"&BH37)","v":"2:4"},{"$f":"IF(SUM(AW37:BB37)=0,\"\",BI37&\":\"&BJ37)","v":"1:2"},{"$f":"IF(SUM(BI34:BI37)>0,BK37,\"\")","v":3}]
[null,null,null,null,null,null,null,null,null,null,null,{"$f":"IF(VLOOKUP(N41,zawodnicy!A:E,5,FALSE)=0,\"\",N41)","v":""},null,"x33",{"$f":"IF(O30>0,(O30&4)*1,\"\")","v":14},null,null,null,null,null,{"$f":"IF(AND(N41<>\"\",N42=\"\"),CONCATENATE(VLOOKUP(N41,zawodnicy!$A:$E,1,FALSE),\" \",VLOOKUP(N41,zawodnicy!$A:$E,2,FALSE),\" \",VLOOKUP(N41,zawodnicy!$A:$E,3,FALSE),\" - \",VLOOKUP(N41,zawodnicy!$A:$E,4,FALSE)),\"\")","v":"X33 Jakub  Niemirski - Ząbki"},null,null,{"$f":"IF(SUM(AQ35:AR35)=0,\"\",AR35&\":\"&AQ35)","v":"4:15"},{"$f":"IF(SUM(AQ39:AR39)=0,\"\",AR39&\":\"&AQ39)","v":"11:15"},{"$f":"IF(SUM(AQ37:AR37)=0,\"\",AR37&\":\"&AQ37)","v":"15:5"}]
[null,null,null,null,null,null,null,null,null,null,null,{"$f":"IF(VLOOKUP(N42,zawodnicy!A:E,5,FALSE)=0,\"\",N42)","v":{"$error":"#N/A"}},null,null,null,null,null,null,null,null,{"$f":"IF(N42<>\"\",CONCATENATE(VLOOKUP(N42,zawodnicy!$A:$E,1,FALSE),\" \",VLOOKUP(N42,zawodnicy!$A:$E,2,FALSE),\" \",VLOOKUP(N42,zawodnicy!$A:$E,3,FALSE),\" - \",VLOOKUP(N42,zawodnicy!$A:$E,4,FALSE)),\"\")","v":""},null,null,{"$f":"IF(SUM(AS35:AT35)=0,\"\",AT35&\":\"&AS35)","v":""},{"$f":"IF(SUM(AS39:AT39)=0,\"\",AT39&\":\"&AS39)","v":""},{"$f":"IF(SUM(AS37:AT37)=0,\"\",AT37&\":\"&AS37)","v":""}]
[]
[null,null,null,null,null,null,null,null,null,null,null,null,null,null,2,null,{"$f":"\"Grupa \"&O44&\".\"","v":"Grupa 2."},null,null,"Lp","Zawodnik",null,null,1,2,3,4,"Punkty","Sety","Mecze","Miejsce",null,null,null,"Z planu gier",null,null,null,null,null,"Do obliczeń"]
[null,null,null,null,null,null,null,null,null,null,null,null,null,"KLASY 4-6 CHŁOPCY",null,null,"Kolejność\ngier",null,"Nr\ngry",1,{"$f":"IF(AND(N46<>\"\",N47<>\"\"),CONCATENATE(VLOOKUP(N46,zawodnicy!$A:$E,1,FALSE),\" \",VLOOKUP(N46,zawodnicy!$A:$E,2,FALSE),\" \",VLOOKUP(N46,zawodnicy!$A:$E,3,FALSE),\" - \",VLOOKUP(N46,zawodnicy!$A:$E,4,FALSE)),\"\")","v":""},null,null,null,{"$f":"IF(SUM(AO50:AP50)=0,\"\",AO50&\":\"&AP50)","v":"15:12"},{"$f":"IF(SUM(AO52:AP52)=0,\"\",AO52&\":\"&AP52)","v":"15:8"},{"$f":"IF(SUM(AO49:AP49)=0,\"\",AO49&\":\"&AP49)","v":"10:15"},{"$f":"IF(SUM(AY48:BD48)=0,\"\",BE48&\":\"&BF48)","v":"80:75"},{"$f":"IF(SUM(AY48:BD48)=0,\"\",BG48&\":\"&BH48)","v":"4:2"},{"$f":"IF(SUM(AY48:BD48)=0,\"\",BI48&\":\"&BJ48)","v":"2:1"},{"$f":"IF(SUM(BI48:BI51)>0,BK48,\"\")","v":2}]
[null,null,null,null,null,null,null,null,{"$f":"\"1\"&O44&N45","v":"12KLASY 4-6 CHŁOPCY"},{"$f":"IF(SUM(AE45:AE56)=0,\"\",IF(AE45=1,N46,IF(AE48=1,N49,IF(AE51=1,N52,IF(AE54=1,N55,\"\")))))","v":"x41"},{"$f":"IF(SUM(AE45:AE56)=0,\"\",IF(AE45=1,N47,IF(AE48=1,N50,IF(AE51=1,N53,IF(AE54=1,N56,\"\")))))","v":0},{"$f":"IF(VLOOKUP(N46,zawodnicy!A:E,5,FALSE)=0,\"\",N46)","v":""},null,"x20",{"$f":"IF(O44>0,(O44&1)*1,\"\")","v":21},null,null,null,null,null,{"$f":"IF(AND(N46<>\"\",N47=\"\"),CONCATENATE(VLOOKUP(N46,zawodnicy!$A:$E,1,FALSE),\" \",VLOOKUP(N46,zawodnicy!$A:$E,2,FALSE),\" \",VLOOKUP(N46,zawodnicy!$A:$E,3,FALSE),\" - \",VLOOKUP(N46,zawodnicy!$A:$E,4,FALSE)),\"\")","v":"X20 Błażej  Krawczyk - Ząbki"},null,null,null,{"$f":"IF(SUM(AQ50:AR50)=0,\"\",AQ50&\":\"&AR50)","v":"15:11"},{"$f":"IF(SUM(AQ52:AR52)=0,\"\",AQ52&\":\"&AR52)","v":"16:14"},{"$f":"IF(SUM(AQ49:AR49)=0,\"\",AQ49&\":\"&AR49)","v":"9:15"}]
[null,null,null,null,null,null,null,null,null,null,null,{"$f":"IF(VLOOKUP(N47,zawodnicy!A:E,5,FALSE)=0,\"\",N47)","v":{"$error":"#N/A"}},null,null,null,null,null,null,null,null,{"$f":"IF(N47<>\"\",CONCATENATE(VLOOKUP(N47,zawodnicy!$A:$E,1,FALSE),\" \",VLOOKUP(N47,zawodnicy!$A:$E,2,FALSE),\" \",VLOOKUP(N47,zawodnicy!$A:$E,3,FALSE),\" - \",VLOOKUP(N47,zawodnicy!$A:$E,4,FALSE)),\"\")","v":""},null,null,null,{"$f":"IF(SUM(AS50:AT50)=0,\"\",AS50&\":\"&AT50)","v":""},{"$f":"IF(SUM(AS52:AT52)=0,\"\",AS52&\":\"&AT52)","v":""},{"$f":"IF(SUM(AS49:AT49)=0,\"\",AS49&\":\"&AT49)","v":""},null,null,null,null,null,null,null,"1 set",null,"2 set",null,"3 set",null,"1 set",null,"2 set",null,"3 set",null,null,null,1,null,2,null,3,null,4,null,"Punkty",null,"Sety",null,"Mecze",null,"Miejsce"]
[{"$f":"S48","v":4},{"$f":"IF(N49=\"\",\"\",N49)","v":"x66"},{"$f":"IF(N50=\"\",\"\",N50)","v":""},{"$f":"IF(N52=\"\",\"\",N52)","v":"x69"},{"$f":"IF(N53=\"\",\"\",N53)","v":""},null,null,null,{"$f":"\"2\"&O44&N45","v":"22KLASY 4-6 CHŁOPCY"},{"$f":"IF(SUM(AE45:AE56)=0,\"\",IF(AE45=2,N46,IF(AE48=2,N49,IF(AE51=2,N52,IF(AE54=2,N55,\"\")))))","v":"x20"},{"$f":"IF(SUM(AE45:AE56)=0,\"\",IF(AE45=2,N47,IF(AE48=2,N50,IF(AE51=2,N53,IF(AE54=2,N56,\"\")))))","v":0},null,{"$f":"N45","v":"KLASY 4-6 CHŁOPCY"},null,null,null,{"$f":"IF(AU48>0,\"\",IF(A48=0,\"\",IF(VLOOKUP(A48,'plan gier'!A:T,20,FALSE)=\"\",\"\",VLOOKUP(A48,'plan gier'!A:T,20,FALSE))))","v":""},"2-3",4,2,{"$f":"IF(AND(N49<>\"\",N50<>\"\"),CONCATENATE(VLOOKUP(N49,zawodnicy!$A:$E,1,FALSE),\" \",VLOOKUP(N49,zawodnicy!$A:$E,2,FALSE),\" \",VLOOKUP(N49,zawodnicy!$A:$E,3,FALSE),\" - \",VLOOKUP(N49,zawodnicy!$A:$E,4,FALSE)),\"\")","v":""},null,null,{"$f":"IF(SUM(AO50:AP50)=0,\"\",AP50&\":\"&AO50)","v":"12:15"},null,{"$f":"IF(SUM(AO48:AP48)=0,\"\",AO48&\":\"&AP48)","v":"5:15"},{"$f":"IF(SUM(AO53:AP53)=0,\"\",AO53&\":\"&AP53)","v":"15:10"},{"$f":"IF(SUM(AW49:AX49,BA49:BD49)=0,\"\",BE49&\":\"&BF49)","v":"93:117"},{"$f":"IF(SUM(AW49:AX49,BA49:BD49)=0,\"\",BG49&\":\"&BH49)","v":"2:6"},{"$f":"IF(SUM(AW49:AX49,BA49:BD49)=0,\"\",BI49&\":\"&BJ49)","v":"0:3"},{"$f":"IF(SUM(BI48:BI51)>0,BK49,\"\")","v":4},null,null,"2-3",{"$f":"IF(ISBLANK(S48),\"\",VLOOKUP(S48,'plan gier'!$Z:$AP,12,FALSE))","v":5},{"$f":"IF(ISBLANK(S48),\"\",VLOOKUP(S48,'plan gier'!$Z:$AP,13,FALSE))","v":15},{"$f":"IF(ISBLANK(S48),\"\",VLOOKUP(S48,'plan gier'!$Z:$AP,14,FALSE))","v":19},{"$f":"IF(ISBLANK(S48),\"\",VLOOKUP(S48,'plan gier'!$Z:$AP,15,FALSE))","v":17},{"$f":"IF(ISBLANK(S48),\"\",VLOOKUP(S48,'plan gier'!$Z:$AP,16,FALSE))","v":11},{"$f":"IF(ISBLANK(S48),\"\",VLOOKUP(S48,'plan gier'!$Z:$AP,17,FALSE))","v":15},{"$f":"IF(AI48=\"\",0,AI48)","v":5},{"$f":"IF(AJ48=\"\",0,AJ48)","v":15},{"$f":"IF(AK48=\"\",0,AK48)","v":19},{"$f":"IF(AL48=\"\",0,AL48)","v":17},{"$f":"IF(AM48=\"\",0,AM48)","v":11},{"$f":"IF(AN48=\"\",0,AN48)","v":15},{"$f":"SUM(AO48:AT48)","v":82},1,null,null,{"$f":"IF(AI50>AJ50,1,0)+IF(AK50>AL50,1,0)+IF(AM50>AN50,1,0)","v":2},{"$f":"AW49","v":0},{"$f":"IF(AI52>AJ52,1,0)+IF(AK52>AL52,1,0)+IF(AM52>AN52,1,0)","v":2},{"$f":"AW50","v":0},{"$f":"IF(AI49>AJ49,1,0)+IF(AK49>AL49,1,0)+IF(AM49>AN49,1,0)","v":0},{"$f":"AW51","v":2},{"$f":"AO49+AQ49+AS49+AO50+AQ50+AS50+AO52+AQ52+AS52","v":80},{"$f":"AP49+AR49+AT49+AP50+AR50+AT50+AP52+AR52+AT52","v":75},{"$f":"AY48+BA48+BC48","v":4},{"$f":"AZ48+BB48+BD48","v":2},{"$f":"IF(AY48>AZ48,1,0)+IF(BA48>BB48,1,0)+IF(BC48>BD48,1,0)","v":2},{"$f":"IF(AZ48>AY48,1,0)+IF(BB48>BA48,1,0)+IF(BD48>BC48,1,0)","v":1},{"$f":"IF(BI48+BJ48=0,\"\",IF(BL48=MAX(BL48:BL51),1,IF(BL48=LARGE(BL48:BL51,2),2,IF(BL48=LARGE(BL48:BL51,3),3,4))))","v":2},{"$f":"IF(BI48+BJ48<>0,BI48+1+(BG48-BH48)/100+(BE48-BF48)/100000+IF(BF48=0,0,(BE48/BF48)/1000000),0)","v":3.0200510666666665}]
[5,{"$f":"IF(N46=\"\",\"\",N46)","v":"x20"},{"$f":"IF(N47=\"\",\"\",N47)","v":""},{"$f":"IF(N55=\"\",\"\",N55)","v":"x41"},{"$f":"IF(N56=\"\",\"\",N56)","v":""},null,null,null,null,null,null,{"$f":"IF(VLOOKUP(N49,zawodnicy!A:E,5,FALSE)=0,\"\",N49)","v":""},{"$f":"N45","v":"KLASY 4-6 CHŁOPCY"},"x66",{"$f":"IF(O44>0,(O44&2)*1,\"\")","v":22},null,{"$f":"IF(AU49>0,\"\",IF(A49=0,\"\",IF(VLOOKUP(A49,'plan gier'!A:T,20,FALSE)=\"\",\"\",VLOOKUP(A49,'plan gier'!A:T,20,FALSE))))","v":""},"1-4",5,null,{"$f":"IF(AND(N49<>\"\",N50=\"\"),CONCATENATE(VLOOKUP(N49,zawodnicy!$A:$E,1,FALSE),\" \",VLOOKUP(N49,zawodnicy!$A:$E,2,FALSE),\" \",VLOOKUP(N49,zawodnicy!$A:$E,3,FALSE),\" - \",VLOOKUP(N49,zawodnicy!$A:$E,4,FALSE)),\"\")","v":"X66 Miłosz  Siepsiak - Wesoła"},null,null,{"$f":"IF(SUM(AQ50:AR50)=0,\"\",AR50&\":\"&AQ50)","v":"11:15"},null,{"$f":"IF(SUM(AQ48:AR48)=0,\"\",AQ48&\":\"&AR48)","v":"19:17"},{"$f":"IF(SUM(AQ53:AR53)=0,\"\",AQ53&\":\"&AR53)","v":"10:15"},null,null,null,null,null,null,"1-4",{"$f":"IF(ISBLANK(S49),\"\",VLOOKUP(S49,'plan gier'!$Z:$AP,12,FALSE))","v":10},{"$f":"IF(ISBLANK(S49),\"\",VLOOKUP(S49,'plan gier'!$Z:$AP,13,FALSE))","v":15},{"$f":"IF(ISBLANK(S49),\"\",VLOOKUP(S49,'plan gier'!$Z:$AP,14,FALSE))","v":9},{"$f":"IF(ISBLANK(S49),\"\",VLOOKUP(S49,'plan gier'!$Z:$AP,15,FALSE))","v":15},{"$f":"IF(ISBLANK(S49),\"\",VLOOKUP(S49,'plan gier'!$Z:$AP,16,FALSE))","v":0},{"$f":"IF(ISBLANK(S49),\"\",VLOOKUP(S49,'plan gier'!$Z:$AP,17,FALSE))","v":0},10,15,9,15,0,0,49,2,{"$f":"IF(AI50<AJ50,1,0)+IF(AK50<AL50,1,0)+IF(AM50<AN50,1,0)","v":0},{"$f":"AY48","v":2},null,null,{"$f":"IF(AI48>AJ48,1,0)+IF(AK48>AL48,1,0)+IF(AM48>AN48,1,0)","v":1},{"$f":"AY50","v":2},{"$f":"IF(AI53>AJ53,1,0)+IF(AK53>AL53,1,0)+IF(AM53>AN53,1,0)","v":1},{"$f":"AY51","v":2},{"$f":"AO48+AQ48+AS48+AP50+AR50+AT50+AO53+AQ53+AS53","v":93},{"$f":"AP48+AR48+AT48+AO50+AQ50+AS50+AP53+AR53+AT53","v":117},{"$f":"AW49+BA49+BC49","v":2},{"$f":"AX49+BB49+BD49","v":6},{"$f":"IF(AW49>AX49,1,0)+IF(BA49>BB49,1,0)+IF(BC49>BD49,1,0)","v":0},{"$f":"IF(AX49>AW49,1,0)+IF(BB49>BA49,1,0)+IF(BD49>BC49,1,0)","v":3},{"$f":"IF(BI49+BJ49=0,\"\",IF(BL49=MAX(BL48:BL51),1,IF(BL49=LARGE(BL48:BL51,2),2,IF(BL49=LARGE(BL48:BL51,3),3,4))))","v":4},{"$f":"IF(BI49+BJ49<>0,BI49+1+(BG49-BH49)/100+(BE49-BF49)/100000+IF(BF49=0,0,(BE49/BF49)/1000000),0)","v":0.95976079487179478}]
[14,{"$f":"IF(N46=\"\",\"\",N46)","v":"x20"},{"$f":"IF(N47=\"\",\"\",N47)","v":""},{"$f":"IF(N49=\"\",\"\",N49)","v":"x66"},{"$f":"IF(N50=\"\",\"\",N50)","v":""},null,null,null,{"$f":"\"3\"&O44&N45","v":"32KLASY 4-6 CHŁOPCY"},{"$f":"IF(SUM(AE45:AE56)=0,\"\",IF(AE45=3,N46,IF(AE48=3,N49,IF(AE51=3,N52,IF(AE54=3,N55,\"\")))))","v":"x69"},{"$f":"IF(SUM(AE45:AE56)=0,\"\",IF(AE45=3,N47,IF(AE48=3,N50,IF(AE51=3,N53,IF(AE54=3,N56,\"\")))))","v":0},{"$f":"IF(VLOOKUP(N50,zawodnicy!A:E,5,FALSE)=0,\"\",N50)","v":{"$error":"#N/A"}},{"$f":"N45","v":"KLASY 4-6 CHŁOPCY"},null,null,null,{"$f":"IF(AU50>0,\"\",IF(A50=0,\"\",IF(VLOOKUP(A50,'plan gier'!A:T,20,FALSE)=\"\",\"\",VLOOKUP(A50,'plan gier'!A:T,20,FALSE))))","v":""},"1-2",14,null,{"$f":"IF(N50<>\"\",CONCATENATE(VLOOKUP(N50,zawodnicy!$A:$E,1,FALSE),\" \",VLOOKUP(N50,zawodnicy!$A:$E,2,FALSE),\" \",VLOOKUP(N50,zawodnicy!$A:$E,3,FALSE),\" - \",VLOOKUP(N50,zawodnicy!$A:$E,4,FALSE)),\"\")","v":""},null,null,{"$f":"IF(SUM(AS50:AT50)=0,\"\",AT50&\":\"&AS50)","v":""},null,{"$f":"IF(SUM(AS48:AT48)=0,\"\",AS48&\":\"&AT48)","v":"11:15"},{"$f":"IF(SUM(AS53:AT53)=0,\"\",AS53&\":\"&AT53)","v":"10:15"},null,null,null,null,null,null,"1-2",{"$f":"IF(ISBLANK(S50),\"\",VLOOKUP(S50,'plan gier'!$Z:$AP,12,FALSE))","v":15},{"$f":"IF(ISBLANK(S50),\"\",VLOOKUP(S50,'plan gier'!$Z:$AP,13,FALSE))","v":12},{"$f":"IF(ISBLANK(S50),\"\",VLOOKUP(S50,'plan gier'!$Z:$AP,14,FALSE))","v":15},{"$f":"IF(ISBLANK(S50),\"\",VLOOKUP(S50,'plan gier'!$Z:$AP,15,FALSE))","v":11},{"$f":"IF(ISBLANK(S50),\"\",VLOOKUP(S50,'plan gier'!$Z:$AP,16,FALSE))","v":0},{"$f":"IF(ISBLANK(S50),\"\",VLOOKUP(S50,'plan gier'!$Z:$AP,17,FALSE))","v":0},15,12,15,11,0,0,53,3,{"$f":"IF(AI52<AJ52,1,0)+IF(AK52<AL52,1,0)+IF(AM52<AN52,1,0)","v":0},{"$f":"BA48","v":2},{"$f":"IF(AI48<AJ48,1,0)+IF(AK48<AL48,1,0)+IF(AM48<AN48,1,0)","v":2},{"$f":"BA49","v":1},null,null,{"$f":"IF(AI51>AJ51,1,0)+IF(AK51>AL51,1,0)+IF(AM51>AN51,1,0)","v":0},{"$f":"BA51","v":2},{"$f":"AP48+AR48+AT48+AO51+AQ51+AS51+AP52+AR52+AT52","v":92},{"$f":"AO48+AQ48+AS48+AP51+AR51+AT51+AO52+AQ52+AS52","v":96},{"$f":"AW50+AY50+BC50","v":2},{"$f":"AX50+AZ50+BD50","v":5},{"$f":"IF(AW50>AX50,1,0)+IF(AY50>AZ50,1,0)+IF(BC50>BD50,1,0)","v":1},{"$f":"IF(AX50>AW50,1,0)+IF(AZ50>AY50,1,0)+IF(BD50>BC50,1,0)","v":2},{"$f":"IF(BI50+BJ50=0,\"\",IF(BL50=MAX(BL48:BL51),1,IF(BL50=LARGE(BL48:BL51,2),2,IF(BL50=LARGE(BL48:BL51,3),3,4))))","v":3},{"$f":"IF(BI50+BJ50<>0,BI50+1+(BG50-BH50)/100+(BE50-BF50)/100000+IF(BF50=0,0,(BE50/BF50)/1000000),0)","v":1.9699609583333333}]
[15,{"$f":"IF(N52=\"\",\"\",N52)","v":"x69"},{"$f":"IF(N53=\"\",\"\",N53)","v":""},{"$f":"IF(N55=\"\",\"\",N55)","v":"x41"},{"$f":"IF(N56=\"\",\"\",N56)","v":""},null,null,null,null,null,null,null,{"$f":"N45","v":"KLASY 4-6 CHŁOPCY"},null,null,null,{"$f":"IF(AU51>0,\"\",IF(A51=0,\"\",IF(VLOOKUP(A51,'plan gier'!A:T,20,FALSE)=\"\",\"\",VLOOKUP(A51,'plan gier'!A:T,20,FALSE))))","v":""},"3-4",15,3,{"$f":"IF(AND(N52<>\"\",N53<>\"\"),CONCATENATE(VLOOKUP(N52,zawodnicy!$A:$E,1,FALSE),\" \",VLOOKUP(N52,zawodnicy!$A:$E,2,FALSE),\" \",VLOOKUP(N52,zawodnicy!$A:$E,3,FALSE),\" - \",VLOOKUP(N52,zawodnicy!$A:$E,4,FALSE)),\"\")","v":""},null,null,{"$f":"IF(SUM(AO52:AP52)=0,\"\",AP52&\":\"&AO52)","v":"8:15"},{"$f":"IF(SUM(AO48:AP48)=0,\"\",AP48&\":\"&AO48)","v":"15:5"},null,{"$f":"IF(SUM(AO51:AP51)=0,\"\",AO51&\":\"&AP51)","v":"13:15"},{"$f":"IF(SUM(AW50:AZ50,BC50:BD50)=0,\"\",BE50&\":\"&BF50)","v":"92:96"},{"$f":"IF(SUM(AW50:AZ50,BC50:BD50)=0,\"\",BG50&\":\"&BH50)","v":"2:5"},{"$f":"IF(SUM(AW50:AZ50,BC50:BD50)=0,\"\",BI50&\":\"&BJ50)","v":"1:2"},{"$f":"IF(SUM(BI48:BI51)>0,BK50,\"\")","v":3},null,null,"3-4",{"$f":"IF(ISBLANK(S51),\"\",VLOOKUP(S51,'plan gier'!$Z:$AP,12,FALSE))","v":13},{"$f":"IF(ISBLANK(S51),\"\",VLOOKUP(S51,'plan gier'!$Z:$AP,13,FALSE))","v":15},{"$f":"IF(ISBLANK(S51),\"\",VLOOKUP(S51,'plan gier'!$Z:$AP,14,FALSE))","v":10},{"$f":"IF(ISBLANK(S51),\"\",VLOOKUP(S51,'plan gier'!$Z:$AP,15,FALSE))","v":15},{"$f":"IF(ISBLANK(S51),\"\",VLOOKUP(S51,'plan gier'!$Z:$AP,16,FALSE))","v":0},{"$f":"IF(ISBLANK(S51),\"\",VLOOKUP(S51,'plan gier'!$Z:$AP,17,FALSE))","v":0},13,15,10,15,0,0,53,4,{"$f":"IF(AI49<AJ49,1,0)+IF(AK49<AL49,1,0)+IF(AM49<AN49,1,0)","v":2},{"$f":"BC48","v":0},{"$f":"IF(AI53<AJ53,1,0)+IF(AK53<AL53,1,0)+IF(AM53<AN53,1,0)","v":2},{"$f":"BC49","v":1},{"$f":"IF(AI51<AJ51,1,0)+IF(AK51<AL51,1,0)+IF(AM51<AN51,1,0)","v":2},{"$f":"BC50","v":0},null,null,{"$f":"AP49+AR49+AT49+AP51+AR51+AT51+AP53+AR53+AT53","v":100},{"$f":"AO49+AQ49+AS49+AO51+AQ51+AS51+AO53+AQ53+AS53","v":77},{"$f":"AW51+AY51+BA51","v":6},{"$f":"AX51+AZ51+BB51","v":1},{"$f":"IF(AW51>AX51,1,0)+IF(AY51>AZ51,1,0)+IF(BA51>BB51,1,0)","v":3},{"$f":"IF(AX51>AW51,1,0)+IF(AZ51>AY51,1,0)+IF(BB51>BA51,1,0)","v":0},{"$f":"IF(BI51+BJ51=0,\"\",IF(BL51=MAX(BL48:BL51),1,IF(BL51=LARGE(BL48:BL51,2),2,IF(BL51=LARGE(BL48:BL51,3),3,4))))","v":1},{"$f":"IF(BI51+BJ51<>0,BI51+1+(BG51-BH51)/100+(BE51-BF51)/100000+IF(BF51=0,0,(BE51/BF51)/1000000),0)","v":4.0502312987012985}]
[24,{"$f":"IF(N46=\"\",\"\",N46)","v":"x20"},{"$f":"IF(N47=\"\",\"\",N47)","v":""},{"$f":"IF(N52=\"\",\"\",N52)","v":"x69"},{"$f":"IF(N53=\"\",\"\",N53)","v":""},null,null,null,{"$f":"\"4\"&O44&N45","v":"42KLASY 4-6 CHŁOPCY"},{"$f":"IF(SUM(AE45:AE56)=0,\"\",IF(AE45=4,N46,IF(AE48=4,N49,IF(AE51=4,N52,IF(AE54=4,N55,\"\")))))","v":"x66"},{"$f":"IF(SUM(AE45:AE56)=0,\"\",IF(AE45=4,N47,IF(AE48=4,N50,IF(AE51=4,N53,IF(AE54=4,N56,\"\")))))","v":0},{"$f":"IF(VLOOKUP(N52,zawodnicy!A:E,5,FALSE)=0,\"\",N52)","v":""},{"$f":"N45","v":"KLASY 4-6 CHŁOPCY"},"x69",{"$f":"IF(O44>0,(O44&3)*1,\"\")","v":23},null,{"$f":"IF(AU52>0,\"\",IF(A52=0,\"\",IF(VLOOKUP(A52,'plan gier'!A:T,20,FALSE)=\"\",\"\",VLOOKUP(A52,'plan gier'!A:T,20,FALSE))))","v":""},"1-3",24,null,{"$f":"IF(AND(N52<>\"\",N53=\"\"),CONCATENATE(VLOOKUP(N52,zawodnicy!$A:$E,1,FALSE),\" \",VLOOKUP(N52,zawodnicy!$A:$E,2,FALSE),\" \",VLOOKUP(N52,zawodnicy!$A:$E,3,FALSE),\" - \",VLOOKUP(N52,zawodnicy!$A:$E,4,FALSE)),\"\")","v":"X69 Ela  Przybysz - Garwolin"},null,null,{"$f":"IF(SUM(AQ52:AR52)=0,\"\",AR52&\":\"&AQ52)","v":"14:16"},{"$f":"IF(SUM(AQ48:AR48)=0,\"\",AR48&\":\"&AQ48)","v":"17:19"},null,{"$f":"IF(SUM(AQ51:AR51)=0,\"\",AQ51&\":\"&AR51)","v":"10:15"},null,null,null,null,null,null,"1-3",{"$f":"IF(ISBLANK(S52),\"\",VLOOKUP(S52,'plan gier'!$Z:$AP,12,FALSE))","v":15},{"$f":"IF(ISBLANK(S52),\"\",VLOOKUP(S52,'plan gier'!$Z:$AP,13,FALSE))","v":8},{"$f":"IF(ISBLANK(S52),\"\",VLOOKUP(S52,'plan gier'!$Z:$AP,14,FALSE))","v":16},{"$f":"IF(ISBLANK(S52),\"\",VLOOKUP(S52,'plan gier'!$Z:$AP,15,FALSE))","v":14},{"$f":"IF(ISBLANK(S52),\"\",VLOOKUP(S52,'plan gier'!$Z:$AP,16,FALSE))","v":0},{"$f":"IF(ISBLANK(S52),\"\",VLOOKUP(S52,'plan gier'!$Z:$AP,17,FALSE))","v":0},15,8,16,14,0,0,53,null,null,null,null,null,null,null,null,null,{"$f":"SUM(BE48:BE51)","v":365},365,14,14,6,6]
[25,{"$f":"IF(N49=\"\",\"\",N49)","v":"x66"},{"$f":"IF(N50=\"\",\"\",N50)","v":""},{"$f":"IF(N55=\"\",\"\",N55)","v":"x41"},{"$f":"IF(N56=\"\",\"\",N56)","v":""},null,null,null,null,null,null,{"$f":"IF(VLOOKUP(N53,zawodnicy!A:E,5,FALSE)=0,\"\",N53)","v":{"$error":"#N/A"}},{"$f":"N45","v":"KLASY 4-6 CHŁOPCY"},null,null,null,{"$f":"IF(AU53>0,\"\",IF(A53=0,\"\",IF(VLOOKUP(A53,'plan gier'!A:T,20,FALSE)=\"\",\"\",VLOOKUP(A53,'plan gier'!A:T,20,FALSE))))","v":""},"2-4",25,null,{"$f":"IF(N53<>\"\",CONCATENATE(VLOOKUP(N53,zawodnicy!$A:$E,1,FALSE),\" \",VLOOKUP(N53,zawodnicy!$A:$E,2,FALSE),\" \",VLOOKUP(N53,zawodnicy!$A:$E,3,FALSE),\" - \",VLOOKUP(N53,zawodnicy!$A:$E,4,FALSE)),\"\")","v":""},null,null,{"$f":"IF(SUM(AS52:AT52)=0,\"\",AT52&\":\"&AS52)","v":""},{"$f":"IF(SUM(AS48:AT48)=0,\"\",AT48&\":\"&AS48)","v":"15:11"},null,{"$f":"IF(SUM(AS51:AT51)=0,\"\",AS51&\":\"&AT51)","v":""},null,null,null,null,null,null,"2-4",{"$f":"IF(ISBLANK(S53),\"\",VLOOKUP(S53,'plan gier'!$Z:$AP,12,FALSE))","v":15},{"$f":"IF(ISBLANK(S53),\"\",VLOOKUP(S53,'plan gier'!$Z:$AP,13,FALSE))","v":10},{"$f":"IF(ISBLANK(S53),\"\",VLOOKUP(S53,'plan gier'!$Z:$AP,14,FALSE))","v":10},{"$f":"IF(ISBLANK(S53),\"\",VLOOKUP(S53,'plan gier'!$Z:$AP,15,FALSE))","v":15},{"$f":"IF(ISBLANK(S53),\"\",VLOOKUP(S53,'plan gier'!$Z:$AP,16,FALSE))","v":10},{"$f":"IF(ISBLANK(S53),\"\",VLOOKUP(S53,'plan gier'!$Z:$AP,17,FALSE))","v":15},15,10,10,15,10,15,75]
[null,null,null,null,null,null,null,null,null,null,null,null,null,null,null,null,null,null,null,4,{"$f":"IF(AND(N55<>\"\",N56<>\"\"),CONCATENATE(VLOOKUP(N55,zawodnicy!$A:$E,1,FALSE),\" \",VLOOKUP(N55,zawodnicy!$A:$E,2,FALSE),\" \",VLOOKUP(N55,zawodnicy!$A:$E,3,FALSE),\" - \",VLOOKUP(N55,zawodnicy!$A:$E,4,FALSE)),\"\")","v":""},null,null,{"$f":"IF(SUM(AO49:AP49)=0,\"\",AP49&\":\"&AO49)","v":"15:10"},{"$f":"IF(SUM(AO53:AP53)=0,\"\",AP53&\":\"&AO53)","v":"10:15"},{"$f":"IF(SUM(AO51:AP51)=0,\"\",AP51&\":\"&AO51)","v":"15:13"},null,{"$f":"IF(SUM(AW51:BB51)=0,\"\",BE51&\":\"&BF51)","v":"100:77"},{"$f":"IF(SUM(AW51:BB51)=0,\"\",BG51&\":\"&BH51)","v":"6:1"},{"$f":"IF(SUM(AW51:BB51)=0,\"\",BI51&\":\"&BJ51)","v":"3:0"},{"$f":"IF(SUM(BI48:BI51)>0,BK51,\"\")","v":1}]
[null,null,null,null,null,null,null,null,null,null,null,{"$f":"IF(VLOOKUP(N55,zawodnicy!A:E,5,FALSE)=0,\"\",N55)","v":""},null,"x41",{"$f":"IF(O44>0,(O44&4)*1,\"\")","v":24},null,null,null,null,null,{"$f":"IF(AND(N55<>\"\",N56=\"\"),CONCATENATE(VLOOKUP(N55,zawodnicy!$A:$E,1,FALSE),\" \",VLOOKUP(N55,zawodnicy!$A:$E,2,FALSE),\" \",VLOOKUP(N55,zawodnicy!$A:$E,3,FALSE),\" - \",VLOOKUP(N55,zawodnicy!$A:$E,4,FALSE)),\"\")","v":"X41 Ignacy Repiński - Marki"},null,null,{"$f":"IF(SUM(AQ49:AR49)=0,\"\",AR49&\":\"&AQ49)","v":"15:9"},{"$f":"IF(SUM(AQ53:AR53)=0,\"\",AR53&\":\"&AQ53)","v":"15:10"},{"$f":"IF(SUM(AQ51:AR51)=0,\"\",AR51&\":\"&AQ51)","v":"15:10"}]
[null,null,null,null,null,null,null,null,null,null,null,{"$f":"IF(VLOOKUP(N56,zawodnicy!A:E,5,FALSE)=0,\"\",N56)","v":{"$error":"#N/A"}},null,null,null,null,null,null,null,null,{"$f":"IF(N56<>\"\",CONCATENATE(VLOOKUP(N56,zawodnicy!$A:$E,1,FALSE),\" \",VLOOKUP(N56,zawodnicy!$A:$E,2,FALSE),\" \",VLOOKUP(N56,zawodnicy!$A:$E,3,FALSE),\" - \",VLOOKUP(N56,zawodnicy!$A:$E,4,FALSE)),\"\")","v":""},null,null,{"$f":"IF(SUM(AS49:AT49)=0,\"\",AT49&\":\"&AS49)","v":""},{"$f":"IF(SUM(AS53:AT53)=0,\"\",AT53&\":\"&AS53)","v":"15:10"},{"$f":"IF(SUM(AS51:AT51)=0,\"\",AT51&\":\"&AS51)","v":""}]
[]
[]
[null,null,null,null,null,null,null,null,null,null,null,null,null,null,null,null,null,null,null,"3-4.",null,null,null,"2.",null,null,"1."]
[null,null,null,null,null,null,null,null,null,null,null,null,null,"KLASY 4-6 CHŁOPCY"]
[{"$f":"W61","v":34},{"$f":"IF(TYPE(T61)=16,\"\",T61)","v":"X68"},null,{"$f":"IF(TYPE(T62)=16,\"\",T62)","v":"X20"},null,{"$f":"IF(A61=0,IF(AND(LEN(B61)>0,LEN(D61)=0),VLOOKUP(B61,zawodnicy!$A:$E,1,FALSE),IF(AND(LEN(D61)>0,LEN(B61)=0),VLOOKUP(D61,zawodnicy!$A:$E,1,FALSE),\"\")),IF((VLOOKUP(A61,'plan gier'!$Z:$AH,7,FALSE))=\"\",\"\",VLOOKUP(VLOOKUP(A61,'plan gier'!$Z:$AH,7,FALSE),zawodnicy!$A:$E,1,FALSE)))","v":"X68"},null,{"$f":"IF(A61=0,\"\",IF((VLOOKUP(A61,'plan gier'!$Z:$AH,7,FALSE))=\"\",\"\",VLOOKUP(A61,'plan gier'!$Z:$AH,9,FALSE)))","v":"16:14,15:8"},null,null,null,{"$f":"IF(A61=0,\"\",IF(VLOOKUP(A61,'plan gier'!A:T,20,FALSE)=\"\",\"\",VLOOKUP(A61,'plan gier'!A:T,20,FALSE)))","v":{"$error":"#N/A"}},{"$f":"N60","v":"KLASY 4-6 CHŁOPCY"},null,null,null,"1. z gr. 1",null,null,{"$f":"UPPER(IF((N60=\"\"),\"\",IF(TYPE(VLOOKUP(1&1&N60,I:J,2,FALSE))=2,VLOOKUP(1&1&N60,I:J,2,FALSE),\"\")))","v":"X68"},null,{"$f":"IF(T61<>\"\",CONCATENATE(VLOOKUP(T61,zawodnicy!$A:$E,2,FALSE),\" \",VLOOKUP(T61,zawodnicy!$A:$E,3,FALSE),\" - \",VLOOKUP(T61,zawodnicy!$A:$E,4,FALSE)),\"\")","v":"Kacper Winek - Garwolin"},34,{"$f":"IF(ISBLANK(W61),IF(AND(LEN(T61)>0,LEN(T62)=0),VLOOKUP(T61,zawodnicy!$A:$E,3,FALSE),IF(AND(LEN(T62)>0,LEN(T61)=0),VLOOKUP(T62,zawodnicy!$A:$E,3,FALSE),\"\")),IF((VLOOKUP(W61,'plan gier'!$Z:$AH,7,FALSE))=\"\",\"\",VLOOKUP(VLOOKUP(W61,'plan gier'!$Z:$AH,7,FALSE),zawodnicy!$A:$E,3,FALSE)))","v":"Winek"}]
[null,null,null,null,null,null,null,null,null,null,null,null,null,null,null,null,"2. z gr. 2",null,null,{"$f":"UPPER(IF(N60=\"\",\"\",IF(TYPE(VLOOKUP(2&2&N60,I:J,2,FALSE))=2,VLOOKUP(2&2&N60,I:J,2,FALSE),\"\")))","v":"X20"},null,{"$f":"IF(T62<>\"\",CONCATENATE(VLOOKUP(T62,zawodnicy!$A:$E,2,FALSE),\" \",VLOOKUP(T62,zawodnicy!$A:$E,3,FALSE),\" - \",VLOOKUP(T62,zawodnicy!$A:$E,4,FALSE)),\"\")","v":"Błażej  Krawczyk - Ząbki"},null,{"$f":"IF(ISBLANK(W61),\"\",IF((VLOOKUP(W61,'plan gier'!$Z:$AH,7,FALSE))=\"\",L61,VLOOKUP(W61,'plan gier'!$Z:$AH,9,FALSE)))","v":"16:14,15:8"}]
[{"$f":"Z63","v":43},{"$f":"F61","v":"X68"},null,{"$f":"F65","v":"X59"},null,{"$f":"IF(A63=0,IF(AND(LEN(B63)>0,LEN(D63)=0),B63,IF(AND(LEN(D63)>0,LEN(B63)=0),D63,\"\")),IF((VLOOKUP(A63,'plan gier'!$Z:$AH,7,FALSE))=\"\",\"\",VLOOKUP(VLOOKUP(A63,'plan gier'!$Z:$AH,7,FALSE),zawodnicy!$A:$E,1,FALSE)))","v":"X68"},null,{"$f":"IF(A63=0,\"\",IF((VLOOKUP(A63,'plan gier'!$Z:$AH,7,FALSE))=\"\",\"\",VLOOKUP(A63,'plan gier'!$Z:$AH,9,FALSE)))","v":"15:11,15:7"},null,null,null,{"$f":"IF(A63=0,\"\",IF(VLOOKUP(A63,'plan gier'!A:T,20,FALSE)=\"\",\"\",VLOOKUP(A63,'plan gier'!A:T,20,FALSE)))","v":{"$error":"#N/A"}},{"$f":"N60","v":"KLASY 4-6 CHŁOPCY"},null,null,null,null,null,null,null,null,null,null,null,null,43,{"$f":"IF(ISBLANK(Z63),IF(AND(LEN(X61)>0,LEN(X65)=0),X61,IF(AND(LEN(X65)>0,LEN(X61)=0),X65,\"\")),IF((VLOOKUP(Z63,'plan gier'!$Z:$AH,7,FALSE))=\"\",\"\",VLOOKUP(VLOOKUP(Z63,'plan gier'!$Z:$AH,7,FALSE),zawodnicy!$A:$E,3,FALSE)))","v":"Winek"}]
[null,null,null,null,null,null,null,null,null,null,null,null,null,null,null,null,null,null,null,null,null,null,null,null,null,null,{"$f":"IF(ISBLANK(Z63),\"\",IF((VLOOKUP(Z63,'plan gier'!$Z:$AH,7,FALSE))=\"\",L63,VLOOKUP(Z63,'plan gier'!$Z:$AH,9,FALSE)))","v":"15:11,15:7"}]
[{"$f":"W65","v":35},{"$f":"IF(TYPE(T65)=16,\"\",T65)","v":"X59"},null,{"$f":"IF(TYPE(T66)=16,\"\",T66)","v":"X41"},null,{"$f":"IF(A65=0,IF(AND(LEN(B65)>0,LEN(D65)=0),VLOOKUP(B65,zawodnicy!$A:$E,1,FALSE),IF(AND(LEN(D65)>0,LEN(B65)=0),VLOOKUP(D65,zawodnicy!$A:$E,1,FALSE),\"\")),IF((VLOOKUP(A65,'plan gier'!$Z:$AH,7,FALSE))=\"\",\"\",VLOOKUP(VLOOKUP(A65,'plan gier'!$Z:$AH,7,FALSE),zawodnicy!$A:$E,1,FALSE)))","v":"X59"},null,{"$f":"IF(A65=0,\"\",IF((VLOOKUP(A65,'plan gier'!$Z:$AH,7,FALSE))=\"\",\"\",VLOOKUP(A65,'plan gier'!$Z:$AH,9,FALSE)))","v":"15:12,12:15,15:6"},null,null,null,{"$f":"IF(A65=0,\"\",IF(VLOOKUP(A65,'plan gier'!A:T,20,FALSE)=\"\",\"\",VLOOKUP(A65,'plan gier'!A:T,20,FALSE)))","v":{"$error":"#N/A"}},{"$f":"N60","v":"KLASY 4-6 CHŁOPCY"},null,null,null,"2. z gr. 1",null,null,{"$f":"UPPER(IF(N60=\"\",\"\",IF(TYPE(VLOOKUP(2&1&N60,I:J,2,FALSE))=2,VLOOKUP(2&1&N60,I:J,2,FALSE),\"\")))","v":"X59"},null,{"$f":"IF(T65<>\"\",CONCATENATE(VLOOKUP(T65,zawodnicy!$A:$E,2,FALSE),\" \",VLOOKUP(T65,zawodnicy!$A:$E,3,FALSE),\" - \",VLOOKUP(T65,zawodnicy!$A:$E,4,FALSE)),\"\")","v":"Jakub  Walocha - Ząbki"},35,{"$f":"IF(ISBLANK(W65),IF(AND(LEN(T65)>0,LEN(T66)=0),VLOOKUP(T65,zawodnicy!$A:$E,3,FALSE),IF(AND(LEN(T66)>0,LEN(T65)=0),VLOOKUP(T66,zawodnicy!$A:$E,3,FALSE),\"\")),IF((VLOOKUP(W65,'plan gier'!$Z:$AH,7,FALSE))=\"\",\"\",VLOOKUP(VLOOKUP(W65,'plan gier'!$Z:$AH,7,FALSE),zawodnicy!$A:$E,3,FALSE)))","v":"Walocha"}]
[null,null,null,null,null,null,null,null,null,null,null,null,null,null,null,null,"1. z gr. 2",null,null,{"$f":"UPPER(IF(N60=\"\",\"\",IF(TYPE(VLOOKUP(1&2&N60,I:J,2,FALSE))=2,VLOOKUP(1&2&N60,I:J,2,FALSE),\"\")))","v":"X41"},null,{"$f":"IF(T66<>\"\",CONCATENATE(VLOOKUP(T66,zawodnicy!$A:$E,2,FALSE),\" \",VLOOKUP(T66,zawodnicy!$A:$E,3,FALSE),\" - \",VLOOKUP(T66,zawodnicy!$A:$E,4,FALSE)),\"\")","v":"Ignacy Repiński - Marki"},null,{"$f":"IF(ISBLANK(W65),\"\",IF((VLOOKUP(W65,'plan gier'!$Z:$AH,7,FALSE))=\"\",L65,VLOOKUP(W65,'plan gier'!$Z:$AH,9,FALSE)))","v":"15:12,12:15,15:6"}]
[]
[null,null,null,null,null,null,null,null,null,null,null,null,null,3]
[null,null,null,null,null,null,null,null,null,null,null,null,null,"KLASY 4-6 CHŁOPCY"]
[{"$f":"W70","v":36},{"$f":"IF(T70=\"\",\"\",T70)","v":"X33"},null,{"$f":"IF(T71=\"\",\"\",T71)","v":"X69"},null,{"$f":"IF(A70=0,IF(AND(LEN(B70)>0,LEN(D70)=0),VLOOKUP(B70,zawodnicy!$A:$E,1,FALSE),IF(AND(LEN(D70)>0,LEN(B70)=0),VLOOKUP(D70,zawodnicy!$A:$E,1,FALSE),\"\")),IF((VLOOKUP(A70,'plan gier'!$Z:$AH,7,FALSE))=\"\",\"\",VLOOKUP(VLOOKUP(A70,'plan gier'!$Z:$AH,7,FALSE),zawodnicy!$A:$E,1,FALSE)))","v":"X33"},null,{"$f":"IF(A70=0,\"\",IF((VLOOKUP(A70,'plan gier'!$Z:$AH,7,FALSE))=\"\",\"\",VLOOKUP(A70,'plan gier'!$Z:$AH,9,FALSE)))","v":"15:7,11:15,15:12"},null,null,null,{"$f":"IF(A70=0,\"\",IF(VLOOKUP(A70,'plan gier'!A:T,20,FALSE)=\"\",\"\",VLOOKUP(A70,'plan gier'!A:T,20,FALSE)))","v":{"$error":"#N/A"}},{"$f":"N69","v":"KLASY 4-6 CHŁOPCY"},null,1,null,{"$f":"O70","v":1},null,null,{"$f":"UPPER(IF(O70=\"\",\"\",IF(ISTEXT(N70),N70,IF(AND(N68>0,O70>0),VLOOKUP(N68&O70&N69,I:J,2,FALSE),\"\"))))","v":"X33"},null,{"$f":"IF(T70<>\"\",CONCATENATE(VLOOKUP(T70,zawodnicy!$A:$E,2,FALSE),\" \",VLOOKUP(T70,zawodnicy!$A:$E,3,FALSE),\" - \",VLOOKUP(T70,zawodnicy!$A:$E,4,FALSE)),\"\")","v":"Jakub  Niemirski - Ząbki"},36,{"$f":"IF(F70=\"\",\"\",VLOOKUP(F70,zawodnicy!$A:$D,3,FALSE))","v":"Niemirski"}]
[null,null,null,null,null,null,null,null,null,null,null,null,null,null,2,null,{"$f":"O71","v":2},null,null,{"$f":"UPPER(IF(O71=\"\",\"\",IF(ISTEXT(N71),N71,IF(AND(N68>0,O71>0),VLOOKUP(N68&O71&N69,I:J,2,FALSE),\"\"))))","v":"X69"},null,{"$f":"IF(T71<>\"\",CONCATENATE(VLOOKUP(T71,zawodnicy!$A:$E,2,FALSE),\" \",VLOOKUP(T71,zawodnicy!$A:$E,3,FALSE),\" - \",VLOOKUP(T71,zawodnicy!$A:$E,4,FALSE)),\"\")","v":"Ela  Przybysz - Garwolin"},null,{"$f":"IF(H70=\"\",L70,H70)","v":"15:7,11:15,15:12"}]
[]
[null,null,null,null,null,null,null,null,null,null,null,null,null,4]
[null,null,null,null,null,null,null,null,null,null,null,null,null,"KLASY 4-6 CHŁOPCY"]
[{"$f":"W75","v":37},{"$f":"IF(T75=\"\",\"\",T75)","v":"X35"},null,{"$f":"IF(T76=\"\",\"\",T76)","v":"X66"},null,{"$f":"IF(A75=0,IF(AND(LEN(B75)>0,LEN(D75)=0),VLOOKUP(B75,zawodnicy!$A:$E,1,FALSE),IF(AND(LEN(D75)>0,LEN(B75)=0),VLOOKUP(D75,zawodnicy!$A:$E,1,FALSE),\"\")),IF((VLOOKUP(A75,'plan gier'!$Z:$AH,7,FALSE))=\"\",\"\",VLOOKUP(VLOOKUP(A75,'plan gier'!$Z:$AH,7,FALSE),zawodnicy!$A:$E,1,FALSE)))","v":"X35"},null,{"$f":"IF(A75=0,\"\",IF((VLOOKUP(A75,'plan gier'!$Z:$AH,7,FALSE))=\"\",\"\",VLOOKUP(A75,'plan gier'!$Z:$AH,9,FALSE)))","v":"10:15,15:13,15:12"},null,null,null,{"$f":"IF(A75=0,\"\",IF(VLOOKUP(A75,'plan gier'!A:T,20,FALSE)=\"\",\"\",VLOOKUP(A75,'plan gier'!A:T,20,FALSE)))","v":{"$error":"#N/A"}},{"$f":"N74","v":"KLASY 4-6 CHŁOPCY"},null,1,null,{"$f":"O75","v":1},null,null,{"$f":"UPPER(IF(O75=\"\",\"\",IF(ISTEXT(N75),N75,IF(AND(N73>0,O75>0),VLOOKUP(N73&O75&N74,I:J,2,FALSE),\"\"))))","v":"X35"},null,{"$f":"IF(T75<>\"\",CONCATENATE(VLOOKUP(T75,zawodnicy!$A:$E,2,FALSE),\" \",VLOOKUP(T75,zawodnicy!$A:$E,3,FALSE),\" - \",VLOOKUP(T75,zawodnicy!$A:$E,4,FALSE)),\"\")","v":"Kuba  Niewczas - Ząbki"},37,{"$f":"IF(F75=\"\",\"\",VLOOKUP(F75,zawodnicy!$A:$D,3,FALSE))","v":"Niewczas"}]
[null,null,null,null,null,null,null,null,null,null,null,null,null,null,2,null,{"$f":"O76","v":2},null,null,{"$f":"UPPER(IF(O76=\"\",\"\",IF(ISTEXT(N76),N76,IF(AND(N73>0,O76>0),VLOOKUP(N73&O76&N74,I:J,2,FALSE),\"\"))))","v":"X66"},null,{"$f":"IF(T76<>\"\",CONCATENATE(VLOOKUP(T76,zawodnicy!$A:$E,2,FALSE),\" \",VLOOKUP(T76,zawodnicy!$A:$E,3,FALSE),\" - \",VLOOKUP(T76,zawodnicy!$A:$E,4,FALSE)),\"\")","v":"Miłosz  Siepsiak - Wesoła"},null,{"$f":"IF(H75=\"\",L75,H75)","v":"10:15,15:13,15:12"}]
[]
[]
[null,null,null,null,null,null,null,null,null,null,null,null,null,{"$f":"M81","v":"KLASY 4-6 CHŁOPCY"},null,null,null,null,null,"4.",null,null,null,"3."]
[null,null,null,null,null,null,null,null,null,null,null,null,null,"o 3 miejsce"]
[{"$f":"W81","v":42},{"$f":"IF(T81=\"\",\"\",T81)","v":"X20"},null,{"$f":"IF(T82=\"\",\"\",T82)","v":"X41"},null,{"$f":"IF(A81=0,IF(AND(LEN(B81)>0,LEN(D81)=0),VLOOKUP(B81,zawodnicy!$A:$E,1,FALSE),IF(AND(LEN(D81)>0,LEN(B81)=0),VLOOKUP(D81,zawodnicy!$A:$E,1,FALSE),\"\")),IF((VLOOKUP(A81,'plan gier'!$Z:$AH,7,FALSE))=\"\",\"\",VLOOKUP(VLOOKUP(A81,'plan gier'!$Z:$AH,7,FALSE),zawodnicy!$A:$E,1,FALSE)))","v":"X41"},null,{"$f":"IF(A81=0,\"\",IF((VLOOKUP(A81,'plan gier'!$Z:$AH,7,FALSE))=\"\",\"\",VLOOKUP(A81,'plan gier'!$Z:$AH,9,FALSE)))","v":"15:13,15:12"},null,null,null,{"$f":"IF(A81=0,\"\",IF(VLOOKUP(A81,'plan gier'!A:T,20,FALSE)=\"\",\"\",VLOOKUP(A81,'plan gier'!A:T,20,FALSE)))","v":{"$error":"#N/A"}},{"$f":"IF(N81=\"\",\"\",VLOOKUP(N81,A:M,13,FALSE))","v":"KLASY 4-6 CHŁOPCY"},34,null,null,null,null,null,{"$f":"IF(N81=\"\",\"\",IF(LEN(VLOOKUP(N81,A:M,6,FALSE))=0,\"\",IF(VLOOKUP(N81,A:M,6,FALSE)=VLOOKUP(N81,A:M,2,FALSE),VLOOKUP(N81,A:M,4,FALSE),VLOOKUP(N81,A:M,2,FALSE))))","v":"X20"},null,{"$f":"IF(T81<>\"\",CONCATENATE(VLOOKUP(T81,zawodnicy!$A:$E,2,FALSE),\" \",VLOOKUP(T81,zawodnicy!$A:$E,3,FALSE),\" - \",VLOOKUP(T81,zawodnicy!$A:$E,4,FALSE)),\"\")","v":"Błażej  Krawczyk - Ząbki"},42,{"$f":"IF(F81=\"\",\"\",VLOOKUP(F81,zawodnicy!$A:$D,3,FALSE))","v":"Repiński"}]
[null,null,null,null,null,null,null,null,null,null,null,null,null,35,null,null,null,null,null,{"$f":"IF(N82=\"\",\"\",IF(LEN(VLOOKUP(N82,A:M,6,FALSE))=0,\"\",IF(VLOOKUP(N82,A:M,6,FALSE)=VLOOKUP(N82,A:M,2,FALSE),VLOOKUP(N82,A:M,4,FALSE),VLOOKUP(N82,A:M,2,FALSE))))","v":"X41"},null,{"$f":"IF(T82<>\"\",CONCATENATE(VLOOKUP(T82,zawodnicy!$A:$E,2,FALSE),\" \",VLOOKUP(T82,zawodnicy!$A:$E,3,FALSE),\" - \",VLOOKUP(T82,zawodnicy!$A:$E,4,FALSE)),\"\")","v":"Ignacy Repiński - Marki"},null,{"$f":"IF(H81=\"\",L81,H81)","v":"15:13,15:12"}]
[]
[]
[]
[]
[]
[null,null,null,null,null,null,null,null,null,null,null,null,null,null,null,null,null,null,null,null,null,null,null,null,null,null,null,null,"Sędzia główny"]
[null,null,null,null,null,null,null,null,null,null,null,null,null,null,null,null,null,null,null,null,null,null,null,null,null,null,null,null,{"$f":"IF(ISBLANK(dane!$D$4),\"\",dane!$D$4)","v":"Marek Krawczyk"}]
[]
[]
[null,null,null,null,null,null,null,null,null,null,null,null,null,"GIMNAZJUM DZIEWCZĘTA",null,null,{"$f":"\"Gra \"&N92","v":"Gra GIMNAZJUM DZIEWCZĘTA"}]
[]
[]
[null,null,null,null,null,null,null,null,null,null,null,null,null,null,1,null,{"$f":"\"Grupa \"&O95&\".\"","v":"Grupa 1."},null,null,"Lp","Zawodnik",null,null,1,2,3,4,"Punkty","Sety","Mecze","Miejsce",null,null,null,"Z planu gier",null,null,null,null,null,"Do obliczeń"]
[null,null,null,null,null,null,null,null,null,null,null,null,null,"GIMNAZJUM DZIEWCZĘTA",null,null,"Kolejność\ngier",null,"Nr\ngry",1,{"$f":"IF(AND(N97<>\"\",N98<>\"\"),CONCATENATE(VLOOKUP(N97,zawodnicy!$A:$E,1,FALSE),\" \",VLOOKUP(N97,zawodnicy!$A:$E,2,FALSE),\" \",VLOOKUP(N97,zawodnicy!$A:$E,3,FALSE),\" - \",VLOOKUP(N97,zawodnicy!$A:$E,4,FALSE)),\"\")","v":""},null,null,null,{"$f":"IF(SUM(AO101:AP101)=0,\"\",AO101&\":\"&AP101)","v":"15:10"},{"$f":"IF(SUM(AO103:AP103)=0,\"\",AO103&\":\"&AP103)","v":"15:6"},{"$f":"IF(SUM(AO100:AP100)=0,\"\",AO100&\":\"&AP100)","v":"15:5"},{"$f":"IF(SUM(AY99:BD99)=0,\"\",BE99&\":\"&BF99)","v":"103:45"},{"$f":"IF(SUM(AY99:BD99)=0,\"\",BG99&\":\"&BH99)","v":"6:1"},{"$f":"IF(SUM(AY99:BD99)=0,\"\",BI99&\":\"&BJ99)","v":"3:0"},{"$f":"IF(SUM(BI99:BI102)>0,BK99,\"\")","v":1}]
[null,null,null,null,null,null,null,null,{"$f":"\"1\"&O95&N96","v":"11GIMNAZJUM DZIEWCZĘTA"},{"$f":"IF(SUM(AE96:AE107)=0,\"\",IF(AE96=1,N97,IF(AE99=1,N100,IF(AE102=1,N103,IF(AE105=1,N106,\"\")))))","v":"x38"},{"$f":"IF(SUM(AE96:AE107)=0,\"\",IF(AE96=1,N98,IF(AE99=1,N101,IF(AE102=1,N104,IF(AE105=1,N107,\"\")))))","v":0},{"$f":"IF(VLOOKUP(N97,zawodnicy!A:E,5,FALSE)=0,\"\",N97)","v":""},null,"x38",{"$f":"IF(O95>0,(O95&1)*1,\"\")","v":11},null,null,null,null,null,{"$f":"IF(AND(N97<>\"\",N98=\"\"),CONCATENATE(VLOOKUP(N97,zawodnicy!$A:$E,1,FALSE),\" \",VLOOKUP(N97,zawodnicy!$A:$E,2,FALSE),\" \",VLOOKUP(N97,zawodnicy!$A:$E,3,FALSE),\" - \",VLOOKUP(N97,zawodnicy!$A:$E,4,FALSE)),\"\")","v":"X38 Iza Pomykała - Marki"},null,null,null,{"$f":"IF(SUM(AQ101:AR101)=0,\"\",AQ101&\":\"&AR101)","v":"13:15"},{"$f":"IF(SUM(AQ103:AR103)=0,\"\",AQ103&\":\"&AR103)","v":"15:4"},{"$f":"IF(SUM(AQ100:AR100)=0,\"\",AQ100&\":\"&AR100)","v":"15:2"}]
[null,null,null,null,null,null,null,null,null,null,null,{"$f":"IF(VLOOKUP(N98,zawodnicy!A:E,5,FALSE)=0,\"\",N98)","v":{"$error":"#N/A"}},null,null,null,null,null,null,null,null,{"$f":"IF(N98<>\"\",CONCATENATE(VLOOKUP(N98,zawodnicy!$A:$E,1,FALSE),\" \",VLOOKUP(N98,zawodnicy!$A:$E,2,FALSE),\" \",VLOOKUP(N98,zawodnicy!$A:$E,3,FALSE),\" - \",VLOOKUP(N98,zawodnicy!$A:$E,4,FALSE)),\"\")","v":""},null,null,null,{"$f":"IF(SUM(AS101:AT101)=0,\"\",AS101&\":\"&AT101)","v":"15:3"},{"$f":"IF(SUM(AS103:AT103)=0,\"\",AS103&\":\"&AT103)","v":""},{"$f":"IF(SUM(AS100:AT100)=0,\"\",AS100&\":\"&AT100)","v":""},null,null,null,null,null,null,null,"1 set",null,"2 set",null,"3 set",null,"1 set",null,"2 set",null,"3 set",null,null,null,1,null,2,null,3,null,4,null,"Punkty",null,"Sety",null,"Mecze",null,"Miejsce"]
[{"$f":"S99","v":6},{"$f":"IF(N100=\"\",\"\",N100)","v":"x24"},{"$f":"IF(N101=\"\",\"\",N101)","v":""},{"$f":"IF(N103=\"\",\"\",N103)","v":"x21"},{"$f":"IF(N104=\"\",\"\",N104)","v":""},null,null,null,{"$f":"\"2\"&O95&N96","v":"21GIMNAZJUM DZIEWCZĘTA"},{"$f":"IF(SUM(AE96:AE107)=0,\"\",IF(AE96=2,N97,IF(AE99=2,N100,IF(AE102=2,N103,IF(AE105=2,N106,\"\")))))","v":"x24"},{"$f":"IF(SUM(AE96:AE107)=0,\"\",IF(AE96=2,N98,IF(AE99=2,N101,IF(AE102=2,N104,IF(AE105=2,N107,\"\")))))","v":0},null,{"$f":"N96","v":"GIMNAZJUM DZIEWCZĘTA"},null,null,null,{"$f":"IF(AU99>0,\"\",IF(A99=0,\"\",IF(VLOOKUP(A99,'plan gier'!A:T,20,FALSE)=\"\",\"\",VLOOKUP(A99,'plan gier'!A:T,20,FALSE))))","v":""},"2-3",6,2,{"$f":"IF(AND(N100<>\"\",N101<>\"\"),CONCATENATE(VLOOKUP(N100,zawodnicy!$A:$E,1,FALSE),\" \",VLOOKUP(N100,zawodnicy!$A:$E,2,FALSE),\" \",VLOOKUP(N100,zawodnicy!$A:$E,3,FALSE),\" - \",VLOOKUP(N100,zawodnicy!$A:$E,4,FALSE)),\"\")","v":""},null,null,{"$f":"IF(SUM(AO101:AP101)=0,\"\",AP101&\":\"&AO101)","v":"10:15"},null,{"$f":"IF(SUM(AO99:AP99)=0,\"\",AO99&\":\"&AP99)","v":"15:7"},{"$f":"IF(SUM(AO104:AP104)=0,\"\",AO104&\":\"&AP104)","v":"15:9"},{"$f":"IF(SUM(AW100:AX100,BA100:BD100)=0,\"\",BE100&\":\"&BF100)","v":"88:70"},{"$f":"IF(SUM(AW100:AX100,BA100:BD100)=0,\"\",BG100&\":\"&BH100)","v":"5:2"},{"$f":"IF(SUM(AW100:AX100,BA100:BD100)=0,\"\",BI100&\":\"&BJ100)","v":"2:1"},{"$f":"IF(SUM(BI99:BI102)>0,BK100,\"\")","v":2},null,null,"2-3",{"$f":"IF(ISBLANK(S99),\"\",VLOOKUP(S99,'plan gier'!$Z:$AP,12,FALSE))","v":15},{"$f":"IF(ISBLANK(S99),\"\",VLOOKUP(S99,'plan gier'!$Z:$AP,13,FALSE))","v":7},{"$f":"IF(ISBLANK(S99),\"\",VLOOKUP(S99,'plan gier'!$Z:$AP,14,FALSE))","v":15},{"$f":"IF(ISBLANK(S99),\"\",VLOOKUP(S99,'plan gier'!$Z:$AP,15,FALSE))","v":8},{"$f":"IF(ISBLANK(S99),\"\",VLOOKUP(S99,'plan gier'!$Z:$AP,16,FALSE))","v":0},{"$f":"IF(ISBLANK(S99),\"\",VLOOKUP(S99,'plan gier'!$Z:$AP,17,FALSE))","v":0},{"$f":"IF(AI99=\"\",0,AI99)","v":15},{"$f":"IF(AJ99=\"\",0,AJ99)","v":7},{"$f":"IF(AK99=\"\",0,AK99)","v":15},{"$f":"IF(AL99=\"\",0,AL99)","v":8},{"$f":"IF(AM99=\"\",0,AM99)","v":0},{"$f":"IF(AN99=\"\",0,AN99)","v":0},{"$f":"SUM(AO99:AT99)","v":45},1,null,null,{"$f":"IF(AI101>AJ101,1,0)+IF(AK101>AL101,1,0)+IF(AM101>AN101,1,0)","v":2},{"$f":"AW100","v":1},{"$f":"IF(AI103>AJ103,1,0)+IF(AK103>AL103,1,0)+IF(AM103>AN103,1,0)","v":2},{"$f":"AW101","v":0},{"$f":"IF(AI100>AJ100,1,0)+IF(AK100>AL100,1,0)+IF(AM100>AN100,1,0)","v":2},{"$f":"AW102","v":0},{"$f":"AO100+AQ100+AS100+AO101+AQ101+AS101+AO103+AQ103+AS103","v":103},{"$f":"AP100+AR100+AT100+AP101+AR101+AT101+AP103+AR103+AT103","v":45},{"$f":"AY99+BA99+BC99","v":6},{"$f":"AZ99+BB99+BD99","v":1},{"$f":"IF(AY99>AZ99,1,0)+IF(BA99>BB99,1,0)+IF(BC99>BD99,1,0)","v":3},{"$f":"IF(AZ99>AY99,1,0)+IF(BB99>BA99,1,0)+IF(BD99>BC99,1,0)","v":0},{"$f":"IF(BI99+BJ99=0,\"\",IF(BL99=MAX(BL99:BL102),1,IF(BL99=LARGE(BL99:BL102,2),2,IF(BL99=LARGE(BL99:BL102,3),3,4))))","v":1},{"$f":"IF(BI99+BJ99<>0,BI99+1+(BG99-BH99)/100+(BE99-BF99)/100000+IF(BF99=0,0,(BE99/BF99)/1000000),0)","v":4.0505822888888892}]
[31,{"$f":"IF(N97=\"\",\"\",N97)","v":"x38"},{"$f":"IF(N98=\"\",\"\",N98)","v":""},{"$f":"IF(N106=\"\",\"\",N106)","v":"x48"},{"$f":"IF(N107=\"\",\"\",N107)","v":""},null,null,null,null,null,null,{"$f":"IF(VLOOKUP(N100,zawodnicy!A:E,5,FALSE)=0,\"\",N100)","v":""},{"$f":"N96","v":"GIMNAZJUM DZIEWCZĘTA"},"x24",{"$f":"IF(O95>0,(O95&2)*1,\"\")","v":12},null,{"$f":"IF(AU100>0,\"\",IF(A100=0,\"\",IF(VLOOKUP(A100,'plan gier'!A:T,20,FALSE)=\"\",\"\",VLOOKUP(A100,'plan gier'!A:T,20,FALSE))))","v":""},"1-4",31,null,{"$f":"IF(AND(N100<>\"\",N101=\"\"),CONCATENATE(VLOOKUP(N100,zawodnicy!$A:$E,1,FALSE),\" \",VLOOKUP(N100,zawodnicy!$A:$E,2,FALSE),\" \",VLOOKUP(N100,zawodnicy!$A:$E,3,FALSE),\" - \",VLOOKUP(N100,zawodnicy!$A:$E,4,FALSE)),\"\")","v":"X24 Karolina Łukomska - Zielonka"},null,null,{"$f":"IF(SUM(AQ101:AR101)=0,\"\",AR101&\":\"&AQ101)","v":"15:13"},null,{"$f":"IF(SUM(AQ99:AR99)=0,\"\",AQ99&\":\"&AR99)","v":"15:8"},{"$f":"IF(SUM(AQ104:AR104)=0,\"\",AQ104&\":\"&AR104)","v":"15:3"},null,null,null,null,null,null,"1-4",{"$f":"IF(ISBLANK(S100),\"\",VLOOKUP(S100,'plan gier'!$Z:$AP,12,FALSE))","v":15},{"$f":"IF(ISBLANK(S100),\"\",VLOOKUP(S100,'plan gier'!$Z:$AP,13,FALSE))","v":5},{"$f":"IF(ISBLANK(S100),\"\",VLOOKUP(S100,'plan gier'!$Z:$AP,14,FALSE))","v":15},{"$f":"IF(ISBLANK(S100),\"\",VLOOKUP(S100,'plan gier'!$Z:$AP,15,FALSE))","v":2},{"$f":"IF(ISBLANK(S100),\"\",VLOOKUP(S100,'plan gier'!$Z:$AP,16,FALSE))","v":0},{"$f":"IF(ISBLANK(S100),\"\",VLOOKUP(S100,'plan gier'!$Z:$AP,17,FALSE))","v":0},15,5,15,2,0,0,37,2,{"$f":"IF(AI101<AJ101,1,0)+IF(AK101<AL101,1,0)+IF(AM101<AN101,1,0)","v":1},{"$f":"AY99","v":2},null,null,{"$f":"IF(AI99>AJ99,1,0)+IF(AK99>AL99,1,0)+IF(AM99>AN99,1,0)","v":2},{"$f":"AY101","v":0},{"$f":"IF(AI104>AJ104,1,0)+IF(AK104>AL104,1,0)+IF(AM104>AN104,1,0)","v":2},{"$f":"AY102","v":0},{"$f":"AO99+AQ99+AS99+AP101+AR101+AT101+AO104+AQ104+AS104","v":88},{"$f":"AP99+AR99+AT99+AO101+AQ101+AS101+AP104+AR104+AT104","v":70},{"$f":"AW100+BA100+BC100","v":5},{"$f":"AX100+BB100+BD100","v":2},{"$f":"IF(AW100>AX100,1,0)+IF(BA100>BB100,1,0)+IF(BC100>BD100,1,0)","v":2},{"$f":"IF(AX100>AW100,1,0)+IF(BB100>BA100,1,0)+IF(BD100>BC100,1,0)","v":1},{"$f":"IF(BI100+BJ100=0,\"\",IF(BL100=MAX(BL99:BL102),1,IF(BL100=LARGE(BL99:BL102,2),2,IF(BL100=LARGE(BL99:BL102,3),3,4))))","v":2},{"$f":"IF(BI100+BJ100<>0,BI100+1+(BG100-BH100)/100+(BE100-BF100)/100000+IF(BF100=0,0,(BE100/BF100)/1000000),0)","v":3.0301812571428566}]
[16,{"$f":"IF(N97=\"\",\"\",N97)","v":"x38"},{"$f":"IF(N98=\"\",\"\",N98)","v":""},{"$f":"IF(N100=\"\",\"\",N100)","v":"x24"},{"$f":"IF(N101=\"\",\"\",N101)","v":""},null,null,null,{"$f":"\"3\"&O95&N96","v":"31GIMNAZJUM DZIEWCZĘTA"},{"$f":"IF(SUM(AE96:AE107)=0,\"\",IF(AE96=3,N97,IF(AE99=3,N100,IF(AE102=3,N103,IF(AE105=3,N106,\"\")))))","v":"x21"},{"$f":"IF(SUM(AE96:AE107)=0,\"\",IF(AE96=3,N98,IF(AE99=3,N101,IF(AE102=3,N104,IF(AE105=3,N107,\"\")))))","v":0},{"$f":"IF(VLOOKUP(N101,zawodnicy!A:E,5,FALSE)=0,\"\",N101)","v":{"$error":"#N/A"}},{"$f":"N96","v":"GIMNAZJUM DZIEWCZĘTA"},null,null,null,{"$f":"IF(AU101>0,\"\",IF(A101=0,\"\",IF(VLOOKUP(A101,'plan gier'!A:T,20,FALSE)=\"\",\"\",VLOOKUP(A101,'plan gier'!A:T,20,FALSE))))","v":""},"1-2",16,null,{"$f":"IF(N101<>\"\",CONCATENATE(VLOOKUP(N101,zawodnicy!$A:$E,1,FALSE),\" \",VLOOKUP(N101,zawodnicy!$A:$E,2,FALSE),\" \",VLOOKUP(N101,zawodnicy!$A:$E,3,FALSE),\" - \",VLOOKUP(N101,zawodnicy!$A:$E,4,FALSE)),\"\")","v":""},null,null,{"$f":"IF(SUM(AS101:AT101)=0,\"\",AT101&\":\"&AS101)","v":"3:15"},null,{"$f":"IF(SUM(AS99:AT99)=0,\"\",AS99&\":\"&AT99)","v":""},{"$f":"IF(SUM(AS104:AT104)=0,\"\",AS104&\":\"&AT104)","v":""},null,null,null,null,null,null,"1-2",{"$f":"IF(ISBLANK(S101),\"\",VLOOKUP(S101,'plan gier'!$Z:$AP,12,FALSE))","v":15},{"$f":"IF(ISBLANK(S101),\"\",VLOOKUP(S101,'plan gier'!$Z:$AP,13,FALSE))","v":10},{"$f":"IF(ISBLANK(S101),\"\",VLOOKUP(S101,'plan gier'!$Z:$AP,14,FALSE))","v":13},{"$f":"IF(ISBLANK(S101),\"\",VLOOKUP(S101,'plan gier'!$Z:$AP,15,FALSE))","v":15},{"$f":"IF(ISBLANK(S101),\"\",VLOOKUP(S101,'plan gier'!$Z:$AP,16,FALSE))","v":15},{"$f":"IF(ISBLANK(S101),\"\",VLOOKUP(S101,'plan gier'!$Z:$AP,17,FALSE))","v":3},15,10,13,15,15,3,71,3,{"$f":"IF(AI103<AJ103,1,0)+IF(AK103<AL103,1,0)+IF(AM103<AN103,1,0)","v":0},{"$f":"BA99","v":2},{"$f":"IF(AI99<AJ99,1,0)+IF(AK99<AL99,1,0)+IF(AM99<AN99,1,0)","v":0},{"$f":"BA100","v":2},null,null,{"$f":"IF(AI102>AJ102,1,0)+IF(AK102>AL102,1,0)+IF(AM102>AN102,1,0)","v":2},{"$f":"BA102","v":0},{"$f":"AP99+AR99+AT99+AO102+AQ102+AS102+AP103+AR103+AT103","v":55},{"$f":"AO99+AQ99+AS99+AP102+AR102+AT102+AO103+AQ103+AS103","v":68},{"$f":"AW101+AY101+BC101","v":2},{"$f":"AX101+AZ101+BD101","v":4},{"$f":"IF(AW101>AX101,1,0)+IF(AY101>AZ101,1,0)+IF(BC101>BD101,1,0)","v":1},{"$f":"IF(AX101>AW101,1,0)+IF(AZ101>AY101,1,0)+IF(BD101>BC101,1,0)","v":2},{"$f":"IF(BI101+BJ101=0,\"\",IF(BL101=MAX(BL99:BL102),1,IF(BL101=LARGE(BL99:BL102,2),2,IF(BL101=LARGE(BL99:BL102,3),3,4))))","v":3},{"$f":"IF(BI101+BJ101<>0,BI101+1+(BG101-BH101)/100+(BE101-BF101)/100000+IF(BF101=0,0,(BE101/BF101)/1000000),0)","v":1.9798708088235295}]
[32,{"$f":"IF(N103=\"\",\"\",N103)","v":"x21"},{"$f":"IF(N104=\"\",\"\",N104)","v":""},{"$f":"IF(N106=\"\",\"\",N106)","v":"x48"},{"$f":"IF(N107=\"\",\"\",N107)","v":""},null,null,null,null,null,null,null,{"$f":"N96","v":"GIMNAZJUM DZIEWCZĘTA"},null,null,null,{"$f":"IF(AU102>0,\"\",IF(A102=0,\"\",IF(VLOOKUP(A102,'plan gier'!A:T,20,FALSE)=\"\",\"\",VLOOKUP(A102,'plan gier'!A:T,20,FALSE))))","v":""},"3-4",32,3,{"$f":"IF(AND(N103<>\"\",N104<>\"\"),CONCATENATE(VLOOKUP(N103,zawodnicy!$A:$E,1,FALSE),\" \",VLOOKUP(N103,zawodnicy!$A:$E,2,FALSE),\" \",VLOOKUP(N103,zawodnicy!$A:$E,3,FALSE),\" - \",VLOOKUP(N103,zawodnicy!$A:$E,4,FALSE)),\"\")","v":""},null,null,{"$f":"IF(SUM(AO103:AP103)=0,\"\",AP103&\":\"&AO103)","v":"6:15"},{"$f":"IF(SUM(AO99:AP99)=0,\"\",AP99&\":\"&AO99)","v":"7:15"},null,{"$f":"IF(SUM(AO102:AP102)=0,\"\",AO102&\":\"&AP102)","v":"15:5"},{"$f":"IF(SUM(AW101:AZ101,BC101:BD101)=0,\"\",BE101&\":\"&BF101)","v":"55:68"},{"$f":"IF(SUM(AW101:AZ101,BC101:BD101)=0,\"\",BG101&\":\"&BH101)","v":"2:4"},{"$f":"IF(SUM(AW101:AZ101,BC101:BD101)=0,\"\",BI101&\":\"&BJ101)","v":"1:2"},{"$f":"IF(SUM(BI99:BI102)>0,BK101,\"\")","v":3},null,null,"3-4",{"$f":"IF(ISBLANK(S102),\"\",VLOOKUP(S102,'plan gier'!$Z:$AP,12,FALSE))","v":15},{"$f":"IF(ISBLANK(S102),\"\",VLOOKUP(S102,'plan gier'!$Z:$AP,13,FALSE))","v":5},{"$f":"IF(ISBLANK(S102),\"\",VLOOKUP(S102,'plan gier'!$Z:$AP,14,FALSE))","v":15},{"$f":"IF(ISBLANK(S102),\"\",VLOOKUP(S102,'plan gier'!$Z:$AP,15,FALSE))","v":3},{"$f":"IF(ISBLANK(S102),\"\",VLOOKUP(S102,'plan gier'!$Z:$AP,16,FALSE))","v":0},{"$f":"IF(ISBLANK(S102),\"\",VLOOKUP(S102,'plan gier'!$Z:$AP,17,FALSE))","v":0},15,5,15,3,0,0,38,4,{"$f":"IF(AI100<AJ100,1,0)+IF(AK100<AL100,1,0)+IF(AM100<AN100,1,0)","v":0},{"$f":"BC99","v":2},{"$f":"IF(AI104<AJ104,1,0)+IF(AK104<AL104,1,0)+IF(AM104<AN104,1,0)","v":0},{"$f":"BC100","v":2},{"$f":"IF(AI102<AJ102,1,0)+IF(AK102<AL102,1,0)+IF(AM102<AN102,1,0)","v":0},{"$f":"BC101","v":2},null,null,{"$f":"AP100+AR100+AT100+AP102+AR102+AT102+AP104+AR104+AT104","v":27},{"$f":"AO100+AQ100+AS100+AO102+AQ102+AS102+AO104+AQ104+AS104","v":90},{"$f":"AW102+AY102+BA102","v":0},{"$f":"AX102+AZ102+BB102","v":6},{"$f":"IF(AW102>AX102,1,0)+IF(AY102>AZ102,1,0)+IF(BA102>BB102,1,0)","v":0},{"$f":"IF(AX102>AW102,1,0)+IF(AZ102>AY102,1,0)+IF(BB102>BA102,1,0)","v":3},{"$f":"IF(BI102+BJ102=0,\"\",IF(BL102=MAX(BL99:BL102),1,IF(BL102=LARGE(BL99:BL102,2),2,IF(BL102=LARGE(BL99:BL102,3),3,4))))","v":4},{"$f":"IF(BI102+BJ102<>0,BI102+1+(BG102-BH102)/100+(BE102-BF102)/100000+IF(BF102=0,0,(BE102/BF102)/1000000),0)","v":0.93937029999999988}]
[26,{"$f":"IF(N97=\"\",\"\",N97)","v":"x38"},{"$f":"IF(N98=\"\",\"\",N98)","v":""},{"$f":"IF(N103=\"\",\"\",N103)","v":"x21"},{"$f":"IF(N104=\"\",\"\",N104)","v":""},null,null,null,{"$f":"\"4\"&O95&N96","v":"41GIMNAZJUM DZIEWCZĘTA"},{"$f":"IF(SUM(AE96:AE107)=0,\"\",IF(AE96=4,N97,IF(AE99=4,N100,IF(AE102=4,N103,IF(AE105=4,N106,\"\")))))","v":"x48"},{"$f":"IF(SUM(AE96:AE107)=0,\"\",IF(AE96=4,N98,IF(AE99=4,N101,IF(AE102=4,N104,IF(AE105=4,N107,\"\")))))","v":0},{"$f":"IF(VLOOKUP(N103,zawodnicy!A:E,5,FALSE)=0,\"\",N103)","v":""},{"$f":"N96","v":"GIMNAZJUM DZIEWCZĘTA"},"x21",{"$f":"IF(O95>0,(O95&3)*1,\"\")","v":13},null,{"$f":"IF(AU103>0,\"\",IF(A103=0,\"\",IF(VLOOKUP(A103,'plan gier'!A:T,20,FALSE)=\"\",\"\",VLOOKUP(A103,'plan gier'!A:T,20,FALSE))))","v":""},"1-3",26,null,{"$f":"IF(AND(N103<>\"\",N104=\"\"),CONCATENATE(VLOOKUP(N103,zawodnicy!$A:$E,1,FALSE),\" \",VLOOKUP(N103,zawodnicy!$A:$E,2,FALSE),\" \",VLOOKUP(N103,zawodnicy!$A:$E,3,FALSE),\" - \",VLOOKUP(N103,zawodnicy!$A:$E,4,FALSE)),\"\")","v":"X21 Magdalena  Krupa - Wesoła"},null,null,{"$f":"IF(SUM(AQ103:AR103)=0,\"\",AR103&\":\"&AQ103)","v":"4:15"},{"$f":"IF(SUM(AQ99:AR99)=0,\"\",AR99&\":\"&AQ99)","v":"8:15"},null,{"$f":"IF(SUM(AQ102:AR102)=0,\"\",AQ102&\":\"&AR102)","v":"15:3"},null,null,null,null,null,null,"1-3",{"$f":"IF(ISBLANK(S103),\"\",VLOOKUP(S103,'plan gier'!$Z:$AP,12,FALSE))","v":15},{"$f":"IF(ISBLANK(S103),\"\",VLOOKUP(S103,'plan gier'!$Z:$AP,13,FALSE))","v":6},{"$f":"IF(ISBLANK(S103),\"\",VLOOKUP(S103,'plan gier'!$Z:$AP,14,FALSE))","v":15},{"$f":"IF(ISBLANK(S103),\"\",VLOOKUP(S103,'plan gier'!$Z:$AP,15,FALSE))","v":4},{"$f":"IF(ISBLANK(S103),\"\",VLOOKUP(S103,'plan gier'!$Z:$AP,16,FALSE))","v":0},{"$f":"IF(ISBLANK(S103),\"\",VLOOKUP(S103,'plan gier'!$Z:$AP,17,FALSE))","v":0},15,6,15,4,0,0,40,null,null,null,null,null,null,null,null,null,{"$f":"SUM(BE99:BE102)","v":273},273,13,13,6,6]
[33,{"$f":"IF(N100=\"\",\"\",N100)","v":"x24"},{"$f":"IF(N101=\"\",\"\",N101)","v":""},{"$f":"IF(N106=\"\",\"\",N106)","v":"x48"},{"$f":"IF(N107=\"\",\"\",N107)","v":""},null,null,null,null,null,null,{"$f":"IF(VLOOKUP(N104,zawodnicy!A:E,5,FALSE)=0,\"\",N104)","v":{"$error":"#N/A"}},{"$f":"N96","v":"GIMNAZJUM DZIEWCZĘTA"},null,null,null,{"$f":"IF(AU104>0,\"\",IF(A104=0,\"\",IF(VLOOKUP(A104,'plan gier'!A:T,20,FALSE)=\"\",\"\",VLOOKUP(A104,'plan gier'!A:T,20,FALSE))))","v":""},"2-4",33,null,{"$f":"IF(N104<>\"\",CONCATENATE(VLOOKUP(N104,zawodnicy!$A:$E,1,FALSE),\" \",VLOOKUP(N104,zawodnicy!$A:$E,2,FALSE),\" \",VLOOKUP(N104,zawodnicy!$A:$E,3,FALSE),\" - \",VLOOKUP(N104,zawodnicy!$A:$E,4,FALSE)),\"\")","v":""},null,null,{"$f":"IF(SUM(AS103:AT103)=0,\"\",AT103&\":\"&AS103)","v":""},{"$f":"IF(SUM(AS99:AT99)=0,\"\",AT99&\":\"&AS99)","v":""},null,{"$f":"IF(SUM(AS102:AT102)=0,\"\",AS102&\":\"&AT102)","v":""},null,null,null,null,null,null,"2-4",{"$f":"IF(ISBLANK(S104),\"\",VLOOKUP(S104,'plan gier'!$Z:$AP,12,FALSE))","v":15},{"$f":"IF(ISBLANK(S104),\"\",VLOOKUP(S104,'plan gier'!$Z:$AP,13,FALSE))","v":9},{"$f":"IF(ISBLANK(S104),\"\",VLOOKUP(S104,'plan gier'!$Z:$AP,14,FALSE))","v":15},{"$f":"IF(ISBLANK(S104),\"\",VLOOKUP(S104,'plan gier'!$Z:$AP,15,FALSE))","v":3},{"$f":"IF(ISBLANK(S104),\"\",VLOOKUP(S104,'plan gier'!$Z:$AP,16,FALSE))","v":0},{"$f":"IF(ISBLANK(S104),\"\",VLOOKUP(S104,'plan gier'!$Z:$AP,17,FALSE))","v":0},15,9,15,3,0,0,42]
[null,null,null,null,null,null,null,null,null,null,null,null,null,null,null,null,null,null,null,4,{"$f":"IF(AND(N106<>\"\",N107<>\"\"),CONCATENATE(VLOOKUP(N106,zawodnicy!$A:$E,1,FALSE),\" \",VLOOKUP(N106,zawodnicy!$A:$E,2,FALSE),\" \",VLOOKUP(N106,zawodnicy!$A:$E,3,FALSE),\" - \",VLOOKUP(N106,zawodnicy!$A:$E,4,FALSE)),\"\")","v":""},null,null,{"$f":"IF(SUM(AO100:AP100)=0,\"\",AP100&\":\"&AO100)","v":"5:15"},{"$f":"IF(SUM(AO104:AP104)=0,\"\",AP104&\":\"&AO104)","v":"9:15"},{"$f":"IF(SUM(AO102:AP102)=0,\"\",AP102&\":\"&AO102)","v":"5:15"},null,{"$f":"IF(SUM(AW102:BB102)=0,\"\",BE102&\":\"&BF102)","v":"27:90"},{"$f":"IF(SUM(AW102:BB102)=0,\"\",BG102&\":\"&BH102)","v":"0:6"},{"$f":"IF(SUM(AW102:BB102)=0,\"\",BI102&\":\"&BJ102)","v":"0:3"},{"$f":"IF(SUM(BI99:BI102)>0,BK102,\"\")","v":4}]
[null,null,null,null,null,null,null,null,null,null,null,{"$f":"IF(VLOOKUP(N106,zawodnicy!A:E,5,FALSE)=0,\"\",N106)","v":""},null,"x48",{"$f":"IF(O95>0,(O95&4)*1,\"\")","v":14},null,null,null,null,null,{"$f":"IF(AND(N106<>\"\",N107=\"\"),CONCATENATE(VLOOKUP(N106,zawodnicy!$A:$E,1,FALSE),\" \",VLOOKUP(N106,zawodnicy!$A:$E,2,FALSE),\" \",VLOOKUP(N106,zawodnicy!$A:$E,3,FALSE),\" - \",VLOOKUP(N106,zawodnicy!$A:$E,4,FALSE)),\"\")","v":"X48 Ewelina Stec - Ząbki"},null,null,{"$f":"IF(SUM(AQ100:AR100)=0,\"\",AR100&\":\"&AQ100)","v":"2:15"},{"$f":"IF(SUM(AQ104:AR104)=0,\"\",AR104&\":\"&AQ104)","v":"3:15"},{"$f":"IF(SUM(AQ102:AR102)=0,\"\",AR102&\":\"&AQ102)","v":"3:15"}]
[null,null,null,null,null,null,null,null,null,null,null,{"$f":"IF(VLOOKUP(N107,zawodnicy!A:E,5,FALSE)=0,\"\",N107)","v":{"$error":"#N/A"}},null,null,null,null,null,null,null,null,{"$f":"IF(N107<>\"\",CONCATENATE(VLOOKUP(N107,zawodnicy!$A:$E,1,FALSE),\" \",VLOOKUP(N107,zawodnicy!$A:$E,2,FALSE),\" \",VLOOKUP(N107,zawodnicy!$A:$E,3,FALSE),\" - \",VLOOKUP(N107,zawodnicy!$A:$E,4,FALSE)),\"\")","v":""},null,null,{"$f":"IF(SUM(AS100:AT100)=0,\"\",AT100&\":\"&AS100)","v":""},{"$f":"IF(SUM(AS104:AT104)=0,\"\",AT104&\":\"&AS104)","v":""},{"$f":"IF(SUM(AS102:AT102)=0,\"\",AT102&\":\"&AS102)","v":""}]
[null,null,null,null,null,null,null,null,null,null,null,null,null,null,null,null,null,null,null,null,null,null,null,null,null,null,null,null,"Sędzia główny"]
[null,null,null,null,null,null,null,null,null,null,null,null,null,null,null,null,null,null,null,null,null,null,null,null,null,null,null,null,{"$f":"IF(ISBLANK(dane!$D$4),\"\",dane!$D$4)","v":"Marek Krawczyk"}]
[]
[null,null,null,null,null,null,null,null,null,null,null,null,null,"GIMNAZJUM CHŁOPCY",null,null,{"$f":"\"Gra \"&N111","v":"Gra GIMNAZJUM CHŁOPCY"}]
[]
[]
[null,null,null,null,null,null,null,null,null,null,null,null,null,null,1,null,{"$f":"\"Grupa \"&O114&\".\"","v":"Grupa 1."},null,null,"Lp","Zawodnik",null,null,1,2,3,4,"Punkty","Sety","Mecze","Miejsce",null,null,null,"Z planu gier",null,null,null,null,null,"Do obliczeń"]
[null,null,null,null,null,null,null,null,null,null,null,null,null,"GIMNAZJUM CHŁOPCY",null,null,"Kolejność\ngier",null,"Nr\ngry",1,{"$f":"IF(AND(N116<>\"\",N117<>\"\"),CONCATENATE(VLOOKUP(N116,zawodnicy!$A:$E,1,FALSE),\" \",VLOOKUP(N116,zawodnicy!$A:$E,2,FALSE),\" \",VLOOKUP(N116,zawodnicy!$A:$E,3,FALSE),\" - \",VLOOKUP(N116,zawodnicy!$A:$E,4,FALSE)),\"\")","v":""},null,null,null,{"$f":"IF(SUM(AO120:AP120)=0,\"\",AO120&\":\"&AP120)","v":"15:10"},{"$f":"IF(SUM(AO122:AP122)=0,\"\",AO122&\":\"&AP122)","v":"15:1"},{"$f":"IF(SUM(AO119:AP119)=0,\"\",AO119&\":\"&AP119)","v":"15:5"},{"$f":"IF(SUM(AY118:BD118)=0,\"\",BE118&\":\"&BF118)","v":"90:35"},{"$f":"IF(SUM(AY118:BD118)=0,\"\",BG118&\":\"&BH118)","v":"6:0"},{"$f":"IF(SUM(AY118:BD118)=0,\"\",BI118&\":\"&BJ118)","v":"3:0"},{"$f":"IF(SUM(BI118:BI121)>0,BK118,\"\")","v":1}]
[null,null,null,null,null,null,null,null,{"$f":"\"1\"&O114&N115","v":"11GIMNAZJUM CHŁOPCY"},{"$f":"IF(SUM(AE115:AE126)=0,\"\",IF(AE115=1,N116,IF(AE118=1,N119,IF(AE121=1,N122,IF(AE124=1,N125,\"\")))))","v":"x60"},{"$f":"IF(SUM(AE115:AE126)=0,\"\",IF(AE115=1,N117,IF(AE118=1,N120,IF(AE121=1,N123,IF(AE124=1,N126,\"\")))))","v":0},{"$f":"IF(VLOOKUP(N116,zawodnicy!A:E,5,FALSE)=0,\"\",N116)","v":""},null,"x60",{"$f":"IF(O114>0,(O114&1)*1,\"\")","v":11},null,null,null,null,null,{"$f":"IF(AND(N116<>\"\",N117=\"\"),CONCATENATE(VLOOKUP(N116,zawodnicy!$A:$E,1,FALSE),\" \",VLOOKUP(N116,zawodnicy!$A:$E,2,FALSE),\" \",VLOOKUP(N116,zawodnicy!$A:$E,3,FALSE),\" - \",VLOOKUP(N116,zawodnicy!$A:$E,4,FALSE)),\"\")","v":"X60 Adam  Walocha - Ząbki"},null,null,null,{"$f":"IF(SUM(AQ120:AR120)=0,\"\",AQ120&\":\"&AR120)","v":"15:7"},{"$f":"IF(SUM(AQ122:AR122)=0,\"\",AQ122&\":\"&AR122)","v":"15:5"},{"$f":"IF(SUM(AQ119:AR119)=0,\"\",AQ119&\":\"&AR119)","v":"15:7"}]
[null,null,null,null,null,null,null,null,null,null,null,{"$f":"IF(VLOOKUP(N117,zawodnicy!A:E,5,FALSE)=0,\"\",N117)","v":{"$error":"#N/A"}},null,null,null,null,null,null,null,null,{"$f":"IF(N117<>\"\",CONCATENATE(VLOOKUP(N117,zawodnicy!$A:$E,1,FALSE),\" \",VLOOKUP(N117,zawodnicy!$A:$E,2,FALSE),\" \",VLOOKUP(N117,zawodnicy!$A:$E,3,FALSE),\" - \",VLOOKUP(N117,zawodnicy!$A:$E,4,FALSE)),\"\")","v":""},null,null,null,{"$f":"IF(SUM(AS120:AT120)=0,\"\",AS120&\":\"&AT120)","v":""},{"$f":"IF(SUM(AS122:AT122)=0,\"\",AS122&\":\"&AT122)","v":""},{"$f":"IF(SUM(AS119:AT119)=0,\"\",AS119&\":\"&AT119)","v":""},null,null,null,null,null,null,null,"1 set",null,"2 set",null,"3 set",null,"1 set",null,"2 set",null,"3 set",null,null,null,1,null,2,null,3,null,4,null,"Punkty",null,"Sety",null,"Mecze",null,"Miejsce"]
[{"$f":"S118","v":7},{"$f":"IF(N119=\"\",\"\",N119)","v":"x70"},{"$f":"IF(N120=\"\",\"\",N120)","v":""},{"$f":"IF(N122=\"\",\"\",N122)","v":"x37"},{"$f":"IF(N123=\"\",\"\",N123)","v":""},null,null,null,{"$f":"\"2\"&O114&N115","v":"21GIMNAZJUM CHŁOPCY"},{"$f":"IF(SUM(AE115:AE126)=0,\"\",IF(AE115=2,N116,IF(AE118=2,N119,IF(AE121=2,N122,IF(AE124=2,N125,\"\")))))","v":"x63"},{"$f":"IF(SUM(AE115:AE126)=0,\"\",IF(AE115=2,N117,IF(AE118=2,N120,IF(AE121=2,N123,IF(AE124=2,N126,\"\")))))","v":0},null,{"$f":"N115","v":"GIMNAZJUM CHŁOPCY"},null,null,null,{"$f":"IF(AU118>0,\"\",IF(A118=0,\"\",IF(VLOOKUP(A118,'plan gier'!A:T,20,FALSE)=\"\",\"\",VLOOKUP(A118,'plan gier'!A:T,20,FALSE))))","v":""},"2-3",7,2,{"$f":"IF(AND(N119<>\"\",N120<>\"\"),CONCATENATE(VLOOKUP(N119,zawodnicy!$A:$E,1,FALSE),\" \",VLOOKUP(N119,zawodnicy!$A:$E,2,FALSE),\" \",VLOOKUP(N119,zawodnicy!$A:$E,3,FALSE),\" - \",VLOOKUP(N119,zawodnicy!$A:$E,4,FALSE)),\"\")","v":""},null,null,{"$f":"IF(SUM(AO120:AP120)=0,\"\",AP120&\":\"&AO120)","v":"10:15"},null,{"$f":"IF(SUM(AO118:AP118)=0,\"\",AO118&\":\"&AP118)","v":"15:10"},{"$f":"IF(SUM(AO123:AP123)=0,\"\",AO123&\":\"&AP123)","v":"10:15"},{"$f":"IF(SUM(AW119:AX119,BA119:BD119)=0,\"\",BE119&\":\"&BF119)","v":"64:74"},{"$f":"IF(SUM(AW119:AX119,BA119:BD119)=0,\"\",BG119&\":\"&BH119)","v":"2:4"},{"$f":"IF(SUM(AW119:AX119,BA119:BD119)=0,\"\",BI119&\":\"&BJ119)","v":"1:2"},{"$f":"IF(SUM(BI118:BI121)>0,BK119,\"\")","v":3},null,null,"2-3",{"$f":"IF(ISBLANK(S118),\"\",VLOOKUP(S118,'plan gier'!$Z:$AP,12,FALSE))","v":15},{"$f":"IF(ISBLANK(S118),\"\",VLOOKUP(S118,'plan gier'!$Z:$AP,13,FALSE))","v":10},{"$f":"IF(ISBLANK(S118),\"\",VLOOKUP(S118,'plan gier'!$Z:$AP,14,FALSE))","v":15},{"$f":"IF(ISBLANK(S118),\"\",VLOOKUP(S118,'plan gier'!$Z:$AP,15,FALSE))","v":4},{"$f":"IF(ISBLANK(S118),\"\",VLOOKUP(S118,'plan gier'!$Z:$AP,16,FALSE))","v":0},{"$f":"IF(ISBLANK(S118),\"\",VLOOKUP(S118,'plan gier'!$Z:$AP,17,FALSE))","v":0},{"$f":"IF(AI118=\"\",0,AI118)","v":15},{"$f":"IF(AJ118=\"\",0,AJ118)","v":10},{"$f":"IF(AK118=\"\",0,AK118)","v":15},{"$f":"IF(AL118=\"\",0,AL118)","v":4},{"$f":"IF(AM118=\"\",0,AM118)","v":0},{"$f":"IF(AN118=\"\",0,AN118)","v":0},{"$f":"SUM(AO118:AT118)","v":44},1,null,null,{"$f":"IF(AI120>AJ120,1,0)+IF(AK120>AL120,1,0)+IF(AM120>AN120,1,0)","v":2},{"$f":"AW119","v":0},{"$f":"IF(AI122>AJ122,1,0)+IF(AK122>AL122,1,0)+IF(AM122>AN122,1,0)","v":2},{"$f":"AW120","v":0},{"$f":"IF(AI119>AJ119,1,0)+IF(AK119>AL119,1,0)+IF(AM119>AN119,1,0)","v":2},{"$f":"AW121","v":0},{"$f":"AO119+AQ119+AS119+AO120+AQ120+AS120+AO122+AQ122+AS122","v":90},{"$f":"AP119+AR119+AT119+AP120+AR120+AT120+AP122+AR122+AT122","v":35},{"$f":"AY118+BA118+BC118","v":6},{"$f":"AZ118+BB118+BD118","v":0},{"$f":"IF(AY118>AZ118,1,0)+IF(BA118>BB118,1,0)+IF(BC118>BD118,1,0)","v":3},{"$f":"IF(AZ118>AY118,1,0)+IF(BB118>BA118,1,0)+IF(BD118>BC118,1,0)","v":0},{"$f":"IF(BI118+BJ118=0,\"\",IF(BL118=MAX(BL118:BL121),1,IF(BL118=LARGE(BL118:BL121,2),2,IF(BL118=LARGE(BL118:BL121,3),3,4))))","v":1},{"$f":"IF(BI118+BJ118<>0,BI118+1+(BG118-BH118)/100+(BE118-BF118)/100000+IF(BF118=0,0,(BE118/BF118)/1000000),0)","v":4.0605525714285706}]
[8,{"$f":"IF(N116=\"\",\"\",N116)","v":"x60"},{"$f":"IF(N117=\"\",\"\",N117)","v":""},{"$f":"IF(N125=\"\",\"\",N125)","v":"x63"},{"$f":"IF(N126=\"\",\"\",N126)","v":""},null,null,null,null,null,null,{"$f":"IF(VLOOKUP(N119,zawodnicy!A:E,5,FALSE)=0,\"\",N119)","v":""},{"$f":"N115","v":"GIMNAZJUM CHŁOPCY"},"x70",{"$f":"IF(O114>0,(O114&2)*1,\"\")","v":12},null,{"$f":"IF(AU119>0,\"\",IF(A119=0,\"\",IF(VLOOKUP(A119,'plan gier'!A:T,20,FALSE)=\"\",\"\",VLOOKUP(A119,'plan gier'!A:T,20,FALSE))))","v":""},"1-4",8,null,{"$f":"IF(AND(N119<>\"\",N120=\"\"),CONCATENATE(VLOOKUP(N119,zawodnicy!$A:$E,1,FALSE),\" \",VLOOKUP(N119,zawodnicy!$A:$E,2,FALSE),\" \",VLOOKUP(N119,zawodnicy!$A:$E,3,FALSE),\" - \",VLOOKUP(N119,zawodnicy!$A:$E,4,FALSE)),\"\")","v":"X70 Konrad  Kalinowski - Garwolin"},null,null,{"$f":"IF(SUM(AQ120:AR120)=0,\"\",AR120&\":\"&AQ120)","v":"7:15"},null,{"$f":"IF(SUM(AQ118:AR118)=0,\"\",AQ118&\":\"&AR118)","v":"15:4"},{"$f":"IF(SUM(AQ123:AR123)=0,\"\",AQ123&\":\"&AR123)","v":"7:15"},null,null,null,null,null,null,"1-4",{"$f":"IF(ISBLANK(S119),\"\",VLOOKUP(S119,'plan gier'!$Z:$AP,12,FALSE))","v":15},{"$f":"IF(ISBLANK(S119),\"\",VLOOKUP(S119,'plan gier'!$Z:$AP,13,FALSE))","v":5},{"$f":"IF(ISBLANK(S119),\"\",VLOOKUP(S119,'plan gier'!$Z:$AP,14,FALSE))","v":15},{"$f":"IF(ISBLANK(S119),\"\",VLOOKUP(S119,'plan gier'!$Z:$AP,15,FALSE))","v":7},{"$f":"IF(ISBLANK(S119),\"\",VLOOKUP(S119,'plan gier'!$Z:$AP,16,FALSE))","v":0},{"$f":"IF(ISBLANK(S119),\"\",VLOOKUP(S119,'plan gier'!$Z:$AP,17,FALSE))","v":0},15,5,15,7,0,0,42,2,{"$f":"IF(AI120<AJ120,1,0)+IF(AK120<AL120,1,0)+IF(AM120<AN120,1,0)","v":0},{"$f":"AY118","v":2},null,null,{"$f":"IF(AI118>AJ118,1,0)+IF(AK118>AL118,1,0)+IF(AM118>AN118,1,0)","v":2},{"$f":"AY120","v":0},{"$f":"IF(AI123>AJ123,1,0)+IF(AK123>AL123,1,0)+IF(AM123>AN123,1,0)","v":0},{"$f":"AY121","v":2},{"$f":"AO118+AQ118+AS118+AP120+AR120+AT120+AO123+AQ123+AS123","v":64},{"$f":"AP118+AR118+AT118+AO120+AQ120+AS120+AP123+AR123+AT123","v":74},{"$f":"AW119+BA119+BC119","v":2},{"$f":"AX119+BB119+BD119","v":4},{"$f":"IF(AW119>AX119,1,0)+IF(BA119>BB119,1,0)+IF(BC119>BD119,1,0)","v":1},{"$f":"IF(AX119>AW119,1,0)+IF(BB119>BA119,1,0)+IF(BD119>BC119,1,0)","v":2},{"$f":"IF(BI119+BJ119=0,\"\",IF(BL119=MAX(BL118:BL121),1,IF(BL119=LARGE(BL118:BL121,2),2,IF(BL119=LARGE(BL118:BL121,3),3,4))))","v":3},{"$f":"IF(BI119+BJ119<>0,BI119+1+(BG119-BH119)/100+(BE119-BF119)/100000+IF(BF119=0,0,(BE119/BF119)/1000000),0)","v":1.9799008648648648}]
[17,{"$f":"IF(N116=\"\",\"\",N116)","v":"x60"},{"$f":"IF(N117=\"\",\"\",N117)","v":""},{"$f":"IF(N119=\"\",\"\",N119)","v":"x70"},{"$f":"IF(N120=\"\",\"\",N120)","v":""},null,null,null,{"$f":"\"3\"&O114&N115","v":"31GIMNAZJUM CHŁOPCY"},{"$f":"IF(SUM(AE115:AE126)=0,\"\",IF(AE115=3,N116,IF(AE118=3,N119,IF(AE121=3,N122,IF(AE124=3,N125,\"\")))))","v":"x70"},{"$f":"IF(SUM(AE115:AE126)=0,\"\",IF(AE115=3,N117,IF(AE118=3,N120,IF(AE121=3,N123,IF(AE124=3,N126,\"\")))))","v":0},{"$f":"IF(VLOOKUP(N120,zawodnicy!A:E,5,FALSE)=0,\"\",N120)","v":{"$error":"#N/A"}},{"$f":"N115","v":"GIMNAZJUM CHŁOPCY"},null,null,null,{"$f":"IF(AU120>0,\"\",IF(A120=0,\"\",IF(VLOOKUP(A120,'plan gier'!A:T,20,FALSE)=\"\",\"\",VLOOKUP(A120,'plan gier'!A:T,20,FALSE))))","v":""},"1-2",17,null,{"$f":"IF(N120<>\"\",CONCATENATE(VLOOKUP(N120,zawodnicy!$A:$E,1,FALSE),\" \",VLOOKUP(N120,zawodnicy!$A:$E,2,FALSE),\" \",VLOOKUP(N120,zawodnicy!$A:$E,3,FALSE),\" - \",VLOOKUP(N120,zawodnicy!$A:$E,4,FALSE)),\"\")","v":""},null,null,{"$f":"IF(SUM(AS120:AT120)=0,\"\",AT120&\":\"&AS120)","v":""},null,{"$f":"IF(SUM(AS118:AT118)=0,\"\",AS118&\":\"&AT118)","v":""},{"$f":"IF(SUM(AS123:AT123)=0,\"\",AS123&\":\"&AT123)","v":""},null,null,null,null,null,null,"1-2",{"$f":"IF(ISBLANK(S120),\"\",VLOOKUP(S120,'plan gier'!$Z:$AP,12,FALSE))","v":15},{"$f":"IF(ISBLANK(S120),\"\",VLOOKUP(S120,'plan gier'!$Z:$AP,13,FALSE))","v":10},{"$f":"IF(ISBLANK(S120),\"\",VLOOKUP(S120,'plan gier'!$Z:$AP,14,FALSE))","v":15},{"$f":"IF(ISBLANK(S120),\"\",VLOOKUP(S120,'plan gier'!$Z:$AP,15,FALSE))","v":7},{"$f":"IF(ISBLANK(S120),\"\",VLOOKUP(S120,'plan gier'!$Z:$AP,16,FALSE))","v":0},{"$f":"IF(ISBLANK(S120),\"\",VLOOKUP(S120,'plan gier'!$Z:$AP,17,FALSE))","v":0},15,10,15,7,0,0,47,3,{"$f":"IF(AI122<AJ122,1,0)+IF(AK122<AL122,1,0)+IF(AM122<AN122,1,0)","v":0},{"$f":"BA118","v":2},{"$f":"IF(AI118<AJ118,1,0)+IF(AK118<AL118,1,0)+IF(AM118<AN118,1,0)","v":0},{"$f":"BA119","v":2},null,null,{"$f":"IF(AI121>AJ121,1,0)+IF(AK121>AL121,1,0)+IF(AM121>AN121,1,0)","v":0},{"$f":"BA121","v":2},{"$f":"AP118+AR118+AT118+AO121+AQ121+AS121+AP122+AR122+AT122","v":30},{"$f":"AO118+AQ118+AS118+AP121+AR121+AT121+AO122+AQ122+AS122","v":90},{"$f":"AW120+AY120+BC120","v":0},{"$f":"AX120+AZ120+BD120","v":6},{"$f":"IF(AW120>AX120,1,0)+IF(AY120>AZ120,1,0)+IF(BC120>BD120,1,0)","v":0},{"$f":"IF(AX120>AW120,1,0)+IF(AZ120>AY120,1,0)+IF(BD120>BC120,1,0)","v":3},{"$f":"IF(BI120+BJ120=0,\"\",IF(BL120=MAX(BL118:BL121),1,IF(BL120=LARGE(BL118:BL121,2),2,IF(BL120=LARGE(BL118:BL121,3),3,4))))","v":4},{"$f":"IF(BI120+BJ120<>0,BI120+1+(BG120-BH120)/100+(BE120-BF120)/100000+IF(BF120=0,0,(BE120/BF120)/1000000),0)","v":0.93940033333333328}]
[18,{"$f":"IF(N122=\"\",\"\",N122)","v":"x37"},{"$f":"IF(N123=\"\",\"\",N123)","v":""},{"$f":"IF(N125=\"\",\"\",N125)","v":"x63"},{"$f":"IF(N126=\"\",\"\",N126)","v":""},null,null,null,null,null,null,null,{"$f":"N115","v":"GIMNAZJUM CHŁOPCY"},null,null,null,{"$f":"IF(AU121>0,\"\",IF(A121=0,\"\",IF(VLOOKUP(A121,'plan gier'!A:T,20,FALSE)=\"\",\"\",VLOOKUP(A121,'plan gier'!A:T,20,FALSE))))","v":""},"3-4",18,3,{"$f":"IF(AND(N122<>\"\",N123<>\"\"),CONCATENATE(VLOOKUP(N122,zawodnicy!$A:$E,1,FALSE),\" \",VLOOKUP(N122,zawodnicy!$A:$E,2,FALSE),\" \",VLOOKUP(N122,zawodnicy!$A:$E,3,FALSE),\" - \",VLOOKUP(N122,zawodnicy!$A:$E,4,FALSE)),\"\")","v":""},null,null,{"$f":"IF(SUM(AO122:AP122)=0,\"\",AP122&\":\"&AO122)","v":"1:15"},{"$f":"IF(SUM(AO118:AP118)=0,\"\",AP118&\":\"&AO118)","v":"10:15"},null,{"$f":"IF(SUM(AO121:AP121)=0,\"\",AO121&\":\"&AP121)","v":"4:15"},{"$f":"IF(SUM(AW120:AZ120,BC120:BD120)=0,\"\",BE120&\":\"&BF120)","v":"30:90"},{"$f":"IF(SUM(AW120:AZ120,BC120:BD120)=0,\"\",BG120&\":\"&BH120)","v":"0:6"},{"$f":"IF(SUM(AW120:AZ120,BC120:BD120)=0,\"\",BI120&\":\"&BJ120)","v":"0:3"},{"$f":"IF(SUM(BI118:BI121)>0,BK120,\"\")","v":4},null,null,"3-4",{"$f":"IF(ISBLANK(S121),\"\",VLOOKUP(S121,'plan gier'!$Z:$AP,12,FALSE))","v":4},{"$f":"IF(ISBLANK(S121),\"\",VLOOKUP(S121,'plan gier'!$Z:$AP,13,FALSE))","v":15},{"$f":"IF(ISBLANK(S121),\"\",VLOOKUP(S121,'plan gier'!$Z:$AP,14,FALSE))","v":6},{"$f":"IF(ISBLANK(S121),\"\",VLOOKUP(S121,'plan gier'!$Z:$AP,15,FALSE))","v":15},{"$f":"IF(ISBLANK(S121),\"\",VLOOKUP(S121,'plan gier'!$Z:$AP,16,FALSE))","v":0},{"$f":"IF(ISBLANK(S121),\"\",VLOOKUP(S121,'plan gier'!$Z:$AP,17,FALSE))","v":0},4,15,6,15,0,0,40,4,{"$f":"IF(AI119<AJ119,1,0)+IF(AK119<AL119,1,0)+IF(AM119<AN119,1,0)","v":0},{"$f":"BC118","v":2},{"$f":"IF(AI123<AJ123,1,0)+IF(AK123<AL123,1,0)+IF(AM123<AN123,1,0)","v":2},{"$f":"BC119","v":0},{"$f":"IF(AI121<AJ121,1,0)+IF(AK121<AL121,1,0)+IF(AM121<AN121,1,0)","v":2},{"$f":"BC120","v":0},null,null,{"$f":"AP119+AR119+AT119+AP121+AR121+AT121+AP123+AR123+AT123","v":72},{"$f":"AO119+AQ119+AS119+AO121+AQ121+AS121+AO123+AQ123+AS123","v":57},{"$f":"AW121+AY121+BA121","v":4},{"$f":"AX121+AZ121+BB121","v":2},{"$f":"IF(AW121>AX121,1,0)+IF(AY121>AZ121,1,0)+IF(BA121>BB121,1,0)","v":2},{"$f":"IF(AX121>AW121,1,0)+IF(AZ121>AY121,1,0)+IF(BB121>BA121,1,0)","v":1},{"$f":"IF(BI121+BJ121=0,\"\",IF(BL121=MAX(BL118:BL121),1,IF(BL121=LARGE(BL118:BL121,2),2,IF(BL121=LARGE(BL118:BL121,3),3,4))))","v":2},{"$f":"IF(BI121+BJ121<>0,BI121+1+(BG121-BH121)/100+(BE121-BF121)/100000+IF(BF121=0,0,(BE121/BF121)/1000000),0)","v":3.0201512631578948}]
[27,{"$f":"IF(N116=\"\",\"\",N116)","v":"x60"},{"$f":"IF(N117=\"\",\"\",N117)","v":""},{"$f":"IF(N122=\"\",\"\",N122)","v":"x37"},{"$f":"IF(N123=\"\",\"\",N123)","v":""},null,null,null,{"$f":"\"4\"&O114&N115","v":"41GIMNAZJUM CHŁOPCY"},{"$f":"IF(SUM(AE115:AE126)=0,\"\",IF(AE115=4,N116,IF(AE118=4,N119,IF(AE121=4,N122,IF(AE124=4,N125,\"\")))))","v":"x37"},{"$f":"IF(SUM(AE115:AE126)=0,\"\",IF(AE115=4,N117,IF(AE118=4,N120,IF(AE121=4,N123,IF(AE124=4,N126,\"\")))))","v":0},{"$f":"IF(VLOOKUP(N122,zawodnicy!A:E,5,FALSE)=0,\"\",N122)","v":""},{"$f":"N115","v":"GIMNAZJUM CHŁOPCY"},"x37",{"$f":"IF(O114>0,(O114&3)*1,\"\")","v":13},null,{"$f":"IF(AU122>0,\"\",IF(A122=0,\"\",IF(VLOOKUP(A122,'plan gier'!A:T,20,FALSE)=\"\",\"\",VLOOKUP(A122,'plan gier'!A:T,20,FALSE))))","v":""},"1-3",27,null,{"$f":"IF(AND(N122<>\"\",N123=\"\"),CONCATENATE(VLOOKUP(N122,zawodnicy!$A:$E,1,FALSE),\" \",VLOOKUP(N122,zawodnicy!$A:$E,2,FALSE),\" \",VLOOKUP(N122,zawodnicy!$A:$E,3,FALSE),\" - \",VLOOKUP(N122,zawodnicy!$A:$E,4,FALSE)),\"\")","v":"X37 Kuba  Paciorek - Ząbki"},null,null,{"$f":"IF(SUM(AQ122:AR122)=0,\"\",AR122&\":\"&AQ122)","v":"5:15"},{"$f":"IF(SUM(AQ118:AR118)=0,\"\",AR118&\":\"&AQ118)","v":"4:15"},null,{"$f":"IF(SUM(AQ121:AR121)=0,\"\",AQ121&\":\"&AR121)","v":"6:15"},null,null,null,null,null,null,"1-3",{"$f":"IF(ISBLANK(S122),\"\",VLOOKUP(S122,'plan gier'!$Z:$AP,12,FALSE))","v":15},{"$f":"IF(ISBLANK(S122),\"\",VLOOKUP(S122,'plan gier'!$Z:$AP,13,FALSE))","v":1},{"$f":"IF(ISBLANK(S122),\"\",VLOOKUP(S122,'plan gier'!$Z:$AP,14,FALSE))","v":15},{"$f":"IF(ISBLANK(S122),\"\",VLOOKUP(S122,'plan gier'!$Z:$AP,15,FALSE))","v":5},{"$f":"IF(ISBLANK(S122),\"\",VLOOKUP(S122,'plan gier'!$Z:$AP,16,FALSE))","v":0},{"$f":"IF(ISBLANK(S122),\"\",VLOOKUP(S122,'plan gier'!$Z:$AP,17,FALSE))","v":0},15,1,15,5,0,0,36,null,null,null,null,null,null,null,null,null,{"$f":"SUM(BE118:BE121)","v":256},256,12,12,6,6]
[28,{"$f":"IF(N119=\"\",\"\",N119)","v":"x70"},{"$f":"IF(N120=\"\",\"\",N120)","v":""},{"$f":"IF(N125=\"\",\"\",N125)","v":"x63"},{"$f":"IF(N126=\"\",\"\",N126)","v":""},null,null,null,null,null,null,{"$f":"IF(VLOOKUP(N123,zawodnicy!A:E,5,FALSE)=0,\"\",N123)","v":{"$error":"#N/A"}},{"$f":"N115","v":"GIMNAZJUM CHŁOPCY"},null,null,null,{"$f":"IF(AU123>0,\"\",IF(A123=0,\"\",IF(VLOOKUP(A123,'plan gier'!A:T,20,FALSE)=\"\",\"\",VLOOKUP(A123,'plan gier'!A:T,20,FALSE))))","v":""},"2-4",28,null,{"$f":"IF(N123<>\"\",CONCATENATE(VLOOKUP(N123,zawodnicy!$A:$E,1,FALSE),\" \",VLOOKUP(N123,zawodnicy!$A:$E,2,FALSE),\" \",VLOOKUP(N123,zawodnicy!$A:$E,3,FALSE),\" - \",VLOOKUP(N123,zawodnicy!$A:$E,4,FALSE)),\"\")","v":""},null,null,{"$f":"IF(SUM(AS122:AT122)=0,\"\",AT122&\":\"&AS122)","v":""},{"$f":"IF(SUM(AS118:AT118)=0,\"\",AT118&\":\"&AS118)","v":""},null,{"$f":"IF(SUM(AS121:AT121)=0,\"\",AS121&\":\"&AT121)","v":""},null,null,null,null,null,null,"2-4",{"$f":"IF(ISBLANK(S123),\"\",VLOOKUP(S123,'plan gier'!$Z:$AP,12,FALSE))","v":10},{"$f":"IF(ISBLANK(S123),\"\",VLOOKUP(S123,'plan gier'!$Z:$AP,13,FALSE))","v":15},{"$f":"IF(ISBLANK(S123),\"\",VLOOKUP(S123,'plan gier'!$Z:$AP,14,FALSE))","v":7},{"$f":"IF(ISBLANK(S123),\"\",VLOOKUP(S123,'plan gier'!$Z:$AP,15,FALSE))","v":15},{"$f":"IF(ISBLANK(S123),\"\",VLOOKUP(S123,'plan gier'!$Z:$AP,16,FALSE))","v":0},{"$f":"IF(ISBLANK(S123),\"\",VLOOKUP(S123,'plan gier'!$Z:$AP,17,FALSE))","v":0},10,15,7,15,0,0,47]
[null,null,null,null,null,null,null,null,null,null,null,null,null,null,null,null,null,null,null,4,{"$f":"IF(AND(N125<>\"\",N126<>\"\"),CONCATENATE(VLOOKUP(N125,zawodnicy!$A:$E,1,FALSE),\" \",VLOOKUP(N125,zawodnicy!$A:$E,2,FALSE),\" \",VLOOKUP(N125,zawodnicy!$A:$E,3,FALSE),\" - \",VLOOKUP(N125,zawodnicy!$A:$E,4,FALSE)),\"\")","v":""},null,null,{"$f":"IF(SUM(AO119:AP119)=0,\"\",AP119&\":\"&AO119)","v":"5:15"},{"$f":"IF(SUM(AO123:AP123)=0,\"\",AP123&\":\"&AO123)","v":"15:10"},{"$f":"IF(SUM(AO121:AP121)=0,\"\",AP121&\":\"&AO121)","v":"15:4"},null,{"$f":"IF(SUM(AW121:BB121)=0,\"\",BE121&\":\"&BF121)","v":"72:57"},{"$f":"IF(SUM(AW121:BB121)=0,\"\",BG121&\":\"&BH121)","v":"4:2"},{"$f":"IF(SUM(AW121:BB121)=0,\"\",BI121&\":\"&BJ121)","v":"2:1"},{"$f":"IF(SUM(BI118:BI121)>0,BK121,\"\")","v":2}]
[null,null,null,null,null,null,null,null,null,null,null,{"$f":"IF(VLOOKUP(N125,zawodnicy!A:E,5,FALSE)=0,\"\",N125)","v":""},null,"x63",{"$f":"IF(O114>0,(O114&4)*1,\"\")","v":14},null,null,null,null,null,{"$f":"IF(AND(N125<>\"\",N126=\"\"),CONCATENATE(VLOOKUP(N125,zawodnicy!$A:$E,1,FALSE),\" \",VLOOKUP(N125,zawodnicy!$A:$E,2,FALSE),\" \",VLOOKUP(N125,zawodnicy!$A:$E,3,FALSE),\" - \",VLOOKUP(N125,zawodnicy!$A:$E,4,FALSE)),\"\")","v":"X63 Kasia Wróblewska - Mińsk Mazowiecki"},null,null,{"$f":"IF(SUM(AQ119:AR119)=0,\"\",AR119&\":\"&AQ119)","v":"7:15"},{"$f":"IF(SUM(AQ123:AR123)=0,\"\",AR123&\":\"&AQ123)","v":"15:7"},{"$f":"IF(SUM(AQ121:AR121)=0,\"\",AR121&\":\"&AQ121)","v":"15:6"}]
[null,null,null,null,null,null,null,null,null,null,null,{"$f":"IF(VLOOKUP(N126,zawodnicy!A:E,5,FALSE)=0,\"\",N126)","v":{"$error":"#N/A"}},null,null,null,null,null,null,null,null,{"$f":"IF(N126<>\"\",CONCATENATE(VLOOKUP(N126,zawodnicy!$A:$E,1,FALSE),\" \",VLOOKUP(N126,zawodnicy!$A:$E,2,FALSE),\" \",VLOOKUP(N126,zawodnicy!$A:$E,3,FALSE),\" - \",VLOOKUP(N126,zawodnicy!$A:$E,4,FALSE)),\"\")","v":""},null,null,{"$f":"IF(SUM(AS119:AT119)=0,\"\",AT119&\":\"&AS119)","v":""},{"$f":"IF(SUM(AS123:AT123)=0,\"\",AT123&\":\"&AS123)","v":""},{"$f":"IF(SUM(AS121:AT121)=0,\"\",AT121&\":\"&AS121)","v":""}]
[]
[null,null,null,null,null,null,null,null,null,null,null,null,null,null,2,null,{"$f":"\"Grupa \"&O128&\".\"","v":"Grupa 2."},null,null,"Lp","Zawodnik",null,null,1,2,3,4,"Punkty","Sety","Mecze","Miejsce",null,null,null,"Z planu gier",null,null,null,null,null,"Do obliczeń"]
[null,null,null,null,null,null,null,null,null,null,null,null,null,"GIMNAZJUM CHŁOPCY",null,null,"Kolejność\ngier",null,"Nr\ngry",1,{"$f":"IF(AND(N130<>\"\",N131<>\"\"),CONCATENATE(VLOOKUP(N130,zawodnicy!$A:$E,1,FALSE),\" \",VLOOKUP(N130,zawodnicy!$A:$E,2,FALSE),\" \",VLOOKUP(N130,zawodnicy!$A:$E,3,FALSE),\" - \",VLOOKUP(N130,zawodnicy!$A:$E,4,FALSE)),\"\")","v":""},null,null,null,{"$f":"IF(SUM(AO134:AP134)=0,\"\",AO134&\":\"&AP134)","v":"9:15"},{"$f":"IF(SUM(AO136:AP136)=0,\"\",AO136&\":\"&AP136)","v":"11:15"},{"$f":"IF(SUM(AO133:AP133)=0,\"\",AO133&\":\"&AP133)","v":"11:15"},{"$f":"IF(SUM(AY132:BD132)=0,\"\",BE132&\":\"&BF132)","v":"84:102"},{"$f":"IF(SUM(AY132:BD132)=0,\"\",BG132&\":\"&BH132)","v":"2:5"},{"$f":"IF(SUM(AY132:BD132)=0,\"\",BI132&\":\"&BJ132)","v":"1:2"},{"$f":"IF(SUM(BI132:BI135)>0,BK132,\"\")","v":4}]
[null,null,null,null,null,null,null,null,{"$f":"\"1\"&O128&N129","v":"12GIMNAZJUM CHŁOPCY"},{"$f":"IF(SUM(AE129:AE140)=0,\"\",IF(AE129=1,N130,IF(AE132=1,N133,IF(AE135=1,N136,IF(AE138=1,N139,\"\")))))","v":"x71"},{"$f":"IF(SUM(AE129:AE140)=0,\"\",IF(AE129=1,N131,IF(AE132=1,N134,IF(AE135=1,N137,IF(AE138=1,N140,\"\")))))","v":0},{"$f":"IF(VLOOKUP(N130,zawodnicy!A:E,5,FALSE)=0,\"\",N130)","v":""},null,"x5",{"$f":"IF(O128>0,(O128&1)*1,\"\")","v":21},null,null,null,null,null,{"$f":"IF(AND(N130<>\"\",N131=\"\"),CONCATENATE(VLOOKUP(N130,zawodnicy!$A:$E,1,FALSE),\" \",VLOOKUP(N130,zawodnicy!$A:$E,2,FALSE),\" \",VLOOKUP(N130,zawodnicy!$A:$E,3,FALSE),\" - \",VLOOKUP(N130,zawodnicy!$A:$E,4,FALSE)),\"\")","v":"X5 Jakub  Dworzak - Zielonka"},null,null,null,{"$f":"IF(SUM(AQ134:AR134)=0,\"\",AQ134&\":\"&AR134)","v":"10:15"},{"$f":"IF(SUM(AQ136:AR136)=0,\"\",AQ136&\":\"&AR136)","v":"11:15"},{"$f":"IF(SUM(AQ133:AR133)=0,\"\",AQ133&\":\"&AR133)","v":"15:12"}]
[null,null,null,null,null,null,null,null,null,null,null,{"$f":"IF(VLOOKUP(N131,zawodnicy!A:E,5,FALSE)=0,\"\",N131)","v":{"$error":"#N/A"}},null,null,null,null,null,null,null,null,{"$f":"IF(N131<>\"\",CONCATENATE(VLOOKUP(N131,zawodnicy!$A:$E,1,FALSE),\" \",VLOOKUP(N131,zawodnicy!$A:$E,2,FALSE),\" \",VLOOKUP(N131,zawodnicy!$A:$E,3,FALSE),\" - \",VLOOKUP(N131,zawodnicy!$A:$E,4,FALSE)),\"\")","v":""},null,null,null,{"$f":"IF(SUM(AS134:AT134)=0,\"\",AS134&\":\"&AT134)","v":""},{"$f":"IF(SUM(AS136:AT136)=0,\"\",AS136&\":\"&AT136)","v":""},{"$f":"IF(SUM(AS133:AT133)=0,\"\",AS133&\":\"&AT133)","v":"17:15"},null,null,null,null,null,null,null,"1 set",null,"2 set",null,"3 set",null,"1 set",null,"2 set",null,"3 set",null,null,null,1,null,2,null,3,null,4,null,"Punkty",null,"Sety",null,"Mecze",null,"Miejsce"]
[{"$f":"S132","v":9},{"$f":"IF(N133=\"\",\"\",N133)","v":"x71"},{"$f":"IF(N134=\"\",\"\",N134)","v":""},{"$f":"IF(N136=\"\",\"\",N136)","v":"x72"},{"$f":"IF(N137=\"\",\"\",N137)","v":""},null,null,null,{"$f":"\"2\"&O128&N129","v":"22GIMNAZJUM CHŁOPCY"},{"$f":"IF(SUM(AE129:AE140)=0,\"\",IF(AE129=2,N130,IF(AE132=2,N133,IF(AE135=2,N136,IF(AE138=2,N139,\"\")))))","v":"x31"},{"$f":"IF(SUM(AE129:AE140)=0,\"\",IF(AE129=2,N131,IF(AE132=2,N134,IF(AE135=2,N137,IF(AE138=2,N140,\"\")))))","v":0},null,{"$f":"N129","v":"GIMNAZJUM CHŁOPCY"},null,null,null,{"$f":"IF(AU132>0,\"\",IF(A132=0,\"\",IF(VLOOKUP(A132,'plan gier'!A:T,20,FALSE)=\"\",\"\",VLOOKUP(A132,'plan gier'!A:T,20,FALSE))))","v":""},"2-3",9,2,{"$f":"IF(AND(N133<>\"\",N134<>\"\"),CONCATENATE(VLOOKUP(N133,zawodnicy!$A:$E,1,FALSE),\" \",VLOOKUP(N133,zawodnicy!$A:$E,2,FALSE),\" \",VLOOKUP(N133,zawodnicy!$A:$E,3,FALSE),\" - \",VLOOKUP(N133,zawodnicy!$A:$E,4,FALSE)),\"\")","v":""},null,null,{"$f":"IF(SUM(AO134:AP134)=0,\"\",AP134&\":\"&AO134)","v":"15:9"},null,{"$f":"IF(SUM(AO132:AP132)=0,\"\",AO132&\":\"&AP132)","v":"15:3"},{"$f":"IF(SUM(AO137:AP137)=0,\"\",AO137&\":\"&AP137)","v":"15:6"},{"$f":"IF(SUM(AW133:AX133,BA133:BD133)=0,\"\",BE133&\":\"&BF133)","v":"90:43"},{"$f":"IF(SUM(AW133:AX133,BA133:BD133)=0,\"\",BG133&\":\"&BH133)","v":"6:0"},{"$f":"IF(SUM(AW133:AX133,BA133:BD133)=0,\"\",BI133&\":\"&BJ133)","v":"3:0"},{"$f":"IF(SUM(BI132:BI135)>0,BK133,\"\")","v":1},null,null,"2-3",{"$f":"IF(ISBLANK(S132),\"\",VLOOKUP(S132,'plan gier'!$Z:$AP,12,FALSE))","v":15},{"$f":"IF(ISBLANK(S132),\"\",VLOOKUP(S132,'plan gier'!$Z:$AP,13,FALSE))","v":3},{"$f":"IF(ISBLANK(S132),\"\",VLOOKUP(S132,'plan gier'!$Z:$AP,14,FALSE))","v":15},{"$f":"IF(ISBLANK(S132),\"\",VLOOKUP(S132,'plan gier'!$Z:$AP,15,FALSE))","v":5},{"$f":"IF(ISBLANK(S132),\"\",VLOOKUP(S132,'plan gier'!$Z:$AP,16,FALSE))","v":0},{"$f":"IF(ISBLANK(S132),\"\",VLOOKUP(S132,'plan gier'!$Z:$AP,17,FALSE))","v":0},{"$f":"IF(AI132=\"\",0,AI132)","v":15},{"$f":"IF(AJ132=\"\",0,AJ132)","v":3},{"$f":"IF(AK132=\"\",0,AK132)","v":15},{"$f":"IF(AL132=\"\",0,AL132)","v":5},{"$f":"IF(AM132=\"\",0,AM132)","v":0},{"$f":"IF(AN132=\"\",0,AN132)","v":0},{"$f":"SUM(AO132:AT132)","v":38},1,null,null,{"$f":"IF(AI134>AJ134,1,0)+IF(AK134>AL134,1,0)+IF(AM134>AN134,1,0)","v":0},{"$f":"AW133","v":2},{"$f":"IF(AI136>AJ136,1,0)+IF(AK136>AL136,1,0)+IF(AM136>AN136,1,0)","v":0},{"$f":"AW134","v":2},{"$f":"IF(AI133>AJ133,1,0)+IF(AK133>AL133,1,0)+IF(AM133>AN133,1,0)","v":2},{"$f":"AW135","v":1},{"$f":"AO133+AQ133+AS133+AO134+AQ134+AS134+AO136+AQ136+AS136","v":84},{"$f":"AP133+AR133+AT133+AP134+AR134+AT134+AP136+AR136+AT136","v":102},{"$f":"AY132+BA132+BC132","v":2},{"$f":"AZ132+BB132+BD132","v":5},{"$f":"IF(AY132>AZ132,1,0)+IF(BA132>BB132,1,0)+IF(BC132>BD132,1,0)","v":1},{"$f":"IF(AZ132>AY132,1,0)+IF(BB132>BA132,1,0)+IF(BD132>BC132,1,0)","v":2},{"$f":"IF(BI132+BJ132=0,\"\",IF(BL132=MAX(BL132:BL135),1,IF(BL132=LARGE(BL132:BL135,2),2,IF(BL132=LARGE(BL132:BL135,3),3,4))))","v":4},{"$f":"IF(BI132+BJ132<>0,BI132+1+(BG132-BH132)/100+(BE132-BF132)/100000+IF(BF132=0,0,(BE132/BF132)/1000000),0)","v":1.9698208235294117}]
[10,{"$f":"IF(N130=\"\",\"\",N130)","v":"x5"},{"$f":"IF(N131=\"\",\"\",N131)","v":""},{"$f":"IF(N139=\"\",\"\",N139)","v":"x31"},{"$f":"IF(N140=\"\",\"\",N140)","v":""},null,null,null,null,null,null,{"$f":"IF(VLOOKUP(N133,zawodnicy!A:E,5,FALSE)=0,\"\",N133)","v":""},{"$f":"N129","v":"GIMNAZJUM CHŁOPCY"},"x71",{"$f":"IF(O128>0,(O128&2)*1,\"\")","v":22},null,{"$f":"IF(AU133>0,\"\",IF(A133=0,\"\",IF(VLOOKUP(A133,'plan gier'!A:T,20,FALSE)=\"\",\"\",VLOOKUP(A133,'plan gier'!A:T,20,FALSE))))","v":""},"1-4",10,null,{"$f":"IF(AND(N133<>\"\",N134=\"\"),CONCATENATE(VLOOKUP(N133,zawodnicy!$A:$E,1,FALSE),\" \",VLOOKUP(N133,zawodnicy!$A:$E,2,FALSE),\" \",VLOOKUP(N133,zawodnicy!$A:$E,3,FALSE),\" - \",VLOOKUP(N133,zawodnicy!$A:$E,4,FALSE)),\"\")","v":"X71 Grzegorz  Cybulski - Garwolin"},null,null,{"$f":"IF(SUM(AQ134:AR134)=0,\"\",AR134&\":\"&AQ134)","v":"15:10"},null,{"$f":"IF(SUM(AQ132:AR132)=0,\"\",AQ132&\":\"&AR132)","v":"15:5"},{"$f":"IF(SUM(AQ137:AR137)=0,\"\",AQ137&\":\"&AR137)","v":"15:10"},null,null,null,null,null,null,"1-4",{"$f":"IF(ISBLANK(S133),\"\",VLOOKUP(S133,'plan gier'!$Z:$AP,12,FALSE))","v":11},{"$f":"IF(ISBLANK(S133),\"\",VLOOKUP(S133,'plan gier'!$Z:$AP,13,FALSE))","v":15},{"$f":"IF(ISBLANK(S133),\"\",VLOOKUP(S133,'plan gier'!$Z:$AP,14,FALSE))","v":15},{"$f":"IF(ISBLANK(S133),\"\",VLOOKUP(S133,'plan gier'!$Z:$AP,15,FALSE))","v":12},{"$f":"IF(ISBLANK(S133),\"\",VLOOKUP(S133,'plan gier'!$Z:$AP,16,FALSE))","v":17},{"$f":"IF(ISBLANK(S133),\"\",VLOOKUP(S133,'plan gier'!$Z:$AP,17,FALSE))","v":15},11,15,15,12,17,15,85,2,{"$f":"IF(AI134<AJ134,1,0)+IF(AK134<AL134,1,0)+IF(AM134<AN134,1,0)","v":2},{"$f":"AY132","v":0},null,null,{"$f":"IF(AI132>AJ132,1,0)+IF(AK132>AL132,1,0)+IF(AM132>AN132,1,0)","v":2},{"$f":"AY134","v":0},{"$f":"IF(AI137>AJ137,1,0)+IF(AK137>AL137,1,0)+IF(AM137>AN137,1,0)","v":2},{"$f":"AY135","v":0},{"$f":"AO132+AQ132+AS132+AP134+AR134+AT134+AO137+AQ137+AS137","v":90},{"$f":"AP132+AR132+AT132+AO134+AQ134+AS134+AP137+AR137+AT137","v":43},{"$f":"AW133+BA133+BC133","v":6},{"$f":"AX133+BB133+BD133","v":0},{"$f":"IF(AW133>AX133,1,0)+IF(BA133>BB133,1,0)+IF(BC133>BD133,1,0)","v":3},{"$f":"IF(AX133>AW133,1,0)+IF(BB133>BA133,1,0)+IF(BD133>BC133,1,0)","v":0},{"$f":"IF(BI133+BJ133=0,\"\",IF(BL133=MAX(BL132:BL135),1,IF(BL133=LARGE(BL132:BL135,2),2,IF(BL133=LARGE(BL132:BL135,3),3,4))))","v":1},{"$f":"IF(BI133+BJ133<>0,BI133+1+(BG133-BH133)/100+(BE133-BF133)/100000+IF(BF133=0,0,(BE133/BF133)/1000000),0)","v":4.0604720930232556}]
[19,{"$f":"IF(N130=\"\",\"\",N130)","v":"x5"},{"$f":"IF(N131=\"\",\"\",N131)","v":""},{"$f":"IF(N133=\"\",\"\",N133)","v":"x71"},{"$f":"IF(N134=\"\",\"\",N134)","v":""},null,null,null,{"$f":"\"3\"&O128&N129","v":"32GIMNAZJUM CHŁOPCY"},{"$f":"IF(SUM(AE129:AE140)=0,\"\",IF(AE129=3,N130,IF(AE132=3,N133,IF(AE135=3,N136,IF(AE138=3,N139,\"\")))))","v":"x72"},{"$f":"IF(SUM(AE129:AE140)=0,\"\",IF(AE129=3,N131,IF(AE132=3,N134,IF(AE135=3,N137,IF(AE138=3,N140,\"\")))))","v":0},{"$f":"IF(VLOOKUP(N134,zawodnicy!A:E,5,FALSE)=0,\"\",N134)","v":{"$error":"#N/A"}},{"$f":"N129","v":"GIMNAZJUM CHŁOPCY"},null,null,null,{"$f":"IF(AU134>0,\"\",IF(A134=0,\"\",IF(VLOOKUP(A134,'plan gier'!A:T,20,FALSE)=\"\",\"\",VLOOKUP(A134,'plan gier'!A:T,20,FALSE))))","v":""},"1-2",19,null,{"$f":"IF(N134<>\"\",CONCATENATE(VLOOKUP(N134,zawodnicy!$A:$E,1,FALSE),\" \",VLOOKUP(N134,zawodnicy!$A:$E,2,FALSE),\" \",VLOOKUP(N134,zawodnicy!$A:$E,3,FALSE),\" - \",VLOOKUP(N134,zawodnicy!$A:$E,4,FALSE)),\"\")","v":""},null,null,{"$f":"IF(SUM(AS134:AT134)=0,\"\",AT134&\":\"&AS134)","v":""},null,{"$f":"IF(SUM(AS132:AT132)=0,\"\",AS132&\":\"&AT132)","v":""},{"$f":"IF(SUM(AS137:AT137)=0,\"\",AS137&\":\"&AT137)","v":""},null,null,null,null,null,null,"1-2",{"$f":"IF(ISBLANK(S134),\"\",VLOOKUP(S134,'plan gier'!$Z:$AP,12,FALSE))","v":9},{"$f":"IF(ISBLANK(S134),\"\",VLOOKUP(S134,'plan gier'!$Z:$AP,13,FALSE))","v":15},{"$f":"IF(ISBLANK(S134),\"\",VLOOKUP(S134,'plan gier'!$Z:$AP,14,FALSE))","v":10},{"$f":"IF(ISBLANK(S134),\"\",VLOOKUP(S134,'plan gier'!$Z:$AP,15,FALSE))","v":15},{"$f":"IF(ISBLANK(S134),\"\",VLOOKUP(S134,'plan gier'!$Z:$AP,16,FALSE))","v":0},{"$f":"IF(ISBLANK(S134),\"\",VLOOKUP(S134,'plan gier'!$Z:$AP,17,FALSE))","v":0},9,15,10,15,0,0,49,3,{"$f":"IF(AI136<AJ136,1,0)+IF(AK136<AL136,1,0)+IF(AM136<AN136,1,0)","v":2},{"$f":"BA132","v":0},{"$f":"IF(AI132<AJ132,1,0)+IF(AK132<AL132,1,0)+IF(AM132<AN132,1,0)","v":0},{"$f":"BA133","v":2},null,null,{"$f":"IF(AI135>AJ135,1,0)+IF(AK135>AL135,1,0)+IF(AM135>AN135,1,0)","v":0},{"$f":"BA135","v":2},{"$f":"AP132+AR132+AT132+AO135+AQ135+AS135+AP136+AR136+AT136","v":47},{"$f":"AO132+AQ132+AS132+AP135+AR135+AT135+AO136+AQ136+AS136","v":82},{"$f":"AW134+AY134+BC134","v":2},{"$f":"AX134+AZ134+BD134","v":4},{"$f":"IF(AW134>AX134,1,0)+IF(AY134>AZ134,1,0)+IF(BC134>BD134,1,0)","v":1},{"$f":"IF(AX134>AW134,1,0)+IF(AZ134>AY134,1,0)+IF(BD134>BC134,1,0)","v":2},{"$f":"IF(BI134+BJ134=0,\"\",IF(BL134=MAX(BL132:BL135),1,IF(BL134=LARGE(BL132:BL135,2),2,IF(BL134=LARGE(BL132:BL135,3),3,4))))","v":3},{"$f":"IF(BI134+BJ134<>0,BI134+1+(BG134-BH134)/100+(BE134-BF134)/100000+IF(BF134=0,0,(BE134/BF134)/1000000),0)","v":1.9796505731707317}]
[20,{"$f":"IF(N136=\"\",\"\",N136)","v":"x72"},{"$f":"IF(N137=\"\",\"\",N137)","v":""},{"$f":"IF(N139=\"\",\"\",N139)","v":"x31"},{"$f":"IF(N140=\"\",\"\",N140)","v":""},null,null,null,null,null,null,null,{"$f":"N129","v":"GIMNAZJUM CHŁOPCY"},null,null,null,{"$f":"IF(AU135>0,\"\",IF(A135=0,\"\",IF(VLOOKUP(A135,'plan gier'!A:T,20,FALSE)=\"\",\"\",VLOOKUP(A135,'plan gier'!A:T,20,FALSE))))","v":""},"3-4",20,3,{"$f":"IF(AND(N136<>\"\",N137<>\"\"),CONCATENATE(VLOOKUP(N136,zawodnicy!$A:$E,1,FALSE),\" \",VLOOKUP(N136,zawodnicy!$A:$E,2,FALSE),\" \",VLOOKUP(N136,zawodnicy!$A:$E,3,FALSE),\" - \",VLOOKUP(N136,zawodnicy!$A:$E,4,FALSE)),\"\")","v":""},null,null,{"$f":"IF(SUM(AO136:AP136)=0,\"\",AP136&\":\"&AO136)","v":"15:11"},{"$f":"IF(SUM(AO132:AP132)=0,\"\",AP132&\":\"&AO132)","v":"3:15"},null,{"$f":"IF(SUM(AO135:AP135)=0,\"\",AO135&\":\"&AP135)","v":"4:15"},{"$f":"IF(SUM(AW134:AZ134,BC134:BD134)=0,\"\",BE134&\":\"&BF134)","v":"47:82"},{"$f":"IF(SUM(AW134:AZ134,BC134:BD134)=0,\"\",BG134&\":\"&BH134)","v":"2:4"},{"$f":"IF(SUM(AW134:AZ134,BC134:BD134)=0,\"\",BI134&\":\"&BJ134)","v":"1:2"},{"$f":"IF(SUM(BI132:BI135)>0,BK134,\"\")","v":3},null,null,"3-4",{"$f":"IF(ISBLANK(S135),\"\",VLOOKUP(S135,'plan gier'!$Z:$AP,12,FALSE))","v":4},{"$f":"IF(ISBLANK(S135),\"\",VLOOKUP(S135,'plan gier'!$Z:$AP,13,FALSE))","v":15},{"$f":"IF(ISBLANK(S135),\"\",VLOOKUP(S135,'plan gier'!$Z:$AP,14,FALSE))","v":5},{"$f":"IF(ISBLANK(S135),\"\",VLOOKUP(S135,'plan gier'!$Z:$AP,15,FALSE))","v":15},{"$f":"IF(ISBLANK(S135),\"\",VLOOKUP(S135,'plan gier'!$Z:$AP,16,FALSE))","v":0},{"$f":"IF(ISBLANK(S135),\"\",VLOOKUP(S135,'plan gier'!$Z:$AP,17,FALSE))","v":0},4,15,5,15,0,0,39,4,{"$f":"IF(AI133<AJ133,1,0)+IF(AK133<AL133,1,0)+IF(AM133<AN133,1,0)","v":1},{"$f":"BC132","v":2},{"$f":"IF(AI137<AJ137,1,0)+IF(AK137<AL137,1,0)+IF(AM137<AN137,1,0)","v":0},{"$f":"BC133","v":2},{"$f":"IF(AI135<AJ135,1,0)+IF(AK135<AL135,1,0)+IF(AM135<AN135,1,0)","v":2},{"$f":"BC134","v":0},null,null,{"$f":"AP133+AR133+AT133+AP135+AR135+AT135+AP137+AR137+AT137","v":88},{"$f":"AO133+AQ133+AS133+AO135+AQ135+AS135+AO137+AQ137+AS137","v":82},{"$f":"AW135+AY135+BA135","v":3},{"$f":"AX135+AZ135+BB135","v":4},{"$f":"IF(AW135>AX135,1,0)+IF(AY135>AZ135,1,0)+IF(BA135>BB135,1,0)","v":1},{"$f":"IF(AX135>AW135,1,0)+IF(AZ135>AY135,1,0)+IF(BB135>BA135,1,0)","v":2},{"$f":"IF(BI135+BJ135=0,\"\",IF(BL135=MAX(BL132:BL135),1,IF(BL135=LARGE(BL132:BL135,2),2,IF(BL135=LARGE(BL132:BL135,3),3,4))))","v":2},{"$f":"IF(BI135+BJ135<>0,BI135+1+(BG135-BH135)/100+(BE135-BF135)/100000+IF(BF135=0,0,(BE135/BF135)/1000000),0)","v":1.9900610731707316}]
[29,{"$f":"IF(N130=\"\",\"\",N130)","v":"x5"},{"$f":"IF(N131=\"\",\"\",N131)","v":""},{"$f":"IF(N136=\"\",\"\",N136)","v":"x72"},{"$f":"IF(N137=\"\",\"\",N137)","v":""},null,null,null,{"$f":"\"4\"&O128&N129","v":"42GIMNAZJUM CHŁOPCY"},{"$f":"IF(SUM(AE129:AE140)=0,\"\",IF(AE129=4,N130,IF(AE132=4,N133,IF(AE135=4,N136,IF(AE138=4,N139,\"\")))))","v":"x5"},{"$f":"IF(SUM(AE129:AE140)=0,\"\",IF(AE129=4,N131,IF(AE132=4,N134,IF(AE135=4,N137,IF(AE138=4,N140,\"\")))))","v":0},{"$f":"IF(VLOOKUP(N136,zawodnicy!A:E,5,FALSE)=0,\"\",N136)","v":""},{"$f":"N129","v":"GIMNAZJUM CHŁOPCY"},"x72",{"$f":"IF(O128>0,(O128&3)*1,\"\")","v":23},null,{"$f":"IF(AU136>0,\"\",IF(A136=0,\"\",IF(VLOOKUP(A136,'plan gier'!A:T,20,FALSE)=\"\",\"\",VLOOKUP(A136,'plan gier'!A:T,20,FALSE))))","v":""},"1-3",29,null,{"$f":"IF(AND(N136<>\"\",N137=\"\"),CONCATENATE(VLOOKUP(N136,zawodnicy!$A:$E,1,FALSE),\" \",VLOOKUP(N136,zawodnicy!$A:$E,2,FALSE),\" \",VLOOKUP(N136,zawodnicy!$A:$E,3,FALSE),\" - \",VLOOKUP(N136,zawodnicy!$A:$E,4,FALSE)),\"\")","v":"X72 Kacper Urbaniak - Ząbki"},null,null,{"$f":"IF(SUM(AQ136:AR136)=0,\"\",AR136&\":\"&AQ136)","v":"15:11"},{"$f":"IF(SUM(AQ132:AR132)=0,\"\",AR132&\":\"&AQ132)","v":"5:15"},null,{"$f":"IF(SUM(AQ135:AR135)=0,\"\",AQ135&\":\"&AR135)","v":"5:15"},null,null,null,null,null,null,"1-3",{"$f":"IF(ISBLANK(S136),\"\",VLOOKUP(S136,'plan gier'!$Z:$AP,12,FALSE))","v":11},{"$f":"IF(ISBLANK(S136),\"\",VLOOKUP(S136,'plan gier'!$Z:$AP,13,FALSE))","v":15},{"$f":"IF(ISBLANK(S136),\"\",VLOOKUP(S136,'plan gier'!$Z:$AP,14,FALSE))","v":11},{"$f":"IF(ISBLANK(S136),\"\",VLOOKUP(S136,'plan gier'!$Z:$AP,15,FALSE))","v":15},{"$f":"IF(ISBLANK(S136),\"\",VLOOKUP(S136,'plan gier'!$Z:$AP,16,FALSE))","v":0},{"$f":"IF(ISBLANK(S136),\"\",VLOOKUP(S136,'plan gier'!$Z:$AP,17,FALSE))","v":0},11,15,11,15,0,0,52,null,null,null,null,null,null,null,null,null,{"$f":"SUM(BE132:BE135)","v":309},309,13,13,6,6]
[30,{"$f":"IF(N133=\"\",\"\",N133)","v":"x71"},{"$f":"IF(N134=\"\",\"\",N134)","v":""},{"$f":"IF(N139=\"\",\"\",N139)","v":"x31"},{"$f":"IF(N140=\"\",\"\",N140)","v":""},null,null,null,null,null,null,{"$f":"IF(VLOOKUP(N137,zawodnicy!A:E,5,FALSE)=0,\"\",N137)","v":{"$error":"#N/A"}},{"$f":"N129","v":"GIMNAZJUM CHŁOPCY"},null,null,null,{"$f":"IF(AU137>0,\"\",IF(A137=0,\"\",IF(VLOOKUP(A137,'plan gier'!A:T,20,FALSE)=\"\",\"\",VLOOKUP(A137,'plan gier'!A:T,20,FALSE))))","v":""},"2-4",30,null,{"$f":"IF(N137<>\"\",CONCATENATE(VLOOKUP(N137,zawodnicy!$A:$E,1,FALSE),\" \",VLOOKUP(N137,zawodnicy!$A:$E,2,FALSE),\" \",VLOOKUP(N137,zawodnicy!$A:$E,3,FALSE),\" - \",VLOOKUP(N137,zawodnicy!$A:$E,4,FALSE)),\"\")","v":""},null,null,{"$f":"IF(SUM(AS136:AT136)=0,\"\",AT136&\":\"&AS136)","v":""},{"$f":"IF(SUM(AS132:AT132)=0,\"\",AT132&\":\"&AS132)","v":""},null,{"$f":"IF(SUM(AS135:AT135)=0,\"\",AS135&\":\"&AT135)","v":""},null,null,null,null,null,null,"2-4",{"$f":"IF(ISBLANK(S137),\"\",VLOOKUP(S137,'plan gier'!$Z:$AP,12,FALSE))","v":15},{"$f":"IF(ISBLANK(S137),\"\",VLOOKUP(S137,'plan gier'!$Z:$AP,13,FALSE))","v":6},{"$f":"IF(ISBLANK(S137),\"\",VLOOKUP(S137,'plan gier'!$Z:$AP,14,FALSE))","v":15},{"$f":"IF(ISBLANK(S137),\"\",VLOOKUP(S137,'plan gier'!$Z:$AP,15,FALSE))","v":10},{"$f":"IF(ISBLANK(S137),\"\",VLOOKUP(S137,'plan gier'!$Z:$AP,16,FALSE))","v":0},{"$f":"IF(ISBLANK(S137),\"\",VLOOKUP(S137,'plan gier'!$Z:$AP,17,FALSE))","v":0},15,6,15,10,0,0,46]
[null,null,null,null,null,null,null,null,null,null,null,null,null,null,null,null,null,null,null,4,{"$f":"IF(AND(N139<>\"\",N140<>\"\"),CONCATENATE(VLOOKUP(N139,zawodnicy!$A:$E,1,FALSE),\" \",VLOOKUP(N139,zawodnicy!$A:$E,2,FALSE),\" \",VLOOKUP(N139,zawodnicy!$A:$E,3,FALSE),\" - \",VLOOKUP(N139,zawodnicy!$A:$E,4,FALSE)),\"\")","v":""},null,null,{"$f":"IF(SUM(AO133:AP133)=0,\"\",AP133&\":\"&AO133)","v":"15:11"},{"$f":"IF(SUM(AO137:AP137)=0,\"\",AP137&\":\"&AO137)","v":"6:15"},{"$f":"IF(SUM(AO135:AP135)=0,\"\",AP135&\":\"&AO135)","v":"15:4"},null,{"$f":"IF(SUM(AW135:BB135)=0,\"\",BE135&\":\"&BF135)","v":"88:82"},{"$f":"IF(SUM(AW135:BB135)=0,\"\",BG135&\":\"&BH135)","v":"3:4"},{"$f":"IF(SUM(AW135:BB135)=0,\"\",BI135&\":\"&BJ135)","v":"1:2"},{"$f":"IF(SUM(BI132:BI135)>0,BK135,\"\")","v":2}]
[null,null,null,null,null,null,null,null,null,null,null,{"$f":"IF(VLOOKUP(N139,zawodnicy!A:E,5,FALSE)=0,\"\",N139)","v":""},null,"x31",{"$f":"IF(O128>0,(O128&4)*1,\"\")","v":24},null,null,null,null,null,{"$f":"IF(AND(N139<>\"\",N140=\"\"),CONCATENATE(VLOOKUP(N139,zawodnicy!$A:$E,1,FALSE),\" \",VLOOKUP(N139,zawodnicy!$A:$E,2,FALSE),\" \",VLOOKUP(N139,zawodnicy!$A:$E,3,FALSE),\" - \",VLOOKUP(N139,zawodnicy!$A:$E,4,FALSE)),\"\")","v":"X31 Damian  Mil - Ząbki"},null,null,{"$f":"IF(SUM(AQ133:AR133)=0,\"\",AR133&\":\"&AQ133)","v":"12:15"},{"$f":"IF(SUM(AQ137:AR137)=0,\"\",AR137&\":\"&AQ137)","v":"10:15"},{"$f":"IF(SUM(AQ135:AR135)=0,\"\",AR135&\":\"&AQ135)","v":"15:5"}]
[null,null,null,null,null,null,null,null,null,null,null,{"$f":"IF(VLOOKUP(N140,zawodnicy!A:E,5,FALSE)=0,\"\",N140)","v":{"$error":"#N/A"}},null,null,null,null,null,null,null,null,{"$f":"IF(N140<>\"\",CONCATENATE(VLOOKUP(N140,zawodnicy!$A:$E,1,FALSE),\" \",VLOOKUP(N140,zawodnicy!$A:$E,2,FALSE),\" \",VLOOKUP(N140,zawodnicy!$A:$E,3,FALSE),\" - \",VLOOKUP(N140,zawodnicy!$A:$E,4,FALSE)),\"\")","v":""},null,null,{"$f":"IF(SUM(AS133:AT133)=0,\"\",AT133&\":\"&AS133)","v":"15:17"},{"$f":"IF(SUM(AS137:AT137)=0,\"\",AT137&\":\"&AS137)","v":""},{"$f":"IF(SUM(AS135:AT135)=0,\"\",AT135&\":\"&AS135)","v":""}]
[]
[]
[null,null,null,null,null,null,null,null,null,null,null,null,null,null,null,null,null,null,null,"3-4.",null,null,null,"2.",null,null,"1."]
[null,null,null,null,null,null,null,null,null,null,null,null,null,"GIMNAZJUM CHŁOPCY"]
[{"$f":"W145","v":38},{"$f":"IF(TYPE(T145)=16,\"\",T145)","v":"X60"},null,{"$f":"IF(TYPE(T146)=16,\"\",T146)","v":"X31"},null,{"$f":"IF(A145=0,IF(AND(LEN(B145)>0,LEN(D145)=0),VLOOKUP(B145,zawodnicy!$A:$E,1,FALSE),IF(AND(LEN(D145)>0,LEN(B145)=0),VLOOKUP(D145,zawodnicy!$A:$E,1,FALSE),\"\")),IF((VLOOKUP(A145,'plan gier'!$Z:$AH,7,FALSE))=\"\",\"\",VLOOKUP(VLOOKUP(A145,'plan gier'!$Z:$AH,7,FALSE),zawodnicy!$A:$E,1,FALSE)))","v":"X60"},null,{"$f":"IF(A145=0,\"\",IF((VLOOKUP(A145,'plan gier'!$Z:$AH,7,FALSE))=\"\",\"\",VLOOKUP(A145,'plan gier'!$Z:$AH,9,FALSE)))","v":"15:4,15:7"},null,null,null,{"$f":"IF(A145=0,\"\",IF(VLOOKUP(A145,'plan gier'!A:T,20,FALSE)=\"\",\"\",VLOOKUP(A145,'plan gier'!A:T,20,FALSE)))","v":{"$error":"#N/A"}},{"$f":"N144","v":"GIMNAZJUM CHŁOPCY"},null,null,null,"1. z gr. 1",null,null,{"$f":"UPPER(IF((N144=\"\"),\"\",IF(TYPE(VLOOKUP(1&1&N144,I:J,2,FALSE))=2,VLOOKUP(1&1&N144,I:J,2,FALSE),\"\")))","v":"X60"},null,{"$f":"IF(T145<>\"\",CONCATENATE(VLOOKUP(T145,zawodnicy!$A:$E,2,FALSE),\" \",VLOOKUP(T145,zawodnicy!$A:$E,3,FALSE),\" - \",VLOOKUP(T145,zawodnicy!$A:$E,4,FALSE)),\"\")","v":"Adam  Walocha - Ząbki"},38,{"$f":"IF(ISBLANK(W145),IF(AND(LEN(T145)>0,LEN(T146)=0),VLOOKUP(T145,zawodnicy!$A:$E,3,FALSE),IF(AND(LEN(T146)>0,LEN(T145)=0),VLOOKUP(T146,zawodnicy!$A:$E,3,FALSE),\"\")),IF((VLOOKUP(W145,'plan gier'!$Z:$AH,7,FALSE))=\"\",\"\",VLOOKUP(VLOOKUP(W145,'plan gier'!$Z:$AH,7,FALSE),zawodnicy!$A:$E,3,FALSE)))","v":"Walocha"}]
[null,null,null,null,null,null,null,null,null,null,null,null,null,null,null,null,"2. z gr. 2",null,null,{"$f":"UPPER(IF(N144=\"\",\"\",IF(TYPE(VLOOKUP(2&2&N144,I:J,2,FALSE))=2,VLOOKUP(2&2&N144,I:J,2,FALSE),\"\")))","v":"X31"},null,{"$f":"IF(T146<>\"\",CONCATENATE(VLOOKUP(T146,zawodnicy!$A:$E,2,FALSE),\" \",VLOOKUP(T146,zawodnicy!$A:$E,3,FALSE),\" - \",VLOOKUP(T146,zawodnicy!$A:$E,4,FALSE)),\"\")","v":"Damian  Mil - Ząbki"},null,{"$f":"IF(ISBLANK(W145),\"\",IF((VLOOKUP(W145,'plan gier'!$Z:$AH,7,FALSE))=\"\",L145,VLOOKUP(W145,'plan gier'!$Z:$AH,9,FALSE)))","v":"15:4,15:7"}]
[{"$f":"Z147","v":45},{"$f":"F145","v":"X60"},null,{"$f":"F149","v":"X63"},null,{"$f":"IF(A147=0,IF(AND(LEN(B147)>0,LEN(D147)=0),B147,IF(AND(LEN(D147)>0,LEN(B147)=0),D147,\"\")),IF((VLOOKUP(A147,'plan gier'!$Z:$AH,7,FALSE))=\"\",\"\",VLOOKUP(VLOOKUP(A147,'plan gier'!$Z:$AH,7,FALSE),zawodnicy!$A:$E,1,FALSE)))","v":"X63"},null,{"$f":"IF(A147=0,\"\",IF((VLOOKUP(A147,'plan gier'!$Z:$AH,7,FALSE))=\"\",\"\",VLOOKUP(A147,'plan gier'!$Z:$AH,9,FALSE)))","v":"15:9,15:8"},null,null,null,{"$f":"IF(A147=0,\"\",IF(VLOOKUP(A147,'plan gier'!A:T,20,FALSE)=\"\",\"\",VLOOKUP(A147,'plan gier'!A:T,20,FALSE)))","v":{"$error":"#N/A"}},{"$f":"N144","v":"GIMNAZJUM CHŁOPCY"},null,null,null,null,null,null,null,null,null,null,null,null,45,{"$f":"IF(ISBLANK(Z147),IF(AND(LEN(X145)>0,LEN(X149)=0),X145,IF(AND(LEN(X149)>0,LEN(X145)=0),X149,\"\")),IF((VLOOKUP(Z147,'plan gier'!$Z:$AH,7,FALSE))=\"\",\"\",VLOOKUP(VLOOKUP(Z147,'plan gier'!$Z:$AH,7,FALSE),zawodnicy!$A:$E,3,FALSE)))","v":"Wróblewska"}]
[null,null,null,null,null,null,null,null,null,null,null,null,null,null,null,null,null,null,null,null,null,null,null,null,null,null,{"$f":"IF(ISBLANK(Z147),\"\",IF((VLOOKUP(Z147,'plan gier'!$Z:$AH,7,FALSE))=\"\",L147,VLOOKUP(Z147,'plan gier'!$Z:$AH,9,FALSE)))","v":"15:9,15:8"}]
[{"$f":"W149","v":39},{"$f":"IF(TYPE(T149)=16,\"\",T149)","v":"X63"},null,{"$f":"IF(TYPE(T150)=16,\"\",T150)","v":"X71"},null,{"$f":"IF(A149=0,IF(AND(LEN(B149)>0,LEN(D149)=0),VLOOKUP(B149,zawodnicy!$A:$E,1,FALSE),IF(AND(LEN(D149)>0,LEN(B149)=0),VLOOKUP(D149,zawodnicy!$A:$E,1,FALSE),\"\")),IF((VLOOKUP(A149,'plan gier'!$Z:$AH,7,FALSE))=\"\",\"\",VLOOKUP(VLOOKUP(A149,'plan gier'!$Z:$AH,7,FALSE),zawodnicy!$A:$E,1,FALSE)))","v":"X63"},null,{"$f":"IF(A149=0,\"\",IF((VLOOKUP(A149,'plan gier'!$Z:$AH,7,FALSE))=\"\",\"\",VLOOKUP(A149,'plan gier'!$Z:$AH,9,FALSE)))","v":"11:15,15:11,15:13"},null,null,null,{"$f":"IF(A149=0,\"\",IF(VLOOKUP(A149,'plan gier'!A:T,20,FALSE)=\"\",\"\",VLOOKUP(A149,'plan gier'!A:T,20,FALSE)))","v":{"$error":"#N/A"}},{"$f":"N144","v":"GIMNAZJUM CHŁOPCY"},null,null,null,"2. z gr. 1",null,null,{"$f":"UPPER(IF(N144=\"\",\"\",IF(TYPE(VLOOKUP(2&1&N144,I:J,2,FALSE))=2,VLOOKUP(2&1&N144,I:J,2,FALSE),\"\")))","v":"X63"},null,{"$f":"IF(T149<>\"\",CONCATENATE(VLOOKUP(T149,zawodnicy!$A:$E,2,FALSE),\" \",VLOOKUP(T149,zawodnicy!$A:$E,3,FALSE),\" - \",VLOOKUP(T149,zawodnicy!$A:$E,4,FALSE)),\"\")","v":"Kasia Wróblewska - Mińsk Mazowiecki"},39,{"$f":"IF(ISBLANK(W149),IF(AND(LEN(T149)>0,LEN(T150)=0),VLOOKUP(T149,zawodnicy!$A:$E,3,FALSE),IF(AND(LEN(T150)>0,LEN(T149)=0),VLOOKUP(T150,zawodnicy!$A:$E,3,FALSE),\"\")),IF((VLOOKUP(W149,'plan gier'!$Z:$AH,7,FALSE))=\"\",\"\",VLOOKUP(VLOOKUP(W149,'plan gier'!$Z:$AH,7,FALSE),zawodnicy!$A:$E,3,FALSE)))","v":"Wróblewska"}]
[null,null,null,null,null,null,null,null,null,null,null,null,null,null,null,null,"1. z gr. 2",null,null,{"$f":"UPPER(IF(N144=\"\",\"\",IF(TYPE(VLOOKUP(1&2&N144,I:J,2,FALSE))=2,VLOOKUP(1&2&N144,I:J,2,FALSE),\"\")))","v":"X71"},null,{"$f":"IF(T150<>\"\",CONCATENATE(VLOOKUP(T150,zawodnicy!$A:$E,2,FALSE),\" \",VLOOKUP(T150,zawodnicy!$A:$E,3,FALSE),\" - \",VLOOKUP(T150,zawodnicy!$A:$E,4,FALSE)),\"\")","v":"Grzegorz  Cybulski - Garwolin"},null,{"$f":"IF(ISBLANK(W149),\"\",IF((VLOOKUP(W149,'plan gier'!$Z:$AH,7,FALSE))=\"\",L149,VLOOKUP(W149,'plan gier'!$Z:$AH,9,FALSE)))","v":"11:15,15:11,15:13"}]
[]
[null,null,null,null,null,null,null,null,null,null,null,null,null,3]
[null,null,null,null,null,null,null,null,null,null,null,null,null,"GIMNAZJUM CHŁOPCY"]
[{"$f":"W154","v":40},{"$f":"IF(T154=\"\",\"\",T154)","v":"X70"},null,{"$f":"IF(T155=\"\",\"\",T155)","v":"X72"},null,{"$f":"IF(A154=0,IF(AND(LEN(B154)>0,LEN(D154)=0),VLOOKUP(B154,zawodnicy!$A:$E,1,FALSE),IF(AND(LEN(D154)>0,LEN(B154)=0),VLOOKUP(D154,zawodnicy!$A:$E,1,FALSE),\"\")),IF((VLOOKUP(A154,'plan gier'!$Z:$AH,7,FALSE))=\"\",\"\",VLOOKUP(VLOOKUP(A154,'plan gier'!$Z:$AH,7,FALSE),zawodnicy!$A:$E,1,FALSE)))","v":"X70"},null,{"$f":"IF(A154=0,\"\",IF((VLOOKUP(A154,'plan gier'!$Z:$AH,7,FALSE))=\"\",\"\",VLOOKUP(A154,'plan gier'!$Z:$AH,9,FALSE)))","v":"15:7,15:6"},null,null,null,{"$f":"IF(A154=0,\"\",IF(VLOOKUP(A154,'plan gier'!A:T,20,FALSE)=\"\",\"\",VLOOKUP(A154,'plan gier'!A:T,20,FALSE)))","v":{"$error":"#N/A"}},{"$f":"N153","v":"GIMNAZJUM CHŁOPCY"},null,1,null,{"$f":"O154","v":1},null,null,{"$f":"UPPER(IF(O154=\"\",\"\",IF(ISTEXT(N154),N154,IF(AND(N152>0,O154>0),VLOOKUP(N152&O154&N153,I:J,2,FALSE),\"\"))))","v":"X70"},null,{"$f":"IF(T154<>\"\",CONCATENATE(VLOOKUP(T154,zawodnicy!$A:$E,2,FALSE),\" \",VLOOKUP(T154,zawodnicy!$A:$E,3,FALSE),\" - \",VLOOKUP(T154,zawodnicy!$A:$E,4,FALSE)),\"\")","v":"Konrad  Kalinowski - Garwolin"},40,{"$f":"IF(F154=\"\",\"\",VLOOKUP(F154,zawodnicy!$A:$D,3,FALSE))","v":"Kalinowski"}]
[null,null,null,null,null,null,null,null,null,null,null,null,null,null,2,null,{"$f":"O155","v":2},null,null,{"$f":"UPPER(IF(O155=\"\",\"\",IF(ISTEXT(N155),N155,IF(AND(N152>0,O155>0),VLOOKUP(N152&O155&N153,I:J,2,FALSE),\"\"))))","v":"X72"},null,{"$f":"IF(T155<>\"\",CONCATENATE(VLOOKUP(T155,zawodnicy!$A:$E,2,FALSE),\" \",VLOOKUP(T155,zawodnicy!$A:$E,3,FALSE),\" - \",VLOOKUP(T155,zawodnicy!$A:$E,4,FALSE)),\"\")","v":"Kacper Urbaniak - Ząbki"},null,{"$f":"IF(H154=\"\",L154,H154)","v":"15:7,15:6"}]
[]
[null,null,null,null,null,null,null,null,null,null,null,null,null,4]
[null,null,null,null,null,null,null,null,null,null,null,null,null,"GIMNAZJUM CHŁOPCY"]
[{"$f":"W159","v":41},{"$f":"IF(T159=\"\",\"\",T159)","v":"X37"},null,{"$f":"IF(T160=\"\",\"\",T160)","v":"X5"},null,{"$f":"IF(A159=0,IF(AND(LEN(B159)>0,LEN(D159)=0),VLOOKUP(B159,zawodnicy!$A:$E,1,FALSE),IF(AND(LEN(D159)>0,LEN(B159)=0),VLOOKUP(D159,zawodnicy!$A:$E,1,FALSE),\"\")),IF((VLOOKUP(A159,'plan gier'!$Z:$AH,7,FALSE))=\"\",\"\",VLOOKUP(VLOOKUP(A159,'plan gier'!$Z:$AH,7,FALSE),zawodnicy!$A:$E,1,FALSE)))","v":"X5"},null,{"$f":"IF(A159=0,\"\",IF((VLOOKUP(A159,'plan gier'!$Z:$AH,7,FALSE))=\"\",\"\",VLOOKUP(A159,'plan gier'!$Z:$AH,9,FALSE)))","v":"16:14,15:7"},null,null,null,{"$f":"IF(A159=0,\"\",IF(VLOOKUP(A159,'plan gier'!A:T,20,FALSE)=\"\",\"\",VLOOKUP(A159,'plan gier'!A:T,20,FALSE)))","v":{"$error":"#N/A"}},{"$f":"N158","v":"GIMNAZJUM CHŁOPCY"},null,1,null,{"$f":"O159","v":1},null,null,{"$f":"UPPER(IF(O159=\"\",\"\",IF(ISTEXT(N159),N159,IF(AND(N157>0,O159>0),VLOOKUP(N157&O159&N158,I:J,2,FALSE),\"\"))))","v":"X37"},null,{"$f":"IF(T159<>\"\",CONCATENATE(VLOOKUP(T159,zawodnicy!$A:$E,2,FALSE),\" \",VLOOKUP(T159,zawodnicy!$A:$E,3,FALSE),\" - \",VLOOKUP(T159,zawodnicy!$A:$E,4,FALSE)),\"\")","v":"Kuba  Paciorek - Ząbki"},41,{"$f":"IF(F159=\"\",\"\",VLOOKUP(F159,zawodnicy!$A:$D,3,FALSE))","v":"Dworzak"}]
[null,null,null,null,null,null,null,null,null,null,null,null,null,null,2,null,{"$f":"O160","v":2},null,null,{"$f":"UPPER(IF(O160=\"\",\"\",IF(ISTEXT(N160),N160,IF(AND(N157>0,O160>0),VLOOKUP(N157&O160&N158,I:J,2,FALSE),\"\"))))","v":"X5"},null,{"$f":"IF(T160<>\"\",CONCATENATE(VLOOKUP(T160,zawodnicy!$A:$E,2,FALSE),\" \",VLOOKUP(T160,zawodnicy!$A:$E,3,FALSE),\" - \",VLOOKUP(T160,zawodnicy!$A:$E,4,FALSE)),\"\")","v":"Jakub  Dworzak - Zielonka"},null,{"$f":"IF(H159=\"\",L159,H159)","v":"16:14,15:7"}]
[]
[]
[null,null,null,null,null,null,null,null,null,null,null,null,null,{"$f":"M165","v":"GIMNAZJUM CHŁOPCY"},null,null,null,null,null,"4.",null,null,null,"3."]
[null,null,null,null,null,null,null,null,null,null,null,null,null,"o 3 miejsce"]
[{"$f":"W165","v":44},{"$f":"IF(T165=\"\",\"\",T165)","v":"X31"},null,{"$f":"IF(T166=\"\",\"\",T166)","v":"X71"},null,{"$f":"IF(A165=0,IF(AND(LEN(B165)>0,LEN(D165)=0),VLOOKUP(B165,zawodnicy!$A:$E,1,FALSE),IF(AND(LEN(D165)>0,LEN(B165)=0),VLOOKUP(D165,zawodnicy!$A:$E,1,FALSE),\"\")),IF((VLOOKUP(A165,'plan gier'!$Z:$AH,7,FALSE))=\"\",\"\",VLOOKUP(VLOOKUP(A165,'plan gier'!$Z:$AH,7,FALSE),zawodnicy!$A:$E,1,FALSE)))","v":"X71"},null,{"$f":"IF(A165=0,\"\",IF((VLOOKUP(A165,'plan gier'!$Z:$AH,7,FALSE))=\"\",\"\",VLOOKUP(A165,'plan gier'!$Z:$AH,9,FALSE)))","v":"15:7,15:17,15:9"},null,null,null,{"$f":"IF(A165=0,\"\",IF(VLOOKUP(A165,'plan gier'!A:T,20,FALSE)=\"\",\"\",VLOOKUP(A165,'plan gier'!A:T,20,FALSE)))","v":{"$error":"#N/A"}},{"$f":"IF(N165=\"\",\"\",VLOOKUP(N165,A:M,13,FALSE))","v":"GIMNAZJUM CHŁOPCY"},38,null,null,null,null,null,{"$f":"IF(N165=\"\",\"\",IF(LEN(VLOOKUP(N165,A:M,6,FALSE))=0,\"\",IF(VLOOKUP(N165,A:M,6,FALSE)=VLOOKUP(N165,A:M,2,FALSE),VLOOKUP(N165,A:M,4,FALSE),VLOOKUP(N165,A:M,2,FALSE))))","v":"X31"},null,{"$f":"IF(T165<>\"\",CONCATENATE(VLOOKUP(T165,zawodnicy!$A:$E,2,FALSE),\" \",VLOOKUP(T165,zawodnicy!$A:$E,3,FALSE),\" - \",VLOOKUP(T165,zawodnicy!$A:$E,4,FALSE)),\"\")","v":"Damian  Mil - Ząbki"},44,{"$f":"IF(F165=\"\",\"\",VLOOKUP(F165,zawodnicy!$A:$D,3,FALSE))","v":"Cybulski"}]
[null,null,null,null,null,null,null,null,null,null,null,null,null,39,null,null,null,null,null,{"$f":"IF(N166=\"\",\"\",IF(LEN(VLOOKUP(N166,A:M,6,FALSE))=0,\"\",IF(VLOOKUP(N166,A:M,6,FALSE)=VLOOKUP(N166,A:M,2,FALSE),VLOOKUP(N166,A:M,4,FALSE),VLOOKUP(N166,A:M,2,FALSE))))","v":"X71"},null,{"$f":"IF(T166<>\"\",CONCATENATE(VLOOKUP(T166,zawodnicy!$A:$E,2,FALSE),\" \",VLOOKUP(T166,zawodnicy!$A:$E,3,FALSE),\" - \",VLOOKUP(T166,zawodnicy!$A:$E,4,FALSE)),\"\")","v":"Grzegorz  Cybulski - Garwolin"},null,{"$f":"IF(H165=\"\",L165,H165)","v":"15:7,15:17,15:9"}]
[]
[]
[]
[null,null,null,null,null,null,null,null,null,null,null,null,null,null,null,null,null,null,null,null,null,null,null,null,null,null,null,null,"Sędzia główny"]
[null,null,null,null,null,null,null,null,null,null,null,null,null,null,null,null,null,null,null,null,null,null,null,null,null,null,null,null,{"$f":"IF(ISBLANK(dane!$D$4),\"\",dane!$D$4)","v":"Marek Krawczyk"}]
[]
[]
[]
[null,null,null,null,null,null,null,null,null,null,null,null,null,"PODWÓJNA DZIECI",null,null,{"$f":"\"Gra \"&N175","v":"Gra PODWÓJNA DZIECI"}]
[]
[]
[]
[null,null,null,null,null,null,null,null,null,null,null,null,null,null,8]
[null,null,null,null,null,null,null,null,null,null,null,null,null,"PODWÓJNA DZIECI"]
[null,null,null,null,null,null,null,null,null,null,null,null,null,"x60",{"$f":"IF(P181=\"\",\"\",1)","v":1},{"$f":"IF(O179>4,1,\"\")","v":1},{"$f":"O181","v":1},null,null,{"$f":"UPPER(IF(O181=\"\",\"\",IF(ISTEXT(N181),N181,IF(AND(N179>0,O181>0),VLOOKUP(N179&O181&N180,I:K,2,FALSE),\"\"))))","v":"X60"},null,{"$f":"IF(T181<>\"\",CONCATENATE(VLOOKUP(T181,zawodnicy!$A:$E,2,FALSE),\" \",VLOOKUP(T181,zawodnicy!$A:$E,3,FALSE),\" - \",VLOOKUP(T181,zawodnicy!$A:$E,4,FALSE)),\"\")","v":"Adam  Walocha - Ząbki"},null,{"$f":"IF(ISBLANK(W182),IF(AND(LEN(T181)>0,LEN(T183)=0),VLOOKUP(T181,zawodnicy!$A:$E,3,FALSE),IF(AND(LEN(T183)>0,LEN(T181)=0),VLOOKUP(T183,zawodnicy!$A:$E,3,FALSE),\"\")),IF((VLOOKUP(W182,'plan gier'!$Z:$AH,7,FALSE))=\"\",\"\",VLOOKUP(VLOOKUP(W182,'plan gier'!$Z:$AH,7,FALSE),zawodnicy!$A:$E,3,FALSE)))","v":"Walocha"}]
[{"$f":"W182","v":46},{"$f":"IF(TYPE(T181)=16,\"\",T181)","v":"X60"},{"$f":"IF(TYPE(T182)=16,\"\",T182)","v":"X59"},{"$f":"IF(TYPE(T183)=16,\"\",T183)","v":"X31"},{"$f":"IF(TYPE(T184)=16,\"\",T184)","v":"X48"},{"$f":"IF(A182=0,IF(AND(LEN(B182)>1,LEN(D182)=0),VLOOKUP(B182,zawodnicy!$A:$E,1,FALSE),IF(AND(LEN(D182)>1,LEN(B182)=0),VLOOKUP(D182,zawodnicy!$A:$E,1,FALSE),\"\")),IF((VLOOKUP(A182,'plan gier'!$Z:$AH,7,FALSE))=\"\",\"\",VLOOKUP(VLOOKUP(A182,'plan gier'!$Z:$AH,7,FALSE),zawodnicy!$A:$E,1,FALSE)))","v":"X60"},{"$f":"IF(A182=0,IF(AND(LEN(C182)>1,LEN(E182)=0),VLOOKUP(C182,zawodnicy!$A:$E,1,FALSE),IF(AND(LEN(E182)>1,LEN(C182)=0),VLOOKUP(E182,zawodnicy!$A:$E,1,FALSE),\"\")),IF((VLOOKUP(A182,'plan gier'!$Z:$AH,8,FALSE))=\"\",\"\",VLOOKUP(VLOOKUP(A182,'plan gier'!$Z:$AH,8,FALSE),zawodnicy!$A:$E,1,FALSE)))","v":"X59"},{"$f":"IF(A182=0,\"\",IF((VLOOKUP(A182,'plan gier'!$Z:$AH,7,FALSE))=\"\",\"\",VLOOKUP(A182,'plan gier'!$Z:$AH,9,FALSE)))","v":"11:6,11:1"},null,null,null,{"$f":"IF(A182=0,\"\",IF(VLOOKUP(A182,'plan gier'!A:T,20,FALSE)=\"\",\"\",VLOOKUP(A182,'plan gier'!A:T,20,FALSE)))","v":{"$error":"#N/A"}},{"$f":"N180","v":"PODWÓJNA DZIECI"},"x59",null,null,null,null,null,{"$f":"UPPER(IF(O181=\"\",\"\",IF(ISTEXT(N182),N182,IF(AND(N179>0,O181>0),VLOOKUP(N179&O181&N180,I:K,3,FALSE),\"\"))))","v":"X59"},null,{"$f":"IF(T182<>\"\",CONCATENATE(VLOOKUP(T182,zawodnicy!$A:$E,2,FALSE),\" \",VLOOKUP(T182,zawodnicy!$A:$E,3,FALSE),\" - \",VLOOKUP(T182,zawodnicy!$A:$E,4,FALSE)),\"\")","v":"Jakub  Walocha - Ząbki"},46,{"$f":"IF(ISBLANK(W182),IF(AND(LEN(T182)>0,LEN(T184)=0),VLOOKUP(T182,zawodnicy!$A:$E,3,FALSE),IF(AND(LEN(T184)>0,LEN(T182)=0),VLOOKUP(T184,zawodnicy!$A:$E,3,FALSE),\"\")),IF((VLOOKUP(W182,'plan gier'!$Z:$AH,8,FALSE))=\"\",\"\",VLOOKUP(VLOOKUP(W182,'plan gier'!$Z:$AH,8,FALSE),zawodnicy!$A:$E,3,FALSE)))","v":"Walocha"}]
[null,null,null,null,null,null,null,null,null,null,null,null,null,"x31",{"$f":"IF(P183=\"\",\"\",MAX(O181:O182)+1)","v":2},{"$f":"IF(O179>7,5,\"\")","v":5},{"$f":"O183","v":2},null,null,{"$f":"UPPER(IF(O183=\"\",\"\",IF(ISTEXT(N183),N183,IF(AND(N179>0,O183>0),VLOOKUP(N179&O183&N180,I:K,2,FALSE),\"\"))))","v":"X31"},null,{"$f":"IF(T183<>\"\",CONCATENATE(VLOOKUP(T183,zawodnicy!$A:$E,2,FALSE),\" \",VLOOKUP(T183,zawodnicy!$A:$E,3,FALSE),\" - \",VLOOKUP(T183,zawodnicy!$A:$E,4,FALSE)),\"\")","v":"Damian  Mil - Ząbki"},null,{"$f":"IF(ISBLANK(W182),\"\",IF((VLOOKUP(W182,'plan gier'!$Z:$AH,7,FALSE))=\"\",L182,VLOOKUP(W182,'plan gier'!$Z:$AH,9,FALSE)))","v":"11:6,11:1"},null,null,{"$f":"IF(ISBLANK(Z184),IF(AND(LEN(X181)>0,LEN(X185)=0),X181,IF(AND(LEN(X185)>0,LEN(X181)=0),X185,\"\")),IF((VLOOKUP(Z184,'plan gier'!$Z:$AH,7,FALSE))=\"\",\"\",VLOOKUP(VLOOKUP(Z184,'plan gier'!$Z:$AH,7,FALSE),zawodnicy!$A:$E,3,FALSE)))","v":"Pomykała"}]
[{"$f":"Z184","v":50},{"$f":"F182","v":"X60"},{"$f":"G182","v":"X59"},{"$f":"F186","v":"X38"},{"$f":"G186","v":"X63"},{"$f":"IF(A184=0,IF(AND(LEN(B184)>0,LEN(D184)=0),B184,IF(AND(LEN(D184)>0,LEN(B184)=0),D184,\"\")),IF((VLOOKUP(A184,'plan gier'!$Z:$AH,7,FALSE))=\"\",\"\",VLOOKUP(VLOOKUP(A184,'plan gier'!$Z:$AH,7,FALSE),zawodnicy!$A:$E,1,FALSE)))","v":"X38"},{"$f":"IF(A184=0,IF(AND(LEN(C184)>0,LEN(E184)=0),C184,IF(AND(LEN(E184)>0,LEN(C184)=0),E184,\"\")),IF((VLOOKUP(A184,'plan gier'!$Z:$AH,8,FALSE))=\"\",\"\",VLOOKUP(VLOOKUP(A184,'plan gier'!$Z:$AH,8,FALSE),zawodnicy!$A:$E,1,FALSE)))","v":"X63"},{"$f":"IF(A184=0,\"\",IF((VLOOKUP(A184,'plan gier'!$Z:$AH,7,FALSE))=\"\",\"\",VLOOKUP(A184,'plan gier'!$Z:$AH,9,FALSE)))","v":"8:11,11:9,11:2"},null,null,null,{"$f":"IF(A184=0,\"\",IF(VLOOKUP(A184,'plan gier'!A:T,20,FALSE)=\"\",\"\",VLOOKUP(A184,'plan gier'!A:T,20,FALSE)))","v":{"$error":"#N/A"}},{"$f":"N180","v":"PODWÓJNA DZIECI"},"x48",null,null,null,null,null,{"$f":"UPPER(IF(O183=\"\",\"\",IF(ISTEXT(N184),N184,IF(AND(N179>0,O183>0),VLOOKUP(N179&O183&N180,I:K,3,FALSE),\"\"))))","v":"X48"},null,{"$f":"IF(T184<>\"\",CONCATENATE(VLOOKUP(T184,zawodnicy!$A:$E,2,FALSE),\" \",VLOOKUP(T184,zawodnicy!$A:$E,3,FALSE),\" - \",VLOOKUP(T184,zawodnicy!$A:$E,4,FALSE)),\"\")","v":"Ewelina Stec - Ząbki"},null,null,null,50,{"$f":"IF(ISBLANK(Z184),IF(AND(LEN(X182)>0,LEN(X186)=0),X182,IF(AND(LEN(X186)>0,LEN(X182)=0),X186,\"\")),IF((VLOOKUP(Z184,'plan gier'!$Z:$AH,8,FALSE))=\"\",\"\",VLOOKUP(VLOOKUP(Z184,'plan gier'!$Z:$AH,8,FALSE),zawodnicy!$A:$E,3,FALSE)))","v":"Wróblewska"}]
[null,null,null,null,null,null,null,null,null,null,null,null,null,"x38",{"$f":"IF(P185=\"\",\"\",MAX(O181:O184)+1)","v":3},{"$f":"IF(O179>4,9,\"\")","v":9},{"$f":"O185","v":3},null,null,{"$f":"UPPER(IF(O185=\"\",\"\",IF(ISTEXT(N185),N185,IF(AND(N179>0,O185>0),VLOOKUP(N179&O185&N180,I:K,2,FALSE),\"\"))))","v":"X38"},null,{"$f":"IF(T185<>\"\",CONCATENATE(VLOOKUP(T185,zawodnicy!$A:$E,2,FALSE),\" \",VLOOKUP(T185,zawodnicy!$A:$E,3,FALSE),\" - \",VLOOKUP(T185,zawodnicy!$A:$E,4,FALSE)),\"\")","v":"Iza Pomykała - Marki"},null,{"$f":"IF(ISBLANK(W186),IF(AND(LEN(T185)>0,LEN(T187)=0),VLOOKUP(T185,zawodnicy!$A:$E,3,FALSE),IF(AND(LEN(T187)>0,LEN(T185)=0),VLOOKUP(T187,zawodnicy!$A:$E,3,FALSE),\"\")),IF((VLOOKUP(W186,'plan gier'!$Z:$AH,7,FALSE))=\"\",\"\",VLOOKUP(VLOOKUP(W186,'plan gier'!$Z:$AH,7,FALSE),zawodnicy!$A:$E,3,FALSE)))","v":"Pomykała"},null,null,{"$f":"IF(ISBLANK(Z184),\"\",IF((VLOOKUP(Z184,'plan gier'!$Z:$AH,7,FALSE))=\"\",L184,VLOOKUP(Z184,'plan gier'!$Z:$AH,9,FALSE)))","v":"8:11,11:9,11:2"}]
[{"$f":"W186","v":47},{"$f":"IF(TYPE(T185)=16,\"\",T185)","v":"X38"},{"$f":"IF(TYPE(T186)=16,\"\",T186)","v":"X63"},{"$f":"IF(TYPE(T187)=16,\"\",T187)","v":"X69"},{"$f":"IF(TYPE(T188)=16,\"\",T188)","v":"X68"},{"$f":"IF(A186=0,IF(AND(LEN(B186)>1,LEN(D186)=0),VLOOKUP(B186,zawodnicy!$A:$E,1,FALSE),IF(AND(LEN(D186)>1,LEN(B186)=0),VLOOKUP(D186,zawodnicy!$A:$E,1,FALSE),\"\")),IF((VLOOKUP(A186,'plan gier'!$Z:$AH,7,FALSE))=\"\",\"\",VLOOKUP(VLOOKUP(A186,'plan gier'!$Z:$AH,7,FALSE),zawodnicy!$A:$E,1,FALSE)))","v":"X38"},{"$f":"IF(A186=0,IF(AND(LEN(C186)>1,LEN(E186)=0),VLOOKUP(C186,zawodnicy!$A:$E,1,FALSE),IF(AND(LEN(E186)>1,LEN(C186)=0),VLOOKUP(E186,zawodnicy!$A:$E,1,FALSE),\"\")),IF((VLOOKUP(A186,'plan gier'!$Z:$AH,8,FALSE))=\"\",\"\",VLOOKUP(VLOOKUP(A186,'plan gier'!$Z:$AH,8,FALSE),zawodnicy!$A:$E,1,FALSE)))","v":"X63"},{"$f":"IF(A186=0,\"\",IF((VLOOKUP(A186,'plan gier'!$Z:$AH,7,FALSE))=\"\",\"\",VLOOKUP(A186,'plan gier'!$Z:$AH,9,FALSE)))","v":"11:5,11:7"},null,null,null,{"$f":"IF(A186=0,\"\",IF(VLOOKUP(A186,'plan gier'!A:T,20,FALSE)=\"\",\"\",VLOOKUP(A186,'plan gier'!A:T,20,FALSE)))","v":{"$error":"#N/A"}},{"$f":"N180","v":"PODWÓJNA DZIECI"},"x63",null,null,null,null,null,{"$f":"UPPER(IF(O185=\"\",\"\",IF(ISTEXT(N186),N186,IF(AND(N179>0,O185>0),VLOOKUP(N179&O185&N180,I:K,3,FALSE),\"\"))))","v":"X63"},null,{"$f":"IF(T186<>\"\",CONCATENATE(VLOOKUP(T186,zawodnicy!$A:$E,2,FALSE),\" \",VLOOKUP(T186,zawodnicy!$A:$E,3,FALSE),\" - \",VLOOKUP(T186,zawodnicy!$A:$E,4,FALSE)),\"\")","v":"Kasia Wróblewska - Mińsk Mazowiecki"},47,{"$f":"IF(ISBLANK(W186),IF(AND(LEN(T186)>0,LEN(T188)=0),VLOOKUP(T186,zawodnicy!$A:$E,3,FALSE),IF(AND(LEN(T188)>0,LEN(T186)=0),VLOOKUP(T188,zawodnicy!$A:$E,3,FALSE),\"\")),IF((VLOOKUP(W186,'plan gier'!$Z:$AH,8,FALSE))=\"\",\"\",VLOOKUP(VLOOKUP(W186,'plan gier'!$Z:$AH,8,FALSE),zawodnicy!$A:$E,3,FALSE)))","v":"Wróblewska"}]
[null,null,null,null,null,null,null,null,null,null,null,null,null,"x69",{"$f":"IF(P187=\"\",\"\",MAX(O181:O186)+1)","v":4},{"$f":"IF(O179>5,13,\"\")","v":13},{"$f":"O187","v":4},null,null,{"$f":"UPPER(IF(O187=\"\",\"\",IF(ISTEXT(N187),N187,IF(AND(N179>0,O187>0),VLOOKUP(N179&O187&N180,I:K,2,FALSE),\"\"))))","v":"X69"},null,{"$f":"IF(T187<>\"\",CONCATENATE(VLOOKUP(T187,zawodnicy!$A:$E,2,FALSE),\" \",VLOOKUP(T187,zawodnicy!$A:$E,3,FALSE),\" - \",VLOOKUP(T187,zawodnicy!$A:$E,4,FALSE)),\"\")","v":"Ela  Przybysz - Garwolin"},null,{"$f":"IF(ISBLANK(W186),\"\",IF((VLOOKUP(W186,'plan gier'!$Z:$AH,7,FALSE))=\"\",L186,VLOOKUP(W186,'plan gier'!$Z:$AH,9,FALSE)))","v":"11:5,11:7"},null,null,null,null,null,{"$f":"IF(ISBLANK(AC188),IF(AND(LEN(AA183)>0,LEN(AA191)=0),AA183,IF(AND(LEN(AA191)>0,LEN(AA183)=0),AA191,\"\")),IF((VLOOKUP(AC188,'plan gier'!$Z:$AH,7,FALSE))=\"\",\"\",VLOOKUP(VLOOKUP(AC188,'plan gier'!$Z:$AH,7,FALSE),zawodnicy!$A:$E,3,FALSE)))","v":"Pomykała"}]
[{"$f":"AC188","v":53},{"$f":"F184","v":"X38"},{"$f":"G184","v":"X63"},{"$f":"F192","v":"X70"},{"$f":"G192","v":"X71"},{"$f":"IF(A188=0,IF(AND(LEN(B188)>0,LEN(D188)=0),B188,IF(AND(LEN(D188)>0,LEN(B188)=0),D188,\"\")),IF((VLOOKUP(A188,'plan gier'!$Z:$AH,7,FALSE))=\"\",\"\",VLOOKUP(VLOOKUP(A188,'plan gier'!$Z:$AH,7,FALSE),zawodnicy!$A:$E,1,FALSE)))","v":"X38"},{"$f":"IF(A188=0,IF(AND(LEN(C188)>0,LEN(E188)=0),C188,IF(AND(LEN(E188)>0,LEN(C188)=0),E188,\"\")),IF((VLOOKUP(A188,'plan gier'!$Z:$AH,8,FALSE))=\"\",\"\",VLOOKUP(VLOOKUP(A188,'plan gier'!$Z:$AH,8,FALSE),zawodnicy!$A:$E,1,FALSE)))","v":"X63"},{"$f":"IF(A188=0,\"\",IF((VLOOKUP(A188,'plan gier'!$Z:$AH,7,FALSE))=\"\",\"\",VLOOKUP(A188,'plan gier'!$Z:$AH,9,FALSE)))","v":"11:3,9:11,11:9"},null,null,null,{"$f":"IF(A188=0,\"\",IF(VLOOKUP(A188,'plan gier'!A:T,20,FALSE)=\"\",\"\",VLOOKUP(A188,'plan gier'!A:T,20,FALSE)))","v":{"$error":"#N/A"}},{"$f":"N180","v":"PODWÓJNA DZIECI"},"x68",null,null,null,null,null,{"$f":"UPPER(IF(O187=\"\",\"\",IF(ISTEXT(N188),N188,IF(AND(N179>0,O187>0),VLOOKUP(N179&O187&N180,I:K,3,FALSE),\"\"))))","v":"X68"},null,{"$f":"IF(T188<>\"\",CONCATENATE(VLOOKUP(T188,zawodnicy!$A:$E,2,FALSE),\" \",VLOOKUP(T188,zawodnicy!$A:$E,3,FALSE),\" - \",VLOOKUP(T188,zawodnicy!$A:$E,4,FALSE)),\"\")","v":"Kacper Winek - Garwolin"},null,null,null,null,null,null,53,{"$f":"IF(ISBLANK(AC188),IF(AND(LEN(AA184)>0,LEN(AA192)=0),AA184,IF(AND(LEN(AA192)>0,LEN(AA184)=0),AA192,\"\")),IF((VLOOKUP(AC188,'plan gier'!$Z:$AH,8,FALSE))=\"\",\"\",VLOOKUP(VLOOKUP(AC188,'plan gier'!$Z:$AH,8,FALSE),zawodnicy!$A:$E,3,FALSE)))","v":"Wróblewska"}]
[null,null,null,null,null,null,null,null,null,null,null,null,null,"x43",{"$f":"IF(P189=\"\",\"\",MAX(O181:O188)+1)","v":5},{"$f":"IF(O179>4,20,\"\")","v":20},{"$f":"O189","v":5},null,null,{"$f":"UPPER(IF(O189=\"\",\"\",IF(ISTEXT(N189),N189,IF(AND(N179>0,O189>0),VLOOKUP(N179&O189&N180,I:K,2,FALSE),\"\"))))","v":"X43"},null,{"$f":"IF(T189<>\"\",CONCATENATE(VLOOKUP(T189,zawodnicy!$A:$E,2,FALSE),\" \",VLOOKUP(T189,zawodnicy!$A:$E,3,FALSE),\" - \",VLOOKUP(T189,zawodnicy!$A:$E,4,FALSE)),\"\")","v":"Maks  Siepsiak - Wesoła"},null,{"$f":"IF(ISBLANK(W190),IF(AND(LEN(T189)>0,LEN(T191)=0),VLOOKUP(T189,zawodnicy!$A:$E,3,FALSE),IF(AND(LEN(T191)>0,LEN(T189)=0),VLOOKUP(T191,zawodnicy!$A:$E,3,FALSE),\"\")),IF((VLOOKUP(W190,'plan gier'!$Z:$AH,7,FALSE))=\"\",\"\",VLOOKUP(VLOOKUP(W190,'plan gier'!$Z:$AH,7,FALSE),zawodnicy!$A:$E,3,FALSE)))","v":"Kalinowski"},null,null,null,null,null,{"$f":"IF(ISBLANK(AC188),\"\",IF((VLOOKUP(AC188,'plan gier'!$Z:$AH,7,FALSE))=\"\",L188,VLOOKUP(AC188,'plan gier'!$Z:$AH,9,FALSE)))","v":"11:3,9:11,11:9"}]
[{"$f":"W190","v":48},{"$f":"IF(TYPE(T189)=16,\"\",T189)","v":"X43"},{"$f":"IF(TYPE(T190)=16,\"\",T190)","v":"X22"},{"$f":"IF(TYPE(T191)=16,\"\",T191)","v":"X70"},{"$f":"IF(TYPE(T192)=16,\"\",T192)","v":"X71"},{"$f":"IF(A190=0,IF(AND(LEN(B190)>1,LEN(D190)=0),VLOOKUP(B190,zawodnicy!$A:$E,1,FALSE),IF(AND(LEN(D190)>1,LEN(B190)=0),VLOOKUP(D190,zawodnicy!$A:$E,1,FALSE),\"\")),IF((VLOOKUP(A190,'plan gier'!$Z:$AH,7,FALSE))=\"\",\"\",VLOOKUP(VLOOKUP(A190,'plan gier'!$Z:$AH,7,FALSE),zawodnicy!$A:$E,1,FALSE)))","v":"X70"},{"$f":"IF(A190=0,IF(AND(LEN(C190)>1,LEN(E190)=0),VLOOKUP(C190,zawodnicy!$A:$E,1,FALSE),IF(AND(LEN(E190)>1,LEN(C190)=0),VLOOKUP(E190,zawodnicy!$A:$E,1,FALSE),\"\")),IF((VLOOKUP(A190,'plan gier'!$Z:$AH,8,FALSE))=\"\",\"\",VLOOKUP(VLOOKUP(A190,'plan gier'!$Z:$AH,8,FALSE),zawodnicy!$A:$E,1,FALSE)))","v":"X71"},{"$f":"IF(A190=0,\"\",IF((VLOOKUP(A190,'plan gier'!$Z:$AH,7,FALSE))=\"\",\"\",VLOOKUP(A190,'plan gier'!$Z:$AH,9,FALSE)))","v":"11:6,11:2"},null,null,null,{"$f":"IF(A190=0,\"\",IF(VLOOKUP(A190,'plan gier'!A:T,20,FALSE)=\"\",\"\",VLOOKUP(A190,'plan gier'!A:T,20,FALSE)))","v":{"$error":"#N/A"}},{"$f":"N180","v":"PODWÓJNA DZIECI"},"x22",null,null,null,null,null,{"$f":"UPPER(IF(O189=\"\",\"\",IF(ISTEXT(N190),N190,IF(AND(N179>0,O189>0),VLOOKUP(N179&O189&N180,I:K,3,FALSE),\"\"))))","v":"X22"},null,{"$f":"IF(T190<>\"\",CONCATENATE(VLOOKUP(T190,zawodnicy!$A:$E,2,FALSE),\" \",VLOOKUP(T190,zawodnicy!$A:$E,3,FALSE),\" - \",VLOOKUP(T190,zawodnicy!$A:$E,4,FALSE)),\"\")","v":"Hanna  Lewandowska - Wesoła"},48,{"$f":"IF(ISBLANK(W190),IF(AND(LEN(T190)>0,LEN(T192)=0),VLOOKUP(T190,zawodnicy!$A:$E,3,FALSE),IF(AND(LEN(T192)>0,LEN(T190)=0),VLOOKUP(T192,zawodnicy!$A:$E,3,FALSE),\"\")),IF((VLOOKUP(W190,'plan gier'!$Z:$AH,8,FALSE))=\"\",\"\",VLOOKUP(VLOOKUP(W190,'plan gier'!$Z:$AH,8,FALSE),zawodnicy!$A:$E,3,FALSE)))","v":"Cybulski"}]
[null,null,null,null,null,null,null,null,null,null,null,null,null,"x70",{"$f":"IF(P191=\"\",\"\",MAX(O181:O190)+1)","v":6},{"$f":"IF(O179>4,24,\"\")","v":24},{"$f":"O191","v":6},null,null,{"$f":"UPPER(IF(O191=\"\",\"\",IF(ISTEXT(N191),N191,IF(AND(N179>0,O191>0),VLOOKUP(N179&O191&N180,I:K,2,FALSE),\"\"))))","v":"X70"},null,{"$f":"IF(T191<>\"\",CONCATENATE(VLOOKUP(T191,zawodnicy!$A:$E,2,FALSE),\" \",VLOOKUP(T191,zawodnicy!$A:$E,3,FALSE),\" - \",VLOOKUP(T191,zawodnicy!$A:$E,4,FALSE)),\"\")","v":"Konrad  Kalinowski - Garwolin"},null,{"$f":"IF(ISBLANK(W190),\"\",IF((VLOOKUP(W190,'plan gier'!$Z:$AH,7,FALSE))=\"\",L190,VLOOKUP(W190,'plan gier'!$Z:$AH,9,FALSE)))","v":"11:6,11:2"},null,null,{"$f":"IF(ISBLANK(Z192),IF(AND(LEN(X189)>0,LEN(X193)=0),X189,IF(AND(LEN(X193)>0,LEN(X189)=0),X193,\"\")),IF((VLOOKUP(Z192,'plan gier'!$Z:$AH,7,FALSE))=\"\",\"\",VLOOKUP(VLOOKUP(Z192,'plan gier'!$Z:$AH,7,FALSE),zawodnicy!$A:$E,3,FALSE)))","v":"Kalinowski"}]
[{"$f":"Z192","v":51},{"$f":"F190","v":"X70"},{"$f":"G190","v":"X71"},{"$f":"F194","v":"X21"},{"$f":"G194","v":"X24"},{"$f":"IF(A192=0,IF(AND(LEN(B192)>0,LEN(D192)=0),B192,IF(AND(LEN(D192)>0,LEN(B192)=0),D192,\"\")),IF((VLOOKUP(A192,'plan gier'!$Z:$AH,7,FALSE))=\"\",\"\",VLOOKUP(VLOOKUP(A192,'plan gier'!$Z:$AH,7,FALSE),zawodnicy!$A:$E,1,FALSE)))","v":"X70"},{"$f":"IF(A192=0,IF(AND(LEN(C192)>0,LEN(E192)=0),C192,IF(AND(LEN(E192)>0,LEN(C192)=0),E192,\"\")),IF((VLOOKUP(A192,'plan gier'!$Z:$AH,8,FALSE))=\"\",\"\",VLOOKUP(VLOOKUP(A192,'plan gier'!$Z:$AH,8,FALSE),zawodnicy!$A:$E,1,FALSE)))","v":"X71"},{"$f":"IF(A192=0,\"\",IF((VLOOKUP(A192,'plan gier'!$Z:$AH,7,FALSE))=\"\",\"\",VLOOKUP(A192,'plan gier'!$Z:$AH,9,FALSE)))","v":"11:6,11:8"},null,null,null,{"$f":"IF(A192=0,\"\",IF(VLOOKUP(A192,'plan gier'!A:T,20,FALSE)=\"\",\"\",VLOOKUP(A192,'plan gier'!A:T,20,FALSE)))","v":{"$error":"#N/A"}},{"$f":"N180","v":"PODWÓJNA DZIECI"},"x71",null,null,null,null,null,{"$f":"UPPER(IF(O191=\"\",\"\",IF(ISTEXT(N192),N192,IF(AND(N179>0,O191>0),VLOOKUP(N179&O191&N180,I:K,3,FALSE),\"\"))))","v":"X71"},null,{"$f":"IF(T192<>\"\",CONCATENATE(VLOOKUP(T192,zawodnicy!$A:$E,2,FALSE),\" \",VLOOKUP(T192,zawodnicy!$A:$E,3,FALSE),\" - \",VLOOKUP(T192,zawodnicy!$A:$E,4,FALSE)),\"\")","v":"Grzegorz  Cybulski - Garwolin"},null,null,null,51,{"$f":"IF(ISBLANK(Z192),IF(AND(LEN(X190)>0,LEN(X194)=0),X190,IF(AND(LEN(X194)>0,LEN(X190)=0),X194,\"\")),IF((VLOOKUP(Z192,'plan gier'!$Z:$AH,8,FALSE))=\"\",\"\",VLOOKUP(VLOOKUP(Z192,'plan gier'!$Z:$AH,8,FALSE),zawodnicy!$A:$E,3,FALSE)))","v":"Cybulski"}]
[null,null,null,null,null,null,null,null,null,null,null,null,null,"x20",{"$f":"IF(P193=\"\",\"\",MAX(O181:O192)+1)","v":7},{"$f":"IF(O179>6,28,\"\")","v":28},{"$f":"O193","v":7},null,null,{"$f":"UPPER(IF(O193=\"\",\"\",IF(ISTEXT(N193),N193,IF(AND(N179>0,O193>0),VLOOKUP(N179&O193&N180,I:K,2,FALSE),\"\"))))","v":"X20"},null,{"$f":"IF(T193<>\"\",CONCATENATE(VLOOKUP(T193,zawodnicy!$A:$E,2,FALSE),\" \",VLOOKUP(T193,zawodnicy!$A:$E,3,FALSE),\" - \",VLOOKUP(T193,zawodnicy!$A:$E,4,FALSE)),\"\")","v":"Błażej  Krawczyk - Ząbki"},null,{"$f":"IF(ISBLANK(W194),IF(AND(LEN(T193)>0,LEN(T195)=0),VLOOKUP(T193,zawodnicy!$A:$E,3,FALSE),IF(AND(LEN(T195)>0,LEN(T193)=0),VLOOKUP(T195,zawodnicy!$A:$E,3,FALSE),\"\")),IF((VLOOKUP(W194,'plan gier'!$Z:$AH,7,FALSE))=\"\",\"\",VLOOKUP(VLOOKUP(W194,'plan gier'!$Z:$AH,7,FALSE),zawodnicy!$A:$E,3,FALSE)))","v":"Krupa"},null,null,{"$f":"IF(ISBLANK(Z192),\"\",IF((VLOOKUP(Z192,'plan gier'!$Z:$AH,7,FALSE))=\"\",L192,VLOOKUP(Z192,'plan gier'!$Z:$AH,9,FALSE)))","v":"11:6,11:8"}]
[{"$f":"W194","v":49},{"$f":"IF(TYPE(T193)=16,\"\",T193)","v":"X20"},{"$f":"IF(TYPE(T194)=16,\"\",T194)","v":"X41"},{"$f":"IF(TYPE(T195)=16,\"\",T195)","v":"X21"},{"$f":"IF(TYPE(T196)=16,\"\",T196)","v":"X24"},{"$f":"IF(A194=0,IF(AND(LEN(B194)>1,LEN(D194)=0),VLOOKUP(B194,zawodnicy!$A:$E,1,FALSE),IF(AND(LEN(D194)>1,LEN(B194)=0),VLOOKUP(D194,zawodnicy!$A:$E,1,FALSE),\"\")),IF((VLOOKUP(A194,'plan gier'!$Z:$AH,7,FALSE))=\"\",\"\",VLOOKUP(VLOOKUP(A194,'plan gier'!$Z:$AH,7,FALSE),zawodnicy!$A:$E,1,FALSE)))","v":"X21"},{"$f":"IF(A194=0,IF(AND(LEN(C194)>1,LEN(E194)=0),VLOOKUP(C194,zawodnicy!$A:$E,1,FALSE),IF(AND(LEN(E194)>1,LEN(C194)=0),VLOOKUP(E194,zawodnicy!$A:$E,1,FALSE),\"\")),IF((VLOOKUP(A194,'plan gier'!$Z:$AH,8,FALSE))=\"\",\"\",VLOOKUP(VLOOKUP(A194,'plan gier'!$Z:$AH,8,FALSE),zawodnicy!$A:$E,1,FALSE)))","v":"X24"},{"$f":"IF(A194=0,\"\",IF((VLOOKUP(A194,'plan gier'!$Z:$AH,7,FALSE))=\"\",\"\",VLOOKUP(A194,'plan gier'!$Z:$AH,9,FALSE)))","v":"11:8,8:11,11:9"},null,null,null,{"$f":"IF(A194=0,\"\",IF(VLOOKUP(A194,'plan gier'!A:T,20,FALSE)=\"\",\"\",VLOOKUP(A194,'plan gier'!A:T,20,FALSE)))","v":{"$error":"#N/A"}},{"$f":"N180","v":"PODWÓJNA DZIECI"},"x41",null,null,null,null,null,{"$f":"UPPER(IF(O193=\"\",\"\",IF(ISTEXT(N194),N194,IF(AND(N179>0,O193>0),VLOOKUP(N179&O193&N180,I:K,3,FALSE),\"\"))))","v":"X41"},null,{"$f":"IF(T194<>\"\",CONCATENATE(VLOOKUP(T194,zawodnicy!$A:$E,2,FALSE),\" \",VLOOKUP(T194,zawodnicy!$A:$E,3,FALSE),\" - \",VLOOKUP(T194,zawodnicy!$A:$E,4,FALSE)),\"\")","v":"Ignacy Repiński - Marki"},49,{"$f":"IF(ISBLANK(W194),IF(AND(LEN(T194)>0,LEN(T196)=0),VLOOKUP(T194,zawodnicy!$A:$E,3,FALSE),IF(AND(LEN(T196)>0,LEN(T194)=0),VLOOKUP(T196,zawodnicy!$A:$E,3,FALSE),\"\")),IF((VLOOKUP(W194,'plan gier'!$Z:$AH,8,FALSE))=\"\",\"\",VLOOKUP(VLOOKUP(W194,'plan gier'!$Z:$AH,8,FALSE),zawodnicy!$A:$E,3,FALSE)))","v":"Łukomska"}]
[null,null,null,null,null,null,null,null,null,null,null,null,null,"x21",{"$f":"IF(P195=\"\",\"\",MAX(O181:O194)+1)","v":8},{"$f":"IF(O179>4,32,\"\")","v":32},{"$f":"O195","v":8},null,null,{"$f":"UPPER(IF(O195=\"\",\"\",IF(ISTEXT(N195),N195,IF(AND(N179>0,O195>0),VLOOKUP(N179&O195&N180,I:K,2,FALSE),\"\"))))","v":"X21"},null,{"$f":"IF(T195<>\"\",CONCATENATE(VLOOKUP(T195,zawodnicy!$A:$E,2,FALSE),\" \",VLOOKUP(T195,zawodnicy!$A:$E,3,FALSE),\" - \",VLOOKUP(T195,zawodnicy!$A:$E,4,FALSE)),\"\")","v":"Magdalena  Krupa - Wesoła"},null,{"$f":"IF(ISBLANK(W194),\"\",IF((VLOOKUP(W194,'plan gier'!$Z:$AH,7,FALSE))=\"\",L194,VLOOKUP(W194,'plan gier'!$Z:$AH,9,FALSE)))","v":"11:8,8:11,11:9"}]
[null,null,null,null,null,null,null,null,null,null,null,null,null,"x24",null,null,null,null,null,{"$f":"UPPER(IF(O195=\"\",\"\",IF(ISTEXT(N196),N196,IF(AND(N179>0,O195>0),VLOOKUP(N179&O195&N180,I:K,3,FALSE),\"\"))))","v":"X24"},null,{"$f":"IF(T196<>\"\",CONCATENATE(VLOOKUP(T196,zawodnicy!$A:$E,2,FALSE),\" \",VLOOKUP(T196,zawodnicy!$A:$E,3,FALSE),\" - \",VLOOKUP(T196,zawodnicy!$A:$E,4,FALSE)),\"\")","v":"Karolina Łukomska - Zielonka"}]
[]
[]
[null,null,null,null,null,null,null,null,null,null,null,null,null,{"$f":"M202","v":"PODWÓJNA DZIECI"},null,null,null,null,null,"4.",null,null,null,"3."]
[null,null,null,null,null,null,null,null,null,null,null,null,null,"o 3 miejsce"]
[null,null,null,null,null,null,null,null,null,null,null,null,null,50,null,null,null,null,null,{"$f":"IF(N201=\"\",\"\",IF(LEN(VLOOKUP(N201,A:M,6,FALSE))=0,\"\",IF(VLOOKUP(N201,A:M,6,FALSE)=VLOOKUP(N201,A:M,2,FALSE),VLOOKUP(N201,A:M,4,FALSE),VLOOKUP(N201,A:M,2,FALSE))))","v":"X60"},null,{"$f":"IF(T201<>\"\",CONCATENATE(VLOOKUP(T201,zawodnicy!$A:$E,2,FALSE),\" \",VLOOKUP(T201,zawodnicy!$A:$E,3,FALSE),\" - \",VLOOKUP(T201,zawodnicy!$A:$E,4,FALSE)),\"\")","v":"Adam  Walocha - Ząbki"},null,{"$f":"IF(F202=\"\",\"\",VLOOKUP(F202,zawodnicy!$A:$D,3,FALSE))","v":"Walocha"}]
[{"$f":"W202","v":52},{"$f":"IF(TYPE(T201)=16,\"\",T201)","v":"X60"},{"$f":"IF(TYPE(T202)=16,\"\",T202)","v":"X59"},{"$f":"IF(TYPE(T203)=16,\"\",T203)","v":"X21"},{"$f":"IF(TYPE(T204)=16,\"\",T204)","v":"X24"},{"$f":"IF(A202=0,IF(AND(LEN(B202)>1,LEN(D202)=0),VLOOKUP(B202,zawodnicy!$A:$E,1,FALSE),IF(AND(LEN(D202)>1,LEN(B202)=0),VLOOKUP(D202,zawodnicy!$A:$E,1,FALSE),\"\")),IF((VLOOKUP(A202,'plan gier'!$Z:$AH,7,FALSE))=\"\",\"\",VLOOKUP(VLOOKUP(A202,'plan gier'!$Z:$AH,7,FALSE),zawodnicy!$A:$E,1,FALSE)))","v":"X60"},{"$f":"IF(A202=0,IF(AND(LEN(C202)>1,LEN(E202)=0),VLOOKUP(C202,zawodnicy!$A:$E,1,FALSE),IF(AND(LEN(E202)>1,LEN(C202)=0),VLOOKUP(E202,zawodnicy!$A:$E,1,FALSE),\"\")),IF((VLOOKUP(A202,'plan gier'!$Z:$AH,8,FALSE))=\"\",\"\",VLOOKUP(VLOOKUP(A202,'plan gier'!$Z:$AH,8,FALSE),zawodnicy!$A:$E,1,FALSE)))","v":"X59"},{"$f":"IF(A202=0,\"\",IF((VLOOKUP(A202,'plan gier'!$Z:$AH,7,FALSE))=\"\",\"\",VLOOKUP(A202,'plan gier'!$Z:$AH,9,FALSE)))","v":"11:5,11:1"},null,null,null,{"$f":"IF(A202=0,\"\",IF(VLOOKUP(A202,'plan gier'!A:T,20,FALSE)=\"\",\"\",VLOOKUP(A202,'plan gier'!A:T,20,FALSE)))","v":{"$error":"#N/A"}},{"$f":"IF(N201=\"\",\"\",VLOOKUP(N201,A:M,13,FALSE))","v":"PODWÓJNA DZIECI"},null,null,null,null,null,null,{"$f":"IF(N201=\"\",\"\",IF(LEN(VLOOKUP(N201,A:M,7,FALSE))=0,\"\",IF(VLOOKUP(N201,A:M,7,FALSE)=VLOOKUP(N201,A:M,3,FALSE),VLOOKUP(N201,A:M,5,FALSE),VLOOKUP(N201,A:M,3,FALSE))))","v":"X59"},null,{"$f":"IF(T202<>\"\",CONCATENATE(VLOOKUP(T202,zawodnicy!$A:$E,2,FALSE),\" \",VLOOKUP(T202,zawodnicy!$A:$E,3,FALSE),\" - \",VLOOKUP(T202,zawodnicy!$A:$E,4,FALSE)),\"\")","v":"Jakub  Walocha - Ząbki"},52,{"$f":"IF(G202=\"\",\"\",VLOOKUP(G202,zawodnicy!$A:$D,3,FALSE))","v":"Walocha"}]
[null,null,null,null,null,null,null,null,null,null,null,null,null,51,null,null,null,null,null,{"$f":"IF(N203=\"\",\"\",IF(LEN(VLOOKUP(N203,A:M,6,FALSE))=0,\"\",IF(VLOOKUP(N203,A:M,6,FALSE)=VLOOKUP(N203,A:M,2,FALSE),VLOOKUP(N203,A:M,4,FALSE),VLOOKUP(N203,A:M,2,FALSE))))","v":"X21"},null,{"$f":"IF(T203<>\"\",CONCATENATE(VLOOKUP(T203,zawodnicy!$A:$E,2,FALSE),\" \",VLOOKUP(T203,zawodnicy!$A:$E,3,FALSE),\" - \",VLOOKUP(T203,zawodnicy!$A:$E,4,FALSE)),\"\")","v":"Magdalena  Krupa - Wesoła"},null,{"$f":"IF(H202=\"\",L202,H202)","v":"11:5,11:1"}]
[null,null,null,null,null,null,null,null,null,null,null,null,null,null,null,null,null,null,null,{"$f":"IF(N203=\"\",\"\",IF(LEN(VLOOKUP(N203,A:M,7,FALSE))=0,\"\",IF(VLOOKUP(N203,A:M,7,FALSE)=VLOOKUP(N203,A:M,3,FALSE),VLOOKUP(N203,A:M,5,FALSE),VLOOKUP(N203,A:M,3,FALSE))))","v":"X24"},null,{"$f":"IF(T204<>\"\",CONCATENATE(VLOOKUP(T204,zawodnicy!$A:$E,2,FALSE),\" \",VLOOKUP(T204,zawodnicy!$A:$E,3,FALSE),\" - \",VLOOKUP(T204,zawodnicy!$A:$E,4,FALSE)),\"\")","v":"Karolina Łukomska - Zielonka"}]
[]
[]
[null,null,null,null,null,null,null,null,null,null,null,null,null,null,null,null,null,null,null,null,null,null,null,null,null,null,null,null,"Sędzia główny"]
[null,null,null,null,null,null,null,null,null,null,null,null,null,null,null,null,null,null,null,null,null,null,null,null,null,null,null,null,{"$f":"IF(ISBLANK(dane!$D$4),\"\",dane!$D$4)","v":"Marek Krawczyk"}]

{"sheet":"puch","index":5,"n_rows":4,"n_cols":17,"rows_kept":4,"cut":false,"hidden":false,"merged":[[0,16,0,23],[1,16,1,23],[3,16,3,23]]}
[null,null,null,null,null,null,null,null,null,null,null,null,null,null,null,null,{"$f":"dane!D2","v":"VICTOR GRAND PRIX ZĄBEK"}]
[null,null,null,null,null,null,null,null,null,null,null,null,null,null,null,null,{"$f":"IF(ISBLANK(dane!$D$3),\"\",dane!$D$3)","v":"ZĄBKI ; 04.10.2014"}]
[null,null,null,null,null,null,null,null,null,null,null,"Gra"]
[null,null,null,null,null,null,null,null,null,null,null,"pojedyncza chłopców",null,null,null,null,{"$f":"\"Gra \"&L4","v":"Gra pojedyncza chłopców"}]

{"sheet":"tabelki","index":6,"n_rows":628,"n_cols":66,"rows_kept":628,"cut":false,"hidden":false,"merged":[[183,19,183,20],[183,23,183,25],[182,19,182,20],[182,23,182,25],[206,19,206,20],[197,26,197,28],[200,19,200,20],[183,29,183,31],[184,19,184,20],[184,29,184,31],[185,19,185,20],[185,23,185,25],[185,29,185,31],[200,23,200,25],[187,26,187,28],[187,19,187,20],[187,23,187,25],[190,19,190,20],[190,23,190,25],[188,19,188,20],[188,26,188,28],[189,19,189,20],[189,23,189,25],[189,26,189,28],[186,23,186,25],[192,19,192,20],[197,19,197,22],[186,19,186,20],[170,29,170,31],[175,26,175,28],[172,19,172,20],[175,19,175,22],[175,23,175,25],[178,19,178,20],[178,23,178,25],[170,19,170,20],[170,23,170,25],[171,19,171,20],[171,23,171,25],[179,26,179,28],[180,19,180,20],[180,26,180,28],[181,19,181,20],[181,23,181,25],[181,26,181,28],[175,29,175,31],[177,19,177,20],[177,23,177,25],[179,19,179,20],[179,23,179,25],[165,29,165,31],[162,19,162,20],[162,23,162,25],[163,19,163,20],[163,23,163,25],[163,29,163,31],[164,19,164,20],[164,29,164,31],[165,19,165,20],[165,23,165,25],[169,26,169,28],[166,19,166,20],[166,23,166,25],[167,19,167,20],[167,23,167,25],[167,26,167,28],[168,19,168,20],[168,26,168,28],[169,19,169,20],[169,23,169,25],[157,29,157,31],[149,29,149,31],[150,19,150,20],[150,23,150,25],[153,26,153,28],[153,29,153,31],[151,19,151,20],[151,23,151,25],[154,19,154,20],[154,23,154,25],[157,19,157,20],[157,23,157,25],[156,29,156,31],[161,26,161,28],[158,19,158,20],[158,23,158,25],[159,19,159,20],[159,23,159,25],[159,26,159,28],[160,19,160,20],[160,26,160,28],[161,19,161,20],[161,23,161,25],[156,19,156,20],[145,26,145,28],[146,19,146,20],[146,23,146,25],[155,29,155,31],[147,19,147,20],[141,19,141,20],[141,23,141,25],[142,19,142,20],[142,23,142,25],[147,23,147,25],[147,29,147,31],[143,26,143,28],[144,19,144,20],[144,26,144,28],[148,29,148,31],[149,19,149,20],[149,23,149,25],[155,19,155,20],[155,23,155,25],[153,19,153,20],[153,23,153,25],[151,26,151,28],[152,19,152,20],[152,26,152,28],[148,19,148,20],[145,19,145,20],[145,23,145,25],[143,19,143,20],[143,23,143,25],[5,34,5,39],[5,40,5,45],[6,18,8,18],[6,19,8,19],[6,27,8,27],[6,28,8,28],[6,29,8,29],[15,30,17,30],[15,29,17,29],[15,19,17,19],[9,19,11,19],[9,27,11,27],[9,28,11,28],[0,16,0,31],[126,19,126,20],[126,23,126,25],[12,19,14,19],[44,29,46,29],[44,19,46,19],[41,19,43,19],[20,19,22,19],[47,25,49,25],[125,19,125,20],[125,23,125,25],[119,19,119,20],[20,40,20,45],[20,34,20,39],[22,34,22,35],[22,36,22,37],[22,38,22,39],[32,40,32,45],[34,38,34,39],[139,26,139,28],[139,29,139,31],[20,29,22,29],[35,26,37,26],[26,27,28,27],[26,28,28,28],[41,28,43,28],[123,26,123,28],[12,28,14,28],[12,27,14,27],[15,27,17,27],[12,29,14,29],[12,30,14,30],[23,28,25,28],[23,29,25,29],[26,29,28,29],[41,29,43,29],[50,30,52,30],[50,31,52,31],[53,30,55,30],[117,26,117,28],[118,26,118,28],[113,26,113,28],[95,29,95,31],[53,29,55,29],[47,28,49,28],[50,26,52,26],[50,28,52,28],[50,29,52,29],[53,27,55,27],[53,28,55,28],[23,27,25,27],[22,60,22,61],[22,58,22,59],[22,52,22,53],[22,56,22,57],[22,42,22,43],[22,44,22,45],[22,48,22,49],[22,50,22,51],[22,40,22,41],[8,58,8,59],[8,60,8,61],[9,29,11,29],[9,30,11,30],[9,48,9,49],[8,44,8,45],[8,48,8,49],[8,50,8,51],[8,56,8,57],[8,52,8,53],[8,54,8,55],[6,30,8,30],[8,34,8,35],[8,36,8,37],[8,38,8,39],[8,40,8,41],[8,42,8,43],[34,40,34,41],[32,34,32,39],[43,60,43,61],[44,24,46,24],[44,28,46,28],[43,48,43,49],[43,50,43,51],[34,60,34,61],[34,48,34,49],[34,42,34,43],[34,44,34,45],[34,58,34,59],[34,50,34,51],[34,52,34,53],[34,56,34,57],[34,34,34,35],[34,36,34,37],[44,48,44,49],[32,25,34,25],[35,25,37,25],[44,31,46,31],[32,26,34,26],[35,27,37,27],[35,28,37,28],[43,62,43,63],[41,30,43,30],[41,31,43,31],[43,58,43,59],[43,43,43,44],[43,45,43,46],[43,34,43,35],[43,36,43,37],[43,38,43,39],[43,41,43,42],[43,56,43,57],[43,52,43,53],[43,54,43,55],[67,23,67,25],[72,23,72,25],[71,19,71,20],[63,19,63,20],[63,23,63,25],[53,19,55,19],[47,19,49,19],[50,19,52,19],[53,31,55,31],[47,29,49,29],[44,30,46,30],[47,30,49,30],[69,29,69,31],[61,29,61,31],[46,20,46,22],[123,19,123,22],[113,23,113,25],[113,19,113,22],[123,23,123,25],[1,27,1,31],[2,27,2,31],[64,19,64,20],[64,23,64,25],[41,23,43,23],[15,28,17,28],[32,28,34,28],[20,27,22,27],[20,28,22,28],[32,27,34,27],[20,18,22,18],[86,29,86,31],[90,29,90,31],[74,26,74,28],[89,26,89,28],[90,26,90,28],[85,29,85,31],[84,23,84,25],[88,23,88,25],[88,19,88,20],[87,19,87,20],[32,18,34,18],[119,23,119,25],[120,19,120,20],[120,23,120,25],[109,19,109,20],[109,23,109,25],[116,23,116,25],[20,26,22,26],[23,26,25,26],[26,26,28,26],[35,19,37,19],[26,19,28,19],[32,19,34,19],[23,19,25,19],[73,26,73,28],[65,26,65,28],[66,26,66,28],[70,29,70,31],[47,31,49,31],[72,19,72,20],[103,29,103,31],[24,20,24,22],[25,20,25,22],[26,20,26,22],[27,20,27,22],[97,19,97,20],[97,23,97,25],[98,19,98,20],[98,23,98,25],[102,19,102,20],[102,23,102,25],[95,19,95,22],[95,23,95,25],[35,20,35,22],[36,20,36,22],[37,20,37,22],[40,20,40,22],[41,20,41,22],[42,20,42,22],[105,23,105,25],[76,19,76,20],[51,20,51,22],[52,20,52,22],[53,20,53,22],[54,20,54,22],[55,20,55,22],[115,23,115,25],[116,19,116,20],[115,19,115,20],[110,19,110,20],[92,23,92,25],[104,29,104,31],[105,19,105,20],[101,19,101,20],[101,23,101,25],[95,26,95,28],[99,26,99,28],[100,26,100,28],[106,19,106,20],[81,26,81,28],[82,26,82,28],[77,29,77,31],[78,29,78,31],[75,29,75,31],[87,23,87,25],[106,23,106,25],[76,23,76,25],[75,23,75,25],[83,19,83,20],[83,23,83,25],[80,23,80,25],[79,19,79,20],[79,23,79,25],[75,19,75,20],[80,19,80,20],[71,23,71,25],[68,19,68,20],[68,23,68,25],[61,19,61,22],[61,23,61,25],[61,26,61,28],[92,19,92,20],[91,19,91,20],[91,23,91,25],[43,20,43,22],[44,20,44,22],[45,20,45,22],[47,20,47,22],[48,20,48,22],[49,20,49,22],[50,20,50,22],[110,23,110,25],[107,26,107,28],[108,26,108,28],[67,19,67,20],[84,19,84,20],[230,19,230,22],[230,23,230,25],[230,26,230,28],[230,29,230,31],[232,19,232,20],[232,23,232,25],[233,19,233,20],[233,23,233,25],[234,26,234,28],[223,19,223,20],[223,23,223,25],[224,19,224,20],[221,19,221,20],[221,23,221,25],[222,19,222,20],[222,23,222,25],[132,19,132,20],[132,23,132,25],[219,19,219,22],[219,23,219,25],[139,19,139,22],[139,23,139,25],[129,19,129,22],[129,23,129,25],[129,26,129,28],[131,19,131,20],[131,23,131,25],[254,29,254,31],[255,29,255,31],[241,19,241,20],[241,23,241,25],[242,26,242,28],[243,26,243,28],[244,19,244,20],[244,23,244,25],[244,29,244,31],[245,19,245,20],[245,23,245,25],[235,26,235,28],[236,19,236,20],[236,23,236,25],[237,19,237,20],[237,23,237,25],[238,29,238,31],[239,29,239,31],[240,19,240,20],[240,23,240,25],[252,19,252,20],[252,23,252,25],[268,19,269,20],[268,21,269,22],[268,23,268,25],[269,23,269,25],[212,19,212,20],[212,23,212,25],[191,19,191,20],[191,23,191,25],[199,19,199,20],[199,23,199,25],[203,26,203,28],[204,19,204,20],[204,23,204,25],[203,19,203,20],[203,23,203,25],[215,19,215,20],[213,19,213,20],[253,19,253,20],[253,23,253,25],[201,19,201,20],[201,23,201,25],[201,26,201,28],[202,19,202,20],[202,26,202,28],[213,23,213,25],[214,19,214,20],[214,23,214,25],[210,19,210,22],[210,23,210,25],[205,19,205,20],[205,23,205,25],[197,23,197,25],[281,19,281,20],[281,23,281,25],[282,29,282,31],[283,29,283,31],[284,19,284,20],[284,23,284,25],[273,19,273,20],[273,23,273,25],[274,29,274,31],[275,29,275,31],[276,19,276,20],[276,23,276,25],[277,19,277,20],[277,23,277,25],[278,26,278,28],[291,29,291,31],[292,19,292,20],[292,23,292,25],[290,29,290,31],[279,26,279,28],[280,19,280,20],[280,23,280,25],[280,29,280,31],[293,19,293,20],[293,23,293,25],[294,26,294,28],[295,26,295,28],[296,16,297,18],[296,19,297,20],[296,21,297,22],[296,23,296,25],[297,23,297,25],[285,19,285,20],[285,23,285,25],[286,26,286,28],[287,26,287,28],[288,19,288,20],[288,23,288,25],[289,19,289,20],[289,23,289,25],[306,26,306,28],[307,26,307,28],[308,19,308,20],[308,23,308,25],[309,19,309,20],[309,23,309,25],[310,29,310,31],[311,29,311,31],[312,16,313,18],[312,19,313,20],[312,21,313,22],[312,23,312,25],[313,23,313,25],[302,19,302,22],[302,23,302,25],[302,26,302,28],[302,29,302,31],[304,16,305,18],[304,19,305,20],[304,21,305,22],[304,23,304,25],[305,23,305,25],[320,19,320,20],[320,23,320,25],[321,19,321,20],[321,23,321,25],[322,26,322,28],[323,26,323,28],[324,16,325,18],[324,19,325,20],[324,21,325,22],[324,23,324,25],[325,23,325,25],[314,26,314,28],[315,26,315,28],[316,19,316,20],[316,23,316,25],[316,29,316,31],[317,19,317,20],[317,23,317,25],[318,29,318,31],[319,29,319,31],[338,19,338,22],[338,23,338,25],[338,26,338,28],[338,29,338,31],[340,16,341,18],[340,19,341,20],[340,21,341,22],[340,23,340,25],[341,23,341,25],[326,29,326,31],[327,29,327,31],[328,19,328,20],[328,23,328,25],[329,19,329,20],[329,23,329,25],[330,26,330,28],[331,26,331,28],[332,16,333,18],[332,19,333,20],[332,21,333,22],[332,23,332,25],[333,23,333,25],[348,19,349,20],[348,21,349,22],[348,23,348,25],[349,23,349,25],[350,26,350,28],[351,26,351,28],[352,19,352,20],[352,23,352,25],[342,26,342,28],[343,26,343,28],[344,16,345,18],[344,19,345,20],[344,21,345,22],[344,23,344,25],[345,23,345,25],[346,29,346,31],[347,29,347,31],[358,26,358,28],[359,26,359,28],[360,16,361,18],[360,19,361,20],[360,21,361,22],[360,23,360,25],[361,23,361,25],[362,29,362,31],[363,29,363,31],[352,29,352,31],[353,19,353,20],[353,23,353,25],[354,29,354,31],[355,29,355,31],[356,19,356,20],[356,23,356,25],[357,19,357,20],[357,23,357,25],[374,19,374,22],[374,23,374,25],[374,26,374,28],[374,29,374,31],[376,19,376,20],[376,23,376,25],[377,19,377,20],[377,23,377,25],[378,26,378,28],[364,16,365,18],[364,19,365,20],[364,21,365,22],[364,23,364,25],[365,23,365,25],[366,26,366,28],[367,26,367,28],[368,16,369,18],[368,19,369,20],[368,21,369,22],[368,23,368,25],[369,23,369,25],[376,16,376,18],[377,16,377,18],[385,19,385,20],[385,23,385,25],[386,26,386,28],[387,26,387,28],[388,19,388,20],[388,23,388,25],[389,19,389,20],[389,23,389,25],[394,19,394,22],[394,23,394,25],[394,26,394,28],[379,26,379,28],[380,19,380,20],[380,23,380,25],[381,19,381,20],[381,23,381,25],[382,29,382,31],[383,29,383,31],[384,19,384,20],[384,23,384,25],[401,19,401,20],[401,23,401,25],[402,29,402,31],[403,29,403,31],[404,19,404,20],[404,23,404,25],[405,19,405,20],[405,23,405,25],[406,26,406,28],[394,29,394,31],[396,16,397,18],[396,19,397,20],[396,21,397,22],[396,23,396,25],[397,23,397,25],[398,26,398,28],[399,26,399,28],[400,19,400,20],[400,23,400,25],[400,16,400,18],[401,16,401,18],[404,16,404,18],[405,16,405,18],[426,29,426,31],[428,16,429,18],[428,19,428,20],[428,23,428,25],[429,19,429,20],[429,23,429,25],[414,29,414,31],[416,19,416,20],[416,23,416,25],[417,19,417,20],[417,23,417,25],[418,26,418,28],[419,26,419,28],[420,19,420,20],[420,23,420,25],[407,26,407,28],[408,16,409,18],[408,19,409,20],[408,21,409,22],[408,23,408,25],[409,23,409,25],[414,19,414,22],[414,23,414,25],[414,26,414,28],[416,16,416,18],[417,16,417,18],[420,16,420,18],[430,16,431,18],[430,19,430,20],[430,23,430,25],[430,26,430,28],[431,19,431,20],[431,26,431,28],[432,16,433,18],[432,19,432,20],[432,23,432,25],[432,26,432,28],[433,19,433,20],[433,23,433,25],[421,19,421,20],[421,23,421,25],[426,19,426,22],[426,23,426,25],[426,26,426,28],[421,16,421,18],[438,16,439,18],[438,19,438,20],[438,23,438,25],[438,26,438,28],[439,19,439,20],[439,26,439,28],[440,16,441,18],[440,19,440,20],[440,23,440,25],[440,26,440,28],[434,16,435,18],[434,19,434,20],[434,23,434,25],[434,29,434,31],[435,19,435,20],[435,29,435,31],[436,16,437,18],[436,19,436,20],[436,23,436,25],[436,29,436,31],[437,19,437,20],[437,23,437,25],[444,16,445,18],[444,19,444,20],[444,23,444,25],[444,29,444,31],[445,19,445,20],[445,23,445,25],[446,16,447,18],[446,19,446,20],[446,23,446,25],[446,26,446,28],[447,19,447,20],[447,26,447,28],[440,29,440,31],[441,19,441,20],[441,23,441,25],[442,16,443,18],[442,19,442,20],[442,23,442,25],[442,29,442,31],[443,19,443,20],[443,29,443,31],[450,29,450,31],[451,19,451,20],[451,29,451,31],[452,16,453,18],[452,19,452,20],[452,23,452,25],[452,29,452,31],[453,19,453,20],[453,23,453,25],[448,16,449,18],[448,19,448,20],[448,23,448,25],[448,26,448,28],[449,19,449,20],[449,23,449,25],[450,16,451,18],[450,19,450,20],[450,23,450,25],[457,29,457,31],[458,16,459,18],[458,19,458,20],[458,23,458,25],[459,19,459,20],[464,19,464,22],[464,23,464,25],[464,26,464,28],[464,29,464,31],[454,16,455,18],[454,19,454,20],[454,23,454,25],[454,26,454,28],[455,19,455,20],[455,26,455,28],[456,16,457,18],[456,19,456,20],[456,23,456,25],[456,26,456,28],[457,19,457,20],[457,23,457,25],[470,16,471,18],[470,19,470,20],[470,23,470,25],[470,26,470,28],[471,19,471,20],[471,23,471,25],[472,16,473,18],[472,19,472,20],[472,23,472,25],[466,23,466,25],[467,16,468,18],[467,19,467,20],[467,23,467,25],[468,19,468,20],[468,23,468,25],[468,26,468,28],[469,19,469,20],[469,26,469,28],[476,16,477,18],[476,19,476,20],[476,23,476,25],[476,26,476,28],[477,19,477,20],[477,26,477,28],[478,16,479,18],[478,19,478,20],[478,23,478,25],[478,26,478,28],[472,29,472,31],[473,19,473,20],[473,29,473,31],[474,16,475,18],[474,19,474,20],[474,23,474,25],[474,29,474,31],[475,19,475,20],[475,23,475,25],[482,16,483,18],[482,19,482,20],[482,23,482,25],[482,29,482,31],[483,19,483,20],[483,23,483,25],[484,16,485,18],[484,19,484,20],[484,23,484,25],[484,26,484,28],[485,19,485,20],[485,26,485,28],[478,29,478,31],[479,19,479,20],[479,23,479,25],[480,16,481,18],[480,19,480,20],[480,23,480,25],[480,29,480,31],[481,19,481,20],[481,29,481,31],[488,29,488,31],[489,19,489,20],[489,29,489,31],[490,16,491,18],[490,19,490,20],[490,23,490,25],[490,29,490,31],[491,19,491,20],[491,23,491,25],[486,16,487,18],[486,19,486,20],[486,23,486,25],[486,26,486,28],[487,19,487,20],[487,23,487,25],[488,16,489,18],[488,19,488,20],[488,23,488,25],[495,29,495,31],[496,19,496,20],[496,23,496,25],[497,19,497,20],[501,19,501,22],[501,23,501,25],[501,26,501,28],[501,29,501,31],[503,23,503,25],[492,16,493,18],[492,19,492,20],[492,23,492,25],[492,26,492,28],[493,19,493,20],[493,26,493,28],[494,23,494,25],[494,26,494,28],[495,16,496,18],[495,19,495,20],[495,23,495,25],[509,16,510,18],[509,19,509,20],[509,23,509,25],[509,29,509,31],[510,19,510,20],[510,29,510,31],[511,23,511,25],[511,29,511,31],[512,16,513,18],[512,19,512,20],[512,23,512,25],[513,19,513,20],[513,23,513,25],[513,26,513,28],[504,16,505,18],[504,19,504,20],[504,23,504,25],[505,19,505,20],[505,23,505,25],[505,26,505,28],[506,19,506,20],[506,26,506,28],[507,16,508,18],[507,19,507,20],[507,23,507,25],[507,26,507,28],[508,19,508,20],[508,23,508,25],[517,16,518,18],[517,19,517,20],[517,23,517,25],[517,29,517,31],[518,19,518,20],[518,29,518,31],[519,16,520,18],[519,19,519,20],[519,23,519,25],[519,29,519,31],[520,19,520,20],[520,23,520,25],[514,19,514,20],[514,26,514,28],[515,16,516,18],[515,19,515,20],[515,23,515,25],[515,26,515,28],[515,29,515,31],[516,19,516,20],[516,23,516,25],[525,29,525,31],[526,19,526,20],[526,29,526,31],[527,16,528,18],[527,19,527,20],[527,23,527,25],[527,29,527,31],[528,19,528,20],[528,23,528,25],[521,16,522,18],[521,19,521,20],[521,23,521,25],[521,26,521,28],[522,19,522,20],[522,26,522,28],[523,23,523,25],[523,26,523,28],[524,16,525,18],[524,19,524,20],[524,23,524,25],[525,19,525,20],[525,23,525,25],[532,29,532,31],[533,23,533,25],[538,19,538,22],[538,23,538,25],[538,26,538,28],[538,29,538,31],[540,23,540,25],[541,16,542,18],[541,19,541,20],[541,23,541,25],[542,19,542,20],[542,23,542,25],[542,26,542,28],[529,16,530,18],[529,19,529,20],[529,23,529,25],[529,26,529,28],[530,19,530,20],[530,26,530,28],[531,23,531,25],[531,26,531,28],[532,16,533,18],[532,19,532,20],[532,23,532,25],[546,29,546,31],[547,19,547,20],[547,29,547,31],[548,23,548,25],[548,29,548,31],[549,16,550,18],[549,19,549,20],[549,23,549,25],[550,19,550,20],[550,23,550,25]],"merged_total":1287,"flags":["merged_cut"]}
[null,null,null,null,null,null,null,null,null,null,null,null,null,null,null,null,"Tabelki"]
[null,null,null,null,null,null,null,null,null,null,null,null,null,null,null,null,null,null,null,null,null,null,null,null,null,null,null,"Sędzia główny"]
[null,null,null,null,null,null,null,null,null,null,null,null,null,null,null,null,null,null,null,null,null,null,null,null,null,null,null,{"$f":"IF(ISBLANK(dane!$D$4),\"\",dane!$D$4)","v":"Marek Krawczyk"}]
[]
[]
[null,null,null,null,null,null,null,null,null,null,null,null,null,null,null,null,{"$f":"\"Grupa \"&O6&\".\"","v":"Grupa ."},null,null,"Lp","Zawodnik",null,null,1,2,3,4,"Punkty","Sety","Mecze","Miejsce",null,null,null,"Z planu gier",null,null,null,null,null,"Do obliczeń"]
[null,null,null,null,null,null,null,null,null,null,null,null,null,null,null,null,"Kolejność\ngier",null,"Nr\ngry",1,{"$f":"IF(AND(N8<>\"\",N9<>\"\"),CONCATENATE(VLOOKUP(N8,zawodnicy!$A:$E,1,FALSE),\" \",VLOOKUP(N8,zawodnicy!$A:$E,2,FALSE),\" \",VLOOKUP(N8,zawodnicy!$A:$E,3,FALSE),\" - \",VLOOKUP(N8,zawodnicy!$A:$E,4,FALSE)),\"\")","v":""},null,null,null,{"$f":"IF(SUM(AO12:AP12)=0,\"\",AO12&\":\"&AP12)","v":""},{"$f":"IF(SUM(AO14:AP14)=0,\"\",AO14&\":\"&AP14)","v":""},{"$f":"IF(SUM(AO11:AP11)=0,\"\",AO11&\":\"&AP11)","v":""},{"$f":"IF(SUM(AY10:BD10)=0,\"\",BE10&\":\"&BF10)","v":""},{"$f":"IF(SUM(AY10:BD10)=0,\"\",BG10&\":\"&BH10)","v":""},{"$f":"IF(SUM(AY10:BD10)=0,\"\",BI10&\":\"&BJ10)","v":""},{"$f":"IF(SUM(BI10:BI13)>0,BK10,\"\")","v":""}]
[null,null,null,null,null,null,null,null,{"$f":"\"1\"&O6&N7","v":"1"},{"$f":"IF(SUM(AE7:AE18)=0,\"\",IF(AE7=1,N8,IF(AE10=1,N11,IF(AE13=1,N14,IF(AE16=1,N17,\"\")))))","v":""},{"$f":"IF(SUM(AE7:AE18)=0,\"\",IF(AE7=1,N9,IF(AE10=1,N12,IF(AE13=1,N15,IF(AE16=1,N18,\"\")))))","v":""},{"$f":"IF(VLOOKUP(N8,zawodnicy!A:E,5,FALSE)=0,\"\",N8)","v":{"$error":"#N/A"}},null,null,{"$f":"IF(O6>0,(O6&1)*1,\"\")","v":""},null,null,null,null,null,{"$f":"IF(AND(N8<>\"\",N9=\"\"),CONCATENATE(VLOOKUP(N8,zawodnicy!$A:$E,1,FALSE),\" \",VLOOKUP(N8,zawodnicy!$A:$E,2,FALSE),\" \",VLOOKUP(N8,zawodnicy!$A:$E,3,FALSE),\" - \",VLOOKUP(N8,zawodnicy!$A:$E,4,FALSE)),\"\")","v":""},null,null,null,{"$f":"IF(SUM(AQ12:AR12)=0,\"\",AQ12&\":\"&AR12)","v":""},{"$f":"IF(SUM(AQ14:AR14)=0,\"\",AQ14&\":\"&AR14)","v":""},{"$f":"IF(SUM(AQ11:AR11)=0,\"\",AQ11&\":\"&AR11)","v":""}]
[null,null,null,null,null,null,null,null,null,null,null,{"$f":"IF(VLOOKUP(N9,zawodnicy!A:E,5,FALSE)=0,\"\",N9)","v":{"$error":"#N/A"}},null,null,null,null,null,null,null,null,{"$f":"IF(N9<>\"\",CONCATENATE(VLOOKUP(N9,zawodnicy!$A:$E,1,FALSE),\" \",VLOOKUP(N9,zawodnicy!$A:$E,2,FALSE),\" \",VLOOKUP(N9,zawodnicy!$A:$E,3,FALSE),\" - \",VLOOKUP(N9,zawodnicy!$A:$E,4,FALSE)),\"\")","v":""},null,null,null,{"$f":"IF(SUM(AS12:AT12)=0,\"\",AS12&\":\"&AT12)","v":""},{"$f":"IF(SUM(AS14:AT14)=0,\"\",AS14&\":\"&AT14)","v":""},{"$f":"IF(SUM(AS11:AT11)=0,\"\",AS11&\":\"&AT11)","v":""},null,null,null,null,null,null,null,"1 set",null,"2 set",null,"3 set",null,"1 set",null,"2 set",null,"3 set",null,null,null,1,null,2,null,3,null,4,null,"Punkty",null,"Sety",null,"Mecze",null,"Miejsce"]
[{"$f":"S10","v":0},{"$f":"IF(N11=\"\",\"\",N11)","v":""},{"$f":"IF(N12=\"\",\"\",N12)","v":""},{"$f":"IF(N14=\"\",\"\",N14)","v":""},{"$f":"IF(N15=\"\",\"\",N15)","v":""},null,null,null,{"$f":"\"2\"&O6&N7","v":"2"},{"$f":"IF(SUM(AE7:AE18)=0,\"\",IF(AE7=2,N8,IF(AE10=2,N11,IF(AE13=2,N14,IF(AE16=2,N17,\"\")))))","v":""},{"$f":"IF(SUM(AE7:AE18)=0,\"\",IF(AE7=2,N9,IF(AE10=2,N12,IF(AE13=2,N15,IF(AE16=2,N18,\"\")))))","v":""},null,{"$f":"N7","v":0},null,null,null,{"$f":"IF(AU10>0,\"\",IF(A10=0,\"\",IF(VLOOKUP(A10,'plan gier'!A:T,20,FALSE)=\"\",\"\",VLOOKUP(A10,'plan gier'!A:T,20,FALSE))))","v":""},"2-3",null,2,{"$f":"IF(AND(N11<>\"\",N12<>\"\"),CONCATENATE(VLOOKUP(N11,zawodnicy!$A:$E,1,FALSE),\" \",VLOOKUP(N11,zawodnicy!$A:$E,2,FALSE),\" \",VLOOKUP(N11,zawodnicy!$A:$E,3,FALSE),\" - \",VLOOKUP(N11,zawodnicy!$A:$E,4,FALSE)),\"\")","v":""},null,null,{"$f":"IF(SUM(AO12:AP12)=0,\"\",AP12&\":\"&AO12)","v":""},null,{"$f":"IF(SUM(AO10:AP10)=0,\"\",AO10&\":\"&AP10)","v":""},{"$f":"IF(SUM(AO15:AP15)=0,\"\",AO15&\":\"&AP15)","v":""},{"$f":"IF(SUM(AW11:AX11,BA11:BD11)=0,\"\",BE11&\":\"&BF11)","v":""},{"$f":"IF(SUM(AW11:AX11,BA11:BD11)=0,\"\",BG11&\":\"&BH11)","v":""},{"$f":"IF(SUM(AW11:AX11,BA11:BD11)=0,\"\",BI11&\":\"&BJ11)","v":""},{"$f":"IF(SUM(BI10:BI13)>0,BK11,\"\")","v":""},null,null,"2-3",{"$f":"IF(ISBLANK(S10),\"\",VLOOKUP(S10,'plan gier'!$Z:$AP,12,FALSE))","v":""},{"$f":"IF(ISBLANK(S10),\"\",VLOOKUP(S10,'plan gier'!$Z:$AP,13,FALSE))","v":""},{"$f":"IF(ISBLANK(S10),\"\",VLOOKUP(S10,'plan gier'!$Z:$AP,14,FALSE))","v":""},{"$f":"IF(ISBLANK(S10),\"\",VLOOKUP(S10,'plan gier'!$Z:$AP,15,FALSE))","v":""},{"$f":"IF(ISBLANK(S10),\"\",VLOOKUP(S10,'plan gier'!$Z:$AP,16,FALSE))","v":""},{"$f":"IF(ISBLANK(S10),\"\",VLOOKUP(S10,'plan gier'!$Z:$AP,17,FALSE))","v":""},{"$f":"IF(AI10=\"\",0,AI10)","v":0},0,0,0,0,0,{"$f":"SUM(AO10:AT10)","v":0},1,null,null,{"$f":"IF(AI12>AJ12,1,0)+IF(AK12>AL12,1,0)+IF(AM12>AN12,1,0)","v":0},{"$f":"AW11","v":0},{"$f":"IF(AI14>AJ14,1,0)+IF(AK14>AL14,1,0)+IF(AM14>AN14,1,0)","v":0},{"$f":"AW12","v":0},{"$f":"IF(AI11>AJ11,1,0)+IF(AK11>AL11,1,0)+IF(AM11>AN11,1,0)","v":0},{"$f":"AW13","v":0},{"$f":"AO11+AQ11+AS11+AO12+AQ12+AS12+AO14+AQ14+AS14","v":0},{"$f":"AP11+AR11+AT11+AP12+AR12+AT12+AP14+AR14+AT14","v":0},{"$f":"AY10+BA10+BC10","v":0},{"$f":"AZ10+BB10+BD10","v":0},{"$f":"IF(AY10>AZ10,1,0)+IF(BA10>BB10,1,0)+IF(BC10>BD10,1,0)","v":0},{"$f":"IF(AZ10>AY10,1,0)+IF(BB10>BA10,1,0)+IF(BD10>BC10,1,0)","v":0},{"$f":"IF(BI10+BJ10=0,\"\",IF(BL10=MAX(BL10:BL13),1,IF(BL10=LARGE(BL10:BL13,2),2,IF(BL10=LARGE(BL10:BL13,3),3,4))))","v":""},{"$f":"IF(BI10+BJ10<>0,BI10+1+(BG10-BH10)/100+(BE10-BF10)/100000+IF(BF10=0,0,(BE10/BF10)/1000000),0)","v":0}]
[0,{"$f":"IF(N8=\"\",\"\",N8)","v":""},{"$f":"IF(N9=\"\",\"\",N9)","v":""},{"$f":"IF(N17=\"\",\"\",N17)","v":""},{"$f":"IF(N18=\"\",\"\",N18)","v":""},null,null,null,null,null,null,{"$f":"IF(VLOOKUP(N11,zawodnicy!A:E,5,FALSE)=0,\"\",N11)","v":{"$error":"#N/A"}},{"$f":"N7","v":0},null,{"$f":"IF(O6>0,(O6&2)*1,\"\")","v":""},null,{"$f":"IF(AU11>0,\"\",IF(A11=0,\"\",IF(VLOOKUP(A11,'plan gier'!A:T,20,FALSE)=\"\",\"\",VLOOKUP(A11,'plan gier'!A:T,20,FALSE))))","v":""},"1-4",null,null,{"$f":"IF(AND(N11<>\"\",N12=\"\"),CONCATENATE(VLOOKUP(N11,zawodnicy!$A:$E,1,FALSE),\" \",VLOOKUP(N11,zawodnicy!$A:$E,2,FALSE),\" \",VLOOKUP(N11,zawodnicy!$A:$E,3,FALSE),\" - \",VLOOKUP(N11,zawodnicy!$A:$E,4,FALSE)),\"\")","v":""},null,null,{"$f":"IF(SUM(AQ12:AR12)=0,\"\",AR12&\":\"&AQ12)","v":""},null,{"$f":"IF(SUM(AQ10:AR10)=0,\"\",AQ10&\":\"&AR10)","v":""},{"$f":"IF(SUM(AQ15:AR15)=0,\"\",AQ15&\":\"&AR15)","v":""},null,null,null,null,null,null,"1-4",{"$f":"IF(ISBLANK(S11),\"\",VLOOKUP(S11,'plan gier'!$Z:$AP,12,FALSE))","v":""},{"$f":"IF(ISBLANK(S11),\"\",VLOOKUP(S11,'plan gier'!$Z:$AP,13,FALSE))","v":""},{"$f":"IF(ISBLANK(S11),\"\",VLOOKUP(S11,'plan gier'!$Z:$AP,14,FALSE))","v":""},{"$f":"IF(ISBLANK(S11),\"\",VLOOKUP(S11,'plan gier'!$Z:$AP,15,FALSE))","v":""},{"$f":"IF(ISBLANK(S11),\"\",VLOOKUP(S11,'plan gier'!$Z:$AP,16,FALSE))","v":""},{"$f":"IF(ISBLANK(S11),\"\",VLOOKUP(S11,'plan gier'!$Z:$AP,17,FALSE))","v":""},0,0,0,0,0,0,0,2,{"$f":"IF(AI12<AJ12,1,0)+IF(AK12<AL12,1,0)+IF(AM12<AN12,1,0)","v":0},{"$f":"AY10","v":0},null,null,{"$f":"IF(AI10>AJ10,1,0)+IF(AK10>AL10,1,0)+IF(AM10>AN10,1,0)","v":0},{"$f":"AY12","v":0},{"$f":"IF(AI15>AJ15,1,0)+IF(AK15>AL15,1,0)+IF(AM15>AN15,1,0)","v":0},{"$f":"AY13","v":0},{"$f":"AO10+AQ10+AS10+AP12+AR12+AT12+AO15+AQ15+AS15","v":0},{"$f":"AP10+AR10+AT10+AO12+AQ12+AS12+AP15+AR15+AT15","v":0},{"$f":"AW11+BA11+BC11","v":0},{"$f":"AX11+BB11+BD11","v":0},{"$f":"IF(AW11>AX11,1,0)+IF(BA11>BB11,1,0)+IF(BC11>BD11,1,0)","v":0},{"$f":"IF(AX11>AW11,1,0)+IF(BB11>BA11,1,0)+IF(BD11>BC11,1,0)","v":0},{"$f":"IF(BI11+BJ11=0,\"\",IF(BL11=MAX(BL10:BL13),1,IF(BL11=LARGE(BL10:BL13,2),2,IF(BL11=LARGE(BL10:BL13,3),3,4))))","v":""},{"$f":"IF(BI11+BJ11<>0,BI11+1+(BG11-BH11)/100+(BE11-BF11)/100000+IF(BF11=0,0,(BE11/BF11)/1000000),0)","v":0}]
[0,{"$f":"IF(N8=\"\",\"\",N8)","v":""},{"$f":"IF(N9=\"\",\"\",N9)","v":""},{"$f":"IF(N11=\"\",\"\",N11)","v":""},{"$f":"IF(N12=\"\",\"\",N12)","v":""},null,null,null,{"$f":"\"3\"&O6&N7","v":"3"},{"$f":"IF(SUM(AE7:AE18)=0,\"\",IF(AE7=3,N8,IF(AE10=3,N11,IF(AE13=3,N14,IF(AE16=3,N17,\"\")))))","v":""},{"$f":"IF(SUM(AE7:AE18)=0,\"\",IF(AE7=3,N9,IF(AE10=3,N12,IF(AE13=3,N15,IF(AE16=3,N18,\"\")))))","v":""},{"$f":"IF(VLOOKUP(N12,zawodnicy!A:E,5,FALSE)=0,\"\",N12)","v":{"$error":"#N/A"}},{"$f":"N7","v":0},null,null,null,{"$f":"IF(AU12>0,\"\",IF(A12=0,\"\",IF(VLOOKUP(A12,'plan gier'!A:T,20,FALSE)=\"\",\"\",VLOOKUP(A12,'plan gier'!A:T,20,FALSE))))","v":""},"1-2",null,null,{"$f":"IF(N12<>\"\",CONCATENATE(VLOOKUP(N12,zawodnicy!$A:$E,1,FALSE),\" \",VLOOKUP(N12,zawodnicy!$A:$E,2,FALSE),\" \",VLOOKUP(N12,zawodnicy!$A:$E,3,FALSE),\" - \",VLOOKUP(N12,zawodnicy!$A:$E,4,FALSE)),\"\")","v":""},null,null,{"$f":"IF(SUM(AS12:AT12)=0,\"\",AT12&\":\"&AS12)","v":""},null,{"$f":"IF(SUM(AS10:AT10)=0,\"\",AS10&\":\"&AT10)","v":""},{"$f":"IF(SUM(AS15:AT15)=0,\"\",AS15&\":\"&AT15)","v":""},null,null,null,null,null,null,"1-2",{"$f":"IF(ISBLANK(S12),\"\",VLOOKUP(S12,'plan gier'!$Z:$AP,12,FALSE))","v":""},{"$f":"IF(ISBLANK(S12),\"\",VLOOKUP(S12,'plan gier'!$Z:$AP,13,FALSE))","v":""},{"$f":"IF(ISBLANK(S12),\"\",VLOOKUP(S12,'plan gier'!$Z:$AP,14,FALSE))","v":""},{"$f":"IF(ISBLANK(S12),\"\",VLOOKUP(S12,'plan gier'!$Z:$AP,15,FALSE))","v":""},{"$f":"IF(ISBLANK(S12),\"\",VLOOKUP(S12,'plan gier'!$Z:$AP,16,FALSE))","v":""},{"$f":"IF(ISBLANK(S12),\"\",VLOOKUP(S12,'plan gier'!$Z:$AP,17,FALSE))","v":""},0,0,0,0,0,0,0,3,{"$f":"IF(AI14<AJ14,1,0)+IF(AK14<AL14,1,0)+IF(AM14<AN14,1,0)","v":0},{"$f":"BA10","v":0},{"$f":"IF(AI10<AJ10,1,0)+IF(AK10<AL10,1,0)+IF(AM10<AN10,1,0)","v":0},{"$f":"BA11","v":0},null,null,{"$f":"IF(AI13>AJ13,1,0)+IF(AK13>AL13,1,0)+IF(AM13>AN13,1,0)","v":0},{"$f":"BA13","v":0},{"$f":"AP10+AR10+AT10+AO13+AQ13+AS13+AP14+AR14+AT14","v":0},{"$f":"AO10+AQ10+AS10+AP13+AR13+AT13+AO14+AQ14+AS14","v":0},{"$f":"AW12+AY12+BC12","v":0},{"$f":"AX12+AZ12+BD12","v":0},{"$f":"IF(AW12>AX12,1,0)+IF(AY12>AZ12,1,0)+IF(BC12>BD12,1,0)","v":0},{"$f":"IF(AX12>AW12,1,0)+IF(AZ12>AY12,1,0)+IF(BD12>BC12,1,0)","v":0},{"$f":"IF(BI12+BJ12=0,\"\",IF(BL12=MAX(BL10:BL13),1,IF(BL12=LARGE(BL10:BL13,2),2,IF(BL12=LARGE(BL10:BL13,3),3,4))))","v":""},{"$f":"IF(BI12+BJ12<>0,BI12+1+(BG12-BH12)/100+(BE12-BF12)/100000+IF(BF12=0,0,(BE12/BF12)/1000000),0)","v":0}]
[0,{"$f":"IF(N14=\"\",\"\",N14)","v":""},{"$f":"IF(N15=\"\",\"\",N15)","v":""},{"$f":"IF(N17=\"\",\"\",N17)","v":""},{"$f":"IF(N18=\"\",\"\",N18)","v":""},null,null,null,null,null,null,null,{"$f":"N7","v":0},null,null,null,{"$f":"IF(AU13>0,\"\",IF(A13=0,\"\",IF(VLOOKUP(A13,'plan gier'!A:T,20,FALSE)=\"\",\"\",VLOOKUP(A13,'plan gier'!A:T,20,FALSE))))","v":""},"3-4",null,3,{"$f":"IF(AND(N14<>\"\",N15<>\"\"),CONCATENATE(VLOOKUP(N14,zawodnicy!$A:$E,1,FALSE),\" \",VLOOKUP(N14,zawodnicy!$A:$E,2,FALSE),\" \",VLOOKUP(N14,zawodnicy!$A:$E,3,FALSE),\" - \",VLOOKUP(N14,zawodnicy!$A:$E,4,FALSE)),\"\")","v":""},null,null,{"$f":"IF(SUM(AO14:AP14)=0,\"\",AP14&\":\"&AO14)","v":""},{"$f":"IF(SUM(AO10:AP10)=0,\"\",AP10&\":\"&AO10)","v":""},null,{"$f":"IF(SUM(AO13:AP13)=0,\"\",AO13&\":\"&AP13)","v":""},{"$f":"IF(SUM(AW12:AZ12,BC12:BD12)=0,\"\",BE12&\":\"&BF12)","v":""},{"$f":"IF(SUM(AW12:AZ12,BC12:BD12)=0,\"\",BG12&\":\"&BH12)","v":""},{"$f":"IF(SUM(AW12:AZ12,BC12:BD12)=0,\"\",BI12&\":\"&BJ12)","v":""},{"$f":"IF(SUM(BI10:BI13)>0,BK12,\"\")","v":""},null,null,"3-4",{"$f":"IF(ISBLANK(S13),\"\",VLOOKUP(S13,'plan gier'!$Z:$AP,12,FALSE))","v":""},{"$f":"IF(ISBLANK(S13),\"\",VLOOKUP(S13,'plan gier'!$Z:$AP,13,FALSE))","v":""},{"$f":"IF(ISBLANK(S13),\"\",VLOOKUP(S13,'plan gier'!$Z:$AP,14,FALSE))","v":""},{"$f":"IF(ISBLANK(S13),\"\",VLOOKUP(S13,'plan gier'!$Z:$AP,15,FALSE))","v":""},{"$f":"IF(ISBLANK(S13),\"\",VLOOKUP(S13,'plan gier'!$Z:$AP,16,FALSE))","v":""},{"$f":"IF(ISBLANK(S13),\"\",VLOOKUP(S13,'plan gier'!$Z:$AP,17,FALSE))","v":""},0,0,0,0,0,0,0,4,{"$f":"IF(AI11<AJ11,1,0)+IF(AK11<AL11,1,0)+IF(AM11<AN11,1,0)","v":0},{"$f":"BC10","v":0},{"$f":"IF(AI15<AJ15,1,0)+IF(AK15<AL15,1,0)+IF(AM15<AN15,1,0)","v":0},{"$f":"BC11","v":0},{"$f":"IF(AI13<AJ13,1,0)+IF(AK13<AL13,1,0)+IF(AM13<AN13,1,0)","v":0},{"$f":"BC12","v":0},null,null,{"$f":"AP11+AR11+AT11+AP13+AR13+AT13+AP15+AR15+AT15","v":0},{"$f":"AO11+AQ11+AS11+AO13+AQ13+AS13+AO15+AQ15+AS15","v":0},{"$f":"AW13+AY13+BA13","v":0},{"$f":"AX13+AZ13+BB13","v":0},{"$f":"IF(AW13>AX13,1,0)+IF(AY13>AZ13,1,0)+IF(BA13>BB13,1,0)","v":0},{"$f":"IF(AX13>AW13,1,0)+IF(AZ13>AY13,1,0)+IF(BB13>BA13,1,0)","v":0},{"$f":"IF(BI13+BJ13=0,\"\",IF(BL13=MAX(BL10:BL13),1,IF(BL13=LARGE(BL10:BL13,2),2,IF(BL13=LARGE(BL10:BL13,3),3,4))))","v":""},{"$f":"IF(BI13+BJ13<>0,BI13+1+(BG13-BH13)/100+(BE13-BF13)/100000+IF(BF13=0,0,(BE13/BF13)/1000000),0)","v":0}]
[0,{"$f":"IF(N8=\"\",\"\",N8)","v":""},{"$f":"IF(N9=\"\",\"\",N9)","v":""},{"$f":"IF(N14=\"\",\"\",N14)","v":""},{"$f":"IF(N15=\"\",\"\",N15)","v":""},null,null,null,{"$f":"\"4\"&O6&N7","v":"4"},{"$f":"IF(SUM(AE7:AE18)=0,\"\",IF(AE7=4,N8,IF(AE10=4,N11,IF(AE13=4,N14,IF(AE16=4,N17,\"\")))))","v":""},{"$f":"IF(SUM(AE7:AE18)=0,\"\",IF(AE7=4,N9,IF(AE10=4,N12,IF(AE13=4,N15,IF(AE16=4,N18,\"\")))))","v":""},{"$f":"IF(VLOOKUP(N14,zawodnicy!A:E,5,FALSE)=0,\"\",N14)","v":{"$error":"#N/A"}},{"$f":"N7","v":0},null,{"$f":"IF(O6>0,(O6&3)*1,\"\")","v":""},null,{"$f":"IF(AU14>0,\"\",IF(A14=0,\"\",IF(VLOOKUP(A14,'plan gier'!A:T,20,FALSE)=\"\",\"\",VLOOKUP(A14,'plan gier'!A:T,20,FALSE))))","v":""},"1-3",null,null,{"$f":"IF(AND(N14<>\"\",N15=\"\"),CONCATENATE(VLOOKUP(N14,zawodnicy!$A:$E,1,FALSE),\" \",VLOOKUP(N14,zawodnicy!$A:$E,2,FALSE),\" \",VLOOKUP(N14,zawodnicy!$A:$E,3,FALSE),\" - \",VLOOKUP(N14,zawodnicy!$A:$E,4,FALSE)),\"\")","v":""},null,null,{"$f":"IF(SUM(AQ14:AR14)=0,\"\",AR14&\":\"&AQ14)","v":""},{"$f":"IF(SUM(AQ10:AR10)=0,\"\",AR10&\":\"&AQ10)","v":""},null,{"$f":"IF(SUM(AQ13:AR13)=0,\"\",AQ13&\":\"&AR13)","v":""},null,null,null,null,null,null,"1-3",{"$f":"IF(ISBLANK(S14),\"\",VLOOKUP(S14,'plan gier'!$Z:$AP,12,FALSE))","v":""},{"$f":"IF(ISBLANK(S14),\"\",VLOOKUP(S14,'plan gier'!$Z:$AP,13,FALSE))","v":""},{"$f":"IF(ISBLANK(S14),\"\",VLOOKUP(S14,'plan gier'!$Z:$AP,14,FALSE))","v":""},{"$f":"IF(ISBLANK(S14),\"\",VLOOKUP(S14,'plan gier'!$Z:$AP,15,FALSE))","v":""},{"$f":"IF(ISBLANK(S14),\"\",VLOOKUP(S14,'plan gier'!$Z:$AP,16,FALSE))","v":""},{"$f":"IF(ISBLANK(S14),\"\",VLOOKUP(S14,'plan gier'!$Z:$AP,17,FALSE))","v":""},0,0,0,0,0,0,0,null,null,null,null,null,null,null,null,null,{"$f":"SUM(BE10:BE13)","v":0},0,0,0,0,0]
[0,{"$f":"IF(N11=\"\",\"\",N11)","v":""},{"$f":"IF(N12=\"\",\"\",N12)","v":""},{"$f":"IF(N17=\"\",\"\",N17)","v":""},{"$f":"IF(N18=\"\",\"\",N18)","v":""},null,null,null,null,null,null,{"$f":"IF(VLOOKUP(N15,zawodnicy!A:E,5,FALSE)=0,\"\",N15)","v":{"$error":"#N/A"}},{"$f":"N7","v":0},null,null,null,{"$f":"IF(AU15>0,\"\",IF(A15=0,\"\",IF(VLOOKUP(A15,'plan gier'!A:T,20,FALSE)=\"\",\"\",VLOOKUP(A15,'plan gier'!A:T,20,FALSE))))","v":""},"2-4",null,null,{"$f":"IF(N15<>\"\",CONCATENATE(VLOOKUP(N15,zawodnicy!$A:$E,1,FALSE),\" \",VLOOKUP(N15,zawodnicy!$A:$E,2,FALSE),\" \",VLOOKUP(N15,zawodnicy!$A:$E,3,FALSE),\" - \",VLOOKUP(N15,zawodnicy!$A:$E,4,FALSE)),\"\")","v":""},null,null,{"$f":"IF(SUM(AS14:AT14)=0,\"\",AT14&\":\"&AS14)","v":""},{"$f":"IF(SUM(AS10:AT10)=0,\"\",AT10&\":\"&AS10)","v":""},null,{"$f":"IF(SUM(AS13:AT13)=0,\"\",AS13&\":\"&AT13)","v":""},null,null,null,null,null,null,"2-4",{"$f":"IF(ISBLANK(S15),\"\",VLOOKUP(S15,'plan gier'!$Z:$AP,12,FALSE))","v":""},{"$f":"IF(ISBLANK(S15),\"\",VLOOKUP(S15,'plan gier'!$Z:$AP,13,FALSE))","v":""},{"$f":"IF(ISBLANK(S15),\"\",VLOOKUP(S15,'plan gier'!$Z:$AP,14,FALSE))","v":""},{"$f":"IF(ISBLANK(S15),\"\",VLOOKUP(S15,'plan gier'!$Z:$AP,15,FALSE))","v":""},{"$f":"IF(ISBLANK(S15),\"\",VLOOKUP(S15,'plan gier'!$Z:$AP,16,FALSE))","v":""},{"$f":"IF(ISBLANK(S15),\"\",VLOOKUP(S15,'plan gier'!$Z:$AP,17,FALSE))","v":""},0,0,0,0,0,0,0]
[null,null,null,null,null,null,null,null,null,null,null,null,null,null,null,null,null,null,null,4,{"$f":"IF(AND(N17<>\"\",N18<>\"\"),CONCATENATE(VLOOKUP(N17,zawodnicy!$A:$E,1,FALSE),\" \",VLOOKUP(N17,zawodnicy!$A:$E,2,FALSE),\" \",VLOOKUP(N17,zawodnicy!$A:$E,3,FALSE),\" - \",VLOOKUP(N17,zawodnicy!$A:$E,4,FALSE)),\"\")","v":""},null,null,{"$f":"IF(SUM(AO11:AP11)=0,\"\",AP11&\":\"&AO11)","v":""},{"$f":"IF(SUM(AO15:AP15)=0,\"\",AP15&\":\"&AO15)","v":""},{"$f":"IF(SUM(AO13:AP13)=0,\"\",AP13&\":\"&AO13)","v":""},null,{"$f":"IF(SUM(AW13:BB13)=0,\"\",BE13&\":\"&BF13)","v":""},{"$f":"IF(SUM(AW13:BB13)=0,\"\",BG13&\":\"&BH13)","v":""},{"$f":"IF(SUM(AW13:BB13)=0,\"\",BI13&\":\"&BJ13)","v":""},{"$f":"IF(SUM(BI10:BI13)>0,BK13,\"\")","v":""}]
[null,null,null,null,null,null,null,null,null,null,null,{"$f":"IF(VLOOKUP(N17,zawodnicy!A:E,5,FALSE)=0,\"\",N17)","v":{"$error":"#N/A"}},null,null,{"$f":"IF(O6>0,(O6&4)*1,\"\")","v":""},null,null,null,null,null,{"$f":"IF(AND(N17<>\"\",N18=\"\"),CONCATENATE(VLOOKUP(N17,zawodnicy!$A:$E,1,FALSE),\" \",VLOOKUP(N17,zawodnicy!$A:$E,2,FALSE),\" \",VLOOKUP(N17,zawodnicy!$A:$E,3,FALSE),\" - \",VLOOKUP(N17,zawodnicy!$A:$E,4,FALSE)),\"\")","v":""},null,null,{"$f":"IF(SUM(AQ11:AR11)=0,\"\",AR11&\":\"&AQ11)","v":""},{"$f":"IF(SUM(AQ15:AR15)=0,\"\",AR15&\":\"&AQ15)","v":""},{"$f":"IF(SUM(AQ13:AR13)=0,\"\",AR13&\":\"&AQ13)","v":""}]
[null,null,null,null,null,null,null,null,null,null,null,{"$f":"IF(VLOOKUP(N18,zawodnicy!A:E,5,FALSE)=0,\"\",N18)","v":{"$error":"#N/A"}},null,null,null,null,null,null,null,null,{"$f":"IF(N18<>\"\",CONCATENATE(VLOOKUP(N18,zawodnicy!$A:$E,1,FALSE),\" \",VLOOKUP(N18,zawodnicy!$A:$E,2,FALSE),\" \",VLOOKUP(N18,zawodnicy!$A:$E,3,FALSE),\" - \",VLOOKUP(N18,zawodnicy!$A:$E,4,FALSE)),\"\")","v":""},null,null,{"$f":"IF(SUM(AS11:AT11)=0,\"\",AT11&\":\"&AS11)","v":""},{"$f":"IF(SUM(AS15:AT15)=0,\"\",AT15&\":\"&AS15)","v":""},{"$f":"IF(SUM(AS13:AT13)=0,\"\",AT13&\":\"&AS13)","v":""}]
[]
[null,null,null,null,null,null,null,null,null,null,null,null,null,null,null,null,{"$f":"\"Grupa \"&O20&\".\"","v":"Grupa ."},null,null,"Lp","Zawodnik",null,null,1,2,3,"Punkty","Sety","Mecze","Miejsce"]
[null,null,null,null,null,null,null,null,null,null,null,null,null,null,null,null,"Kolejność\ngier",null,"Nr\ngry",1,{"$f":"IF(AND(N22<>\"\",N23<>\"\"),CONCATENATE(VLOOKUP(N22,zawodnicy!$A:$E,1,FALSE),\" \",VLOOKUP(N22,zawodnicy!$A:$E,2,FALSE),\" \",VLOOKUP(N22,zawodnicy!$A:$E,3,FALSE),\" - \",VLOOKUP(N22,zawodnicy!$A:$E,4,FALSE)),\"\")","v":""},null,null,null,{"$f":"IF(SUM(AO25:AP25)=0,\"\",AO25&\":\"&AP25)","v":""},{"$f":"IF(SUM(AO26:AP26)=0,\"\",AO26&\":\"&AP26)","v":""},{"$f":"IF(SUM(AY24:BB24)=0,\"\",BE24&\":\"&BF24)","v":""},{"$f":"IF(SUM(AY24:BB24)=0,\"\",BG24&\":\"&BH24)","v":""},{"$f":"IF(SUM(AY24:BB24)=0,\"\",BI24&\":\"&BJ24)","v":""},{"$f":"IF(SUM(BI24:BI26)>0,BK24,\"\")","v":""},null,null,null,null,"Z planu gier",null,null,null,null,null,"Do obliczeń"]
[null,null,null,null,null,null,null,null,{"$f":"\"1\"&O20&N21","v":"1"},{"$f":"IF(SUM(AD21:AD29)=0,\"\",IF(AD21=1,N22,IF(AD24=1,N25,IF(AD27=1,N28,\"\"))))","v":""},{"$f":"IF(SUM(AD21:AD29)=0,\"\",IF(AD21=1,N23,IF(AD24=1,N26,IF(AD27=1,N29,\"\"))))","v":""},{"$f":"IF(VLOOKUP(N22,zawodnicy!A:E,5,FALSE)=0,\"\",N22)","v":{"$error":"#N/A"}},null,null,{"$f":"IF(O20>0,(O20&1)*1,\"\")","v":""},null,null,null,null,null,{"$f":"IF(AND(N22<>\"\",N23=\"\"),CONCATENATE(VLOOKUP(N22,zawodnicy!$A:$E,1,FALSE),\" \",VLOOKUP(N22,zawodnicy!$A:$E,2,FALSE),\" \",VLOOKUP(N22,zawodnicy!$A:$E,3,FALSE),\" - \",VLOOKUP(N22,zawodnicy!$A:$E,4,FALSE)),\"\")","v":""},null,null,null,{"$f":"IF(SUM(AQ25:AR25)=0,\"\",AQ25&\":\"&AR25)","v":""},{"$f":"IF(SUM(AQ26:AR26)=0,\"\",AQ26&\":\"&AR26)","v":""}]
[null,null,null,null,null,null,null,null,null,null,null,{"$f":"IF(VLOOKUP(N23,zawodnicy!A:E,5,FALSE)=0,\"\",N23)","v":{"$error":"#N/A"}},null,null,null,null,null,null,null,null,{"$f":"IF(N23<>\"\",CONCATENATE(VLOOKUP(N23,zawodnicy!$A:$E,1,FALSE),\" \",VLOOKUP(N23,zawodnicy!$A:$E,2,FALSE),\" \",VLOOKUP(N23,zawodnicy!$A:$E,3,FALSE),\" - \",VLOOKUP(N23,zawodnicy!$A:$E,4,FALSE)),\"\")","v":""},null,null,null,{"$f":"IF(SUM(AS25:AT25)=0,\"\",AS25&\":\"&AT25)","v":""},{"$f":"IF(SUM(AS26:AT26)=0,\"\",AS26&\":\"&AT26)","v":""},null,null,null,null,null,null,null,null,"1 set",null,"2 set",null,"3 set",null,"1 set",null,"2 set",null,"3 set",null,null,null,1,null,2,null,3,null,null,null,"Punkty",null,"Sety",null,"Mecze",null,"Miejsce"]
[{"$f":"S24","v":0},{"$f":"IF(N25=\"\",\"\",N25)","v":""},{"$f":"IF(N26=\"\",\"\",N26)","v":""},{"$f":"IF(N28=\"\",\"\",N28)","v":""},{"$f":"IF(N29=\"\",\"\",N29)","v":""},null,null,null,{"$f":"\"2\"&O20&N21","v":"2"},{"$f":"IF(SUM(AD21:AD29)=0,\"\",IF(AD21=2,N22,IF(AD24=2,N25,IF(AD27=2,N28,\"\"))))","v":""},{"$f":"IF(SUM(AD21:AD29)=0,\"\",IF(AD21=2,N23,IF(AD24=2,N26,IF(AD27=2,N29,\"\"))))","v":""},null,{"$f":"N21","v":0},null,null,null,{"$f":"IF(AU24>0,\"\",IF(A24=0,\"\",IF(VLOOKUP(A24,'plan gier'!A:T,20,FALSE)=\"\",\"\",VLOOKUP(A24,'plan gier'!A:T,20,FALSE))))","v":""},"2-3",null,2,{"$f":"IF(AND(N25<>\"\",N26<>\"\"),CONCATENATE(VLOOKUP(N25,zawodnicy!$A:$E,1,FALSE),\" \",VLOOKUP(N25,zawodnicy!$A:$E,2,FALSE),\" \",VLOOKUP(N25,zawodnicy!$A:$E,3,FALSE),\" - \",VLOOKUP(N25,zawodnicy!$A:$E,4,FALSE)),\"\")","v":""},null,null,{"$f":"IF(SUM(AO25:AP25)=0,\"\",AP25&\":\"&AO25)","v":""},null,{"$f":"IF(SUM(AO24:AP24)=0,\"\",AO24&\":\"&AP24)","v":""},{"$f":"IF(SUM(AW25:AX25,BA25:BB25)=0,\"\",BE25&\":\"&BF25)","v":""},{"$f":"IF(SUM(AW25:AX25,BA25:BB25)=0,\"\",BG25&\":\"&BH25)","v":""},{"$f":"IF(SUM(AW25:AX25,BA25:BB25)=0,\"\",BI25&\":\"&BJ25)","v":""},{"$f":"IF(SUM(BI24:BI26)>0,BK25,\"\")","v":""},null,null,null,"2-3",{"$f":"IF(ISBLANK(S24),\"\",VLOOKUP(S24,'plan gier'!$Z:$AP,12,FALSE))","v":""},{"$f":"IF(ISBLANK(S24),\"\",VLOOKUP(S24,'plan gier'!$Z:$AP,13,FALSE))","v":""},{"$f":"IF(ISBLANK(S24),\"\",VLOOKUP(S24,'plan gier'!$Z:$AP,14,FALSE))","v":""},{"$f":"IF(ISBLANK(S24),\"\",VLOOKUP(S24,'plan gier'!$Z:$AP,15,FALSE))","v":""},{"$f":"IF(ISBLANK(S24),\"\",VLOOKUP(S24,'plan gier'!$Z:$AP,16,FALSE))","v":""},{"$f":"IF(ISBLANK(S24),\"\",VLOOKUP(S24,'plan gier'!$Z:$AP,17,FALSE))","v":""},{"$f":"IF(AI24=\"\",0,AI24)","v":0},0,0,0,0,0,{"$f":"SUM(AO24:AT24)","v":0},1,null,null,{"$f":"IF(AI25>AJ25,1,0)+IF(AK25>AL25,1,0)+IF(AM25>AN25,1,0)","v":0},{"$f":"AW25","v":0},{"$f":"IF(AI26>AJ26,1,0)+IF(AK26>AL26,1,0)+IF(AM26>AN26,1,0)","v":0},{"$f":"AW26","v":0},null,null,{"$f":"AO25+AQ25+AS25+AO26+AQ26+AS26","v":0},{"$f":"AP25+AR25+AT25+AP26+AR26+AT26","v":0},{"$f":"AY24+BA24","v":0},{"$f":"AZ24+BB24","v":0},{"$f":"IF(AY24>AZ24,1,0)+IF(BA24>BB24,1,0)","v":0},{"$f":"IF(AZ24>AY24,1,0)+IF(BB24>BA24,1,0)","v":0},{"$f":"IF(BI24+BJ24=0,\"\",IF(BL24=MAX(BL24:BL26),1,IF(BL24=LARGE(BL24:BL26,2),2,3)))","v":""},{"$f":"IF(BI24+BJ24<>0,BI24+1+(BG24-BH24)/100+(BE24-BF24)/100000+IF(BF24=0,0,(BE24/BF24)/1000000),0)","v":0}]
[{"$f":"S25","v":0},{"$f":"IF(N22=\"\",\"\",N22)","v":""},{"$f":"IF(N23=\"\",\"\",N23)","v":""},{"$f":"IF(N25=\"\",\"\",N25)","v":""},{"$f":"IF(N26=\"\",\"\",N26)","v":""},null,null,null,null,null,null,{"$f":"IF(VLOOKUP(N25,zawodnicy!A:E,5,FALSE)=0,\"\",N25)","v":{"$error":"#N/A"}},{"$f":"N21","v":0},null,{"$f":"IF(O20>0,(O20&2)*1,\"\")","v":""},null,{"$f":"IF(AU25>0,\"\",IF(A25=0,\"\",IF(VLOOKUP(A25,'plan gier'!A:T,20,FALSE)=\"\",\"\",VLOOKUP(A25,'plan gier'!A:T,20,FALSE))))","v":""},"1-2",null,null,{"$f":"IF(AND(N25<>\"\",N26=\"\"),CONCATENATE(VLOOKUP(N25,zawodnicy!$A:$E,1,FALSE),\" \",VLOOKUP(N25,zawodnicy!$A:$E,2,FALSE),\" \",VLOOKUP(N25,zawodnicy!$A:$E,3,FALSE),\" - \",VLOOKUP(N25,zawodnicy!$A:$E,4,FALSE)),\"\")","v":""},null,null,{"$f":"IF(SUM(AQ25:AR25)=0,\"\",AR25&\":\"&AQ25)","v":""},null,{"$f":"IF(SUM(AQ24:AR24)=0,\"\",AQ24&\":\"&AR24)","v":""},null,null,null,null,null,null,null,"1-2",{"$f":"IF(ISBLANK(S25),\"\",VLOOKUP(S25,'plan gier'!$Z:$AP,12,FALSE))","v":""},{"$f":"IF(ISBLANK(S25),\"\",VLOOKUP(S25,'plan gier'!$Z:$AP,13,FALSE))","v":""},{"$f":"IF(ISBLANK(S25),\"\",VLOOKUP(S25,'plan gier'!$Z:$AP,14,FALSE))","v":""},{"$f":"IF(ISBLANK(S25),\"\",VLOOKUP(S25,'plan gier'!$Z:$AP,15,FALSE))","v":""},{"$f":"IF(ISBLANK(S25),\"\",VLOOKUP(S25,'plan gier'!$Z:$AP,16,FALSE))","v":""},{"$f":"IF(ISBLANK(S25),\"\",VLOOKUP(S25,'plan gier'!$Z:$AP,17,FALSE))","v":""},0,0,0,0,0,0,{"$f":"SUM(AO25:AT25)","v":0},2,{"$f":"IF(AI25<AJ25,1,0)+IF(AK25<AL25,1,0)+IF(AM25<AN25,1,0)","v":0},{"$f":"AY24","v":0},null,null,{"$f":"IF(AI24>AJ24,1,0)+IF(AK24>AL24,1,0)+IF(AM24>AN24,1,0)","v":0},{"$f":"AY26","v":0},null,null,{"$f":"AO24+AQ24+AS24+AP25+AR25+AT25","v":0},{"$f":"AP24+AR24+AT24+AO25+AQ25+AS25","v":0},{"$f":"AW25+BA25","v":0},{"$f":"AX25+BB25","v":0},{"$f":"IF(AW25>AX25,1,0)+IF(BA25>BB25,1,0)","v":0},{"$f":"IF(AX25>AW25,1,0)+IF(BB25>BA25,1,0)","v":0},{"$f":"IF(BI25+BJ25=0,\"\",IF(BL25=MAX(BL24:BL26),1,IF(BL25=LARGE(BL24:BL26,2),2,3)))","v":""},{"$f":"IF(BI25+BJ25<>0,BI25+1+(BG25-BH25)/100+(BE25-BF25)/100000+IF(BF25=0,0,(BE25/BF25)/1000000),0)","v":0}]
[{"$f":"S26","v":0},{"$f":"IF(N22=\"\",\"\",N22)","v":""},{"$f":"IF(N23=\"\",\"\",N23)","v":""},{"$f":"IF(N28=\"\",\"\",N28)","v":""},{"$f":"IF(N29=\"\",\"\",N29)","v":""},null,null,null,{"$f":"\"3\"&O20&N21","v":"3"},{"$f":"IF(SUM(AD21:AD29)=0,\"\",IF(AD21=3,N22,IF(AD24=3,N25,IF(AD27=3,N28,\"\"))))","v":""},{"$f":"IF(SUM(AD21:AD29)=0,\"\",IF(AD21=3,N23,IF(AD24=3,N26,IF(AD27=3,N29,\"\"))))","v":""},{"$f":"IF(VLOOKUP(N26,zawodnicy!A:E,5,FALSE)=0,\"\",N26)","v":{"$error":"#N/A"}},{"$f":"N21","v":0},null,null,null,{"$f":"IF(AU26>0,\"\",IF(A26=0,\"\",IF(VLOOKUP(A26,'plan gier'!A:T,20,FALSE)=\"\",\"\",VLOOKUP(A26,'plan gier'!A:T,20,FALSE))))","v":""},"1-3",null,null,{"$f":"IF(N26<>\"\",CONCATENATE(VLOOKUP(N26,zawodnicy!$A:$E,1,FALSE),\" \",VLOOKUP(N26,zawodnicy!$A:$E,2,FALSE),\" \",VLOOKUP(N26,zawodnicy!$A:$E,3,FALSE),\" - \",VLOOKUP(N26,zawodnicy!$A:$E,4,FALSE)),\"\")","v":""},null,null,{"$f":"IF(SUM(AS25:AT25)=0,\"\",AT25&\":\"&AS25)","v":""},null,{"$f":"IF(SUM(AS24:AT24)=0,\"\",AS24&\":\"&AT24)","v":""},null,null,null,null,null,null,null,"1-3",{"$f":"IF(ISBLANK(S26),\"\",VLOOKUP(S26,'plan gier'!$Z:$AP,12,FALSE))","v":""},{"$f":"IF(ISBLANK(S26),\"\",VLOOKUP(S26,'plan gier'!$Z:$AP,13,FALSE))","v":""},{"$f":"IF(ISBLANK(S26),\"\",VLOOKUP(S26,'plan gier'!$Z:$AP,14,FALSE))","v":""},{"$f":"IF(ISBLANK(S26),\"\",VLOOKUP(S26,'plan gier'!$Z:$AP,15,FALSE))","v":""},{"$f":"IF(ISBLANK(S26),\"\",VLOOKUP(S26,'plan gier'!$Z:$AP,16,FALSE))","v":""},{"$f":"IF(ISBLANK(S26),\"\",VLOOKUP(S26,'plan gier'!$Z:$AP,17,FALSE))","v":""},0,0,0,0,0,0,{"$f":"SUM(AO26:AT26)","v":0},3,{"$f":"IF(AI26<AJ26,1,0)+IF(AK26<AL26,1,0)+IF(AM26<AN26,1,0)","v":0},{"$f":"BA24","v":0},{"$f":"IF(AI24<AJ24,1,0)+IF(AK24<AL24,1,0)+IF(AM24<AN24,1,0)","v":0},{"$f":"BA25","v":0},null,null,null,null,{"$f":"AP24+AR24+AT24+AP26+AR26+AT26","v":0},{"$f":"AO24+AQ24+AS24+AO26+AQ26+AS26","v":0},{"$f":"AW26+AY26","v":0},{"$f":"AX26+AZ26","v":0},{"$f":"IF(AW26>AX26,1,0)+IF(AY26>AZ26,1,0)","v":0},{"$f":"IF(AX26>AW26,1,0)+IF(AZ26>AY26,1,0)","v":0},{"$f":"IF(BI26+BJ26=0,\"\",IF(BL26=MAX(BL24:BL26),1,IF(BL26=LARGE(BL24:BL26,2),2,3)))","v":""},{"$f":"IF(BI26+BJ26<>0,BI26+1+(BG26-BH26)/100+(BE26-BF26)/100000+IF(BF26=0,0,(BE26/BF26)/1000000),0)","v":0}]
[null,null,null,null,null,null,null,null,null,null,null,null,null,null,null,null,null,null,null,3,{"$f":"IF(AND(N28<>\"\",N29<>\"\"),CONCATENATE(VLOOKUP(N28,zawodnicy!$A:$E,1,FALSE),\" \",VLOOKUP(N28,zawodnicy!$A:$E,2,FALSE),\" \",VLOOKUP(N28,zawodnicy!$A:$E,3,FALSE),\" - \",VLOOKUP(N28,zawodnicy!$A:$E,4,FALSE)),\"\")","v":""},null,null,{"$f":"IF(SUM(AO26:AP26)=0,\"\",AP26&\":\"&AO26)","v":""},{"$f":"IF(SUM(AO24:AP24)=0,\"\",AP24&\":\"&AO24)","v":""},null,{"$f":"IF(SUM(AW26:AZ26)=0,\"\",BE26&\":\"&BF26)","v":""},{"$f":"IF(SUM(AW26:AZ26)=0,\"\",BG26&\":\"&BH26)","v":""},{"$f":"IF(SUM(AW26:AZ26)=0,\"\",BI26&\":\"&BJ26)","v":""},{"$f":"IF(SUM(BI24:BI26)>0,BK26,\"\")","v":""},null,null,null,null,null,null,null,null,null,null,null,null,null,null,null,null,null,null,null,null,null,null,null,null,null,null,{"$f":"SUM(BE24:BE26)","v":0},0,0,0,0,0]
[null,null,null,null,null,null,null,null,null,null,null,{"$f":"IF(VLOOKUP(N28,zawodnicy!A:E,5,FALSE)=0,\"\",N28)","v":{"$error":"#N/A"}},null,null,{"$f":"IF(O20>0,(O20&3)*1,\"\")","v":""},null,null,null,null,null,{"$f":"IF(AND(N28<>\"\",N29=\"\"),CONCATENATE(VLOOKUP(N28,zawodnicy!$A:$E,1,FALSE),\" \",VLOOKUP(N28,zawodnicy!$A:$E,2,FALSE),\" \",VLOOKUP(N28,zawodnicy!$A:$E,3,FALSE),\" - \",VLOOKUP(N28,zawodnicy!$A:$E,4,FALSE)),\"\")","v":""},null,null,{"$f":"IF(SUM(AQ26:AR26)=0,\"\",AR26&\":\"&AQ26)","v":""},{"$f":"IF(SUM(AQ24:AR24)=0,\"\",AR24&\":\"&AQ24)","v":""}]
[null,null,null,null,null,null,null,null,null,null,null,{"$f":"IF(VLOOKUP(N29,zawodnicy!A:E,5,FALSE)=0,\"\",N29)","v":{"$error":"#N/A"}},null,null,null,null,null,null,null,null,{"$f":"IF(N29<>\"\",CONCATENATE(VLOOKUP(N29,zawodnicy!$A:$E,1,FALSE),\" \",VLOOKUP(N29,zawodnicy!$A:$E,2,FALSE),\" \",VLOOKUP(N29,zawodnicy!$A:$E,3,FALSE),\" - \",VLOOKUP(N29,zawodnicy!$A:$E,4,FALSE)),\"\")","v":""},null,null,{"$f":"IF(SUM(AS26:AT26)=0,\"\",AT26&\":\"&AS26)","v":""},{"$f":"IF(SUM(AS24:AT24)=0,\"\",AT24&\":\"&AS24)","v":""}]
[]
[]
[null,null,null,null,null,null,null,null,null,null,null,null,null,null,null,null,null,null,null,"Lp","Zawodnik",null,null,1,2,"Punkty","Sety","Mecze","Miejsce"]
[null,null,null,null,null,null,null,null,null,null,null,null,null,null,null,null,null,null,"Nr\ngry",1,{"$f":"IF(AND(N34<>\"\",N35<>\"\"),CONCATENATE(VLOOKUP(N34,zawodnicy!$A:$E,1,FALSE),\" \",VLOOKUP(N34,zawodnicy!$A:$E,2,FALSE),\" \",VLOOKUP(N34,zawodnicy!$A:$E,3,FALSE),\" - \",VLOOKUP(N34,zawodnicy!$A:$E,4,FALSE)),\"\")","v":""},null,null,null,{"$f":"IF(SUM(AO36:AP36)=0,\"\",AO36&\":\"&AP36)","v":""},{"$f":"IF(SUM(AY36:AZ36)=0,\"\",BE36&\":\"&BF36)","v":""},{"$f":"IF(SUM(AY36:AZ36)=0,\"\",BG36&\":\"&BH36)","v":""},{"$f":"IF(SUM(AY36:AZ36)=0,\"\",BI36&\":\"&BJ36)","v":""},{"$f":"IF(SUM(BI36:BI37)>0,BK36,\"\")","v":""},null,null,null,null,null,"Z planu gier",null,null,null,null,null,"Do obliczeń"]
[null,null,null,null,null,null,null,null,null,null,null,{"$f":"IF(VLOOKUP(N34,zawodnicy!A:E,5,FALSE)=0,\"\",N34)","v":{"$error":"#N/A"}},null,null,null,null,null,null,null,null,{"$f":"IF(AND(N34<>\"\",N35=\"\"),CONCATENATE(VLOOKUP(N34,zawodnicy!$A:$E,1,FALSE),\" \",VLOOKUP(N34,zawodnicy!$A:$E,2,FALSE),\" \",VLOOKUP(N34,zawodnicy!$A:$E,3,FALSE),\" - \",VLOOKUP(N34,zawodnicy!$A:$E,4,FALSE)),\"\")","v":""},null,null,null,{"$f":"IF(SUM(AQ36:AR36)=0,\"\",AQ36&\":\"&AR36)","v":""},null,null,null,null,null,null,null,null,null,null,null,null,null,null,null,null,null,null,null,null,null,null,null,null,null,null,null,null,null,null,null,{"$f":"SUM(BE36:BE38)","v":0},{"$f":"SUM(BF36:BF38)","v":0},{"$f":"SUM(BG36:BG38)","v":0},{"$f":"SUM(BH36:BH38)","v":0}]
[null,null,null,null,null,null,null,null,null,null,null,{"$f":"IF(VLOOKUP(N35,zawodnicy!A:E,5,FALSE)=0,\"\",N35)","v":{"$error":"#N/A"}},null,null,null,null,null,null,null,null,{"$f":"IF(N35<>\"\",CONCATENATE(VLOOKUP(N35,zawodnicy!$A:$E,1,FALSE),\" \",VLOOKUP(N35,zawodnicy!$A:$E,2,FALSE),\" \",VLOOKUP(N35,zawodnicy!$A:$E,3,FALSE),\" - \",VLOOKUP(N35,zawodnicy!$A:$E,4,FALSE)),\"\")","v":""},null,null,null,{"$f":"IF(SUM(AS36:AT36)=0,\"\",AS36&\":\"&AT36)","v":""},null,null,null,null,null,null,null,null,null,"1 set",null,"2 set",null,"3 set",null,"1 set",null,"2 set",null,"3 set",null,null,null,1,null,2,null,null,null,null,null,"Punkty",null,"Sety",null,"Mecze",null,"Miejsce",{"$f":"SUM(BL36:BL38)","v":0}]
[{"$f":"S36","v":0},{"$f":"IF(N34=\"\",\"\",N34)","v":""},{"$f":"IF(N35=\"\",\"\",N35)","v":""},{"$f":"IF(N37=\"\",\"\",N37)","v":""},{"$f":"IF(N38=\"\",\"\",N38)","v":""},null,null,null,null,null,null,null,{"$f":"N33","v":0},null,null,null,{"$f":"IF(AU36>0,\"\",IF(A36=0,\"\",IF(VLOOKUP(A36,'plan gier'!A:T,20,FALSE)=\"\",\"\",VLOOKUP(A36,'plan gier'!A:T,20,FALSE))))","v":""},null,null,2,{"$f":"IF(AND(N37<>\"\",N38<>\"\"),CONCATENATE(VLOOKUP(N37,zawodnicy!$A:$E,1,FALSE),\" \",VLOOKUP(N37,zawodnicy!$A:$E,2,FALSE),\" \",VLOOKUP(N37,zawodnicy!$A:$E,3,FALSE),\" - \",VLOOKUP(N37,zawodnicy!$A:$E,4,FALSE)),\"\")","v":""},null,null,{"$f":"IF(SUM(AO36:AP36)=0,\"\",AP36&\":\"&AO36)","v":""},null,{"$f":"IF(SUM(AW37:AX37)=0,\"\",BE37&\":\"&BF37)","v":""},{"$f":"IF(SUM(AW37:AX37)=0,\"\",BG37&\":\"&BH37)","v":""},{"$f":"IF(SUM(AW37:AX37)=0,\"\",BI37&\":\"&BJ37)","v":""},{"$f":"IF(SUM(BI36:BI37)>0,BK37,\"\")","v":""},null,null,null,null,"1-2",{"$f":"IF(ISBLANK(S36),\"\",VLOOKUP(S36,'plan gier'!$Z:$AP,12,FALSE))","v":""},{"$f":"IF(ISBLANK(S36),\"\",VLOOKUP(S36,'plan gier'!$Z:$AP,13,FALSE))","v":""},{"$f":"IF(ISBLANK(S36),\"\",VLOOKUP(S36,'plan gier'!$Z:$AP,14,FALSE))","v":""},{"$f":"IF(ISBLANK(S36),\"\",VLOOKUP(S36,'plan gier'!$Z:$AP,15,FALSE))","v":""},{"$f":"IF(ISBLANK(S36),\"\",VLOOKUP(S36,'plan gier'!$Z:$AP,16,FALSE))","v":""},{"$f":"IF(ISBLANK(S36),\"\",VLOOKUP(S36,'plan gier'!$Z:$AP,17,FALSE))","v":""},{"$f":"IF(AI36=\"\",0,AI36)","v":0},0,0,0,0,0,{"$f":"SUM(AO36:AT36)","v":0},1,null,null,{"$f":"IF(AI36>AJ36,1,0)+IF(AK36>AL36,1,0)+IF(AM36>AN36,1,0)","v":0},{"$f":"AW37","v":0},null,null,null,null,{"$f":"AO36+AQ36+AS36","v":0},{"$f":"AP36+AR36+AT36","v":0},{"$f":"AY36","v":0},{"$f":"AZ36","v":0},{"$f":"IF(AY36>AZ36,1,0)","v":0},{"$f":"IF(AZ36>AY36,1,0)","v":0},{"$f":"IF(BI36+BJ36=0,\"\",IF(BL36=MAX(BL36:BL37),1,2))","v":""},{"$f":"IF(BI36+BJ36<>0,BI36+1+(BG36-BH36)/100+(BE36-BF36)/100000+(BE36/BF36)/1000000,0)","v":0}]
[null,null,null,null,null,null,null,null,null,null,null,{"$f":"IF(VLOOKUP(N37,zawodnicy!A:E,5,FALSE)=0,\"\",N37)","v":{"$error":"#N/A"}},null,null,null,null,null,null,null,null,{"$f":"IF(AND(N37<>\"\",N38=\"\"),CONCATENATE(VLOOKUP(N37,zawodnicy!$A:$E,1,FALSE),\" \",VLOOKUP(N37,zawodnicy!$A:$E,2,FALSE),\" \",VLOOKUP(N37,zawodnicy!$A:$E,3,FALSE),\" - \",VLOOKUP(N37,zawodnicy!$A:$E,4,FALSE)),\"\")","v":""},null,null,{"$f":"IF(SUM(AQ36:AR36)=0,\"\",AR36&\":\"&AQ36)","v":""},null,null,null,null,null,null,null,null,null,null,null,null,null,null,null,null,null,null,null,null,null,null,null,2,{"$f":"IF(AI36<AJ36,1,0)+IF(AK36<AL36,1,0)+IF(AM36<AN36,1,0)","v":0},{"$f":"AY36","v":0},null,null,null,null,null,null,{"$f":"AP36+AR36+AT36","v":0},{"$f":"AO36+AQ36+AS36","v":0},{"$f":"AW37","v":0},{"$f":"AX37","v":0},{"$f":"IF(AW37>AX37,1,0)","v":0},{"$f":"IF(AX37>AW37,1,0)","v":0},{"$f":"IF(BI37+BJ37=0,\"\",IF(BL37=MAX(BL36:BL37),1,2))","v":""},{"$f":"IF(BI37+BJ37<>0,BI37+1+(BG37-BH37)/100+(BE37-BF37)/100000+(BE37/BF37)/1000000,0)","v":0}]
[null,null,null,null,null,null,null,null,null,null,null,{"$f":"IF(VLOOKUP(N38,zawodnicy!A:E,5,FALSE)=0,\"\",N38)","v":{"$error":"#N/A"}},null,null,null,null,null,null,null,null,{"$f":"IF(N38<>\"\",CONCATENATE(VLOOKUP(N38,zawodnicy!$A:$E,1,FALSE),\" \",VLOOKUP(N38,zawodnicy!$A:$E,2,FALSE),\" \",VLOOKUP(N38,zawodnicy!$A:$E,3,FALSE),\" - \",VLOOKUP(N38,zawodnicy!$A:$E,4,FALSE)),\"\")","v":""},null,null,{"$f":"IF(SUM(AS36:AT36)=0,\"\",AT36&\":\"&AS36)","v":""}]
[]
[]
[null,null,null,null,null,null,null,null,null,null,null,null,null,null,null,null,{"$f":"\"Grupa \"&O41&\".\"","v":"Grupa ."},null,null,null,"Zawodnik",null,null,1,2,3,4,5,"Punkty","Sety","Mecze","Miejsce"]
[null,null,null,null,null,null,null,null,null,null,null,null,null,null,null,null,"Kolejność\ngier",null,"Nr\ngry",1,{"$f":"IF(AND(N43<>\"\",N44<>\"\"),CONCATENATE(VLOOKUP(N43,zawodnicy!$A:$E,1,FALSE),\" \",VLOOKUP(N43,zawodnicy!$A:$E,2,FALSE),\" \",VLOOKUP(N43,zawodnicy!$A:$E,3,FALSE),\" - \",VLOOKUP(N43,zawodnicy!$A:$E,4,FALSE)),\"\")","v":""},null,null,null,{"$f":"IF(SUM(AP47:AQ47)=0,\"\",AP47&\":\"&AQ47)","v":""},{"$f":"IF(SUM(AP49:AQ49)=0,\"\",AP49&\":\"&AQ49)","v":""},{"$f":"IF(SUM(AP52:AQ52)=0,\"\",AP52&\":\"&AQ52)","v":""},{"$f":"IF(SUM(AP54:AQ54)=0,\"\",AP54&\":\"&AQ54)","v":""},{"$f":"IF(SUM(AY45:BF45)=0,\"\",BG45&\":\"&BH45)","v":""},{"$f":"IF(SUM(AY45:BF45)=0,\"\",BI45&\":\"&BJ45)","v":""},{"$f":"IF(SUM(AY45:BF45)=0,\"\",BK45&\":\"&BL45)","v":""},{"$f":"IF(SUM(BK45:BK49)>0,BM45,\"\")","v":""}]
[null,null,null,null,null,null,null,null,{"$f":"\"1\"&O41&N42","v":"1"},{"$f":"IF(SUM(AF42:AF56)=0,\"\",IF(AF42=1,N43,IF(AF45=1,N46,IF(AF48=1,N49,IF(AF51=1,N52,IF(AF54=1,N55,\"\"))))))","v":""},{"$f":"IF(SUM(AF42:AF56)=0,\"\",IF(AF42=1,N44,IF(AF45=1,N47,IF(AF48=1,N50,IF(AF51=1,N53,IF(AF54=1,N56,\"\"))))))","v":""},{"$f":"IF(VLOOKUP(N43,zawodnicy!A:E,5,FALSE)=0,\"\",N43)","v":{"$error":"#N/A"}},null,null,{"$f":"IF(O41>0,(O41&1)*1,\"\")","v":""},null,null,null,null,null,{"$f":"IF(AND(N43<>\"\",N44=\"\"),CONCATENATE(VLOOKUP(N43,zawodnicy!$A:$E,1,FALSE),\" \",VLOOKUP(N43,zawodnicy!$A:$E,2,FALSE),\" \",VLOOKUP(N43,zawodnicy!$A:$E,3,FALSE),\" - \",VLOOKUP(N43,zawodnicy!$A:$E,4,FALSE)),\"\")","v":""},null,null,null,{"$f":"IF(SUM(AR47:AS47)=0,\"\",AR47&\":\"&AS47)","v":""},{"$f":"IF(SUM(AR49:AS49)=0,\"\",AR49&\":\"&AS49)","v":""},{"$f":"IF(SUM(AR52:AS52)=0,\"\",AR52&\":\"&AS52)","v":""},{"$f":"IF(SUM(AR54:AS54)=0,\"\",AR54&\":\"&AS54)","v":""}]
[null,null,null,null,null,null,null,null,null,null,null,{"$f":"IF(VLOOKUP(N44,zawodnicy!A:E,5,FALSE)=0,\"\",N44)","v":{"$error":"#N/A"}},null,null,null,null,null,null,null,null,{"$f":"IF(N44<>\"\",CONCATENATE(VLOOKUP(N44,zawodnicy!$A:$E,1,FALSE),\" \",VLOOKUP(N44,zawodnicy!$A:$E,2,FALSE),\" \",VLOOKUP(N44,zawodnicy!$A:$E,3,FALSE),\" - \",VLOOKUP(N44,zawodnicy!$A:$E,4,FALSE)),\"\")","v":""},null,null,null,{"$f":"IF(SUM(AT47:AU47)=0,\"\",AT47&\":\"&AU47)","v":""},{"$f":"IF(SUM(AT49:AU49)=0,\"\",AT49&\":\"&AU49)","v":""},{"$f":"IF(SUM(AT52:AU52)=0,\"\",AT52&\":\"&AU52)","v":""},{"$f":"IF(SUM(AT54:AU54)=0,\"\",AT54&\":\"&AU54)","v":""},null,null,null,null,null,null,"1 set",null,"2 set",null,"3 set",null,null,"1 set",null,"2 set",null,"3 set",null,null,1,null,2,null,3,null,4,null,5,null,"Punkty",null,"Sety",null,"Mecze",null,"Miejsce"]
[{"$f":"S45","v":0},{"$f":"IF(N49=\"\",\"\",N49)","v":""},{"$f":"IF(N50=\"\",\"\",N50)","v":""},{"$f":"IF(N52=\"\",\"\",N52)","v":""},{"$f":"IF(N53=\"\",\"\",N53)","v":""},null,null,null,{"$f":"\"2\"&O41&N42","v":"2"},{"$f":"IF(SUM(AF42:AF56)=0,\"\",IF(AF42=2,N43,IF(AF45=2,N46,IF(AF48=2,N49,IF(AF51=2,N52,IF(AF54=2,N55,\"\"))))))","v":""},{"$f":"IF(SUM(AF42:AF56)=0,\"\",IF(AF42=2,N44,IF(AF45=2,N47,IF(AF48=2,N50,IF(AF51=2,N53,IF(AF54=2,N56,\"\"))))))","v":""},null,{"$f":"N42","v":0},null,null,null,{"$f":"IF(AO45>0,\"\",IF(A45=0,\"\",IF(VLOOKUP(A45,'plan gier'!A:T,20,FALSE)=\"\",\"\",VLOOKUP(A45,'plan gier'!A:T,20,FALSE))))","v":""},"3-4",null,2,{"$f":"IF(AND(N46<>\"\",N47<>\"\"),CONCATENATE(VLOOKUP(N46,zawodnicy!$A:$E,1,FALSE),\" \",VLOOKUP(N46,zawodnicy!$A:$E,2,FALSE),\" \",VLOOKUP(N46,zawodnicy!$A:$E,3,FALSE),\" - \",VLOOKUP(N46,zawodnicy!$A:$E,4,FALSE)),\"\")","v":""},null,null,{"$f":"IF(SUM(AP47:AQ47)=0,\"\",AQ47&\":\"&AP47)","v":""},null,{"$f":"IF(SUM(AP51:AQ51)=0,\"\",AP51&\":\"&AQ51)","v":""},{"$f":"IF(SUM(AP53:AQ53)=0,\"\",AP53&\":\"&AQ53)","v":""},{"$f":"IF(SUM(AP46:AQ46)=0,\"\",AP46&\":\"&AQ46)","v":""},{"$f":"IF(SUM(AW46:AX46,BA46:BF46)=0,\"\",BG46&\":\"&BH46)","v":""},{"$f":"IF(SUM(AW46:AX46,BA46:BF46)=0,\"\",BI46&\":\"&BJ46)","v":""},{"$f":"IF(SUM(AW46:AX46,BA46:BF46)=0,\"\",BK46&\":\"&BL46)","v":""},{"$f":"IF(SUM(BK45:BK49)>0,BM46,\"\")","v":""},null,"3-4",{"$f":"IF(ISBLANK(S45),\"\",VLOOKUP(S45,'plan gier'!$Z:$AP,12,FALSE))","v":""},{"$f":"IF(ISBLANK(S45),\"\",VLOOKUP(S45,'plan gier'!$Z:$AP,13,FALSE))","v":""},{"$f":"IF(ISBLANK(S45),\"\",VLOOKUP(S45,'plan gier'!$Z:$AP,14,FALSE))","v":""},{"$f":"IF(ISBLANK(S45),\"\",VLOOKUP(S45,'plan gier'!$Z:$AP,15,FALSE))","v":""},{"$f":"IF(ISBLANK(S45),\"\",VLOOKUP(S45,'plan gier'!$Z:$AP,16,FALSE))","v":""},{"$f":"IF(ISBLANK(S45),\"\",VLOOKUP(S45,'plan gier'!$Z:$AP,17,FALSE))","v":""},{"$f":"SUM(AP45:AU45)","v":0},{"$f":"IF(AI45=\"\",0,AI45)","v":0},{"$f":"IF(AJ45=\"\",0,AJ45)","v":0},{"$f":"IF(AK45=\"\",0,AK45)","v":0},{"$f":"IF(AL45=\"\",0,AL45)","v":0},{"$f":"IF(AM45=\"\",0,AM45)","v":0},{"$f":"IF(AN45=\"\",0,AN45)","v":0},1,null,null,{"$f":"IF(AP47>AQ47,1,0)+IF(AR47>AS47,1,0)+IF(AT47>AU47,1,0)","v":0},{"$f":"AW46","v":0},{"$f":"IF(AP49>AQ49,1,0)+IF(AR49>AS49,1,0)+IF(AT49>AU49,1,0)","v":0},{"$f":"AW47","v":0},{"$f":"IF(AP52>AQ52,1,0)+IF(AR52>AS52,1,0)+IF(AT52>AU52,1,0)","v":0},{"$f":"AW48","v":0},{"$f":"IF(AP54>AQ54,1,0)+IF(AR54>AS54,1,0)+IF(AT54>AU54,1,0)","v":0},{"$f":"AW49","v":0},{"$f":"AP47+AR47+AT47+AP49+AR49+AT49++AP52+AR52+AT52+AP54+AR54+AT54","v":0},{"$f":"AQ47+AS47+AU47+AQ49+AS49+AU49+AQ52+AS52+AU52+AQ54+AS54+AU54","v":0},{"$f":"AY45+BA45+BC45+BE45","v":0},{"$f":"AZ45+BB45+BD45+BF45","v":0},{"$f":"IF(AY45>AZ45,1,0)+IF(BA45>BB45,1,0)+IF(BC45>BD45,1,0)+IF(BE45>BF45,1,0)","v":0},{"$f":"IF(AZ45>AY45,1,0)+IF(BB45>BA45,1,0)+IF(BD45>BC45,1,0)+IF(BF45>BE45,1,0)","v":0},{"$f":"IF(BK45+BL45=0,\"\",IF(BN45=MAX(BN45:BN49),1,IF(BN45=LARGE(BN45:BN49,2),2,IF(BN45=LARGE(BN45:BN49,3),3,IF(BN45=LARGE(BN45:BN49,4),4,5)))))","v":""},{"$f":"IF(BK45+BL45<>0,BK45+1+(BI45-BJ45)/100+(BG45-BH45)/100000+IF(BH45=0,0,(BG45/BH45)/1000000),0)","v":0}]
[0,{"$f":"IF(N46=\"\",\"\",N46)","v":""},{"$f":"IF(N47=\"\",\"\",N47)","v":""},{"$f":"IF(N55=\"\",\"\",N55)","v":""},{"$f":"IF(N56=\"\",\"\",N56)","v":""},null,null,null,null,null,null,{"$f":"IF(VLOOKUP(N46,zawodnicy!A:E,5,FALSE)=0,\"\",N46)","v":{"$error":"#N/A"}},{"$f":"N42","v":0},null,{"$f":"IF(O41>0,(O41&2)*1,\"\")","v":""},null,{"$f":"IF(AO46>0,\"\",IF(A46=0,\"\",IF(VLOOKUP(A46,'plan gier'!A:T,20,FALSE)=\"\",\"\",VLOOKUP(A46,'plan gier'!A:T,20,FALSE))))","v":""},"2-5",null,null,{"$f":"IF(AND(N46<>\"\",N47=\"\"),CONCATENATE(VLOOKUP(N46,zawodnicy!$A:$E,1,FALSE),\" \",VLOOKUP(N46,zawodnicy!$A:$E,2,FALSE),\" \",VLOOKUP(N46,zawodnicy!$A:$E,3,FALSE),\" - \",VLOOKUP(N46,zawodnicy!$A:$E,4,FALSE)),\"\")","v":""},null,null,{"$f":"IF(SUM(AR47:AS47)=0,\"\",AS47&\":\"&AR47)","v":""},null,{"$f":"IF(SUM(AR51:AS51)=0,\"\",AR51&\":\"&AS51)","v":""},{"$f":"IF(SUM(AR53:AS53)=0,\"\",AR53&\":\"&AS53)","v":""},{"$f":"IF(SUM(AR46:AS46)=0,\"\",AR46&\":\"&AS46)","v":""},null,null,null,null,null,"2-5",{"$f":"IF(ISBLANK(S46),\"\",VLOOKUP(S46,'plan gier'!$Z:$AP,12,FALSE))","v":""},{"$f":"IF(ISBLANK(S46),\"\",VLOOKUP(S46,'plan gier'!$Z:$AP,13,FALSE))","v":""},{"$f":"IF(ISBLANK(S46),\"\",VLOOKUP(S46,'plan gier'!$Z:$AP,14,FALSE))","v":""},{"$f":"IF(ISBLANK(S46),\"\",VLOOKUP(S46,'plan gier'!$Z:$AP,15,FALSE))","v":""},{"$f":"IF(ISBLANK(S46),\"\",VLOOKUP(S46,'plan gier'!$Z:$AP,16,FALSE))","v":""},{"$f":"IF(ISBLANK(S46),\"\",VLOOKUP(S46,'plan gier'!$Z:$AP,17,FALSE))","v":""},0,0,0,0,0,0,0,2,{"$f":"IF(AP47<AQ47,1,0)+IF(AR47<AS47,1,0)+IF(AT47<AU47,1,0)","v":0},{"$f":"AY45","v":0},null,null,{"$f":"IF(AP51>AQ51,1,0)+IF(AR51>AS51,1,0)+IF(AT51>AU51,1,0)","v":0},{"$f":"AY47","v":0},{"$f":"IF(AP53>AQ53,1,0)+IF(AR53>AS53,1,0)+IF(AT53>AU53,1,0)","v":0},{"$f":"AY48","v":0},{"$f":"IF(AP46>AQ46,1,0)+IF(AR46>AS46,1,0)+IF(AT46>AU46,1,0)","v":0},{"$f":"AY49","v":0},{"$f":"AP46+AR46+AT46+AQ47+AS47+AU47++AP51+AR51+AT51++AP53+AR53+AT53","v":0},{"$f":"AQ46+AS46+AU46+AP47+AR47+AT47+AQ51+AS51+AU51+AQ53+AS53+AU53","v":0},{"$f":"AW46+BA46+BC46+BE46","v":0},{"$f":"AX46+BB46+BD46+BF46","v":0},{"$f":"IF(AW46>AX46,1,0)+IF(BA46>BB46,1,0)+IF(BC46>BD46,1,0)+IF(BE46>BF46,1,0)","v":0},{"$f":"IF(AX46>AW46,1,0)+IF(BB46>BA46,1,0)+IF(BD46>BC46,1,0)+IF(BF46>BE46,1,0)","v":0},{"$f":"IF(BK46+BL46=0,\"\",IF(BN46=MAX(BN45:BN49),1,IF(BN46=LARGE(BN45:BN49,2),2,IF(BN46=LARGE(BN45:BN49,3),3,IF(BN46=LARGE(BN45:BN49,4),4,5)))))","v":""},{"$f":"IF(BK46+BL46<>0,BK46+1+(BI46-BJ46)/100+(BG46-BH46)/100000+IF(BH46=0,0,(BG46/BH46)/1000000),0)","v":0}]
[0,{"$f":"IF(N43=\"\",\"\",N43)","v":""},{"$f":"IF(N44=\"\",\"\",N44)","v":""},{"$f":"IF(N46=\"\",\"\",N46)","v":""},{"$f":"IF(N47=\"\",\"\",N47)","v":""},null,null,null,{"$f":"\"3\"&O41&N42","v":"3"},{"$f":"IF(SUM(AF42:AF56)=0,\"\",IF(AF42=3,N43,IF(AF45=3,N46,IF(AF48=3,N49,IF(AF51=3,N52,IF(AF54=3,N55,\"\"))))))","v":""},{"$f":"IF(SUM(AF42:AF56)=0,\"\",IF(AF42=3,N44,IF(AF45=3,N47,IF(AF48=3,N50,IF(AF51=3,N53,IF(AF54=3,N56,\"\"))))))","v":""},{"$f":"IF(VLOOKUP(N47,zawodnicy!A:E,5,FALSE)=0,\"\",N47)","v":{"$error":"#N/A"}},{"$f":"N42","v":0},null,null,null,{"$f":"IF(AO47>0,\"\",IF(A47=0,\"\",IF(VLOOKUP(A47,'plan gier'!A:T,20,FALSE)=\"\",\"\",VLOOKUP(A47,'plan gier'!A:T,20,FALSE))))","v":""},"1-2",null,null,{"$f":"IF(N47<>\"\",CONCATENATE(VLOOKUP(N47,zawodnicy!$A:$E,1,FALSE),\" \",VLOOKUP(N47,zawodnicy!$A:$E,2,FALSE),\" \",VLOOKUP(N47,zawodnicy!$A:$E,3,FALSE),\" - \",VLOOKUP(N47,zawodnicy!$A:$E,4,FALSE)),\"\")","v":""},null,null,{"$f":"IF(SUM(AT47:AU47)=0,\"\",AU47&\":\"&AT47)","v":""},null,{"$f":"IF(SUM(AT51:AU51)=0,\"\",AT51&\":\"&AU51)","v":""},{"$f":"IF(SUM(AT53:AU53)=0,\"\",AT53&\":\"&AU53)","v":""},{"$f":"IF(SUM(AT46:AU46)=0,\"\",AT46&\":\"&AU46)","v":""},null,null,null,null,null,"1-2",{"$f":"IF(ISBLANK(S47),\"\",VLOOKUP(S47,'plan gier'!$Z:$AP,12,FALSE))","v":""},{"$f":"IF(ISBLANK(S47),\"\",VLOOKUP(S47,'plan gier'!$Z:$AP,13,FALSE))","v":""},{"$f":"IF(ISBLANK(S47),\"\",VLOOKUP(S47,'plan gier'!$Z:$AP,14,FALSE))","v":""},{"$f":"IF(ISBLANK(S47),\"\",VLOOKUP(S47,'plan gier'!$Z:$AP,15,FALSE))","v":""},{"$f":"IF(ISBLANK(S47),\"\",VLOOKUP(S47,'plan gier'!$Z:$AP,16,FALSE))","v":""},{"$f":"IF(ISBLANK(S47),\"\",VLOOKUP(S47,'plan gier'!$Z:$AP,17,FALSE))","v":""},0,0,0,0,0,0,0,3,{"$f":"IF(AP49<AQ49,1,0)+IF(AR49<AS49,1,0)+IF(AT49<AU49,1,0)","v":0},{"$f":"BA45","v":0},{"$f":"IF(AP51<AQ51,1,0)+IF(AR51<AS51,1,0)+IF(AT51<AU51,1,0)","v":0},{"$f":"BA46","v":0},null,null,{"$f":"IF(AP45>AQ45,1,0)+IF(AR45>AS45,1,0)+IF(AT45>AU45,1,0)","v":0},{"$f":"BA48","v":0},{"$f":"IF(AP48>AQ48,1,0)+IF(AR48>AS48,1,0)+IF(AT48>AU48,1,0)","v":0},{"$f":"BA49","v":0},{"$f":"AP45+AR45+AT45+AP48+AR48+AT48+AQ49+AS49+AU49+AQ51+AS51+AU51","v":0},{"$f":"AQ45+AS45+AU45+AQ48+AS48+AU48+AP49+AR49+AT49+AP51+AR51+AT51","v":0},{"$f":"AW47+AY47+BC47+BE47","v":0},{"$f":"AX47+AZ47+BD47+BF47","v":0},{"$f":"IF(AW47>AX47,1,0)+IF(AY47>AZ47,1,0)+IF(BC47>BD47,1,0)+IF(BE47>BF47,1,0)","v":0},{"$f":"IF(AX47>AW47,1,0)+IF(AZ47>AY47,1,0)+IF(BD47>BC47,1,0)+IF(BF47>BE47,1,0)","v":0},{"$f":"IF(BK47+BL47=0,\"\",IF(BN47=MAX(BN45:BN49),1,IF(BN47=LARGE(BN45:BN49,2),2,IF(BN47=LARGE(BN45:BN49,3),3,IF(BN47=LARGE(BN45:BN49,4),4,5)))))","v":""},{"$f":"IF(BK47+BL47<>0,BK47+1+(BI47-BJ47)/100+(BG47-BH47)/100000+IF(BH47=0,0,(BG47/BH47)/1000000),0)","v":0}]
[0,{"$f":"IF(N49=\"\",\"\",N49)","v":""},{"$f":"IF(N50=\"\",\"\",N50)","v":""},{"$f":"IF(N55=\"\",\"\",N55)","v":""},{"$f":"IF(N56=\"\",\"\",N56)","v":""},null,null,null,null,null,null,null,{"$f":"N42","v":0},null,null,null,{"$f":"IF(AO48>0,\"\",IF(A48=0,\"\",IF(VLOOKUP(A48,'plan gier'!A:T,20,FALSE)=\"\",\"\",VLOOKUP(A48,'plan gier'!A:T,20,FALSE))))","v":""},"3-5",null,3,{"$f":"IF(AND(N49<>\"\",N50<>\"\"),CONCATENATE(VLOOKUP(N49,zawodnicy!$A:$E,1,FALSE),\" \",VLOOKUP(N49,zawodnicy!$A:$E,2,FALSE),\" \",VLOOKUP(N49,zawodnicy!$A:$E,3,FALSE),\" - \",VLOOKUP(N49,zawodnicy!$A:$E,4,FALSE)),\"\")","v":""},null,null,{"$f":"IF(SUM(AP49:AQ49)=0,\"\",AQ49&\":\"&AP49)","v":""},{"$f":"IF(SUM(AP51:AQ51)=0,\"\",AQ51&\":\"&AP51)","v":""},null,{"$f":"IF(SUM(AP45:AQ45)=0,\"\",AP45&\":\"&AQ45)","v":""},{"$f":"IF(SUM(AP48:AQ48)=0,\"\",AP48&\":\"&AQ48)","v":""},{"$f":"IF(SUM(AW47:AZ47,BC47:BF47)=0,\"\",BG47&\":\"&BH47)","v":""},{"$f":"IF(SUM(AW47:AZ47,BC47:BF47)=0,\"\",BI47&\":\"&BJ47)","v":""},{"$f":"IF(SUM(AW47:AZ47,BC47:BF47)=0,\"\",BK47&\":\"&BL47)","v":""},{"$f":"IF(SUM(BK45:BK49)>0,BM47,\"\")","v":""},null,"3-5",{"$f":"IF(ISBLANK(S48),\"\",VLOOKUP(S48,'plan gier'!$Z:$AP,12,FALSE))","v":""},{"$f":"IF(ISBLANK(S48),\"\",VLOOKUP(S48,'plan gier'!$Z:$AP,13,FALSE))","v":""},{"$f":"IF(ISBLANK(S48),\"\",VLOOKUP(S48,'plan gier'!$Z:$AP,14,FALSE))","v":""},{"$f":"IF(ISBLANK(S48),\"\",VLOOKUP(S48,'plan gier'!$Z:$AP,15,FALSE))","v":""},{"$f":"IF(ISBLANK(S48),\"\",VLOOKUP(S48,'plan gier'!$Z:$AP,16,FALSE))","v":""},{"$f":"IF(ISBLANK(S48),\"\",VLOOKUP(S48,'plan gier'!$Z:$AP,17,FALSE))","v":""},0,0,0,0,0,0,0,4,{"$f":"IF(AP52<AQ52,1,0)+IF(AR52<AS52,1,0)+IF(AT52<AU52,1,0)","v":0},{"$f":"BC45","v":0},{"$f":"IF(AP53<AQ53,1,0)+IF(AR53<AS53,1,0)+IF(AT53<AU53,1,0)","v":0},{"$f":"BC46","v":0},{"$f":"IF(AP45<AQ45,1,0)+IF(AR45<AS45,1,0)+IF(AT45<AU45,1,0)","v":0},{"$f":"BC47","v":0},null,null,{"$f":"IF(AP50>AQ50,1,0)+IF(AR50>AS50,1,0)+IF(AT50>AU50,1,0)","v":0},{"$f":"BC49","v":0},{"$f":"AQ45+AS45+AU45++AP50+AR50+AT50+AQ52+AS52+AU52+AQ53+AS53+AU53","v":0},{"$f":"AP45+AR45+AT45+AQ50+AS50+AU50+AP52+AR52+AT52+AP53+AR53+AT53","v":0},{"$f":"AW48+AY48+BA48+BE48","v":0},{"$f":"AX48+AZ48+BB48+BF48","v":0},{"$f":"IF(AW48>AX48,1,0)+IF(AY48>AZ48,1,0)+IF(BA48>BB48,1,0)+IF(BE48>BF48,1,0)","v":0},{"$f":"IF(AX48>AW48,1,0)+IF(AZ48>AY48,1,0)+IF(BB48>BA48,1,0)+IF(BF48>BE48,1,0)","v":0},{"$f":"IF(BK48+BL48=0,\"\",IF(BN48=MAX(BN45:BN49),1,IF(BN48=LARGE(BN45:BN49,2),2,IF(BN48=LARGE(BN45:BN49,3),3,IF(BN48=LARGE(BN45:BN49,4),4,5)))))","v":""},{"$f":"IF(BK48+BL48<>0,BK48+1+(BI48-BJ48)/100+(BG48-BH48)/100000+IF(BH48=0,0,(BG48/BH48)/1000000),0)","v":0}]
[0,{"$f":"IF(N43=\"\",\"\",N43)","v":""},{"$f":"IF(N44=\"\",\"\",N44)","v":""},{"$f":"IF(N49=\"\",\"\",N49)","v":""},{"$f":"IF(N50=\"\",\"\",N50)","v":""},null,null,null,{"$f":"\"4\"&O41&N42","v":"4"},{"$f":"IF(SUM(AF42:AF56)=0,\"\",IF(AF42=4,N43,IF(AF45=4,N46,IF(AF48=4,N49,IF(AF51=4,N52,IF(AF54=4,N55,\"\"))))))","v":""},{"$f":"IF(SUM(AF42:AF56)=0,\"\",IF(AF42=4,N44,IF(AF45=4,N47,IF(AF48=4,N50,IF(AF51=4,N53,IF(AF54=4,N56,\"\"))))))","v":""},{"$f":"IF(VLOOKUP(N49,zawodnicy!A:E,5,FALSE)=0,\"\",N49)","v":{"$error":"#N/A"}},{"$f":"N42","v":0},null,{"$f":"IF(O41>0,(O41&3)*1,\"\")","v":""},null,{"$f":"IF(AO49>0,\"\",IF(A49=0,\"\",IF(VLOOKUP(A49,'plan gier'!A:T,20,FALSE)=\"\",\"\",VLOOKUP(A49,'plan gier'!A:T,20,FALSE))))","v":""},"1-3",null,null,{"$f":"IF(AND(N49<>\"\",N50=\"\"),CONCATENATE(VLOOKUP(N49,zawodnicy!$A:$E,1,FALSE),\" \",VLOOKUP(N49,zawodnicy!$A:$E,2,FALSE),\" \",VLOOKUP(N49,zawodnicy!$A:$E,3,FALSE),\" - \",VLOOKUP(N49,zawodnicy!$A:$E,4,FALSE)),\"\")","v":""},null,null,{"$f":"IF(SUM(AR49:AS49)=0,\"\",AS49&\":\"&AR49)","v":""},{"$f":"IF(SUM(AR51:AS51)=0,\"\",AS51&\":\"&AR51)","v":""},null,{"$f":"IF(SUM(AR45:AS45)=0,\"\",AR45&\":\"&AS45)","v":""},{"$f":"IF(SUM(AR48:AS48)=0,\"\",AR48&\":\"&AS48)","v":""},null,null,null,null,null,"1-3",{"$f":"IF(ISBLANK(S49),\"\",VLOOKUP(S49,'plan gier'!$Z:$AP,12,FALSE))","v":""},{"$f":"IF(ISBLANK(S49),\"\",VLOOKUP(S49,'plan gier'!$Z:$AP,13,FALSE))","v":""},{"$f":"IF(ISBLANK(S49),\"\",VLOOKUP(S49,'plan gier'!$Z:$AP,14,FALSE))","v":""},{"$f":"IF(ISBLANK(S49),\"\",VLOOKUP(S49,'plan gier'!$Z:$AP,15,FALSE))","v":""},{"$f":"IF(ISBLANK(S49),\"\",VLOOKUP(S49,'plan gier'!$Z:$AP,16,FALSE))","v":""},{"$f":"IF(ISBLANK(S49),\"\",VLOOKUP(S49,'plan gier'!$Z:$AP,17,FALSE))","v":""},0,0,0,0,0,0,0,5,{"$f":"IF(AP54<AQ54,1,0)+IF(AR54<AS54,1,0)+IF(AT54<AU54,1,0)","v":0},{"$f":"BE45","v":0},{"$f":"IF(AP46<AQ46,1,0)+IF(AR46<AS46,1,0)+IF(AT46<AU46,1,0)","v":0},{"$f":"BE46","v":0},{"$f":"IF(AP48<AQ48,1,0)+IF(AR48<AS48,1,0)+IF(AT48<AU48,1,0)","v":0},{"$f":"BE47","v":0},{"$f":"IF(AP50<AQ50,1,0)+IF(AR50<AS50,1,0)+IF(AT50<AU50,1,0)","v":0},{"$f":"BE48","v":0},null,null,{"$f":"AQ46+AS46+AU46+AQ48+AS48+AU48+AQ50+AS50+AU50+AQ54+AS54+AU54","v":0},{"$f":"AP46+AR46+AT46+AP48+AR48+AT48+AP50+AR50+AT50+AP54+AR54+AT54","v":0},{"$f":"AW49+AY49+BA49+BC49","v":0},{"$f":"AX49+AZ49+BB49+BD49","v":0},{"$f":"IF(AW49>AX49,1,0)+IF(AY49>AZ49,1,0)+IF(BA49>BB49,1,0)+IF(BC49>BD49,1,0)","v":0},{"$f":"IF(AX49>AW49,1,0)+IF(AZ49>AY49,1,0)+IF(BB49>BA49,1,0)+IF(BD49>BC49,1,0)","v":0},{"$f":"IF(BK49+BL49=0,\"\",IF(BN49=MAX(BN45:BN49),1,IF(BN49=LARGE(BN45:BN49,2),2,IF(BN49=LARGE(BN45:BN49,3),3,IF(BN49=LARGE(BN45:BN49,4),4,5)))))","v":""},{"$f":"IF(BK49+BL49<>0,BK49+1+(BI49-BJ49)/100+(BG49-BH49)/100000+IF(BH49=0,0,(BG49/BH49)/1000000),0)","v":0}]
[0,{"$f":"IF(N52=\"\",\"\",N52)","v":""},{"$f":"IF(N53=\"\",\"\",N53)","v":""},{"$f":"IF(N55=\"\",\"\",N55)","v":""},{"$f":"IF(N56=\"\",\"\",N56)","v":""},null,null,null,null,null,null,{"$f":"IF(VLOOKUP(N50,zawodnicy!A:E,5,FALSE)=0,\"\",N50)","v":{"$error":"#N/A"}},{"$f":"N42","v":0},null,null,null,{"$f":"IF(AO50>0,\"\",IF(A50=0,\"\",IF(VLOOKUP(A50,'plan gier'!A:T,20,FALSE)=\"\",\"\",VLOOKUP(A50,'plan gier'!A:T,20,FALSE))))","v":""},"4-5",null,null,{"$f":"IF(N50<>\"\",CONCATENATE(VLOOKUP(N50,zawodnicy!$A:$E,1,FALSE),\" \",VLOOKUP(N50,zawodnicy!$A:$E,2,FALSE),\" \",VLOOKUP(N50,zawodnicy!$A:$E,3,FALSE),\" - \",VLOOKUP(N50,zawodnicy!$A:$E,4,FALSE)),\"\")","v":""},null,null,{"$f":"IF(SUM(AT49:AU49)=0,\"\",AU49&\":\"&AT49)","v":""},{"$f":"IF(SUM(AT51:AU51)=0,\"\",AU51&\":\"&AT51)","v":""},null,{"$f":"IF(SUM(AT45:AU45)=0,\"\",AT45&\":\"&AU45)","v":""},{"$f":"IF(SUM(AT48:AU48)=0,\"\",AT48&\":\"&AU48)","v":""},null,null,null,null,null,"4-5",{"$f":"IF(ISBLANK(S50),\"\",VLOOKUP(S50,'plan gier'!$Z:$AP,12,FALSE))","v":""},{"$f":"IF(ISBLANK(S50),\"\",VLOOKUP(S50,'plan gier'!$Z:$AP,13,FALSE))","v":""},{"$f":"IF(ISBLANK(S50),\"\",VLOOKUP(S50,'plan gier'!$Z:$AP,14,FALSE))","v":""},{"$f":"IF(ISBLANK(S50),\"\",VLOOKUP(S50,'plan gier'!$Z:$AP,15,FALSE))","v":""},{"$f":"IF(ISBLANK(S50),\"\",VLOOKUP(S50,'plan gier'!$Z:$AP,16,FALSE))","v":""},{"$f":"IF(ISBLANK(S50),\"\",VLOOKUP(S50,'plan gier'!$Z:$AP,17,FALSE))","v":""},0,0,0,0,0,0,0,null,null,null,null,null,null,null,null,null,null,null,{"$f":"SUM(BG45:BG49)","v":0},0,0,0,0,0]
[0,{"$f":"IF(N46=\"\",\"\",N46)","v":""},{"$f":"IF(N47=\"\",\"\",N47)","v":""},{"$f":"IF(N49=\"\",\"\",N49)","v":""},{"$f":"IF(N50=\"\",\"\",N50)","v":""},null,null,null,{"$f":"\"5\"&O41&N42","v":"5"},{"$f":"IF(SUM(AF42:AF56)=0,\"\",IF(AF42=5,N43,IF(AF45=5,N46,IF(AF48=5,N49,IF(AF51=5,N52,IF(AF54=5,N55,\"\"))))))","v":""},{"$f":"IF(SUM(AF42:AF56)=0,\"\",IF(AF42=5,N44,IF(AF45=5,N47,IF(AF48=5,N50,IF(AF51=5,N53,IF(AF54=5,N56,\"\"))))))","v":""},null,{"$f":"N42","v":0},null,null,null,{"$f":"IF(AO51>0,\"\",IF(A51=0,\"\",IF(VLOOKUP(A51,'plan gier'!A:T,20,FALSE)=\"\",\"\",VLOOKUP(A51,'plan gier'!A:T,20,FALSE))))","v":""},"2-3",null,4,{"$f":"IF(AND(N52<>\"\",N53<>\"\"),CONCATENATE(VLOOKUP(N52,zawodnicy!$A:$E,1,FALSE),\" \",VLOOKUP(N52,zawodnicy!$A:$E,2,FALSE),\" \",VLOOKUP(N52,zawodnicy!$A:$E,3,FALSE),\" - \",VLOOKUP(N52,zawodnicy!$A:$E,4,FALSE)),\"\")","v":""},null,null,{"$f":"IF(SUM(AP52:AQ52)=0,\"\",AQ52&\":\"&AP52)","v":""},{"$f":"IF(SUM(AP53:AQ53)=0,\"\",AQ53&\":\"&AP53)","v":""},{"$f":"IF(SUM(AP45:AQ45)=0,\"\",AQ45&\":\"&AP45)","v":""},null,{"$f":"IF(SUM(AP50:AQ50)=0,\"\",AP50&\":\"&AQ50)","v":""},{"$f":"IF(SUM(AW48:BB48,BE48:BF48)=0,\"\",BG48&\":\"&BH48)","v":""},{"$f":"IF(SUM(AW48:BB48,BE48:BF48)=0,\"\",BI48&\":\"&BJ48)","v":""},{"$f":"IF(SUM(AW48:BB48,BE48:BF48)=0,\"\",BK48&\":\"&BL48)","v":""},{"$f":"IF(SUM(BK45:BK49)>0,BM48,\"\")","v":""},null,"2-3",{"$f":"IF(ISBLANK(S51),\"\",VLOOKUP(S51,'plan gier'!$Z:$AP,12,FALSE))","v":""},{"$f":"IF(ISBLANK(S51),\"\",VLOOKUP(S51,'plan gier'!$Z:$AP,13,FALSE))","v":""},{"$f":"IF(ISBLANK(S51),\"\",VLOOKUP(S51,'plan gier'!$Z:$AP,14,FALSE))","v":""},{"$f":"IF(ISBLANK(S51),\"\",VLOOKUP(S51,'plan gier'!$Z:$AP,15,FALSE))","v":""},{"$f":"IF(ISBLANK(S51),\"\",VLOOKUP(S51,'plan gier'!$Z:$AP,16,FALSE))","v":""},{"$f":"IF(ISBLANK(S51),\"\",VLOOKUP(S51,'plan gier'!$Z:$AP,17,FALSE))","v":""},0,0,0,0,0,0,0]
[0,{"$f":"IF(N43=\"\",\"\",N43)","v":""},{"$f":"IF(N44=\"\",\"\",N44)","v":""},{"$f":"IF(N52=\"\",\"\",N52)","v":""},{"$f":"IF(N53=\"\",\"\",N53)","v":""},null,null,null,null,null,null,{"$f":"IF(VLOOKUP(N52,zawodnicy!A:E,5,FALSE)=0,\"\",N52)","v":{"$error":"#N/A"}},{"$f":"N42","v":0},null,{"$f":"IF(O41>0,(O41&4)*1,\"\")","v":""},null,{"$f":"IF(AO52>0,\"\",IF(A52=0,\"\",IF(VLOOKUP(A52,'plan gier'!A:T,20,FALSE)=\"\",\"\",VLOOKUP(A52,'plan gier'!A:T,20,FALSE))))","v":""},"1-4",null,null,{"$f":"IF(AND(N52<>\"\",N53=\"\"),CONCATENATE(VLOOKUP(N52,zawodnicy!$A:$E,1,FALSE),\" \",VLOOKUP(N52,zawodnicy!$A:$E,2,FALSE),\" \",VLOOKUP(N52,zawodnicy!$A:$E,3,FALSE),\" - \",VLOOKUP(N52,zawodnicy!$A:$E,4,FALSE)),\"\")","v":""},null,null,{"$f":"IF(SUM(AR52:AS52)=0,\"\",AS52&\":\"&AR52)","v":""},{"$f":"IF(SUM(AR53:AS53)=0,\"\",AS53&\":\"&AR53)","v":""},{"$f":"IF(SUM(AR45:AS45)=0,\"\",AS45&\":\"&AR45)","v":""},null,{"$f":"IF(SUM(AR50:AS50)=0,\"\",AR50&\":\"&AS50)","v":""},null,null,null,null,null,"1-4",{"$f":"IF(ISBLANK(S52),\"\",VLOOKUP(S52,'plan gier'!$Z:$AP,12,FALSE))","v":""},{"$f":"IF(ISBLANK(S52),\"\",VLOOKUP(S52,'plan gier'!$Z:$AP,13,FALSE))","v":""},{"$f":"IF(ISBLANK(S52),\"\",VLOOKUP(S52,'plan gier'!$Z:$AP,14,FALSE))","v":""},{"$f":"IF(ISBLANK(S52),\"\",VLOOKUP(S52,'plan gier'!$Z:$AP,15,FALSE))","v":""},{"$f":"IF(ISBLANK(S52),\"\",VLOOKUP(S52,'plan gier'!$Z:$AP,16,FALSE))","v":""},{"$f":"IF(ISBLANK(S52),\"\",VLOOKUP(S52,'plan gier'!$Z:$AP,17,FALSE))","v":""},0,0,0,0,0,0,0]
[0,{"$f":"IF(N46=\"\",\"\",N46)","v":""},{"$f":"IF(N47=\"\",\"\",N47)","v":""},{"$f":"IF(N52=\"\",\"\",N52)","v":""},{"$f":"IF(N53=\"\",\"\",N53)","v":""},null,null,null,null,null,null,{"$f":"IF(VLOOKUP(N53,zawodnicy!A:E,5,FALSE)=0,\"\",N53)","v":{"$error":"#N/A"}},{"$f":"N42","v":0},null,null,null,{"$f":"IF(AO53>0,\"\",IF(A53=0,\"\",IF(VLOOKUP(A53,'plan gier'!A:T,20,FALSE)=\"\",\"\",VLOOKUP(A53,'plan gier'!A:T,20,FALSE))))","v":""},"2-4",null,null,{"$f":"IF(N53<>\"\",CONCATENATE(VLOOKUP(N53,zawodnicy!$A:$E,1,FALSE),\" \",VLOOKUP(N53,zawodnicy!$A:$E,2,FALSE),\" \",VLOOKUP(N53,zawodnicy!$A:$E,3,FALSE),\" - \",VLOOKUP(N53,zawodnicy!$A:$E,4,FALSE)),\"\")","v":""},null,null,{"$f":"IF(SUM(AT52:AU52)=0,\"\",AU52&\":\"&AT52)","v":""},{"$f":"IF(SUM(AT53:AU53)=0,\"\",AU53&\":\"&AT53)","v":""},{"$f":"IF(SUM(AT45:AU45)=0,\"\",AU45&\":\"&AT45)","v":""},null,{"$f":"IF(SUM(AT50:AU50)=0,\"\",AT50&\":\"&AU50)","v":""},null,null,null,null,null,"2-4",{"$f":"IF(ISBLANK(S53),\"\",VLOOKUP(S53,'plan gier'!$Z:$AP,12,FALSE))","v":""},{"$f":"IF(ISBLANK(S53),\"\",VLOOKUP(S53,'plan gier'!$Z:$AP,13,FALSE))","v":""},{"$f":"IF(ISBLANK(S53),\"\",VLOOKUP(S53,'plan gier'!$Z:$AP,14,FALSE))","v":""},{"$f":"IF(ISBLANK(S53),\"\",VLOOKUP(S53,'plan gier'!$Z:$AP,15,FALSE))","v":""},{"$f":"IF(ISBLANK(S53),\"\",VLOOKUP(S53,'plan gier'!$Z:$AP,16,FALSE))","v":""},{"$f":"IF(ISBLANK(S53),\"\",VLOOKUP(S53,'plan gier'!$Z:$AP,17,FALSE))","v":""},0,0,0,0,0,0,0]
[0,{"$f":"IF(N43=\"\",\"\",N43)","v":""},{"$f":"IF(N44=\"\",\"\",N44)","v":""},{"$f":"IF(N55=\"\",\"\",N55)","v":""},{"$f":"IF(N56=\"\",\"\",N56)","v":""},null,null,null,null,null,null,null,{"$f":"N42","v":0},null,null,null,{"$f":"IF(AO54>0,\"\",IF(A54=0,\"\",IF(VLOOKUP(A54,'plan gier'!A:T,20,FALSE)=\"\",\"\",VLOOKUP(A54,'plan gier'!A:T,20,FALSE))))","v":""},"1-5",null,5,{"$f":"IF(AND(N55<>\"\",N56<>\"\"),CONCATENATE(VLOOKUP(N55,zawodnicy!$A:$E,1,FALSE),\" \",VLOOKUP(N55,zawodnicy!$A:$E,2,FALSE),\" \",VLOOKUP(N55,zawodnicy!$A:$E,3,FALSE),\" - \",VLOOKUP(N55,zawodnicy!$A:$E,4,FALSE)),\"\")","v":""},null,null,{"$f":"IF(SUM(AP54:AQ54)=0,\"\",AQ54&\":\"&AP54)","v":""},{"$f":"IF(SUM(AP46:AQ46)=0,\"\",AQ46&\":\"&AP46)","v":""},{"$f":"IF(SUM(AP48:AQ48)=0,\"\",AQ48&\":\"&AP48)","v":""},{"$f":"IF(SUM(AP50:AQ50)=0,\"\",AQ50&\":\"&AP50)","v":""},null,{"$f":"IF(SUM(AW49:BD49)=0,\"\",BG49&\":\"&BH49)","v":""},{"$f":"IF(SUM(AW49:BD49)=0,\"\",BI49&\":\"&BJ49)","v":""},{"$f":"IF(SUM(AW49:BD49)=0,\"\",BK49&\":\"&BL49)","v":""},{"$f":"IF(SUM(BK45:BK49)>0,BM49,\"\")","v":""},null,"1-5",{"$f":"IF(ISBLANK(S54),\"\",VLOOKUP(S54,'plan gier'!$Z:$AP,12,FALSE))","v":""},{"$f":"IF(ISBLANK(S54),\"\",VLOOKUP(S54,'plan gier'!$Z:$AP,13,FALSE))","v":""},{"$f":"IF(ISBLANK(S54),\"\",VLOOKUP(S54,'plan gier'!$Z:$AP,14,FALSE))","v":""},{"$f":"IF(ISBLANK(S54),\"\",VLOOKUP(S54,'plan gier'!$Z:$AP,15,FALSE))","v":""},{"$f":"IF(ISBLANK(S54),\"\",VLOOKUP(S54,'plan gier'!$Z:$AP,16,FALSE))","v":""},{"$f":"IF(ISBLANK(S54),\"\",VLOOKUP(S54,'plan gier'!$Z:$AP,17,FALSE))","v":""},0,0,0,0,0,0,0]
[null,null,null,null,null,null,null,null,null,null,null,{"$f":"IF(VLOOKUP(N55,zawodnicy!A:E,5,FALSE)=0,\"\",N55)","v":{"$error":"#N/A"}},null,null,{"$f":"IF(O41>0,(O41&5)*1,\"\")","v":""},null,null,null,null,null,{"$f":"IF(AND(N55<>\"\",N56=\"\"),CONCATENATE(VLOOKUP(N55,zawodnicy!$A:$E,1,FALSE),\" \",VLOOKUP(N55,zawodnicy!$A:$E,2,FALSE),\" \",VLOOKUP(N55,zawodnicy!$A:$E,3,FALSE),\" - \",VLOOKUP(N55,zawodnicy!$A:$E,4,FALSE)),\"\")","v":""},null,null,{"$f":"IF(SUM(AR54:AS54)=0,\"\",AS54&\":\"&AR54)","v":""},{"$f":"IF(SUM(AR46:AS46)=0,\"\",AS46&\":\"&AR46)","v":""},{"$f":"IF(SUM(AR48:AS48)=0,\"\",AS48&\":\"&AR48)","v":""},{"$f":"IF(SUM(AR50:AS50)=0,\"\",AS50&\":\"&AR50)","v":""}]
[null,null,null,null,null,null,null,null,null,null,null,{"$f":"IF(VLOOKUP(N56,zawodnicy!A:E,5,FALSE)=0,\"\",N56)","v":{"$error":"#N/A"}},null,null,null,null,null,null,null,null,{"$f":"IF(N56<>\"\",CONCATENATE(VLOOKUP(N56,zawodnicy!$A:$E,1,FALSE),\" \",VLOOKUP(N56,zawodnicy!$A:$E,2,FALSE),\" \",VLOOKUP(N56,zawodnicy!$A:$E,3,FALSE),\" - \",VLOOKUP(N56,zawodnicy!$A:$E,4,FALSE)),\"\")","v":""},null,null,{"$f":"IF(SUM(AT54:AU54)=0,\"\",AU54&\":\"&AT54)","v":""},{"$f":"IF(SUM(AT46:AU46)=0,\"\",AU46&\":\"&AT46)","v":""},{"$f":"IF(SUM(AT48:AU48)=0,\"\",AU48&\":\"&AT48)","v":""},{"$f":"IF(SUM(AT50:AU50)=0,\"\",AU50&\":\"&AT50)","v":""}]
[]
[]
[null,null,null,null,null,null,null,null,null,null,null,null,null,null,null,null,null,null,null,null,null,"Gry pojedyncze"]
[]
[]
[null,null,null,null,null,null,null,null,null,null,null,null,null,null,16]
[]
[{"$f":"W64","v":0},{"$f":"IF(TYPE(T64)=16,\"\",T64)","v":""},null,{"$f":"IF(TYPE(T65)=16,\"\",T65)","v":""},null,{"$f":"IF(A64=0,IF(AND(LEN(B64)>0,LEN(D64)=0),VLOOKUP(B64,zawodnicy!$A:$E,1,FALSE),IF(AND(LEN(D64)>0,LEN(B64)=0),VLOOKUP(D64,zawodnicy!$A:$E,1,FALSE),\"\")),IF((VLOOKUP(A64,'plan gier'!$Z:$AH,7,FALSE))=\"\",\"\",VLOOKUP(VLOOKUP(A64,'plan gier'!$Z:$AH,7,FALSE),zawodnicy!$A:$E,1,FALSE)))","v":""},null,{"$f":"IF(A64=0,\"\",IF((VLOOKUP(A64,'plan gier'!$Z:$AH,7,FALSE))=\"\",\"\",VLOOKUP(A64,'plan gier'!$Z:$AH,9,FALSE)))","v":""},null,null,null,{"$f":"IF(A64=0,\"\",IF(VLOOKUP(A64,'plan gier'!A:T,20,FALSE)=\"\",\"\",VLOOKUP(A64,'plan gier'!A:T,20,FALSE)))","v":""},{"$f":"N63","v":0},null,{"$f":"IF(P64=\"\",\"\",1)","v":1},{"$f":"IF(O62>8,1,\"\")","v":1},{"$f":"O64","v":1},null,null,{"$f":"UPPER(IF(O64=\"\",\"\",IF(ISTEXT(N64),N64,IF(AND(N62>0,O64>0),VLOOKUP(N62&O64&N63,I:J,2,FALSE),\"\"))))","v":""},null,{"$f":"IF(T64<>\"\",CONCATENATE(VLOOKUP(T64,zawodnicy!$A:$E,2,FALSE),\" \",VLOOKUP(T64,zawodnicy!$A:$E,3,FALSE),\" - \",VLOOKUP(T64,zawodnicy!$A:$E,4,FALSE)),\"\")","v":""},null,{"$f":"IF(ISBLANK(W64),IF(AND(LEN(T64)>0,LEN(T65)=0),VLOOKUP(T64,zawodnicy!$A:$E,3,FALSE),IF(AND(LEN(T65)>0,LEN(T64)=0),VLOOKUP(T65,zawodnicy!$A:$E,3,FALSE),\"\")),IF((VLOOKUP(W64,'plan gier'!$Z:$AH,7,FALSE))=\"\",\"\",VLOOKUP(VLOOKUP(W64,'plan gier'!$Z:$AH,7,FALSE),zawodnicy!$A:$E,3,FALSE)))","v":""}]
[null,null,null,null,null,null,null,null,null,null,null,null,null,null,{"$f":"IF(P65=\"\",\"\",2)","v":2},{"$f":"IF(O62>15,3,\"\")","v":3},{"$f":"O65","v":2},null,null,{"$f":"UPPER(IF(O65=\"\",\"\",IF(ISTEXT(N65),N65,IF(AND(N62>0,O65>0),VLOOKUP(N62&O65&N63,I:J,2,FALSE),\"\"))))","v":""},null,{"$f":"IF(T65<>\"\",CONCATENATE(VLOOKUP(T65,zawodnicy!$A:$E,2,FALSE),\" \",VLOOKUP(T65,zawodnicy!$A:$E,3,FALSE),\" - \",VLOOKUP(T65,zawodnicy!$A:$E,4,FALSE)),\"\")","v":""},null,{"$f":"IF(ISBLANK(W64),\"\",IF((VLOOKUP(W64,'plan gier'!$Z:$AH,7,FALSE))=\"\",L64,VLOOKUP(W64,'plan gier'!$Z:$AH,9,FALSE)))","v":""}]
[{"$f":"Z66","v":0},{"$f":"F64","v":""},null,{"$f":"F68","v":""},null,{"$f":"IF(A66=0,IF(AND(LEN(B66)>0,LEN(D66)=0),B66,IF(AND(LEN(D66)>0,LEN(B66)=0),D66,\"\")),IF((VLOOKUP(A66,'plan gier'!$Z:$AH,7,FALSE))=\"\",\"\",VLOOKUP(VLOOKUP(A66,'plan gier'!$Z:$AH,7,FALSE),zawodnicy!$A:$E,1,FALSE)))","v":""},null,{"$f":"IF(A66=0,\"\",IF((VLOOKUP(A66,'plan gier'!$Z:$AH,7,FALSE))=\"\",\"\",VLOOKUP(A66,'plan gier'!$Z:$AH,9,FALSE)))","v":""},null,null,null,{"$f":"IF(A66=0,\"\",IF(VLOOKUP(A66,'plan gier'!A:T,20,FALSE)=\"\",\"\",VLOOKUP(A66,'plan gier'!A:T,20,FALSE)))","v":""},{"$f":"N63","v":0},null,null,null,null,null,null,null,null,null,null,null,null,null,{"$f":"IF(ISBLANK(Z66),IF(AND(LEN(X64)>0,LEN(X68)=0),X64,IF(AND(LEN(X68)>0,LEN(X64)=0),X68,\"\")),IF((VLOOKUP(Z66,'plan gier'!$Z:$AH,7,FALSE))=\"\",\"\",VLOOKUP(VLOOKUP(Z66,'plan gier'!$Z:$AH,7,FALSE),zawodnicy!$A:$E,3,FALSE)))","v":""}]
[null,null,null,null,null,null,null,null,null,null,null,null,null,null,null,null,null,null,null,null,null,null,null,null,null,null,{"$f":"IF(ISBLANK(Z66),\"\",IF((VLOOKUP(Z66,'plan gier'!$Z:$AH,7,FALSE))=\"\",L66,VLOOKUP(Z66,'plan gier'!$Z:$AH,9,FALSE)))","v":""}]
[{"$f":"W68","v":0},{"$f":"IF(TYPE(T68)=16,\"\",T68)","v":""},null,{"$f":"IF(TYPE(T69)=16,\"\",T69)","v":""},null,{"$f":"IF(A68=0,IF(AND(LEN(B68)>0,LEN(D68)=0),VLOOKUP(B68,zawodnicy!$A:$E,1,FALSE),IF(AND(LEN(D68)>0,LEN(B68)=0),VLOOKUP(D68,zawodnicy!$A:$E,1,FALSE),\"\")),IF((VLOOKUP(A68,'plan gier'!$Z:$AH,7,FALSE))=\"\",\"\",VLOOKUP(VLOOKUP(A68,'plan gier'!$Z:$AH,7,FALSE),zawodnicy!$A:$E,1,FALSE)))","v":""},null,{"$f":"IF(A68=0,\"\",IF((VLOOKUP(A68,'plan gier'!$Z:$AH,7,FALSE))=\"\",\"\",VLOOKUP(A68,'plan gier'!$Z:$AH,9,FALSE)))","v":""},null,null,null,{"$f":"IF(A68=0,\"\",IF(VLOOKUP(A68,'plan gier'!A:T,20,FALSE)=\"\",\"\",VLOOKUP(A68,'plan gier'!A:T,20,FALSE)))","v":""},{"$f":"N63","v":0},null,{"$f":"IF(P68=\"\",\"\",MAX(O64:O67)+1)","v":3},{"$f":"IF(O62>8,5,\"\")","v":5},{"$f":"O68","v":3},null,null,{"$f":"UPPER(IF(O68=\"\",\"\",IF(ISTEXT(N68),N68,IF(AND(N62>0,O68>0),VLOOKUP(N62&O68&N63,I:J,2,FALSE),\"\"))))","v":""},null,{"$f":"IF(T68<>\"\",CONCATENATE(VLOOKUP(T68,zawodnicy!$A:$E,2,FALSE),\" \",VLOOKUP(T68,zawodnicy!$A:$E,3,FALSE),\" - \",VLOOKUP(T68,zawodnicy!$A:$E,4,FALSE)),\"\")","v":""},null,{"$f":"IF(ISBLANK(W68),IF(AND(LEN(T68)>0,LEN(T69)=0),VLOOKUP(T68,zawodnicy!$A:$E,3,FALSE),IF(AND(LEN(T69)>0,LEN(T68)=0),VLOOKUP(T69,zawodnicy!$A:$E,3,FALSE),\"\")),IF((VLOOKUP(W68,'plan gier'!$Z:$AH,7,FALSE))=\"\",\"\",VLOOKUP(VLOOKUP(W68,'plan gier'!$Z:$AH,7,FALSE),zawodnicy!$A:$E,3,FALSE)))","v":""}]
[null,null,null,null,null,null,null,null,null,null,null,null,null,null,{"$f":"IF(P69=\"\",\"\",MAX(O64:O68)+1)","v":4},{"$f":"IF(O62>11,7,\"\")","v":7},{"$f":"O69","v":4},null,null,{"$f":"UPPER(IF(O69=\"\",\"\",IF(ISTEXT(N69),N69,IF(AND(N62>0,O69>0),VLOOKUP(N62&O69&N63,I:J,2,FALSE),\"\"))))","v":""},null,{"$f":"IF(T69<>\"\",CONCATENATE(VLOOKUP(T69,zawodnicy!$A:$E,2,FALSE),\" \",VLOOKUP(T69,zawodnicy!$A:$E,3,FALSE),\" - \",VLOOKUP(T69,zawodnicy!$A:$E,4,FALSE)),\"\")","v":""},null,{"$f":"IF(ISBLANK(W68),\"\",IF((VLOOKUP(W68,'plan gier'!$Z:$AH,7,FALSE))=\"\",L68,VLOOKUP(W68,'plan gier'!$Z:$AH,9,FALSE)))","v":""}]
[{"$f":"AC70","v":0},{"$f":"F66","v":""},null,{"$f":"F74","v":""},null,{"$f":"IF(A70=0,IF(AND(LEN(B70)>0,LEN(D70)=0),B70,IF(AND(LEN(D70)>0,LEN(B70)=0),D70,\"\")),IF((VLOOKUP(A70,'plan gier'!$Z:$AH,7,FALSE))=\"\",\"\",VLOOKUP(VLOOKUP(A70,'plan gier'!$Z:$AH,7,FALSE),zawodnicy!$A:$E,1,FALSE)))","v":""},null,{"$f":"IF(A70=0,\"\",IF((VLOOKUP(A70,'plan gier'!$Z:$AH,7,FALSE))=\"\",\"\",VLOOKUP(A70,'plan gier'!$Z:$AH,9,FALSE)))","v":""},null,null,null,{"$f":"IF(A70=0,\"\",IF(VLOOKUP(A70,'plan gier'!A:T,20,FALSE)=\"\",\"\",VLOOKUP(A70,'plan gier'!A:T,20,FALSE)))","v":""},{"$f":"N63","v":0},null,null,null,null,null,null,null,null,null,null,null,null,null,null,null,null,{"$f":"IF(ISBLANK(AC70),IF(AND(LEN(AA66)>0,LEN(AA74)=0),AA66,IF(AND(LEN(AA74)>0,LEN(AA66)=0),AA74,\"\")),IF((VLOOKUP(AC70,'plan gier'!$Z:$AH,7,FALSE))=\"\",\"\",VLOOKUP(VLOOKUP(AC70,'plan gier'!$Z:$AH,7,FALSE),zawodnicy!$A:$E,3,FALSE)))","v":""}]
[null,null,null,null,null,null,null,null,null,null,null,null,null,null,null,null,null,null,null,null,null,null,null,null,null,null,null,null,null,{"$f":"IF(ISBLANK(AC70),\"\",IF((VLOOKUP(AC70,'plan gier'!$Z:$AH,7,FALSE))=\"\",L70,VLOOKUP(AC70,'plan gier'!$Z:$AH,9,FALSE)))","v":""}]
[{"$f":"W72","v":0},{"$f":"IF(TYPE(T72)=16,\"\",T72)","v":""},null,{"$f":"IF(TYPE(T73)=16,\"\",T73)","v":""},null,{"$f":"IF(A72=0,IF(AND(LEN(B72)>0,LEN(D72)=0),VLOOKUP(B72,zawodnicy!$A:$E,1,FALSE),IF(AND(LEN(D72)>0,LEN(B72)=0),VLOOKUP(D72,zawodnicy!$A:$E,1,FALSE),\"\")),IF((VLOOKUP(A72,'plan gier'!$Z:$AH,7,FALSE))=\"\",\"\",VLOOKUP(VLOOKUP(A72,'plan gier'!$Z:$AH,7,FALSE),zawodnicy!$A:$E,1,FALSE)))","v":""},null,{"$f":"IF(A72=0,\"\",IF((VLOOKUP(A72,'plan gier'!$Z:$AH,7,FALSE))=\"\",\"\",VLOOKUP(A72,'plan gier'!$Z:$AH,9,FALSE)))","v":""},null,null,null,{"$f":"IF(A72=0,\"\",IF(VLOOKUP(A72,'plan gier'!A:T,20,FALSE)=\"\",\"\",VLOOKUP(A72,'plan gier'!A:T,20,FALSE)))","v":""},{"$f":"N63","v":0},null,{"$f":"IF(P72=\"\",\"\",MAX(O64:O71)+1)","v":5},{"$f":"IF(O62>8,9,\"\")","v":9},{"$f":"O72","v":5},null,null,{"$f":"UPPER(IF(O72=\"\",\"\",IF(ISTEXT(N72),N72,IF(AND(N62>0,O72>0),VLOOKUP(N62&O72&N63,I:J,2,FALSE),\"\"))))","v":""},null,{"$f":"IF(T72<>\"\",CONCATENATE(VLOOKUP(T72,zawodnicy!$A:$E,2,FALSE),\" \",VLOOKUP(T72,zawodnicy!$A:$E,3,FALSE),\" - \",VLOOKUP(T72,zawodnicy!$A:$E,4,FALSE)),\"\")","v":""},null,{"$f":"IF(ISBLANK(W72),IF(AND(LEN(T72)>0,LEN(T73)=0),VLOOKUP(T72,zawodnicy!$A:$E,3,FALSE),IF(AND(LEN(T73)>0,LEN(T72)=0),VLOOKUP(T73,zawodnicy!$A:$E,3,FALSE),\"\")),IF((VLOOKUP(W72,'plan gier'!$Z:$AH,7,FALSE))=\"\",\"\",VLOOKUP(VLOOKUP(W72,'plan gier'!$Z:$AH,7,FALSE),zawodnicy!$A:$E,3,FALSE)))","v":""}]
[null,null,null,null,null,null,null,null,null,null,null,null,null,null,{"$f":"IF(P73=\"\",\"\",MAX(O64:O72)+1)","v":6},{"$f":"IF(O62>13,11,\"\")","v":11},{"$f":"O73","v":6},null,null,{"$f":"UPPER(IF(O73=\"\",\"\",IF(ISTEXT(N73),N73,IF(AND(N62>0,O73>0),VLOOKUP(N62&O73&N63,I:J,2,FALSE),\"\"))))","v":""},null,{"$f":"IF(T73<>\"\",CONCATENATE(VLOOKUP(T73,zawodnicy!$A:$E,2,FALSE),\" \",VLOOKUP(T73,zawodnicy!$A:$E,3,FALSE),\" - \",VLOOKUP(T73,zawodnicy!$A:$E,4,FALSE)),\"\")","v":""},null,{"$f":"IF(ISBLANK(W72),\"\",IF((VLOOKUP(W72,'plan gier'!$Z:$AH,7,FALSE))=\"\",L72,VLOOKUP(W72,'plan gier'!$Z:$AH,9,FALSE)))","v":""}]
[{"$f":"Z74","v":0},{"$f":"F72","v":""},null,{"$f":"F76","v":""},null,{"$f":"IF(A74=0,IF(AND(LEN(B74)>0,LEN(D74)=0),B74,IF(AND(LEN(D74)>0,LEN(B74)=0),D74,\"\")),IF((VLOOKUP(A74,'plan gier'!$Z:$AH,7,FALSE))=\"\",\"\",VLOOKUP(VLOOKUP(A74,'plan gier'!$Z:$AH,7,FALSE),zawodnicy!$A:$E,1,FALSE)))","v":""},null,{"$f":"IF(A74=0,\"\",IF((VLOOKUP(A74,'plan gier'!$Z:$AH,7,FALSE))=\"\",\"\",VLOOKUP(A74,'plan gier'!$Z:$AH,9,FALSE)))","v":""},null,null,null,{"$f":"IF(A74=0,\"\",IF(VLOOKUP(A74,'plan gier'!A:T,20,FALSE)=\"\",\"\",VLOOKUP(A74,'plan gier'!A:T,20,FALSE)))","v":""},{"$f":"N63","v":0},null,null,null,null,null,null,null,null,null,null,null,null,null,{"$f":"IF(ISBLANK(Z74),IF(AND(LEN(X72)>0,LEN(X76)=0),X72,IF(AND(LEN(X76)>0,LEN(X72)=0),X76,\"\")),IF((VLOOKUP(Z74,'plan gier'!$Z:$AH,7,FALSE))=\"\",\"\",VLOOKUP(VLOOKUP(Z74,'plan gier'!$Z:$AH,7,FALSE),zawodnicy!$A:$E,3,FALSE)))","v":""}]
[null,null,null,null,null,null,null,null,null,null,null,null,null,null,null,null,null,null,null,null,null,null,null,null,null,null,{"$f":"IF(ISBLANK(Z74),\"\",IF((VLOOKUP(Z74,'plan gier'!$Z:$AH,7,FALSE))=\"\",L74,VLOOKUP(Z74,'plan gier'!$Z:$AH,9,FALSE)))","v":""}]
[{"$f":"W76","v":0},{"$f":"IF(TYPE(T76)=16,\"\",T76)","v":""},null,{"$f":"IF(TYPE(T77)=16,\"\",T77)","v":""},null,{"$f":"IF(A76=0,IF(AND(LEN(B76)>0,LEN(D76)=0),VLOOKUP(B76,zawodnicy!$A:$E,1,FALSE),IF(AND(LEN(D76)>0,LEN(B76)=0),VLOOKUP(D76,zawodnicy!$A:$E,1,FALSE),\"\")),IF((VLOOKUP(A76,'plan gier'!$Z:$AH,7,FALSE))=\"\",\"\",VLOOKUP(VLOOKUP(A76,'plan gier'!$Z:$AH,7,FALSE),zawodnicy!$A:$E,1,FALSE)))","v":""},null,{"$f":"IF(A76=0,\"\",IF((VLOOKUP(A76,'plan gier'!$Z:$AH,7,FALSE))=\"\",\"\",VLOOKUP(A76,'plan gier'!$Z:$AH,9,FALSE)))","v":""},null,null,null,{"$f":"IF(A76=0,\"\",IF(VLOOKUP(A76,'plan gier'!A:T,20,FALSE)=\"\",\"\",VLOOKUP(A76,'plan gier'!A:T,20,FALSE)))","v":""},{"$f":"N63","v":0},null,{"$f":"IF(P76=\"\",\"\",MAX(O64:O75)+1)","v":7},{"$f":"IF(O62>8,13,\"\")","v":13},{"$f":"O76","v":7},null,null,{"$f":"UPPER(IF(O76=\"\",\"\",IF(ISTEXT(N76),N76,IF(AND(N62>0,O76>0),VLOOKUP(N62&O76&N63,I:J,2,FALSE),\"\"))))","v":""},null,{"$f":"IF(T76<>\"\",CONCATENATE(VLOOKUP(T76,zawodnicy!$A:$E,2,FALSE),\" \",VLOOKUP(T76,zawodnicy!$A:$E,3,FALSE),\" - \",VLOOKUP(T76,zawodnicy!$A:$E,4,FALSE)),\"\")","v":""},null,{"$f":"IF(ISBLANK(W76),IF(AND(LEN(T76)>0,LEN(T77)=0),VLOOKUP(T76,zawodnicy!$A:$E,3,FALSE),IF(AND(LEN(T77)>0,LEN(T76)=0),VLOOKUP(T77,zawodnicy!$A:$E,3,FALSE),\"\")),IF((VLOOKUP(W76,'plan gier'!$Z:$AH,7,FALSE))=\"\",\"\",VLOOKUP(VLOOKUP(W76,'plan gier'!$Z:$AH,7,FALSE),zawodnicy!$A:$E,3,FALSE)))","v":""}]
[null,null,null,null,null,null,null,null,null,null,null,null,null,null,{"$f":"IF(P77=\"\",\"\",MAX(O64:O76)+1)","v":8},{"$f":"IF(O62>9,15,\"\")","v":15},{"$f":"O77","v":8},null,null,{"$f":"UPPER(IF(O77=\"\",\"\",IF(ISTEXT(N77),N77,IF(AND(N62>0,O77>0),VLOOKUP(N62&O77&N63,I:J,2,FALSE),\"\"))))","v":""},null,{"$f":"IF(T77<>\"\",CONCATENATE(VLOOKUP(T77,zawodnicy!$A:$E,2,FALSE),\" \",VLOOKUP(T77,zawodnicy!$A:$E,3,FALSE),\" - \",VLOOKUP(T77,zawodnicy!$A:$E,4,FALSE)),\"\")","v":""},null,{"$f":"IF(ISBLANK(W76),\"\",IF((VLOOKUP(W76,'plan gier'!$Z:$AH,7,FALSE))=\"\",L76,VLOOKUP(W76,'plan gier'!$Z:$AH,9,FALSE)))","v":""}]
[{"$f":"AC78","v":0},{"$f":"F70","v":""},null,{"$f":"F86","v":""},null,{"$f":"IF(A78=0,IF(AND(LEN(B78)>0,LEN(D78)=0),B78,IF(AND(LEN(D78)>0,LEN(B78)=0),D78,\"\")),IF((VLOOKUP(A78,'plan gier'!$Z:$AH,7,FALSE))=\"\",\"\",VLOOKUP(VLOOKUP(A78,'plan gier'!$Z:$AH,7,FALSE),zawodnicy!$A:$E,1,FALSE)))","v":""},null,{"$f":"IF(A78=0,\"\",IF((VLOOKUP(A78,'plan gier'!$Z:$AH,7,FALSE))=\"\",\"\",VLOOKUP(A78,'plan gier'!$Z:$AH,9,FALSE)))","v":""},null,null,null,{"$f":"IF(A78=0,\"\",IF(VLOOKUP(A78,'plan gier'!A:T,20,FALSE)=\"\",\"\",VLOOKUP(A78,'plan gier'!A:T,20,FALSE)))","v":""},{"$f":"N63","v":0},null,null,null,null,null,null,null,null,null,null,null,null,null,null,null,null,{"$f":"IF(ISBLANK(AC78),IF(AND(LEN(AD70)>0,LEN(AD86)=0),AD70,IF(AND(LEN(AD86)>0,LEN(AD70)=0),AD86,\"\")),IF((VLOOKUP(AC78,'plan gier'!$Z:$AH,7,FALSE))=\"\",\"\",VLOOKUP(VLOOKUP(AC78,'plan gier'!$Z:$AH,7,FALSE),zawodnicy!$A:$E,3,FALSE)))","v":""}]
[null,null,null,null,null,null,null,null,null,null,null,null,null,null,null,null,null,null,null,null,null,null,null,null,null,null,null,null,null,{"$f":"IF(ISBLANK(AC78),\"\",IF((VLOOKUP(AC78,'plan gier'!$Z:$AH,7,FALSE))=\"\",L78,VLOOKUP(AC78,'plan gier'!$Z:$AH,9,FALSE)))","v":""}]
[{"$f":"W80","v":0},{"$f":"IF(TYPE(T80)=16,\"\",T80)","v":""},null,{"$f":"IF(TYPE(T81)=16,\"\",T81)","v":""},null,{"$f":"IF(A80=0,IF(AND(LEN(B80)>0,LEN(D80)=0),VLOOKUP(B80,zawodnicy!$A:$E,1,FALSE),IF(AND(LEN(D80)>0,LEN(B80)=0),VLOOKUP(D80,zawodnicy!$A:$E,1,FALSE),\"\")),IF((VLOOKUP(A80,'plan gier'!$Z:$AH,7,FALSE))=\"\",\"\",VLOOKUP(VLOOKUP(A80,'plan gier'!$Z:$AH,7,FALSE),zawodnicy!$A:$E,1,FALSE)))","v":""},null,{"$f":"IF(A80=0,\"\",IF((VLOOKUP(A80,'plan gier'!$Z:$AH,7,FALSE))=\"\",\"\",VLOOKUP(A80,'plan gier'!$Z:$AH,9,FALSE)))","v":""},null,null,null,{"$f":"IF(A80=0,\"\",IF(VLOOKUP(A80,'plan gier'!A:T,20,FALSE)=\"\",\"\",VLOOKUP(A80,'plan gier'!A:T,20,FALSE)))","v":""},{"$f":"N63","v":0},null,{"$f":"IF(P80=\"\",\"\",MAX(O64:O79)+1)","v":9},{"$f":"IF(O62>8,18,\"\")","v":18},{"$f":"O80","v":9},null,null,{"$f":"UPPER(IF(O80=\"\",\"\",IF(ISTEXT(N80),N80,IF(AND(N62>0,O80>0),VLOOKUP(N62&O80&N63,I:J,2,FALSE),\"\"))))","v":""},null,{"$f":"IF(T80<>\"\",CONCATENATE(VLOOKUP(T80,zawodnicy!$A:$E,2,FALSE),\" \",VLOOKUP(T80,zawodnicy!$A:$E,3,FALSE),\" - \",VLOOKUP(T80,zawodnicy!$A:$E,4,FALSE)),\"\")","v":""},null,{"$f":"IF(ISBLANK(W80),IF(AND(LEN(T80)>0,LEN(T81)=0),VLOOKUP(T80,zawodnicy!$A:$E,3,FALSE),IF(AND(LEN(T81)>0,LEN(T80)=0),VLOOKUP(T81,zawodnicy!$A:$E,3,FALSE),\"\")),IF((VLOOKUP(W80,'plan gier'!$Z:$AH,7,FALSE))=\"\",\"\",VLOOKUP(VLOOKUP(W80,'plan gier'!$Z:$AH,7,FALSE),zawodnicy!$A:$E,3,FALSE)))","v":""}]
[null,null,null,null,null,null,null,null,null,null,null,null,null,null,{"$f":"IF(P81=\"\",\"\",MAX(O64:O80)+1)","v":10},{"$f":"IF(O62>8,20,\"\")","v":20},{"$f":"O81","v":10},null,null,{"$f":"UPPER(IF(O81=\"\",\"\",IF(ISTEXT(N81),N81,IF(AND(N62>0,O81>0),VLOOKUP(N62&O81&N63,I:J,2,FALSE),\"\"))))","v":""},null,{"$f":"IF(T81<>\"\",CONCATENATE(VLOOKUP(T81,zawodnicy!$A:$E,2,FALSE),\" \",VLOOKUP(T81,zawodnicy!$A:$E,3,FALSE),\" - \",VLOOKUP(T81,zawodnicy!$A:$E,4,FALSE)),\"\")","v":""},null,{"$f":"IF(ISBLANK(W80),\"\",IF((VLOOKUP(W80,'plan gier'!$Z:$AH,7,FALSE))=\"\",L80,VLOOKUP(W80,'plan gier'!$Z:$AH,9,FALSE)))","v":""}]
[{"$f":"Z82","v":0},{"$f":"F80","v":""},null,{"$f":"F84","v":""},null,{"$f":"IF(A82=0,IF(AND(LEN(B82)>0,LEN(D82)=0),B82,IF(AND(LEN(D82)>0,LEN(B82)=0),D82,\"\")),IF((VLOOKUP(A82,'plan gier'!$Z:$AH,7,FALSE))=\"\",\"\",VLOOKUP(VLOOKUP(A82,'plan gier'!$Z:$AH,7,FALSE),zawodnicy!$A:$E,1,FALSE)))","v":""},null,{"$f":"IF(A82=0,\"\",IF((VLOOKUP(A82,'plan gier'!$Z:$AH,7,FALSE))=\"\",\"\",VLOOKUP(A82,'plan gier'!$Z:$AH,9,FALSE)))","v":""},null,null,null,{"$f":"IF(A82=0,\"\",IF(VLOOKUP(A82,'plan gier'!A:T,20,FALSE)=\"\",\"\",VLOOKUP(A82,'plan gier'!A:T,20,FALSE)))","v":""},{"$f":"N63","v":0},null,null,null,null,null,null,null,null,null,null,null,null,null,{"$f":"IF(ISBLANK(Z82),IF(AND(LEN(X80)>0,LEN(X84)=0),X80,IF(AND(LEN(X84)>0,LEN(X80)=0),X84,\"\")),IF((VLOOKUP(Z82,'plan gier'!$Z:$AH,7,FALSE))=\"\",\"\",VLOOKUP(VLOOKUP(Z82,'plan gier'!$Z:$AH,7,FALSE),zawodnicy!$A:$E,3,FALSE)))","v":""}]
[null,null,null,null,null,null,null,null,null,null,null,null,null,null,null,null,null,null,null,null,null,null,null,null,null,null,{"$f":"IF(ISBLANK(Z82),\"\",IF((VLOOKUP(Z82,'plan gier'!$Z:$AH,7,FALSE))=\"\",L82,VLOOKUP(Z82,'plan gier'!$Z:$AH,9,FALSE)))","v":""}]
[{"$f":"W84","v":0},{"$f":"IF(TYPE(T84)=16,\"\",T84)","v":""},null,{"$f":"IF(TYPE(T85)=16,\"\",T85)","v":""},null,{"$f":"IF(A84=0,IF(AND(LEN(B84)>0,LEN(D84)=0),VLOOKUP(B84,zawodnicy!$A:$E,1,FALSE),IF(AND(LEN(D84)>0,LEN(B84)=0),VLOOKUP(D84,zawodnicy!$A:$E,1,FALSE),\"\")),IF((VLOOKUP(A84,'plan gier'!$Z:$AH,7,FALSE))=\"\",\"\",VLOOKUP(VLOOKUP(A84,'plan gier'!$Z:$AH,7,FALSE),zawodnicy!$A:$E,1,FALSE)))","v":""},null,{"$f":"IF(A84=0,\"\",IF((VLOOKUP(A84,'plan gier'!$Z:$AH,7,FALSE))=\"\",\"\",VLOOKUP(A84,'plan gier'!$Z:$AH,9,FALSE)))","v":""},null,null,null,{"$f":"IF(A84=0,\"\",IF(VLOOKUP(A84,'plan gier'!A:T,20,FALSE)=\"\",\"\",VLOOKUP(A84,'plan gier'!A:T,20,FALSE)))","v":""},{"$f":"N63","v":0},null,{"$f":"IF(P84=\"\",\"\",MAX(O64:O83)+1)","v":11},{"$f":"IF(O62>12,22,\"\")","v":22},{"$f":"O84","v":11},null,null,{"$f":"UPPER(IF(O84=\"\",\"\",IF(ISTEXT(N84),N84,IF(AND(N62>0,O84>0),VLOOKUP(N62&O84&N63,I:J,2,FALSE),\"\"))))","v":""},null,{"$f":"IF(T84<>\"\",CONCATENATE(VLOOKUP(T84,zawodnicy!$A:$E,2,FALSE),\" \",VLOOKUP(T84,zawodnicy!$A:$E,3,FALSE),\" - \",VLOOKUP(T84,zawodnicy!$A:$E,4,FALSE)),\"\")","v":""},null,{"$f":"IF(ISBLANK(W84),IF(AND(LEN(T84)>0,LEN(T85)=0),VLOOKUP(T84,zawodnicy!$A:$E,3,FALSE),IF(AND(LEN(T85)>0,LEN(T84)=0),VLOOKUP(T85,zawodnicy!$A:$E,3,FALSE),\"\")),IF((VLOOKUP(W84,'plan gier'!$Z:$AH,7,FALSE))=\"\",\"\",VLOOKUP(VLOOKUP(W84,'plan gier'!$Z:$AH,7,FALSE),zawodnicy!$A:$E,3,FALSE)))","v":""}]
[null,null,null,null,null,null,null,null,null,null,null,null,null,null,{"$f":"IF(P85=\"\",\"\",MAX(O64:O84)+1)","v":12},{"$f":"IF(O62>8,24,\"\")","v":24},{"$f":"O85","v":12},null,null,{"$f":"UPPER(IF(O85=\"\",\"\",IF(ISTEXT(N85),N85,IF(AND(N62>0,O85>0),VLOOKUP(N62&O85&N63,I:J,2,FALSE),\"\"))))","v":""},null,{"$f":"IF(T85<>\"\",CONCATENATE(VLOOKUP(T85,zawodnicy!$A:$E,2,FALSE),\" \",VLOOKUP(T85,zawodnicy!$A:$E,3,FALSE),\" - \",VLOOKUP(T85,zawodnicy!$A:$E,4,FALSE)),\"\")","v":""},null,{"$f":"IF(ISBLANK(W84),\"\",IF((VLOOKUP(W84,'plan gier'!$Z:$AH,7,FALSE))=\"\",L84,VLOOKUP(W84,'plan gier'!$Z:$AH,9,FALSE)))","v":""}]
[{"$f":"AC86","v":0},{"$f":"F82","v":""},null,{"$f":"F90","v":""},null,{"$f":"IF(A86=0,IF(AND(LEN(B86)>0,LEN(D86)=0),B86,IF(AND(LEN(D86)>0,LEN(B86)=0),D86,\"\")),IF((VLOOKUP(A86,'plan gier'!$Z:$AH,7,FALSE))=\"\",\"\",VLOOKUP(VLOOKUP(A86,'plan gier'!$Z:$AH,7,FALSE),zawodnicy!$A:$E,1,FALSE)))","v":""},null,{"$f":"IF(A86=0,\"\",IF((VLOOKUP(A86,'plan gier'!$Z:$AH,7,FALSE))=\"\",\"\",VLOOKUP(A86,'plan gier'!$Z:$AH,9,FALSE)))","v":""},null,null,null,{"$f":"IF(A86=0,\"\",IF(VLOOKUP(A86,'plan gier'!A:T,20,FALSE)=\"\",\"\",VLOOKUP(A86,'plan gier'!A:T,20,FALSE)))","v":""},{"$f":"N63","v":0},null,null,null,null,null,null,null,null,null,null,null,null,null,null,null,null,{"$f":"IF(ISBLANK(AC86),IF(AND(LEN(AA82)>0,LEN(AA90)=0),AA82,IF(AND(LEN(AA90)>0,LEN(AA82)=0),AA90,\"\")),IF((VLOOKUP(AC86,'plan gier'!$Z:$AH,7,FALSE))=\"\",\"\",VLOOKUP(VLOOKUP(AC86,'plan gier'!$Z:$AH,7,FALSE),zawodnicy!$A:$E,3,FALSE)))","v":""}]
[null,null,null,null,null,null,null,null,null,null,null,null,null,null,null,null,null,null,null,null,null,null,null,null,null,null,null,null,null,{"$f":"IF(ISBLANK(AC86),\"\",IF((VLOOKUP(AC86,'plan gier'!$Z:$AH,7,FALSE))=\"\",L86,VLOOKUP(AC86,'plan gier'!$Z:$AH,9,FALSE)))","v":""}]
[{"$f":"W88","v":0},{"$f":"IF(TYPE(T88)=16,\"\",T88)","v":""},null,{"$f":"IF(TYPE(T89)=16,\"\",T89)","v":""},null,{"$f":"IF(A88=0,IF(AND(LEN(B88)>0,LEN(D88)=0),VLOOKUP(B88,zawodnicy!$A:$E,1,FALSE),IF(AND(LEN(D88)>0,LEN(B88)=0),VLOOKUP(D88,zawodnicy!$A:$E,1,FALSE),\"\")),IF((VLOOKUP(A88,'plan gier'!$Z:$AH,7,FALSE))=\"\",\"\",VLOOKUP(VLOOKUP(A88,'plan gier'!$Z:$AH,7,FALSE),zawodnicy!$A:$E,1,FALSE)))","v":""},null,{"$f":"IF(A88=0,\"\",IF((VLOOKUP(A88,'plan gier'!$Z:$AH,7,FALSE))=\"\",\"\",VLOOKUP(A88,'plan gier'!$Z:$AH,9,FALSE)))","v":""},null,null,null,{"$f":"IF(A88=0,\"\",IF(VLOOKUP(A88,'plan gier'!A:T,20,FALSE)=\"\",\"\",VLOOKUP(A88,'plan gier'!A:T,20,FALSE)))","v":""},{"$f":"N63","v":0},null,{"$f":"IF(P88=\"\",\"\",MAX(O64:O87)+1)","v":13},{"$f":"IF(O62>10,26,\"\")","v":26},{"$f":"O88","v":13},null,null,{"$f":"UPPER(IF(O88=\"\",\"\",IF(ISTEXT(N88),N88,IF(AND(N62>0,O88>0),VLOOKUP(N62&O88&N63,I:J,2,FALSE),\"\"))))","v":""},null,{"$f":"IF(T88<>\"\",CONCATENATE(VLOOKUP(T88,zawodnicy!$A:$E,2,FALSE),\" \",VLOOKUP(T88,zawodnicy!$A:$E,3,FALSE),\" - \",VLOOKUP(T88,zawodnicy!$A:$E,4,FALSE)),\"\")","v":""},null,{"$f":"IF(ISBLANK(W88),IF(AND(LEN(T88)>0,LEN(T89)=0),VLOOKUP(T88,zawodnicy!$A:$E,3,FALSE),IF(AND(LEN(T89)>0,LEN(T88)=0),VLOOKUP(T89,zawodnicy!$A:$E,3,FALSE),\"\")),IF((VLOOKUP(W88,'plan gier'!$Z:$AH,7,FALSE))=\"\",\"\",VLOOKUP(VLOOKUP(W88,'plan gier'!$Z:$AH,7,FALSE),zawodnicy!$A:$E,3,FALSE)))","v":""}]
[null,null,null,null,null,null,null,null,null,null,null,null,null,null,{"$f":"IF(P89=\"\",\"\",MAX(O64:O88)+1)","v":14},{"$f":"IF(O62>8,28,\"\")","v":28},{"$f":"O89","v":14},null,null,{"$f":"UPPER(IF(O89=\"\",\"\",IF(ISTEXT(N89),N89,IF(AND(N62>0,O89>0),VLOOKUP(N62&O89&N63,I:J,2,FALSE),\"\"))))","v":""},null,{"$f":"IF(T89<>\"\",CONCATENATE(VLOOKUP(T89,zawodnicy!$A:$E,2,FALSE),\" \",VLOOKUP(T89,zawodnicy!$A:$E,3,FALSE),\" - \",VLOOKUP(T89,zawodnicy!$A:$E,4,FALSE)),\"\")","v":""},null,{"$f":"IF(ISBLANK(W88),\"\",IF((VLOOKUP(W88,'plan gier'!$Z:$AH,7,FALSE))=\"\",L88,VLOOKUP(W88,'plan gier'!$Z:$AH,9,FALSE)))","v":""}]
[{"$f":"Z90","v":0},{"$f":"F88","v":""},null,{"$f":"F92","v":""},null,{"$f":"IF(A90=0,IF(AND(LEN(B90)>0,LEN(D90)=0),B90,IF(AND(LEN(D90)>0,LEN(B90)=0),D90,\"\")),IF((VLOOKUP(A90,'plan gier'!$Z:$AH,7,FALSE))=\"\",\"\",VLOOKUP(VLOOKUP(A90,'plan gier'!$Z:$AH,7,FALSE),zawodnicy!$A:$E,1,FALSE)))","v":""},null,{"$f":"IF(A90=0,\"\",IF((VLOOKUP(A90,'plan gier'!$Z:$AH,7,FALSE))=\"\",\"\",VLOOKUP(A90,'plan gier'!$Z:$AH,9,FALSE)))","v":""},null,null,null,{"$f":"IF(A90=0,\"\",IF(VLOOKUP(A90,'plan gier'!A:T,20,FALSE)=\"\",\"\",VLOOKUP(A90,'plan gier'!A:T,20,FALSE)))","v":""},{"$f":"N63","v":0},null,null,null,null,null,null,null,null,null,null,null,null,null,{"$f":"IF(ISBLANK(Z90),IF(AND(LEN(X88)>0,LEN(X92)=0),X88,IF(AND(LEN(X92)>0,LEN(X88)=0),X92,\"\")),IF((VLOOKUP(Z90,'plan gier'!$Z:$AH,7,FALSE))=\"\",\"\",VLOOKUP(VLOOKUP(Z90,'plan gier'!$Z:$AH,7,FALSE),zawodnicy!$A:$E,3,FALSE)))","v":""}]
[null,null,null,null,null,null,null,null,null,null,null,null,null,null,null,null,null,null,null,null,null,null,null,null,null,null,{"$f":"IF(ISBLANK(Z90),\"\",IF((VLOOKUP(Z90,'plan gier'!$Z:$AH,7,FALSE))=\"\",L90,VLOOKUP(Z90,'plan gier'!$Z:$AH,9,FALSE)))","v":""}]
[{"$f":"W92","v":0},{"$f":"IF(TYPE(T92)=16,\"\",T92)","v":""},null,{"$f":"IF(TYPE(T93)=16,\"\",T93)","v":""},null,{"$f":"IF(A92=0,IF(AND(LEN(B92)>0,LEN(D92)=0),VLOOKUP(B92,zawodnicy!$A:$E,1,FALSE),IF(AND(LEN(D92)>0,LEN(B92)=0),VLOOKUP(D92,zawodnicy!$A:$E,1,FALSE),\"\")),IF((VLOOKUP(A92,'plan gier'!$Z:$AH,7,FALSE))=\"\",\"\",VLOOKUP(VLOOKUP(A92,'plan gier'!$Z:$AH,7,FALSE),zawodnicy!$A:$E,1,FALSE)))","v":""},null,{"$f":"IF(A92=0,\"\",IF((VLOOKUP(A92,'plan gier'!$Z:$AH,7,FALSE))=\"\",\"\",VLOOKUP(A92,'plan gier'!$Z:$AH,9,FALSE)))","v":""},null,null,null,{"$f":"IF(A92=0,\"\",IF(VLOOKUP(A92,'plan gier'!A:T,20,FALSE)=\"\",\"\",VLOOKUP(A92,'plan gier'!A:T,20,FALSE)))","v":""},{"$f":"N63","v":0},null,{"$f":"IF(P92=\"\",\"\",MAX(O64:O91)+1)","v":15},{"$f":"IF(O62>14,30,\"\")","v":30},{"$f":"O92","v":15},null,null,{"$f":"UPPER(IF(O92=\"\",\"\",IF(ISTEXT(N92),N92,IF(AND(N62>0,O92>0),VLOOKUP(N62&O92&N63,I:J,2,FALSE),\"\"))))","v":""},null,{"$f":"IF(T92<>\"\",CONCATENATE(VLOOKUP(T92,zawodnicy!$A:$E,2,FALSE),\" \",VLOOKUP(T92,zawodnicy!$A:$E,3,FALSE),\" - \",VLOOKUP(T92,zawodnicy!$A:$E,4,FALSE)),\"\")","v":""},null,{"$f":"IF(ISBLANK(W92),IF(AND(LEN(T92)>0,LEN(T93)=0),VLOOKUP(T92,zawodnicy!$A:$E,3,FALSE),IF(AND(LEN(T93)>0,LEN(T92)=0),VLOOKUP(T93,zawodnicy!$A:$E,3,FALSE),\"\")),IF((VLOOKUP(W92,'plan gier'!$Z:$AH,7,FALSE))=\"\",\"\",VLOOKUP(VLOOKUP(W92,'plan gier'!$Z:$AH,7,FALSE),zawodnicy!$A:$E,3,FALSE)))","v":""}]
[null,null,null,null,null,null,null,null,null,null,null,null,null,null,{"$f":"IF(P93=\"\",\"\",MAX(O64:O92)+1)","v":16},{"$f":"IF(O62>8,32,\"\")","v":32},{"$f":"O93","v":16},null,null,{"$f":"UPPER(IF(O93=\"\",\"\",IF(ISTEXT(N93),N93,IF(AND(N62>0,O93>0),VLOOKUP(N62&O93&N63,I:J,2,FALSE),\"\"))))","v":""},null,{"$f":"IF(T93<>\"\",CONCATENATE(VLOOKUP(T93,zawodnicy!$A:$E,2,FALSE),\" \",VLOOKUP(T93,zawodnicy!$A:$E,3,FALSE),\" - \",VLOOKUP(T93,zawodnicy!$A:$E,4,FALSE)),\"\")","v":""},null,{"$f":"IF(ISBLANK(W92),\"\",IF((VLOOKUP(W92,'plan gier'!$Z:$AH,7,FALSE))=\"\",L92,VLOOKUP(W92,'plan gier'!$Z:$AH,9,FALSE)))","v":""}]
[]
[]
[null,null,null,null,null,null,null,null,null,null,null,null,null,null,8]
[]
[{"$f":"W98","v":0},{"$f":"IF(TYPE(T98)=16,\"\",T98)","v":""},null,{"$f":"IF(TYPE(T99)=16,\"\",T99)","v":""},null,{"$f":"IF(A98=0,IF(AND(LEN(B98)>0,LEN(D98)=0),VLOOKUP(B98,zawodnicy!$A:$E,1,FALSE),IF(AND(LEN(D98)>0,LEN(B98)=0),VLOOKUP(D98,zawodnicy!$A:$E,1,FALSE),\"\")),IF((VLOOKUP(A98,'plan gier'!$Z:$AH,7,FALSE))=\"\",\"\",VLOOKUP(VLOOKUP(A98,'plan gier'!$Z:$AH,7,FALSE),zawodnicy!$A:$E,1,FALSE)))","v":""},null,{"$f":"IF(A98=0,\"\",IF((VLOOKUP(A98,'plan gier'!$Z:$AH,7,FALSE))=\"\",\"\",VLOOKUP(A98,'plan gier'!$Z:$AH,9,FALSE)))","v":""},null,null,null,{"$f":"IF(A98=0,\"\",IF(VLOOKUP(A98,'plan gier'!A:T,20,FALSE)=\"\",\"\",VLOOKUP(A98,'plan gier'!A:T,20,FALSE)))","v":""},{"$f":"N97","v":0},null,{"$f":"IF(P98=\"\",\"\",1)","v":1},{"$f":"IF(O96>4,1,\"\")","v":1},{"$f":"O98","v":1},null,null,{"$f":"UPPER(IF(O98=\"\",\"\",IF(ISTEXT(N98),N98,IF(AND(N96>0,O98>0),VLOOKUP(N96&O98&N97,I:J,2,FALSE),\"\"))))","v":""},null,{"$f":"IF(T98<>\"\",CONCATENATE(VLOOKUP(T98,zawodnicy!$A:$E,2,FALSE),\" \",VLOOKUP(T98,zawodnicy!$A:$E,3,FALSE),\" - \",VLOOKUP(T98,zawodnicy!$A:$E,4,FALSE)),\"\")","v":""},null,{"$f":"IF(ISBLANK(W98),IF(AND(LEN(T98)>0,LEN(T99)=0),VLOOKUP(T98,zawodnicy!$A:$E,3,FALSE),IF(AND(LEN(T99)>0,LEN(T98)=0),VLOOKUP(T99,zawodnicy!$A:$E,3,FALSE),\"\")),IF((VLOOKUP(W98,'plan gier'!$Z:$AH,7,FALSE))=\"\",\"\",VLOOKUP(VLOOKUP(W98,'plan gier'!$Z:$AH,7,FALSE),zawodnicy!$A:$E,3,FALSE)))","v":""}]
[null,null,null,null,null,null,null,null,null,null,null,null,null,null,{"$f":"IF(P99=\"\",\"\",2)","v":2},{"$f":"IF(O96>7,5,\"\")","v":5},{"$f":"O99","v":2},null,null,{"$f":"UPPER(IF(O99=\"\",\"\",IF(ISTEXT(N99),N99,IF(AND(N96>0,O99>0),VLOOKUP(N96&O99&N97,I:J,2,FALSE),\"\"))))","v":""},null,{"$f":"IF(T99<>\"\",CONCATENATE(VLOOKUP(T99,zawodnicy!$A:$E,2,FALSE),\" \",VLOOKUP(T99,zawodnicy!$A:$E,3,FALSE),\" - \",VLOOKUP(T99,zawodnicy!$A:$E,4,FALSE)),\"\")","v":""},null,{"$f":"IF(ISBLANK(W98),\"\",IF((VLOOKUP(W98,'plan gier'!$Z:$AH,7,FALSE))=\"\",L98,VLOOKUP(W98,'plan gier'!$Z:$AH,9,FALSE)))","v":""}]
[{"$f":"Z100","v":0},{"$f":"F98","v":""},null,{"$f":"F102","v":""},null,{"$f":"IF(A100=0,IF(AND(LEN(B100)>0,LEN(D100)=0),B100,IF(AND(LEN(D100)>0,LEN(B100)=0),D100,\"\")),IF((VLOOKUP(A100,'plan gier'!$Z:$AH,7,FALSE))=\"\",\"\",VLOOKUP(VLOOKUP(A100,'plan gier'!$Z:$AH,7,FALSE),zawodnicy!$A:$E,1,FALSE)))","v":""},null,{"$f":"IF(A100=0,\"\",IF((VLOOKUP(A100,'plan gier'!$Z:$AH,7,FALSE))=\"\",\"\",VLOOKUP(A100,'plan gier'!$Z:$AH,9,FALSE)))","v":""},null,null,null,{"$f":"IF(A100=0,\"\",IF(VLOOKUP(A100,'plan gier'!A:T,20,FALSE)=\"\",\"\",VLOOKUP(A100,'plan gier'!A:T,20,FALSE)))","v":""},{"$f":"N97","v":0},null,null,null,null,null,null,null,null,null,null,null,null,null,{"$f":"IF(ISBLANK(Z100),IF(AND(LEN(X98)>0,LEN(X102)=0),X98,IF(AND(LEN(X102)>0,LEN(X98)=0),X102,\"\")),IF((VLOOKUP(Z100,'plan gier'!$Z:$AH,7,FALSE))=\"\",\"\",VLOOKUP(VLOOKUP(Z100,'plan gier'!$Z:$AH,7,FALSE),zawodnicy!$A:$E,3,FALSE)))","v":""}]
[null,null,null,null,null,null,null,null,null,null,null,null,null,null,null,null,null,null,null,null,null,null,null,null,null,null,{"$f":"IF(ISBLANK(Z100),\"\",IF((VLOOKUP(Z100,'plan gier'!$Z:$AH,7,FALSE))=\"\",L100,VLOOKUP(Z100,'plan gier'!$Z:$AH,9,FALSE)))","v":""}]
[{"$f":"W102","v":0},{"$f":"IF(TYPE(T102)=16,\"\",T102)","v":""},null,{"$f":"IF(TYPE(T103)=16,\"\",T103)","v":""},null,{"$f":"IF(A102=0,IF(AND(LEN(B102)>0,LEN(D102)=0),VLOOKUP(B102,zawodnicy!$A:$E,1,FALSE),IF(AND(LEN(D102)>0,LEN(B102)=0),VLOOKUP(D102,zawodnicy!$A:$E,1,FALSE),\"\")),IF((VLOOKUP(A102,'plan gier'!$Z:$AH,7,FALSE))=\"\",\"\",VLOOKUP(VLOOKUP(A102,'plan gier'!$Z:$AH,7,FALSE),zawodnicy!$A:$E,1,FALSE)))","v":""},null,{"$f":"IF(A102=0,\"\",IF((VLOOKUP(A102,'plan gier'!$Z:$AH,7,FALSE))=\"\",\"\",VLOOKUP(A102,'plan gier'!$Z:$AH,9,FALSE)))","v":""},null,null,null,{"$f":"IF(A102=0,\"\",IF(VLOOKUP(A102,'plan gier'!A:T,20,FALSE)=\"\",\"\",VLOOKUP(A102,'plan gier'!A:T,20,FALSE)))","v":""},{"$f":"N97","v":0},null,{"$f":"IF(P102=\"\",\"\",MAX(O98:O101)+1)","v":3},{"$f":"IF(O96>4,9,\"\")","v":9},{"$f":"O102","v":3},null,null,{"$f":"UPPER(IF(O102=\"\",\"\",IF(ISTEXT(N102),N102,IF(AND(N96>0,O102>0),VLOOKUP(N96&O102&N97,I:J,2,FALSE),\"\"))))","v":""},null,{"$f":"IF(T102<>\"\",CONCATENATE(VLOOKUP(T102,zawodnicy!$A:$E,2,FALSE),\" \",VLOOKUP(T102,zawodnicy!$A:$E,3,FALSE),\" - \",VLOOKUP(T102,zawodnicy!$A:$E,4,FALSE)),\"\")","v":""},null,{"$f":"IF(ISBLANK(W102),IF(AND(LEN(T102)>0,LEN(T103)=0),VLOOKUP(T102,zawodnicy!$A:$E,3,FALSE),IF(AND(LEN(T103)>0,LEN(T102)=0),VLOOKUP(T103,zawodnicy!$A:$E,3,FALSE),\"\")),IF((VLOOKUP(W102,'plan gier'!$Z:$AH,7,FALSE))=\"\",\"\",VLOOKUP(VLOOKUP(W102,'plan gier'!$Z:$AH,7,FALSE),zawodnicy!$A:$E,3,FALSE)))","v":""}]
[null,null,null,null,null,null,null,null,null,null,null,null,null,null,{"$f":"IF(P103=\"\",\"\",MAX(O98:O102)+1)","v":4},{"$f":"IF(O96>5,13,\"\")","v":13},{"$f":"O103","v":4},null,null,{"$f":"UPPER(IF(O103=\"\",\"\",IF(ISTEXT(N103),N103,IF(AND(N96>0,O103>0),VLOOKUP(N96&O103&N97,I:J,2,FALSE),\"\"))))","v":""},null,{"$f":"IF(T103<>\"\",CONCATENATE(VLOOKUP(T103,zawodnicy!$A:$E,2,FALSE),\" \",VLOOKUP(T103,zawodnicy!$A:$E,3,FALSE),\" - \",VLOOKUP(T103,zawodnicy!$A:$E,4,FALSE)),\"\")","v":""},null,{"$f":"IF(ISBLANK(W102),\"\",IF((VLOOKUP(W102,'plan gier'!$Z:$AH,7,FALSE))=\"\",L102,VLOOKUP(W102,'plan gier'!$Z:$AH,9,FALSE)))","v":""}]
[{"$f":"AC104","v":0},{"$f":"F100","v":""},null,{"$f":"F108","v":""},null,{"$f":"IF(A104=0,IF(AND(LEN(B104)>0,LEN(D104)=0),B104,IF(AND(LEN(D104)>0,LEN(B104)=0),D104,\"\")),IF((VLOOKUP(A104,'plan gier'!$Z:$AH,7,FALSE))=\"\",\"\",VLOOKUP(VLOOKUP(A104,'plan gier'!$Z:$AH,7,FALSE),zawodnicy!$A:$E,1,FALSE)))","v":""},null,{"$f":"IF(A104=0,\"\",IF((VLOOKUP(A104,'plan gier'!$Z:$AH,7,FALSE))=\"\",\"\",VLOOKUP(A104,'plan gier'!$Z:$AH,9,FALSE)))","v":""},null,null,null,{"$f":"IF(A104=0,\"\",IF(VLOOKUP(A104,'plan gier'!A:T,20,FALSE)=\"\",\"\",VLOOKUP(A104,'plan gier'!A:T,20,FALSE)))","v":""},{"$f":"N97","v":0},null,null,null,null,null,null,null,null,null,null,null,null,null,null,null,null,{"$f":"IF(ISBLANK(AC104),IF(AND(LEN(AA100)>0,LEN(AA108)=0),AA100,IF(AND(LEN(AA108)>0,LEN(AA100)=0),AA108,\"\")),IF((VLOOKUP(AC104,'plan gier'!$Z:$AH,7,FALSE))=\"\",\"\",VLOOKUP(VLOOKUP(AC104,'plan gier'!$Z:$AH,7,FALSE),zawodnicy!$A:$E,3,FALSE)))","v":""}]
[null,null,null,null,null,null,null,null,null,null,null,null,null,null,null,null,null,null,null,null,null,null,null,null,null,null,null,null,null,{"$f":"IF(ISBLANK(AC104),\"\",IF((VLOOKUP(AC104,'plan gier'!$Z:$AH,7,FALSE))=\"\",L104,VLOOKUP(AC104,'plan gier'!$Z:$AH,9,FALSE)))","v":""}]
[{"$f":"W106","v":0},{"$f":"IF(TYPE(T106)=16,\"\",T106)","v":""},null,{"$f":"IF(TYPE(T107)=16,\"\",T107)","v":""},null,{"$f":"IF(A106=0,IF(AND(LEN(B106)>0,LEN(D106)=0),VLOOKUP(B106,zawodnicy!$A:$E,1,FALSE),IF(AND(LEN(D106)>0,LEN(B106)=0),VLOOKUP(D106,zawodnicy!$A:$E,1,FALSE),\"\")),IF((VLOOKUP(A106,'plan gier'!$Z:$AH,7,FALSE))=\"\",\"\",VLOOKUP(VLOOKUP(A106,'plan gier'!$Z:$AH,7,FALSE),zawodnicy!$A:$E,1,FALSE)))","v":""},null,{"$f":"IF(A106=0,\"\",IF((VLOOKUP(A106,'plan gier'!$Z:$AH,7,FALSE))=\"\",\"\",VLOOKUP(A106,'plan gier'!$Z:$AH,9,FALSE)))","v":""},null,null,null,{"$f":"IF(A106=0,\"\",IF(VLOOKUP(A106,'plan gier'!A:T,20,FALSE)=\"\",\"\",VLOOKUP(A106,'plan gier'!A:T,20,FALSE)))","v":""},{"$f":"N97","v":0},null,{"$f":"IF(P106=\"\",\"\",MAX(O98:O105)+1)","v":5},{"$f":"IF(O96>4,20,\"\")","v":20},{"$f":"O106","v":5},null,null,{"$f":"UPPER(IF(O106=\"\",\"\",IF(ISTEXT(N106),N106,IF(AND(N96>0,O106>0),VLOOKUP(N96&O106&N97,I:J,2,FALSE),\"\"))))","v":""},null,{"$f":"IF(T106<>\"\",CONCATENATE(VLOOKUP(T106,zawodnicy!$A:$E,2,FALSE),\" \",VLOOKUP(T106,zawodnicy!$A:$E,3,FALSE),\" - \",VLOOKUP(T106,zawodnicy!$A:$E,4,FALSE)),\"\")","v":""},null,{"$f":"IF(ISBLANK(W106),IF(AND(LEN(T106)>0,LEN(T107)=0),VLOOKUP(T106,zawodnicy!$A:$E,3,FALSE),IF(AND(LEN(T107)>0,LEN(T106)=0),VLOOKUP(T107,zawodnicy!$A:$E,3,FALSE),\"\")),IF((VLOOKUP(W106,'plan gier'!$Z:$AH,7,FALSE))=\"\",\"\",VLOOKUP(VLOOKUP(W106,'plan gier'!$Z:$AH,7,FALSE),zawodnicy!$A:$E,3,FALSE)))","v":""}]
[null,null,null,null,null,null,null,null,null,null,null,null,null,null,{"$f":"IF(P107=\"\",\"\",MAX(O98:O106)+1)","v":6},{"$f":"IF(O96>4,24,\"\")","v":24},{"$f":"O107","v":6},null,null,{"$f":"UPPER(IF(O107=\"\",\"\",IF(ISTEXT(N107),N107,IF(AND(N96>0,O107>0),VLOOKUP(N96&O107&N97,I:J,2,FALSE),\"\"))))","v":""},null,{"$f":"IF(T107<>\"\",CONCATENATE(VLOOKUP(T107,zawodnicy!$A:$E,2,FALSE),\" \",VLOOKUP(T107,zawodnicy!$A:$E,3,FALSE),\" - \",VLOOKUP(T107,zawodnicy!$A:$E,4,FALSE)),\"\")","v":""},null,{"$f":"IF(ISBLANK(W106),\"\",IF((VLOOKUP(W106,'plan gier'!$Z:$AH,7,FALSE))=\"\",L106,VLOOKUP(W106,'plan gier'!$Z:$AH,9,FALSE)))","v":""}]
[{"$f":"Z108","v":0},{"$f":"F106","v":""},null,{"$f":"F110","v":""},null,{"$f":"IF(A108=0,IF(AND(LEN(B108)>0,LEN(D108)=0),B108,IF(AND(LEN(D108)>0,LEN(B108)=0),D108,\"\")),IF((VLOOKUP(A108,'plan gier'!$Z:$AH,7,FALSE))=\"\",\"\",VLOOKUP(VLOOKUP(A108,'plan gier'!$Z:$AH,7,FALSE),zawodnicy!$A:$E,1,FALSE)))","v":""},null,{"$f":"IF(A108=0,\"\",IF((VLOOKUP(A108,'plan gier'!$Z:$AH,7,FALSE))=\"\",\"\",VLOOKUP(A108,'plan gier'!$Z:$AH,9,FALSE)))","v":""},null,null,null,{"$f":"IF(A108=0,\"\",IF(VLOOKUP(A108,'plan gier'!A:T,20,FALSE)=\"\",\"\",VLOOKUP(A108,'plan gier'!A:T,20,FALSE)))","v":""},{"$f":"N97","v":0},null,null,null,null,null,null,null,null,null,null,null,null,null,{"$f":"IF(ISBLANK(Z108),IF(AND(LEN(X106)>0,LEN(X110)=0),X106,IF(AND(LEN(X110)>0,LEN(X106)=0),X110,\"\")),IF((VLOOKUP(Z108,'plan gier'!$Z:$AH,7,FALSE))=\"\",\"\",VLOOKUP(VLOOKUP(Z108,'plan gier'!$Z:$AH,7,FALSE),zawodnicy!$A:$E,3,FALSE)))","v":""}]
[null,null,null,null,null,null,null,null,null,null,null,null,null,null,null,null,null,null,null,null,null,null,null,null,null,null,{"$f":"IF(ISBLANK(Z108),\"\",IF((VLOOKUP(Z108,'plan gier'!$Z:$AH,7,FALSE))=\"\",L108,VLOOKUP(Z108,'plan gier'!$Z:$AH,9,FALSE)))","v":""}]
[{"$f":"W110","v":0},{"$f":"IF(TYPE(T110)=16,\"\",T110)","v":""},null,{"$f":"IF(TYPE(T111)=16,\"\",T111)","v":""},null,{"$f":"IF(A110=0,IF(AND(LEN(B110)>0,LEN(D110)=0),VLOOKUP(B110,zawodnicy!$A:$E,1,FALSE),IF(AND(LEN(D110)>0,LEN(B110)=0),VLOOKUP(D110,zawodnicy!$A:$E,1,FALSE),\"\")),IF((VLOOKUP(A110,'plan gier'!$Z:$AH,7,FALSE))=\"\",\"\",VLOOKUP(VLOOKUP(A110,'plan gier'!$Z:$AH,7,FALSE),zawodnicy!$A:$E,1,FALSE)))","v":""},null,{"$f":"IF(A110=0,\"\",IF((VLOOKUP(A110,'plan gier'!$Z:$AH,7,FALSE))=\"\",\"\",VLOOKUP(A110,'plan gier'!$Z:$AH,9,FALSE)))","v":""},null,null,null,{"$f":"IF(A110=0,\"\",IF(VLOOKUP(A110,'plan gier'!A:T,20,FALSE)=\"\",\"\",VLOOKUP(A110,'plan gier'!A:T,20,FALSE)))","v":""},{"$f":"N97","v":0},null,{"$f":"IF(P110=\"\",\"\",MAX(O98:O109)+1)","v":7},{"$f":"IF(O96>6,28,\"\")","v":28},{"$f":"O110","v":7},null,null,{"$f":"UPPER(IF(O110=\"\",\"\",IF(ISTEXT(N110),N110,IF(AND(N96>0,O110>0),VLOOKUP(N96&O110&N97,I:J,2,FALSE),\"\"))))","v":""},null,{"$f":"IF(T110<>\"\",CONCATENATE(VLOOKUP(T110,zawodnicy!$A:$E,2,FALSE),\" \",VLOOKUP(T110,zawodnicy!$A:$E,3,FALSE),\" - \",VLOOKUP(T110,zawodnicy!$A:$E,4,FALSE)),\"\")","v":""},null,{"$f":"IF(ISBLANK(W110),IF(AND(LEN(T110)>0,LEN(T111)=0),VLOOKUP(T110,zawodnicy!$A:$E,3,FALSE),IF(AND(LEN(T111)>0,LEN(T110)=0),VLOOKUP(T111,zawodnicy!$A:$E,3,FALSE),\"\")),IF((VLOOKUP(W110,'plan gier'!$Z:$AH,7,FALSE))=\"\",\"\",VLOOKUP(VLOOKUP(W110,'plan gier'!$Z:$AH,7,FALSE),zawodnicy!$A:$E,3,FALSE)))","v":""}]
[null,null,null,null,null,null,null,null,null,null,null,null,null,null,{"$f":"IF(P111=\"\",\"\",MAX(O98:O110)+1)","v":8},{"$f":"IF(O96>4,32,\"\")","v":32},{"$f":"O111","v":8},null,null,{"$f":"UPPER(IF(O111=\"\",\"\",IF(ISTEXT(N111),N111,IF(AND(N96>0,O111>0),VLOOKUP(N96&O111&N97,I:J,2,FALSE),\"\"))))","v":""},null,{"$f":"IF(T111<>\"\",CONCATENATE(VLOOKUP(T111,zawodnicy!$A:$E,2,FALSE),\" \",VLOOKUP(T111,zawodnicy!$A:$E,3,FALSE),\" - \",VLOOKUP(T111,zawodnicy!$A:$E,4,FALSE)),\"\")","v":""},null,{"$f":"IF(ISBLANK(W110),\"\",IF((VLOOKUP(W110,'plan gier'!$Z:$AH,7,FALSE))=\"\",L110,VLOOKUP(W110,'plan gier'!$Z:$AH,9,FALSE)))","v":""}]
[]
[]
[null,null,null,null,null,null,null,null,null,null,null,null,null,null,4]
[]
[{"$f":"W116","v":0},{"$f":"IF(TYPE(T116)=16,\"\",T116)","v":""},null,{"$f":"IF(TYPE(T117)=16,\"\",T117)","v":""},null,{"$f":"IF(A116=0,IF(AND(LEN(B116)>0,LEN(D116)=0),VLOOKUP(B116,zawodnicy!$A:$E,1,FALSE),IF(AND(LEN(D116)>0,LEN(B116)=0),VLOOKUP(D116,zawodnicy!$A:$E,1,FALSE),\"\")),IF((VLOOKUP(A116,'plan gier'!$Z:$AH,7,FALSE))=\"\",\"\",VLOOKUP(VLOOKUP(A116,'plan gier'!$Z:$AH,7,FALSE),zawodnicy!$A:$E,1,FALSE)))","v":""},null,{"$f":"IF(A116=0,\"\",IF((VLOOKUP(A116,'plan gier'!$Z:$AH,7,FALSE))=\"\",\"\",VLOOKUP(A116,'plan gier'!$Z:$AH,9,FALSE)))","v":""},null,null,null,{"$f":"IF(A116=0,\"\",IF(VLOOKUP(A116,'plan gier'!A:T,20,FALSE)=\"\",\"\",VLOOKUP(A116,'plan gier'!A:T,20,FALSE)))","v":""},{"$f":"N115","v":0},null,{"$f":"IF(P116=\"\",\"\",1)","v":1},{"$f":"IF(O114>2,1,\"\")","v":1},{"$f":"O116","v":1},null,null,{"$f":"UPPER(IF(O116=\"\",\"\",IF(ISTEXT(N116),N116,IF(AND(N114>0,O116>0),VLOOKUP(N114&O116&N115,I:J,2,FALSE),\"\"))))","v":""},null,{"$f":"IF(T116<>\"\",CONCATENATE(VLOOKUP(T116,zawodnicy!$A:$E,2,FALSE),\" \",VLOOKUP(T116,zawodnicy!$A:$E,3,FALSE),\" - \",VLOOKUP(T116,zawodnicy!$A:$E,4,FALSE)),\"\")","v":""},null,{"$f":"IF(F116=\"\",\"\",VLOOKUP(F116,zawodnicy!$A:$D,3,FALSE))","v":""}]
[null,null,null,null,null,null,null,null,null,null,null,null,null,null,{"$f":"IF(P117=\"\",\"\",2)","v":2},{"$f":"IF(O114>3,9,\"\")","v":9},{"$f":"O117","v":2},null,null,{"$f":"UPPER(IF(O117=\"\",\"\",IF(ISTEXT(N117),N117,IF(AND(N114>0,O117>0),VLOOKUP(N114&O117&N115,I:J,2,FALSE),\"\"))))","v":""},null,{"$f":"IF(T117<>\"\",CONCATENATE(VLOOKUP(T117,zawodnicy!$A:$E,2,FALSE),\" \",VLOOKUP(T117,zawodnicy!$A:$E,3,FALSE),\" - \",VLOOKUP(T117,zawodnicy!$A:$E,4,FALSE)),\"\")","v":""},null,{"$f":"IF(H116=\"\",L116,H116)","v":""}]
[{"$f":"Z118","v":0},{"$f":"F116","v":""},null,{"$f":"F120","v":""},null,{"$f":"IF(A118=0,IF(AND(LEN(B118)>0,LEN(D118)=0),B118,IF(AND(LEN(D118)>0,LEN(B118)=0),D118,\"\")),IF((VLOOKUP(A118,'plan gier'!$Z:$AH,7,FALSE))=\"\",\"\",VLOOKUP(VLOOKUP(A118,'plan gier'!$Z:$AH,7,FALSE),zawodnicy!$A:$E,1,FALSE)))","v":""},null,{"$f":"IF(A118=0,\"\",IF((VLOOKUP(A118,'plan gier'!$Z:$AH,7,FALSE))=\"\",\"\",VLOOKUP(A118,'plan gier'!$Z:$AH,9,FALSE)))","v":""},null,null,null,{"$f":"IF(A118=0,\"\",IF(VLOOKUP(A118,'plan gier'!A:T,20,FALSE)=\"\",\"\",VLOOKUP(A118,'plan gier'!A:T,20,FALSE)))","v":""},{"$f":"N115","v":0},null,null,null,null,null,null,null,null,null,null,null,null,null,{"$f":"IF(ISBLANK(Z118),IF(AND(LEN(X116)>0,LEN(X120)=0),X116,IF(AND(LEN(X120)>0,LEN(X116)=0),X120,\"\")),IF((VLOOKUP(Z118,'plan gier'!$Z:$AH,7,FALSE))=\"\",\"\",VLOOKUP(VLOOKUP(Z118,'plan gier'!$Z:$AH,7,FALSE),zawodnicy!$A:$E,3,FALSE)))","v":""}]
[null,null,null,null,null,null,null,null,null,null,null,null,null,null,null,null,null,null,null,null,null,null,null,null,null,null,{"$f":"IF(ISBLANK(Z118),\"\",IF((VLOOKUP(Z118,'plan gier'!$Z:$AH,7,FALSE))=\"\",L118,VLOOKUP(Z118,'plan gier'!$Z:$AH,9,FALSE)))","v":""}]
[{"$f":"W120","v":0},{"$f":"IF(TYPE(T120)=16,\"\",T120)","v":""},null,{"$f":"IF(TYPE(T121)=16,\"\",T121)","v":""},null,{"$f":"IF(A120=0,IF(AND(LEN(B120)>0,LEN(D120)=0),VLOOKUP(B120,zawodnicy!$A:$E,1,FALSE),IF(AND(LEN(D120)>0,LEN(B120)=0),VLOOKUP(D120,zawodnicy!$A:$E,1,FALSE),\"\")),IF((VLOOKUP(A120,'plan gier'!$Z:$AH,7,FALSE))=\"\",\"\",VLOOKUP(VLOOKUP(A120,'plan gier'!$Z:$AH,7,FALSE),zawodnicy!$A:$E,1,FALSE)))","v":""},null,{"$f":"IF(A120=0,\"\",IF((VLOOKUP(A120,'plan gier'!$Z:$AH,7,FALSE))=\"\",\"\",VLOOKUP(A120,'plan gier'!$Z:$AH,9,FALSE)))","v":""},null,null,null,{"$f":"IF(A120=0,\"\",IF(VLOOKUP(A120,'plan gier'!A:T,20,FALSE)=\"\",\"\",VLOOKUP(A120,'plan gier'!A:T,20,FALSE)))","v":""},{"$f":"N115","v":0},null,{"$f":"IF(P120=\"\",\"\",MAX(O116:O119)+1)","v":3},{"$f":"IF(O114>2,24,\"\")","v":24},{"$f":"O120","v":3},null,null,{"$f":"UPPER(IF(O120=\"\",\"\",IF(ISTEXT(N120),N120,IF(AND(N114>0,O120>0),VLOOKUP(N114&O120&N115,I:J,2,FALSE),\"\"))))","v":""},null,{"$f":"IF(T120<>\"\",CONCATENATE(VLOOKUP(T120,zawodnicy!$A:$E,2,FALSE),\" \",VLOOKUP(T120,zawodnicy!$A:$E,3,FALSE),\" - \",VLOOKUP(T120,zawodnicy!$A:$E,4,FALSE)),\"\")","v":""},null,{"$f":"IF(F120=\"\",\"\",VLOOKUP(F120,zawodnicy!$A:$D,3,FALSE))","v":""}]
[null,null,null,null,null,null,null,null,null,null,null,null,null,null,{"$f":"IF(P121=\"\",\"\",MAX(O116:O120)+1)","v":4},{"$f":"IF(O114>2,32,\"\")","v":32},{"$f":"O121","v":4},null,null,{"$f":"UPPER(IF(O121=\"\",\"\",IF(ISTEXT(N121),N121,IF(AND(N114>0,O121>0),VLOOKUP(N114&O121&N115,I:J,2,FALSE),\"\"))))","v":""},null,{"$f":"IF(T121<>\"\",CONCATENATE(VLOOKUP(T121,zawodnicy!$A:$E,2,FALSE),\" \",VLOOKUP(T121,zawodnicy!$A:$E,3,FALSE),\" - \",VLOOKUP(T121,zawodnicy!$A:$E,4,FALSE)),\"\")","v":""},null,{"$f":"IF(H120=\"\",L120,H120)","v":""}]
[]
[]
[]
[]
[{"$f":"W126","v":0},{"$f":"IF(T126=\"\",\"\",T126)","v":""},null,{"$f":"IF(T127=\"\",\"\",T127)","v":""},null,{"$f":"IF(A126=0,IF(AND(LEN(B126)>0,LEN(D126)=0),VLOOKUP(B126,zawodnicy!$A:$E,1,FALSE),IF(AND(LEN(D126)>0,LEN(B126)=0),VLOOKUP(D126,zawodnicy!$A:$E,1,FALSE),\"\")),IF((VLOOKUP(A126,'plan gier'!$Z:$AH,7,FALSE))=\"\",\"\",VLOOKUP(VLOOKUP(A126,'plan gier'!$Z:$AH,7,FALSE),zawodnicy!$A:$E,1,FALSE)))","v":""},null,{"$f":"IF(A126=0,\"\",IF((VLOOKUP(A126,'plan gier'!$Z:$AH,7,FALSE))=\"\",\"\",VLOOKUP(A126,'plan gier'!$Z:$AH,9,FALSE)))","v":""},null,null,null,{"$f":"IF(A126=0,\"\",IF(VLOOKUP(A126,'plan gier'!A:T,20,FALSE)=\"\",\"\",VLOOKUP(A126,'plan gier'!A:T,20,FALSE)))","v":""},{"$f":"N125","v":0},null,1,null,{"$f":"O126","v":1},null,null,{"$f":"UPPER(IF(O126=\"\",\"\",IF(ISTEXT(N126),N126,IF(AND(N124>0,O126>0),VLOOKUP(N124&O126&N125,I:J,2,FALSE),\"\"))))","v":""},null,{"$f":"IF(T126<>\"\",CONCATENATE(VLOOKUP(T126,zawodnicy!$A:$E,2,FALSE),\" \",VLOOKUP(T126,zawodnicy!$A:$E,3,FALSE),\" - \",VLOOKUP(T126,zawodnicy!$A:$E,4,FALSE)),\"\")","v":""},null,{"$f":"IF(F126=\"\",\"\",VLOOKUP(F126,zawodnicy!$A:$D,3,FALSE))","v":""}]
[null,null,null,null,null,null,null,null,null,null,null,null,null,null,2,null,{"$f":"O127","v":2},null,null,{"$f":"UPPER(IF(O127=\"\",\"\",IF(ISTEXT(N127),N127,IF(AND(N124>0,O127>0),VLOOKUP(N124&O127&N125,I:J,2,FALSE),\"\"))))","v":""},null,{"$f":"IF(T127<>\"\",CONCATENATE(VLOOKUP(T127,zawodnicy!$A:$E,2,FALSE),\" \",VLOOKUP(T127,zawodnicy!$A:$E,3,FALSE),\" - \",VLOOKUP(T127,zawodnicy!$A:$E,4,FALSE)),\"\")","v":""},null,{"$f":"IF(H126=\"\",L126,H126)","v":""}]
[]
[]
[null,null,null,null,null,null,null,null,null,null,null,null,null,{"$f":"M132","v":""},null,null,null,null,null,"4.",null,null,null,"3."]
[null,null,null,null,null,null,null,null,null,null,null,null,null,"o 3 miejsce"]
[{"$f":"W132","v":0},{"$f":"IF(T132=\"\",\"\",T132)","v":""},null,{"$f":"IF(T133=\"\",\"\",T133)","v":""},null,{"$f":"IF(A132=0,IF(AND(LEN(B132)>0,LEN(D132)=0),VLOOKUP(B132,zawodnicy!$A:$E,1,FALSE),IF(AND(LEN(D132)>0,LEN(B132)=0),VLOOKUP(D132,zawodnicy!$A:$E,1,FALSE),\"\")),IF((VLOOKUP(A132,'plan gier'!$Z:$AH,7,FALSE))=\"\",\"\",VLOOKUP(VLOOKUP(A132,'plan gier'!$Z:$AH,7,FALSE),zawodnicy!$A:$E,1,FALSE)))","v":""},null,{"$f":"IF(A132=0,\"\",IF((VLOOKUP(A132,'plan gier'!$Z:$AH,7,FALSE))=\"\",\"\",VLOOKUP(A132,'plan gier'!$Z:$AH,9,FALSE)))","v":""},null,null,null,{"$f":"IF(A132=0,\"\",IF(VLOOKUP(A132,'plan gier'!A:T,20,FALSE)=\"\",\"\",VLOOKUP(A132,'plan gier'!A:T,20,FALSE)))","v":""},{"$f":"IF(N132=\"\",\"\",VLOOKUP(N132,A:M,13,FALSE))","v":""},null,null,null,null,null,null,{"$f":"IF(N132=\"\",\"\",IF(LEN(VLOOKUP(N132,A:M,6,FALSE))=0,\"\",IF(VLOOKUP(N132,A:M,6,FALSE)=VLOOKUP(N132,A:M,2,FALSE),VLOOKUP(N132,A:M,4,FALSE),VLOOKUP(N132,A:M,2,FALSE))))","v":""},null,{"$f":"IF(T132<>\"\",CONCATENATE(VLOOKUP(T132,zawodnicy!$A:$E,2,FALSE),\" \",VLOOKUP(T132,zawodnicy!$A:$E,3,FALSE),\" - \",VLOOKUP(T132,zawodnicy!$A:$E,4,FALSE)),\"\")","v":""},null,{"$f":"IF(F132=\"\",\"\",VLOOKUP(F132,zawodnicy!$A:$D,3,FALSE))","v":""}]
[null,null,null,null,null,null,null,null,null,null,null,null,null,null,null,null,null,null,null,{"$f":"IF(N133=\"\",\"\",IF(LEN(VLOOKUP(N133,A:M,6,FALSE))=0,\"\",IF(VLOOKUP(N133,A:M,6,FALSE)=VLOOKUP(N133,A:M,2,FALSE),VLOOKUP(N133,A:M,4,FALSE),VLOOKUP(N133,A:M,2,FALSE))))","v":""},null,{"$f":"IF(T133<>\"\",CONCATENATE(VLOOKUP(T133,zawodnicy!$A:$E,2,FALSE),\" \",VLOOKUP(T133,zawodnicy!$A:$E,3,FALSE),\" - \",VLOOKUP(T133,zawodnicy!$A:$E,4,FALSE)),\"\")","v":""},null,{"$f":"IF(H132=\"\",L132,H132)","v":""}]
[]
[]
[]
[null,null,null,null,null,null,null,null,null,null,null,null,null,null,null,null,null,null,null,null,null,"Gry podwójne"]
[]
[]
[null,null,null,null,null,null,null,null,null,null,null,null,null,null,16]
[null,null,null,null,null,null,null,null,null,null,null,null,null,"podwójna dziewcząt"]
[null,null,null,null,null,null,null,null,null,null,null,null,null,null,{"$f":"IF(P142=\"\",\"\",1)","v":1},{"$f":"IF(O140>8,1,\"\")","v":1},{"$f":"O142","v":1},null,null,{"$f":"UPPER(IF(O142=\"\",\"\",IF(ISTEXT(N142),N142,IF(AND(N140>0,O142>0),VLOOKUP(N140&O142&N141,I:K,2,FALSE),\"\"))))","v":""},null,{"$f":"IF(T142<>\"\",CONCATENATE(VLOOKUP(T142,zawodnicy!$A:$E,2,FALSE),\" \",VLOOKUP(T142,zawodnicy!$A:$E,3,FALSE),\" - \",VLOOKUP(T142,zawodnicy!$A:$E,4,FALSE)),\"\")","v":""},null,{"$f":"IF(F143=\"\",\"\",VLOOKUP(F143,zawodnicy!$A:$D,3,FALSE))","v":""}]
[{"$f":"W143","v":0},{"$f":"IF(TYPE(T142)=16,\"\",T142)","v":""},{"$f":"IF(TYPE(T143)=16,\"\",T143)","v":""},{"$f":"IF(TYPE(T144)=16,\"\",T144)","v":""},{"$f":"IF(TYPE(T145)=16,\"\",T145)","v":""},{"$f":"IF(A143=0,IF(AND(LEN(B143)>1,LEN(D143)=0),VLOOKUP(B143,zawodnicy!$A:$E,1,FALSE),IF(AND(LEN(D143)>1,LEN(B143)=0),VLOOKUP(D143,zawodnicy!$A:$E,1,FALSE),\"\")),IF((VLOOKUP(A143,'plan gier'!$Z:$AH,7,FALSE))=\"\",\"\",VLOOKUP(VLOOKUP(A143,'plan gier'!$Z:$AH,7,FALSE),zawodnicy!$A:$E,1,FALSE)))","v":""},{"$f":"IF(A143=0,IF(AND(LEN(C143)>1,LEN(E143)=0),VLOOKUP(C143,zawodnicy!$A:$E,1,FALSE),IF(AND(LEN(E143)>1,LEN(C143)=0),VLOOKUP(E143,zawodnicy!$A:$E,1,FALSE),\"\")),IF((VLOOKUP(A143,'plan gier'!$Z:$AH,8,FALSE))=\"\",\"\",VLOOKUP(VLOOKUP(A143,'plan gier'!$Z:$AH,8,FALSE),zawodnicy!$A:$E,1,FALSE)))","v":""},{"$f":"IF(A143=0,\"\",IF((VLOOKUP(A143,'plan gier'!$Z:$AH,7,FALSE))=\"\",\"\",VLOOKUP(A143,'plan gier'!$Z:$AH,9,FALSE)))","v":""},null,null,null,{"$f":"IF(A143=0,\"\",IF(VLOOKUP(A143,'plan gier'!A:T,20,FALSE)=\"\",\"\",VLOOKUP(A143,'plan gier'!A:T,20,FALSE)))","v":""},{"$f":"N141","v":"podwójna dziewcząt"},null,null,null,null,null,null,{"$f":"UPPER(IF(O142=\"\",\"\",IF(ISTEXT(N143),N143,IF(AND(N140>0,O142>0),VLOOKUP(N140&O142&N141,I:K,3,FALSE),\"\"))))","v":""},null,{"$f":"IF(T143<>\"\",CONCATENATE(VLOOKUP(T143,zawodnicy!$A:$E,2,FALSE),\" \",VLOOKUP(T143,zawodnicy!$A:$E,3,FALSE),\" - \",VLOOKUP(T143,zawodnicy!$A:$E,4,FALSE)),\"\")","v":""},null,{"$f":"IF(G143=\"\",\"\",VLOOKUP(G143,zawodnicy!$A:$D,3,FALSE))","v":""}]
[null,null,null,null,null,null,null,null,null,null,null,null,null,null,{"$f":"IF(P144=\"\",\"\",MAX(O142:O143)+1)","v":2},{"$f":"IF(O140>15,3,\"\")","v":3},{"$f":"O144","v":2},null,null,{"$f":"UPPER(IF(O144=\"\",\"\",IF(ISTEXT(N144),N144,IF(AND(N140>0,O144>0),VLOOKUP(N140&O144&N141,I:K,2,FALSE),\"\"))))","v":""},null,{"$f":"IF(T144<>\"\",CONCATENATE(VLOOKUP(T144,zawodnicy!$A:$E,2,FALSE),\" \",VLOOKUP(T144,zawodnicy!$A:$E,3,FALSE),\" - \",VLOOKUP(T144,zawodnicy!$A:$E,4,FALSE)),\"\")","v":""},null,{"$f":"IF(H143=\"\",L143,H143)","v":""},null,null,{"$f":"IF(ISBLANK(Z145),IF(AND(LEN(X142)>0,LEN(X146)=0),X142,IF(AND(LEN(X146)>0,LEN(X142)=0),X146,\"\")),IF((VLOOKUP(Z145,'plan gier'!$Z:$AH,7,FALSE))=\"\",\"\",VLOOKUP(VLOOKUP(Z145,'plan gier'!$Z:$AH,7,FALSE),zawodnicy!$A:$E,3,FALSE)))","v":""}]
[{"$f":"Z145","v":0},{"$f":"F143","v":""},{"$f":"G143","v":""},{"$f":"F147","v":""},{"$f":"G147","v":""},{"$f":"IF(A145=0,IF(AND(LEN(B145)>0,LEN(D145)=0),B145,IF(AND(LEN(D145)>0,LEN(B145)=0),D145,\"\")),IF((VLOOKUP(A145,'plan gier'!$Z:$AH,7,FALSE))=\"\",\"\",VLOOKUP(VLOOKUP(A145,'plan gier'!$Z:$AH,7,FALSE),zawodnicy!$A:$E,1,FALSE)))","v":""},{"$f":"IF(A145=0,IF(AND(LEN(C145)>0,LEN(E145)=0),C145,IF(AND(LEN(E145)>0,LEN(C145)=0),E145,\"\")),IF((VLOOKUP(A145,'plan gier'!$Z:$AH,8,FALSE))=\"\",\"\",VLOOKUP(VLOOKUP(A145,'plan gier'!$Z:$AH,8,FALSE),zawodnicy!$A:$E,1,FALSE)))","v":""},{"$f":"IF(A145=0,\"\",IF((VLOOKUP(A145,'plan gier'!$Z:$AH,7,FALSE))=\"\",\"\",VLOOKUP(A145,'plan gier'!$Z:$AH,9,FALSE)))","v":""},null,null,null,{"$f":"IF(A145=0,\"\",IF(VLOOKUP(A145,'plan gier'!A:T,20,FALSE)=\"\",\"\",VLOOKUP(A145,'plan gier'!A:T,20,FALSE)))","v":""},{"$f":"N141","v":"podwójna dziewcząt"},null,null,null,null,null,null,{"$f":"UPPER(IF(O144=\"\",\"\",IF(ISTEXT(N145),N145,IF(AND(N140>0,O144>0),VLOOKUP(N140&O144&N141,I:K,3,FALSE),\"\"))))","v":""},null,{"$f":"IF(T145<>\"\",CONCATENATE(VLOOKUP(T145,zawodnicy!$A:$E,2,FALSE),\" \",VLOOKUP(T145,zawodnicy!$A:$E,3,FALSE),\" - \",VLOOKUP(T145,zawodnicy!$A:$E,4,FALSE)),\"\")","v":""},null,null,null,null,{"$f":"IF(ISBLANK(Z145),IF(AND(LEN(X143)>0,LEN(X147)=0),X143,IF(AND(LEN(X147)>0,LEN(X143)=0),X147,\"\")),IF((VLOOKUP(Z145,'plan gier'!$Z:$AH,8,FALSE))=\"\",\"\",VLOOKUP(VLOOKUP(Z145,'plan gier'!$Z:$AH,8,FALSE),zawodnicy!$A:$E,3,FALSE)))","v":""}]
[null,null,null,null,null,null,null,null,null,null,null,null,null,null,{"$f":"IF(P146=\"\",\"\",MAX(O142:O145)+1)","v":3},{"$f":"IF(O140>8,5,\"\")","v":5},{"$f":"O146","v":3},null,null,{"$f":"UPPER(IF(O146=\"\",\"\",IF(ISTEXT(N146),N146,IF(AND(N140>0,O146>0),VLOOKUP(N140&O146&N141,I:K,2,FALSE),\"\"))))","v":""},null,{"$f":"IF(T146<>\"\",CONCATENATE(VLOOKUP(T146,zawodnicy!$A:$E,2,FALSE),\" \",VLOOKUP(T146,zawodnicy!$A:$E,3,FALSE),\" - \",VLOOKUP(T146,zawodnicy!$A:$E,4,FALSE)),\"\")","v":""},null,{"$f":"IF(ISBLANK(W147),IF(AND(LEN(T146)>0,LEN(T148)=0),VLOOKUP(T146,zawodnicy!$A:$E,3,FALSE),IF(AND(LEN(T148)>0,LEN(T146)=0),VLOOKUP(T148,zawodnicy!$A:$E,3,FALSE),\"\")),IF((VLOOKUP(W147,'plan gier'!$Z:$AH,7,FALSE))=\"\",\"\",VLOOKUP(VLOOKUP(W147,'plan gier'!$Z:$AH,7,FALSE),zawodnicy!$A:$E,3,FALSE)))","v":""},null,null,{"$f":"IF(ISBLANK(Z145),\"\",IF((VLOOKUP(Z145,'plan gier'!$Z:$AH,7,FALSE))=\"\",L145,VLOOKUP(Z145,'plan gier'!$Z:$AH,9,FALSE)))","v":""}]
[{"$f":"W147","v":0},{"$f":"IF(TYPE(T146)=16,\"\",T146)","v":""},{"$f":"IF(TYPE(T147)=16,\"\",T147)","v":""},{"$f":"IF(TYPE(T148)=16,\"\",T148)","v":""},{"$f":"IF(TYPE(T149)=16,\"\",T149)","v":""},{"$f":"IF(A147=0,IF(AND(LEN(B147)>1,LEN(D147)=0),VLOOKUP(B147,zawodnicy!$A:$E,1,FALSE),IF(AND(LEN(D147)>1,LEN(B147)=0),VLOOKUP(D147,zawodnicy!$A:$E,1,FALSE),\"\")),IF((VLOOKUP(A147,'plan gier'!$Z:$AH,7,FALSE))=\"\",\"\",VLOOKUP(VLOOKUP(A147,'plan gier'!$Z:$AH,7,FALSE),zawodnicy!$A:$E,1,FALSE)))","v":""},{"$f":"IF(A147=0,IF(AND(LEN(C147)>1,LEN(E147)=0),VLOOKUP(C147,zawodnicy!$A:$E,1,FALSE),IF(AND(LEN(E147)>1,LEN(C147)=0),VLOOKUP(E147,zawodnicy!$A:$E,1,FALSE),\"\")),IF((VLOOKUP(A147,'plan gier'!$Z:$AH,8,FALSE))=\"\",\"\",VLOOKUP(VLOOKUP(A147,'plan gier'!$Z:$AH,8,FALSE),zawodnicy!$A:$E,1,FALSE)))","v":""},{"$f":"IF(A147=0,\"\",IF((VLOOKUP(A147,'plan gier'!$Z:$AH,7,FALSE))=\"\",\"\",VLOOKUP(A147,'plan gier'!$Z:$AH,9,FALSE)))","v":""},null,null,null,{"$f":"IF(A147=0,\"\",IF(VLOOKUP(A147,'plan gier'!A:T,20,FALSE)=\"\",\"\",VLOOKUP(A147,'plan gier'!A:T,20,FALSE)))","v":""},{"$f":"N141","v":"podwójna dziewcząt"},null,null,null,null,null,null,{"$f":"UPPER(IF(O146=\"\",\"\",IF(ISTEXT(N147),N147,IF(AND(N140>0,O146>0),VLOOKUP(N140&O146&N141,I:K,3,FALSE),\"\"))))","v":""},null,{"$f":"IF(T147<>\"\",CONCATENATE(VLOOKUP(T147,zawodnicy!$A:$E,2,FALSE),\" \",VLOOKUP(T147,zawodnicy!$A:$E,3,FALSE),\" - \",VLOOKUP(T147,zawodnicy!$A:$E,4,FALSE)),\"\")","v":""},null,{"$f":"IF(ISBLANK(W147),IF(AND(LEN(T147)>0,LEN(T149)=0),VLOOKUP(T147,zawodnicy!$A:$E,3,FALSE),IF(AND(LEN(T149)>0,LEN(T147)=0),VLOOKUP(T149,zawodnicy!$A:$E,3,FALSE),\"\")),IF((VLOOKUP(W147,'plan gier'!$Z:$AH,8,FALSE))=\"\",\"\",VLOOKUP(VLOOKUP(W147,'plan gier'!$Z:$AH,8,FALSE),zawodnicy!$A:$E,3,FALSE)))","v":""}]
[null,null,null,null,null,null,null,null,null,null,null,null,null,null,{"$f":"IF(P148=\"\",\"\",MAX(O142:O147)+1)","v":4},{"$f":"IF(O140>11,7,\"\")","v":7},{"$f":"O148","v":4},null,null,{"$f":"UPPER(IF(O148=\"\",\"\",IF(ISTEXT(N148),N148,IF(AND(N140>0,O148>0),VLOOKUP(N140&O148&N141,I:K,2,FALSE),\"\"))))","v":""},null,{"$f":"IF(T148<>\"\",CONCATENATE(VLOOKUP(T148,zawodnicy!$A:$E,2,FALSE),\" \",VLOOKUP(T148,zawodnicy!$A:$E,3,FALSE),\" - \",VLOOKUP(T148,zawodnicy!$A:$E,4,FALSE)),\"\")","v":""},null,{"$f":"IF(ISBLANK(W147),\"\",IF((VLOOKUP(W147,'plan gier'!$Z:$AH,7,FALSE))=\"\",L147,VLOOKUP(W147,'plan gier'!$Z:$AH,9,FALSE)))","v":""},null,null,null,null,null,{"$f":"IF(ISBLANK(AC149),IF(AND(LEN(AA144)>0,LEN(AA152)=0),AA144,IF(AND(LEN(AA152)>0,LEN(AA144)=0),AA152,\"\")),IF((VLOOKUP(AC149,'plan gier'!$Z:$AH,7,FALSE))=\"\",\"\",VLOOKUP(VLOOKUP(AC149,'plan gier'!$Z:$AH,7,FALSE),zawodnicy!$A:$E,3,FALSE)))","v":""}]
[{"$f":"AC149","v":0},{"$f":"F145","v":""},{"$f":"G145","v":""},{"$f":"F153","v":""},{"$f":"G153","v":""},{"$f":"IF(A149=0,IF(AND(LEN(B149)>0,LEN(D149)=0),B149,IF(AND(LEN(D149)>0,LEN(B149)=0),D149,\"\")),IF((VLOOKUP(A149,'plan gier'!$Z:$AH,7,FALSE))=\"\",\"\",VLOOKUP(VLOOKUP(A149,'plan gier'!$Z:$AH,7,FALSE),zawodnicy!$A:$E,1,FALSE)))","v":""},{"$f":"IF(A149=0,IF(AND(LEN(C149)>0,LEN(E149)=0),C149,IF(AND(LEN(E149)>0,LEN(C149)=0),E149,\"\")),IF((VLOOKUP(A149,'plan gier'!$Z:$AH,8,FALSE))=\"\",\"\",VLOOKUP(VLOOKUP(A149,'plan gier'!$Z:$AH,8,FALSE),zawodnicy!$A:$E,1,FALSE)))","v":""},{"$f":"IF(A149=0,\"\",IF((VLOOKUP(A149,'plan gier'!$Z:$AH,7,FALSE))=\"\",\"\",VLOOKUP(A149,'plan gier'!$Z:$AH,9,FALSE)))","v":""},null,null,null,{"$f":"IF(A149=0,\"\",IF(VLOOKUP(A149,'plan gier'!A:T,20,FALSE)=\"\",\"\",VLOOKUP(A149,'plan gier'!A:T,20,FALSE)))","v":""},{"$f":"N141","v":"podwójna dziewcząt"},null,null,null,null,null,null,{"$f":"UPPER(IF(O148=\"\",\"\",IF(ISTEXT(N149),N149,IF(AND(N140>0,O148>0),VLOOKUP(N140&O148&N141,I:K,3,FALSE),\"\"))))","v":""},null,{"$f":"IF(T149<>\"\",CONCATENATE(VLOOKUP(T149,zawodnicy!$A:$E,2,FALSE),\" \",VLOOKUP(T149,zawodnicy!$A:$E,3,FALSE),\" - \",VLOOKUP(T149,zawodnicy!$A:$E,4,FALSE)),\"\")","v":""},null,null,null,null,null,null,null,{"$f":"IF(ISBLANK(AC149),IF(AND(LEN(AA145)>0,LEN(AA153)=0),AA145,IF(AND(LEN(AA153)>0,LEN(AA145)=0),AA153,\"\")),IF((VLOOKUP(AC149,'plan gier'!$Z:$AH,8,FALSE))=\"\",\"\",VLOOKUP(VLOOKUP(AC149,'plan gier'!$Z:$AH,8,FALSE),zawodnicy!$A:$E,3,FALSE)))","v":""}]
[null,null,null,null,null,null,null,null,null,null,null,null,null,null,{"$f":"IF(P150=\"\",\"\",MAX(O142:O149)+1)","v":5},{"$f":"IF(O140>8,9,\"\")","v":9},{"$f":"O150","v":5},null,null,{"$f":"UPPER(IF(O150=\"\",\"\",IF(ISTEXT(N150),N150,IF(AND(N140>0,O150>0),VLOOKUP(N140&O150&N141,I:K,2,FALSE),\"\"))))","v":""},null,{"$f":"IF(T150<>\"\",CONCATENATE(VLOOKUP(T150,zawodnicy!$A:$E,2,FALSE),\" \",VLOOKUP(T150,zawodnicy!$A:$E,3,FALSE),\" - \",VLOOKUP(T150,zawodnicy!$A:$E,4,FALSE)),\"\")","v":""},null,{"$f":"IF(ISBLANK(W151),IF(AND(LEN(T150)>0,LEN(T152)=0),VLOOKUP(T150,zawodnicy!$A:$E,3,FALSE),IF(AND(LEN(T152)>0,LEN(T150)=0),VLOOKUP(T152,zawodnicy!$A:$E,3,FALSE),\"\")),IF((VLOOKUP(W151,'plan gier'!$Z:$AH,7,FALSE))=\"\",\"\",VLOOKUP(VLOOKUP(W151,'plan gier'!$Z:$AH,7,FALSE),zawodnicy!$A:$E,3,FALSE)))","v":""},null,null,null,null,null,{"$f":"IF(ISBLANK(AC149),\"\",IF((VLOOKUP(AC149,'plan gier'!$Z:$AH,7,FALSE))=\"\",L149,VLOOKUP(AC149,'plan gier'!$Z:$AH,9,FALSE)))","v":""}]
[{"$f":"W151","v":0},{"$f":"IF(TYPE(T150)=16,\"\",T150)","v":""},{"$f":"IF(TYPE(T151)=16,\"\",T151)","v":""},{"$f":"IF(TYPE(T152)=16,\"\",T152)","v":""},{"$f":"IF(TYPE(T153)=16,\"\",T153)","v":""},{"$f":"IF(A151=0,IF(AND(LEN(B151)>1,LEN(D151)=0),VLOOKUP(B151,zawodnicy!$A:$E,1,FALSE),IF(AND(LEN(D151)>1,LEN(B151)=0),VLOOKUP(D151,zawodnicy!$A:$E,1,FALSE),\"\")),IF((VLOOKUP(A151,'plan gier'!$Z:$AH,7,FALSE))=\"\",\"\",VLOOKUP(VLOOKUP(A151,'plan gier'!$Z:$AH,7,FALSE),zawodnicy!$A:$E,1,FALSE)))","v":""},{"$f":"IF(A151=0,IF(AND(LEN(C151)>1,LEN(E151)=0),VLOOKUP(C151,zawodnicy!$A:$E,1,FALSE),IF(AND(LEN(E151)>1,LEN(C151)=0),VLOOKUP(E151,zawodnicy!$A:$E,1,FALSE),\"\")),IF((VLOOKUP(A151,'plan gier'!$Z:$AH,8,FALSE))=\"\",\"\",VLOOKUP(VLOOKUP(A151,'plan gier'!$Z:$AH,8,FALSE),zawodnicy!$A:$E,1,FALSE)))","v":""},{"$f":"IF(A151=0,\"\",IF((VLOOKUP(A151,'plan gier'!$Z:$AH,7,FALSE))=\"\",\"\",VLOOKUP(A151,'plan gier'!$Z:$AH,9,FALSE)))","v":""},null,null,null,{"$f":"IF(A151=0,\"\",IF(VLOOKUP(A151,'plan gier'!A:T,20,FALSE)=\"\",\"\",VLOOKUP(A151,'plan gier'!A:T,20,FALSE)))","v":""},{"$f":"N141","v":"podwójna dziewcząt"},null,null,null,null,null,null,{"$f":"UPPER(IF(O150=\"\",\"\",IF(ISTEXT(N151),N151,IF(AND(N140>0,O150>0),VLOOKUP(N140&O150&N141,I:K,3,FALSE),\"\"))))","v":""},null,{"$f":"IF(T151<>\"\",CONCATENATE(VLOOKUP(T151,zawodnicy!$A:$E,2,FALSE),\" \",VLOOKUP(T151,zawodnicy!$A:$E,3,FALSE),\" - \",VLOOKUP(T151,zawodnicy!$A:$E,4,FALSE)),\"\")","v":""},null,{"$f":"IF(ISBLANK(W151),IF(AND(LEN(T151)>0,LEN(T153)=0),VLOOKUP(T151,zawodnicy!$A:$E,3,FALSE),IF(AND(LEN(T153)>0,LEN(T151)=0),VLOOKUP(T153,zawodnicy!$A:$E,3,FALSE),\"\")),IF((VLOOKUP(W151,'plan gier'!$Z:$AH,8,FALSE))=\"\",\"\",VLOOKUP(VLOOKUP(W151,'plan gier'!$Z:$AH,8,FALSE),zawodnicy!$A:$E,3,FALSE)))","v":""}]
[null,null,null,null,null,null,null,null,null,null,null,null,null,null,{"$f":"IF(P152=\"\",\"\",MAX(O142:O151)+1)","v":6},{"$f":"IF(O140>13,11,\"\")","v":11},{"$f":"O152","v":6},null,null,{"$f":"UPPER(IF(O152=\"\",\"\",IF(ISTEXT(N152),N152,IF(AND(N140>0,O152>0),VLOOKUP(N140&O152&N141,I:K,2,FALSE),\"\"))))","v":""},null,{"$f":"IF(T152<>\"\",CONCATENATE(VLOOKUP(T152,zawodnicy!$A:$E,2,FALSE),\" \",VLOOKUP(T152,zawodnicy!$A:$E,3,FALSE),\" - \",VLOOKUP(T152,zawodnicy!$A:$E,4,FALSE)),\"\")","v":""},null,{"$f":"IF(ISBLANK(W151),\"\",IF((VLOOKUP(W151,'plan gier'!$Z:$AH,7,FALSE))=\"\",L151,VLOOKUP(W151,'plan gier'!$Z:$AH,9,FALSE)))","v":""},null,null,{"$f":"IF(ISBLANK(Z153),IF(AND(LEN(X150)>0,LEN(X154)=0),X150,IF(AND(LEN(X154)>0,LEN(X150)=0),X154,\"\")),IF((VLOOKUP(Z153,'plan gier'!$Z:$AH,7,FALSE))=\"\",\"\",VLOOKUP(VLOOKUP(Z153,'plan gier'!$Z:$AH,7,FALSE),zawodnicy!$A:$E,3,FALSE)))","v":""}]
[{"$f":"Z153","v":0},{"$f":"F151","v":""},{"$f":"G151","v":""},{"$f":"F155","v":""},{"$f":"G155","v":""},{"$f":"IF(A153=0,IF(AND(LEN(B153)>0,LEN(D153)=0),B153,IF(AND(LEN(D153)>0,LEN(B153)=0),D153,\"\")),IF((VLOOKUP(A153,'plan gier'!$Z:$AH,7,FALSE))=\"\",\"\",VLOOKUP(VLOOKUP(A153,'plan gier'!$Z:$AH,7,FALSE),zawodnicy!$A:$E,1,FALSE)))","v":""},{"$f":"IF(A153=0,IF(AND(LEN(C153)>0,LEN(E153)=0),C153,IF(AND(LEN(E153)>0,LEN(C153)=0),E153,\"\")),IF((VLOOKUP(A153,'plan gier'!$Z:$AH,8,FALSE))=\"\",\"\",VLOOKUP(VLOOKUP(A153,'plan gier'!$Z:$AH,8,FALSE),zawodnicy!$A:$E,1,FALSE)))","v":""},{"$f":"IF(A153=0,\"\",IF((VLOOKUP(A153,'plan gier'!$Z:$AH,7,FALSE))=\"\",\"\",VLOOKUP(A153,'plan gier'!$Z:$AH,9,FALSE)))","v":""},null,null,null,{"$f":"IF(A153=0,\"\",IF(VLOOKUP(A153,'plan gier'!A:T,20,FALSE)=\"\",\"\",VLOOKUP(A153,'plan gier'!A:T,20,FALSE)))","v":""},{"$f":"N141","v":"podwójna dziewcząt"},null,null,null,null,null,null,{"$f":"UPPER(IF(O152=\"\",\"\",IF(ISTEXT(N153),N153,IF(AND(N140>0,O152>0),VLOOKUP(N140&O152&N141,I:K,3,FALSE),\"\"))))","v":""},null,{"$f":"IF(T153<>\"\",CONCATENATE(VLOOKUP(T153,zawodnicy!$A:$E,2,FALSE),\" \",VLOOKUP(T153,zawodnicy!$A:$E,3,FALSE),\" - \",VLOOKUP(T153,zawodnicy!$A:$E,4,FALSE)),\"\")","v":""},null,null,null,null,{"$f":"IF(ISBLANK(Z153),IF(AND(LEN(X151)>0,LEN(X155)=0),X151,IF(AND(LEN(X155)>0,LEN(X151)=0),X155,\"\")),IF((VLOOKUP(Z153,'plan gier'!$Z:$AH,8,FALSE))=\"\",\"\",VLOOKUP(VLOOKUP(Z153,'plan gier'!$Z:$AH,8,FALSE),zawodnicy!$A:$E,3,FALSE)))","v":""}]
[null,null,null,null,null,null,null,null,null,null,null,null,null,null,{"$f":"IF(P154=\"\",\"\",MAX(O142:O153)+1)","v":7},{"$f":"IF(O140>8,13,\"\")","v":13},{"$f":"O154","v":7},null,null,{"$f":"UPPER(IF(O154=\"\",\"\",IF(ISTEXT(N154),N154,IF(AND(N140>0,O154>0),VLOOKUP(N140&O154&N141,I:K,2,FALSE),\"\"))))","v":""},null,{"$f":"IF(T154<>\"\",CONCATENATE(VLOOKUP(T154,zawodnicy!$A:$E,2,FALSE),\" \",VLOOKUP(T154,zawodnicy!$A:$E,3,FALSE),\" - \",VLOOKUP(T154,zawodnicy!$A:$E,4,FALSE)),\"\")","v":""},null,{"$f":"IF(ISBLANK(W155),IF(AND(LEN(T154)>0,LEN(T156)=0),VLOOKUP(T154,zawodnicy!$A:$E,3,FALSE),IF(AND(LEN(T156)>0,LEN(T154)=0),VLOOKUP(T156,zawodnicy!$A:$E,3,FALSE),\"\")),IF((VLOOKUP(W155,'plan gier'!$Z:$AH,7,FALSE))=\"\",\"\",VLOOKUP(VLOOKUP(W155,'plan gier'!$Z:$AH,7,FALSE),zawodnicy!$A:$E,3,FALSE)))","v":""},null,null,{"$f":"IF(ISBLANK(Z153),\"\",IF((VLOOKUP(Z153,'plan gier'!$Z:$AH,7,FALSE))=\"\",L153,VLOOKUP(Z153,'plan gier'!$Z:$AH,9,FALSE)))","v":""}]
[{"$f":"W155","v":0},{"$f":"IF(TYPE(T154)=16,\"\",T154)","v":""},{"$f":"IF(TYPE(T155)=16,\"\",T155)","v":""},{"$f":"IF(TYPE(T156)=16,\"\",T156)","v":""},{"$f":"IF(TYPE(T157)=16,\"\",T157)","v":""},{"$f":"IF(A155=0,IF(AND(LEN(B155)>1,LEN(D155)=0),VLOOKUP(B155,zawodnicy!$A:$E,1,FALSE),IF(AND(LEN(D155)>1,LEN(B155)=0),VLOOKUP(D155,zawodnicy!$A:$E,1,FALSE),\"\")),IF((VLOOKUP(A155,'plan gier'!$Z:$AH,7,FALSE))=\"\",\"\",VLOOKUP(VLOOKUP(A155,'plan gier'!$Z:$AH,7,FALSE),zawodnicy!$A:$E,1,FALSE)))","v":""},{"$f":"IF(A155=0,IF(AND(LEN(C155)>1,LEN(E155)=0),VLOOKUP(C155,zawodnicy!$A:$E,1,FALSE),IF(AND(LEN(E155)>1,LEN(C155)=0),VLOOKUP(E155,zawodnicy!$A:$E,1,FALSE),\"\")),IF((VLOOKUP(A155,'plan gier'!$Z:$AH,8,FALSE))=\"\",\"\",VLOOKUP(VLOOKUP(A155,'plan gier'!$Z:$AH,8,FALSE),zawodnicy!$A:$E,1,FALSE)))","v":""},{"$f":"IF(A155=0,\"\",IF((VLOOKUP(A155,'plan gier'!$Z:$AH,7,FALSE))=\"\",\"\",VLOOKUP(A155,'plan gier'!$Z:$AH,9,FALSE)))","v":""},null,null,null,{"$f":"IF(A155=0,\"\",IF(VLOOKUP(A155,'plan gier'!A:T,20,FALSE)=\"\",\"\",VLOOKUP(A155,'plan gier'!A:T,20,FALSE)))","v":""},{"$f":"N141","v":"podwójna dziewcząt"},null,null,null,null,null,null,{"$f":"UPPER(IF(O154=\"\",\"\",IF(ISTEXT(N155),N155,IF(AND(N140>0,O154>0),VLOOKUP(N140&O154&N141,I:K,3,FALSE),\"\"))))","v":""},null,{"$f":"IF(T155<>\"\",CONCATENATE(VLOOKUP(T155,zawodnicy!$A:$E,2,FALSE),\" \",VLOOKUP(T155,zawodnicy!$A:$E,3,FALSE),\" - \",VLOOKUP(T155,zawodnicy!$A:$E,4,FALSE)),\"\")","v":""},null,{"$f":"IF(ISBLANK(W155),IF(AND(LEN(T155)>0,LEN(T157)=0),VLOOKUP(T155,zawodnicy!$A:$E,3,FALSE),IF(AND(LEN(T157)>0,LEN(T155)=0),VLOOKUP(T157,zawodnicy!$A:$E,3,FALSE),\"\")),IF((VLOOKUP(W155,'plan gier'!$Z:$AH,8,FALSE))=\"\",\"\",VLOOKUP(VLOOKUP(W155,'plan gier'!$Z:$AH,8,FALSE),zawodnicy!$A:$E,3,FALSE)))","v":""}]
[null,null,null,null,null,null,null,null,null,null,null,null,null,null,{"$f":"IF(P156=\"\",\"\",MAX(O142:O155)+1)","v":8},{"$f":"IF(O140>9,15,\"\")","v":15},{"$f":"O156","v":8},null,null,{"$f":"UPPER(IF(O156=\"\",\"\",IF(ISTEXT(N156),N156,IF(AND(N140>0,O156>0),VLOOKUP(N140&O156&N141,I:K,2,FALSE),\"\"))))","v":""},null,{"$f":"IF(T156<>\"\",CONCATENATE(VLOOKUP(T156,zawodnicy!$A:$E,2,FALSE),\" \",VLOOKUP(T156,zawodnicy!$A:$E,3,FALSE),\" - \",VLOOKUP(T156,zawodnicy!$A:$E,4,FALSE)),\"\")","v":""},null,{"$f":"IF(ISBLANK(W155),\"\",IF((VLOOKUP(W155,'plan gier'!$Z:$AH,7,FALSE))=\"\",L155,VLOOKUP(W155,'plan gier'!$Z:$AH,9,FALSE)))","v":""},null,null,null,null,null,{"$f":"IF(ISBLANK(AC157),IF(AND(LEN(AD148)>0,LEN(AD164)=0),AD148,IF(AND(LEN(AD164)>0,LEN(AD148)=0),AD164,\"\")),IF((VLOOKUP(AC157,'plan gier'!$Z:$AH,7,FALSE))=\"\",\"\",VLOOKUP(VLOOKUP(AC157,'plan gier'!$Z:$AH,7,FALSE),zawodnicy!$A:$E,3,FALSE)))","v":""}]
[{"$f":"AC157","v":0},{"$f":"F149","v":""},{"$f":"G149","v":""},{"$f":"F165","v":""},{"$f":"G165","v":""},{"$f":"IF(A157=0,IF(AND(LEN(B157)>0,LEN(D157)=0),B157,IF(AND(LEN(D157)>0,LEN(B157)=0),D157,\"\")),IF((VLOOKUP(A157,'plan gier'!$Z:$AH,7,FALSE))=\"\",\"\",VLOOKUP(VLOOKUP(A157,'plan gier'!$Z:$AH,7,FALSE),zawodnicy!$A:$E,1,FALSE)))","v":""},{"$f":"IF(A157=0,IF(AND(LEN(C157)>0,LEN(E157)=0),C157,IF(AND(LEN(E157)>0,LEN(C157)=0),E157,\"\")),IF((VLOOKUP(A157,'plan gier'!$Z:$AH,8,FALSE))=\"\",\"\",VLOOKUP(VLOOKUP(A157,'plan gier'!$Z:$AH,8,FALSE),zawodnicy!$A:$E,1,FALSE)))","v":""},{"$f":"IF(A157=0,\"\",IF((VLOOKUP(A157,'plan gier'!$Z:$AH,7,FALSE))=\"\",\"\",VLOOKUP(A157,'plan gier'!$Z:$AH,9,FALSE)))","v":""},null,null,null,{"$f":"IF(A157=0,\"\",IF(VLOOKUP(A157,'plan gier'!A:T,20,FALSE)=\"\",\"\",VLOOKUP(A157,'plan gier'!A:T,20,FALSE)))","v":""},{"$f":"N141","v":"podwójna dziewcząt"},null,null,null,null,null,null,{"$f":"UPPER(IF(O156=\"\",\"\",IF(ISTEXT(N157),N157,IF(AND(N140>0,O156>0),VLOOKUP(N140&O156&N141,I:K,3,FALSE),\"\"))))","v":""},null,{"$f":"IF(T157<>\"\",CONCATENATE(VLOOKUP(T157,zawodnicy!$A:$E,2,FALSE),\" \",VLOOKUP(T157,zawodnicy!$A:$E,3,FALSE),\" - \",VLOOKUP(T157,zawodnicy!$A:$E,4,FALSE)),\"\")","v":""},null,null,null,null,null,null,null,{"$f":"IF(ISBLANK(AC157),IF(AND(LEN(AD149)>0,LEN(AD165)=0),AD149,IF(AND(LEN(AD165)>0,LEN(AD149)=0),AD165,\"\")),IF((VLOOKUP(AC157,'plan gier'!$Z:$AH,8,FALSE))=\"\",\"\",VLOOKUP(VLOOKUP(AC157,'plan gier'!$Z:$AH,8,FALSE),zawodnicy!$A:$E,3,FALSE)))","v":""}]
[null,null,null,null,null,null,null,null,null,null,null,null,null,null,{"$f":"IF(P158=\"\",\"\",MAX(O142:O157)+1)","v":9},{"$f":"IF(O140>8,18,\"\")","v":18},{"$f":"O158","v":9},null,null,{"$f":"UPPER(IF(O158=\"\",\"\",IF(ISTEXT(N158),N158,IF(AND(N140>0,O158>0),VLOOKUP(N140&O158&N141,I:K,2,FALSE),\"\"))))","v":""},null,{"$f":"IF(T158<>\"\",CONCATENATE(VLOOKUP(T158,zawodnicy!$A:$E,2,FALSE),\" \",VLOOKUP(T158,zawodnicy!$A:$E,3,FALSE),\" - \",VLOOKUP(T158,zawodnicy!$A:$E,4,FALSE)),\"\")","v":""},null,{"$f":"IF(ISBLANK(W159),IF(AND(LEN(T158)>0,LEN(T160)=0),VLOOKUP(T158,zawodnicy!$A:$E,3,FALSE),IF(AND(LEN(T160)>0,LEN(T158)=0),VLOOKUP(T160,zawodnicy!$A:$E,3,FALSE),\"\")),IF((VLOOKUP(W159,'plan gier'!$Z:$AH,7,FALSE))=\"\",\"\",VLOOKUP(VLOOKUP(W159,'plan gier'!$Z:$AH,7,FALSE),zawodnicy!$A:$E,3,FALSE)))","v":""},null,null,null,null,null,{"$f":"IF(ISBLANK(AC157),\"\",IF((VLOOKUP(AC157,'plan gier'!$Z:$AH,7,FALSE))=\"\",L157,VLOOKUP(AC157,'plan gier'!$Z:$AH,9,FALSE)))","v":""}]
[{"$f":"W159","v":0},{"$f":"IF(TYPE(T158)=16,\"\",T158)","v":""},{"$f":"IF(TYPE(T159)=16,\"\",T159)","v":""},{"$f":"IF(TYPE(T160)=16,\"\",T160)","v":""},{"$f":"IF(TYPE(T161)=16,\"\",T161)","v":""},{"$f":"IF(A159=0,IF(AND(LEN(B159)>1,LEN(D159)=0),VLOOKUP(B159,zawodnicy!$A:$E,1,FALSE),IF(AND(LEN(D159)>1,LEN(B159)=0),VLOOKUP(D159,zawodnicy!$A:$E,1,FALSE),\"\")),IF((VLOOKUP(A159,'plan gier'!$Z:$AH,7,FALSE))=\"\",\"\",VLOOKUP(VLOOKUP(A159,'plan gier'!$Z:$AH,7,FALSE),zawodnicy!$A:$E,1,FALSE)))","v":""},{"$f":"IF(A159=0,IF(AND(LEN(C159)>1,LEN(E159)=0),VLOOKUP(C159,zawodnicy!$A:$E,1,FALSE),IF(AND(LEN(E159)>1,LEN(C159)=0),VLOOKUP(E159,zawodnicy!$A:$E,1,FALSE),\"\")),IF((VLOOKUP(A159,'plan gier'!$Z:$AH,8,FALSE))=\"\",\"\",VLOOKUP(VLOOKUP(A159,'plan gier'!$Z:$AH,8,FALSE),zawodnicy!$A:$E,1,FALSE)))","v":""},{"$f":"IF(A159=0,\"\",IF((VLOOKUP(A159,'plan gier'!$Z:$AH,7,FALSE))=\"\",\"\",VLOOKUP(A159,'plan gier'!$Z:$AH,9,FALSE)))","v":""},null,null,null,{"$f":"IF(A159=0,\"\",IF(VLOOKUP(A159,'plan gier'!A:T,20,FALSE)=\"\",\"\",VLOOKUP(A159,'plan gier'!A:T,20,FALSE)))","v":""},{"$f":"N141","v":"podwójna dziewcząt"},null,null,null,null,null,null,{"$f":"UPPER(IF(O158=\"\",\"\",IF(ISTEXT(N159),N159,IF(AND(N140>0,O158>0),VLOOKUP(N140&O158&N141,I:K,3,FALSE),\"\"))))","v":""},null,{"$f":"IF(T159<>\"\",CONCATENATE(VLOOKUP(T159,zawodnicy!$A:$E,2,FALSE),\" \",VLOOKUP(T159,zawodnicy!$A:$E,3,FALSE),\" - \",VLOOKUP(T159,zawodnicy!$A:$E,4,FALSE)),\"\")","v":""},null,{"$f":"IF(ISBLANK(W159),IF(AND(LEN(T159)>0,LEN(T161)=0),VLOOKUP(T159,zawodnicy!$A:$E,3,FALSE),IF(AND(LEN(T161)>0,LEN(T159)=0),VLOOKUP(T161,zawodnicy!$A:$E,3,FALSE),\"\")),IF((VLOOKUP(W159,'plan gier'!$Z:$AH,8,FALSE))=\"\",\"\",VLOOKUP(VLOOKUP(W159,'plan gier'!$Z:$AH,8,FALSE),zawodnicy!$A:$E,3,FALSE)))","v":""}]
[null,null,null,null,null,null,null,null,null,null,null,null,null,null,{"$f":"IF(P160=\"\",\"\",MAX(O142:O159)+1)","v":10},{"$f":"IF(O140>8,20,\"\")","v":20},{"$f":"O160","v":10},null,null,{"$f":"UPPER(IF(O160=\"\",\"\",IF(ISTEXT(N160),N160,IF(AND(N140>0,O160>0),VLOOKUP(N140&O160&N141,I:K,2,FALSE),\"\"))))","v":""},null,{"$f":"IF(T160<>\"\",CONCATENATE(VLOOKUP(T160,zawodnicy!$A:$E,2,FALSE),\" \",VLOOKUP(T160,zawodnicy!$A:$E,3,FALSE),\" - \",VLOOKUP(T160,zawodnicy!$A:$E,4,FALSE)),\"\")","v":""},null,{"$f":"IF(ISBLANK(W159),\"\",IF((VLOOKUP(W159,'plan gier'!$Z:$AH,7,FALSE))=\"\",L159,VLOOKUP(W159,'plan gier'!$Z:$AH,9,FALSE)))","v":""},null,null,{"$f":"IF(ISBLANK(Z161),IF(AND(LEN(X158)>0,LEN(X162)=0),X158,IF(AND(LEN(X162)>0,LEN(X158)=0),X162,\"\")),IF((VLOOKUP(Z161,'plan gier'!$Z:$AH,7,FALSE))=\"\",\"\",VLOOKUP(VLOOKUP(Z161,'plan gier'!$Z:$AH,7,FALSE),zawodnicy!$A:$E,3,FALSE)))","v":""}]
[{"$f":"Z161","v":0},{"$f":"F159","v":""},{"$f":"G159","v":""},{"$f":"F163","v":""},{"$f":"G163","v":""},{"$f":"IF(A161=0,IF(AND(LEN(B161)>0,LEN(D161)=0),B161,IF(AND(LEN(D161)>0,LEN(B161)=0),D161,\"\")),IF((VLOOKUP(A161,'plan gier'!$Z:$AH,7,FALSE))=\"\",\"\",VLOOKUP(VLOOKUP(A161,'plan gier'!$Z:$AH,7,FALSE),zawodnicy!$A:$E,1,FALSE)))","v":""},{"$f":"IF(A161=0,IF(AND(LEN(C161)>0,LEN(E161)=0),C161,IF(AND(LEN(E161)>0,LEN(C161)=0),E161,\"\")),IF((VLOOKUP(A161,'plan gier'!$Z:$AH,8,FALSE))=\"\",\"\",VLOOKUP(VLOOKUP(A161,'plan gier'!$Z:$AH,8,FALSE),zawodnicy!$A:$E,1,FALSE)))","v":""},{"$f":"IF(A161=0,\"\",IF((VLOOKUP(A161,'plan gier'!$Z:$AH,7,FALSE))=\"\",\"\",VLOOKUP(A161,'plan gier'!$Z:$AH,9,FALSE)))","v":""},null,null,null,{"$f":"IF(A161=0,\"\",IF(VLOOKUP(A161,'plan gier'!A:T,20,FALSE)=\"\",\"\",VLOOKUP(A161,'plan gier'!A:T,20,FALSE)))","v":""},{"$f":"N141","v":"podwójna dziewcząt"},null,null,null,null,null,null,{"$f":"UPPER(IF(O160=\"\",\"\",IF(ISTEXT(N161),N161,IF(AND(N140>0,O160>0),VLOOKUP(N140&O160&N141,I:K,3,FALSE),\"\"))))","v":""},null,{"$f":"IF(T161<>\"\",CONCATENATE(VLOOKUP(T161,zawodnicy!$A:$E,2,FALSE),\" \",VLOOKUP(T161,zawodnicy!$A:$E,3,FALSE),\" - \",VLOOKUP(T161,zawodnicy!$A:$E,4,FALSE)),\"\")","v":""},null,null,null,null,{"$f":"IF(ISBLANK(Z161),IF(AND(LEN(X159)>0,LEN(X163)=0),X159,IF(AND(LEN(X163)>0,LEN(X159)=0),X163,\"\")),IF((VLOOKUP(Z161,'plan gier'!$Z:$AH,8,FALSE))=\"\",\"\",VLOOKUP(VLOOKUP(Z161,'plan gier'!$Z:$AH,8,FALSE),zawodnicy!$A:$E,3,FALSE)))","v":""}]
[null,null,null,null,null,null,null,null,null,null,null,null,null,null,{"$f":"IF(P162=\"\",\"\",MAX(O142:O161)+1)","v":11},{"$f":"IF(O140>12,22,\"\")","v":22},{"$f":"O162","v":11},null,null,{"$f":"UPPER(IF(O162=\"\",\"\",IF(ISTEXT(N162),N162,IF(AND(N140>0,O162>0),VLOOKUP(N140&O162&N141,I:K,2,FALSE),\"\"))))","v":""},null,{"$f":"IF(T162<>\"\",CONCATENATE(VLOOKUP(T162,zawodnicy!$A:$E,2,FALSE),\" \",VLOOKUP(T162,zawodnicy!$A:$E,3,FALSE),\" - \",VLOOKUP(T162,zawodnicy!$A:$E,4,FALSE)),\"\")","v":""},null,{"$f":"IF(ISBLANK(W163),IF(AND(LEN(T162)>0,LEN(T164)=0),VLOOKUP(T162,zawodnicy!$A:$E,3,FALSE),IF(AND(LEN(T164)>0,LEN(T162)=0),VLOOKUP(T164,zawodnicy!$A:$E,3,FALSE),\"\")),IF((VLOOKUP(W163,'plan gier'!$Z:$AH,7,FALSE))=\"\",\"\",VLOOKUP(VLOOKUP(W163,'plan gier'!$Z:$AH,7,FALSE),zawodnicy!$A:$E,3,FALSE)))","v":""},null,null,{"$f":"IF(ISBLANK(Z161),\"\",IF((VLOOKUP(Z161,'plan gier'!$Z:$AH,7,FALSE))=\"\",L161,VLOOKUP(Z161,'plan gier'!$Z:$AH,9,FALSE)))","v":""}]
[{"$f":"W163","v":0},{"$f":"IF(TYPE(T162)=16,\"\",T162)","v":""},{"$f":"IF(TYPE(T163)=16,\"\",T163)","v":""},{"$f":"IF(TYPE(T164)=16,\"\",T164)","v":""},{"$f":"IF(TYPE(T165)=16,\"\",T165)","v":""},{"$f":"IF(A163=0,IF(AND(LEN(B163)>1,LEN(D163)=0),VLOOKUP(B163,zawodnicy!$A:$E,1,FALSE),IF(AND(LEN(D163)>1,LEN(B163)=0),VLOOKUP(D163,zawodnicy!$A:$E,1,FALSE),\"\")),IF((VLOOKUP(A163,'plan gier'!$Z:$AH,7,FALSE))=\"\",\"\",VLOOKUP(VLOOKUP(A163,'plan gier'!$Z:$AH,7,FALSE),zawodnicy!$A:$E,1,FALSE)))","v":""},{"$f":"IF(A163=0,IF(AND(LEN(C163)>1,LEN(E163)=0),VLOOKUP(C163,zawodnicy!$A:$E,1,FALSE),IF(AND(LEN(E163)>1,LEN(C163)=0),VLOOKUP(E163,zawodnicy!$A:$E,1,FALSE),\"\")),IF((VLOOKUP(A163,'plan gier'!$Z:$AH,8,FALSE))=\"\",\"\",VLOOKUP(VLOOKUP(A163,'plan gier'!$Z:$AH,8,FALSE),zawodnicy!$A:$E,1,FALSE)))","v":""},{"$f":"IF(A163=0,\"\",IF((VLOOKUP(A163,'plan gier'!$Z:$AH,7,FALSE))=\"\",\"\",VLOOKUP(A163,'plan gier'!$Z:$AH,9,FALSE)))","v":""},null,null,null,{"$f":"IF(A163=0,\"\",IF(VLOOKUP(A163,'plan gier'!A:T,20,FALSE)=\"\",\"\",VLOOKUP(A163,'plan gier'!A:T,20,FALSE)))","v":""},{"$f":"N141","v":"podwójna dziewcząt"},null,null,null,null,null,null,{"$f":"UPPER(IF(O162=\"\",\"\",IF(ISTEXT(N163),N163,IF(AND(N140>0,O162>0),VLOOKUP(N140&O162&N141,I:K,3,FALSE),\"\"))))","v":""},null,{"$f":"IF(T163<>\"\",CONCATENATE(VLOOKUP(T163,zawodnicy!$A:$E,2,FALSE),\" \",VLOOKUP(T163,zawodnicy!$A:$E,3,FALSE),\" - \",VLOOKUP(T163,zawodnicy!$A:$E,4,FALSE)),\"\")","v":""},null,{"$f":"IF(ISBLANK(W163),IF(AND(LEN(T163)>0,LEN(T165)=0),VLOOKUP(T163,zawodnicy!$A:$E,3,FALSE),IF(AND(LEN(T165)>0,LEN(T163)=0),VLOOKUP(T165,zawodnicy!$A:$E,3,FALSE),\"\")),IF((VLOOKUP(W163,'plan gier'!$Z:$AH,8,FALSE))=\"\",\"\",VLOOKUP(VLOOKUP(W163,'plan gier'!$Z:$AH,8,FALSE),zawodnicy!$A:$E,3,FALSE)))","v":""}]
[null,null,null,null,null,null,null,null,null,null,null,null,null,null,{"$f":"IF(P164=\"\",\"\",MAX(O142:O163)+1)","v":12},{"$f":"IF(O140>8,24,\"\")","v":24},{"$f":"O164","v":12},null,null,{"$f":"UPPER(IF(O164=\"\",\"\",IF(ISTEXT(N164),N164,IF(AND(N140>0,O164>0),VLOOKUP(N140&O164&N141,I:K,2,FALSE),\"\"))))","v":""},null,{"$f":"IF(T164<>\"\",CONCATENATE(VLOOKUP(T164,zawodnicy!$A:$E,2,FALSE),\" \",VLOOKUP(T164,zawodnicy!$A:$E,3,FALSE),\" - \",VLOOKUP(T164,zawodnicy!$A:$E,4,FALSE)),\"\")","v":""},null,{"$f":"IF(ISBLANK(W163),\"\",IF((VLOOKUP(W163,'plan gier'!$Z:$AH,7,FALSE))=\"\",L163,VLOOKUP(W163,'plan gier'!$Z:$AH,9,FALSE)))","v":""},null,null,null,null,null,{"$f":"IF(ISBLANK(AC165),IF(AND(LEN(AA160)>0,LEN(AA168)=0),AA160,IF(AND(LEN(AA168)>0,LEN(AA160)=0),AA168,\"\")),IF((VLOOKUP(AC165,'plan gier'!$Z:$AH,7,FALSE))=\"\",\"\",VLOOKUP(VLOOKUP(AC165,'plan gier'!$Z:$AH,7,FALSE),zawodnicy!$A:$E,3,FALSE)))","v":""}]
[{"$f":"AC165","v":0},{"$f":"F161","v":""},{"$f":"G161","v":""},{"$f":"F169","v":""},{"$f":"G169","v":""},{"$f":"IF(A165=0,IF(AND(LEN(B165)>0,LEN(D165)=0),B165,IF(AND(LEN(D165)>0,LEN(B165)=0),D165,\"\")),IF((VLOOKUP(A165,'plan gier'!$Z:$AH,7,FALSE))=\"\",\"\",VLOOKUP(VLOOKUP(A165,'plan gier'!$Z:$AH,7,FALSE),zawodnicy!$A:$E,1,FALSE)))","v":""},{"$f":"IF(A165=0,IF(AND(LEN(C165)>0,LEN(E165)=0),C165,IF(AND(LEN(E165)>0,LEN(C165)=0),E165,\"\")),IF((VLOOKUP(A165,'plan gier'!$Z:$AH,8,FALSE))=\"\",\"\",VLOOKUP(VLOOKUP(A165,'plan gier'!$Z:$AH,8,FALSE),zawodnicy!$A:$E,1,FALSE)))","v":""},{"$f":"IF(A165=0,\"\",IF((VLOOKUP(A165,'plan gier'!$Z:$AH,7,FALSE))=\"\",\"\",VLOOKUP(A165,'plan gier'!$Z:$AH,9,FALSE)))","v":""},null,null,null,{"$f":"IF(A165=0,\"\",IF(VLOOKUP(A165,'plan gier'!A:T,20,FALSE)=\"\",\"\",VLOOKUP(A165,'plan gier'!A:T,20,FALSE)))","v":""},{"$f":"N141","v":"podwójna dziewcząt"},null,null,null,null,null,null,{"$f":"UPPER(IF(O164=\"\",\"\",IF(ISTEXT(N165),N165,IF(AND(N140>0,O164>0),VLOOKUP(N140&O164&N141,I:K,3,FALSE),\"\"))))","v":""},null,{"$f":"IF(T165<>\"\",CONCATENATE(VLOOKUP(T165,zawodnicy!$A:$E,2,FALSE),\" \",VLOOKUP(T165,zawodnicy!$A:$E,3,FALSE),\" - \",VLOOKUP(T165,zawodnicy!$A:$E,4,FALSE)),\"\")","v":""},null,null,null,null,null,null,null,{"$f":"IF(ISBLANK(AC165),IF(AND(LEN(AA161)>0,LEN(AA169)=0),AA161,IF(AND(LEN(AA169)>0,LEN(AA161)=0),AA169,\"\")),IF((VLOOKUP(AC165,'plan gier'!$Z:$AH,8,FALSE))=\"\",\"\",VLOOKUP(VLOOKUP(AC165,'plan gier'!$Z:$AH,8,FALSE),zawodnicy!$A:$E,3,FALSE)))","v":""}]
[null,null,null,null,null,null,null,null,null,null,null,null,null,null,{"$f":"IF(P166=\"\",\"\",MAX(O142:O165)+1)","v":13},{"$f":"IF(O140>10,26,\"\")","v":26},{"$f":"O166","v":13},null,null,{"$f":"UPPER(IF(O166=\"\",\"\",IF(ISTEXT(N166),N166,IF(AND(N140>0,O166>0),VLOOKUP(N140&O166&N141,I:K,2,FALSE),\"\"))))","v":""},null,{"$f":"IF(T166<>\"\",CONCATENATE(VLOOKUP(T166,zawodnicy!$A:$E,2,FALSE),\" \",VLOOKUP(T166,zawodnicy!$A:$E,3,FALSE),\" - \",VLOOKUP(T166,zawodnicy!$A:$E,4,FALSE)),\"\")","v":""},null,{"$f":"IF(ISBLANK(W167),IF(AND(LEN(T166)>0,LEN(T168)=0),VLOOKUP(T166,zawodnicy!$A:$E,3,FALSE),IF(AND(LEN(T168)>0,LEN(T166)=0),VLOOKUP(T168,zawodnicy!$A:$E,3,FALSE),\"\")),IF((VLOOKUP(W167,'plan gier'!$Z:$AH,7,FALSE))=\"\",\"\",VLOOKUP(VLOOKUP(W167,'plan gier'!$Z:$AH,7,FALSE),zawodnicy!$A:$E,3,FALSE)))","v":""},null,null,null,null,null,{"$f":"IF(ISBLANK(AC165),\"\",IF((VLOOKUP(AC165,'plan gier'!$Z:$AH,7,FALSE))=\"\",L165,VLOOKUP(AC165,'plan gier'!$Z:$AH,9,FALSE)))","v":""}]
[{"$f":"W167","v":0},{"$f":"IF(TYPE(T166)=16,\"\",T166)","v":""},{"$f":"IF(TYPE(T167)=16,\"\",T167)","v":""},{"$f":"IF(TYPE(T168)=16,\"\",T168)","v":""},{"$f":"IF(TYPE(T169)=16,\"\",T169)","v":""},{"$f":"IF(A167=0,IF(AND(LEN(B167)>1,LEN(D167)=0),VLOOKUP(B167,zawodnicy!$A:$E,1,FALSE),IF(AND(LEN(D167)>1,LEN(B167)=0),VLOOKUP(D167,zawodnicy!$A:$E,1,FALSE),\"\")),IF((VLOOKUP(A167,'plan gier'!$Z:$AH,7,FALSE))=\"\",\"\",VLOOKUP(VLOOKUP(A167,'plan gier'!$Z:$AH,7,FALSE),zawodnicy!$A:$E,1,FALSE)))","v":""},{"$f":"IF(A167=0,IF(AND(LEN(C167)>1,LEN(E167)=0),VLOOKUP(C167,zawodnicy!$A:$E,1,FALSE),IF(AND(LEN(E167)>1,LEN(C167)=0),VLOOKUP(E167,zawodnicy!$A:$E,1,FALSE),\"\")),IF((VLOOKUP(A167,'plan gier'!$Z:$AH,8,FALSE))=\"\",\"\",VLOOKUP(VLOOKUP(A167,'plan gier'!$Z:$AH,8,FALSE),zawodnicy!$A:$E,1,FALSE)))","v":""},{"$f":"IF(A167=0,\"\",IF((VLOOKUP(A167,'plan gier'!$Z:$AH,7,FALSE))=\"\",\"\",VLOOKUP(A167,'plan gier'!$Z:$AH,9,FALSE)))","v":""},null,null,null,{"$f":"IF(A167=0,\"\",IF(VLOOKUP(A167,'plan gier'!A:T,20,FALSE)=\"\",\"\",VLOOKUP(A167,'plan gier'!A:T,20,FALSE)))","v":""},{"$f":"N141","v":"podwójna dziewcząt"},null,null,null,null,null,null,{"$f":"UPPER(IF(O166=\"\",\"\",IF(ISTEXT(N167),N167,IF(AND(N140>0,O166>0),VLOOKUP(N140&O166&N141,I:K,3,FALSE),\"\"))))","v":""},null,{"$f":"IF(T167<>\"\",CONCATENATE(VLOOKUP(T167,zawodnicy!$A:$E,2,FALSE),\" \",VLOOKUP(T167,zawodnicy!$A:$E,3,FALSE),\" - \",VLOOKUP(T167,zawodnicy!$A:$E,4,FALSE)),\"\")","v":""},null,{"$f":"IF(ISBLANK(W167),IF(AND(LEN(T167)>0,LEN(T169)=0),VLOOKUP(T167,zawodnicy!$A:$E,3,FALSE),IF(AND(LEN(T169)>0,LEN(T167)=0),VLOOKUP(T169,zawodnicy!$A:$E,3,FALSE),\"\")),IF((VLOOKUP(W167,'plan gier'!$Z:$AH,8,FALSE))=\"\",\"\",VLOOKUP(VLOOKUP(W167,'plan gier'!$Z:$AH,8,FALSE),zawodnicy!$A:$E,3,FALSE)))","v":""}]
[null,null,null,null,null,null,null,null,null,null,null,null,null,null,{"$f":"IF(P168=\"\",\"\",MAX(O142:O167)+1)","v":14},{"$f":"IF(O140>8,28,\"\")","v":28},{"$f":"O168","v":14},null,null,{"$f":"UPPER(IF(O168=\"\",\"\",IF(ISTEXT(N168),N168,IF(AND(N140>0,O168>0),VLOOKUP(N140&O168&N141,I:K,2,FALSE),\"\"))))","v":""},null,{"$f":"IF(T168<>\"\",CONCATENATE(VLOOKUP(T168,zawodnicy!$A:$E,2,FALSE),\" \",VLOOKUP(T168,zawodnicy!$A:$E,3,FALSE),\" - \",VLOOKUP(T168,zawodnicy!$A:$E,4,FALSE)),\"\")","v":""},null,{"$f":"IF(ISBLANK(W167),\"\",IF((VLOOKUP(W167,'plan gier'!$Z:$AH,7,FALSE))=\"\",L167,VLOOKUP(W167,'plan gier'!$Z:$AH,9,FALSE)))","v":""},null,null,{"$f":"IF(ISBLANK(Z169),IF(AND(LEN(X166)>0,LEN(X170)=0),X166,IF(AND(LEN(X170)>0,LEN(X166)=0),X170,\"\")),IF((VLOOKUP(Z169,'plan gier'!$Z:$AH,7,FALSE))=\"\",\"\",VLOOKUP(VLOOKUP(Z169,'plan gier'!$Z:$AH,7,FALSE),zawodnicy!$A:$E,3,FALSE)))","v":""}]
[{"$f":"Z169","v":0},{"$f":"F167","v":""},{"$f":"G167","v":""},{"$f":"F171","v":""},{"$f":"G171","v":""},{"$f":"IF(A169=0,IF(AND(LEN(B169)>0,LEN(D169)=0),B169,IF(AND(LEN(D169)>0,LEN(B169)=0),D169,\"\")),IF((VLOOKUP(A169,'plan gier'!$Z:$AH,7,FALSE))=\"\",\"\",VLOOKUP(VLOOKUP(A169,'plan gier'!$Z:$AH,7,FALSE),zawodnicy!$A:$E,1,FALSE)))","v":""},{"$f":"IF(A169=0,IF(AND(LEN(C169)>0,LEN(E169)=0),C169,IF(AND(LEN(E169)>0,LEN(C169)=0),E169,\"\")),IF((VLOOKUP(A169,'plan gier'!$Z:$AH,8,FALSE))=\"\",\"\",VLOOKUP(VLOOKUP(A169,'plan gier'!$Z:$AH,8,FALSE),zawodnicy!$A:$E,1,FALSE)))","v":""},{"$f":"IF(A169=0,\"\",IF((VLOOKUP(A169,'plan gier'!$Z:$AH,7,FALSE))=\"\",\"\",VLOOKUP(A169,'plan gier'!$Z:$AH,9,FALSE)))","v":""},null,null,null,{"$f":"IF(A169=0,\"\",IF(VLOOKUP(A169,'plan gier'!A:T,20,FALSE)=\"\",\"\",VLOOKUP(A169,'plan gier'!A:T,20,FALSE)))","v":""},{"$f":"N141","v":"podwójna dziewcząt"},null,null,null,null,null,null,{"$f":"UPPER(IF(O168=\"\",\"\",IF(ISTEXT(N169),N169,IF(AND(N140>0,O168>0),VLOOKUP(N140&O168&N141,I:K,3,FALSE),\"\"))))","v":""},null,{"$f":"IF(T169<>\"\",CONCATENATE(VLOOKUP(T169,zawodnicy!$A:$E,2,FALSE),\" \",VLOOKUP(T169,zawodnicy!$A:$E,3,FALSE),\" - \",VLOOKUP(T169,zawodnicy!$A:$E,4,FALSE)),\"\")","v":""},null,null,null,null,{"$f":"IF(ISBLANK(Z169),IF(AND(LEN(X167)>0,LEN(X171)=0),X167,IF(AND(LEN(X171)>0,LEN(X167)=0),X171,\"\")),IF((VLOOKUP(Z169,'plan gier'!$Z:$AH,8,FALSE))=\"\",\"\",VLOOKUP(VLOOKUP(Z169,'plan gier'!$Z:$AH,8,FALSE),zawodnicy!$A:$E,3,FALSE)))","v":""}]
[null,null,null,null,null,null,null,null,null,null,null,null,null,null,{"$f":"IF(P170=\"\",\"\",MAX(O142:O169)+1)","v":15},{"$f":"IF(O140>14,30,\"\")","v":30},{"$f":"O170","v":15},null,null,{"$f":"UPPER(IF(O170=\"\",\"\",IF(ISTEXT(N170),N170,IF(AND(N140>0,O170>0),VLOOKUP(N140&O170&N141,I:K,2,FALSE),\"\"))))","v":""},null,{"$f":"IF(T170<>\"\",CONCATENATE(VLOOKUP(T170,zawodnicy!$A:$E,2,FALSE),\" \",VLOOKUP(T170,zawodnicy!$A:$E,3,FALSE),\" - \",VLOOKUP(T170,zawodnicy!$A:$E,4,FALSE)),\"\")","v":""},null,{"$f":"IF(ISBLANK(W171),IF(AND(LEN(T170)>0,LEN(T172)=0),VLOOKUP(T170,zawodnicy!$A:$E,3,FALSE),IF(AND(LEN(T172)>0,LEN(T170)=0),VLOOKUP(T172,zawodnicy!$A:$E,3,FALSE),\"\")),IF((VLOOKUP(W171,'plan gier'!$Z:$AH,7,FALSE))=\"\",\"\",VLOOKUP(VLOOKUP(W171,'plan gier'!$Z:$AH,7,FALSE),zawodnicy!$A:$E,3,FALSE)))","v":""},null,null,{"$f":"IF(ISBLANK(Z169),\"\",IF((VLOOKUP(Z169,'plan gier'!$Z:$AH,7,FALSE))=\"\",L169,VLOOKUP(Z169,'plan gier'!$Z:$AH,9,FALSE)))","v":""}]
[{"$f":"W171","v":0},{"$f":"IF(TYPE(T170)=16,\"\",T170)","v":""},{"$f":"IF(TYPE(T171)=16,\"\",T171)","v":""},{"$f":"IF(TYPE(T172)=16,\"\",T172)","v":""},{"$f":"IF(TYPE(T173)=16,\"\",T173)","v":""},{"$f":"IF(A171=0,IF(AND(LEN(B171)>1,LEN(D171)=0),VLOOKUP(B171,zawodnicy!$A:$E,1,FALSE),IF(AND(LEN(D171)>1,LEN(B171)=0),VLOOKUP(D171,zawodnicy!$A:$E,1,FALSE),\"\")),IF((VLOOKUP(A171,'plan gier'!$Z:$AH,7,FALSE))=\"\",\"\",VLOOKUP(VLOOKUP(A171,'plan gier'!$Z:$AH,7,FALSE),zawodnicy!$A:$E,1,FALSE)))","v":""},{"$f":"IF(A171=0,IF(AND(LEN(C171)>1,LEN(E171)=0),VLOOKUP(C171,zawodnicy!$A:$E,1,FALSE),IF(AND(LEN(E171)>1,LEN(C171)=0),VLOOKUP(E171,zawodnicy!$A:$E,1,FALSE),\"\")),IF((VLOOKUP(A171,'plan gier'!$Z:$AH,8,FALSE))=\"\",\"\",VLOOKUP(VLOOKUP(A171,'plan gier'!$Z:$AH,8,FALSE),zawodnicy!$A:$E,1,FALSE)))","v":""},{"$f":"IF(A171=0,\"\",IF((VLOOKUP(A171,'plan gier'!$Z:$AH,7,FALSE))=\"\",\"\",VLOOKUP(A171,'plan gier'!$Z:$AH,9,FALSE)))","v":""},null,null,null,{"$f":"IF(A171=0,\"\",IF(VLOOKUP(A171,'plan gier'!A:T,20,FALSE)=\"\",\"\",VLOOKUP(A171,'plan gier'!A:T,20,FALSE)))","v":""},{"$f":"N141","v":"podwójna dziewcząt"},null,null,null,null,null,null,{"$f":"UPPER(IF(O170=\"\",\"\",IF(ISTEXT(N171),N171,IF(AND(N140>0,O170>0),VLOOKUP(N140&O170&N141,I:K,3,FALSE),\"\"))))","v":""},null,{"$f":"IF(T171<>\"\",CONCATENATE(VLOOKUP(T171,zawodnicy!$A:$E,2,FALSE),\" \",VLOOKUP(T171,zawodnicy!$A:$E,3,FALSE),\" - \",VLOOKUP(T171,zawodnicy!$A:$E,4,FALSE)),\"\")","v":""},null,{"$f":"IF(ISBLANK(W171),IF(AND(LEN(T171)>0,LEN(T173)=0),VLOOKUP(T171,zawodnicy!$A:$E,3,FALSE),IF(AND(LEN(T173)>0,LEN(T171)=0),VLOOKUP(T173,zawodnicy!$A:$E,3,FALSE),\"\")),IF((VLOOKUP(W171,'plan gier'!$Z:$AH,8,FALSE))=\"\",\"\",VLOOKUP(VLOOKUP(W171,'plan gier'!$Z:$AH,8,FALSE),zawodnicy!$A:$E,3,FALSE)))","v":""}]
[null,null,null,null,null,null,null,null,null,null,null,null,null,null,{"$f":"IF(P172=\"\",\"\",MAX(O142:O171)+1)","v":16},{"$f":"IF(O140>8,32,\"\")","v":32},{"$f":"O172","v":16},null,null,{"$f":"UPPER(IF(O172=\"\",\"\",IF(ISTEXT(N172),N172,IF(AND(N140>0,O172>0),VLOOKUP(N140&O172&N141,I:K,2,FALSE),\"\"))))","v":""},null,{"$f":"IF(T172<>\"\",CONCATENATE(VLOOKUP(T172,zawodnicy!$A:$E,2,FALSE),\" \",VLOOKUP(T172,zawodnicy!$A:$E,3,FALSE),\" - \",VLOOKUP(T172,zawodnicy!$A:$E,4,FALSE)),\"\")","v":""},null,{"$f":"IF(ISBLANK(W171),\"\",IF((VLOOKUP(W171,'plan gier'!$Z:$AH,7,FALSE))=\"\",L171,VLOOKUP(W171,'plan gier'!$Z:$AH,9,FALSE)))","v":""}]
[null,null,null,null,null,null,null,null,null,null,null,null,null,null,null,null,null,null,null,{"$f":"UPPER(IF(O172=\"\",\"\",IF(ISTEXT(N173),N173,IF(AND(N140>0,O172>0),VLOOKUP(N140&O172&N141,I:K,3,FALSE),\"\"))))","v":""},null,{"$f":"IF(T173<>\"\",CONCATENATE(VLOOKUP(T173,zawodnicy!$A:$E,2,FALSE),\" \",VLOOKUP(T173,zawodnicy!$A:$E,3,FALSE),\" - \",VLOOKUP(T173,zawodnicy!$A:$E,4,FALSE)),\"\")","v":""}]
[]
[]
[null,null,null,null,null,null,null,null,null,null,null,null,null,null,8]
[]
[null,null,null,null,null,null,null,null,null,null,null,null,null,null,{"$f":"IF(P178=\"\",\"\",1)","v":1},{"$f":"IF(O176>4,1,\"\")","v":1},{"$f":"O178","v":1},null,null,{"$f":"UPPER(IF(O178=\"\",\"\",IF(ISTEXT(N178),N178,IF(AND(N176>0,O178>0),VLOOKUP(N176&O178&N177,I:K,2,FALSE),\"\"))))","v":""},null,{"$f":"IF(T178<>\"\",CONCATENATE(VLOOKUP(T178,zawodnicy!$A:$E,2,FALSE),\" \",VLOOKUP(T178,zawodnicy!$A:$E,3,FALSE),\" - \",VLOOKUP(T178,zawodnicy!$A:$E,4,FALSE)),\"\")","v":""},null,{"$f":"IF(ISBLANK(W179),IF(AND(LEN(T178)>0,LEN(T180)=0),VLOOKUP(T178,zawodnicy!$A:$E,3,FALSE),IF(AND(LEN(T180)>0,LEN(T178)=0),VLOOKUP(T180,zawodnicy!$A:$E,3,FALSE),\"\")),IF((VLOOKUP(W179,'plan gier'!$Z:$AH,7,FALSE))=\"\",\"\",VLOOKUP(VLOOKUP(W179,'plan gier'!$Z:$AH,7,FALSE),zawodnicy!$A:$E,3,FALSE)))","v":""}]
[{"$f":"W179","v":0},{"$f":"IF(TYPE(T178)=16,\"\",T178)","v":""},{"$f":"IF(TYPE(T179)=16,\"\",T179)","v":""},{"$f":"IF(TYPE(T180)=16,\"\",T180)","v":""},{"$f":"IF(TYPE(T181)=16,\"\",T181)","v":""},{"$f":"IF(A179=0,IF(AND(LEN(B179)>1,LEN(D179)=0),VLOOKUP(B179,zawodnicy!$A:$E,1,FALSE),IF(AND(LEN(D179)>1,LEN(B179)=0),VLOOKUP(D179,zawodnicy!$A:$E,1,FALSE),\"\")),IF((VLOOKUP(A179,'plan gier'!$Z:$AH,7,FALSE))=\"\",\"\",VLOOKUP(VLOOKUP(A179,'plan gier'!$Z:$AH,7,FALSE),zawodnicy!$A:$E,1,FALSE)))","v":""},{"$f":"IF(A179=0,IF(AND(LEN(C179)>1,LEN(E179)=0),VLOOKUP(C179,zawodnicy!$A:$E,1,FALSE),IF(AND(LEN(E179)>1,LEN(C179)=0),VLOOKUP(E179,zawodnicy!$A:$E,1,FALSE),\"\")),IF((VLOOKUP(A179,'plan gier'!$Z:$AH,8,FALSE))=\"\",\"\",VLOOKUP(VLOOKUP(A179,'plan gier'!$Z:$AH,8,FALSE),zawodnicy!$A:$E,1,FALSE)))","v":""},{"$f":"IF(A179=0,\"\",IF((VLOOKUP(A179,'plan gier'!$Z:$AH,7,FALSE))=\"\",\"\",VLOOKUP(A179,'plan gier'!$Z:$AH,9,FALSE)))","v":""},null,null,null,{"$f":"IF(A179=0,\"\",IF(VLOOKUP(A179,'plan gier'!A:T,20,FALSE)=\"\",\"\",VLOOKUP(A179,'plan gier'!A:T,20,FALSE)))","v":""},{"$f":"N177","v":0},null,null,null,null,null,null,{"$f":"UPPER(IF(O178=\"\",\"\",IF(ISTEXT(N179),N179,IF(AND(N176>0,O178>0),VLOOKUP(N176&O178&N177,I:K,3,FALSE),\"\"))))","v":""},null,{"$f":"IF(T179<>\"\",CONCATENATE(VLOOKUP(T179,zawodnicy!$A:$E,2,FALSE),\" \",VLOOKUP(T179,zawodnicy!$A:$E,3,FALSE),\" - \",VLOOKUP(T179,zawodnicy!$A:$E,4,FALSE)),\"\")","v":""},null,{"$f":"IF(ISBLANK(W179),IF(AND(LEN(T179)>0,LEN(T181)=0),VLOOKUP(T179,zawodnicy!$A:$E,3,FALSE),IF(AND(LEN(T181)>0,LEN(T179)=0),VLOOKUP(T181,zawodnicy!$A:$E,3,FALSE),\"\")),IF((VLOOKUP(W179,'plan gier'!$Z:$AH,8,FALSE))=\"\",\"\",VLOOKUP(VLOOKUP(W179,'plan gier'!$Z:$AH,8,FALSE),zawodnicy!$A:$E,3,FALSE)))","v":""}]
[null,null,null,null,null,null,null,null,null,null,null,null,null,null,{"$f":"IF(P180=\"\",\"\",MAX(O178:O179)+1)","v":2},{"$f":"IF(O176>7,5,\"\")","v":5},{"$f":"O180","v":2},null,null,{"$f":"UPPER(IF(O180=\"\",\"\",IF(ISTEXT(N180),N180,IF(AND(N176>0,O180>0),VLOOKUP(N176&O180&N177,I:K,2,FALSE),\"\"))))","v":""},null,{"$f":"IF(T180<>\"\",CONCATENATE(VLOOKUP(T180,zawodnicy!$A:$E,2,FALSE),\" \",VLOOKUP(T180,zawodnicy!$A:$E,3,FALSE),\" - \",VLOOKUP(T180,zawodnicy!$A:$E,4,FALSE)),\"\")","v":""},null,{"$f":"IF(ISBLANK(W179),\"\",IF((VLOOKUP(W179,'plan gier'!$Z:$AH,7,FALSE))=\"\",L179,VLOOKUP(W179,'plan gier'!$Z:$AH,9,FALSE)))","v":""},null,null,{"$f":"IF(ISBLANK(Z181),IF(AND(LEN(X178)>0,LEN(X182)=0),X178,IF(AND(LEN(X182)>0,LEN(X178)=0),X182,\"\")),IF((VLOOKUP(Z181,'plan gier'!$Z:$AH,7,FALSE))=\"\",\"\",VLOOKUP(VLOOKUP(Z181,'plan gier'!$Z:$AH,7,FALSE),zawodnicy!$A:$E,3,FALSE)))","v":""}]
[{"$f":"Z181","v":0},{"$f":"F179","v":""},{"$f":"G179","v":""},{"$f":"F183","v":""},{"$f":"G183","v":""},{"$f":"IF(A181=0,IF(AND(LEN(B181)>0,LEN(D181)=0),B181,IF(AND(LEN(D181)>0,LEN(B181)=0),D181,\"\")),IF((VLOOKUP(A181,'plan gier'!$Z:$AH,7,FALSE))=\"\",\"\",VLOOKUP(VLOOKUP(A181,'plan gier'!$Z:$AH,7,FALSE),zawodnicy!$A:$E,1,FALSE)))","v":""},{"$f":"IF(A181=0,IF(AND(LEN(C181)>0,LEN(E181)=0),C181,IF(AND(LEN(E181)>0,LEN(C181)=0),E181,\"\")),IF((VLOOKUP(A181,'plan gier'!$Z:$AH,8,FALSE))=\"\",\"\",VLOOKUP(VLOOKUP(A181,'plan gier'!$Z:$AH,8,FALSE),zawodnicy!$A:$E,1,FALSE)))","v":""},{"$f":"IF(A181=0,\"\",IF((VLOOKUP(A181,'plan gier'!$Z:$AH,7,FALSE))=\"\",\"\",VLOOKUP(A181,'plan gier'!$Z:$AH,9,FALSE)))","v":""},null,null,null,{"$f":"IF(A181=0,\"\",IF(VLOOKUP(A181,'plan gier'!A:T,20,FALSE)=\"\",\"\",VLOOKUP(A181,'plan gier'!A:T,20,FALSE)))","v":""},{"$f":"N177","v":0},null,null,null,null,null,null,{"$f":"UPPER(IF(O180=\"\",\"\",IF(ISTEXT(N181),N181,IF(AND(N176>0,O180>0),VLOOKUP(N176&O180&N177,I:K,3,FALSE),\"\"))))","v":""},null,{"$f":"IF(T181<>\"\",CONCATENATE(VLOOKUP(T181,zawodnicy!$A:$E,2,FALSE),\" \",VLOOKUP(T181,zawodnicy!$A:$E,3,FALSE),\" - \",VLOOKUP(T181,zawodnicy!$A:$E,4,FALSE)),\"\")","v":""},null,null,null,null,{"$f":"IF(ISBLANK(Z181),IF(AND(LEN(X179)>0,LEN(X183)=0),X179,IF(AND(LEN(X183)>0,LEN(X179)=0),X183,\"\")),IF((VLOOKUP(Z181,'plan gier'!$Z:$AH,8,FALSE))=\"\",\"\",VLOOKUP(VLOOKUP(Z181,'plan gier'!$Z:$AH,8,FALSE),zawodnicy!$A:$E,3,FALSE)))","v":""}]
[null,null,null,null,null,null,null,null,null,null,null,null,null,null,{"$f":"IF(P182=\"\",\"\",MAX(O178:O181)+1)","v":3},{"$f":"IF(O176>4,9,\"\")","v":9},{"$f":"O182","v":3},null,null,{"$f":"UPPER(IF(O182=\"\",\"\",IF(ISTEXT(N182),N182,IF(AND(N176>0,O182>0),VLOOKUP(N176&O182&N177,I:K,2,FALSE),\"\"))))","v":""},null,{"$f":"IF(T182<>\"\",CONCATENATE(VLOOKUP(T182,zawodnicy!$A:$E,2,FALSE),\" \",VLOOKUP(T182,zawodnicy!$A:$E,3,FALSE),\" - \",VLOOKUP(T182,zawodnicy!$A:$E,4,FALSE)),\"\")","v":""},null,{"$f":"IF(ISBLANK(W183),IF(AND(LEN(T182)>0,LEN(T184)=0),VLOOKUP(T182,zawodnicy!$A:$E,3,FALSE),IF(AND(LEN(T184)>0,LEN(T182)=0),VLOOKUP(T184,zawodnicy!$A:$E,3,FALSE),\"\")),IF((VLOOKUP(W183,'plan gier'!$Z:$AH,7,FALSE))=\"\",\"\",VLOOKUP(VLOOKUP(W183,'plan gier'!$Z:$AH,7,FALSE),zawodnicy!$A:$E,3,FALSE)))","v":""},null,null,{"$f":"IF(ISBLANK(Z181),\"\",IF((VLOOKUP(Z181,'plan gier'!$Z:$AH,7,FALSE))=\"\",L181,VLOOKUP(Z181,'plan gier'!$Z:$AH,9,FALSE)))","v":""}]
[{"$f":"W183","v":0},{"$f":"IF(TYPE(T182)=16,\"\",T182)","v":""},{"$f":"IF(TYPE(T183)=16,\"\",T183)","v":""},{"$f":"IF(TYPE(T184)=16,\"\",T184)","v":""},{"$f":"IF(TYPE(T185)=16,\"\",T185)","v":""},{"$f":"IF(A183=0,IF(AND(LEN(B183)>1,LEN(D183)=0),VLOOKUP(B183,zawodnicy!$A:$E,1,FALSE),IF(AND(LEN(D183)>1,LEN(B183)=0),VLOOKUP(D183,zawodnicy!$A:$E,1,FALSE),\"\")),IF((VLOOKUP(A183,'plan gier'!$Z:$AH,7,FALSE))=\"\",\"\",VLOOKUP(VLOOKUP(A183,'plan gier'!$Z:$AH,7,FALSE),zawodnicy!$A:$E,1,FALSE)))","v":""},{"$f":"IF(A183=0,IF(AND(LEN(C183)>1,LEN(E183)=0),VLOOKUP(C183,zawodnicy!$A:$E,1,FALSE),IF(AND(LEN(E183)>1,LEN(C183)=0),VLOOKUP(E183,zawodnicy!$A:$E,1,FALSE),\"\")),IF((VLOOKUP(A183,'plan gier'!$Z:$AH,8,FALSE))=\"\",\"\",VLOOKUP(VLOOKUP(A183,'plan gier'!$Z:$AH,8,FALSE),zawodnicy!$A:$E,1,FALSE)))","v":""},{"$f":"IF(A183=0,\"\",IF((VLOOKUP(A183,'plan gier'!$Z:$AH,7,FALSE))=\"\",\"\",VLOOKUP(A183,'plan gier'!$Z:$AH,9,FALSE)))","v":""},null,null,null,{"$f":"IF(A183=0,\"\",IF(VLOOKUP(A183,'plan gier'!A:T,20,FALSE)=\"\",\"\",VLOOKUP(A183,'plan gier'!A:T,20,FALSE)))","v":""},{"$f":"N177","v":0},null,null,null,null,null,null,{"$f":"UPPER(IF(O182=\"\",\"\",IF(ISTEXT(N183),N183,IF(AND(N176>0,O182>0),VLOOKUP(N176&O182&N177,I:K,3,FALSE),\"\"))))","v":""},null,{"$f":"IF(T183<>\"\",CONCATENATE(VLOOKUP(T183,zawodnicy!$A:$E,2,FALSE),\" \",VLOOKUP(T183,zawodnicy!$A:$E,3,FALSE),\" - \",VLOOKUP(T183,zawodnicy!$A:$E,4,FALSE)),\"\")","v":""},null,{"$f":"IF(ISBLANK(W183),IF(AND(LEN(T183)>0,LEN(T185)=0),VLOOKUP(T183,zawodnicy!$A:$E,3,FALSE),IF(AND(LEN(T185)>0,LEN(T183)=0),VLOOKUP(T185,zawodnicy!$A:$E,3,FALSE),\"\")),IF((VLOOKUP(W183,'plan gier'!$Z:$AH,8,FALSE))=\"\",\"\",VLOOKUP(VLOOKUP(W183,'plan gier'!$Z:$AH,8,FALSE),zawodnicy!$A:$E,3,FALSE)))","v":""}]
[null,null,null,null,null,null,null,null,null,null,null,null,null,null,{"$f":"IF(P184=\"\",\"\",MAX(O178:O183)+1)","v":4},{"$f":"IF(O176>5,13,\"\")","v":13},{"$f":"O184","v":4},null,null,{"$f":"UPPER(IF(O184=\"\",\"\",IF(ISTEXT(N184),N184,IF(AND(N176>0,O184>0),VLOOKUP(N176&O184&N177,I:K,2,FALSE),\"\"))))","v":""},null,{"$f":"IF(T184<>\"\",CONCATENATE(VLOOKUP(T184,zawodnicy!$A:$E,2,FALSE),\" \",VLOOKUP(T184,zawodnicy!$A:$E,3,FALSE),\" - \",VLOOKUP(T184,zawodnicy!$A:$E,4,FALSE)),\"\")","v":""},null,{"$f":"IF(ISBLANK(W183),\"\",IF((VLOOKUP(W183,'plan gier'!$Z:$AH,7,FALSE))=\"\",L183,VLOOKUP(W183,'plan gier'!$Z:$AH,9,FALSE)))","v":""},null,null,null,null,null,{"$f":"IF(ISBLANK(AC185),IF(AND(LEN(AA180)>0,LEN(AA188)=0),AA180,IF(AND(LEN(AA188)>0,LEN(AA180)=0),AA188,\"\")),IF((VLOOKUP(AC185,'plan gier'!$Z:$AH,7,FALSE))=\"\",\"\",VLOOKUP(VLOOKUP(AC185,'plan gier'!$Z:$AH,7,FALSE),zawodnicy!$A:$E,3,FALSE)))","v":""}]
[{"$f":"AC185","v":0},{"$f":"F181","v":""},{"$f":"G181","v":""},{"$f":"F189","v":""},{"$f":"G189","v":""},{"$f":"IF(A185=0,IF(AND(LEN(B185)>0,LEN(D185)=0),B185,IF(AND(LEN(D185)>0,LEN(B185)=0),D185,\"\")),IF((VLOOKUP(A185,'plan gier'!$Z:$AH,7,FALSE))=\"\",\"\",VLOOKUP(VLOOKUP(A185,'plan gier'!$Z:$AH,7,FALSE),zawodnicy!$A:$E,1,FALSE)))","v":""},{"$f":"IF(A185=0,IF(AND(LEN(C185)>0,LEN(E185)=0),C185,IF(AND(LEN(E185)>0,LEN(C185)=0),E185,\"\")),IF((VLOOKUP(A185,'plan gier'!$Z:$AH,8,FALSE))=\"\",\"\",VLOOKUP(VLOOKUP(A185,'plan gier'!$Z:$AH,8,FALSE),zawodnicy!$A:$E,1,FALSE)))","v":""},{"$f":"IF(A185=0,\"\",IF((VLOOKUP(A185,'plan gier'!$Z:$AH,7,FALSE))=\"\",\"\",VLOOKUP(A185,'plan gier'!$Z:$AH,9,FALSE)))","v":""},null,null,null,{"$f":"IF(A185=0,\"\",IF(VLOOKUP(A185,'plan gier'!A:T,20,FALSE)=\"\",\"\",VLOOKUP(A185,'plan gier'!A:T,20,FALSE)))","v":""},{"$f":"N177","v":0},null,null,null,null,null,null,{"$f":"UPPER(IF(O184=\"\",\"\",IF(ISTEXT(N185),N185,IF(AND(N176>0,O184>0),VLOOKUP(N176&O184&N177,I:K,3,FALSE),\"\"))))","v":""},null,{"$f":"IF(T185<>\"\",CONCATENATE(VLOOKUP(T185,zawodnicy!$A:$E,2,FALSE),\" \",VLOOKUP(T185,zawodnicy!$A:$E,3,FALSE),\" - \",VLOOKUP(T185,zawodnicy!$A:$E,4,FALSE)),\"\")","v":""},null,null,null,null,null,null,null,{"$f":"IF(ISBLANK(AC185),IF(AND(LEN(AA181)>0,LEN(AA189)=0),AA181,IF(AND(LEN(AA189)>0,LEN(AA181)=0),AA189,\"\")),IF((VLOOKUP(AC185,'plan gier'!$Z:$AH,8,FALSE))=\"\",\"\",VLOOKUP(VLOOKUP(AC185,'plan gier'!$Z:$AH,8,FALSE),zawodnicy!$A:$E,3,FALSE)))","v":""}]
[null,null,null,null,null,null,null,null,null,null,null,null,null,null,{"$f":"IF(P186=\"\",\"\",MAX(O178:O185)+1)","v":5},{"$f":"IF(O176>4,20,\"\")","v":20},{"$f":"O186","v":5},null,null,{"$f":"UPPER(IF(O186=\"\",\"\",IF(ISTEXT(N186),N186,IF(AND(N176>0,O186>0),VLOOKUP(N176&O186&N177,I:K,2,FALSE),\"\"))))","v":""},null,{"$f":"IF(T186<>\"\",CONCATENATE(VLOOKUP(T186,zawodnicy!$A:$E,2,FALSE),\" \",VLOOKUP(T186,zawodnicy!$A:$E,3,FALSE),\" - \",VLOOKUP(T186,zawodnicy!$A:$E,4,FALSE)),\"\")","v":""},null,{"$f":"IF(ISBLANK(W187),IF(AND(LEN(T186)>0,LEN(T188)=0),VLOOKUP(T186,zawodnicy!$A:$E,3,FALSE),IF(AND(LEN(T188)>0,LEN(T186)=0),VLOOKUP(T188,zawodnicy!$A:$E,3,FALSE),\"\")),IF((VLOOKUP(W187,'plan gier'!$Z:$AH,7,FALSE))=\"\",\"\",VLOOKUP(VLOOKUP(W187,'plan gier'!$Z:$AH,7,FALSE),zawodnicy!$A:$E,3,FALSE)))","v":""},null,null,null,null,null,{"$f":"IF(ISBLANK(AC185),\"\",IF((VLOOKUP(AC185,'plan gier'!$Z:$AH,7,FALSE))=\"\",L185,VLOOKUP(AC185,'plan gier'!$Z:$AH,9,FALSE)))","v":""}]
[{"$f":"W187","v":0},{"$f":"IF(TYPE(T186)=16,\"\",T186)","v":""},{"$f":"IF(TYPE(T187)=16,\"\",T187)","v":""},{"$f":"IF(TYPE(T188)=16,\"\",T188)","v":""},{"$f":"IF(TYPE(T189)=16,\"\",T189)","v":""},{"$f":"IF(A187=0,IF(AND(LEN(B187)>1,LEN(D187)=0),VLOOKUP(B187,zawodnicy!$A:$E,1,FALSE),IF(AND(LEN(D187)>1,LEN(B187)=0),VLOOKUP(D187,zawodnicy!$A:$E,1,FALSE),\"\")),IF((VLOOKUP(A187,'plan gier'!$Z:$AH,7,FALSE))=\"\",\"\",VLOOKUP(VLOOKUP(A187,'plan gier'!$Z:$AH,7,FALSE),zawodnicy!$A:$E,1,FALSE)))","v":""},{"$f":"IF(A187=0,IF(AND(LEN(C187)>1,LEN(E187)=0),VLOOKUP(C187,zawodnicy!$A:$E,1,FALSE),IF(AND(LEN(E187)>1,LEN(C187)=0),VLOOKUP(E187,zawodnicy!$A:$E,1,FALSE),\"\")),IF((VLOOKUP(A187,'plan gier'!$Z:$AH,8,FALSE))=\"\",\"\",VLOOKUP(VLOOKUP(A187,'plan gier'!$Z:$AH,8,FALSE),zawodnicy!$A:$E,1,FALSE)))","v":""},{"$f":"IF(A187=0,\"\",IF((VLOOKUP(A187,'plan gier'!$Z:$AH,7,FALSE))=\"\",\"\",VLOOKUP(A187,'plan gier'!$Z:$AH,9,FALSE)))","v":""},null,null,null,{"$f":"IF(A187=0,\"\",IF(VLOOKUP(A187,'plan gier'!A:T,20,FALSE)=\"\",\"\",VLOOKUP(A187,'plan gier'!A:T,20,FALSE)))","v":""},{"$f":"N177","v":0},null,null,null,null,null,null,{"$f":"UPPER(IF(O186=\"\",\"\",IF(ISTEXT(N187),N187,IF(AND(N176>0,O186>0),VLOOKUP(N176&O186&N177,I:K,3,FALSE),\"\"))))","v":""},null,{"$f":"IF(T187<>\"\",CONCATENATE(VLOOKUP(T187,zawodnicy!$A:$E,2,FALSE),\" \",VLOOKUP(T187,zawodnicy!$A:$E,3,FALSE),\" - \",VLOOKUP(T187,zawodnicy!$A:$E,4,FALSE)),\"\")","v":""},null,{"$f":"IF(ISBLANK(W187),IF(AND(LEN(T187)>0,LEN(T189)=0),VLOOKUP(T187,zawodnicy!$A:$E,3,FALSE),IF(AND(LEN(T189)>0,LEN(T187)=0),VLOOKUP(T189,zawodnicy!$A:$E,3,FALSE),\"\")),IF((VLOOKUP(W187,'plan gier'!$Z:$AH,8,FALSE))=\"\",\"\",VLOOKUP(VLOOKUP(W187,'plan gier'!$Z:$AH,8,FALSE),zawodnicy!$A:$E,3,FALSE)))","v":""}]
[null,null,null,null,null,null,null,null,null,null,null,null,null,null,{"$f":"IF(P188=\"\",\"\",MAX(O178:O187)+1)","v":6},{"$f":"IF(O176>4,24,\"\")","v":24},{"$f":"O188","v":6},null,null,{"$f":"UPPER(IF(O188=\"\",\"\",IF(ISTEXT(N188),N188,IF(AND(N176>0,O188>0),VLOOKUP(N176&O188&N177,I:K,2,FALSE),\"\"))))","v":""},null,{"$f":"IF(T188<>\"\",CONCATENATE(VLOOKUP(T188,zawodnicy!$A:$E,2,FALSE),\" \",VLOOKUP(T188,zawodnicy!$A:$E,3,FALSE),\" - \",VLOOKUP(T188,zawodnicy!$A:$E,4,FALSE)),\"\")","v":""},null,{"$f":"IF(ISBLANK(W187),\"\",IF((VLOOKUP(W187,'plan gier'!$Z:$AH,7,FALSE))=\"\",L187,VLOOKUP(W187,'plan gier'!$Z:$AH,9,FALSE)))","v":""},null,null,{"$f":"IF(ISBLANK(Z189),IF(AND(LEN(X186)>0,LEN(X190)=0),X186,IF(AND(LEN(X190)>0,LEN(X186)=0),X190,\"\")),IF((VLOOKUP(Z189,'plan gier'!$Z:$AH,7,FALSE))=\"\",\"\",VLOOKUP(VLOOKUP(Z189,'plan gier'!$Z:$AH,7,FALSE),zawodnicy!$A:$E,3,FALSE)))","v":""}]
[{"$f":"Z189","v":0},{"$f":"F187","v":""},{"$f":"G187","v":""},{"$f":"F191","v":""},{"$f":"G191","v":""},{"$f":"IF(A189=0,IF(AND(LEN(B189)>0,LEN(D189)=0),B189,IF(AND(LEN(D189)>0,LEN(B189)=0),D189,\"\")),IF((VLOOKUP(A189,'plan gier'!$Z:$AH,7,FALSE))=\"\",\"\",VLOOKUP(VLOOKUP(A189,'plan gier'!$Z:$AH,7,FALSE),zawodnicy!$A:$E,1,FALSE)))","v":""},{"$f":"IF(A189=0,IF(AND(LEN(C189)>0,LEN(E189)=0),C189,IF(AND(LEN(E189)>0,LEN(C189)=0),E189,\"\")),IF((VLOOKUP(A189,'plan gier'!$Z:$AH,8,FALSE))=\"\",\"\",VLOOKUP(VLOOKUP(A189,'plan gier'!$Z:$AH,8,FALSE),zawodnicy!$A:$E,1,FALSE)))","v":""},{"$f":"IF(A189=0,\"\",IF((VLOOKUP(A189,'plan gier'!$Z:$AH,7,FALSE))=\"\",\"\",VLOOKUP(A189,'plan gier'!$Z:$AH,9,FALSE)))","v":""},null,null,null,{"$f":"IF(A189=0,\"\",IF(VLOOKUP(A189,'plan gier'!A:T,20,FALSE)=\"\",\"\",VLOOKUP(A189,'plan gier'!A:T,20,FALSE)))","v":""},{"$f":"N177","v":0},null,null,null,null,null,null,{"$f":"UPPER(IF(O188=\"\",\"\",IF(ISTEXT(N189),N189,IF(AND(N176>0,O188>0),VLOOKUP(N176&O188&N177,I:K,3,FALSE),\"\"))))","v":""},null,{"$f":"IF(T189<>\"\",CONCATENATE(VLOOKUP(T189,zawodnicy!$A:$E,2,FALSE),\" \",VLOOKUP(T189,zawodnicy!$A:$E,3,FALSE),\" - \",VLOOKUP(T189,zawodnicy!$A:$E,4,FALSE)),\"\")","v":""},null,null,null,null,{"$f":"IF(ISBLANK(Z189),IF(AND(LEN(X187)>0,LEN(X191)=0),X187,IF(AND(LEN(X191)>0,LEN(X187)=0),X191,\"\")),IF((VLOOKUP(Z189,'plan gier'!$Z:$AH,8,FALSE))=\"\",\"\",VLOOKUP(VLOOKUP(Z189,'plan gier'!$Z:$AH,8,FALSE),zawodnicy!$A:$E,3,FALSE)))","v":""}]
[null,null,null,null,null,null,null,null,null,null,null,null,null,null,{"$f":"IF(P190=\"\",\"\",MAX(O178:O189)+1)","v":7},{"$f":"IF(O176>6,28,\"\")","v":28},{"$f":"O190","v":7},null,null,{"$f":"UPPER(IF(O190=\"\",\"\",IF(ISTEXT(N190),N190,IF(AND(N176>0,O190>0),VLOOKUP(N176&O190&N177,I:K,2,FALSE),\"\"))))","v":""},null,{"$f":"IF(T190<>\"\",CONCATENATE(VLOOKUP(T190,zawodnicy!$A:$E,2,FALSE),\" \",VLOOKUP(T190,zawodnicy!$A:$E,3,FALSE),\" - \",VLOOKUP(T190,zawodnicy!$A:$E,4,FALSE)),\"\")","v":""},null,{"$f":"IF(ISBLANK(W191),IF(AND(LEN(T190)>0,LEN(T192)=0),VLOOKUP(T190,zawodnicy!$A:$E,3,FALSE),IF(AND(LEN(T192)>0,LEN(T190)=0),VLOOKUP(T192,zawodnicy!$A:$E,3,FALSE),\"\")),IF((VLOOKUP(W191,'plan gier'!$Z:$AH,7,FALSE))=\"\",\"\",VLOOKUP(VLOOKUP(W191,'plan gier'!$Z:$AH,7,FALSE),zawodnicy!$A:$E,3,FALSE)))","v":""},null,null,{"$f":"IF(ISBLANK(Z189),\"\",IF((VLOOKUP(Z189,'plan gier'!$Z:$AH,7,FALSE))=\"\",L189,VLOOKUP(Z189,'plan gier'!$Z:$AH,9,FALSE)))","v":""}]
[{"$f":"W191","v":0},{"$f":"IF(TYPE(T190)=16,\"\",T190)","v":""},{"$f":"IF(TYPE(T191)=16,\"\",T191)","v":""},{"$f":"IF(TYPE(T192)=16,\"\",T192)","v":""},{"$f":"IF(TYPE(T193)=16,\"\",T193)","v":""},{"$f":"IF(A191=0,IF(AND(LEN(B191)>1,LEN(D191)=0),VLOOKUP(B191,zawodnicy!$A:$E,1,FALSE),IF(AND(LEN(D191)>1,LEN(B191)=0),VLOOKUP(D191,zawodnicy!$A:$E,1,FALSE),\"\")),IF((VLOOKUP(A191,'plan gier'!$Z:$AH,7,FALSE))=\"\",\"\",VLOOKUP(VLOOKUP(A191,'plan gier'!$Z:$AH,7,FALSE),zawodnicy!$A:$E,1,FALSE)))","v":""},{"$f":"IF(A191=0,IF(AND(LEN(C191)>1,LEN(E191)=0),VLOOKUP(C191,zawodnicy!$A:$E,1,FALSE),IF(AND(LEN(E191)>1,LEN(C191)=0),VLOOKUP(E191,zawodnicy!$A:$E,1,FALSE),\"\")),IF((VLOOKUP(A191,'plan gier'!$Z:$AH,8,FALSE))=\"\",\"\",VLOOKUP(VLOOKUP(A191,'plan gier'!$Z:$AH,8,FALSE),zawodnicy!$A:$E,1,FALSE)))","v":""},{"$f":"IF(A191=0,\"\",IF((VLOOKUP(A191,'plan gier'!$Z:$AH,7,FALSE))=\"\",\"\",VLOOKUP(A191,'plan gier'!$Z:$AH,9,FALSE)))","v":""},null,null,null,{"$f":"IF(A191=0,\"\",IF(VLOOKUP(A191,'plan gier'!A:T,20,FALSE)=\"\",\"\",VLOOKUP(A191,'plan gier'!A:T,20,FALSE)))","v":""},{"$f":"N177","v":0},null,null,null,null,null,null,{"$f":"UPPER(IF(O190=\"\",\"\",IF(ISTEXT(N191),N191,IF(AND(N176>0,O190>0),VLOOKUP(N176&O190&N177,I:K,3,FALSE),\"\"))))","v":""},null,{"$f":"IF(T191<>\"\",CONCATENATE(VLOOKUP(T191,zawodnicy!$A:$E,2,FALSE),\" \",VLOOKUP(T191,zawodnicy!$A:$E,3,FALSE),\" - \",VLOOKUP(T191,zawodnicy!$A:$E,4,FALSE)),\"\")","v":""},null,{"$f":"IF(ISBLANK(W191),IF(AND(LEN(T191)>0,LEN(T193)=0),VLOOKUP(T191,zawodnicy!$A:$E,3,FALSE),IF(AND(LEN(T193)>0,LEN(T191)=0),VLOOKUP(T193,zawodnicy!$A:$E,3,FALSE),\"\")),IF((VLOOKUP(W191,'plan gier'!$Z:$AH,8,FALSE))=\"\",\"\",VLOOKUP(VLOOKUP(W191,'plan gier'!$Z:$AH,8,FALSE),zawodnicy!$A:$E,3,FALSE)))","v":""}]
[null,null,null,null,null,null,null,null,null,null,null,null,null,null,{"$f":"IF(P192=\"\",\"\",MAX(O178:O191)+1)","v":8},{"$f":"IF(O176>4,32,\"\")","v":32},{"$f":"O192","v":8},null,null,{"$f":"UPPER(IF(O192=\"\",\"\",IF(ISTEXT(N192),N192,IF(AND(N176>0,O192>0),VLOOKUP(N176&O192&N177,I:K,2,FALSE),\"\"))))","v":""},null,{"$f":"IF(T192<>\"\",CONCATENATE(VLOOKUP(T192,zawodnicy!$A:$E,2,FALSE),\" \",VLOOKUP(T192,zawodnicy!$A:$E,3,FALSE),\" - \",VLOOKUP(T192,zawodnicy!$A:$E,4,FALSE)),\"\")","v":""},null,{"$f":"IF(ISBLANK(W191),\"\",IF((VLOOKUP(W191,'plan gier'!$Z:$AH,7,FALSE))=\"\",L191,VLOOKUP(W191,'plan gier'!$Z:$AH,9,FALSE)))","v":""}]
[null,null,null,null,null,null,null,null,null,null,null,null,null,null,null,null,null,null,null,{"$f":"UPPER(IF(O192=\"\",\"\",IF(ISTEXT(N193),N193,IF(AND(N176>0,O192>0),VLOOKUP(N176&O192&N177,I:K,3,FALSE),\"\"))))","v":""},null,{"$f":"IF(T193<>\"\",CONCATENATE(VLOOKUP(T193,zawodnicy!$A:$E,2,FALSE),\" \",VLOOKUP(T193,zawodnicy!$A:$E,3,FALSE),\" - \",VLOOKUP(T193,zawodnicy!$A:$E,4,FALSE)),\"\")","v":""}]
[]
[]
[]
[]
[null,null,null,null,null,null,null,null,null,null,null,null,null,null,4]
[]
[null,null,null,null,null,null,null,null,null,null,null,null,null,null,{"$f":"IF(P200=\"\",\"\",1)","v":1},{"$f":"IF(O198>2,1,\"\")","v":1},{"$f":"O200","v":1},null,null,{"$f":"UPPER(IF(O200=\"\",\"\",IF(ISTEXT(N200),N200,IF(AND(N198>0,O200>0),VLOOKUP(N198&O200&N199,I:K,2,FALSE),\"\"))))","v":""},null,{"$f":"IF(T200<>\"\",CONCATENATE(VLOOKUP(T200,zawodnicy!$A:$E,2,FALSE),\" \",VLOOKUP(T200,zawodnicy!$A:$E,3,FALSE),\" - \",VLOOKUP(T200,zawodnicy!$A:$E,4,FALSE)),\"\")","v":""},null,{"$f":"IF(ISBLANK(W201),IF(AND(LEN(T200)>0,LEN(T202)=0),VLOOKUP(T200,zawodnicy!$A:$E,3,FALSE),IF(AND(LEN(T202)>0,LEN(T200)=0),VLOOKUP(T202,zawodnicy!$A:$E,3,FALSE),\"\")),IF((VLOOKUP(W201,'plan gier'!$Z:$AH,7,FALSE))=\"\",\"\",VLOOKUP(VLOOKUP(W201,'plan gier'!$Z:$AH,7,FALSE),zawodnicy!$A:$E,3,FALSE)))","v":""}]
[{"$f":"W201","v":0},{"$f":"IF(TYPE(T200)=16,\"\",T200)","v":""},{"$f":"IF(TYPE(T201)=16,\"\",T201)","v":""},{"$f":"IF(TYPE(T202)=16,\"\",T202)","v":""},{"$f":"IF(TYPE(T203)=16,\"\",T203)","v":""},{"$f":"IF(A201=0,IF(AND(LEN(B201)>1,LEN(D201)=0),VLOOKUP(B201,zawodnicy!$A:$E,1,FALSE),IF(AND(LEN(D201)>1,LEN(B201)=0),VLOOKUP(D201,zawodnicy!$A:$E,1,FALSE),\"\")),IF((VLOOKUP(A201,'plan gier'!$Z:$AH,7,FALSE))=\"\",\"\",VLOOKUP(VLOOKUP(A201,'plan gier'!$Z:$AH,7,FALSE),zawodnicy!$A:$E,1,FALSE)))","v":""},{"$f":"IF(A201=0,IF(AND(LEN(C201)>1,LEN(E201)=0),VLOOKUP(C201,zawodnicy!$A:$E,1,FALSE),IF(AND(LEN(E201)>1,LEN(C201)=0),VLOOKUP(E201,zawodnicy!$A:$E,1,FALSE),\"\")),IF((VLOOKUP(A201,'plan gier'!$Z:$AH,8,FALSE))=\"\",\"\",VLOOKUP(VLOOKUP(A201,'plan gier'!$Z:$AH,8,FALSE),zawodnicy!$A:$E,1,FALSE)))","v":""},{"$f":"IF(A201=0,\"\",IF((VLOOKUP(A201,'plan gier'!$Z:$AH,7,FALSE))=\"\",\"\",VLOOKUP(A201,'plan gier'!$Z:$AH,9,FALSE)))","v":""},null,null,null,{"$f":"IF(A201=0,\"\",IF(VLOOKUP(A201,'plan gier'!A:T,20,FALSE)=\"\",\"\",VLOOKUP(A201,'plan gier'!A:T,20,FALSE)))","v":""},{"$f":"N199","v":0},null,null,null,null,null,null,{"$f":"UPPER(IF(O200=\"\",\"\",IF(ISTEXT(N201),N201,IF(AND(N198>0,O200>0),VLOOKUP(N198&O200&N199,I:K,3,FALSE),\"\"))))","v":""},null,{"$f":"IF(T201<>\"\",CONCATENATE(VLOOKUP(T201,zawodnicy!$A:$E,2,FALSE),\" \",VLOOKUP(T201,zawodnicy!$A:$E,3,FALSE),\" - \",VLOOKUP(T201,zawodnicy!$A:$E,4,FALSE)),\"\")","v":""},null,{"$f":"IF(ISBLANK(W201),IF(AND(LEN(T201)>0,LEN(T203)=0),VLOOKUP(T201,zawodnicy!$A:$E,3,FALSE),IF(AND(LEN(T203)>0,LEN(T201)=0),VLOOKUP(T203,zawodnicy!$A:$E,3,FALSE),\"\")),IF((VLOOKUP(W201,'plan gier'!$Z:$AH,8,FALSE))=\"\",\"\",VLOOKUP(VLOOKUP(W201,'plan gier'!$Z:$AH,8,FALSE),zawodnicy!$A:$E,3,FALSE)))","v":""}]
[null,null,null,null,null,null,null,null,null,null,null,null,null,null,{"$f":"IF(P202=\"\",\"\",MAX(O200:O201)+1)","v":2},{"$f":"IF(O198>3,9,\"\")","v":9},{"$f":"O202","v":2},null,null,{"$f":"UPPER(IF(O202=\"\",\"\",IF(ISTEXT(N202),N202,IF(AND(N198>0,O202>0),VLOOKUP(N198&O202&N199,I:K,2,FALSE),\"\"))))","v":""},null,{"$f":"IF(T202<>\"\",CONCATENATE(VLOOKUP(T202,zawodnicy!$A:$E,2,FALSE),\" \",VLOOKUP(T202,zawodnicy!$A:$E,3,FALSE),\" - \",VLOOKUP(T202,zawodnicy!$A:$E,4,FALSE)),\"\")","v":""},null,{"$f":"IF(ISBLANK(W201),\"\",IF((VLOOKUP(W201,'plan gier'!$Z:$AH,7,FALSE))=\"\",L201,VLOOKUP(W201,'plan gier'!$Z:$AH,9,FALSE)))","v":""},null,null,{"$f":"IF(ISBLANK(Z203),IF(AND(LEN(X200)>0,LEN(X204)=0),X200,IF(AND(LEN(X204)>0,LEN(X200)=0),X204,\"\")),IF((VLOOKUP(Z203,'plan gier'!$Z:$AH,7,FALSE))=\"\",\"\",VLOOKUP(VLOOKUP(Z203,'plan gier'!$Z:$AH,7,FALSE),zawodnicy!$A:$E,3,FALSE)))","v":""}]
[{"$f":"Z203","v":0},{"$f":"F201","v":""},{"$f":"G201","v":""},{"$f":"F205","v":""},{"$f":"G205","v":""},{"$f":"IF(A203=0,IF(AND(LEN(B203)>0,LEN(D203)=0),B203,IF(AND(LEN(D203)>0,LEN(B203)=0),D203,\"\")),IF((VLOOKUP(A203,'plan gier'!$Z:$AH,7,FALSE))=\"\",\"\",VLOOKUP(VLOOKUP(A203,'plan gier'!$Z:$AH,7,FALSE),zawodnicy!$A:$E,1,FALSE)))","v":""},{"$f":"IF(A203=0,IF(AND(LEN(C203)>0,LEN(E203)=0),C203,IF(AND(LEN(E203)>0,LEN(C203)=0),E203,\"\")),IF((VLOOKUP(A203,'plan gier'!$Z:$AH,8,FALSE))=\"\",\"\",VLOOKUP(VLOOKUP(A203,'plan gier'!$Z:$AH,8,FALSE),zawodnicy!$A:$E,1,FALSE)))","v":""},{"$f":"IF(A203=0,\"\",IF((VLOOKUP(A203,'plan gier'!$Z:$AH,7,FALSE))=\"\",\"\",VLOOKUP(A203,'plan gier'!$Z:$AH,9,FALSE)))","v":""},null,null,null,{"$f":"IF(A203=0,\"\",IF(VLOOKUP(A203,'plan gier'!A:T,20,FALSE)=\"\",\"\",VLOOKUP(A203,'plan gier'!A:T,20,FALSE)))","v":""},{"$f":"N199","v":0},null,null,null,null,null,null,{"$f":"UPPER(IF(O202=\"\",\"\",IF(ISTEXT(N203),N203,IF(AND(N198>0,O202>0),VLOOKUP(N198&O202&N199,I:K,3,FALSE),\"\"))))","v":""},null,{"$f":"IF(T203<>\"\",CONCATENATE(VLOOKUP(T203,zawodnicy!$A:$E,2,FALSE),\" \",VLOOKUP(T203,zawodnicy!$A:$E,3,FALSE),\" - \",VLOOKUP(T203,zawodnicy!$A:$E,4,FALSE)),\"\")","v":""},null,null,null,null,{"$f":"IF(ISBLANK(Z203),IF(AND(LEN(X201)>0,LEN(X205)=0),X201,IF(AND(LEN(X205)>0,LEN(X201)=0),X205,\"\")),IF((VLOOKUP(Z203,'plan gier'!$Z:$AH,8,FALSE))=\"\",\"\",VLOOKUP(VLOOKUP(Z203,'plan gier'!$Z:$AH,8,FALSE),zawodnicy!$A:$E,3,FALSE)))","v":""}]
[null,null,null,null,null,null,null,null,null,null,null,null,null,null,{"$f":"IF(P204=\"\",\"\",MAX(O200:O203)+1)","v":3},{"$f":"IF(O198>2,24,\"\")","v":24},{"$f":"O204","v":3},null,null,{"$f":"UPPER(IF(O204=\"\",\"\",IF(ISTEXT(N204),N204,IF(AND(N198>0,O204>0),VLOOKUP(N198&O204&N199,I:K,2,FALSE),\"\"))))","v":""},null,{"$f":"IF(T204<>\"\",CONCATENATE(VLOOKUP(T204,zawodnicy!$A:$E,2,FALSE),\" \",VLOOKUP(T204,zawodnicy!$A:$E,3,FALSE),\" - \",VLOOKUP(T204,zawodnicy!$A:$E,4,FALSE)),\"\")","v":""},null,{"$f":"IF(ISBLANK(W205),IF(AND(LEN(T204)>0,LEN(T206)=0),VLOOKUP(T204,zawodnicy!$A:$E,3,FALSE),IF(AND(LEN(T206)>0,LEN(T204)=0),VLOOKUP(T206,zawodnicy!$A:$E,3,FALSE),\"\")),IF((VLOOKUP(W205,'plan gier'!$Z:$AH,7,FALSE))=\"\",\"\",VLOOKUP(VLOOKUP(W205,'plan gier'!$Z:$AH,7,FALSE),zawodnicy!$A:$E,3,FALSE)))","v":""},null,null,{"$f":"IF(ISBLANK(Z203),\"\",IF((VLOOKUP(Z203,'plan gier'!$Z:$AH,7,FALSE))=\"\",L203,VLOOKUP(Z203,'plan gier'!$Z:$AH,9,FALSE)))","v":""}]
[{"$f":"W205","v":0},{"$f":"IF(TYPE(T204)=16,\"\",T204)","v":""},{"$f":"IF(TYPE(T205)=16,\"\",T205)","v":""},{"$f":"IF(TYPE(T206)=16,\"\",T206)","v":""},{"$f":"IF(TYPE(T207)=16,\"\",T207)","v":""},{"$f":"IF(A205=0,IF(AND(LEN(B205)>1,LEN(D205)=0),VLOOKUP(B205,zawodnicy!$A:$E,1,FALSE),IF(AND(LEN(D205)>1,LEN(B205)=0),VLOOKUP(D205,zawodnicy!$A:$E,1,FALSE),\"\")),IF((VLOOKUP(A205,'plan gier'!$Z:$AH,7,FALSE))=\"\",\"\",VLOOKUP(VLOOKUP(A205,'plan gier'!$Z:$AH,7,FALSE),zawodnicy!$A:$E,1,FALSE)))","v":""},{"$f":"IF(A205=0,IF(AND(LEN(C205)>1,LEN(E205)=0),VLOOKUP(C205,zawodnicy!$A:$E,1,FALSE),IF(AND(LEN(E205)>1,LEN(C205)=0),VLOOKUP(E205,zawodnicy!$A:$E,1,FALSE),\"\")),IF((VLOOKUP(A205,'plan gier'!$Z:$AH,8,FALSE))=\"\",\"\",VLOOKUP(VLOOKUP(A205,'plan gier'!$Z:$AH,8,FALSE),zawodnicy!$A:$E,1,FALSE)))","v":""},{"$f":"IF(A205=0,\"\",IF((VLOOKUP(A205,'plan gier'!$Z:$AH,7,FALSE))=\"\",\"\",VLOOKUP(A205,'plan gier'!$Z:$AH,9,FALSE)))","v":""},null,null,null,{"$f":"IF(A205=0,\"\",IF(VLOOKUP(A205,'plan gier'!A:T,20,FALSE)=\"\",\"\",VLOOKUP(A205,'plan gier'!A:T,20,FALSE)))","v":""},{"$f":"N199","v":0},null,null,null,null,null,null,{"$f":"UPPER(IF(O204=\"\",\"\",IF(ISTEXT(N205),N205,IF(AND(N198>0,O204>0),VLOOKUP(N198&O204&N199,I:K,3,FALSE),\"\"))))","v":""},null,{"$f":"IF(T205<>\"\",CONCATENATE(VLOOKUP(T205,zawodnicy!$A:$E,2,FALSE),\" \",VLOOKUP(T205,zawodnicy!$A:$E,3,FALSE),\" - \",VLOOKUP(T205,zawodnicy!$A:$E,4,FALSE)),\"\")","v":""},null,{"$f":"IF(ISBLANK(W205),IF(AND(LEN(T205)>0,LEN(T207)=0),VLOOKUP(T205,zawodnicy!$A:$E,3,FALSE),IF(AND(LEN(T207)>0,LEN(T205)=0),VLOOKUP(T207,zawodnicy!$A:$E,3,FALSE),\"\")),IF((VLOOKUP(W205,'plan gier'!$Z:$AH,8,FALSE))=\"\",\"\",VLOOKUP(VLOOKUP(W205,'plan gier'!$Z:$AH,8,FALSE),zawodnicy!$A:$E,3,FALSE)))","v":""}]
[null,null,null,null,null,null,null,null,null,null,null,null,null,null,{"$f":"IF(P206=\"\",\"\",MAX(O200:O205)+1)","v":4},{"$f":"IF(O198>2,32,\"\")","v":32},{"$f":"O206","v":4},null,null,{"$f":"UPPER(IF(O206=\"\",\"\",IF(ISTEXT(N206),N206,IF(AND(N198>0,O206>0),VLOOKUP(N198&O206&N199,I:K,2,FALSE),\"\"))))","v":""},null,{"$f":"IF(T206<>\"\",CONCATENATE(VLOOKUP(T206,zawodnicy!$A:$E,2,FALSE),\" \",VLOOKUP(T206,zawodnicy!$A:$E,3,FALSE),\" - \",VLOOKUP(T206,zawodnicy!$A:$E,4,FALSE)),\"\")","v":""},null,{"$f":"IF(ISBLANK(W205),\"\",IF((VLOOKUP(W205,'plan gier'!$Z:$AH,7,FALSE))=\"\",L205,VLOOKUP(W205,'plan gier'!$Z:$AH,9,FALSE)))","v":""}]
[null,null,null,null,null,null,null,null,null,null,null,null,null,null,null,null,null,null,null,{"$f":"UPPER(IF(O206=\"\",\"\",IF(ISTEXT(N207),N207,IF(AND(N198>0,O206>0),VLOOKUP(N198&O206&N199,I:K,3,FALSE),\"\"))))","v":""},null,{"$f":"IF(T207<>\"\",CONCATENATE(VLOOKUP(T207,zawodnicy!$A:$E,2,FALSE),\" \",VLOOKUP(T207,zawodnicy!$A:$E,3,FALSE),\" - \",VLOOKUP(T207,zawodnicy!$A:$E,4,FALSE)),\"\")","v":""}]
[]
[]
[]
[]
[]
[null,null,null,null,null,null,null,null,null,null,null,null,null,null,1,null,{"$f":"O213","v":1},null,null,{"$f":"UPPER(IF(O213=\"\",\"\",IF(ISTEXT(N213),N213,IF(AND(N211>0,O213>0),VLOOKUP(N211&O213&N212,I:K,2,FALSE),\"\"))))","v":""},null,{"$f":"IF(T213<>\"\",CONCATENATE(VLOOKUP(T213,zawodnicy!$A:$E,2,FALSE),\" \",VLOOKUP(T213,zawodnicy!$A:$E,3,FALSE),\" - \",VLOOKUP(T213,zawodnicy!$A:$E,4,FALSE)),\"\")","v":""},null,{"$f":"IF(F214=\"\",\"\",VLOOKUP(F214,zawodnicy!$A:$D,3,FALSE))","v":""}]
[{"$f":"W214","v":0},{"$f":"IF(TYPE(T213)=16,\"\",T213)","v":""},{"$f":"IF(TYPE(T214)=16,\"\",T214)","v":""},{"$f":"IF(TYPE(T215)=16,\"\",T215)","v":""},{"$f":"IF(TYPE(T216)=16,\"\",T216)","v":""},{"$f":"IF(A214=0,IF(AND(LEN(B214)>1,LEN(D214)=0),VLOOKUP(B214,zawodnicy!$A:$E,1,FALSE),IF(AND(LEN(D214)>1,LEN(B214)=0),VLOOKUP(D214,zawodnicy!$A:$E,1,FALSE),\"\")),IF((VLOOKUP(A214,'plan gier'!$Z:$AH,7,FALSE))=\"\",\"\",VLOOKUP(VLOOKUP(A214,'plan gier'!$Z:$AH,7,FALSE),zawodnicy!$A:$E,1,FALSE)))","v":""},{"$f":"IF(A214=0,IF(AND(LEN(C214)>1,LEN(E214)=0),VLOOKUP(C214,zawodnicy!$A:$E,1,FALSE),IF(AND(LEN(E214)>1,LEN(C214)=0),VLOOKUP(E214,zawodnicy!$A:$E,1,FALSE),\"\")),IF((VLOOKUP(A214,'plan gier'!$Z:$AH,8,FALSE))=\"\",\"\",VLOOKUP(VLOOKUP(A214,'plan gier'!$Z:$AH,8,FALSE),zawodnicy!$A:$E,1,FALSE)))","v":""},{"$f":"IF(A214=0,\"\",IF((VLOOKUP(A214,'plan gier'!$Z:$AH,7,FALSE))=\"\",\"\",VLOOKUP(A214,'plan gier'!$Z:$AH,9,FALSE)))","v":""},null,null,null,{"$f":"IF(A214=0,\"\",IF(VLOOKUP(A214,'plan gier'!A:T,20,FALSE)=\"\",\"\",VLOOKUP(A214,'plan gier'!A:T,20,FALSE)))","v":""},{"$f":"N212","v":0},null,null,null,null,null,null,{"$f":"UPPER(IF(O213=\"\",\"\",IF(ISTEXT(N214),N214,IF(AND(N211>0,O213>0),VLOOKUP(N211&O213&N212,I:K,3,FALSE),\"\"))))","v":""},null,{"$f":"IF(T214<>\"\",CONCATENATE(VLOOKUP(T214,zawodnicy!$A:$E,2,FALSE),\" \",VLOOKUP(T214,zawodnicy!$A:$E,3,FALSE),\" - \",VLOOKUP(T214,zawodnicy!$A:$E,4,FALSE)),\"\")","v":""},null,{"$f":"IF(G214=\"\",\"\",VLOOKUP(G214,zawodnicy!$A:$D,3,FALSE))","v":""}]
[null,null,null,null,null,null,null,null,null,null,null,null,null,null,2,null,{"$f":"O215","v":2},null,null,{"$f":"UPPER(IF(O215=\"\",\"\",IF(ISTEXT(N215),N215,IF(AND(N211>0,O215>0),VLOOKUP(N211&O215&N212,I:K,2,FALSE),\"\"))))","v":""},null,{"$f":"IF(T215<>\"\",CONCATENATE(VLOOKUP(T215,zawodnicy!$A:$E,2,FALSE),\" \",VLOOKUP(T215,zawodnicy!$A:$E,3,FALSE),\" - \",VLOOKUP(T215,zawodnicy!$A:$E,4,FALSE)),\"\")","v":""},null,{"$f":"IF(H214=\"\",L214,H214)","v":""}]
[null,null,null,null,null,null,null,null,null,null,null,null,null,null,null,null,null,null,null,{"$f":"UPPER(IF(O215=\"\",\"\",IF(ISTEXT(N216),N216,IF(AND(N211>0,O215>0),VLOOKUP(N211&O215&N212,I:K,3,FALSE),\"\"))))","v":""},null,{"$f":"IF(T216<>\"\",CONCATENATE(VLOOKUP(T216,zawodnicy!$A:$E,2,FALSE),\" \",VLOOKUP(T216,zawodnicy!$A:$E,3,FALSE),\" - \",VLOOKUP(T216,zawodnicy!$A:$E,4,FALSE)),\"\")","v":""}]
[]
[]
[]
[null,null,null,null,null,null,null,null,null,null,null,null,null,{"$f":"M223","v":""},null,null,null,null,null,"4.",null,null,null,"3."]
[null,null,null,null,null,null,null,null,null,null,null,null,null,"o 3 miejsce"]
[null,null,null,null,null,null,null,null,null,null,null,null,null,null,null,null,null,null,null,{"$f":"IF(N222=\"\",\"\",IF(LEN(VLOOKUP(N222,A:M,6,FALSE))=0,\"\",IF(VLOOKUP(N222,A:M,6,FALSE)=VLOOKUP(N222,A:M,2,FALSE),VLOOKUP(N222,A:M,4,FALSE),VLOOKUP(N222,A:M,2,FALSE))))","v":""},null,{"$f":"IF(T222<>\"\",CONCATENATE(VLOOKUP(T222,zawodnicy!$A:$E,2,FALSE),\" \",VLOOKUP(T222,zawodnicy!$A:$E,3,FALSE),\" - \",VLOOKUP(T222,zawodnicy!$A:$E,4,FALSE)),\"\")","v":""},null,{"$f":"IF(F223=\"\",\"\",VLOOKUP(F223,zawodnicy!$A:$D,3,FALSE))","v":""}]
[{"$f":"W223","v":0},{"$f":"IF(TYPE(T222)=16,\"\",T222)","v":""},{"$f":"IF(TYPE(T223)=16,\"\",T223)","v":""},{"$f":"IF(TYPE(T224)=16,\"\",T224)","v":""},{"$f":"IF(TYPE(T225)=16,\"\",T225)","v":""},{"$f":"IF(A223=0,IF(AND(LEN(B223)>1,LEN(D223)=0),VLOOKUP(B223,zawodnicy!$A:$E,1,FALSE),IF(AND(LEN(D223)>1,LEN(B223)=0),VLOOKUP(D223,zawodnicy!$A:$E,1,FALSE),\"\")),IF((VLOOKUP(A223,'plan gier'!$Z:$AH,7,FALSE))=\"\",\"\",VLOOKUP(VLOOKUP(A223,'plan gier'!$Z:$AH,7,FALSE),zawodnicy!$A:$E,1,FALSE)))","v":""},{"$f":"IF(A223=0,IF(AND(LEN(C223)>1,LEN(E223)=0),VLOOKUP(C223,zawodnicy!$A:$E,1,FALSE),IF(AND(LEN(E223)>1,LEN(C223)=0),VLOOKUP(E223,zawodnicy!$A:$E,1,FALSE),\"\")),IF((VLOOKUP(A223,'plan gier'!$Z:$AH,8,FALSE))=\"\",\"\",VLOOKUP(VLOOKUP(A223,'plan gier'!$Z:$AH,8,FALSE),zawodnicy!$A:$E,1,FALSE)))","v":""},{"$f":"IF(A223=0,\"\",IF((VLOOKUP(A223,'plan gier'!$Z:$AH,7,FALSE))=\"\",\"\",VLOOKUP(A223,'plan gier'!$Z:$AH,9,FALSE)))","v":""},null,null,null,{"$f":"IF(A223=0,\"\",IF(VLOOKUP(A223,'plan gier'!A:T,20,FALSE)=\"\",\"\",VLOOKUP(A223,'plan gier'!A:T,20,FALSE)))","v":""},{"$f":"IF(N222=\"\",\"\",VLOOKUP(N222,A:M,13,FALSE))","v":""},null,null,null,null,null,null,{"$f":"IF(N222=\"\",\"\",IF(LEN(VLOOKUP(N222,A:M,7,FALSE))=0,\"\",IF(VLOOKUP(N222,A:M,7,FALSE)=VLOOKUP(N222,A:M,3,FALSE),VLOOKUP(N222,A:M,5,FALSE),VLOOKUP(N222,A:M,3,FALSE))))","v":""},null,{"$f":"IF(T223<>\"\",CONCATENATE(VLOOKUP(T223,zawodnicy!$A:$E,2,FALSE),\" \",VLOOKUP(T223,zawodnicy!$A:$E,3,FALSE),\" - \",VLOOKUP(T223,zawodnicy!$A:$E,4,FALSE)),\"\")","v":""},null,{"$f":"IF(G223=\"\",\"\",VLOOKUP(G223,zawodnicy!$A:$D,3,FALSE))","v":""}]
[null,null,null,null,null,null,null,null,null,null,null,null,null,null,null,null,null,null,null,{"$f":"IF(N224=\"\",\"\",IF(LEN(VLOOKUP(N224,A:M,6,FALSE))=0,\"\",IF(VLOOKUP(N224,A:M,6,FALSE)=VLOOKUP(N224,A:M,2,FALSE),VLOOKUP(N224,A:M,4,FALSE),VLOOKUP(N224,A:M,2,FALSE))))","v":""},null,{"$f":"IF(T224<>\"\",CONCATENATE(VLOOKUP(T224,zawodnicy!$A:$E,2,FALSE),\" \",VLOOKUP(T224,zawodnicy!$A:$E,3,FALSE),\" - \",VLOOKUP(T224,zawodnicy!$A:$E,4,FALSE)),\"\")","v":""},null,{"$f":"IF(H223=\"\",L223,H223)","v":""}]
[null,null,null,null,null,null,null,null,null,null,null,null,null,null,null,null,null,null,null,{"$f":"IF(N224=\"\",\"\",IF(LEN(VLOOKUP(N224,A:M,7,FALSE))=0,\"\",IF(VLOOKUP(N224,A:M,7,FALSE)=VLOOKUP(N224,A:M,3,FALSE),VLOOKUP(N224,A:M,5,FALSE),VLOOKUP(N224,A:M,3,FALSE))))","v":""},null,{"$f":"IF(T225<>\"\",CONCATENATE(VLOOKUP(T225,zawodnicy!$A:$E,2,FALSE),\" \",VLOOKUP(T225,zawodnicy!$A:$E,3,FALSE),\" - \",VLOOKUP(T225,zawodnicy!$A:$E,4,FALSE)),\"\")","v":""}]
[]
[]
[]
[null,null,null,null,null,null,null,null,null,null,null,null,null,null,null,null,"Drabinka pucharowa pośredniego systemu grupowo-pucharowego dla 8 grup"]
[]
[null,null,null,null,null,null,null,null,null,null,null,null,null,null,null,null,null,null,null,"9-16.",null,null,null,"5-8.",null,null,"3-4.",null,null,"2."]
[]
[{"$f":"W233","v":0},{"$f":"IF(TYPE(T233)=16,\"\",T233)","v":""},null,{"$f":"IF(TYPE(T234)=16,\"\",T234)","v":""},null,{"$f":"IF(A233=0,IF(AND(LEN(B233)>0,LEN(D233)=0),VLOOKUP(B233,zawodnicy!$A:$E,1,FALSE),IF(AND(LEN(D233)>0,LEN(B233)=0),VLOOKUP(D233,zawodnicy!$A:$E,1,FALSE),\"\")),IF((VLOOKUP(A233,'plan gier'!$Z:$AH,7,FALSE))=\"\",\"\",VLOOKUP(VLOOKUP(A233,'plan gier'!$Z:$AH,7,FALSE),zawodnicy!$A:$E,1,FALSE)))","v":""},null,{"$f":"IF(A233=0,\"\",IF((VLOOKUP(A233,'plan gier'!$Z:$AH,7,FALSE))=\"\",\"\",VLOOKUP(A233,'plan gier'!$Z:$AH,9,FALSE)))","v":""},null,null,null,{"$f":"IF(A233=0,\"\",IF(VLOOKUP(A233,'plan gier'!A:T,20,FALSE)=\"\",\"\",VLOOKUP(A233,'plan gier'!A:T,20,FALSE)))","v":""},{"$f":"N232","v":0},null,null,null,"1. z gr. 1",null,null,{"$f":"UPPER(IF((N232=\"\"),\"\",IF(TYPE(VLOOKUP(1&1&N232,I:J,2,FALSE))=2,VLOOKUP(1&1&N232,I:J,2,FALSE),\"\")))","v":""},null,{"$f":"IF(T233<>\"\",CONCATENATE(VLOOKUP(T233,zawodnicy!$A:$E,2,FALSE),\" \",VLOOKUP(T233,zawodnicy!$A:$E,3,FALSE),\" - \",VLOOKUP(T233,zawodnicy!$A:$E,4,FALSE)),\"\")","v":""},null,{"$f":"IF(ISBLANK(W233),IF(AND(LEN(T233)>0,LEN(T234)=0),VLOOKUP(T233,zawodnicy!$A:$E,3,FALSE),IF(AND(LEN(T234)>0,LEN(T233)=0),VLOOKUP(T234,zawodnicy!$A:$E,3,FALSE),\"\")),IF((VLOOKUP(W233,'plan gier'!$Z:$AH,7,FALSE))=\"\",\"\",VLOOKUP(VLOOKUP(W233,'plan gier'!$Z:$AH,7,FALSE),zawodnicy!$A:$E,3,FALSE)))","v":""}]
[null,null,null,null,null,null,null,null,null,null,null,null,null,null,null,null,"2. z gr. 8",null,null,{"$f":"UPPER(IF(N232=\"\",\"\",IF(TYPE(VLOOKUP(2&8&N232,I:J,2,FALSE))=2,VLOOKUP(2&8&N232,I:J,2,FALSE),\"\")))","v":""},null,{"$f":"IF(T234<>\"\",CONCATENATE(VLOOKUP(T234,zawodnicy!$A:$E,2,FALSE),\" \",VLOOKUP(T234,zawodnicy!$A:$E,3,FALSE),\" - \",VLOOKUP(T234,zawodnicy!$A:$E,4,FALSE)),\"\")","v":""},null,{"$f":"IF(ISBLANK(W233),\"\",IF((VLOOKUP(W233,'plan gier'!$Z:$AH,7,FALSE))=\"\",L233,VLOOKUP(W233,'plan gier'!$Z:$AH,9,FALSE)))","v":""}]
[{"$f":"Z235","v":0},{"$f":"F233","v":""},null,{"$f":"F237","v":""},null,{"$f":"IF(A235=0,IF(AND(LEN(B235)>0,LEN(D235)=0),B235,IF(AND(LEN(D235)>0,LEN(B235)=0),D235,\"\")),IF((VLOOKUP(A235,'plan gier'!$Z:$AH,7,FALSE))=\"\",\"\",VLOOKUP(VLOOKUP(A235,'plan gier'!$Z:$AH,7,FALSE),zawodnicy!$A:$E,1,FALSE)))","v":""},null,{"$f":"IF(A235=0,\"\",IF((VLOOKUP(A235,'plan gier'!$Z:$AH,7,FALSE))=\"\",\"\",VLOOKUP(A235,'plan gier'!$Z:$AH,9,FALSE)))","v":""},null,null,null,{"$f":"IF(A235=0,\"\",IF(VLOOKUP(A235,'plan gier'!A:T,20,FALSE)=\"\",\"\",VLOOKUP(A235,'plan gier'!A:T,20,FALSE)))","v":""},{"$f":"N232","v":0},null,null,null,null,null,null,null,null,null,null,null,null,null,{"$f":"IF(ISBLANK(Z235),IF(AND(LEN(X233)>0,LEN(X237)=0),X233,IF(AND(LEN(X237)>0,LEN(X233)=0),X237,\"\")),IF((VLOOKUP(Z235,'plan gier'!$Z:$AH,7,FALSE))=\"\",\"\",VLOOKUP(VLOOKUP(Z235,'plan gier'!$Z:$AH,7,FALSE),zawodnicy!$A:$E,3,FALSE)))","v":""}]
[null,null,null,null,null,null,null,null,null,null,null,null,null,null,null,null,null,null,null,null,null,null,null,null,null,null,{"$f":"IF(ISBLANK(Z235),\"\",IF((VLOOKUP(Z235,'plan gier'!$Z:$AH,7,FALSE))=\"\",L235,VLOOKUP(Z235,'plan gier'!$Z:$AH,9,FALSE)))","v":""}]
[{"$f":"W237","v":0},{"$f":"IF(TYPE(T237)=16,\"\",T237)","v":""},null,{"$f":"IF(TYPE(T238)=16,\"\",T238)","v":""},null,{"$f":"IF(A237=0,IF(AND(LEN(B237)>0,LEN(D237)=0),VLOOKUP(B237,zawodnicy!$A:$E,1,FALSE),IF(AND(LEN(D237)>0,LEN(B237)=0),VLOOKUP(D237,zawodnicy!$A:$E,1,FALSE),\"\")),IF((VLOOKUP(A237,'plan gier'!$Z:$AH,7,FALSE))=\"\",\"\",VLOOKUP(VLOOKUP(A237,'plan gier'!$Z:$AH,7,FALSE),zawodnicy!$A:$E,1,FALSE)))","v":""},null,{"$f":"IF(A237=0,\"\",IF((VLOOKUP(A237,'plan gier'!$Z:$AH,7,FALSE))=\"\",\"\",VLOOKUP(A237,'plan gier'!$Z:$AH,9,FALSE)))","v":""},null,null,null,{"$f":"IF(A237=0,\"\",IF(VLOOKUP(A237,'plan gier'!A:T,20,FALSE)=\"\",\"\",VLOOKUP(A237,'plan gier'!A:T,20,FALSE)))","v":""},{"$f":"N232","v":0},null,null,null,"1. z gr. 2",null,null,{"$f":"UPPER(IF(N232=\"\",\"\",IF(TYPE(VLOOKUP(1&2&N232,I:J,2,FALSE))=2,VLOOKUP(1&2&N232,I:J,2,FALSE),\"\")))","v":""},null,{"$f":"IF(T237<>\"\",CONCATENATE(VLOOKUP(T237,zawodnicy!$A:$E,2,FALSE),\" \",VLOOKUP(T237,zawodnicy!$A:$E,3,FALSE),\" - \",VLOOKUP(T237,zawodnicy!$A:$E,4,FALSE)),\"\")","v":""},null,{"$f":"IF(ISBLANK(W237),IF(AND(LEN(T237)>0,LEN(T238)=0),VLOOKUP(T237,zawodnicy!$A:$E,3,FALSE),IF(AND(LEN(T238)>0,LEN(T237)=0),VLOOKUP(T238,zawodnicy!$A:$E,3,FALSE),\"\")),IF((VLOOKUP(W237,'plan gier'!$Z:$AH,7,FALSE))=\"\",\"\",VLOOKUP(VLOOKUP(W237,'plan gier'!$Z:$AH,7,FALSE),zawodnicy!$A:$E,3,FALSE)))","v":""}]
[null,null,null,null,null,null,null,null,null,null,null,null,null,null,null,null,"2. z gr. 7",null,null,{"$f":"UPPER(IF(N232=\"\",\"\",IF(TYPE(VLOOKUP(2&7&N232,I:J,2,FALSE))=2,VLOOKUP(2&7&N232,I:J,2,FALSE),\"\")))","v":""},null,{"$f":"IF(T238<>\"\",CONCATENATE(VLOOKUP(T238,zawodnicy!$A:$E,2,FALSE),\" \",VLOOKUP(T238,zawodnicy!$A:$E,3,FALSE),\" - \",VLOOKUP(T238,zawodnicy!$A:$E,4,FALSE)),\"\")","v":""},null,{"$f":"IF(ISBLANK(W237),\"\",IF((VLOOKUP(W237,'plan gier'!$Z:$AH,7,FALSE))=\"\",L237,VLOOKUP(W237,'plan gier'!$Z:$AH,9,FALSE)))","v":""}]
[{"$f":"AC239","v":0},{"$f":"F235","v":""},null,{"$f":"F243","v":""},null,{"$f":"IF(A239=0,IF(AND(LEN(B239)>0,LEN(D239)=0),B239,IF(AND(LEN(D239)>0,LEN(B239)=0),D239,\"\")),IF((VLOOKUP(A239,'plan gier'!$Z:$AH,7,FALSE))=\"\",\"\",VLOOKUP(VLOOKUP(A239,'plan gier'!$Z:$AH,7,FALSE),zawodnicy!$A:$E,1,FALSE)))","v":""},null,{"$f":"IF(A239=0,\"\",IF((VLOOKUP(A239,'plan gier'!$Z:$AH,7,FALSE))=\"\",\"\",VLOOKUP(A239,'plan gier'!$Z:$AH,9,FALSE)))","v":""},null,null,null,{"$f":"IF(A239=0,\"\",IF(VLOOKUP(A239,'plan gier'!A:T,20,FALSE)=\"\",\"\",VLOOKUP(A239,'plan gier'!A:T,20,FALSE)))","v":""},{"$f":"N232","v":0},null,null,null,null,null,null,null,null,null,null,null,null,null,null,null,null,{"$f":"IF(ISBLANK(AC239),IF(AND(LEN(AA235)>0,LEN(AA243)=0),AA235,IF(AND(LEN(AA243)>0,LEN(AA235)=0),AA243,\"\")),IF((VLOOKUP(AC239,'plan gier'!$Z:$AH,7,FALSE))=\"\",\"\",VLOOKUP(VLOOKUP(AC239,'plan gier'!$Z:$AH,7,FALSE),zawodnicy!$A:$E,3,FALSE)))","v":""}]
[null,null,null,null,null,null,null,null,null,null,null,null,null,null,null,null,null,null,null,null,null,null,null,null,null,null,null,null,null,{"$f":"IF(ISBLANK(AC239),\"\",IF((VLOOKUP(AC239,'plan gier'!$Z:$AH,7,FALSE))=\"\",L239,VLOOKUP(AC239,'plan gier'!$Z:$AH,9,FALSE)))","v":""}]
[{"$f":"W241","v":0},{"$f":"IF(TYPE(T241)=16,\"\",T241)","v":""},null,{"$f":"IF(TYPE(T242)=16,\"\",T242)","v":""},null,{"$f":"IF(A241=0,IF(AND(LEN(B241)>0,LEN(D241)=0),VLOOKUP(B241,zawodnicy!$A:$E,1,FALSE),IF(AND(LEN(D241)>0,LEN(B241)=0),VLOOKUP(D241,zawodnicy!$A:$E,1,FALSE),\"\")),IF((VLOOKUP(A241,'plan gier'!$Z:$AH,7,FALSE))=\"\",\"\",VLOOKUP(VLOOKUP(A241,'plan gier'!$Z:$AH,7,FALSE),zawodnicy!$A:$E,1,FALSE)))","v":""},null,{"$f":"IF(A241=0,\"\",IF((VLOOKUP(A241,'plan gier'!$Z:$AH,7,FALSE))=\"\",\"\",VLOOKUP(A241,'plan gier'!$Z:$AH,9,FALSE)))","v":""},null,null,null,{"$f":"IF(A241=0,\"\",IF(VLOOKUP(A241,'plan gier'!A:T,20,FALSE)=\"\",\"\",VLOOKUP(A241,'plan gier'!A:T,20,FALSE)))","v":""},{"$f":"N232","v":0},null,null,null,"1. z gr. 3",null,null,{"$f":"UPPER(IF(N232=\"\",\"\",IF(TYPE(VLOOKUP(1&3&N232,I:J,2,FALSE))=2,VLOOKUP(1&3&N232,I:J,2,FALSE),\"\")))","v":""},null,{"$f":"IF(T241<>\"\",CONCATENATE(VLOOKUP(T241,zawodnicy!$A:$E,2,FALSE),\" \",VLOOKUP(T241,zawodnicy!$A:$E,3,FALSE),\" - \",VLOOKUP(T241,zawodnicy!$A:$E,4,FALSE)),\"\")","v":""},null,{"$f":"IF(ISBLANK(W241),IF(AND(LEN(T241)>0,LEN(T242)=0),VLOOKUP(T241,zawodnicy!$A:$E,3,FALSE),IF(AND(LEN(T242)>0,LEN(T241)=0),VLOOKUP(T242,zawodnicy!$A:$E,3,FALSE),\"\")),IF((VLOOKUP(W241,'plan gier'!$Z:$AH,7,FALSE))=\"\",\"\",VLOOKUP(VLOOKUP(W241,'plan gier'!$Z:$AH,7,FALSE),zawodnicy!$A:$E,3,FALSE)))","v":""}]
[null,null,null,null,null,null,null,null,null,null,null,null,null,null,null,null,"2. z gr. 6",null,null,{"$f":"UPPER(IF(N232=\"\",\"\",IF(TYPE(VLOOKUP(2&6&N232,I:J,2,FALSE))=2,VLOOKUP(2&6&N232,I:J,2,FALSE),\"\")))","v":""},null,{"$f":"IF(T242<>\"\",CONCATENATE(VLOOKUP(T242,zawodnicy!$A:$E,2,FALSE),\" \",VLOOKUP(T242,zawodnicy!$A:$E,3,FALSE),\" - \",VLOOKUP(T242,zawodnicy!$A:$E,4,FALSE)),\"\")","v":""},null,{"$f":"IF(ISBLANK(W241),\"\",IF((VLOOKUP(W241,'plan gier'!$Z:$AH,7,FALSE))=\"\",L241,VLOOKUP(W241,'plan gier'!$Z:$AH,9,FALSE)))","v":""}]
[{"$f":"Z243","v":0},{"$f":"F241","v":""},null,{"$f":"F245","v":""},null,{"$f":"IF(A243=0,IF(AND(LEN(B243)>0,LEN(D243)=0),B243,IF(AND(LEN(D243)>0,LEN(B243)=0),D243,\"\")),IF((VLOOKUP(A243,'plan gier'!$Z:$AH,7,FALSE))=\"\",\"\",VLOOKUP(VLOOKUP(A243,'plan gier'!$Z:$AH,7,FALSE),zawodnicy!$A:$E,1,FALSE)))","v":""},null,{"$f":"IF(A243=0,\"\",IF((VLOOKUP(A243,'plan gier'!$Z:$AH,7,FALSE))=\"\",\"\",VLOOKUP(A243,'plan gier'!$Z:$AH,9,FALSE)))","v":""},null,null,null,{"$f":"IF(A243=0,\"\",IF(VLOOKUP(A243,'plan gier'!A:T,20,FALSE)=\"\",\"\",VLOOKUP(A243,'plan gier'!A:T,20,FALSE)))","v":""},{"$f":"N232","v":0},null,null,null,null,null,null,null,null,null,null,null,null,null,{"$f":"IF(ISBLANK(Z243),IF(AND(LEN(X241)>0,LEN(X245)=0),X241,IF(AND(LEN(X245)>0,LEN(X241)=0),X245,\"\")),IF((VLOOKUP(Z243,'plan gier'!$Z:$AH,7,FALSE))=\"\",\"\",VLOOKUP(VLOOKUP(Z243,'plan gier'!$Z:$AH,7,FALSE),zawodnicy!$A:$E,3,FALSE)))","v":""}]
[null,null,null,null,null,null,null,null,null,null,null,null,null,null,null,null,null,null,null,null,null,null,null,null,null,null,{"$f":"IF(ISBLANK(Z243),\"\",IF((VLOOKUP(Z243,'plan gier'!$Z:$AH,7,FALSE))=\"\",L243,VLOOKUP(Z243,'plan gier'!$Z:$AH,9,FALSE)))","v":""}]
[{"$f":"W245","v":0},{"$f":"IF(TYPE(T245)=16,\"\",T245)","v":""},null,{"$f":"IF(TYPE(T246)=16,\"\",T246)","v":""},null,{"$f":"IF(A245=0,IF(AND(LEN(B245)>0,LEN(D245)=0),VLOOKUP(B245,zawodnicy!$A:$E,1,FALSE),IF(AND(LEN(D245)>0,LEN(B245)=0),VLOOKUP(D245,zawodnicy!$A:$E,1,FALSE),\"\")),IF((VLOOKUP(A245,'plan gier'!$Z:$AH,7,FALSE))=\"\",\"\",VLOOKUP(VLOOKUP(A245,'plan gier'!$Z:$AH,7,FALSE),zawodnicy!$A:$E,1,FALSE)))","v":""},null,{"$f":"IF(A245=0,\"\",IF((VLOOKUP(A245,'plan gier'!$Z:$AH,7,FALSE))=\"\",\"\",VLOOKUP(A245,'plan gier'!$Z:$AH,9,FALSE)))","v":""},null,null,null,{"$f":"IF(A245=0,\"\",IF(VLOOKUP(A245,'plan gier'!A:T,20,FALSE)=\"\",\"\",VLOOKUP(A245,'plan gier'!A:T,20,FALSE)))","v":""},{"$f":"N232","v":0},null,null,null,"1. z gr. 4",null,null,{"$f":"UPPER(IF(N232=\"\",\"\",IF(TYPE(VLOOKUP(1&4&N232,I:J,2,FALSE))=2,VLOOKUP(1&4&N232,I:J,2,FALSE),\"\")))","v":""},null,{"$f":"IF(T245<>\"\",CONCATENATE(VLOOKUP(T245,zawodnicy!$A:$E,2,FALSE),\" \",VLOOKUP(T245,zawodnicy!$A:$E,3,FALSE),\" - \",VLOOKUP(T245,zawodnicy!$A:$E,4,FALSE)),\"\")","v":""},null,{"$f":"IF(ISBLANK(W245),IF(AND(LEN(T245)>0,LEN(T246)=0),VLOOKUP(T245,zawodnicy!$A:$E,3,FALSE),IF(AND(LEN(T246)>0,LEN(T245)=0),VLOOKUP(T246,zawodnicy!$A:$E,3,FALSE),\"\")),IF((VLOOKUP(W245,'plan gier'!$Z:$AH,7,FALSE))=\"\",\"\",VLOOKUP(VLOOKUP(W245,'plan gier'!$Z:$AH,7,FALSE),zawodnicy!$A:$E,3,FALSE)))","v":""},null,null,null,null,null,"1."]
[null,null,null,null,null,null,null,null,null,null,null,null,null,null,null,null,"2. z gr. 5",null,null,{"$f":"UPPER(IF(N232=\"\",\"\",IF(TYPE(VLOOKUP(2&5&N232,I:J,2,FALSE))=2,VLOOKUP(2&5&N232,I:J,2,FALSE),\"\")))","v":""},null,{"$f":"IF(T246<>\"\",CONCATENATE(VLOOKUP(T246,zawodnicy!$A:$E,2,FALSE),\" \",VLOOKUP(T246,zawodnicy!$A:$E,3,FALSE),\" - \",VLOOKUP(T246,zawodnicy!$A:$E,4,FALSE)),\"\")","v":""},null,{"$f":"IF(ISBLANK(W245),\"\",IF((VLOOKUP(W245,'plan gier'!$Z:$AH,7,FALSE))=\"\",L245,VLOOKUP(W245,'plan gier'!$Z:$AH,9,FALSE)))","v":""}]
[{"$f":"AC247","v":0},{"$f":"F239","v":""},null,{"$f":"F255","v":""},null,{"$f":"IF(A247=0,IF(AND(LEN(B247)>0,LEN(D247)=0),B247,IF(AND(LEN(D247)>0,LEN(B247)=0),D247,\"\")),IF((VLOOKUP(A247,'plan gier'!$Z:$AH,7,FALSE))=\"\",\"\",VLOOKUP(VLOOKUP(A247,'plan gier'!$Z:$AH,7,FALSE),zawodnicy!$A:$E,1,FALSE)))","v":""},null,{"$f":"IF(A247=0,\"\",IF((VLOOKUP(A247,'plan gier'!$Z:$AH,7,FALSE))=\"\",\"\",VLOOKUP(A247,'plan gier'!$Z:$AH,9,FALSE)))","v":""},null,null,null,{"$f":"IF(A247=0,\"\",IF(VLOOKUP(A247,'plan gier'!A:T,20,FALSE)=\"\",\"\",VLOOKUP(A247,'plan gier'!A:T,20,FALSE)))","v":""},{"$f":"N232","v":0},null,null,null,null,null,null,null,null,null,null,null,null,null,null,null,null,{"$f":"IF(ISBLANK(AC247),IF(AND(LEN(AD239)>0,LEN(AD255)=0),AD239,IF(AND(LEN(AD255)>0,LEN(AD239)=0),AD255,\"\")),IF((VLOOKUP(AC247,'plan gier'!$Z:$AH,7,FALSE))=\"\",\"\",VLOOKUP(VLOOKUP(AC247,'plan gier'!$Z:$AH,7,FALSE),zawodnicy!$A:$E,3,FALSE)))","v":""}]
[null,null,null,null,null,null,null,null,null,null,null,null,null,null,null,null,null,null,null,null,null,null,null,null,null,null,null,null,null,{"$f":"IF(ISBLANK(AC247),\"\",IF((VLOOKUP(AC247,'plan gier'!$Z:$AH,7,FALSE))=\"\",L247,VLOOKUP(AC247,'plan gier'!$Z:$AH,9,FALSE)))","v":""}]
[{"$f":"W249","v":0},{"$f":"IF(TYPE(T249)=16,\"\",T249)","v":""},null,{"$f":"IF(TYPE(T250)=16,\"\",T250)","v":""},null,{"$f":"IF(A249=0,IF(AND(LEN(B249)>0,LEN(D249)=0),VLOOKUP(B249,zawodnicy!$A:$E,1,FALSE),IF(AND(LEN(D249)>0,LEN(B249)=0),VLOOKUP(D249,zawodnicy!$A:$E,1,FALSE),\"\")),IF((VLOOKUP(A249,'plan gier'!$Z:$AH,7,FALSE))=\"\",\"\",VLOOKUP(VLOOKUP(A249,'plan gier'!$Z:$AH,7,FALSE),zawodnicy!$A:$E,1,FALSE)))","v":""},null,{"$f":"IF(A249=0,\"\",IF((VLOOKUP(A249,'plan gier'!$Z:$AH,7,FALSE))=\"\",\"\",VLOOKUP(A249,'plan gier'!$Z:$AH,9,FALSE)))","v":""},null,null,null,{"$f":"IF(A249=0,\"\",IF(VLOOKUP(A249,'plan gier'!A:T,20,FALSE)=\"\",\"\",VLOOKUP(A249,'plan gier'!A:T,20,FALSE)))","v":""},{"$f":"N232","v":0},null,null,null,"2. z gr. 4",null,null,{"$f":"UPPER(IF(N232=\"\",\"\",IF(TYPE(VLOOKUP(2&4&N232,I:J,2,FALSE))=2,VLOOKUP(2&4&N232,I:J,2,FALSE),\"\")))","v":""},null,{"$f":"IF(T249<>\"\",CONCATENATE(VLOOKUP(T249,zawodnicy!$A:$E,2,FALSE),\" \",VLOOKUP(T249,zawodnicy!$A:$E,3,FALSE),\" - \",VLOOKUP(T249,zawodnicy!$A:$E,4,FALSE)),\"\")","v":""},null,{"$f":"IF(ISBLANK(W249),IF(AND(LEN(T249)>0,LEN(T250)=0),VLOOKUP(T249,zawodnicy!$A:$E,3,FALSE),IF(AND(LEN(T250)>0,LEN(T249)=0),VLOOKUP(T250,zawodnicy!$A:$E,3,FALSE),\"\")),IF((VLOOKUP(W249,'plan gier'!$Z:$AH,7,FALSE))=\"\",\"\",VLOOKUP(VLOOKUP(W249,'plan gier'!$Z:$AH,7,FALSE),zawodnicy!$A:$E,3,FALSE)))","v":""}]
[null,null,null,null,null,null,null,null,null,null,null,null,null,null,null,null,"1. z gr. 5",null,null,{"$f":"UPPER(IF(N232=\"\",\"\",IF(TYPE(VLOOKUP(1&5&N232,I:J,2,FALSE))=2,VLOOKUP(1&5&N232,I:J,2,FALSE),\"\")))","v":""},null,{"$f":"IF(T250<>\"\",CONCATENATE(VLOOKUP(T250,zawodnicy!$A:$E,2,FALSE),\" \",VLOOKUP(T250,zawodnicy!$A:$E,3,FALSE),\" - \",VLOOKUP(T250,zawodnicy!$A:$E,4,FALSE)),\"\")","v":""},null,{"$f":"IF(ISBLANK(W249),\"\",IF((VLOOKUP(W249,'plan gier'!$Z:$AH,7,FALSE))=\"\",L249,VLOOKUP(W249,'plan gier'!$Z:$AH,9,FALSE)))","v":""}]
[{"$f":"Z251","v":0},{"$f":"F249","v":""},null,{"$f":"F253","v":""},null,{"$f":"IF(A251=0,IF(AND(LEN(B251)>0,LEN(D251)=0),B251,IF(AND(LEN(D251)>0,LEN(B251)=0),D251,\"\")),IF((VLOOKUP(A251,'plan gier'!$Z:$AH,7,FALSE))=\"\",\"\",VLOOKUP(VLOOKUP(A251,'plan gier'!$Z:$AH,7,FALSE),zawodnicy!$A:$E,1,FALSE)))","v":""},null,{"$f":"IF(A251=0,\"\",IF((VLOOKUP(A251,'plan gier'!$Z:$AH,7,FALSE))=\"\",\"\",VLOOKUP(A251,'plan gier'!$Z:$AH,9,FALSE)))","v":""},null,null,null,{"$f":"IF(A251=0,\"\",IF(VLOOKUP(A251,'plan gier'!A:T,20,FALSE)=\"\",\"\",VLOOKUP(A251,'plan gier'!A:T,20,FALSE)))","v":""},{"$f":"N232","v":0},null,null,null,null,null,null,null,null,null,null,null,null,null,{"$f":"IF(ISBLANK(Z251),IF(AND(LEN(X249)>0,LEN(X253)=0),X249,IF(AND(LEN(X253)>0,LEN(X249)=0),X253,\"\")),IF((VLOOKUP(Z251,'plan gier'!$Z:$AH,7,FALSE))=\"\",\"\",VLOOKUP(VLOOKUP(Z251,'plan gier'!$Z:$AH,7,FALSE),zawodnicy!$A:$E,3,FALSE)))","v":""}]
[null,null,null,null,null,null,null,null,null,null,null,null,null,null,null,null,null,null,null,null,null,null,null,null,null,null,{"$f":"IF(ISBLANK(Z251),\"\",IF((VLOOKUP(Z251,'plan gier'!$Z:$AH,7,FALSE))=\"\",L251,VLOOKUP(Z251,'plan gier'!$Z:$AH,9,FALSE)))","v":""}]
[{"$f":"W253","v":0},{"$f":"IF(TYPE(T253)=16,\"\",T253)","v":""},null,{"$f":"IF(TYPE(T254)=16,\"\",T254)","v":""},null,{"$f":"IF(A253=0,IF(AND(LEN(B253)>0,LEN(D253)=0),VLOOKUP(B253,zawodnicy!$A:$E,1,FALSE),IF(AND(LEN(D253)>0,LEN(B253)=0),VLOOKUP(D253,zawodnicy!$A:$E,1,FALSE),\"\")),IF((VLOOKUP(A253,'plan gier'!$Z:$AH,7,FALSE))=\"\",\"\",VLOOKUP(VLOOKUP(A253,'plan gier'!$Z:$AH,7,FALSE),zawodnicy!$A:$E,1,FALSE)))","v":""},null,{"$f":"IF(A253=0,\"\",IF((VLOOKUP(A253,'plan gier'!$Z:$AH,7,FALSE))=\"\",\"\",VLOOKUP(A253,'plan gier'!$Z:$AH,9,FALSE)))","v":""},null,null,null,{"$f":"IF(A253=0,\"\",IF(VLOOKUP(A253,'plan gier'!A:T,20,FALSE)=\"\",\"\",VLOOKUP(A253,'plan gier'!A:T,20,FALSE)))","v":""},{"$f":"N232","v":0},null,null,null,"2. z gr. 3",null,null,{"$f":"UPPER(IF(N232=\"\",\"\",IF(TYPE(VLOOKUP(2&3&N232,I:J,2,FALSE))=2,VLOOKUP(2&3&N232,I:J,2,FALSE),\"\")))","v":""},null,{"$f":"IF(T253<>\"\",CONCATENATE(VLOOKUP(T253,zawodnicy!$A:$E,2,FALSE),\" \",VLOOKUP(T253,zawodnicy!$A:$E,3,FALSE),\" - \",VLOOKUP(T253,zawodnicy!$A:$E,4,FALSE)),\"\")","v":""},null,{"$f":"IF(ISBLANK(W253),IF(AND(LEN(T253)>0,LEN(T254)=0),VLOOKUP(T253,zawodnicy!$A:$E,3,FALSE),IF(AND(LEN(T254)>0,LEN(T253)=0),VLOOKUP(T254,zawodnicy!$A:$E,3,FALSE),\"\")),IF((VLOOKUP(W253,'plan gier'!$Z:$AH,7,FALSE))=\"\",\"\",VLOOKUP(VLOOKUP(W253,'plan gier'!$Z:$AH,7,FALSE),zawodnicy!$A:$E,3,FALSE)))","v":""}]
[null,null,null,null,null,null,null,null,null,null,null,null,null,null,null,null,"1. z gr. 6",null,null,{"$f":"UPPER(IF(N232=\"\",\"\",IF(TYPE(VLOOKUP(1&6&N232,I:J,2,FALSE))=2,VLOOKUP(1&6&N232,I:J,2,FALSE),\"\")))","v":""},null,{"$f":"IF(T254<>\"\",CONCATENATE(VLOOKUP(T254,zawodnicy!$A:$E,2,FALSE),\" \",VLOOKUP(T254,zawodnicy!$A:$E,3,FALSE),\" - \",VLOOKUP(T254,zawodnicy!$A:$E,4,FALSE)),\"\")","v":""},null,{"$f":"IF(ISBLANK(W253),\"\",IF((VLOOKUP(W253,'plan gier'!$Z:$AH,7,FALSE))=\"\",L253,VLOOKUP(W253,'plan gier'!$Z:$AH,9,FALSE)))","v":""}]
[{"$f":"AC255","v":0},{"$f":"F251","v":""},null,{"$f":"F259","v":""},null,{"$f":"IF(A255=0,IF(AND(LEN(B255)>0,LEN(D255)=0),B255,IF(AND(LEN(D255)>0,LEN(B255)=0),D255,\"\")),IF((VLOOKUP(A255,'plan gier'!$Z:$AH,7,FALSE))=\"\",\"\",VLOOKUP(VLOOKUP(A255,'plan gier'!$Z:$AH,7,FALSE),zawodnicy!$A:$E,1,FALSE)))","v":""},null,{"$f":"IF(A255=0,\"\",IF((VLOOKUP(A255,'plan gier'!$Z:$AH,7,FALSE))=\"\",\"\",VLOOKUP(A255,'plan gier'!$Z:$AH,9,FALSE)))","v":""},null,null,null,{"$f":"IF(A255=0,\"\",IF(VLOOKUP(A255,'plan gier'!A:T,20,FALSE)=\"\",\"\",VLOOKUP(A255,'plan gier'!A:T,20,FALSE)))","v":""},{"$f":"N232","v":0},null,null,null,null,null,null,null,null,null,null,null,null,null,null,null,null,{"$f":"IF(ISBLANK(AC255),IF(AND(LEN(AA251)>0,LEN(AA259)=0),AA251,IF(AND(LEN(AA259)>0,LEN(AA251)=0),AA259,\"\")),IF((VLOOKUP(AC255,'plan gier'!$Z:$AH,7,FALSE))=\"\",\"\",VLOOKUP(VLOOKUP(AC255,'plan gier'!$Z:$AH,7,FALSE),zawodnicy!$A:$E,3,FALSE)))","v":""}]
[null,null,null,null,null,null,null,null,null,null,null,null,null,null,null,null,null,null,null,null,null,null,null,null,null,null,null,null,null,{"$f":"IF(ISBLANK(AC255),\"\",IF((VLOOKUP(AC255,'plan gier'!$Z:$AH,7,FALSE))=\"\",L255,VLOOKUP(AC255,'plan gier'!$Z:$AH,9,FALSE)))","v":""}]
[{"$f":"W257","v":0},{"$f":"IF(TYPE(T257)=16,\"\",T257)","v":""},null,{"$f":"IF(TYPE(T258)=16,\"\",T258)","v":""},null,{"$f":"IF(A257=0,IF(AND(LEN(B257)>0,LEN(D257)=0),VLOOKUP(B257,zawodnicy!$A:$E,1,FALSE),IF(AND(LEN(D257)>0,LEN(B257)=0),VLOOKUP(D257,zawodnicy!$A:$E,1,FALSE),\"\")),IF((VLOOKUP(A257,'plan gier'!$Z:$AH,7,FALSE))=\"\",\"\",VLOOKUP(VLOOKUP(A257,'plan gier'!$Z:$AH,7,FALSE),zawodnicy!$A:$E,1,FALSE)))","v":""},null,{"$f":"IF(A257=0,\"\",IF((VLOOKUP(A257,'plan gier'!$Z:$AH,7,FALSE))=\"\",\"\",VLOOKUP(A257,'plan gier'!$Z:$AH,9,FALSE)))","v":""},null,null,null,{"$f":"IF(A257=0,\"\",IF(VLOOKUP(A257,'plan gier'!A:T,20,FALSE)=\"\",\"\",VLOOKUP(A257,'plan gier'!A:T,20,FALSE)))","v":""},{"$f":"N232","v":0},null,null,null,"2. z gr. 2",null,null,{"$f":"UPPER(IF(N232=\"\",\"\",IF(TYPE(VLOOKUP(2&2&N232,I:J,2,FALSE))=2,VLOOKUP(2&2&N232,I:J,2,FALSE),\"\")))","v":""},null,{"$f":"IF(T257<>\"\",CONCATENATE(VLOOKUP(T257,zawodnicy!$A:$E,2,FALSE),\" \",VLOOKUP(T257,zawodnicy!$A:$E,3,FALSE),\" - \",VLOOKUP(T257,zawodnicy!$A:$E,4,FALSE)),\"\")","v":""},null,{"$f":"IF(ISBLANK(W257),IF(AND(LEN(T257)>0,LEN(T258)=0),VLOOKUP(T257,zawodnicy!$A:$E,3,FALSE),IF(AND(LEN(T258)>0,LEN(T257)=0),VLOOKUP(T258,zawodnicy!$A:$E,3,FALSE),\"\")),IF((VLOOKUP(W257,'plan gier'!$Z:$AH,7,FALSE))=\"\",\"\",VLOOKUP(VLOOKUP(W257,'plan gier'!$Z:$AH,7,FALSE),zawodnicy!$A:$E,3,FALSE)))","v":""}]
[null,null,null,null,null,null,null,null,null,null,null,null,null,null,null,null,"1. z gr. 7",null,null,{"$f":"UPPER(IF(N232=\"\",\"\",IF(TYPE(VLOOKUP(1&7&N232,I:J,2,FALSE))=2,VLOOKUP(1&7&N232,I:J,2,FALSE),\"\")))","v":""},null,{"$f":"IF(T258<>\"\",CONCATENATE(VLOOKUP(T258,zawodnicy!$A:$E,2,FALSE),\" \",VLOOKUP(T258,zawodnicy!$A:$E,3,FALSE),\" - \",VLOOKUP(T258,zawodnicy!$A:$E,4,FALSE)),\"\")","v":""},null,{"$f":"IF(ISBLANK(W257),\"\",IF((VLOOKUP(W257,'plan gier'!$Z:$AH,7,FALSE))=\"\",L257,VLOOKUP(W257,'plan gier'!$Z:$AH,9,FALSE)))","v":""}]
[{"$f":"Z259","v":0},{"$f":"F257","v":""},null,{"$f":"F261","v":""},null,{"$f":"IF(A259=0,IF(AND(LEN(B259)>0,LEN(D259)=0),B259,IF(AND(LEN(D259)>0,LEN(B259)=0),D259,\"\")),IF((VLOOKUP(A259,'plan gier'!$Z:$AH,7,FALSE))=\"\",\"\",VLOOKUP(VLOOKUP(A259,'plan gier'!$Z:$AH,7,FALSE),zawodnicy!$A:$E,1,FALSE)))","v":""},null,{"$f":"IF(A259=0,\"\",IF((VLOOKUP(A259,'plan gier'!$Z:$AH,7,FALSE))=\"\",\"\",VLOOKUP(A259,'plan gier'!$Z:$AH,9,FALSE)))","v":""},null,null,null,{"$f":"IF(A259=0,\"\",IF(VLOOKUP(A259,'plan gier'!A:T,20,FALSE)=\"\",\"\",VLOOKUP(A259,'plan gier'!A:T,20,FALSE)))","v":""},{"$f":"N232","v":0},null,null,null,null,null,null,null,null,null,null,null,null,null,{"$f":"IF(ISBLANK(Z259),IF(AND(LEN(X257)>0,LEN(X261)=0),X257,IF(AND(LEN(X261)>0,LEN(X257)=0),X261,\"\")),IF((VLOOKUP(Z259,'plan gier'!$Z:$AH,7,FALSE))=\"\",\"\",VLOOKUP(VLOOKUP(Z259,'plan gier'!$Z:$AH,7,FALSE),zawodnicy!$A:$E,3,FALSE)))","v":""}]
[null,null,null,null,null,null,null,null,null,null,null,null,null,null,null,null,null,null,null,null,null,null,null,null,null,null,{"$f":"IF(ISBLANK(Z259),\"\",IF((VLOOKUP(Z259,'plan gier'!$Z:$AH,7,FALSE))=\"\",L259,VLOOKUP(Z259,'plan gier'!$Z:$AH,9,FALSE)))","v":""}]
[{"$f":"W261","v":0},{"$f":"IF(TYPE(T261)=16,\"\",T261)","v":""},null,{"$f":"IF(TYPE(T262)=16,\"\",T262)","v":""},null,{"$f":"IF(A261=0,IF(AND(LEN(B261)>0,LEN(D261)=0),VLOOKUP(B261,zawodnicy!$A:$E,1,FALSE),IF(AND(LEN(D261)>0,LEN(B261)=0),VLOOKUP(D261,zawodnicy!$A:$E,1,FALSE),\"\")),IF((VLOOKUP(A261,'plan gier'!$Z:$AH,7,FALSE))=\"\",\"\",VLOOKUP(VLOOKUP(A261,'plan gier'!$Z:$AH,7,FALSE),zawodnicy!$A:$E,1,FALSE)))","v":""},null,{"$f":"IF(A261=0,\"\",IF((VLOOKUP(A261,'plan gier'!$Z:$AH,7,FALSE))=\"\",\"\",VLOOKUP(A261,'plan gier'!$Z:$AH,9,FALSE)))","v":""},null,null,null,{"$f":"IF(A261=0,\"\",IF(VLOOKUP(A261,'plan gier'!A:T,20,FALSE)=\"\",\"\",VLOOKUP(A261,'plan gier'!A:T,20,FALSE)))","v":""},{"$f":"N232","v":0},null,null,null,"2. z gr. 1",null,null,{"$f":"UPPER(IF(N232=\"\",\"\",IF(TYPE(VLOOKUP(2&1&N232,I:J,2,FALSE))=2,VLOOKUP(2&1&N232,I:J,2,FALSE),\"\")))","v":""},null,{"$f":"IF(T261<>\"\",CONCATENATE(VLOOKUP(T261,zawodnicy!$A:$E,2,FALSE),\" \",VLOOKUP(T261,zawodnicy!$A:$E,3,FALSE),\" - \",VLOOKUP(T261,zawodnicy!$A:$E,4,FALSE)),\"\")","v":""},null,{"$f":"IF(ISBLANK(W261),IF(AND(LEN(T261)>0,LEN(T262)=0),VLOOKUP(T261,zawodnicy!$A:$E,3,FALSE),IF(AND(LEN(T262)>0,LEN(T261)=0),VLOOKUP(T262,zawodnicy!$A:$E,3,FALSE),\"\")),IF((VLOOKUP(W261,'plan gier'!$Z:$AH,7,FALSE))=\"\",\"\",VLOOKUP(VLOOKUP(W261,'plan gier'!$Z:$AH,7,FALSE),zawodnicy!$A:$E,3,FALSE)))","v":""}]
[null,null,null,null,null,null,null,null,null,null,null,null,null,null,null,null,"1. z gr. 8",null,null,{"$f":"UPPER(IF(N232=\"\",\"\",IF(TYPE(VLOOKUP(1&8&N232,I:J,2,FALSE))=2,VLOOKUP(1&8&N232,I:J,2,FALSE),\"\")))","v":""},null,{"$f":"IF(T262<>\"\",CONCATENATE(VLOOKUP(T262,zawodnicy!$A:$E,2,FALSE),\" \",VLOOKUP(T262,zawodnicy!$A:$E,3,FALSE),\" - \",VLOOKUP(T262,zawodnicy!$A:$E,4,FALSE)),\"\")","v":""},null,{"$f":"IF(ISBLANK(W261),\"\",IF((VLOOKUP(W261,'plan gier'!$Z:$AH,7,FALSE))=\"\",L261,VLOOKUP(W261,'plan gier'!$Z:$AH,9,FALSE)))","v":""}]
[]
[]
[null,null,null,null,null,null,null,null,null,null,null,null,null,null,null,null,"Drabinka pucharowa pośredniego systemu grupowo-pucharowego dla 7 grup"]
[]
[null,null,null,null,null,null,null,null,null,null,null,null,null,null,null,null,null,null,null,"9-14.",null,null,null,"5-8.",null,null,"3-4.",null,null,"2."]
[]
[{"$f":"W269","v":0},{"$f":"IF(TYPE(T269)=16,\"\",T269)","v":""},null,null,null,{"$f":"IF(A269=0,IF(AND(LEN(B269)>0,LEN(D269)=0),VLOOKUP(B269,zawodnicy!$A:$E,1,FALSE),IF(AND(LEN(D269)>0,LEN(B269)=0),VLOOKUP(D269,zawodnicy!$A:$E,1,FALSE),\"\")),IF((VLOOKUP(A269,'plan gier'!$Z:$AH,7,FALSE))=\"\",\"\",VLOOKUP(VLOOKUP(A269,'plan gier'!$Z:$AH,7,FALSE),zawodnicy!$A:$E,1,FALSE)))","v":""},null,{"$f":"IF(A269=0,\"\",IF((VLOOKUP(A269,'plan gier'!$Z:$AH,7,FALSE))=\"\",\"\",VLOOKUP(A269,'plan gier'!$Z:$AH,9,FALSE)))","v":""},null,null,null,{"$f":"IF(A269=0,\"\",IF(VLOOKUP(A269,'plan gier'!A:T,20,FALSE)=\"\",\"\",VLOOKUP(A269,'plan gier'!A:T,20,FALSE)))","v":""},{"$f":"N268","v":0},null,null,null,"1. z gr. 1",null,null,{"$f":"UPPER(IF((N268=\"\"),\"\",IF(TYPE(VLOOKUP(1&1&N268,I:J,2,FALSE))=2,VLOOKUP(1&1&N268,I:J,2,FALSE),\"\")))","v":""},null,{"$f":"IF(T269<>\"\",CONCATENATE(VLOOKUP(T269,zawodnicy!$A:$E,2,FALSE),\" \",VLOOKUP(T269,zawodnicy!$A:$E,3,FALSE),\" - \",VLOOKUP(T269,zawodnicy!$A:$E,4,FALSE)),\"\")","v":""},null,{"$f":"IF(LEN(T269)>0,VLOOKUP(T269,zawodnicy!$A:$E,3,FALSE),\"\")","v":""}]
[]
[{"$f":"Z271","v":0},{"$f":"F269","v":""},null,{"$f":"F273","v":""},null,{"$f":"IF(A271=0,IF(AND(LEN(B271)>0,LEN(D271)=0),B271,IF(AND(LEN(D271)>0,LEN(B271)=0),D271,\"\")),IF((VLOOKUP(A271,'plan gier'!$Z:$AH,7,FALSE))=\"\",\"\",VLOOKUP(VLOOKUP(A271,'plan gier'!$Z:$AH,7,FALSE),zawodnicy!$A:$E,1,FALSE)))","v":""},null,{"$f":"IF(A271=0,\"\",IF((VLOOKUP(A271,'plan gier'!$Z:$AH,7,FALSE))=\"\",\"\",VLOOKUP(A271,'plan gier'!$Z:$AH,9,FALSE)))","v":""},null,null,null,{"$f":"IF(A271=0,\"\",IF(VLOOKUP(A271,'plan gier'!A:T,20,FALSE)=\"\",\"\",VLOOKUP(A271,'plan gier'!A:T,20,FALSE)))","v":""},{"$f":"N268","v":0},null,null,null,null,null,null,null,null,null,null,null,null,null,{"$f":"IF(ISBLANK(Z271),IF(AND(LEN(X269)>0,LEN(X273)=0),X269,IF(AND(LEN(X273)>0,LEN(X269)=0),X273,\"\")),IF((VLOOKUP(Z271,'plan gier'!$Z:$AH,7,FALSE))=\"\",\"\",VLOOKUP(VLOOKUP(Z271,'plan gier'!$Z:$AH,7,FALSE),zawodnicy!$A:$E,3,FALSE)))","v":""}]
[null,null,null,null,null,null,null,null,null,null,null,null,null,null,null,null,null,null,null,null,null,null,null,null,null,null,{"$f":"IF(ISBLANK(Z271),\"\",IF((VLOOKUP(Z271,'plan gier'!$Z:$AH,7,FALSE))=\"\",L271,VLOOKUP(Z271,'plan gier'!$Z:$AH,9,FALSE)))","v":""}]
[{"$f":"W273","v":0},{"$f":"IF(TYPE(T273)=16,\"\",T273)","v":""},null,{"$f":"IF(TYPE(T274)=16,\"\",T274)","v":""},null,{"$f":"IF(A273=0,IF(AND(LEN(B273)>0,LEN(D273)=0),VLOOKUP(B273,zawodnicy!$A:$E,1,FALSE),IF(AND(LEN(D273)>0,LEN(B273)=0),VLOOKUP(D273,zawodnicy!$A:$E,1,FALSE),\"\")),IF((VLOOKUP(A273,'plan gier'!$Z:$AH,7,FALSE))=\"\",\"\",VLOOKUP(VLOOKUP(A273,'plan gier'!$Z:$AH,7,FALSE),zawodnicy!$A:$E,1,FALSE)))","v":""},null,{"$f":"IF(A273=0,\"\",IF((VLOOKUP(A273,'plan gier'!$Z:$AH,7,FALSE))=\"\",\"\",VLOOKUP(A273,'plan gier'!$Z:$AH,9,FALSE)))","v":""},null,null,null,{"$f":"IF(A273=0,\"\",IF(VLOOKUP(A273,'plan gier'!A:T,20,FALSE)=\"\",\"\",VLOOKUP(A273,'plan gier'!A:T,20,FALSE)))","v":""},{"$f":"N268","v":0},null,null,null,"2. z gr. 7",null,null,{"$f":"UPPER(IF(N268=\"\",\"\",IF(TYPE(VLOOKUP(2&7&N268,I:J,2,FALSE))=2,VLOOKUP(2&7&N268,I:J,2,FALSE),\"\")))","v":""},null,{"$f":"IF(T273<>\"\",CONCATENATE(VLOOKUP(T273,zawodnicy!$A:$E,2,FALSE),\" \",VLOOKUP(T273,zawodnicy!$A:$E,3,FALSE),\" - \",VLOOKUP(T273,zawodnicy!$A:$E,4,FALSE)),\"\")","v":""},null,{"$f":"IF(ISBLANK(W273),IF(AND(LEN(T273)>0,LEN(T274)=0),VLOOKUP(T273,zawodnicy!$A:$E,3,FALSE),IF(AND(LEN(T274)>0,LEN(T273)=0),VLOOKUP(T274,zawodnicy!$A:$E,3,FALSE),\"\")),IF((VLOOKUP(W273,'plan gier'!$Z:$AH,7,FALSE))=\"\",\"\",VLOOKUP(VLOOKUP(W273,'plan gier'!$Z:$AH,7,FALSE),zawodnicy!$A:$E,3,FALSE)))","v":""}]
[null,null,null,null,null,null,null,null,null,null,null,null,null,null,null,null,"2. z gr. 6",null,null,{"$f":"UPPER(IF(N268=\"\",\"\",IF(TYPE(VLOOKUP(2&6&N268,I:J,2,FALSE))=2,VLOOKUP(2&6&N268,I:J,2,FALSE),\"\")))","v":""},null,{"$f":"IF(T274<>\"\",CONCATENATE(VLOOKUP(T274,zawodnicy!$A:$E,2,FALSE),\" \",VLOOKUP(T274,zawodnicy!$A:$E,3,FALSE),\" - \",VLOOKUP(T274,zawodnicy!$A:$E,4,FALSE)),\"\")","v":""},null,{"$f":"IF(ISBLANK(W273),\"\",IF((VLOOKUP(W273,'plan gier'!$Z:$AH,7,FALSE))=\"\",L273,VLOOKUP(W273,'plan gier'!$Z:$AH,9,FALSE)))","v":""}]
[{"$f":"AC275","v":0},{"$f":"F271","v":""},null,{"$f":"F279","v":""},null,{"$f":"IF(A275=0,IF(AND(LEN(B275)>0,LEN(D275)=0),B275,IF(AND(LEN(D275)>0,LEN(B275)=0),D275,\"\")),IF((VLOOKUP(A275,'plan gier'!$Z:$AH,7,FALSE))=\"\",\"\",VLOOKUP(VLOOKUP(A275,'plan gier'!$Z:$AH,7,FALSE),zawodnicy!$A:$E,1,FALSE)))","v":""},null,{"$f":"IF(A275=0,\"\",IF((VLOOKUP(A275,'plan gier'!$Z:$AH,7,FALSE))=\"\",\"\",VLOOKUP(A275,'plan gier'!$Z:$AH,9,FALSE)))","v":""},null,null,null,{"$f":"IF(A275=0,\"\",IF(VLOOKUP(A275,'plan gier'!A:T,20,FALSE)=\"\",\"\",VLOOKUP(A275,'plan gier'!A:T,20,FALSE)))","v":""},{"$f":"N268","v":0},null,null,null,null,null,null,null,null,null,null,null,null,null,null,null,null,{"$f":"IF(ISBLANK(AC275),IF(AND(LEN(AA271)>0,LEN(AA279)=0),AA271,IF(AND(LEN(AA279)>0,LEN(AA271)=0),AA279,\"\")),IF((VLOOKUP(AC275,'plan gier'!$Z:$AH,7,FALSE))=\"\",\"\",VLOOKUP(VLOOKUP(AC275,'plan gier'!$Z:$AH,7,FALSE),zawodnicy!$A:$E,3,FALSE)))","v":""}]
[null,null,null,null,null,null,null,null,null,null,null,null,null,null,null,null,null,null,null,null,null,null,null,null,null,null,null,null,null,{"$f":"IF(ISBLANK(AC275),\"\",IF((VLOOKUP(AC275,'plan gier'!$Z:$AH,7,FALSE))=\"\",L275,VLOOKUP(AC275,'plan gier'!$Z:$AH,9,FALSE)))","v":""}]
[{"$f":"W277","v":0},{"$f":"IF(TYPE(T277)=16,\"\",T277)","v":""},null,{"$f":"IF(TYPE(T278)=16,\"\",T278)","v":""},null,{"$f":"IF(A277=0,IF(AND(LEN(B277)>0,LEN(D277)=0),VLOOKUP(B277,zawodnicy!$A:$E,1,FALSE),IF(AND(LEN(D277)>0,LEN(B277)=0),VLOOKUP(D277,zawodnicy!$A:$E,1,FALSE),\"\")),IF((VLOOKUP(A277,'plan gier'!$Z:$AH,7,FALSE))=\"\",\"\",VLOOKUP(VLOOKUP(A277,'plan gier'!$Z:$AH,7,FALSE),zawodnicy!$A:$E,1,FALSE)))","v":""},null,{"$f":"IF(A277=0,\"\",IF((VLOOKUP(A277,'plan gier'!$Z:$AH,7,FALSE))=\"\",\"\",VLOOKUP(A277,'plan gier'!$Z:$AH,9,FALSE)))","v":""},null,null,null,{"$f":"IF(A277=0,\"\",IF(VLOOKUP(A277,'plan gier'!A:T,20,FALSE)=\"\",\"\",VLOOKUP(A277,'plan gier'!A:T,20,FALSE)))","v":""},{"$f":"N268","v":0},null,null,null,"1. z gr. 2",null,null,{"$f":"UPPER(IF(N268=\"\",\"\",IF(TYPE(VLOOKUP(1&2&N268,I:J,2,FALSE))=2,VLOOKUP(1&2&N268,I:J,2,FALSE),\"\")))","v":""},null,{"$f":"IF(T277<>\"\",CONCATENATE(VLOOKUP(T277,zawodnicy!$A:$E,2,FALSE),\" \",VLOOKUP(T277,zawodnicy!$A:$E,3,FALSE),\" - \",VLOOKUP(T277,zawodnicy!$A:$E,4,FALSE)),\"\")","v":""},null,{"$f":"IF(ISBLANK(W277),IF(AND(LEN(T277)>0,LEN(T278)=0),VLOOKUP(T277,zawodnicy!$A:$E,3,FALSE),IF(AND(LEN(T278)>0,LEN(T277)=0),VLOOKUP(T278,zawodnicy!$A:$E,3,FALSE),\"\")),IF((VLOOKUP(W277,'plan gier'!$Z:$AH,7,FALSE))=\"\",\"\",VLOOKUP(VLOOKUP(W277,'plan gier'!$Z:$AH,7,FALSE),zawodnicy!$A:$E,3,FALSE)))","v":""}]
[null,null,null,null,null,null,null,null,null,null,null,null,null,null,null,null,"2. z gr. 5",null,null,{"$f":"UPPER(IF(N268=\"\",\"\",IF(TYPE(VLOOKUP(2&5&N268,I:J,2,FALSE))=2,VLOOKUP(2&5&N268,I:J,2,FALSE),\"\")))","v":""},null,{"$f":"IF(T278<>\"\",CONCATENATE(VLOOKUP(T278,zawodnicy!$A:$E,2,FALSE),\" \",VLOOKUP(T278,zawodnicy!$A:$E,3,FALSE),\" - \",VLOOKUP(T278,zawodnicy!$A:$E,4,FALSE)),\"\")","v":""},null,{"$f":"IF(ISBLANK(W277),\"\",IF((VLOOKUP(W277,'plan gier'!$Z:$AH,7,FALSE))=\"\",L277,VLOOKUP(W277,'plan gier'!$Z:$AH,9,FALSE)))","v":""}]
[{"$f":"Z279","v":0},{"$f":"F277","v":""},null,{"$f":"F281","v":""},null,{"$f":"IF(A279=0,IF(AND(LEN(B279)>0,LEN(D279)=0),B279,IF(AND(LEN(D279)>0,LEN(B279)=0),D279,\"\")),IF((VLOOKUP(A279,'plan gier'!$Z:$AH,7,FALSE))=\"\",\"\",VLOOKUP(VLOOKUP(A279,'plan gier'!$Z:$AH,7,FALSE),zawodnicy!$A:$E,1,FALSE)))","v":""},null,{"$f":"IF(A279=0,\"\",IF((VLOOKUP(A279,'plan gier'!$Z:$AH,7,FALSE))=\"\",\"\",VLOOKUP(A279,'plan gier'!$Z:$AH,9,FALSE)))","v":""},null,null,null,{"$f":"IF(A279=0,\"\",IF(VLOOKUP(A279,'plan gier'!A:T,20,FALSE)=\"\",\"\",VLOOKUP(A279,'plan gier'!A:T,20,FALSE)))","v":""},{"$f":"N268","v":0},null,null,null,null,null,null,null,null,null,null,null,null,null,{"$f":"IF(ISBLANK(Z279),IF(AND(LEN(X277)>0,LEN(X281)=0),X277,IF(AND(LEN(X281)>0,LEN(X277)=0),X281,\"\")),IF((VLOOKUP(Z279,'plan gier'!$Z:$AH,7,FALSE))=\"\",\"\",VLOOKUP(VLOOKUP(Z279,'plan gier'!$Z:$AH,7,FALSE),zawodnicy!$A:$E,3,FALSE)))","v":""}]
[null,null,null,null,null,null,null,null,null,null,null,null,null,null,null,null,null,null,null,null,null,null,null,null,null,null,{"$f":"IF(ISBLANK(Z279),\"\",IF((VLOOKUP(Z279,'plan gier'!$Z:$AH,7,FALSE))=\"\",L279,VLOOKUP(Z279,'plan gier'!$Z:$AH,9,FALSE)))","v":""}]
[{"$f":"W281","v":0},{"$f":"IF(TYPE(T281)=16,\"\",T281)","v":""},null,{"$f":"IF(TYPE(T282)=16,\"\",T282)","v":""},null,{"$f":"IF(A281=0,IF(AND(LEN(B281)>0,LEN(D281)=0),VLOOKUP(B281,zawodnicy!$A:$E,1,FALSE),IF(AND(LEN(D281)>0,LEN(B281)=0),VLOOKUP(D281,zawodnicy!$A:$E,1,FALSE),\"\")),IF((VLOOKUP(A281,'plan gier'!$Z:$AH,7,FALSE))=\"\",\"\",VLOOKUP(VLOOKUP(A281,'plan gier'!$Z:$AH,7,FALSE),zawodnicy!$A:$E,1,FALSE)))","v":""},null,{"$f":"IF(A281=0,\"\",IF((VLOOKUP(A281,'plan gier'!$Z:$AH,7,FALSE))=\"\",\"\",VLOOKUP(A281,'plan gier'!$Z:$AH,9,FALSE)))","v":""},null,null,null,{"$f":"IF(A281=0,\"\",IF(VLOOKUP(A281,'plan gier'!A:T,20,FALSE)=\"\",\"\",VLOOKUP(A281,'plan gier'!A:T,20,FALSE)))","v":""},{"$f":"N268","v":0},null,null,null,"1. z gr. 3",null,null,{"$f":"UPPER(IF(N268=\"\",\"\",IF(TYPE(VLOOKUP(1&3&N268,I:J,2,FALSE))=2,VLOOKUP(1&3&N268,I:J,2,FALSE),\"\")))","v":""},null,{"$f":"IF(T281<>\"\",CONCATENATE(VLOOKUP(T281,zawodnicy!$A:$E,2,FALSE),\" \",VLOOKUP(T281,zawodnicy!$A:$E,3,FALSE),\" - \",VLOOKUP(T281,zawodnicy!$A:$E,4,FALSE)),\"\")","v":""},null,{"$f":"IF(ISBLANK(W281),IF(AND(LEN(T281)>0,LEN(T282)=0),VLOOKUP(T281,zawodnicy!$A:$E,3,FALSE),IF(AND(LEN(T282)>0,LEN(T281)=0),VLOOKUP(T282,zawodnicy!$A:$E,3,FALSE),\"\")),IF((VLOOKUP(W281,'plan gier'!$Z:$AH,7,FALSE))=\"\",\"\",VLOOKUP(VLOOKUP(W281,'plan gier'!$Z:$AH,7,FALSE),zawodnicy!$A:$E,3,FALSE)))","v":""},null,null,null,null,null,"1."]
[null,null,null,null,null,null,null,null,null,null,null,null,null,null,null,null,"2. z gr. 4",null,null,{"$f":"UPPER(IF(N268=\"\",\"\",IF(TYPE(VLOOKUP(2&4&N268,I:J,2,FALSE))=2,VLOOKUP(2&4&N268,I:J,2,FALSE),\"\")))","v":""},null,{"$f":"IF(T282<>\"\",CONCATENATE(VLOOKUP(T282,zawodnicy!$A:$E,2,FALSE),\" \",VLOOKUP(T282,zawodnicy!$A:$E,3,FALSE),\" - \",VLOOKUP(T282,zawodnicy!$A:$E,4,FALSE)),\"\")","v":""},null,{"$f":"IF(ISBLANK(W281),\"\",IF((VLOOKUP(W281,'plan gier'!$Z:$AH,7,FALSE))=\"\",L281,VLOOKUP(W281,'plan gier'!$Z:$AH,9,FALSE)))","v":""}]
[{"$f":"AC283","v":0},{"$f":"F275","v":""},null,{"$f":"F291","v":""},null,{"$f":"IF(A283=0,IF(AND(LEN(B283)>0,LEN(D283)=0),B283,IF(AND(LEN(D283)>0,LEN(B283)=0),D283,\"\")),IF((VLOOKUP(A283,'plan gier'!$Z:$AH,7,FALSE))=\"\",\"\",VLOOKUP(VLOOKUP(A283,'plan gier'!$Z:$AH,7,FALSE),zawodnicy!$A:$E,1,FALSE)))","v":""},null,{"$f":"IF(A283=0,\"\",IF((VLOOKUP(A283,'plan gier'!$Z:$AH,7,FALSE))=\"\",\"\",VLOOKUP(A283,'plan gier'!$Z:$AH,9,FALSE)))","v":""},null,null,null,{"$f":"IF(A283=0,\"\",IF(VLOOKUP(A283,'plan gier'!A:T,20,FALSE)=\"\",\"\",VLOOKUP(A283,'plan gier'!A:T,20,FALSE)))","v":""},{"$f":"N268","v":0},null,null,null,null,null,null,null,null,null,null,null,null,null,null,null,null,{"$f":"IF(ISBLANK(AC283),IF(AND(LEN(AD275)>0,LEN(AD291)=0),AD275,IF(AND(LEN(AD291)>0,LEN(AD275)=0),AD291,\"\")),IF((VLOOKUP(AC283,'plan gier'!$Z:$AH,7,FALSE))=\"\",\"\",VLOOKUP(VLOOKUP(AC283,'plan gier'!$Z:$AH,7,FALSE),zawodnicy!$A:$E,3,FALSE)))","v":""}]
[null,null,null,null,null,null,null,null,null,null,null,null,null,null,null,null,null,null,null,null,null,null,null,null,null,null,null,null,null,{"$f":"IF(ISBLANK(AC283),\"\",IF((VLOOKUP(AC283,'plan gier'!$Z:$AH,7,FALSE))=\"\",L283,VLOOKUP(AC283,'plan gier'!$Z:$AH,9,FALSE)))","v":""}]
[{"$f":"W285","v":0},{"$f":"IF(TYPE(T285)=16,\"\",T285)","v":""},null,{"$f":"IF(TYPE(T286)=16,\"\",T286)","v":""},null,{"$f":"IF(A285=0,IF(AND(LEN(B285)>0,LEN(D285)=0),VLOOKUP(B285,zawodnicy!$A:$E,1,FALSE),IF(AND(LEN(D285)>0,LEN(B285)=0),VLOOKUP(D285,zawodnicy!$A:$E,1,FALSE),\"\")),IF((VLOOKUP(A285,'plan gier'!$Z:$AH,7,FALSE))=\"\",\"\",VLOOKUP(VLOOKUP(A285,'plan gier'!$Z:$AH,7,FALSE),zawodnicy!$A:$E,1,FALSE)))","v":""},null,{"$f":"IF(A285=0,\"\",IF((VLOOKUP(A285,'plan gier'!$Z:$AH,7,FALSE))=\"\",\"\",VLOOKUP(A285,'plan gier'!$Z:$AH,9,FALSE)))","v":""},null,null,null,{"$f":"IF(A285=0,\"\",IF(VLOOKUP(A285,'plan gier'!A:T,20,FALSE)=\"\",\"\",VLOOKUP(A285,'plan gier'!A:T,20,FALSE)))","v":""},{"$f":"N268","v":0},null,null,null,"2. z gr. 3",null,null,{"$f":"UPPER(IF(N268=\"\",\"\",IF(TYPE(VLOOKUP(2&3&N268,I:J,2,FALSE))=2,VLOOKUP(2&3&N268,I:J,2,FALSE),\"\")))","v":""},null,{"$f":"IF(T285<>\"\",CONCATENATE(VLOOKUP(T285,zawodnicy!$A:$E,2,FALSE),\" \",VLOOKUP(T285,zawodnicy!$A:$E,3,FALSE),\" - \",VLOOKUP(T285,zawodnicy!$A:$E,4,FALSE)),\"\")","v":""},null,{"$f":"IF(ISBLANK(W285),IF(AND(LEN(T285)>0,LEN(T286)=0),VLOOKUP(T285,zawodnicy!$A:$E,3,FALSE),IF(AND(LEN(T286)>0,LEN(T285)=0),VLOOKUP(T286,zawodnicy!$A:$E,3,FALSE),\"\")),IF((VLOOKUP(W285,'plan gier'!$Z:$AH,7,FALSE))=\"\",\"\",VLOOKUP(VLOOKUP(W285,'plan gier'!$Z:$AH,7,FALSE),zawodnicy!$A:$E,3,FALSE)))","v":""}]
[null,null,null,null,null,null,null,null,null,null,null,null,null,null,null,null,"1. z gr. 4",null,null,{"$f":"UPPER(IF(N268=\"\",\"\",IF(TYPE(VLOOKUP(1&4&N268,I:J,2,FALSE))=2,VLOOKUP(1&4&N268,I:J,2,FALSE),\"\")))","v":""},null,{"$f":"IF(T286<>\"\",CONCATENATE(VLOOKUP(T286,zawodnicy!$A:$E,2,FALSE),\" \",VLOOKUP(T286,zawodnicy!$A:$E,3,FALSE),\" - \",VLOOKUP(T286,zawodnicy!$A:$E,4,FALSE)),\"\")","v":""},null,{"$f":"IF(ISBLANK(W285),\"\",IF((VLOOKUP(W285,'plan gier'!$Z:$AH,7,FALSE))=\"\",L285,VLOOKUP(W285,'plan gier'!$Z:$AH,9,FALSE)))","v":""}]
[{"$f":"Z287","v":0},{"$f":"F285","v":""},null,{"$f":"F289","v":""},null,{"$f":"IF(A287=0,IF(AND(LEN(B287)>0,LEN(D287)=0),B287,IF(AND(LEN(D287)>0,LEN(B287)=0),D287,\"\")),IF((VLOOKUP(A287,'plan gier'!$Z:$AH,7,FALSE))=\"\",\"\",VLOOKUP(VLOOKUP(A287,'plan gier'!$Z:$AH,7,FALSE),zawodnicy!$A:$E,1,FALSE)))","v":""},null,{"$f":"IF(A287=0,\"\",IF((VLOOKUP(A287,'plan gier'!$Z:$AH,7,FALSE))=\"\",\"\",VLOOKUP(A287,'plan gier'!$Z:$AH,9,FALSE)))","v":""},null,null,null,{"$f":"IF(A287=0,\"\",IF(VLOOKUP(A287,'plan gier'!A:T,20,FALSE)=\"\",\"\",VLOOKUP(A287,'plan gier'!A:T,20,FALSE)))","v":""},{"$f":"N268","v":0},null,null,null,null,null,null,null,null,null,null,null,null,null,{"$f":"IF(ISBLANK(Z287),IF(AND(LEN(X285)>0,LEN(X289)=0),X285,IF(AND(LEN(X289)>0,LEN(X285)=0),X289,\"\")),IF((VLOOKUP(Z287,'plan gier'!$Z:$AH,7,FALSE))=\"\",\"\",VLOOKUP(VLOOKUP(Z287,'plan gier'!$Z:$AH,7,FALSE),zawodnicy!$A:$E,3,FALSE)))","v":""}]
[null,null,null,null,null,null,null,null,null,null,null,null,null,null,null,null,null,null,null,null,null,null,null,null,null,null,{"$f":"IF(ISBLANK(Z287),\"\",IF((VLOOKUP(Z287,'plan gier'!$Z:$AH,7,FALSE))=\"\",L287,VLOOKUP(Z287,'plan gier'!$Z:$AH,9,FALSE)))","v":""}]
[{"$f":"W289","v":0},{"$f":"IF(TYPE(T289)=16,\"\",T289)","v":""},null,{"$f":"IF(TYPE(T290)=16,\"\",T290)","v":""},null,{"$f":"IF(A289=0,IF(AND(LEN(B289)>0,LEN(D289)=0),VLOOKUP(B289,zawodnicy!$A:$E,1,FALSE),IF(AND(LEN(D289)>0,LEN(B289)=0),VLOOKUP(D289,zawodnicy!$A:$E,1,FALSE),\"\")),IF((VLOOKUP(A289,'plan gier'!$Z:$AH,7,FALSE))=\"\",\"\",VLOOKUP(VLOOKUP(A289,'plan gier'!$Z:$AH,7,FALSE),zawodnicy!$A:$E,1,FALSE)))","v":""},null,{"$f":"IF(A289=0,\"\",IF((VLOOKUP(A289,'plan gier'!$Z:$AH,7,FALSE))=\"\",\"\",VLOOKUP(A289,'plan gier'!$Z:$AH,9,FALSE)))","v":""},null,null,null,{"$f":"IF(A289=0,\"\",IF(VLOOKUP(A289,'plan gier'!A:T,20,FALSE)=\"\",\"\",VLOOKUP(A289,'plan gier'!A:T,20,FALSE)))","v":""},{"$f":"N268","v":0},null,null,null,"2. z gr. 2",null,null,{"$f":"UPPER(IF(N268=\"\",\"\",IF(TYPE(VLOOKUP(2&2&N268,I:J,2,FALSE))=2,VLOOKUP(2&2&N268,I:J,2,FALSE),\"\")))","v":""},null,{"$f":"IF(T289<>\"\",CONCATENATE(VLOOKUP(T289,zawodnicy!$A:$E,2,FALSE),\" \",VLOOKUP(T289,zawodnicy!$A:$E,3,FALSE),\" - \",VLOOKUP(T289,zawodnicy!$A:$E,4,FALSE)),\"\")","v":""},null,{"$f":"IF(ISBLANK(W289),IF(AND(LEN(T289)>0,LEN(T290)=0),VLOOKUP(T289,zawodnicy!$A:$E,3,FALSE),IF(AND(LEN(T290)>0,LEN(T289)=0),VLOOKUP(T290,zawodnicy!$A:$E,3,FALSE),\"\")),IF((VLOOKUP(W289,'plan gier'!$Z:$AH,7,FALSE))=\"\",\"\",VLOOKUP(VLOOKUP(W289,'plan gier'!$Z:$AH,7,FALSE),zawodnicy!$A:$E,3,FALSE)))","v":""}]
[null,null,null,null,null,null,null,null,null,null,null,null,null,null,null,null,"1. z gr. 5",null,null,{"$f":"UPPER(IF(N268=\"\",\"\",IF(TYPE(VLOOKUP(1&5&N268,I:J,2,FALSE))=2,VLOOKUP(1&5&N268,I:J,2,FALSE),\"\")))","v":""},null,{"$f":"IF(T290<>\"\",CONCATENATE(VLOOKUP(T290,zawodnicy!$A:$E,2,FALSE),\" \",VLOOKUP(T290,zawodnicy!$A:$E,3,FALSE),\" - \",VLOOKUP(T290,zawodnicy!$A:$E,4,FALSE)),\"\")","v":""},null,{"$f":"IF(ISBLANK(W289),\"\",IF((VLOOKUP(W289,'plan gier'!$Z:$AH,7,FALSE))=\"\",L289,VLOOKUP(W289,'plan gier'!$Z:$AH,9,FALSE)))","v":""}]
[{"$f":"AC291","v":0},{"$f":"F287","v":""},null,{"$f":"F295","v":""},null,{"$f":"IF(A291=0,IF(AND(LEN(B291)>0,LEN(D291)=0),B291,IF(AND(LEN(D291)>0,LEN(B291)=0),D291,\"\")),IF((VLOOKUP(A291,'plan gier'!$Z:$AH,7,FALSE))=\"\",\"\",VLOOKUP(VLOOKUP(A291,'plan gier'!$Z:$AH,7,FALSE),zawodnicy!$A:$E,1,FALSE)))","v":""},null,{"$f":"IF(A291=0,\"\",IF((VLOOKUP(A291,'plan gier'!$Z:$AH,7,FALSE))=\"\",\"\",VLOOKUP(A291,'plan gier'!$Z:$AH,9,FALSE)))","v":""},null,null,null,{"$f":"IF(A291=0,\"\",IF(VLOOKUP(A291,'plan gier'!A:T,20,FALSE)=\"\",\"\",VLOOKUP(A291,'plan gier'!A:T,20,FALSE)))","v":""},{"$f":"N268","v":0},null,null,null,null,null,null,null,null,null,null,null,null,null,null,null,null,{"$f":"IF(ISBLANK(AC291),IF(AND(LEN(AA287)>0,LEN(AA295)=0),AA287,IF(AND(LEN(AA295)>0,LEN(AA287)=0),AA295,\"\")),IF((VLOOKUP(AC291,'plan gier'!$Z:$AH,7,FALSE))=\"\",\"\",VLOOKUP(VLOOKUP(AC291,'plan gier'!$Z:$AH,7,FALSE),zawodnicy!$A:$E,3,FALSE)))","v":""}]
[null,null,null,null,null,null,null,null,null,null,null,null,null,null,null,null,null,null,null,null,null,null,null,null,null,null,null,null,null,{"$f":"IF(ISBLANK(AC291),\"\",IF((VLOOKUP(AC291,'plan gier'!$Z:$AH,7,FALSE))=\"\",L291,VLOOKUP(AC291,'plan gier'!$Z:$AH,9,FALSE)))","v":""}]
[{"$f":"W293","v":0},{"$f":"IF(TYPE(T293)=16,\"\",T293)","v":""},null,{"$f":"IF(TYPE(T294)=16,\"\",T294)","v":""},null,{"$f":"IF(A293=0,IF(AND(LEN(B293)>0,LEN(D293)=0),VLOOKUP(B293,zawodnicy!$A:$E,1,FALSE),IF(AND(LEN(D293)>0,LEN(B293)=0),VLOOKUP(D293,zawodnicy!$A:$E,1,FALSE),\"\")),IF((VLOOKUP(A293,'plan gier'!$Z:$AH,7,FALSE))=\"\",\"\",VLOOKUP(VLOOKUP(A293,'plan gier'!$Z:$AH,7,FALSE),zawodnicy!$A:$E,1,FALSE)))","v":""},null,{"$f":"IF(A293=0,\"\",IF((VLOOKUP(A293,'plan gier'!$Z:$AH,7,FALSE))=\"\",\"\",VLOOKUP(A293,'plan gier'!$Z:$AH,9,FALSE)))","v":""},null,null,null,{"$f":"IF(A293=0,\"\",IF(VLOOKUP(A293,'plan gier'!A:T,20,FALSE)=\"\",\"\",VLOOKUP(A293,'plan gier'!A:T,20,FALSE)))","v":""},{"$f":"N268","v":0},null,null,null,"2. z gr. 1",null,null,{"$f":"UPPER(IF(N268=\"\",\"\",IF(TYPE(VLOOKUP(2&1&N268,I:J,2,FALSE))=2,VLOOKUP(2&1&N268,I:J,2,FALSE),\"\")))","v":""},null,{"$f":"IF(T293<>\"\",CONCATENATE(VLOOKUP(T293,zawodnicy!$A:$E,2,FALSE),\" \",VLOOKUP(T293,zawodnicy!$A:$E,3,FALSE),\" - \",VLOOKUP(T293,zawodnicy!$A:$E,4,FALSE)),\"\")","v":""},null,{"$f":"IF(ISBLANK(W293),IF(AND(LEN(T293)>0,LEN(T294)=0),VLOOKUP(T293,zawodnicy!$A:$E,3,FALSE),IF(AND(LEN(T294)>0,LEN(T293)=0),VLOOKUP(T294,zawodnicy!$A:$E,3,FALSE),\"\")),IF((VLOOKUP(W293,'plan gier'!$Z:$AH,7,FALSE))=\"\",\"\",VLOOKUP(VLOOKUP(W293,'plan gier'!$Z:$AH,7,FALSE),zawodnicy!$A:$E,3,FALSE)))","v":""}]
[null,null,null,null,null,null,null,null,null,null,null,null,null,null,null,null,"1. z gr. 6",null,null,{"$f":"UPPER(IF(N268=\"\",\"\",IF(TYPE(VLOOKUP(1&6&N268,I:J,2,FALSE))=2,VLOOKUP(1&6&N268,I:J,2,FALSE),\"\")))","v":""},null,{"$f":"IF(T294<>\"\",CONCATENATE(VLOOKUP(T294,zawodnicy!$A:$E,2,FALSE),\" \",VLOOKUP(T294,zawodnicy!$A:$E,3,FALSE),\" - \",VLOOKUP(T294,zawodnicy!$A:$E,4,FALSE)),\"\")","v":""},null,{"$f":"IF(ISBLANK(W293),\"\",IF((VLOOKUP(W293,'plan gier'!$Z:$AH,7,FALSE))=\"\",L293,VLOOKUP(W293,'plan gier'!$Z:$AH,9,FALSE)))","v":""}]
[{"$f":"Z295","v":0},{"$f":"F293","v":""},null,{"$f":"F297","v":""},null,{"$f":"IF(A295=0,IF(AND(LEN(B295)>0,LEN(D295)=0),B295,IF(AND(LEN(D295)>0,LEN(B295)=0),D295,\"\")),IF((VLOOKUP(A295,'plan gier'!$Z:$AH,7,FALSE))=\"\",\"\",VLOOKUP(VLOOKUP(A295,'plan gier'!$Z:$AH,7,FALSE),zawodnicy!$A:$E,1,FALSE)))","v":""},null,{"$f":"IF(A295=0,\"\",IF((VLOOKUP(A295,'plan gier'!$Z:$AH,7,FALSE))=\"\",\"\",VLOOKUP(A295,'plan gier'!$Z:$AH,9,FALSE)))","v":""},null,null,null,{"$f":"IF(A295=0,\"\",IF(VLOOKUP(A295,'plan gier'!A:T,20,FALSE)=\"\",\"\",VLOOKUP(A295,'plan gier'!A:T,20,FALSE)))","v":""},{"$f":"N268","v":0},null,null,null,null,null,null,null,null,null,null,null,null,null,{"$f":"IF(ISBLANK(Z295),IF(AND(LEN(X293)>0,LEN(X297)=0),X293,IF(AND(LEN(X297)>0,LEN(X293)=0),X297,\"\")),IF((VLOOKUP(Z295,'plan gier'!$Z:$AH,7,FALSE))=\"\",\"\",VLOOKUP(VLOOKUP(Z295,'plan gier'!$Z:$AH,7,FALSE),zawodnicy!$A:$E,3,FALSE)))","v":""}]
[null,null,null,null,null,null,null,null,null,null,null,null,null,null,null,null,null,null,null,null,null,null,null,null,null,null,{"$f":"IF(ISBLANK(Z295),\"\",IF((VLOOKUP(Z295,'plan gier'!$Z:$AH,7,FALSE))=\"\",L295,VLOOKUP(Z295,'plan gier'!$Z:$AH,9,FALSE)))","v":""}]
[{"$f":"W297","v":0},{"$f":"IF(TYPE(T297)=16,\"\",T297)","v":""},null,null,null,{"$f":"IF(A297=0,IF(AND(LEN(B297)>0,LEN(D297)=0),VLOOKUP(B297,zawodnicy!$A:$E,1,FALSE),IF(AND(LEN(D297)>0,LEN(B297)=0),VLOOKUP(D297,zawodnicy!$A:$E,1,FALSE),\"\")),IF((VLOOKUP(A297,'plan gier'!$Z:$AH,7,FALSE))=\"\",\"\",VLOOKUP(VLOOKUP(A297,'plan gier'!$Z:$AH,7,FALSE),zawodnicy!$A:$E,1,FALSE)))","v":""},null,{"$f":"IF(A297=0,\"\",IF((VLOOKUP(A297,'plan gier'!$Z:$AH,7,FALSE))=\"\",\"\",VLOOKUP(A297,'plan gier'!$Z:$AH,9,FALSE)))","v":""},null,null,null,{"$f":"IF(A297=0,\"\",IF(VLOOKUP(A297,'plan gier'!A:T,20,FALSE)=\"\",\"\",VLOOKUP(A297,'plan gier'!A:T,20,FALSE)))","v":""},{"$f":"N268","v":0},null,null,null,"1. z gr. 7",null,null,{"$f":"UPPER(IF(N268=\"\",\"\",IF(TYPE(VLOOKUP(1&7&N268,I:J,2,FALSE))=2,VLOOKUP(1&7&N268,I:J,2,FALSE),\"\")))","v":""},null,{"$f":"IF(T297<>\"\",CONCATENATE(VLOOKUP(T297,zawodnicy!$A:$E,2,FALSE),\" \",VLOOKUP(T297,zawodnicy!$A:$E,3,FALSE),\" - \",VLOOKUP(T297,zawodnicy!$A:$E,4,FALSE)),\"\")","v":""},null,{"$f":"IF(ISBLANK(W297),IF(AND(LEN(T297)>0,LEN(T298)=0),VLOOKUP(T297,zawodnicy!$A:$E,3,FALSE),IF(AND(LEN(T298)>0,LEN(T297)=0),VLOOKUP(T298,zawodnicy!$A:$E,3,FALSE),\"\")),IF((VLOOKUP(W297,'plan gier'!$Z:$AH,7,FALSE))=\"\",\"\",VLOOKUP(VLOOKUP(W297,'plan gier'!$Z:$AH,7,FALSE),zawodnicy!$A:$E,3,FALSE)))","v":""}]
[]
[]
[]
[null,null,null,null,null,null,null,null,null,null,null,null,null,null,null,null,"Drabinka pucharowa pośredniego systemu grupowo-pucharowego dla 6 grup"]
[]
[null,null,null,null,null,null,null,null,null,null,null,null,null,null,null,null,null,null,null,"9-12.",null,null,null,"5-8.",null,null,"3-4.",null,null,"2."]
[]
[{"$f":"W305","v":0},{"$f":"IF(TYPE(T305)=16,\"\",T305)","v":""},null,null,null,{"$f":"IF(A305=0,IF(AND(LEN(B305)>0,LEN(D305)=0),VLOOKUP(B305,zawodnicy!$A:$E,1,FALSE),IF(AND(LEN(D305)>0,LEN(B305)=0),VLOOKUP(D305,zawodnicy!$A:$E,1,FALSE),\"\")),IF((VLOOKUP(A305,'plan gier'!$Z:$AH,7,FALSE))=\"\",\"\",VLOOKUP(VLOOKUP(A305,'plan gier'!$Z:$AH,7,FALSE),zawodnicy!$A:$E,1,FALSE)))","v":""},null,{"$f":"IF(A305=0,\"\",IF((VLOOKUP(A305,'plan gier'!$Z:$AH,7,FALSE))=\"\",\"\",VLOOKUP(A305,'plan gier'!$Z:$AH,9,FALSE)))","v":""},null,null,null,{"$f":"IF(A305=0,\"\",IF(VLOOKUP(A305,'plan gier'!A:T,20,FALSE)=\"\",\"\",VLOOKUP(A305,'plan gier'!A:T,20,FALSE)))","v":""},{"$f":"N304","v":0},null,null,null,"1. z gr. 1",null,null,{"$f":"UPPER(IF((N304=\"\"),\"\",IF(TYPE(VLOOKUP(1&1&N304,I:J,2,FALSE))=2,VLOOKUP(1&1&N304,I:J,2,FALSE),\"\")))","v":""},null,{"$f":"IF(T305<>\"\",CONCATENATE(VLOOKUP(T305,zawodnicy!$A:$E,2,FALSE),\" \",VLOOKUP(T305,zawodnicy!$A:$E,3,FALSE),\" - \",VLOOKUP(T305,zawodnicy!$A:$E,4,FALSE)),\"\")","v":""},null,{"$f":"IF(LEN(T305)>0,VLOOKUP(T305,zawodnicy!$A:$E,3,FALSE),\"\")","v":""}]
[]
[{"$f":"Z307","v":0},{"$f":"F305","v":""},null,{"$f":"F309","v":""},null,{"$f":"IF(A307=0,IF(AND(LEN(B307)>0,LEN(D307)=0),B307,IF(AND(LEN(D307)>0,LEN(B307)=0),D307,\"\")),IF((VLOOKUP(A307,'plan gier'!$Z:$AH,7,FALSE))=\"\",\"\",VLOOKUP(VLOOKUP(A307,'plan gier'!$Z:$AH,7,FALSE),zawodnicy!$A:$E,1,FALSE)))","v":""},null,{"$f":"IF(A307=0,\"\",IF((VLOOKUP(A307,'plan gier'!$Z:$AH,7,FALSE))=\"\",\"\",VLOOKUP(A307,'plan gier'!$Z:$AH,9,FALSE)))","v":""},null,null,null,{"$f":"IF(A307=0,\"\",IF(VLOOKUP(A307,'plan gier'!A:T,20,FALSE)=\"\",\"\",VLOOKUP(A307,'plan gier'!A:T,20,FALSE)))","v":""},{"$f":"N304","v":0},null,null,null,null,null,null,null,null,null,null,null,null,null,{"$f":"IF(ISBLANK(Z307),IF(AND(LEN(X305)>0,LEN(X309)=0),X305,IF(AND(LEN(X309)>0,LEN(X305)=0),X309,\"\")),IF((VLOOKUP(Z307,'plan gier'!$Z:$AH,7,FALSE))=\"\",\"\",VLOOKUP(VLOOKUP(Z307,'plan gier'!$Z:$AH,7,FALSE),zawodnicy!$A:$E,3,FALSE)))","v":""}]
[null,null,null,null,null,null,null,null,null,null,null,null,null,null,null,null,null,null,null,null,null,null,null,null,null,null,{"$f":"IF(ISBLANK(Z307),\"\",IF((VLOOKUP(Z307,'plan gier'!$Z:$AH,7,FALSE))=\"\",L307,VLOOKUP(Z307,'plan gier'!$Z:$AH,9,FALSE)))","v":""}]
[{"$f":"W309","v":0},{"$f":"IF(TYPE(T309)=16,\"\",T309)","v":""},null,{"$f":"IF(TYPE(T310)=16,\"\",T310)","v":""},null,{"$f":"IF(A309=0,IF(AND(LEN(B309)>0,LEN(D309)=0),VLOOKUP(B309,zawodnicy!$A:$E,1,FALSE),IF(AND(LEN(D309)>0,LEN(B309)=0),VLOOKUP(D309,zawodnicy!$A:$E,1,FALSE),\"\")),IF((VLOOKUP(A309,'plan gier'!$Z:$AH,7,FALSE))=\"\",\"\",VLOOKUP(VLOOKUP(A309,'plan gier'!$Z:$AH,7,FALSE),zawodnicy!$A:$E,1,FALSE)))","v":""},null,{"$f":"IF(A309=0,\"\",IF((VLOOKUP(A309,'plan gier'!$Z:$AH,7,FALSE))=\"\",\"\",VLOOKUP(A309,'plan gier'!$Z:$AH,9,FALSE)))","v":""},null,null,null,{"$f":"IF(A309=0,\"\",IF(VLOOKUP(A309,'plan gier'!A:T,20,FALSE)=\"\",\"\",VLOOKUP(A309,'plan gier'!A:T,20,FALSE)))","v":""},{"$f":"N304","v":0},null,null,null,"2. z gr. 6",null,null,{"$f":"UPPER(IF(N304=\"\",\"\",IF(TYPE(VLOOKUP(2&6&N304,I:J,2,FALSE))=2,VLOOKUP(2&6&N304,I:J,2,FALSE),\"\")))","v":""},null,{"$f":"IF(T309<>\"\",CONCATENATE(VLOOKUP(T309,zawodnicy!$A:$E,2,FALSE),\" \",VLOOKUP(T309,zawodnicy!$A:$E,3,FALSE),\" - \",VLOOKUP(T309,zawodnicy!$A:$E,4,FALSE)),\"\")","v":""},null,{"$f":"IF(ISBLANK(W309),IF(AND(LEN(T309)>0,LEN(T310)=0),VLOOKUP(T309,zawodnicy!$A:$E,3,FALSE),IF(AND(LEN(T310)>0,LEN(T309)=0),VLOOKUP(T310,zawodnicy!$A:$E,3,FALSE),\"\")),IF((VLOOKUP(W309,'plan gier'!$Z:$AH,7,FALSE))=\"\",\"\",VLOOKUP(VLOOKUP(W309,'plan gier'!$Z:$AH,7,FALSE),zawodnicy!$A:$E,3,FALSE)))","v":""}]
[null,null,null,null,null,null,null,null,null,null,null,null,null,null,null,null,"2. z gr. 5",null,null,{"$f":"UPPER(IF(N304=\"\",\"\",IF(TYPE(VLOOKUP(2&5&N304,I:J,2,FALSE))=2,VLOOKUP(2&5&N304,I:J,2,FALSE),\"\")))","v":""},null,{"$f":"IF(T310<>\"\",CONCATENATE(VLOOKUP(T310,zawodnicy!$A:$E,2,FALSE),\" \",VLOOKUP(T310,zawodnicy!$A:$E,3,FALSE),\" - \",VLOOKUP(T310,zawodnicy!$A:$E,4,FALSE)),\"\")","v":""},null,{"$f":"IF(ISBLANK(W309),\"\",IF((VLOOKUP(W309,'plan gier'!$Z:$AH,7,FALSE))=\"\",L309,VLOOKUP(W309,'plan gier'!$Z:$AH,9,FALSE)))","v":""}]
[{"$f":"AC311","v":0},{"$f":"F307","v":""},null,{"$f":"F315","v":""},null,{"$f":"IF(A311=0,IF(AND(LEN(B311)>0,LEN(D311)=0),B311,IF(AND(LEN(D311)>0,LEN(B311)=0),D311,\"\")),IF((VLOOKUP(A311,'plan gier'!$Z:$AH,7,FALSE))=\"\",\"\",VLOOKUP(VLOOKUP(A311,'plan gier'!$Z:$AH,7,FALSE),zawodnicy!$A:$E,1,FALSE)))","v":""},null,{"$f":"IF(A311=0,\"\",IF((VLOOKUP(A311,'plan gier'!$Z:$AH,7,FALSE))=\"\",\"\",VLOOKUP(A311,'plan gier'!$Z:$AH,9,FALSE)))","v":""},null,null,null,{"$f":"IF(A311=0,\"\",IF(VLOOKUP(A311,'plan gier'!A:T,20,FALSE)=\"\",\"\",VLOOKUP(A311,'plan gier'!A:T,20,FALSE)))","v":""},{"$f":"N304","v":0},null,null,null,null,null,null,null,null,null,null,null,null,null,null,null,null,{"$f":"IF(ISBLANK(AC311),IF(AND(LEN(AA307)>0,LEN(AA315)=0),AA307,IF(AND(LEN(AA315)>0,LEN(AA307)=0),AA315,\"\")),IF((VLOOKUP(AC311,'plan gier'!$Z:$AH,7,FALSE))=\"\",\"\",VLOOKUP(VLOOKUP(AC311,'plan gier'!$Z:$AH,7,FALSE),zawodnicy!$A:$E,3,FALSE)))","v":""}]
[null,null,null,null,null,null,null,null,null,null,null,null,null,null,null,null,null,null,null,null,null,null,null,null,null,null,null,null,null,{"$f":"IF(ISBLANK(AC311),\"\",IF((VLOOKUP(AC311,'plan gier'!$Z:$AH,7,FALSE))=\"\",L311,VLOOKUP(AC311,'plan gier'!$Z:$AH,9,FALSE)))","v":""}]
[{"$f":"W313","v":0},{"$f":"IF(TYPE(T313)=16,\"\",T313)","v":""},null,null,null,{"$f":"IF(A313=0,IF(AND(LEN(B313)>0,LEN(D313)=0),VLOOKUP(B313,zawodnicy!$A:$E,1,FALSE),IF(AND(LEN(D313)>0,LEN(B313)=0),VLOOKUP(D313,zawodnicy!$A:$E,1,FALSE),\"\")),IF((VLOOKUP(A313,'plan gier'!$Z:$AH,7,FALSE))=\"\",\"\",VLOOKUP(VLOOKUP(A313,'plan gier'!$Z:$AH,7,FALSE),zawodnicy!$A:$E,1,FALSE)))","v":""},null,{"$f":"IF(A313=0,\"\",IF((VLOOKUP(A313,'plan gier'!$Z:$AH,7,FALSE))=\"\",\"\",VLOOKUP(A313,'plan gier'!$Z:$AH,9,FALSE)))","v":""},null,null,null,{"$f":"IF(A313=0,\"\",IF(VLOOKUP(A313,'plan gier'!A:T,20,FALSE)=\"\",\"\",VLOOKUP(A313,'plan gier'!A:T,20,FALSE)))","v":""},{"$f":"N304","v":0},null,null,null,"1. z gr. 2",null,null,{"$f":"UPPER(IF(N304=\"\",\"\",IF(TYPE(VLOOKUP(1&2&N304,I:J,2,FALSE))=2,VLOOKUP(1&2&N304,I:J,2,FALSE),\"\")))","v":""},null,{"$f":"IF(T313<>\"\",CONCATENATE(VLOOKUP(T313,zawodnicy!$A:$E,2,FALSE),\" \",VLOOKUP(T313,zawodnicy!$A:$E,3,FALSE),\" - \",VLOOKUP(T313,zawodnicy!$A:$E,4,FALSE)),\"\")","v":""},null,{"$f":"IF(ISBLANK(W313),IF(AND(LEN(T313)>0,LEN(T314)=0),VLOOKUP(T313,zawodnicy!$A:$E,3,FALSE),IF(AND(LEN(T314)>0,LEN(T313)=0),VLOOKUP(T314,zawodnicy!$A:$E,3,FALSE),\"\")),IF((VLOOKUP(W313,'plan gier'!$Z:$AH,7,FALSE))=\"\",\"\",VLOOKUP(VLOOKUP(W313,'plan gier'!$Z:$AH,7,FALSE),zawodnicy!$A:$E,3,FALSE)))","v":""}]
[]
[{"$f":"Z315","v":0},{"$f":"F313","v":""},null,{"$f":"F317","v":""},null,{"$f":"IF(A315=0,IF(AND(LEN(B315)>0,LEN(D315)=0),B315,IF(AND(LEN(D315)>0,LEN(B315)=0),D315,\"\")),IF((VLOOKUP(A315,'plan gier'!$Z:$AH,7,FALSE))=\"\",\"\",VLOOKUP(VLOOKUP(A315,'plan gier'!$Z:$AH,7,FALSE),zawodnicy!$A:$E,1,FALSE)))","v":""},null,{"$f":"IF(A315=0,\"\",IF((VLOOKUP(A315,'plan gier'!$Z:$AH,7,FALSE))=\"\",\"\",VLOOKUP(A315,'plan gier'!$Z:$AH,9,FALSE)))","v":""},null,null,null,{"$f":"IF(A315=0,\"\",IF(VLOOKUP(A315,'plan gier'!A:T,20,FALSE)=\"\",\"\",VLOOKUP(A315,'plan gier'!A:T,20,FALSE)))","v":""},{"$f":"N304","v":0},null,null,null,null,null,null,null,null,null,null,null,null,null,{"$f":"IF(ISBLANK(Z315),IF(AND(LEN(X313)>0,LEN(X317)=0),X313,IF(AND(LEN(X317)>0,LEN(X313)=0),X317,\"\")),IF((VLOOKUP(Z315,'plan gier'!$Z:$AH,7,FALSE))=\"\",\"\",VLOOKUP(VLOOKUP(Z315,'plan gier'!$Z:$AH,7,FALSE),zawodnicy!$A:$E,3,FALSE)))","v":""}]
[null,null,null,null,null,null,null,null,null,null,null,null,null,null,null,null,null,null,null,null,null,null,null,null,null,null,{"$f":"IF(ISBLANK(Z315),\"\",IF((VLOOKUP(Z315,'plan gier'!$Z:$AH,7,FALSE))=\"\",L315,VLOOKUP(Z315,'plan gier'!$Z:$AH,9,FALSE)))","v":""}]
[{"$f":"W317","v":0},{"$f":"IF(TYPE(T317)=16,\"\",T317)","v":""},null,{"$f":"IF(TYPE(T318)=16,\"\",T318)","v":""},null,{"$f":"IF(A317=0,IF(AND(LEN(B317)>0,LEN(D317)=0),VLOOKUP(B317,zawodnicy!$A:$E,1,FALSE),IF(AND(LEN(D317)>0,LEN(B317)=0),VLOOKUP(D317,zawodnicy!$A:$E,1,FALSE),\"\")),IF((VLOOKUP(A317,'plan gier'!$Z:$AH,7,FALSE))=\"\",\"\",VLOOKUP(VLOOKUP(A317,'plan gier'!$Z:$AH,7,FALSE),zawodnicy!$A:$E,1,FALSE)))","v":""},null,{"$f":"IF(A317=0,\"\",IF((VLOOKUP(A317,'plan gier'!$Z:$AH,7,FALSE))=\"\",\"\",VLOOKUP(A317,'plan gier'!$Z:$AH,9,FALSE)))","v":""},null,null,null,{"$f":"IF(A317=0,\"\",IF(VLOOKUP(A317,'plan gier'!A:T,20,FALSE)=\"\",\"\",VLOOKUP(A317,'plan gier'!A:T,20,FALSE)))","v":""},{"$f":"N304","v":0},null,null,null,"1. z gr. 3",null,null,{"$f":"UPPER(IF(N304=\"\",\"\",IF(TYPE(VLOOKUP(1&3&N304,I:J,2,FALSE))=2,VLOOKUP(1&3&N304,I:J,2,FALSE),\"\")))","v":""},null,{"$f":"IF(T317<>\"\",CONCATENATE(VLOOKUP(T317,zawodnicy!$A:$E,2,FALSE),\" \",VLOOKUP(T317,zawodnicy!$A:$E,3,FALSE),\" - \",VLOOKUP(T317,zawodnicy!$A:$E,4,FALSE)),\"\")","v":""},null,{"$f":"IF(ISBLANK(W317),IF(AND(LEN(T317)>0,LEN(T318)=0),VLOOKUP(T317,zawodnicy!$A:$E,3,FALSE),IF(AND(LEN(T318)>0,LEN(T317)=0),VLOOKUP(T318,zawodnicy!$A:$E,3,FALSE),\"\")),IF((VLOOKUP(W317,'plan gier'!$Z:$AH,7,FALSE))=\"\",\"\",VLOOKUP(VLOOKUP(W317,'plan gier'!$Z:$AH,7,FALSE),zawodnicy!$A:$E,3,FALSE)))","v":""},null,null,null,null,null,"1."]
[null,null,null,null,null,null,null,null,null,null,null,null,null,null,null,null,"2. z gr. 4",null,null,{"$f":"UPPER(IF(N304=\"\",\"\",IF(TYPE(VLOOKUP(2&4&N304,I:J,2,FALSE))=2,VLOOKUP(2&4&N304,I:J,2,FALSE),\"\")))","v":""},null,{"$f":"IF(T318<>\"\",CONCATENATE(VLOOKUP(T318,zawodnicy!$A:$E,2,FALSE),\" \",VLOOKUP(T318,zawodnicy!$A:$E,3,FALSE),\" - \",VLOOKUP(T318,zawodnicy!$A:$E,4,FALSE)),\"\")","v":""},null,{"$f":"IF(ISBLANK(W317),\"\",IF((VLOOKUP(W317,'plan gier'!$Z:$AH,7,FALSE))=\"\",L317,VLOOKUP(W317,'plan gier'!$Z:$AH,9,FALSE)))","v":""}]
[{"$f":"AC319","v":0},{"$f":"F311","v":""},null,{"$f":"F327","v":""},null,{"$f":"IF(A319=0,IF(AND(LEN(B319)>0,LEN(D319)=0),B319,IF(AND(LEN(D319)>0,LEN(B319)=0),D319,\"\")),IF((VLOOKUP(A319,'plan gier'!$Z:$AH,7,FALSE))=\"\",\"\",VLOOKUP(VLOOKUP(A319,'plan gier'!$Z:$AH,7,FALSE),zawodnicy!$A:$E,1,FALSE)))","v":""},null,{"$f":"IF(A319=0,\"\",IF((VLOOKUP(A319,'plan gier'!$Z:$AH,7,FALSE))=\"\",\"\",VLOOKUP(A319,'plan gier'!$Z:$AH,9,FALSE)))","v":""},null,null,null,{"$f":"IF(A319=0,\"\",IF(VLOOKUP(A319,'plan gier'!A:T,20,FALSE)=\"\",\"\",VLOOKUP(A319,'plan gier'!A:T,20,FALSE)))","v":""},{"$f":"N304","v":0},null,null,null,null,null,null,null,null,null,null,null,null,null,null,null,null,{"$f":"IF(ISBLANK(AC319),IF(AND(LEN(AD311)>0,LEN(AD327)=0),AD311,IF(AND(LEN(AD327)>0,LEN(AD311)=0),AD327,\"\")),IF((VLOOKUP(AC319,'plan gier'!$Z:$AH,7,FALSE))=\"\",\"\",VLOOKUP(VLOOKUP(AC319,'plan gier'!$Z:$AH,7,FALSE),zawodnicy!$A:$E,3,FALSE)))","v":""}]
[null,null,null,null,null,null,null,null,null,null,null,null,null,null,null,null,null,null,null,null,null,null,null,null,null,null,null,null,null,{"$f":"IF(ISBLANK(AC319),\"\",IF((VLOOKUP(AC319,'plan gier'!$Z:$AH,7,FALSE))=\"\",L319,VLOOKUP(AC319,'plan gier'!$Z:$AH,9,FALSE)))","v":""}]
[{"$f":"W321","v":0},{"$f":"IF(TYPE(T321)=16,\"\",T321)","v":""},null,{"$f":"IF(TYPE(T322)=16,\"\",T322)","v":""},null,{"$f":"IF(A321=0,IF(AND(LEN(B321)>0,LEN(D321)=0),VLOOKUP(B321,zawodnicy!$A:$E,1,FALSE),IF(AND(LEN(D321)>0,LEN(B321)=0),VLOOKUP(D321,zawodnicy!$A:$E,1,FALSE),\"\")),IF((VLOOKUP(A321,'plan gier'!$Z:$AH,7,FALSE))=\"\",\"\",VLOOKUP(VLOOKUP(A321,'plan gier'!$Z:$AH,7,FALSE),zawodnicy!$A:$E,1,FALSE)))","v":""},null,{"$f":"IF(A321=0,\"\",IF((VLOOKUP(A321,'plan gier'!$Z:$AH,7,FALSE))=\"\",\"\",VLOOKUP(A321,'plan gier'!$Z:$AH,9,FALSE)))","v":""},null,null,null,{"$f":"IF(A321=0,\"\",IF(VLOOKUP(A321,'plan gier'!A:T,20,FALSE)=\"\",\"\",VLOOKUP(A321,'plan gier'!A:T,20,FALSE)))","v":""},{"$f":"N304","v":0},null,null,null,"2. z gr. 3",null,null,{"$f":"UPPER(IF(N304=\"\",\"\",IF(TYPE(VLOOKUP(2&3&N304,I:J,2,FALSE))=2,VLOOKUP(2&3&N304,I:J,2,FALSE),\"\")))","v":""},null,{"$f":"IF(T321<>\"\",CONCATENATE(VLOOKUP(T321,zawodnicy!$A:$E,2,FALSE),\" \",VLOOKUP(T321,zawodnicy!$A:$E,3,FALSE),\" - \",VLOOKUP(T321,zawodnicy!$A:$E,4,FALSE)),\"\")","v":""},null,{"$f":"IF(ISBLANK(W321),IF(AND(LEN(T321)>0,LEN(T322)=0),VLOOKUP(T321,zawodnicy!$A:$E,3,FALSE),IF(AND(LEN(T322)>0,LEN(T321)=0),VLOOKUP(T322,zawodnicy!$A:$E,3,FALSE),\"\")),IF((VLOOKUP(W321,'plan gier'!$Z:$AH,7,FALSE))=\"\",\"\",VLOOKUP(VLOOKUP(W321,'plan gier'!$Z:$AH,7,FALSE),zawodnicy!$A:$E,3,FALSE)))","v":""}]
[null,null,null,null,null,null,null,null,null,null,null,null,null,null,null,null,"1. z gr. 4",null,null,{"$f":"UPPER(IF(N304=\"\",\"\",IF(TYPE(VLOOKUP(1&4&N304,I:J,2,FALSE))=2,VLOOKUP(1&4&N304,I:J,2,FALSE),\"\")))","v":""},null,{"$f":"IF(T322<>\"\",CONCATENATE(VLOOKUP(T322,zawodnicy!$A:$E,2,FALSE),\" \",VLOOKUP(T322,zawodnicy!$A:$E,3,FALSE),\" - \",VLOOKUP(T322,zawodnicy!$A:$E,4,FALSE)),\"\")","v":""},null,{"$f":"IF(ISBLANK(W321),\"\",IF((VLOOKUP(W321,'plan gier'!$Z:$AH,7,FALSE))=\"\",L321,VLOOKUP(W321,'plan gier'!$Z:$AH,9,FALSE)))","v":""}]
[{"$f":"Z323","v":0},{"$f":"F321","v":""},null,{"$f":"F325","v":""},null,{"$f":"IF(A323=0,IF(AND(LEN(B323)>0,LEN(D323)=0),B323,IF(AND(LEN(D323)>0,LEN(B323)=0),D323,\"\")),IF((VLOOKUP(A323,'plan gier'!$Z:$AH,7,FALSE))=\"\",\"\",VLOOKUP(VLOOKUP(A323,'plan gier'!$Z:$AH,7,FALSE),zawodnicy!$A:$E,1,FALSE)))","v":""},null,{"$f":"IF(A323=0,\"\",IF((VLOOKUP(A323,'plan gier'!$Z:$AH,7,FALSE))=\"\",\"\",VLOOKUP(A323,'plan gier'!$Z:$AH,9,FALSE)))","v":""},null,null,null,{"$f":"IF(A323=0,\"\",IF(VLOOKUP(A323,'plan gier'!A:T,20,FALSE)=\"\",\"\",VLOOKUP(A323,'plan gier'!A:T,20,FALSE)))","v":""},{"$f":"N304","v":0},null,null,null,null,null,null,null,null,null,null,null,null,null,{"$f":"IF(ISBLANK(Z323),IF(AND(LEN(X321)>0,LEN(X325)=0),X321,IF(AND(LEN(X325)>0,LEN(X321)=0),X325,\"\")),IF((VLOOKUP(Z323,'plan gier'!$Z:$AH,7,FALSE))=\"\",\"\",VLOOKUP(VLOOKUP(Z323,'plan gier'!$Z:$AH,7,FALSE),zawodnicy!$A:$E,3,FALSE)))","v":""}]
[null,null,null,null,null,null,null,null,null,null,null,null,null,null,null,null,null,null,null,null,null,null,null,null,null,null,{"$f":"IF(ISBLANK(Z323),\"\",IF((VLOOKUP(Z323,'plan gier'!$Z:$AH,7,FALSE))=\"\",L323,VLOOKUP(Z323,'plan gier'!$Z:$AH,9,FALSE)))","v":""}]
[{"$f":"W325","v":0},{"$f":"IF(TYPE(T325)=16,\"\",T325)","v":""},null,null,null,{"$f":"IF(A325=0,IF(AND(LEN(B325)>0,LEN(D325)=0),VLOOKUP(B325,zawodnicy!$A:$E,1,FALSE),IF(AND(LEN(D325)>0,LEN(B325)=0),VLOOKUP(D325,zawodnicy!$A:$E,1,FALSE),\"\")),IF((VLOOKUP(A325,'plan gier'!$Z:$AH,7,FALSE))=\"\",\"\",VLOOKUP(VLOOKUP(A325,'plan gier'!$Z:$AH,7,FALSE),zawodnicy!$A:$E,1,FALSE)))","v":""},null,{"$f":"IF(A325=0,\"\",IF((VLOOKUP(A325,'plan gier'!$Z:$AH,7,FALSE))=\"\",\"\",VLOOKUP(A325,'plan gier'!$Z:$AH,9,FALSE)))","v":""},null,null,null,{"$f":"IF(A325=0,\"\",IF(VLOOKUP(A325,'plan gier'!A:T,20,FALSE)=\"\",\"\",VLOOKUP(A325,'plan gier'!A:T,20,FALSE)))","v":""},{"$f":"N304","v":0},null,null,null,"1. z gr. 5",null,null,{"$f":"UPPER(IF(N304=\"\",\"\",IF(TYPE(VLOOKUP(1&5&N304,I:J,2,FALSE))=2,VLOOKUP(1&5&N304,I:J,2,FALSE),\"\")))","v":""},null,{"$f":"IF(T325<>\"\",CONCATENATE(VLOOKUP(T325,zawodnicy!$A:$E,2,FALSE),\" \",VLOOKUP(T325,zawodnicy!$A:$E,3,FALSE),\" - \",VLOOKUP(T325,zawodnicy!$A:$E,4,FALSE)),\"\")","v":""},null,{"$f":"IF(ISBLANK(W325),IF(AND(LEN(T325)>0,LEN(T326)=0),VLOOKUP(T325,zawodnicy!$A:$E,3,FALSE),IF(AND(LEN(T326)>0,LEN(T325)=0),VLOOKUP(T326,zawodnicy!$A:$E,3,FALSE),\"\")),IF((VLOOKUP(W325,'plan gier'!$Z:$AH,7,FALSE))=\"\",\"\",VLOOKUP(VLOOKUP(W325,'plan gier'!$Z:$AH,7,FALSE),zawodnicy!$A:$E,3,FALSE)))","v":""}]
[]
[{"$f":"AC327","v":0},{"$f":"F323","v":""},null,{"$f":"F331","v":""},null,{"$f":"IF(A327=0,IF(AND(LEN(B327)>0,LEN(D327)=0),B327,IF(AND(LEN(D327)>0,LEN(B327)=0),D327,\"\")),IF((VLOOKUP(A327,'plan gier'!$Z:$AH,7,FALSE))=\"\",\"\",VLOOKUP(VLOOKUP(A327,'plan gier'!$Z:$AH,7,FALSE),zawodnicy!$A:$E,1,FALSE)))","v":""},null,{"$f":"IF(A327=0,\"\",IF((VLOOKUP(A327,'plan gier'!$Z:$AH,7,FALSE))=\"\",\"\",VLOOKUP(A327,'plan gier'!$Z:$AH,9,FALSE)))","v":""},null,null,null,{"$f":"IF(A327=0,\"\",IF(VLOOKUP(A327,'plan gier'!A:T,20,FALSE)=\"\",\"\",VLOOKUP(A327,'plan gier'!A:T,20,FALSE)))","v":""},{"$f":"N304","v":0},null,null,null,null,null,null,null,null,null,null,null,null,null,null,null,null,{"$f":"IF(ISBLANK(AC327),IF(AND(LEN(AA323)>0,LEN(AA331)=0),AA323,IF(AND(LEN(AA331)>0,LEN(AA323)=0),AA331,\"\")),IF((VLOOKUP(AC327,'plan gier'!$Z:$AH,7,FALSE))=\"\",\"\",VLOOKUP(VLOOKUP(AC327,'plan gier'!$Z:$AH,7,FALSE),zawodnicy!$A:$E,3,FALSE)))","v":""}]
[null,null,null,null,null,null,null,null,null,null,null,null,null,null,null,null,null,null,null,null,null,null,null,null,null,null,null,null,null,{"$f":"IF(ISBLANK(AC327),\"\",IF((VLOOKUP(AC327,'plan gier'!$Z:$AH,7,FALSE))=\"\",L327,VLOOKUP(AC327,'plan gier'!$Z:$AH,9,FALSE)))","v":""}]
[{"$f":"W329","v":0},{"$f":"IF(TYPE(T329)=16,\"\",T329)","v":""},null,{"$f":"IF(TYPE(T330)=16,\"\",T330)","v":""},null,{"$f":"IF(A329=0,IF(AND(LEN(B329)>0,LEN(D329)=0),VLOOKUP(B329,zawodnicy!$A:$E,1,FALSE),IF(AND(LEN(D329)>0,LEN(B329)=0),VLOOKUP(D329,zawodnicy!$A:$E,1,FALSE),\"\")),IF((VLOOKUP(A329,'plan gier'!$Z:$AH,7,FALSE))=\"\",\"\",VLOOKUP(VLOOKUP(A329,'plan gier'!$Z:$AH,7,FALSE),zawodnicy!$A:$E,1,FALSE)))","v":""},null,{"$f":"IF(A329=0,\"\",IF((VLOOKUP(A329,'plan gier'!$Z:$AH,7,FALSE))=\"\",\"\",VLOOKUP(A329,'plan gier'!$Z:$AH,9,FALSE)))","v":""},null,null,null,{"$f":"IF(A329=0,\"\",IF(VLOOKUP(A329,'plan gier'!A:T,20,FALSE)=\"\",\"\",VLOOKUP(A329,'plan gier'!A:T,20,FALSE)))","v":""},{"$f":"N304","v":0},null,null,null,"2. z gr. 2",null,null,{"$f":"UPPER(IF(N304=\"\",\"\",IF(TYPE(VLOOKUP(2&2&N304,I:J,2,FALSE))=2,VLOOKUP(2&2&N304,I:J,2,FALSE),\"\")))","v":""},null,{"$f":"IF(T329<>\"\",CONCATENATE(VLOOKUP(T329,zawodnicy!$A:$E,2,FALSE),\" \",VLOOKUP(T329,zawodnicy!$A:$E,3,FALSE),\" - \",VLOOKUP(T329,zawodnicy!$A:$E,4,FALSE)),\"\")","v":""},null,{"$f":"IF(ISBLANK(W329),IF(AND(LEN(T329)>0,LEN(T330)=0),VLOOKUP(T329,zawodnicy!$A:$E,3,FALSE),IF(AND(LEN(T330)>0,LEN(T329)=0),VLOOKUP(T330,zawodnicy!$A:$E,3,FALSE),\"\")),IF((VLOOKUP(W329,'plan gier'!$Z:$AH,7,FALSE))=\"\",\"\",VLOOKUP(VLOOKUP(W329,'plan gier'!$Z:$AH,7,FALSE),zawodnicy!$A:$E,3,FALSE)))","v":""}]
[null,null,null,null,null,null,null,null,null,null,null,null,null,null,null,null,"2. z gr. 1",null,null,{"$f":"UPPER(IF(N304=\"\",\"\",IF(TYPE(VLOOKUP(2&1&N304,I:J,2,FALSE))=2,VLOOKUP(2&1&N304,I:J,2,FALSE),\"\")))","v":""},null,{"$f":"IF(T330<>\"\",CONCATENATE(VLOOKUP(T330,zawodnicy!$A:$E,2,FALSE),\" \",VLOOKUP(T330,zawodnicy!$A:$E,3,FALSE),\" - \",VLOOKUP(T330,zawodnicy!$A:$E,4,FALSE)),\"\")","v":""},null,{"$f":"IF(ISBLANK(W329),\"\",IF((VLOOKUP(W329,'plan gier'!$Z:$AH,7,FALSE))=\"\",L329,VLOOKUP(W329,'plan gier'!$Z:$AH,9,FALSE)))","v":""}]
[{"$f":"Z331","v":0},{"$f":"F329","v":""},null,{"$f":"F333","v":""},null,{"$f":"IF(A331=0,IF(AND(LEN(B331)>0,LEN(D331)=0),B331,IF(AND(LEN(D331)>0,LEN(B331)=0),D331,\"\")),IF((VLOOKUP(A331,'plan gier'!$Z:$AH,7,FALSE))=\"\",\"\",VLOOKUP(VLOOKUP(A331,'plan gier'!$Z:$AH,7,FALSE),zawodnicy!$A:$E,1,FALSE)))","v":""},null,{"$f":"IF(A331=0,\"\",IF((VLOOKUP(A331,'plan gier'!$Z:$AH,7,FALSE))=\"\",\"\",VLOOKUP(A331,'plan gier'!$Z:$AH,9,FALSE)))","v":""},null,null,null,{"$f":"IF(A331=0,\"\",IF(VLOOKUP(A331,'plan gier'!A:T,20,FALSE)=\"\",\"\",VLOOKUP(A331,'plan gier'!A:T,20,FALSE)))","v":""},{"$f":"N304","v":0},null,null,null,null,null,null,null,null,null,null,null,null,null,{"$f":"IF(ISBLANK(Z331),IF(AND(LEN(X329)>0,LEN(X333)=0),X329,IF(AND(LEN(X333)>0,LEN(X329)=0),X333,\"\")),IF((VLOOKUP(Z331,'plan gier'!$Z:$AH,7,FALSE))=\"\",\"\",VLOOKUP(VLOOKUP(Z331,'plan gier'!$Z:$AH,7,FALSE),zawodnicy!$A:$E,3,FALSE)))","v":""}]
[null,null,null,null,null,null,null,null,null,null,null,null,null,null,null,null,null,null,null,null,null,null,null,null,null,null,{"$f":"IF(ISBLANK(Z331),\"\",IF((VLOOKUP(Z331,'plan gier'!$Z:$AH,7,FALSE))=\"\",L331,VLOOKUP(Z331,'plan gier'!$Z:$AH,9,FALSE)))","v":""}]
[{"$f":"W333","v":0},{"$f":"IF(TYPE(T333)=16,\"\",T333)","v":""},null,null,null,{"$f":"IF(A333=0,IF(AND(LEN(B333)>0,LEN(D333)=0),VLOOKUP(B333,zawodnicy!$A:$E,1,FALSE),IF(AND(LEN(D333)>0,LEN(B333)=0),VLOOKUP(D333,zawodnicy!$A:$E,1,FALSE),\"\")),IF((VLOOKUP(A333,'plan gier'!$Z:$AH,7,FALSE))=\"\",\"\",VLOOKUP(VLOOKUP(A333,'plan gier'!$Z:$AH,7,FALSE),zawodnicy!$A:$E,1,FALSE)))","v":""},null,{"$f":"IF(A333=0,\"\",IF((VLOOKUP(A333,'plan gier'!$Z:$AH,7,FALSE))=\"\",\"\",VLOOKUP(A333,'plan gier'!$Z:$AH,9,FALSE)))","v":""},null,null,null,{"$f":"IF(A333=0,\"\",IF(VLOOKUP(A333,'plan gier'!A:T,20,FALSE)=\"\",\"\",VLOOKUP(A333,'plan gier'!A:T,20,FALSE)))","v":""},{"$f":"N304","v":0},null,null,null,"1. z gr. 6",null,null,{"$f":"UPPER(IF(N304=\"\",\"\",IF(TYPE(VLOOKUP(1&6&N304,I:J,2,FALSE))=2,VLOOKUP(1&6&N304,I:J,2,FALSE),\"\")))","v":""},null,{"$f":"IF(T333<>\"\",CONCATENATE(VLOOKUP(T333,zawodnicy!$A:$E,2,FALSE),\" \",VLOOKUP(T333,zawodnicy!$A:$E,3,FALSE),\" - \",VLOOKUP(T333,zawodnicy!$A:$E,4,FALSE)),\"\")","v":""},null,{"$f":"IF(ISBLANK(W333),IF(AND(LEN(T333)>0,LEN(T334)=0),VLOOKUP(T333,zawodnicy!$A:$E,3,FALSE),IF(AND(LEN(T334)>0,LEN(T333)=0),VLOOKUP(T334,zawodnicy!$A:$E,3,FALSE),\"\")),IF((VLOOKUP(W333,'plan gier'!$Z:$AH,7,FALSE))=\"\",\"\",VLOOKUP(VLOOKUP(W333,'plan gier'!$Z:$AH,7,FALSE),zawodnicy!$A:$E,3,FALSE)))","v":""}]
[]
[]
[]
[null,null,null,null,null,null,null,null,null,null,null,null,null,null,null,null,"Drabinka pucharowa pośredniego systemu grupowo-pucharowego dla 5 grup"]
[]
[null,null,null,null,null,null,null,null,null,null,null,null,null,null,null,null,null,null,null,"9-10.",null,null,null,"5-8.",null,null,"3-4.",null,null,"2."]
[]
[{"$f":"W341","v":0},{"$f":"IF(TYPE(T341)=16,\"\",T341)","v":""},null,null,null,{"$f":"IF(A341=0,IF(AND(LEN(B341)>0,LEN(D341)=0),VLOOKUP(B341,zawodnicy!$A:$E,1,FALSE),IF(AND(LEN(D341)>0,LEN(B341)=0),VLOOKUP(D341,zawodnicy!$A:$E,1,FALSE),\"\")),IF((VLOOKUP(A341,'plan gier'!$Z:$AH,7,FALSE))=\"\",\"\",VLOOKUP(VLOOKUP(A341,'plan gier'!$Z:$AH,7,FALSE),zawodnicy!$A:$E,1,FALSE)))","v":""},null,{"$f":"IF(A341=0,\"\",IF((VLOOKUP(A341,'plan gier'!$Z:$AH,7,FALSE))=\"\",\"\",VLOOKUP(A341,'plan gier'!$Z:$AH,9,FALSE)))","v":""},null,null,null,{"$f":"IF(A341=0,\"\",IF(VLOOKUP(A341,'plan gier'!A:T,20,FALSE)=\"\",\"\",VLOOKUP(A341,'plan gier'!A:T,20,FALSE)))","v":""},{"$f":"N340","v":0},null,null,null,"1. z gr. 1",null,null,{"$f":"UPPER(IF((N340=\"\"),\"\",IF(TYPE(VLOOKUP(1&1&N340,I:J,2,FALSE))=2,VLOOKUP(1&1&N340,I:J,2,FALSE),\"\")))","v":""},null,{"$f":"IF(T341<>\"\",CONCATENATE(VLOOKUP(T341,zawodnicy!$A:$E,2,FALSE),\" \",VLOOKUP(T341,zawodnicy!$A:$E,3,FALSE),\" - \",VLOOKUP(T341,zawodnicy!$A:$E,4,FALSE)),\"\")","v":""},null,{"$f":"IF(LEN(T341)>0,VLOOKUP(T341,zawodnicy!$A:$E,3,FALSE),\"\")","v":""}]
[]
[{"$f":"Z343","v":0},{"$f":"F341","v":""},null,{"$f":"F345","v":""},null,{"$f":"IF(A343=0,IF(AND(LEN(B343)>0,LEN(D343)=0),B343,IF(AND(LEN(D343)>0,LEN(B343)=0),D343,\"\")),IF((VLOOKUP(A343,'plan gier'!$Z:$AH,7,FALSE))=\"\",\"\",VLOOKUP(VLOOKUP(A343,'plan gier'!$Z:$AH,7,FALSE),zawodnicy!$A:$E,1,FALSE)))","v":""},null,{"$f":"IF(A343=0,\"\",IF((VLOOKUP(A343,'plan gier'!$Z:$AH,7,FALSE))=\"\",\"\",VLOOKUP(A343,'plan gier'!$Z:$AH,9,FALSE)))","v":""},null,null,null,{"$f":"IF(A343=0,\"\",IF(VLOOKUP(A343,'plan gier'!A:T,20,FALSE)=\"\",\"\",VLOOKUP(A343,'plan gier'!A:T,20,FALSE)))","v":""},{"$f":"N340","v":0},null,null,null,null,null,null,null,null,null,null,null,null,null,{"$f":"IF(ISBLANK(Z343),IF(AND(LEN(X341)>0,LEN(X345)=0),X341,IF(AND(LEN(X345)>0,LEN(X341)=0),X345,\"\")),IF((VLOOKUP(Z343,'plan gier'!$Z:$AH,7,FALSE))=\"\",\"\",VLOOKUP(VLOOKUP(Z343,'plan gier'!$Z:$AH,7,FALSE),zawodnicy!$A:$E,3,FALSE)))","v":""}]
[null,null,null,null,null,null,null,null,null,null,null,null,null,null,null,null,null,null,null,null,null,null,null,null,null,null,{"$f":"IF(ISBLANK(Z343),\"\",IF((VLOOKUP(Z343,'plan gier'!$Z:$AH,7,FALSE))=\"\",L343,VLOOKUP(Z343,'plan gier'!$Z:$AH,9,FALSE)))","v":""}]
[{"$f":"W345","v":0},{"$f":"IF(TYPE(T345)=16,\"\",T345)","v":""},null,null,null,{"$f":"IF(A345=0,IF(AND(LEN(B345)>0,LEN(D345)=0),VLOOKUP(B345,zawodnicy!$A:$E,1,FALSE),IF(AND(LEN(D345)>0,LEN(B345)=0),VLOOKUP(D345,zawodnicy!$A:$E,1,FALSE),\"\")),IF((VLOOKUP(A345,'plan gier'!$Z:$AH,7,FALSE))=\"\",\"\",VLOOKUP(VLOOKUP(A345,'plan gier'!$Z:$AH,7,FALSE),zawodnicy!$A:$E,1,FALSE)))","v":""},null,{"$f":"IF(A345=0,\"\",IF((VLOOKUP(A345,'plan gier'!$Z:$AH,7,FALSE))=\"\",\"\",VLOOKUP(A345,'plan gier'!$Z:$AH,9,FALSE)))","v":""},null,null,null,{"$f":"IF(A345=0,\"\",IF(VLOOKUP(A345,'plan gier'!A:T,20,FALSE)=\"\",\"\",VLOOKUP(A345,'plan gier'!A:T,20,FALSE)))","v":""},{"$f":"N340","v":0},null,null,null,"2. z gr. 5",null,null,{"$f":"UPPER(IF(N340=\"\",\"\",IF(TYPE(VLOOKUP(2&5&N340,I:J,2,FALSE))=2,VLOOKUP(2&5&N340,I:J,2,FALSE),\"\")))","v":""},null,{"$f":"IF(T345<>\"\",CONCATENATE(VLOOKUP(T345,zawodnicy!$A:$E,2,FALSE),\" \",VLOOKUP(T345,zawodnicy!$A:$E,3,FALSE),\" - \",VLOOKUP(T345,zawodnicy!$A:$E,4,FALSE)),\"\")","v":""},null,{"$f":"IF(ISBLANK(W345),IF(AND(LEN(T345)>0,LEN(T346)=0),VLOOKUP(T345,zawodnicy!$A:$E,3,FALSE),IF(AND(LEN(T346)>0,LEN(T345)=0),VLOOKUP(T346,zawodnicy!$A:$E,3,FALSE),\"\")),IF((VLOOKUP(W345,'plan gier'!$Z:$AH,7,FALSE))=\"\",\"\",VLOOKUP(VLOOKUP(W345,'plan gier'!$Z:$AH,7,FALSE),zawodnicy!$A:$E,3,FALSE)))","v":""}]
[]
[{"$f":"AC347","v":0},{"$f":"F343","v":""},null,{"$f":"F351","v":""},null,{"$f":"IF(A347=0,IF(AND(LEN(B347)>0,LEN(D347)=0),B347,IF(AND(LEN(D347)>0,LEN(B347)=0),D347,\"\")),IF((VLOOKUP(A347,'plan gier'!$Z:$AH,7,FALSE))=\"\",\"\",VLOOKUP(VLOOKUP(A347,'plan gier'!$Z:$AH,7,FALSE),zawodnicy!$A:$E,1,FALSE)))","v":""},null,{"$f":"IF(A347=0,\"\",IF((VLOOKUP(A347,'plan gier'!$Z:$AH,7,FALSE))=\"\",\"\",VLOOKUP(A347,'plan gier'!$Z:$AH,9,FALSE)))","v":""},null,null,null,{"$f":"IF(A347=0,\"\",IF(VLOOKUP(A347,'plan gier'!A:T,20,FALSE)=\"\",\"\",VLOOKUP(A347,'plan gier'!A:T,20,FALSE)))","v":""},{"$f":"N340","v":0},null,null,null,null,null,null,null,null,null,null,null,null,null,null,null,null,{"$f":"IF(ISBLANK(AC347),IF(AND(LEN(AA343)>0,LEN(AA351)=0),AA343,IF(AND(LEN(AA351)>0,LEN(AA343)=0),AA351,\"\")),IF((VLOOKUP(AC347,'plan gier'!$Z:$AH,7,FALSE))=\"\",\"\",VLOOKUP(VLOOKUP(AC347,'plan gier'!$Z:$AH,7,FALSE),zawodnicy!$A:$E,3,FALSE)))","v":""}]
[null,null,null,null,null,null,null,null,null,null,null,null,null,null,null,null,null,null,null,null,null,null,null,null,null,null,null,null,null,{"$f":"IF(ISBLANK(AC347),\"\",IF((VLOOKUP(AC347,'plan gier'!$Z:$AH,7,FALSE))=\"\",L347,VLOOKUP(AC347,'plan gier'!$Z:$AH,9,FALSE)))","v":""}]
[{"$f":"W349","v":0},{"$f":"IF(TYPE(T349)=16,\"\",T349)","v":""},null,null,null,{"$f":"IF(A349=0,IF(AND(LEN(B349)>0,LEN(D349)=0),VLOOKUP(B349,zawodnicy!$A:$E,1,FALSE),IF(AND(LEN(D349)>0,LEN(B349)=0),VLOOKUP(D349,zawodnicy!$A:$E,1,FALSE),\"\")),IF((VLOOKUP(A349,'plan gier'!$Z:$AH,7,FALSE))=\"\",\"\",VLOOKUP(VLOOKUP(A349,'plan gier'!$Z:$AH,7,FALSE),zawodnicy!$A:$E,1,FALSE)))","v":""},null,{"$f":"IF(A349=0,\"\",IF((VLOOKUP(A349,'plan gier'!$Z:$AH,7,FALSE))=\"\",\"\",VLOOKUP(A349,'plan gier'!$Z:$AH,9,FALSE)))","v":""},null,null,null,{"$f":"IF(A349=0,\"\",IF(VLOOKUP(A349,'plan gier'!A:T,20,FALSE)=\"\",\"\",VLOOKUP(A349,'plan gier'!A:T,20,FALSE)))","v":""},{"$f":"N340","v":0},null,null,null,"1. z gr. 2",null,null,{"$f":"UPPER(IF(N340=\"\",\"\",IF(TYPE(VLOOKUP(1&2&N340,I:J,2,FALSE))=2,VLOOKUP(1&2&N340,I:J,2,FALSE),\"\")))","v":""},null,{"$f":"IF(T349<>\"\",CONCATENATE(VLOOKUP(T349,zawodnicy!$A:$E,2,FALSE),\" \",VLOOKUP(T349,zawodnicy!$A:$E,3,FALSE),\" - \",VLOOKUP(T349,zawodnicy!$A:$E,4,FALSE)),\"\")","v":""},null,{"$f":"IF(ISBLANK(W349),IF(AND(LEN(T349)>0,LEN(T350)=0),VLOOKUP(T349,zawodnicy!$A:$E,3,FALSE),IF(AND(LEN(T350)>0,LEN(T349)=0),VLOOKUP(T350,zawodnicy!$A:$E,3,FALSE),\"\")),IF((VLOOKUP(W349,'plan gier'!$Z:$AH,7,FALSE))=\"\",\"\",VLOOKUP(VLOOKUP(W349,'plan gier'!$Z:$AH,7,FALSE),zawodnicy!$A:$E,3,FALSE)))","v":""}]
[]
[{"$f":"Z351","v":0},{"$f":"F349","v":""},null,{"$f":"F353","v":""},null,{"$f":"IF(A351=0,IF(AND(LEN(B351)>0,LEN(D351)=0),B351,IF(AND(LEN(D351)>0,LEN(B351)=0),D351,\"\")),IF((VLOOKUP(A351,'plan gier'!$Z:$AH,7,FALSE))=\"\",\"\",VLOOKUP(VLOOKUP(A351,'plan gier'!$Z:$AH,7,FALSE),zawodnicy!$A:$E,1,FALSE)))","v":""},null,{"$f":"IF(A351=0,\"\",IF((VLOOKUP(A351,'plan gier'!$Z:$AH,7,FALSE))=\"\",\"\",VLOOKUP(A351,'plan gier'!$Z:$AH,9,FALSE)))","v":""},null,null,null,{"$f":"IF(A351=0,\"\",IF(VLOOKUP(A351,'plan gier'!A:T,20,FALSE)=\"\",\"\",VLOOKUP(A351,'plan gier'!A:T,20,FALSE)))","v":""},{"$f":"N340","v":0},null,null,null,null,null,null,null,null,null,null,null,null,null,{"$f":"IF(ISBLANK(Z351),IF(AND(LEN(X349)>0,LEN(X353)=0),X349,IF(AND(LEN(X353)>0,LEN(X349)=0),X353,\"\")),IF((VLOOKUP(Z351,'plan gier'!$Z:$AH,7,FALSE))=\"\",\"\",VLOOKUP(VLOOKUP(Z351,'plan gier'!$Z:$AH,7,FALSE),zawodnicy!$A:$E,3,FALSE)))","v":""}]
[null,null,null,null,null,null,null,null,null,null,null,null,null,null,null,null,null,null,null,null,null,null,null,null,null,null,{"$f":"IF(ISBLANK(Z351),\"\",IF((VLOOKUP(Z351,'plan gier'!$Z:$AH,7,FALSE))=\"\",L351,VLOOKUP(Z351,'plan gier'!$Z:$AH,9,FALSE)))","v":""}]
[{"$f":"W353","v":0},{"$f":"IF(TYPE(T353)=16,\"\",T353)","v":""},null,{"$f":"IF(TYPE(T354)=16,\"\",T354)","v":""},null,{"$f":"IF(A353=0,IF(AND(LEN(B353)>0,LEN(D353)=0),VLOOKUP(B353,zawodnicy!$A:$E,1,FALSE),IF(AND(LEN(D353)>0,LEN(B353)=0),VLOOKUP(D353,zawodnicy!$A:$E,1,FALSE),\"\")),IF((VLOOKUP(A353,'plan gier'!$Z:$AH,7,FALSE))=\"\",\"\",VLOOKUP(VLOOKUP(A353,'plan gier'!$Z:$AH,7,FALSE),zawodnicy!$A:$E,1,FALSE)))","v":""},null,{"$f":"IF(A353=0,\"\",IF((VLOOKUP(A353,'plan gier'!$Z:$AH,7,FALSE))=\"\",\"\",VLOOKUP(A353,'plan gier'!$Z:$AH,9,FALSE)))","v":""},null,null,null,{"$f":"IF(A353=0,\"\",IF(VLOOKUP(A353,'plan gier'!A:T,20,FALSE)=\"\",\"\",VLOOKUP(A353,'plan gier'!A:T,20,FALSE)))","v":""},{"$f":"N340","v":0},null,null,null,"2. z gr. 4",null,null,{"$f":"UPPER(IF(N340=\"\",\"\",IF(TYPE(VLOOKUP(2&4&N340,I:J,2,FALSE))=2,VLOOKUP(2&4&N340,I:J,2,FALSE),\"\")))","v":""},null,{"$f":"IF(T353<>\"\",CONCATENATE(VLOOKUP(T353,zawodnicy!$A:$E,2,FALSE),\" \",VLOOKUP(T353,zawodnicy!$A:$E,3,FALSE),\" - \",VLOOKUP(T353,zawodnicy!$A:$E,4,FALSE)),\"\")","v":""},null,{"$f":"IF(ISBLANK(W353),IF(AND(LEN(T353)>0,LEN(T354)=0),VLOOKUP(T353,zawodnicy!$A:$E,3,FALSE),IF(AND(LEN(T354)>0,LEN(T353)=0),VLOOKUP(T354,zawodnicy!$A:$E,3,FALSE),\"\")),IF((VLOOKUP(W353,'plan gier'!$Z:$AH,7,FALSE))=\"\",\"\",VLOOKUP(VLOOKUP(W353,'plan gier'!$Z:$AH,7,FALSE),zawodnicy!$A:$E,3,FALSE)))","v":""},null,null,null,null,null,"1."]
[null,null,null,null,null,null,null,null,null,null,null,null,null,null,null,null,"2. z gr. 3",null,null,{"$f":"UPPER(IF(N340=\"\",\"\",IF(TYPE(VLOOKUP(2&3&N340,I:J,2,FALSE))=2,VLOOKUP(2&3&N340,I:J,2,FALSE),\"\")))","v":""},null,{"$f":"IF(T354<>\"\",CONCATENATE(VLOOKUP(T354,zawodnicy!$A:$E,2,FALSE),\" \",VLOOKUP(T354,zawodnicy!$A:$E,3,FALSE),\" - \",VLOOKUP(T354,zawodnicy!$A:$E,4,FALSE)),\"\")","v":""},null,{"$f":"IF(ISBLANK(W353),\"\",IF((VLOOKUP(W353,'plan gier'!$Z:$AH,7,FALSE))=\"\",L353,VLOOKUP(W353,'plan gier'!$Z:$AH,9,FALSE)))","v":""}]
[{"$f":"AC355","v":0},{"$f":"F347","v":""},null,{"$f":"F363","v":""},null,{"$f":"IF(A355=0,IF(AND(LEN(B355)>0,LEN(D355)=0),B355,IF(AND(LEN(D355)>0,LEN(B355)=0),D355,\"\")),IF((VLOOKUP(A355,'plan gier'!$Z:$AH,7,FALSE))=\"\",\"\",VLOOKUP(VLOOKUP(A355,'plan gier'!$Z:$AH,7,FALSE),zawodnicy!$A:$E,1,FALSE)))","v":""},null,{"$f":"IF(A355=0,\"\",IF((VLOOKUP(A355,'plan gier'!$Z:$AH,7,FALSE))=\"\",\"\",VLOOKUP(A355,'plan gier'!$Z:$AH,9,FALSE)))","v":""},null,null,null,{"$f":"IF(A355=0,\"\",IF(VLOOKUP(A355,'plan gier'!A:T,20,FALSE)=\"\",\"\",VLOOKUP(A355,'plan gier'!A:T,20,FALSE)))","v":""},{"$f":"N340","v":0},null,null,null,null,null,null,null,null,null,null,null,null,null,null,null,null,{"$f":"IF(ISBLANK(AC355),IF(AND(LEN(AD347)>0,LEN(AD363)=0),AD347,IF(AND(LEN(AD363)>0,LEN(AD347)=0),AD363,\"\")),IF((VLOOKUP(AC355,'plan gier'!$Z:$AH,7,FALSE))=\"\",\"\",VLOOKUP(VLOOKUP(AC355,'plan gier'!$Z:$AH,7,FALSE),zawodnicy!$A:$E,3,FALSE)))","v":""}]
[null,null,null,null,null,null,null,null,null,null,null,null,null,null,null,null,null,null,null,null,null,null,null,null,null,null,null,null,null,{"$f":"IF(ISBLANK(AC355),\"\",IF((VLOOKUP(AC355,'plan gier'!$Z:$AH,7,FALSE))=\"\",L355,VLOOKUP(AC355,'plan gier'!$Z:$AH,9,FALSE)))","v":""}]
[{"$f":"W357","v":0},{"$f":"IF(TYPE(T357)=16,\"\",T357)","v":""},null,{"$f":"IF(TYPE(T358)=16,\"\",T358)","v":""},null,{"$f":"IF(A357=0,IF(AND(LEN(B357)>0,LEN(D357)=0),VLOOKUP(B357,zawodnicy!$A:$E,1,FALSE),IF(AND(LEN(D357)>0,LEN(B357)=0),VLOOKUP(D357,zawodnicy!$A:$E,1,FALSE),\"\")),IF((VLOOKUP(A357,'plan gier'!$Z:$AH,7,FALSE))=\"\",\"\",VLOOKUP(VLOOKUP(A357,'plan gier'!$Z:$AH,7,FALSE),zawodnicy!$A:$E,1,FALSE)))","v":""},null,{"$f":"IF(A357=0,\"\",IF((VLOOKUP(A357,'plan gier'!$Z:$AH,7,FALSE))=\"\",\"\",VLOOKUP(A357,'plan gier'!$Z:$AH,9,FALSE)))","v":""},null,null,null,{"$f":"IF(A357=0,\"\",IF(VLOOKUP(A357,'plan gier'!A:T,20,FALSE)=\"\",\"\",VLOOKUP(A357,'plan gier'!A:T,20,FALSE)))","v":""},{"$f":"N340","v":0},null,null,null,"2. z gr. 2",null,null,{"$f":"UPPER(IF(N340=\"\",\"\",IF(TYPE(VLOOKUP(2&2&N340,I:J,2,FALSE))=2,VLOOKUP(2&2&N340,I:J,2,FALSE),\"\")))","v":""},null,{"$f":"IF(T357<>\"\",CONCATENATE(VLOOKUP(T357,zawodnicy!$A:$E,2,FALSE),\" \",VLOOKUP(T357,zawodnicy!$A:$E,3,FALSE),\" - \",VLOOKUP(T357,zawodnicy!$A:$E,4,FALSE)),\"\")","v":""},null,{"$f":"IF(ISBLANK(W357),IF(AND(LEN(T357)>0,LEN(T358)=0),VLOOKUP(T357,zawodnicy!$A:$E,3,FALSE),IF(AND(LEN(T358)>0,LEN(T357)=0),VLOOKUP(T358,zawodnicy!$A:$E,3,FALSE),\"\")),IF((VLOOKUP(W357,'plan gier'!$Z:$AH,7,FALSE))=\"\",\"\",VLOOKUP(VLOOKUP(W357,'plan gier'!$Z:$AH,7,FALSE),zawodnicy!$A:$E,3,FALSE)))","v":""}]
[null,null,null,null,null,null,null,null,null,null,null,null,null,null,null,null,"1. z gr. 3",null,null,{"$f":"UPPER(IF(N340=\"\",\"\",IF(TYPE(VLOOKUP(1&3&N340,I:J,2,FALSE))=2,VLOOKUP(1&3&N340,I:J,2,FALSE),\"\")))","v":""},null,{"$f":"IF(T358<>\"\",CONCATENATE(VLOOKUP(T358,zawodnicy!$A:$E,2,FALSE),\" \",VLOOKUP(T358,zawodnicy!$A:$E,3,FALSE),\" - \",VLOOKUP(T358,zawodnicy!$A:$E,4,FALSE)),\"\")","v":""},null,{"$f":"IF(ISBLANK(W357),\"\",IF((VLOOKUP(W357,'plan gier'!$Z:$AH,7,FALSE))=\"\",L357,VLOOKUP(W357,'plan gier'!$Z:$AH,9,FALSE)))","v":""}]
[{"$f":"Z359","v":0},{"$f":"F357","v":""},null,{"$f":"F361","v":""},null,{"$f":"IF(A359=0,IF(AND(LEN(B359)>0,LEN(D359)=0),B359,IF(AND(LEN(D359)>0,LEN(B359)=0),D359,\"\")),IF((VLOOKUP(A359,'plan gier'!$Z:$AH,7,FALSE))=\"\",\"\",VLOOKUP(VLOOKUP(A359,'plan gier'!$Z:$AH,7,FALSE),zawodnicy!$A:$E,1,FALSE)))","v":""},null,{"$f":"IF(A359=0,\"\",IF((VLOOKUP(A359,'plan gier'!$Z:$AH,7,FALSE))=\"\",\"\",VLOOKUP(A359,'plan gier'!$Z:$AH,9,FALSE)))","v":""},null,null,null,{"$f":"IF(A359=0,\"\",IF(VLOOKUP(A359,'plan gier'!A:T,20,FALSE)=\"\",\"\",VLOOKUP(A359,'plan gier'!A:T,20,FALSE)))","v":""},{"$f":"N340","v":0},null,null,null,null,null,null,null,null,null,null,null,null,null,{"$f":"IF(ISBLANK(Z359),IF(AND(LEN(X357)>0,LEN(X361)=0),X357,IF(AND(LEN(X361)>0,LEN(X357)=0),X361,\"\")),IF((VLOOKUP(Z359,'plan gier'!$Z:$AH,7,FALSE))=\"\",\"\",VLOOKUP(VLOOKUP(Z359,'plan gier'!$Z:$AH,7,FALSE),zawodnicy!$A:$E,3,FALSE)))","v":""}]
[null,null,null,null,null,null,null,null,null,null,null,null,null,null,null,null,null,null,null,null,null,null,null,null,null,null,{"$f":"IF(ISBLANK(Z359),\"\",IF((VLOOKUP(Z359,'plan gier'!$Z:$AH,7,FALSE))=\"\",L359,VLOOKUP(Z359,'plan gier'!$Z:$AH,9,FALSE)))","v":""}]
[{"$f":"W361","v":0},{"$f":"IF(TYPE(T361)=16,\"\",T361)","v":""},null,null,null,{"$f":"IF(A361=0,IF(AND(LEN(B361)>0,LEN(D361)=0),VLOOKUP(B361,zawodnicy!$A:$E,1,FALSE),IF(AND(LEN(D361)>0,LEN(B361)=0),VLOOKUP(D361,zawodnicy!$A:$E,1,FALSE),\"\")),IF((VLOOKUP(A361,'plan gier'!$Z:$AH,7,FALSE))=\"\",\"\",VLOOKUP(VLOOKUP(A361,'plan gier'!$Z:$AH,7,FALSE),zawodnicy!$A:$E,1,FALSE)))","v":""},null,{"$f":"IF(A361=0,\"\",IF((VLOOKUP(A361,'plan gier'!$Z:$AH,7,FALSE))=\"\",\"\",VLOOKUP(A361,'plan gier'!$Z:$AH,9,FALSE)))","v":""},null,null,null,{"$f":"IF(A361=0,\"\",IF(VLOOKUP(A361,'plan gier'!A:T,20,FALSE)=\"\",\"\",VLOOKUP(A361,'plan gier'!A:T,20,FALSE)))","v":""},{"$f":"N340","v":0},null,null,null,"1. z gr. 4",null,null,{"$f":"UPPER(IF(N340=\"\",\"\",IF(TYPE(VLOOKUP(1&4&N340,I:J,2,FALSE))=2,VLOOKUP(1&4&N340,I:J,2,FALSE),\"\")))","v":""},null,{"$f":"IF(T361<>\"\",CONCATENATE(VLOOKUP(T361,zawodnicy!$A:$E,2,FALSE),\" \",VLOOKUP(T361,zawodnicy!$A:$E,3,FALSE),\" - \",VLOOKUP(T361,zawodnicy!$A:$E,4,FALSE)),\"\")","v":""},null,{"$f":"IF(ISBLANK(W361),IF(AND(LEN(T361)>0,LEN(T362)=0),VLOOKUP(T361,zawodnicy!$A:$E,3,FALSE),IF(AND(LEN(T362)>0,LEN(T361)=0),VLOOKUP(T362,zawodnicy!$A:$E,3,FALSE),\"\")),IF((VLOOKUP(W361,'plan gier'!$Z:$AH,7,FALSE))=\"\",\"\",VLOOKUP(VLOOKUP(W361,'plan gier'!$Z:$AH,7,FALSE),zawodnicy!$A:$E,3,FALSE)))","v":""}]
[]
[{"$f":"AC363","v":0},{"$f":"F359","v":""},null,{"$f":"F367","v":""},null,{"$f":"IF(A363=0,IF(AND(LEN(B363)>0,LEN(D363)=0),B363,IF(AND(LEN(D363)>0,LEN(B363)=0),D363,\"\")),IF((VLOOKUP(A363,'plan gier'!$Z:$AH,7,FALSE))=\"\",\"\",VLOOKUP(VLOOKUP(A363,'plan gier'!$Z:$AH,7,FALSE),zawodnicy!$A:$E,1,FALSE)))","v":""},null,{"$f":"IF(A363=0,\"\",IF((VLOOKUP(A363,'plan gier'!$Z:$AH,7,FALSE))=\"\",\"\",VLOOKUP(A363,'plan gier'!$Z:$AH,9,FALSE)))","v":""},null,null,null,{"$f":"IF(A363=0,\"\",IF(VLOOKUP(A363,'plan gier'!A:T,20,FALSE)=\"\",\"\",VLOOKUP(A363,'plan gier'!A:T,20,FALSE)))","v":""},{"$f":"N340","v":0},null,null,null,null,null,null,null,null,null,null,null,null,null,null,null,null,{"$f":"IF(ISBLANK(AC363),IF(AND(LEN(AA359)>0,LEN(AA367)=0),AA359,IF(AND(LEN(AA367)>0,LEN(AA359)=0),AA367,\"\")),IF((VLOOKUP(AC363,'plan gier'!$Z:$AH,7,FALSE))=\"\",\"\",VLOOKUP(VLOOKUP(AC363,'plan gier'!$Z:$AH,7,FALSE),zawodnicy!$A:$E,3,FALSE)))","v":""}]
[null,null,null,null,null,null,null,null,null,null,null,null,null,null,null,null,null,null,null,null,null,null,null,null,null,null,null,null,null,{"$f":"IF(ISBLANK(AC363),\"\",IF((VLOOKUP(AC363,'plan gier'!$Z:$AH,7,FALSE))=\"\",L363,VLOOKUP(AC363,'plan gier'!$Z:$AH,9,FALSE)))","v":""}]
[{"$f":"W365","v":0},{"$f":"IF(TYPE(T365)=16,\"\",T365)","v":""},null,null,null,{"$f":"IF(A365=0,IF(AND(LEN(B365)>0,LEN(D365)=0),VLOOKUP(B365,zawodnicy!$A:$E,1,FALSE),IF(AND(LEN(D365)>0,LEN(B365)=0),VLOOKUP(D365,zawodnicy!$A:$E,1,FALSE),\"\")),IF((VLOOKUP(A365,'plan gier'!$Z:$AH,7,FALSE))=\"\",\"\",VLOOKUP(VLOOKUP(A365,'plan gier'!$Z:$AH,7,FALSE),zawodnicy!$A:$E,1,FALSE)))","v":""},null,{"$f":"IF(A365=0,\"\",IF((VLOOKUP(A365,'plan gier'!$Z:$AH,7,FALSE))=\"\",\"\",VLOOKUP(A365,'plan gier'!$Z:$AH,9,FALSE)))","v":""},null,null,null,{"$f":"IF(A365=0,\"\",IF(VLOOKUP(A365,'plan gier'!A:T,20,FALSE)=\"\",\"\",VLOOKUP(A365,'plan gier'!A:T,20,FALSE)))","v":""},{"$f":"N340","v":0},null,null,null,"2. z gr. 1",null,null,{"$f":"UPPER(IF(N340=\"\",\"\",IF(TYPE(VLOOKUP(2&1&N340,I:J,2,FALSE))=2,VLOOKUP(2&1&N340,I:J,2,FALSE),\"\")))","v":""},null,{"$f":"IF(T365<>\"\",CONCATENATE(VLOOKUP(T365,zawodnicy!$A:$E,2,FALSE),\" \",VLOOKUP(T365,zawodnicy!$A:$E,3,FALSE),\" - \",VLOOKUP(T365,zawodnicy!$A:$E,4,FALSE)),\"\")","v":""},null,{"$f":"IF(ISBLANK(W365),IF(AND(LEN(T365)>0,LEN(T366)=0),VLOOKUP(T365,zawodnicy!$A:$E,3,FALSE),IF(AND(LEN(T366)>0,LEN(T365)=0),VLOOKUP(T366,zawodnicy!$A:$E,3,FALSE),\"\")),IF((VLOOKUP(W365,'plan gier'!$Z:$AH,7,FALSE))=\"\",\"\",VLOOKUP(VLOOKUP(W365,'plan gier'!$Z:$AH,7,FALSE),zawodnicy!$A:$E,3,FALSE)))","v":""}]
[]
[{"$f":"Z367","v":0},{"$f":"F365","v":""},null,{"$f":"F369","v":""},null,{"$f":"IF(A367=0,IF(AND(LEN(B367)>0,LEN(D367)=0),B367,IF(AND(LEN(D367)>0,LEN(B367)=0),D367,\"\")),IF((VLOOKUP(A367,'plan gier'!$Z:$AH,7,FALSE))=\"\",\"\",VLOOKUP(VLOOKUP(A367,'plan gier'!$Z:$AH,7,FALSE),zawodnicy!$A:$E,1,FALSE)))","v":""},null,{"$f":"IF(A367=0,\"\",IF((VLOOKUP(A367,'plan gier'!$Z:$AH,7,FALSE))=\"\",\"\",VLOOKUP(A367,'plan gier'!$Z:$AH,9,FALSE)))","v":""},null,null,null,{"$f":"IF(A367=0,\"\",IF(VLOOKUP(A367,'plan gier'!A:T,20,FALSE)=\"\",\"\",VLOOKUP(A367,'plan gier'!A:T,20,FALSE)))","v":""},{"$f":"N340","v":0},null,null,null,null,null,null,null,null,null,null,null,null,null,{"$f":"IF(ISBLANK(Z367),IF(AND(LEN(X365)>0,LEN(X369)=0),X365,IF(AND(LEN(X369)>0,LEN(X365)=0),X369,\"\")),IF((VLOOKUP(Z367,'plan gier'!$Z:$AH,7,FALSE))=\"\",\"\",VLOOKUP(VLOOKUP(Z367,'plan gier'!$Z:$AH,7,FALSE),zawodnicy!$A:$E,3,FALSE)))","v":""}]
[null,null,null,null,null,null,null,null,null,null,null,null,null,null,null,null,null,null,null,null,null,null,null,null,null,null,{"$f":"IF(ISBLANK(Z367),\"\",IF((VLOOKUP(Z367,'plan gier'!$Z:$AH,7,FALSE))=\"\",L367,VLOOKUP(Z367,'plan gier'!$Z:$AH,9,FALSE)))","v":""}]
[{"$f":"W369","v":0},{"$f":"IF(TYPE(T369)=16,\"\",T369)","v":""},null,null,null,{"$f":"IF(A369=0,IF(AND(LEN(B369)>0,LEN(D369)=0),VLOOKUP(B369,zawodnicy!$A:$E,1,FALSE),IF(AND(LEN(D369)>0,LEN(B369)=0),VLOOKUP(D369,zawodnicy!$A:$E,1,FALSE),\"\")),IF((VLOOKUP(A369,'plan gier'!$Z:$AH,7,FALSE))=\"\",\"\",VLOOKUP(VLOOKUP(A369,'plan gier'!$Z:$AH,7,FALSE),zawodnicy!$A:$E,1,FALSE)))","v":""},null,{"$f":"IF(A369=0,\"\",IF((VLOOKUP(A369,'plan gier'!$Z:$AH,7,FALSE))=\"\",\"\",VLOOKUP(A369,'plan gier'!$Z:$AH,9,FALSE)))","v":""},null,null,null,{"$f":"IF(A369=0,\"\",IF(VLOOKUP(A369,'plan gier'!A:T,20,FALSE)=\"\",\"\",VLOOKUP(A369,'plan gier'!A:T,20,FALSE)))","v":""},{"$f":"N340","v":0},null,null,null,"1. z gr. 5",null,null,{"$f":"UPPER(IF(N340=\"\",\"\",IF(TYPE(VLOOKUP(1&5&N340,I:J,2,FALSE))=2,VLOOKUP(1&5&N340,I:J,2,FALSE),\"\")))","v":""},null,{"$f":"IF(T369<>\"\",CONCATENATE(VLOOKUP(T369,zawodnicy!$A:$E,2,FALSE),\" \",VLOOKUP(T369,zawodnicy!$A:$E,3,FALSE),\" - \",VLOOKUP(T369,zawodnicy!$A:$E,4,FALSE)),\"\")","v":""},null,{"$f":"IF(ISBLANK(W369),IF(AND(LEN(T369)>0,LEN(T370)=0),VLOOKUP(T369,zawodnicy!$A:$E,3,FALSE),IF(AND(LEN(T370)>0,LEN(T369)=0),VLOOKUP(T370,zawodnicy!$A:$E,3,FALSE),\"\")),IF((VLOOKUP(W369,'plan gier'!$Z:$AH,7,FALSE))=\"\",\"\",VLOOKUP(VLOOKUP(W369,'plan gier'!$Z:$AH,7,FALSE),zawodnicy!$A:$E,3,FALSE)))","v":""}]
[]
[]
[]
[null,null,null,null,null,null,null,null,null,null,null,null,null,null,null,null,"Drabinka pucharowa pośredniego systemu grupowo-pucharowego dla 4 grup"]
[]
[null,null,null,null,null,null,null,null,null,null,null,null,null,null,null,null,null,null,null,"5-8.",null,null,null,"3-4.",null,null,"2.",null,null,"1."]
[]
[{"$f":"W377","v":0},{"$f":"IF(TYPE(T377)=16,\"\",T377)","v":""},null,{"$f":"IF(TYPE(T378)=16,\"\",T378)","v":""},null,{"$f":"IF(A377=0,IF(AND(LEN(B377)>0,LEN(D377)=0),VLOOKUP(B377,zawodnicy!$A:$E,1,FALSE),IF(AND(LEN(D377)>0,LEN(B377)=0),VLOOKUP(D377,zawodnicy!$A:$E,1,FALSE),\"\")),IF((VLOOKUP(A377,'plan gier'!$Z:$AH,7,FALSE))=\"\",\"\",VLOOKUP(VLOOKUP(A377,'plan gier'!$Z:$AH,7,FALSE),zawodnicy!$A:$E,1,FALSE)))","v":""},null,{"$f":"IF(A377=0,\"\",IF((VLOOKUP(A377,'plan gier'!$Z:$AH,7,FALSE))=\"\",\"\",VLOOKUP(A377,'plan gier'!$Z:$AH,9,FALSE)))","v":""},null,null,null,{"$f":"IF(A377=0,\"\",IF(VLOOKUP(A377,'plan gier'!A:T,20,FALSE)=\"\",\"\",VLOOKUP(A377,'plan gier'!A:T,20,FALSE)))","v":""},{"$f":"N376","v":0},null,null,null,"1. z gr. 1",null,null,{"$f":"UPPER(IF((N376=\"\"),\"\",IF(TYPE(VLOOKUP(1&1&N376,I:J,2,FALSE))=2,VLOOKUP(1&1&N376,I:J,2,FALSE),\"\")))","v":""},null,{"$f":"IF(T377<>\"\",CONCATENATE(VLOOKUP(T377,zawodnicy!$A:$E,2,FALSE),\" \",VLOOKUP(T377,zawodnicy!$A:$E,3,FALSE),\" - \",VLOOKUP(T377,zawodnicy!$A:$E,4,FALSE)),\"\")","v":""},null,{"$f":"IF(ISBLANK(W377),IF(AND(LEN(T377)>0,LEN(T378)=0),VLOOKUP(T377,zawodnicy!$A:$E,3,FALSE),IF(AND(LEN(T378)>0,LEN(T377)=0),VLOOKUP(T378,zawodnicy!$A:$E,3,FALSE),\"\")),IF((VLOOKUP(W377,'plan gier'!$Z:$AH,7,FALSE))=\"\",\"\",VLOOKUP(VLOOKUP(W377,'plan gier'!$Z:$AH,7,FALSE),zawodnicy!$A:$E,3,FALSE)))","v":""}]
[null,null,null,null,null,null,null,null,null,null,null,null,null,null,null,null,"2. z gr. 4",null,null,{"$f":"UPPER(IF(N376=\"\",\"\",IF(TYPE(VLOOKUP(2&4&N376,I:J,2,FALSE))=2,VLOOKUP(2&4&N376,I:J,2,FALSE),\"\")))","v":""},null,{"$f":"IF(T378<>\"\",CONCATENATE(VLOOKUP(T378,zawodnicy!$A:$E,2,FALSE),\" \",VLOOKUP(T378,zawodnicy!$A:$E,3,FALSE),\" - \",VLOOKUP(T378,zawodnicy!$A:$E,4,FALSE)),\"\")","v":""},null,{"$f":"IF(ISBLANK(W377),\"\",IF((VLOOKUP(W377,'plan gier'!$Z:$AH,7,FALSE))=\"\",L377,VLOOKUP(W377,'plan gier'!$Z:$AH,9,FALSE)))","v":""}]
[{"$f":"Z379","v":0},{"$f":"F377","v":""},null,{"$f":"F381","v":""},null,{"$f":"IF(A379=0,IF(AND(LEN(B379)>0,LEN(D379)=0),B379,IF(AND(LEN(D379)>0,LEN(B379)=0),D379,\"\")),IF((VLOOKUP(A379,'plan gier'!$Z:$AH,7,FALSE))=\"\",\"\",VLOOKUP(VLOOKUP(A379,'plan gier'!$Z:$AH,7,FALSE),zawodnicy!$A:$E,1,FALSE)))","v":""},null,{"$f":"IF(A379=0,\"\",IF((VLOOKUP(A379,'plan gier'!$Z:$AH,7,FALSE))=\"\",\"\",VLOOKUP(A379,'plan gier'!$Z:$AH,9,FALSE)))","v":""},null,null,null,{"$f":"IF(A379=0,\"\",IF(VLOOKUP(A379,'plan gier'!A:T,20,FALSE)=\"\",\"\",VLOOKUP(A379,'plan gier'!A:T,20,FALSE)))","v":""},{"$f":"N376","v":0},null,null,null,null,null,null,null,null,null,null,null,null,null,{"$f":"IF(ISBLANK(Z379),IF(AND(LEN(X377)>0,LEN(X381)=0),X377,IF(AND(LEN(X381)>0,LEN(X377)=0),X381,\"\")),IF((VLOOKUP(Z379,'plan gier'!$Z:$AH,7,FALSE))=\"\",\"\",VLOOKUP(VLOOKUP(Z379,'plan gier'!$Z:$AH,7,FALSE),zawodnicy!$A:$E,3,FALSE)))","v":""}]
[null,null,null,null,null,null,null,null,null,null,null,null,null,null,null,null,null,null,null,null,null,null,null,null,null,null,{"$f":"IF(ISBLANK(Z379),\"\",IF((VLOOKUP(Z379,'plan gier'!$Z:$AH,7,FALSE))=\"\",L379,VLOOKUP(Z379,'plan gier'!$Z:$AH,9,FALSE)))","v":""}]
[{"$f":"W381","v":0},{"$f":"IF(TYPE(T381)=16,\"\",T381)","v":""},null,{"$f":"IF(TYPE(T382)=16,\"\",T382)","v":""},null,{"$f":"IF(A381=0,IF(AND(LEN(B381)>0,LEN(D381)=0),VLOOKUP(B381,zawodnicy!$A:$E,1,FALSE),IF(AND(LEN(D381)>0,LEN(B381)=0),VLOOKUP(D381,zawodnicy!$A:$E,1,FALSE),\"\")),IF((VLOOKUP(A381,'plan gier'!$Z:$AH,7,FALSE))=\"\",\"\",VLOOKUP(VLOOKUP(A381,'plan gier'!$Z:$AH,7,FALSE),zawodnicy!$A:$E,1,FALSE)))","v":""},null,{"$f":"IF(A381=0,\"\",IF((VLOOKUP(A381,'plan gier'!$Z:$AH,7,FALSE))=\"\",\"\",VLOOKUP(A381,'plan gier'!$Z:$AH,9,FALSE)))","v":""},null,null,null,{"$f":"IF(A381=0,\"\",IF(VLOOKUP(A381,'plan gier'!A:T,20,FALSE)=\"\",\"\",VLOOKUP(A381,'plan gier'!A:T,20,FALSE)))","v":""},{"$f":"N376","v":0},null,null,null,"1. z gr. 2",null,null,{"$f":"UPPER(IF(N376=\"\",\"\",IF(TYPE(VLOOKUP(1&2&N376,I:J,2,FALSE))=2,VLOOKUP(1&2&N376,I:J,2,FALSE),\"\")))","v":""},null,{"$f":"IF(T381<>\"\",CONCATENATE(VLOOKUP(T381,zawodnicy!$A:$E,2,FALSE),\" \",VLOOKUP(T381,zawodnicy!$A:$E,3,FALSE),\" - \",VLOOKUP(T381,zawodnicy!$A:$E,4,FALSE)),\"\")","v":""},null,{"$f":"IF(ISBLANK(W381),IF(AND(LEN(T381)>0,LEN(T382)=0),VLOOKUP(T381,zawodnicy!$A:$E,3,FALSE),IF(AND(LEN(T382)>0,LEN(T381)=0),VLOOKUP(T382,zawodnicy!$A:$E,3,FALSE),\"\")),IF((VLOOKUP(W381,'plan gier'!$Z:$AH,7,FALSE))=\"\",\"\",VLOOKUP(VLOOKUP(W381,'plan gier'!$Z:$AH,7,FALSE),zawodnicy!$A:$E,3,FALSE)))","v":""}]
[null,null,null,null,null,null,null,null,null,null,null,null,null,null,null,null,"2. z gr. 3",null,null,{"$f":"UPPER(IF(N376=\"\",\"\",IF(TYPE(VLOOKUP(2&3&N376,I:J,2,FALSE))=2,VLOOKUP(2&3&N376,I:J,2,FALSE),\"\")))","v":""},null,{"$f":"IF(T382<>\"\",CONCATENATE(VLOOKUP(T382,zawodnicy!$A:$E,2,FALSE),\" \",VLOOKUP(T382,zawodnicy!$A:$E,3,FALSE),\" - \",VLOOKUP(T382,zawodnicy!$A:$E,4,FALSE)),\"\")","v":""},null,{"$f":"IF(ISBLANK(W381),\"\",IF((VLOOKUP(W381,'plan gier'!$Z:$AH,7,FALSE))=\"\",L381,VLOOKUP(W381,'plan gier'!$Z:$AH,9,FALSE)))","v":""}]
[{"$f":"AC383","v":0},{"$f":"F379","v":""},null,{"$f":"F387","v":""},null,{"$f":"IF(A383=0,IF(AND(LEN(B383)>0,LEN(D383)=0),B383,IF(AND(LEN(D383)>0,LEN(B383)=0),D383,\"\")),IF((VLOOKUP(A383,'plan gier'!$Z:$AH,7,FALSE))=\"\",\"\",VLOOKUP(VLOOKUP(A383,'plan gier'!$Z:$AH,7,FALSE),zawodnicy!$A:$E,1,FALSE)))","v":""},null,{"$f":"IF(A383=0,\"\",IF((VLOOKUP(A383,'plan gier'!$Z:$AH,7,FALSE))=\"\",\"\",VLOOKUP(A383,'plan gier'!$Z:$AH,9,FALSE)))","v":""},null,null,null,{"$f":"IF(A383=0,\"\",IF(VLOOKUP(A383,'plan gier'!A:T,20,FALSE)=\"\",\"\",VLOOKUP(A383,'plan gier'!A:T,20,FALSE)))","v":""},{"$f":"N376","v":0},null,null,null,null,null,null,null,null,null,null,null,null,null,null,null,null,{"$f":"IF(ISBLANK(AC383),IF(AND(LEN(AA379)>0,LEN(AA387)=0),AA379,IF(AND(LEN(AA387)>0,LEN(AA379)=0),AA387,\"\")),IF((VLOOKUP(AC383,'plan gier'!$Z:$AH,7,FALSE))=\"\",\"\",VLOOKUP(VLOOKUP(AC383,'plan gier'!$Z:$AH,7,FALSE),zawodnicy!$A:$E,3,FALSE)))","v":""}]
[null,null,null,null,null,null,null,null,null,null,null,null,null,null,null,null,null,null,null,null,null,null,null,null,null,null,null,null,null,{"$f":"IF(ISBLANK(AC383),\"\",IF((VLOOKUP(AC383,'plan gier'!$Z:$AH,7,FALSE))=\"\",L383,VLOOKUP(AC383,'plan gier'!$Z:$AH,9,FALSE)))","v":""}]
[{"$f":"W385","v":0},{"$f":"IF(TYPE(T385)=16,\"\",T385)","v":""},null,{"$f":"IF(TYPE(T386)=16,\"\",T386)","v":""},null,{"$f":"IF(A385=0,IF(AND(LEN(B385)>0,LEN(D385)=0),VLOOKUP(B385,zawodnicy!$A:$E,1,FALSE),IF(AND(LEN(D385)>0,LEN(B385)=0),VLOOKUP(D385,zawodnicy!$A:$E,1,FALSE),\"\")),IF((VLOOKUP(A385,'plan gier'!$Z:$AH,7,FALSE))=\"\",\"\",VLOOKUP(VLOOKUP(A385,'plan gier'!$Z:$AH,7,FALSE),zawodnicy!$A:$E,1,FALSE)))","v":""},null,{"$f":"IF(A385=0,\"\",IF((VLOOKUP(A385,'plan gier'!$Z:$AH,7,FALSE))=\"\",\"\",VLOOKUP(A385,'plan gier'!$Z:$AH,9,FALSE)))","v":""},null,null,null,{"$f":"IF(A385=0,\"\",IF(VLOOKUP(A385,'plan gier'!A:T,20,FALSE)=\"\",\"\",VLOOKUP(A385,'plan gier'!A:T,20,FALSE)))","v":""},{"$f":"N376","v":0},null,null,null,"2. z gr. 2",null,null,{"$f":"UPPER(IF(N376=\"\",\"\",IF(TYPE(VLOOKUP(2&2&N376,I:J,2,FALSE))=2,VLOOKUP(2&2&N376,I:J,2,FALSE),\"\")))","v":""},null,{"$f":"IF(T385<>\"\",CONCATENATE(VLOOKUP(T385,zawodnicy!$A:$E,2,FALSE),\" \",VLOOKUP(T385,zawodnicy!$A:$E,3,FALSE),\" - \",VLOOKUP(T385,zawodnicy!$A:$E,4,FALSE)),\"\")","v":""},null,{"$f":"IF(ISBLANK(W385),IF(AND(LEN(T385)>0,LEN(T386)=0),VLOOKUP(T385,zawodnicy!$A:$E,3,FALSE),IF(AND(LEN(T386)>0,LEN(T385)=0),VLOOKUP(T386,zawodnicy!$A:$E,3,FALSE),\"\")),IF((VLOOKUP(W385,'plan gier'!$Z:$AH,7,FALSE))=\"\",\"\",VLOOKUP(VLOOKUP(W385,'plan gier'!$Z:$AH,7,FALSE),zawodnicy!$A:$E,3,FALSE)))","v":""}]
[null,null,null,null,null,null,null,null,null,null,null,null,null,null,null,null,"1. z gr. 3",null,null,{"$f":"UPPER(IF(N376=\"\",\"\",IF(TYPE(VLOOKUP(1&3&N376,I:J,2,FALSE))=2,VLOOKUP(1&3&N376,I:J,2,FALSE),\"\")))","v":""},null,{"$f":"IF(T386<>\"\",CONCATENATE(VLOOKUP(T386,zawodnicy!$A:$E,2,FALSE),\" \",VLOOKUP(T386,zawodnicy!$A:$E,3,FALSE),\" - \",VLOOKUP(T386,zawodnicy!$A:$E,4,FALSE)),\"\")","v":""},null,{"$f":"IF(ISBLANK(W385),\"\",IF((VLOOKUP(W385,'plan gier'!$Z:$AH,7,FALSE))=\"\",L385,VLOOKUP(W385,'plan gier'!$Z:$AH,9,FALSE)))","v":""}]
[{"$f":"Z387","v":0},{"$f":"F385","v":""},null,{"$f":"F389","v":""},null,{"$f":"IF(A387=0,IF(AND(LEN(B387)>0,LEN(D387)=0),B387,IF(AND(LEN(D387)>0,LEN(B387)=0),D387,\"\")),IF((VLOOKUP(A387,'plan gier'!$Z:$AH,7,FALSE))=\"\",\"\",VLOOKUP(VLOOKUP(A387,'plan gier'!$Z:$AH,7,FALSE),zawodnicy!$A:$E,1,FALSE)))","v":""},null,{"$f":"IF(A387=0,\"\",IF((VLOOKUP(A387,'plan gier'!$Z:$AH,7,FALSE))=\"\",\"\",VLOOKUP(A387,'plan gier'!$Z:$AH,9,FALSE)))","v":""},null,null,null,{"$f":"IF(A387=0,\"\",IF(VLOOKUP(A387,'plan gier'!A:T,20,FALSE)=\"\",\"\",VLOOKUP(A387,'plan gier'!A:T,20,FALSE)))","v":""},{"$f":"N376","v":0},null,null,null,null,null,null,null,null,null,null,null,null,null,{"$f":"IF(ISBLANK(Z387),IF(AND(LEN(X385)>0,LEN(X389)=0),X385,IF(AND(LEN(X389)>0,LEN(X385)=0),X389,\"\")),IF((VLOOKUP(Z387,'plan gier'!$Z:$AH,7,FALSE))=\"\",\"\",VLOOKUP(VLOOKUP(Z387,'plan gier'!$Z:$AH,7,FALSE),zawodnicy!$A:$E,3,FALSE)))","v":""}]
[null,null,null,null,null,null,null,null,null,null,null,null,null,null,null,null,null,null,null,null,null,null,null,null,null,null,{"$f":"IF(ISBLANK(Z387),\"\",IF((VLOOKUP(Z387,'plan gier'!$Z:$AH,7,FALSE))=\"\",L387,VLOOKUP(Z387,'plan gier'!$Z:$AH,9,FALSE)))","v":""}]
[{"$f":"W389","v":0},{"$f":"IF(TYPE(T389)=16,\"\",T389)","v":""},null,{"$f":"IF(TYPE(T390)=16,\"\",T390)","v":""},null,{"$f":"IF(A389=0,IF(AND(LEN(B389)>0,LEN(D389)=0),VLOOKUP(B389,zawodnicy!$A:$E,1,FALSE),IF(AND(LEN(D389)>0,LEN(B389)=0),VLOOKUP(D389,zawodnicy!$A:$E,1,FALSE),\"\")),IF((VLOOKUP(A389,'plan gier'!$Z:$AH,7,FALSE))=\"\",\"\",VLOOKUP(VLOOKUP(A389,'plan gier'!$Z:$AH,7,FALSE),zawodnicy!$A:$E,1,FALSE)))","v":""},null,{"$f":"IF(A389=0,\"\",IF((VLOOKUP(A389,'plan gier'!$Z:$AH,7,FALSE))=\"\",\"\",VLOOKUP(A389,'plan gier'!$Z:$AH,9,FALSE)))","v":""},null,null,null,{"$f":"IF(A389=0,\"\",IF(VLOOKUP(A389,'plan gier'!A:T,20,FALSE)=\"\",\"\",VLOOKUP(A389,'plan gier'!A:T,20,FALSE)))","v":""},{"$f":"N376","v":0},null,null,null,"2. z gr. 1",null,null,{"$f":"UPPER(IF(N376=\"\",\"\",IF(TYPE(VLOOKUP(2&1&N376,I:J,2,FALSE))=2,VLOOKUP(2&1&N376,I:J,2,FALSE),\"\")))","v":""},null,{"$f":"IF(T389<>\"\",CONCATENATE(VLOOKUP(T389,zawodnicy!$A:$E,2,FALSE),\" \",VLOOKUP(T389,zawodnicy!$A:$E,3,FALSE),\" - \",VLOOKUP(T389,zawodnicy!$A:$E,4,FALSE)),\"\")","v":""},null,{"$f":"IF(ISBLANK(W389),IF(AND(LEN(T389)>0,LEN(T390)=0),VLOOKUP(T389,zawodnicy!$A:$E,3,FALSE),IF(AND(LEN(T390)>0,LEN(T389)=0),VLOOKUP(T390,zawodnicy!$A:$E,3,FALSE),\"\")),IF((VLOOKUP(W389,'plan gier'!$Z:$AH,7,FALSE))=\"\",\"\",VLOOKUP(VLOOKUP(W389,'plan gier'!$Z:$AH,7,FALSE),zawodnicy!$A:$E,3,FALSE)))","v":""}]
[null,null,null,null,null,null,null,null,null,null,null,null,null,null,null,null,"1. z gr. 4",null,null,{"$f":"UPPER(IF(N376=\"\",\"\",IF(TYPE(VLOOKUP(1&4&N376,I:J,2,FALSE))=2,VLOOKUP(1&4&N376,I:J,2,FALSE),\"\")))","v":""},null,{"$f":"IF(T390<>\"\",CONCATENATE(VLOOKUP(T390,zawodnicy!$A:$E,2,FALSE),\" \",VLOOKUP(T390,zawodnicy!$A:$E,3,FALSE),\" - \",VLOOKUP(T390,zawodnicy!$A:$E,4,FALSE)),\"\")","v":""},null,{"$f":"IF(ISBLANK(W389),\"\",IF((VLOOKUP(W389,'plan gier'!$Z:$AH,7,FALSE))=\"\",L389,VLOOKUP(W389,'plan gier'!$Z:$AH,9,FALSE)))","v":""}]
[]
[]
[null,null,null,null,null,null,null,null,null,null,null,null,null,null,null,null,"Drabinka pucharowa pośredniego systemu grupowo-pucharowego dla 3 grup"]
[]
[null,null,null,null,null,null,null,null,null,null,null,null,null,null,null,null,null,null,null,"5-6.",null,null,null,"3-4.",null,null,"2.",null,null,"1."]
[]
[{"$f":"W397","v":0},{"$f":"IF(TYPE(T397)=16,\"\",T397)","v":""},null,null,null,{"$f":"IF(A397=0,IF(AND(LEN(B397)>0,LEN(D397)=0),VLOOKUP(B397,zawodnicy!$A:$E,1,FALSE),IF(AND(LEN(D397)>0,LEN(B397)=0),VLOOKUP(D397,zawodnicy!$A:$E,1,FALSE),\"\")),IF((VLOOKUP(A397,'plan gier'!$Z:$AH,7,FALSE))=\"\",\"\",VLOOKUP(VLOOKUP(A397,'plan gier'!$Z:$AH,7,FALSE),zawodnicy!$A:$E,1,FALSE)))","v":""},null,{"$f":"IF(A397=0,\"\",IF((VLOOKUP(A397,'plan gier'!$Z:$AH,7,FALSE))=\"\",\"\",VLOOKUP(A397,'plan gier'!$Z:$AH,9,FALSE)))","v":""},null,null,null,{"$f":"IF(A397=0,\"\",IF(VLOOKUP(A397,'plan gier'!A:T,20,FALSE)=\"\",\"\",VLOOKUP(A397,'plan gier'!A:T,20,FALSE)))","v":""},{"$f":"N396","v":0},null,null,null,"1. z gr. 1",null,null,{"$f":"UPPER(IF((N396=\"\"),\"\",IF(TYPE(VLOOKUP(1&1&N396,I:J,2,FALSE))=2,VLOOKUP(1&1&N396,I:J,2,FALSE),\"\")))","v":""},null,{"$f":"IF(T397<>\"\",CONCATENATE(VLOOKUP(T397,zawodnicy!$A:$E,2,FALSE),\" \",VLOOKUP(T397,zawodnicy!$A:$E,3,FALSE),\" - \",VLOOKUP(T397,zawodnicy!$A:$E,4,FALSE)),\"\")","v":""},null,{"$f":"IF(ISBLANK(W397),IF(AND(LEN(T397)>0,LEN(T398)=0),VLOOKUP(T397,zawodnicy!$A:$E,3,FALSE),IF(AND(LEN(T398)>0,LEN(T397)=0),VLOOKUP(T398,zawodnicy!$A:$E,3,FALSE),\"\")),IF((VLOOKUP(W397,'plan gier'!$Z:$AH,7,FALSE))=\"\",\"\",VLOOKUP(VLOOKUP(W397,'plan gier'!$Z:$AH,7,FALSE),zawodnicy!$A:$E,3,FALSE)))","v":""}]
[]
[{"$f":"Z399","v":0},{"$f":"F397","v":""},null,{"$f":"F401","v":""},null,{"$f":"IF(A399=0,IF(AND(LEN(B399)>0,LEN(D399)=0),B399,IF(AND(LEN(D399)>0,LEN(B399)=0),D399,\"\")),IF((VLOOKUP(A399,'plan gier'!$Z:$AH,7,FALSE))=\"\",\"\",VLOOKUP(VLOOKUP(A399,'plan gier'!$Z:$AH,7,FALSE),zawodnicy!$A:$E,1,FALSE)))","v":""},null,{"$f":"IF(A399=0,\"\",IF((VLOOKUP(A399,'plan gier'!$Z:$AH,7,FALSE))=\"\",\"\",VLOOKUP(A399,'plan gier'!$Z:$AH,9,FALSE)))","v":""},null,null,null,{"$f":"IF(A399=0,\"\",IF(VLOOKUP(A399,'plan gier'!A:T,20,FALSE)=\"\",\"\",VLOOKUP(A399,'plan gier'!A:T,20,FALSE)))","v":""},{"$f":"N396","v":0},null,null,null,null,null,null,null,null,null,null,null,null,null,{"$f":"IF(ISBLANK(Z399),IF(AND(LEN(X397)>0,LEN(X401)=0),X397,IF(AND(LEN(X401)>0,LEN(X397)=0),X401,\"\")),IF((VLOOKUP(Z399,'plan gier'!$Z:$AH,7,FALSE))=\"\",\"\",VLOOKUP(VLOOKUP(Z399,'plan gier'!$Z:$AH,7,FALSE),zawodnicy!$A:$E,3,FALSE)))","v":""}]
[null,null,null,null,null,null,null,null,null,null,null,null,null,null,null,null,null,null,null,null,null,null,null,null,null,null,{"$f":"IF(ISBLANK(Z399),\"\",IF((VLOOKUP(Z399,'plan gier'!$Z:$AH,7,FALSE))=\"\",L399,VLOOKUP(Z399,'plan gier'!$Z:$AH,9,FALSE)))","v":""}]
[{"$f":"W401","v":0},{"$f":"IF(TYPE(T401)=16,\"\",T401)","v":""},null,{"$f":"IF(TYPE(T402)=16,\"\",T402)","v":""},null,{"$f":"IF(A401=0,IF(AND(LEN(B401)>0,LEN(D401)=0),VLOOKUP(B401,zawodnicy!$A:$E,1,FALSE),IF(AND(LEN(D401)>0,LEN(B401)=0),VLOOKUP(D401,zawodnicy!$A:$E,1,FALSE),\"\")),IF((VLOOKUP(A401,'plan gier'!$Z:$AH,7,FALSE))=\"\",\"\",VLOOKUP(VLOOKUP(A401,'plan gier'!$Z:$AH,7,FALSE),zawodnicy!$A:$E,1,FALSE)))","v":""},null,{"$f":"IF(A401=0,\"\",IF((VLOOKUP(A401,'plan gier'!$Z:$AH,7,FALSE))=\"\",\"\",VLOOKUP(A401,'plan gier'!$Z:$AH,9,FALSE)))","v":""},null,null,null,{"$f":"IF(A401=0,\"\",IF(VLOOKUP(A401,'plan gier'!A:T,20,FALSE)=\"\",\"\",VLOOKUP(A401,'plan gier'!A:T,20,FALSE)))","v":""},{"$f":"N396","v":0},null,null,null,"2. z gr. 3",null,null,{"$f":"UPPER(IF(N396=\"\",\"\",IF(TYPE(VLOOKUP(2&3&N396,I:J,2,FALSE))=2,VLOOKUP(2&3&N396,I:J,2,FALSE),\"\")))","v":""},null,{"$f":"IF(T401<>\"\",CONCATENATE(VLOOKUP(T401,zawodnicy!$A:$E,2,FALSE),\" \",VLOOKUP(T401,zawodnicy!$A:$E,3,FALSE),\" - \",VLOOKUP(T401,zawodnicy!$A:$E,4,FALSE)),\"\")","v":""},null,{"$f":"IF(ISBLANK(W401),IF(AND(LEN(T401)>0,LEN(T402)=0),VLOOKUP(T401,zawodnicy!$A:$E,3,FALSE),IF(AND(LEN(T402)>0,LEN(T401)=0),VLOOKUP(T402,zawodnicy!$A:$E,3,FALSE),\"\")),IF((VLOOKUP(W401,'plan gier'!$Z:$AH,7,FALSE))=\"\",\"\",VLOOKUP(VLOOKUP(W401,'plan gier'!$Z:$AH,7,FALSE),zawodnicy!$A:$E,3,FALSE)))","v":""}]
[null,null,null,null,null,null,null,null,null,null,null,null,null,null,null,null,"2. z gr. 2",null,null,{"$f":"UPPER(IF(N396=\"\",\"\",IF(TYPE(VLOOKUP(2&2&N396,I:J,2,FALSE))=2,VLOOKUP(2&2&N396,I:J,2,FALSE),\"\")))","v":""},null,{"$f":"IF(T402<>\"\",CONCATENATE(VLOOKUP(T402,zawodnicy!$A:$E,2,FALSE),\" \",VLOOKUP(T402,zawodnicy!$A:$E,3,FALSE),\" - \",VLOOKUP(T402,zawodnicy!$A:$E,4,FALSE)),\"\")","v":""},null,{"$f":"IF(ISBLANK(W401),\"\",IF((VLOOKUP(W401,'plan gier'!$Z:$AH,7,FALSE))=\"\",L401,VLOOKUP(W401,'plan gier'!$Z:$AH,9,FALSE)))","v":""}]
[{"$f":"AC403","v":0},{"$f":"F399","v":""},null,{"$f":"F407","v":""},null,{"$f":"IF(A403=0,IF(AND(LEN(B403)>0,LEN(D403)=0),B403,IF(AND(LEN(D403)>0,LEN(B403)=0),D403,\"\")),IF((VLOOKUP(A403,'plan gier'!$Z:$AH,7,FALSE))=\"\",\"\",VLOOKUP(VLOOKUP(A403,'plan gier'!$Z:$AH,7,FALSE),zawodnicy!$A:$E,1,FALSE)))","v":""},null,{"$f":"IF(A403=0,\"\",IF((VLOOKUP(A403,'plan gier'!$Z:$AH,7,FALSE))=\"\",\"\",VLOOKUP(A403,'plan gier'!$Z:$AH,9,FALSE)))","v":""},null,null,null,{"$f":"IF(A403=0,\"\",IF(VLOOKUP(A403,'plan gier'!A:T,20,FALSE)=\"\",\"\",VLOOKUP(A403,'plan gier'!A:T,20,FALSE)))","v":""},{"$f":"N396","v":0},null,null,null,null,null,null,null,null,null,null,null,null,null,null,null,null,{"$f":"IF(ISBLANK(AC403),IF(AND(LEN(AA399)>0,LEN(AA407)=0),AA399,IF(AND(LEN(AA407)>0,LEN(AA399)=0),AA407,\"\")),IF((VLOOKUP(AC403,'plan gier'!$Z:$AH,7,FALSE))=\"\",\"\",VLOOKUP(VLOOKUP(AC403,'plan gier'!$Z:$AH,7,FALSE),zawodnicy!$A:$E,3,FALSE)))","v":""}]
[null,null,null,null,null,null,null,null,null,null,null,null,null,null,null,null,null,null,null,null,null,null,null,null,null,null,null,null,null,{"$f":"IF(ISBLANK(AC403),\"\",IF((VLOOKUP(AC403,'plan gier'!$Z:$AH,7,FALSE))=\"\",L403,VLOOKUP(AC403,'plan gier'!$Z:$AH,9,FALSE)))","v":""}]
[{"$f":"W405","v":0},{"$f":"IF(TYPE(T405)=16,\"\",T405)","v":""},null,{"$f":"IF(TYPE(T406)=16,\"\",T406)","v":""},null,{"$f":"IF(A405=0,IF(AND(LEN(B405)>0,LEN(D405)=0),VLOOKUP(B405,zawodnicy!$A:$E,1,FALSE),IF(AND(LEN(D405)>0,LEN(B405)=0),VLOOKUP(D405,zawodnicy!$A:$E,1,FALSE),\"\")),IF((VLOOKUP(A405,'plan gier'!$Z:$AH,7,FALSE))=\"\",\"\",VLOOKUP(VLOOKUP(A405,'plan gier'!$Z:$AH,7,FALSE),zawodnicy!$A:$E,1,FALSE)))","v":""},null,{"$f":"IF(A405=0,\"\",IF((VLOOKUP(A405,'plan gier'!$Z:$AH,7,FALSE))=\"\",\"\",VLOOKUP(A405,'plan gier'!$Z:$AH,9,FALSE)))","v":""},null,null,null,{"$f":"IF(A405=0,\"\",IF(VLOOKUP(A405,'plan gier'!A:T,20,FALSE)=\"\",\"\",VLOOKUP(A405,'plan gier'!A:T,20,FALSE)))","v":""},{"$f":"N396","v":0},null,null,null,"2. z gr. 1",null,null,{"$f":"UPPER(IF(N396=\"\",\"\",IF(TYPE(VLOOKUP(2&1&N396,I:J,2,FALSE))=2,VLOOKUP(2&1&N396,I:J,2,FALSE),\"\")))","v":""},null,{"$f":"IF(T405<>\"\",CONCATENATE(VLOOKUP(T405,zawodnicy!$A:$E,2,FALSE),\" \",VLOOKUP(T405,zawodnicy!$A:$E,3,FALSE),\" - \",VLOOKUP(T405,zawodnicy!$A:$E,4,FALSE)),\"\")","v":""},null,{"$f":"IF(ISBLANK(W405),IF(AND(LEN(T405)>0,LEN(T406)=0),VLOOKUP(T405,zawodnicy!$A:$E,3,FALSE),IF(AND(LEN(T406)>0,LEN(T405)=0),VLOOKUP(T406,zawodnicy!$A:$E,3,FALSE),\"\")),IF((VLOOKUP(W405,'plan gier'!$Z:$AH,7,FALSE))=\"\",\"\",VLOOKUP(VLOOKUP(W405,'plan gier'!$Z:$AH,7,FALSE),zawodnicy!$A:$E,3,FALSE)))","v":""}]
[null,null,null,null,null,null,null,null,null,null,null,null,null,null,null,null,"1. z gr. 2",null,null,{"$f":"UPPER(IF(N396=\"\",\"\",IF(TYPE(VLOOKUP(1&2&N396,I:J,2,FALSE))=2,VLOOKUP(1&2&N396,I:J,2,FALSE),\"\")))","v":""},null,{"$f":"IF(T406<>\"\",CONCATENATE(VLOOKUP(T406,zawodnicy!$A:$E,2,FALSE),\" \",VLOOKUP(T406,zawodnicy!$A:$E,3,FALSE),\" - \",VLOOKUP(T406,zawodnicy!$A:$E,4,FALSE)),\"\")","v":""},null,{"$f":"IF(ISBLANK(W405),\"\",IF((VLOOKUP(W405,'plan gier'!$Z:$AH,7,FALSE))=\"\",L405,VLOOKUP(W405,'plan gier'!$Z:$AH,9,FALSE)))","v":""}]
[{"$f":"Z407","v":0},{"$f":"F405","v":""},null,{"$f":"F409","v":""},null,{"$f":"IF(A407=0,IF(AND(LEN(B407)>0,LEN(D407)=0),B407,IF(AND(LEN(D407)>0,LEN(B407)=0),D407,\"\")),IF((VLOOKUP(A407,'plan gier'!$Z:$AH,7,FALSE))=\"\",\"\",VLOOKUP(VLOOKUP(A407,'plan gier'!$Z:$AH,7,FALSE),zawodnicy!$A:$E,1,FALSE)))","v":""},null,{"$f":"IF(A407=0,\"\",IF((VLOOKUP(A407,'plan gier'!$Z:$AH,7,FALSE))=\"\",\"\",VLOOKUP(A407,'plan gier'!$Z:$AH,9,FALSE)))","v":""},null,null,null,{"$f":"IF(A407=0,\"\",IF(VLOOKUP(A407,'plan gier'!A:T,20,FALSE)=\"\",\"\",VLOOKUP(A407,'plan gier'!A:T,20,FALSE)))","v":""},{"$f":"N396","v":0},null,null,null,null,null,null,null,null,null,null,null,null,null,{"$f":"IF(ISBLANK(Z407),IF(AND(LEN(X405)>0,LEN(X409)=0),X405,IF(AND(LEN(X409)>0,LEN(X405)=0),X409,\"\")),IF((VLOOKUP(Z407,'plan gier'!$Z:$AH,7,FALSE))=\"\",\"\",VLOOKUP(VLOOKUP(Z407,'plan gier'!$Z:$AH,7,FALSE),zawodnicy!$A:$E,3,FALSE)))","v":""}]
[null,null,null,null,null,null,null,null,null,null,null,null,null,null,null,null,null,null,null,null,null,null,null,null,null,null,{"$f":"IF(ISBLANK(Z407),\"\",IF((VLOOKUP(Z407,'plan gier'!$Z:$AH,7,FALSE))=\"\",L407,VLOOKUP(Z407,'plan gier'!$Z:$AH,9,FALSE)))","v":""}]
[{"$f":"W409","v":0},{"$f":"IF(TYPE(T409)=16,\"\",T409)","v":""},null,null,null,{"$f":"IF(A409=0,IF(AND(LEN(B409)>0,LEN(D409)=0),VLOOKUP(B409,zawodnicy!$A:$E,1,FALSE),IF(AND(LEN(D409)>0,LEN(B409)=0),VLOOKUP(D409,zawodnicy!$A:$E,1,FALSE),\"\")),IF((VLOOKUP(A409,'plan gier'!$Z:$AH,7,FALSE))=\"\",\"\",VLOOKUP(VLOOKUP(A409,'plan gier'!$Z:$AH,7,FALSE),zawodnicy!$A:$E,1,FALSE)))","v":""},null,{"$f":"IF(A409=0,\"\",IF((VLOOKUP(A409,'plan gier'!$Z:$AH,7,FALSE))=\"\",\"\",VLOOKUP(A409,'plan gier'!$Z:$AH,9,FALSE)))","v":""},null,null,null,{"$f":"IF(A409=0,\"\",IF(VLOOKUP(A409,'plan gier'!A:T,20,FALSE)=\"\",\"\",VLOOKUP(A409,'plan gier'!A:T,20,FALSE)))","v":""},{"$f":"N396","v":0},null,null,null,"1. z gr. 3",null,null,{"$f":"UPPER(IF(N396=\"\",\"\",IF(TYPE(VLOOKUP(1&3&N396,I:J,2,FALSE))=2,VLOOKUP(1&3&N396,I:J,2,FALSE),\"\")))","v":""},null,{"$f":"IF(T409<>\"\",CONCATENATE(VLOOKUP(T409,zawodnicy!$A:$E,2,FALSE),\" \",VLOOKUP(T409,zawodnicy!$A:$E,3,FALSE),\" - \",VLOOKUP(T409,zawodnicy!$A:$E,4,FALSE)),\"\")","v":""},null,{"$f":"IF(ISBLANK(W409),IF(AND(LEN(T409)>0,LEN(T410)=0),VLOOKUP(T409,zawodnicy!$A:$E,3,FALSE),IF(AND(LEN(T410)>0,LEN(T409)=0),VLOOKUP(T410,zawodnicy!$A:$E,3,FALSE),\"\")),IF((VLOOKUP(W409,'plan gier'!$Z:$AH,7,FALSE))=\"\",\"\",VLOOKUP(VLOOKUP(W409,'plan gier'!$Z:$AH,7,FALSE),zawodnicy!$A:$E,3,FALSE)))","v":""}]
[]
[]
[]
[null,null,null,null,null,null,null,null,null,null,null,null,null,null,null,null,"Drabinka pucharowa pośredniego systemu grupowo-pucharowego dla 2 grup"]
[]
[null,null,null,null,null,null,null,null,null,null,null,null,null,null,null,null,null,null,null,"3-4.",null,null,null,"2.",null,null,"1."]
[]
[{"$f":"W417","v":0},{"$f":"IF(TYPE(T417)=16,\"\",T417)","v":""},null,{"$f":"IF(TYPE(T418)=16,\"\",T418)","v":""},null,{"$f":"IF(A417=0,IF(AND(LEN(B417)>0,LEN(D417)=0),VLOOKUP(B417,zawodnicy!$A:$E,1,FALSE),IF(AND(LEN(D417)>0,LEN(B417)=0),VLOOKUP(D417,zawodnicy!$A:$E,1,FALSE),\"\")),IF((VLOOKUP(A417,'plan gier'!$Z:$AH,7,FALSE))=\"\",\"\",VLOOKUP(VLOOKUP(A417,'plan gier'!$Z:$AH,7,FALSE),zawodnicy!$A:$E,1,FALSE)))","v":""},null,{"$f":"IF(A417=0,\"\",IF((VLOOKUP(A417,'plan gier'!$Z:$AH,7,FALSE))=\"\",\"\",VLOOKUP(A417,'plan gier'!$Z:$AH,9,FALSE)))","v":""},null,null,null,{"$f":"IF(A417=0,\"\",IF(VLOOKUP(A417,'plan gier'!A:T,20,FALSE)=\"\",\"\",VLOOKUP(A417,'plan gier'!A:T,20,FALSE)))","v":""},{"$f":"N416","v":0},null,null,null,"1. z gr. 1",null,null,{"$f":"UPPER(IF((N416=\"\"),\"\",IF(TYPE(VLOOKUP(1&1&N416,I:J,2,FALSE))=2,VLOOKUP(1&1&N416,I:J,2,FALSE),\"\")))","v":""},null,{"$f":"IF(T417<>\"\",CONCATENATE(VLOOKUP(T417,zawodnicy!$A:$E,2,FALSE),\" \",VLOOKUP(T417,zawodnicy!$A:$E,3,FALSE),\" - \",VLOOKUP(T417,zawodnicy!$A:$E,4,FALSE)),\"\")","v":""},null,{"$f":"IF(ISBLANK(W417),IF(AND(LEN(T417)>0,LEN(T418)=0),VLOOKUP(T417,zawodnicy!$A:$E,3,FALSE),IF(AND(LEN(T418)>0,LEN(T417)=0),VLOOKUP(T418,zawodnicy!$A:$E,3,FALSE),\"\")),IF((VLOOKUP(W417,'plan gier'!$Z:$AH,7,FALSE))=\"\",\"\",VLOOKUP(VLOOKUP(W417,'plan gier'!$Z:$AH,7,FALSE),zawodnicy!$A:$E,3,FALSE)))","v":""}]
[null,null,null,null,null,null,null,null,null,null,null,null,null,null,null,null,"2. z gr. 2",null,null,{"$f":"UPPER(IF(N416=\"\",\"\",IF(TYPE(VLOOKUP(2&2&N416,I:J,2,FALSE))=2,VLOOKUP(2&2&N416,I:J,2,FALSE),\"\")))","v":""},null,{"$f":"IF(T418<>\"\",CONCATENATE(VLOOKUP(T418,zawodnicy!$A:$E,2,FALSE),\" \",VLOOKUP(T418,zawodnicy!$A:$E,3,FALSE),\" - \",VLOOKUP(T418,zawodnicy!$A:$E,4,FALSE)),\"\")","v":""},null,{"$f":"IF(ISBLANK(W417),\"\",IF((VLOOKUP(W417,'plan gier'!$Z:$AH,7,FALSE))=\"\",L417,VLOOKUP(W417,'plan gier'!$Z:$AH,9,FALSE)))","v":""}]
[{"$f":"Z419","v":0},{"$f":"F417","v":""},null,{"$f":"F421","v":""},null,{"$f":"IF(A419=0,IF(AND(LEN(B419)>0,LEN(D419)=0),B419,IF(AND(LEN(D419)>0,LEN(B419)=0),D419,\"\")),IF((VLOOKUP(A419,'plan gier'!$Z:$AH,7,FALSE))=\"\",\"\",VLOOKUP(VLOOKUP(A419,'plan gier'!$Z:$AH,7,FALSE),zawodnicy!$A:$E,1,FALSE)))","v":""},null,{"$f":"IF(A419=0,\"\",IF((VLOOKUP(A419,'plan gier'!$Z:$AH,7,FALSE))=\"\",\"\",VLOOKUP(A419,'plan gier'!$Z:$AH,9,FALSE)))","v":""},null,null,null,{"$f":"IF(A419=0,\"\",IF(VLOOKUP(A419,'plan gier'!A:T,20,FALSE)=\"\",\"\",VLOOKUP(A419,'plan gier'!A:T,20,FALSE)))","v":""},{"$f":"N416","v":0},null,null,null,null,null,null,null,null,null,null,null,null,null,{"$f":"IF(ISBLANK(Z419),IF(AND(LEN(X417)>0,LEN(X421)=0),X417,IF(AND(LEN(X421)>0,LEN(X417)=0),X421,\"\")),IF((VLOOKUP(Z419,'plan gier'!$Z:$AH,7,FALSE))=\"\",\"\",VLOOKUP(VLOOKUP(Z419,'plan gier'!$Z:$AH,7,FALSE),zawodnicy!$A:$E,3,FALSE)))","v":""}]
[null,null,null,null,null,null,null,null,null,null,null,null,null,null,null,null,null,null,null,null,null,null,null,null,null,null,{"$f":"IF(ISBLANK(Z419),\"\",IF((VLOOKUP(Z419,'plan gier'!$Z:$AH,7,FALSE))=\"\",L419,VLOOKUP(Z419,'plan gier'!$Z:$AH,9,FALSE)))","v":""}]
[{"$f":"W421","v":0},{"$f":"IF(TYPE(T421)=16,\"\",T421)","v":""},null,{"$f":"IF(TYPE(T422)=16,\"\",T422)","v":""},null,{"$f":"IF(A421=0,IF(AND(LEN(B421)>0,LEN(D421)=0),VLOOKUP(B421,zawodnicy!$A:$E,1,FALSE),IF(AND(LEN(D421)>0,LEN(B421)=0),VLOOKUP(D421,zawodnicy!$A:$E,1,FALSE),\"\")),IF((VLOOKUP(A421,'plan gier'!$Z:$AH,7,FALSE))=\"\",\"\",VLOOKUP(VLOOKUP(A421,'plan gier'!$Z:$AH,7,FALSE),zawodnicy!$A:$E,1,FALSE)))","v":""},null,{"$f":"IF(A421=0,\"\",IF((VLOOKUP(A421,'plan gier'!$Z:$AH,7,FALSE))=\"\",\"\",VLOOKUP(A421,'plan gier'!$Z:$AH,9,FALSE)))","v":""},null,null,null,{"$f":"IF(A421=0,\"\",IF(VLOOKUP(A421,'plan gier'!A:T,20,FALSE)=\"\",\"\",VLOOKUP(A421,'plan gier'!A:T,20,FALSE)))","v":""},{"$f":"N416","v":0},null,null,null,"2. z gr. 1",null,null,{"$f":"UPPER(IF(N416=\"\",\"\",IF(TYPE(VLOOKUP(2&1&N416,I:J,2,FALSE))=2,VLOOKUP(2&1&N416,I:J,2,FALSE),\"\")))","v":""},null,{"$f":"IF(T421<>\"\",CONCATENATE(VLOOKUP(T421,zawodnicy!$A:$E,2,FALSE),\" \",VLOOKUP(T421,zawodnicy!$A:$E,3,FALSE),\" - \",VLOOKUP(T421,zawodnicy!$A:$E,4,FALSE)),\"\")","v":""},null,{"$f":"IF(ISBLANK(W421),IF(AND(LEN(T421)>0,LEN(T422)=0),VLOOKUP(T421,zawodnicy!$A:$E,3,FALSE),IF(AND(LEN(T422)>0,LEN(T421)=0),VLOOKUP(T422,zawodnicy!$A:$E,3,FALSE),\"\")),IF((VLOOKUP(W421,'plan gier'!$Z:$AH,7,FALSE))=\"\",\"\",VLOOKUP(VLOOKUP(W421,'plan gier'!$Z:$AH,7,FALSE),zawodnicy!$A:$E,3,FALSE)))","v":""}]
[null,null,null,null,null,null,null,null,null,null,null,null,null,null,null,null,"1. z gr. 2",null,null,{"$f":"UPPER(IF(N416=\"\",\"\",IF(TYPE(VLOOKUP(1&2&N416,I:J,2,FALSE))=2,VLOOKUP(1&2&N416,I:J,2,FALSE),\"\")))","v":""},null,{"$f":"IF(T422<>\"\",CONCATENATE(VLOOKUP(T422,zawodnicy!$A:$E,2,FALSE),\" \",VLOOKUP(T422,zawodnicy!$A:$E,3,FALSE),\" - \",VLOOKUP(T422,zawodnicy!$A:$E,4,FALSE)),\"\")","v":""},null,{"$f":"IF(ISBLANK(W421),\"\",IF((VLOOKUP(W421,'plan gier'!$Z:$AH,7,FALSE))=\"\",L421,VLOOKUP(W421,'plan gier'!$Z:$AH,9,FALSE)))","v":""}]
[]
[]
[null,null,null,null,null,null,null,null,null,null,null,null,null,null,null,null,"Drabinka pucharowa pośredniego systemu grupowo-pucharowego dla 8 grup"]
[]
[null,null,null,null,null,null,null,null,null,null,null,null,null,null,null,null,null,null,null,"9-16.",null,null,null,"5-8.",null,null,"3-4.",null,null,"2."]
[]
[null,null,null,null,null,null,null,null,null,null,null,null,null,null,null,{"$f":"IF(O427>8,1,\"\")","v":""},"1. z gr. 1",null,null,{"$f":"UPPER(IF(N428=\"\",\"\",IF(TYPE(VLOOKUP(1&1&N428,I:K,2,FALSE))=2,VLOOKUP(1&1&N428,I:K,2,FALSE),\"\")))","v":""},null,{"$f":"IF(T429<>\"\",CONCATENATE(VLOOKUP(T429,zawodnicy!$A:$E,2,FALSE),\" \",VLOOKUP(T429,zawodnicy!$A:$E,3,FALSE),\" - \",VLOOKUP(T429,zawodnicy!$A:$E,4,FALSE)),\"\")","v":""},null,{"$f":"IF(F430=\"\",\"\",VLOOKUP(F430,zawodnicy!$A:$D,3,FALSE))","v":""}]
[{"$f":"W430","v":0},{"$f":"IF(TYPE(T429)=16,\"\",T429)","v":""},{"$f":"IF(TYPE(T430)=16,\"\",T430)","v":""},{"$f":"IF(TYPE(T431)=16,\"\",T431)","v":""},{"$f":"IF(TYPE(T432)=16,\"\",T432)","v":""},{"$f":"IF(A430=0,IF(AND(LEN(B430)>1,LEN(D430)=0),VLOOKUP(B430,zawodnicy!$A:$E,1,FALSE),IF(AND(LEN(D430)>1,LEN(B430)=0),VLOOKUP(D430,zawodnicy!$A:$E,1,FALSE),\"\")),IF((VLOOKUP(A430,'plan gier'!$Z:$AH,7,FALSE))=\"\",\"\",VLOOKUP(VLOOKUP(A430,'plan gier'!$Z:$AH,7,FALSE),zawodnicy!$A:$E,1,FALSE)))","v":""},{"$f":"IF(A430=0,IF(AND(LEN(C430)>1,LEN(E430)=0),VLOOKUP(C430,zawodnicy!$A:$E,1,FALSE),IF(AND(LEN(E430)>1,LEN(C430)=0),VLOOKUP(E430,zawodnicy!$A:$E,1,FALSE),\"\")),IF((VLOOKUP(A430,'plan gier'!$Z:$AH,8,FALSE))=\"\",\"\",VLOOKUP(VLOOKUP(A430,'plan gier'!$Z:$AH,8,FALSE),zawodnicy!$A:$E,1,FALSE)))","v":""},{"$f":"IF(A430=0,\"\",IF((VLOOKUP(A430,'plan gier'!$Z:$AH,7,FALSE))=\"\",\"\",VLOOKUP(A430,'plan gier'!$Z:$AH,9,FALSE)))","v":""},null,null,null,{"$f":"IF(A430=0,\"\",IF(VLOOKUP(A430,'plan gier'!A:T,20,FALSE)=\"\",\"\",VLOOKUP(A430,'plan gier'!A:T,20,FALSE)))","v":""},{"$f":"N428","v":0},null,null,null,null,null,null,{"$f":"UPPER(IF(N428=\"\",\"\",IF(TYPE(VLOOKUP(1&1&N428,I:K,3,FALSE))=2,VLOOKUP(1&1&N428,I:K,3,FALSE),\"\")))","v":""},null,{"$f":"IF(T430<>\"\",CONCATENATE(VLOOKUP(T430,zawodnicy!$A:$E,2,FALSE),\" \",VLOOKUP(T430,zawodnicy!$A:$E,3,FALSE),\" - \",VLOOKUP(T430,zawodnicy!$A:$E,4,FALSE)),\"\")","v":""},null,{"$f":"IF(G430=\"\",\"\",VLOOKUP(G430,zawodnicy!$A:$D,3,FALSE))","v":""}]
[null,null,null,null,null,null,null,null,null,null,null,null,null,null,null,{"$f":"IF(O427>15,3,\"\")","v":""},"2. z gr. 8",null,null,{"$f":"UPPER(IF(N428=\"\",\"\",IF(TYPE(VLOOKUP(2&8&N428,I:K,2,FALSE))=2,VLOOKUP(2&8&N428,I:K,2,FALSE),\"\")))","v":""},null,{"$f":"IF(T431<>\"\",CONCATENATE(VLOOKUP(T431,zawodnicy!$A:$E,2,FALSE),\" \",VLOOKUP(T431,zawodnicy!$A:$E,3,FALSE),\" - \",VLOOKUP(T431,zawodnicy!$A:$E,4,FALSE)),\"\")","v":""},null,{"$f":"IF(H430=\"\",L430,H430)","v":""},null,null,{"$f":"IF(F432=\"\",\"\",VLOOKUP(F432,zawodnicy!$A:$E,3,FALSE))","v":""}]
[{"$f":"Z432","v":0},{"$f":"F430","v":""},{"$f":"G430","v":""},{"$f":"F434","v":""},{"$f":"G434","v":""},{"$f":"IF(A432=0,IF(AND(LEN(B432)>0,LEN(D432)=0),B432,IF(AND(LEN(D432)>0,LEN(B432)=0),D432,\"\")),IF((VLOOKUP(A432,'plan gier'!$Z:$AH,7,FALSE))=\"\",\"\",VLOOKUP(VLOOKUP(A432,'plan gier'!$Z:$AH,7,FALSE),zawodnicy!$A:$E,1,FALSE)))","v":""},{"$f":"IF(A432=0,IF(AND(LEN(C432)>0,LEN(E432)=0),C432,IF(AND(LEN(E432)>0,LEN(C432)=0),E432,\"\")),IF((VLOOKUP(A432,'plan gier'!$Z:$AH,8,FALSE))=\"\",\"\",VLOOKUP(VLOOKUP(A432,'plan gier'!$Z:$AH,8,FALSE),zawodnicy!$A:$E,1,FALSE)))","v":""},{"$f":"IF(A432=0,\"\",IF((VLOOKUP(A432,'plan gier'!$Z:$AH,7,FALSE))=\"\",\"\",VLOOKUP(A432,'plan gier'!$Z:$AH,9,FALSE)))","v":""},null,null,null,{"$f":"IF(A432=0,\"\",IF(VLOOKUP(A432,'plan gier'!A:T,20,FALSE)=\"\",\"\",VLOOKUP(A432,'plan gier'!A:T,20,FALSE)))","v":""},{"$f":"N428","v":0},null,null,null,null,null,null,{"$f":"UPPER(IF(N428=\"\",\"\",IF(TYPE(VLOOKUP(2&8&N428,I:K,3,FALSE))=2,VLOOKUP(2&8&N428,I:K,3,FALSE),\"\")))","v":""},null,{"$f":"IF(T432<>\"\",CONCATENATE(VLOOKUP(T432,zawodnicy!$A:$E,2,FALSE),\" \",VLOOKUP(T432,zawodnicy!$A:$E,3,FALSE),\" - \",VLOOKUP(T432,zawodnicy!$A:$E,4,FALSE)),\"\")","v":""},null,null,null,null,{"$f":"IF(G432=\"\",\"\",VLOOKUP(G432,zawodnicy!$A:$E,3,FALSE))","v":""}]
[null,null,null,null,null,null,null,null,null,null,null,null,null,null,null,{"$f":"IF(O427>8,5,\"\")","v":""},"1. z gr. 2",null,null,{"$f":"UPPER(IF(N428=\"\",\"\",IF(TYPE(VLOOKUP(1&2&N428,I:K,2,FALSE))=2,VLOOKUP(1&2&N428,I:K,2,FALSE),\"\")))","v":""},null,{"$f":"IF(T433<>\"\",CONCATENATE(VLOOKUP(T433,zawodnicy!$A:$E,2,FALSE),\" \",VLOOKUP(T433,zawodnicy!$A:$E,3,FALSE),\" - \",VLOOKUP(T433,zawodnicy!$A:$E,4,FALSE)),\"\")","v":""},null,{"$f":"IF(F434=\"\",\"\",VLOOKUP(F434,zawodnicy!$A:$D,3,FALSE))","v":""},null,null,{"$f":"IF(ISBLANK(Z432),\"\",IF((VLOOKUP(Z432,'plan gier'!$Z:$AH,7,FALSE))=\"\",L432,VLOOKUP(Z432,'plan gier'!$Z:$AH,9,FALSE)))","v":""}]
[{"$f":"W434","v":0},{"$f":"IF(TYPE(T433)=16,\"\",T433)","v":""},{"$f":"IF(TYPE(T434)=16,\"\",T434)","v":""},{"$f":"IF(TYPE(T435)=16,\"\",T435)","v":""},{"$f":"IF(TYPE(T436)=16,\"\",T436)","v":""},{"$f":"IF(A434=0,IF(AND(LEN(B434)>1,LEN(D434)=0),VLOOKUP(B434,zawodnicy!$A:$E,1,FALSE),IF(AND(LEN(D434)>1,LEN(B434)=0),VLOOKUP(D434,zawodnicy!$A:$E,1,FALSE),\"\")),IF((VLOOKUP(A434,'plan gier'!$Z:$AH,7,FALSE))=\"\",\"\",VLOOKUP(VLOOKUP(A434,'plan gier'!$Z:$AH,7,FALSE),zawodnicy!$A:$E,1,FALSE)))","v":""},{"$f":"IF(A434=0,IF(AND(LEN(C434)>1,LEN(E434)=0),VLOOKUP(C434,zawodnicy!$A:$E,1,FALSE),IF(AND(LEN(E434)>1,LEN(C434)=0),VLOOKUP(E434,zawodnicy!$A:$E,1,FALSE),\"\")),IF((VLOOKUP(A434,'plan gier'!$Z:$AH,8,FALSE))=\"\",\"\",VLOOKUP(VLOOKUP(A434,'plan gier'!$Z:$AH,8,FALSE),zawodnicy!$A:$E,1,FALSE)))","v":""},{"$f":"IF(A434=0,\"\",IF((VLOOKUP(A434,'plan gier'!$Z:$AH,7,FALSE))=\"\",\"\",VLOOKUP(A434,'plan gier'!$Z:$AH,9,FALSE)))","v":""},null,null,null,{"$f":"IF(A434=0,\"\",IF(VLOOKUP(A434,'plan gier'!A:T,20,FALSE)=\"\",\"\",VLOOKUP(A434,'plan gier'!A:T,20,FALSE)))","v":""},{"$f":"N428","v":0},null,null,null,null,null,null,{"$f":"UPPER(IF(N428=\"\",\"\",IF(TYPE(VLOOKUP(1&2&N428,I:K,3,FALSE))=2,VLOOKUP(1&2&N428,I:K,3,FALSE),\"\")))","v":""},null,{"$f":"IF(T434<>\"\",CONCATENATE(VLOOKUP(T434,zawodnicy!$A:$E,2,FALSE),\" \",VLOOKUP(T434,zawodnicy!$A:$E,3,FALSE),\" - \",VLOOKUP(T434,zawodnicy!$A:$E,4,FALSE)),\"\")","v":""},null,{"$f":"IF(G434=\"\",\"\",VLOOKUP(G434,zawodnicy!$A:$D,3,FALSE))","v":""}]
[null,null,null,null,null,null,null,null,null,null,null,null,null,null,null,{"$f":"IF(O427>11,7,\"\")","v":""},"2. z gr. 7",null,null,{"$f":"UPPER(IF(N428=\"\",\"\",IF(TYPE(VLOOKUP(2&7&N428,I:K,2,FALSE))=2,VLOOKUP(2&7&N428,I:K,2,FALSE),\"\")))","v":""},null,{"$f":"IF(T435<>\"\",CONCATENATE(VLOOKUP(T435,zawodnicy!$A:$E,2,FALSE),\" \",VLOOKUP(T435,zawodnicy!$A:$E,3,FALSE),\" - \",VLOOKUP(T435,zawodnicy!$A:$E,4,FALSE)),\"\")","v":""},null,{"$f":"IF(ISBLANK(W434),\"\",IF((VLOOKUP(W434,'plan gier'!$Z:$AH,7,FALSE))=\"\",L434,VLOOKUP(W434,'plan gier'!$Z:$AH,9,FALSE)))","v":""},null,null,null,null,null,{"$f":"IF(F436=\"\",\"\",VLOOKUP(F436,zawodnicy!$A:$E,3,FALSE))","v":""}]
[{"$f":"AC436","v":0},{"$f":"F432","v":""},{"$f":"G432","v":""},{"$f":"F440","v":""},{"$f":"G440","v":""},{"$f":"IF(A436=0,IF(AND(LEN(B436)>0,LEN(D436)=0),B436,IF(AND(LEN(D436)>0,LEN(B436)=0),D436,\"\")),IF((VLOOKUP(A436,'plan gier'!$Z:$AH,7,FALSE))=\"\",\"\",VLOOKUP(VLOOKUP(A436,'plan gier'!$Z:$AH,7,FALSE),zawodnicy!$A:$E,1,FALSE)))","v":""},{"$f":"IF(A436=0,IF(AND(LEN(C436)>0,LEN(E436)=0),C436,IF(AND(LEN(E436)>0,LEN(C436)=0),E436,\"\")),IF((VLOOKUP(A436,'plan gier'!$Z:$AH,8,FALSE))=\"\",\"\",VLOOKUP(VLOOKUP(A436,'plan gier'!$Z:$AH,8,FALSE),zawodnicy!$A:$E,1,FALSE)))","v":""},{"$f":"IF(A436=0,\"\",IF((VLOOKUP(A436,'plan gier'!$Z:$AH,7,FALSE))=\"\",\"\",VLOOKUP(A436,'plan gier'!$Z:$AH,9,FALSE)))","v":""},null,null,null,{"$f":"IF(A436=0,\"\",IF(VLOOKUP(A436,'plan gier'!A:T,20,FALSE)=\"\",\"\",VLOOKUP(A436,'plan gier'!A:T,20,FALSE)))","v":""},{"$f":"N428","v":0},null,null,null,null,null,null,{"$f":"UPPER(IF(N428=\"\",\"\",IF(TYPE(VLOOKUP(2&7&N428,I:K,3,FALSE))=2,VLOOKUP(2&7&N428,I:K,3,FALSE),\"\")))","v":""},null,{"$f":"IF(T436<>\"\",CONCATENATE(VLOOKUP(T436,zawodnicy!$A:$E,2,FALSE),\" \",VLOOKUP(T436,zawodnicy!$A:$E,3,FALSE),\" - \",VLOOKUP(T436,zawodnicy!$A:$E,4,FALSE)),\"\")","v":""},null,null,null,null,null,null,null,{"$f":"IF(G436=\"\",\"\",VLOOKUP(G436,zawodnicy!$A:$E,3,FALSE))","v":""}]
[null,null,null,null,null,null,null,null,null,null,null,null,null,null,null,{"$f":"IF(O427>8,9,\"\")","v":""},"1. z gr. 3",null,null,{"$f":"UPPER(IF(N428=\"\",\"\",IF(TYPE(VLOOKUP(1&3&N428,I:K,2,FALSE))=2,VLOOKUP(1&3&N428,I:K,2,FALSE),\"\")))","v":""},null,{"$f":"IF(T437<>\"\",CONCATENATE(VLOOKUP(T437,zawodnicy!$A:$E,2,FALSE),\" \",VLOOKUP(T437,zawodnicy!$A:$E,3,FALSE),\" - \",VLOOKUP(T437,zawodnicy!$A:$E,4,FALSE)),\"\")","v":""},null,{"$f":"IF(F438=\"\",\"\",VLOOKUP(F438,zawodnicy!$A:$D,3,FALSE))","v":""},null,null,null,null,null,{"$f":"IF(ISBLANK(AC436),\"\",IF((VLOOKUP(AC436,'plan gier'!$Z:$AH,7,FALSE))=\"\",L436,VLOOKUP(AC436,'plan gier'!$Z:$AH,9,FALSE)))","v":""}]
[{"$f":"W438","v":0},{"$f":"IF(TYPE(T437)=16,\"\",T437)","v":""},{"$f":"IF(TYPE(T438)=16,\"\",T438)","v":""},{"$f":"IF(TYPE(T439)=16,\"\",T439)","v":""},{"$f":"IF(TYPE(T440)=16,\"\",T440)","v":""},{"$f":"IF(A438=0,IF(AND(LEN(B438)>1,LEN(D438)=0),VLOOKUP(B438,zawodnicy!$A:$E,1,FALSE),IF(AND(LEN(D438)>1,LEN(B438)=0),VLOOKUP(D438,zawodnicy!$A:$E,1,FALSE),\"\")),IF((VLOOKUP(A438,'plan gier'!$Z:$AH,7,FALSE))=\"\",\"\",VLOOKUP(VLOOKUP(A438,'plan gier'!$Z:$AH,7,FALSE),zawodnicy!$A:$E,1,FALSE)))","v":""},{"$f":"IF(A438=0,IF(AND(LEN(C438)>1,LEN(E438)=0),VLOOKUP(C438,zawodnicy!$A:$E,1,FALSE),IF(AND(LEN(E438)>1,LEN(C438)=0),VLOOKUP(E438,zawodnicy!$A:$E,1,FALSE),\"\")),IF((VLOOKUP(A438,'plan gier'!$Z:$AH,8,FALSE))=\"\",\"\",VLOOKUP(VLOOKUP(A438,'plan gier'!$Z:$AH,8,FALSE),zawodnicy!$A:$E,1,FALSE)))","v":""},{"$f":"IF(A438=0,\"\",IF((VLOOKUP(A438,'plan gier'!$Z:$AH,7,FALSE))=\"\",\"\",VLOOKUP(A438,'plan gier'!$Z:$AH,9,FALSE)))","v":""},null,null,null,{"$f":"IF(A438=0,\"\",IF(VLOOKUP(A438,'plan gier'!A:T,20,FALSE)=\"\",\"\",VLOOKUP(A438,'plan gier'!A:T,20,FALSE)))","v":""},{"$f":"N428","v":0},null,null,null,null,null,null,{"$f":"UPPER(IF(N428=\"\",\"\",IF(TYPE(VLOOKUP(1&3&N428,I:K,3,FALSE))=2,VLOOKUP(1&3&N428,I:K,3,FALSE),\"\")))","v":""},null,{"$f":"IF(T438<>\"\",CONCATENATE(VLOOKUP(T438,zawodnicy!$A:$E,2,FALSE),\" \",VLOOKUP(T438,zawodnicy!$A:$E,3,FALSE),\" - \",VLOOKUP(T438,zawodnicy!$A:$E,4,FALSE)),\"\")","v":""},null,{"$f":"IF(G438=\"\",\"\",VLOOKUP(G438,zawodnicy!$A:$D,3,FALSE))","v":""}]
[null,null,null,null,null,null,null,null,null,null,null,null,null,null,null,{"$f":"IF(O427>13,11,\"\")","v":""},"2. z gr. 6",null,null,{"$f":"UPPER(IF(N428=\"\",\"\",IF(TYPE(VLOOKUP(2&6&N428,I:K,2,FALSE))=2,VLOOKUP(2&6&N428,I:K,2,FALSE),\"\")))","v":""},null,{"$f":"IF(T439<>\"\",CONCATENATE(VLOOKUP(T439,zawodnicy!$A:$E,2,FALSE),\" \",VLOOKUP(T439,zawodnicy!$A:$E,3,FALSE),\" - \",VLOOKUP(T439,zawodnicy!$A:$E,4,FALSE)),\"\")","v":""},null,{"$f":"IF(ISBLANK(W438),\"\",IF((VLOOKUP(W438,'plan gier'!$Z:$AH,7,FALSE))=\"\",L438,VLOOKUP(W438,'plan gier'!$Z:$AH,9,FALSE)))","v":""},null,null,{"$f":"IF(F440=\"\",\"\",VLOOKUP(F440,zawodnicy!$A:$E,3,FALSE))","v":""}]
[{"$f":"Z440","v":0},{"$f":"F438","v":""},{"$f":"G438","v":""},{"$f":"F442","v":""},{"$f":"G442","v":""},{"$f":"IF(A440=0,IF(AND(LEN(B440)>0,LEN(D440)=0),B440,IF(AND(LEN(D440)>0,LEN(B440)=0),D440,\"\")),IF((VLOOKUP(A440,'plan gier'!$Z:$AH,7,FALSE))=\"\",\"\",VLOOKUP(VLOOKUP(A440,'plan gier'!$Z:$AH,7,FALSE),zawodnicy!$A:$E,1,FALSE)))","v":""},{"$f":"IF(A440=0,IF(AND(LEN(C440)>0,LEN(E440)=0),C440,IF(AND(LEN(E440)>0,LEN(C440)=0),E440,\"\")),IF((VLOOKUP(A440,'plan gier'!$Z:$AH,8,FALSE))=\"\",\"\",VLOOKUP(VLOOKUP(A440,'plan gier'!$Z:$AH,8,FALSE),zawodnicy!$A:$E,1,FALSE)))","v":""},{"$f":"IF(A440=0,\"\",IF((VLOOKUP(A440,'plan gier'!$Z:$AH,7,FALSE))=\"\",\"\",VLOOKUP(A440,'plan gier'!$Z:$AH,9,FALSE)))","v":""},null,null,null,{"$f":"IF(A440=0,\"\",IF(VLOOKUP(A440,'plan gier'!A:T,20,FALSE)=\"\",\"\",VLOOKUP(A440,'plan gier'!A:T,20,FALSE)))","v":""},{"$f":"N428","v":0},null,null,null,null,null,null,{"$f":"UPPER(IF(N428=\"\",\"\",IF(TYPE(VLOOKUP(2&6&N428,I:K,3,FALSE))=2,VLOOKUP(2&6&N428,I:K,3,FALSE),\"\")))","v":""},null,{"$f":"IF(T440<>\"\",CONCATENATE(VLOOKUP(T440,zawodnicy!$A:$E,2,FALSE),\" \",VLOOKUP(T440,zawodnicy!$A:$E,3,FALSE),\" - \",VLOOKUP(T440,zawodnicy!$A:$E,4,FALSE)),\"\")","v":""},null,null,null,null,{"$f":"IF(G440=\"\",\"\",VLOOKUP(G440,zawodnicy!$A:$E,3,FALSE))","v":""}]
[null,null,null,null,null,null,null,null,null,null,null,null,null,null,null,{"$f":"IF(O427>8,13,\"\")","v":""},"1. z gr. 4",null,null,{"$f":"UPPER(IF(N428=\"\",\"\",IF(TYPE(VLOOKUP(1&4&N428,I:K,2,FALSE))=2,VLOOKUP(1&4&N428,I:K,2,FALSE),\"\")))","v":""},null,{"$f":"IF(T441<>\"\",CONCATENATE(VLOOKUP(T441,zawodnicy!$A:$E,2,FALSE),\" \",VLOOKUP(T441,zawodnicy!$A:$E,3,FALSE),\" - \",VLOOKUP(T441,zawodnicy!$A:$E,4,FALSE)),\"\")","v":""},null,{"$f":"IF(F442=\"\",\"\",VLOOKUP(F442,zawodnicy!$A:$D,3,FALSE))","v":""},null,null,{"$f":"IF(ISBLANK(Z440),\"\",IF((VLOOKUP(Z440,'plan gier'!$Z:$AH,7,FALSE))=\"\",L440,VLOOKUP(Z440,'plan gier'!$Z:$AH,9,FALSE)))","v":""},null,null,"1."]
[{"$f":"W442","v":0},{"$f":"IF(TYPE(T441)=16,\"\",T441)","v":""},{"$f":"IF(TYPE(T442)=16,\"\",T442)","v":""},{"$f":"IF(TYPE(T443)=16,\"\",T443)","v":""},{"$f":"IF(TYPE(T444)=16,\"\",T444)","v":""},{"$f":"IF(A442=0,IF(AND(LEN(B442)>1,LEN(D442)=0),VLOOKUP(B442,zawodnicy!$A:$E,1,FALSE),IF(AND(LEN(D442)>1,LEN(B442)=0),VLOOKUP(D442,zawodnicy!$A:$E,1,FALSE),\"\")),IF((VLOOKUP(A442,'plan gier'!$Z:$AH,7,FALSE))=\"\",\"\",VLOOKUP(VLOOKUP(A442,'plan gier'!$Z:$AH,7,FALSE),zawodnicy!$A:$E,1,FALSE)))","v":""},{"$f":"IF(A442=0,IF(AND(LEN(C442)>1,LEN(E442)=0),VLOOKUP(C442,zawodnicy!$A:$E,1,FALSE),IF(AND(LEN(E442)>1,LEN(C442)=0),VLOOKUP(E442,zawodnicy!$A:$E,1,FALSE),\"\")),IF((VLOOKUP(A442,'plan gier'!$Z:$AH,8,FALSE))=\"\",\"\",VLOOKUP(VLOOKUP(A442,'plan gier'!$Z:$AH,8,FALSE),zawodnicy!$A:$E,1,FALSE)))","v":""},{"$f":"IF(A442=0,\"\",IF((VLOOKUP(A442,'plan gier'!$Z:$AH,7,FALSE))=\"\",\"\",VLOOKUP(A442,'plan gier'!$Z:$AH,9,FALSE)))","v":""},null,null,null,{"$f":"IF(A442=0,\"\",IF(VLOOKUP(A442,'plan gier'!A:T,20,FALSE)=\"\",\"\",VLOOKUP(A442,'plan gier'!A:T,20,FALSE)))","v":""},{"$f":"N428","v":0},null,null,null,null,null,null,{"$f":"UPPER(IF(N428=\"\",\"\",IF(TYPE(VLOOKUP(1&4&N428,I:K,3,FALSE))=2,VLOOKUP(1&4&N428,I:K,3,FALSE),\"\")))","v":""},null,{"$f":"IF(T442<>\"\",CONCATENATE(VLOOKUP(T442,zawodnicy!$A:$E,2,FALSE),\" \",VLOOKUP(T442,zawodnicy!$A:$E,3,FALSE),\" - \",VLOOKUP(T442,zawodnicy!$A:$E,4,FALSE)),\"\")","v":""},null,{"$f":"IF(G442=\"\",\"\",VLOOKUP(G442,zawodnicy!$A:$D,3,FALSE))","v":""}]
[null,null,null,null,null,null,null,null,null,null,null,null,null,null,null,{"$f":"IF(O427>9,15,\"\")","v":""},"2. z gr. 5",null,null,{"$f":"UPPER(IF(N428=\"\",\"\",IF(TYPE(VLOOKUP(2&5&N428,I:K,2,FALSE))=2,VLOOKUP(2&5&N428,I:K,2,FALSE),\"\")))","v":""},null,{"$f":"IF(T443<>\"\",CONCATENATE(VLOOKUP(T443,zawodnicy!$A:$E,2,FALSE),\" \",VLOOKUP(T443,zawodnicy!$A:$E,3,FALSE),\" - \",VLOOKUP(T443,zawodnicy!$A:$E,4,FALSE)),\"\")","v":""},null,{"$f":"IF(ISBLANK(W442),\"\",IF((VLOOKUP(W442,'plan gier'!$Z:$AH,7,FALSE))=\"\",L442,VLOOKUP(W442,'plan gier'!$Z:$AH,9,FALSE)))","v":""},null,null,null,null,null,{"$f":"IF(F444=\"\",\"\",VLOOKUP(F444,zawodnicy!$A:$E,3,FALSE))","v":""}]
[{"$f":"AC444","v":0},{"$f":"F436","v":""},{"$f":"G436","v":""},{"$f":"F452","v":""},{"$f":"G452","v":""},{"$f":"IF(A444=0,IF(AND(LEN(B444)>0,LEN(D444)=0),B444,IF(AND(LEN(D444)>0,LEN(B444)=0),D444,\"\")),IF((VLOOKUP(A444,'plan gier'!$Z:$AH,7,FALSE))=\"\",\"\",VLOOKUP(VLOOKUP(A444,'plan gier'!$Z:$AH,7,FALSE),zawodnicy!$A:$E,1,FALSE)))","v":""},{"$f":"IF(A444=0,IF(AND(LEN(C444)>0,LEN(E444)=0),C444,IF(AND(LEN(E444)>0,LEN(C444)=0),E444,\"\")),IF((VLOOKUP(A444,'plan gier'!$Z:$AH,8,FALSE))=\"\",\"\",VLOOKUP(VLOOKUP(A444,'plan gier'!$Z:$AH,8,FALSE),zawodnicy!$A:$E,1,FALSE)))","v":""},{"$f":"IF(A444=0,\"\",IF((VLOOKUP(A444,'plan gier'!$Z:$AH,7,FALSE))=\"\",\"\",VLOOKUP(A444,'plan gier'!$Z:$AH,9,FALSE)))","v":""},null,null,null,{"$f":"IF(A444=0,\"\",IF(VLOOKUP(A444,'plan gier'!A:T,20,FALSE)=\"\",\"\",VLOOKUP(A444,'plan gier'!A:T,20,FALSE)))","v":""},{"$f":"N428","v":0},null,null,null,null,null,null,{"$f":"UPPER(IF(N428=\"\",\"\",IF(TYPE(VLOOKUP(2&5&N428,I:K,3,FALSE))=2,VLOOKUP(2&5&N428,I:K,3,FALSE),\"\")))","v":""},null,{"$f":"IF(T444<>\"\",CONCATENATE(VLOOKUP(T444,zawodnicy!$A:$E,2,FALSE),\" \",VLOOKUP(T444,zawodnicy!$A:$E,3,FALSE),\" - \",VLOOKUP(T444,zawodnicy!$A:$E,4,FALSE)),\"\")","v":""},null,null,null,null,null,null,null,{"$f":"IF(G444=\"\",\"\",VLOOKUP(G444,zawodnicy!$A:$E,3,FALSE))","v":""}]
[null,null,null,null,null,null,null,null,null,null,null,null,null,null,null,{"$f":"IF(O427>8,18,\"\")","v":""},"2. z gr. 4",null,null,{"$f":"UPPER(IF(N428=\"\",\"\",IF(TYPE(VLOOKUP(2&4&N428,I:K,2,FALSE))=2,VLOOKUP(2&4&N428,I:K,2,FALSE),\"\")))","v":""},null,{"$f":"IF(T445<>\"\",CONCATENATE(VLOOKUP(T445,zawodnicy!$A:$E,2,FALSE),\" \",VLOOKUP(T445,zawodnicy!$A:$E,3,FALSE),\" - \",VLOOKUP(T445,zawodnicy!$A:$E,4,FALSE)),\"\")","v":""},null,{"$f":"IF(F446=\"\",\"\",VLOOKUP(F446,zawodnicy!$A:$D,3,FALSE))","v":""},null,null,null,null,null,{"$f":"IF(ISBLANK(AC444),\"\",IF((VLOOKUP(AC444,'plan gier'!$Z:$AH,7,FALSE))=\"\",L444,VLOOKUP(AC444,'plan gier'!$Z:$AH,9,FALSE)))","v":""}]
[{"$f":"W446","v":0},{"$f":"IF(TYPE(T445)=16,\"\",T445)","v":""},{"$f":"IF(TYPE(T446)=16,\"\",T446)","v":""},{"$f":"IF(TYPE(T447)=16,\"\",T447)","v":""},{"$f":"IF(TYPE(T448)=16,\"\",T448)","v":""},{"$f":"IF(A446=0,IF(AND(LEN(B446)>1,LEN(D446)=0),VLOOKUP(B446,zawodnicy!$A:$E,1,FALSE),IF(AND(LEN(D446)>1,LEN(B446)=0),VLOOKUP(D446,zawodnicy!$A:$E,1,FALSE),\"\")),IF((VLOOKUP(A446,'plan gier'!$Z:$AH,7,FALSE))=\"\",\"\",VLOOKUP(VLOOKUP(A446,'plan gier'!$Z:$AH,7,FALSE),zawodnicy!$A:$E,1,FALSE)))","v":""},{"$f":"IF(A446=0,IF(AND(LEN(C446)>1,LEN(E446)=0),VLOOKUP(C446,zawodnicy!$A:$E,1,FALSE),IF(AND(LEN(E446)>1,LEN(C446)=0),VLOOKUP(E446,zawodnicy!$A:$E,1,FALSE),\"\")),IF((VLOOKUP(A446,'plan gier'!$Z:$AH,8,FALSE))=\"\",\"\",VLOOKUP(VLOOKUP(A446,'plan gier'!$Z:$AH,8,FALSE),zawodnicy!$A:$E,1,FALSE)))","v":""},{"$f":"IF(A446=0,\"\",IF((VLOOKUP(A446,'plan gier'!$Z:$AH,7,FALSE))=\"\",\"\",VLOOKUP(A446,'plan gier'!$Z:$AH,9,FALSE)))","v":""},null,null,null,{"$f":"IF(A446=0,\"\",IF(VLOOKUP(A446,'plan gier'!A:T,20,FALSE)=\"\",\"\",VLOOKUP(A446,'plan gier'!A:T,20,FALSE)))","v":""},{"$f":"N428","v":0},null,null,null,null,null,null,{"$f":"UPPER(IF(N428=\"\",\"\",IF(TYPE(VLOOKUP(2&4&N428,I:K,3,FALSE))=2,VLOOKUP(2&4&N428,I:K,3,FALSE),\"\")))","v":""},null,{"$f":"IF(T446<>\"\",CONCATENATE(VLOOKUP(T446,zawodnicy!$A:$E,2,FALSE),\" \",VLOOKUP(T446,zawodnicy!$A:$E,3,FALSE),\" - \",VLOOKUP(T446,zawodnicy!$A:$E,4,FALSE)),\"\")","v":""},null,{"$f":"IF(G446=\"\",\"\",VLOOKUP(G446,zawodnicy!$A:$D,3,FALSE))","v":""}]
[null,null,null,null,null,null,null,null,null,null,null,null,null,null,null,{"$f":"IF(O427>8,20,\"\")","v":""},"1. z gr. 5",null,null,{"$f":"UPPER(IF(N428=\"\",\"\",IF(TYPE(VLOOKUP(1&5&N428,I:K,2,FALSE))=2,VLOOKUP(1&5&N428,I:K,2,FALSE),\"\")))","v":""},null,{"$f":"IF(T447<>\"\",CONCATENATE(VLOOKUP(T447,zawodnicy!$A:$E,2,FALSE),\" \",VLOOKUP(T447,zawodnicy!$A:$E,3,FALSE),\" - \",VLOOKUP(T447,zawodnicy!$A:$E,4,FALSE)),\"\")","v":""},null,{"$f":"IF(ISBLANK(W446),\"\",IF((VLOOKUP(W446,'plan gier'!$Z:$AH,7,FALSE))=\"\",L446,VLOOKUP(W446,'plan gier'!$Z:$AH,9,FALSE)))","v":""},null,null,{"$f":"IF(F448=\"\",\"\",VLOOKUP(F448,zawodnicy!$A:$E,3,FALSE))","v":""}]
[{"$f":"Z448","v":0},{"$f":"F446","v":""},{"$f":"G446","v":""},{"$f":"F450","v":""},{"$f":"G450","v":""},{"$f":"IF(A448=0,IF(AND(LEN(B448)>0,LEN(D448)=0),B448,IF(AND(LEN(D448)>0,LEN(B448)=0),D448,\"\")),IF((VLOOKUP(A448,'plan gier'!$Z:$AH,7,FALSE))=\"\",\"\",VLOOKUP(VLOOKUP(A448,'plan gier'!$Z:$AH,7,FALSE),zawodnicy!$A:$E,1,FALSE)))","v":""},{"$f":"IF(A448=0,IF(AND(LEN(C448)>0,LEN(E448)=0),C448,IF(AND(LEN(E448)>0,LEN(C448)=0),E448,\"\")),IF((VLOOKUP(A448,'plan gier'!$Z:$AH,8,FALSE))=\"\",\"\",VLOOKUP(VLOOKUP(A448,'plan gier'!$Z:$AH,8,FALSE),zawodnicy!$A:$E,1,FALSE)))","v":""},{"$f":"IF(A448=0,\"\",IF((VLOOKUP(A448,'plan gier'!$Z:$AH,7,FALSE))=\"\",\"\",VLOOKUP(A448,'plan gier'!$Z:$AH,9,FALSE)))","v":""},null,null,null,{"$f":"IF(A448=0,\"\",IF(VLOOKUP(A448,'plan gier'!A:T,20,FALSE)=\"\",\"\",VLOOKUP(A448,'plan gier'!A:T,20,FALSE)))","v":""},{"$f":"N428","v":0},null,null,null,null,null,null,{"$f":"UPPER(IF(N428=\"\",\"\",IF(TYPE(VLOOKUP(1&5&N428,I:K,3,FALSE))=2,VLOOKUP(1&5&N428,I:K,3,FALSE),\"\")))","v":""},null,{"$f":"IF(T448<>\"\",CONCATENATE(VLOOKUP(T448,zawodnicy!$A:$E,2,FALSE),\" \",VLOOKUP(T448,zawodnicy!$A:$E,3,FALSE),\" - \",VLOOKUP(T448,zawodnicy!$A:$E,4,FALSE)),\"\")","v":""},null,null,null,null,{"$f":"IF(G448=\"\",\"\",VLOOKUP(G448,zawodnicy!$A:$E,3,FALSE))","v":""}]
[null,null,null,null,null,null,null,null,null,null,null,null,null,null,null,{"$f":"IF(O427>12,22,\"\")","v":""},"2. z gr. 3",null,null,{"$f":"UPPER(IF(N428=\"\",\"\",IF(TYPE(VLOOKUP(2&3&N428,I:K,2,FALSE))=2,VLOOKUP(2&3&N428,I:K,2,FALSE),\"\")))","v":""},null,{"$f":"IF(T449<>\"\",CONCATENATE(VLOOKUP(T449,zawodnicy!$A:$E,2,FALSE),\" \",VLOOKUP(T449,zawodnicy!$A:$E,3,FALSE),\" - \",VLOOKUP(T449,zawodnicy!$A:$E,4,FALSE)),\"\")","v":""},null,{"$f":"IF(F450=\"\",\"\",VLOOKUP(F450,zawodnicy!$A:$D,3,FALSE))","v":""},null,null,{"$f":"IF(ISBLANK(Z448),\"\",IF((VLOOKUP(Z448,'plan gier'!$Z:$AH,7,FALSE))=\"\",L448,VLOOKUP(Z448,'plan gier'!$Z:$AH,9,FALSE)))","v":""}]
[{"$f":"W450","v":0},{"$f":"IF(TYPE(T449)=16,\"\",T449)","v":""},{"$f":"IF(TYPE(T450)=16,\"\",T450)","v":""},{"$f":"IF(TYPE(T451)=16,\"\",T451)","v":""},{"$f":"IF(TYPE(T452)=16,\"\",T452)","v":""},{"$f":"IF(A450=0,IF(AND(LEN(B450)>1,LEN(D450)=0),VLOOKUP(B450,zawodnicy!$A:$E,1,FALSE),IF(AND(LEN(D450)>1,LEN(B450)=0),VLOOKUP(D450,zawodnicy!$A:$E,1,FALSE),\"\")),IF((VLOOKUP(A450,'plan gier'!$Z:$AH,7,FALSE))=\"\",\"\",VLOOKUP(VLOOKUP(A450,'plan gier'!$Z:$AH,7,FALSE),zawodnicy!$A:$E,1,FALSE)))","v":""},{"$f":"IF(A450=0,IF(AND(LEN(C450)>1,LEN(E450)=0),VLOOKUP(C450,zawodnicy!$A:$E,1,FALSE),IF(AND(LEN(E450)>1,LEN(C450)=0),VLOOKUP(E450,zawodnicy!$A:$E,1,FALSE),\"\")),IF((VLOOKUP(A450,'plan gier'!$Z:$AH,8,FALSE))=\"\",\"\",VLOOKUP(VLOOKUP(A450,'plan gier'!$Z:$AH,8,FALSE),zawodnicy!$A:$E,1,FALSE)))","v":""},{"$f":"IF(A450=0,\"\",IF((VLOOKUP(A450,'plan gier'!$Z:$AH,7,FALSE))=\"\",\"\",VLOOKUP(A450,'plan gier'!$Z:$AH,9,FALSE)))","v":""},null,null,null,{"$f":"IF(A450=0,\"\",IF(VLOOKUP(A450,'plan gier'!A:T,20,FALSE)=\"\",\"\",VLOOKUP(A450,'plan gier'!A:T,20,FALSE)))","v":""},{"$f":"N428","v":0},null,null,null,null,null,null,{"$f":"UPPER(IF(N428=\"\",\"\",IF(TYPE(VLOOKUP(2&3&N428,I:K,3,FALSE))=2,VLOOKUP(2&3&N428,I:K,3,FALSE),\"\")))","v":""},null,{"$f":"IF(T450<>\"\",CONCATENATE(VLOOKUP(T450,zawodnicy!$A:$E,2,FALSE),\" \",VLOOKUP(T450,zawodnicy!$A:$E,3,FALSE),\" - \",VLOOKUP(T450,zawodnicy!$A:$E,4,FALSE)),\"\")","v":""},null,{"$f":"IF(G450=\"\",\"\",VLOOKUP(G450,zawodnicy!$A:$D,3,FALSE))","v":""}]
[null,null,null,null,null,null,null,null,null,null,null,null,null,null,null,{"$f":"IF(O427>8,24,\"\")","v":""},"1. z gr. 6",null,null,{"$f":"UPPER(IF(N428=\"\",\"\",IF(TYPE(VLOOKUP(1&6&N428,I:K,2,FALSE))=2,VLOOKUP(1&6&N428,I:K,2,FALSE),\"\")))","v":""},null,{"$f":"IF(T451<>\"\",CONCATENATE(VLOOKUP(T451,zawodnicy!$A:$E,2,FALSE),\" \",VLOOKUP(T451,zawodnicy!$A:$E,3,FALSE),\" - \",VLOOKUP(T451,zawodnicy!$A:$E,4,FALSE)),\"\")","v":""},null,{"$f":"IF(ISBLANK(W450),\"\",IF((VLOOKUP(W450,'plan gier'!$Z:$AH,7,FALSE))=\"\",L450,VLOOKUP(W450,'plan gier'!$Z:$AH,9,FALSE)))","v":""},null,null,null,null,null,{"$f":"IF(F452=\"\",\"\",VLOOKUP(F452,zawodnicy!$A:$E,3,FALSE))","v":""}]
[{"$f":"AC452","v":0},{"$f":"F448","v":""},{"$f":"G448","v":""},{"$f":"F456","v":""},{"$f":"G456","v":""},{"$f":"IF(A452=0,IF(AND(LEN(B452)>0,LEN(D452)=0),B452,IF(AND(LEN(D452)>0,LEN(B452)=0),D452,\"\")),IF((VLOOKUP(A452,'plan gier'!$Z:$AH,7,FALSE))=\"\",\"\",VLOOKUP(VLOOKUP(A452,'plan gier'!$Z:$AH,7,FALSE),zawodnicy!$A:$E,1,FALSE)))","v":""},{"$f":"IF(A452=0,IF(AND(LEN(C452)>0,LEN(E452)=0),C452,IF(AND(LEN(E452)>0,LEN(C452)=0),E452,\"\")),IF((VLOOKUP(A452,'plan gier'!$Z:$AH,8,FALSE))=\"\",\"\",VLOOKUP(VLOOKUP(A452,'plan gier'!$Z:$AH,8,FALSE),zawodnicy!$A:$E,1,FALSE)))","v":""},{"$f":"IF(A452=0,\"\",IF((VLOOKUP(A452,'plan gier'!$Z:$AH,7,FALSE))=\"\",\"\",VLOOKUP(A452,'plan gier'!$Z:$AH,9,FALSE)))","v":""},null,null,null,{"$f":"IF(A452=0,\"\",IF(VLOOKUP(A452,'plan gier'!A:T,20,FALSE)=\"\",\"\",VLOOKUP(A452,'plan gier'!A:T,20,FALSE)))","v":""},{"$f":"N428","v":0},null,null,null,null,null,null,{"$f":"UPPER(IF(N428=\"\",\"\",IF(TYPE(VLOOKUP(1&6&N428,I:K,3,FALSE))=2,VLOOKUP(1&6&N428,I:K,3,FALSE),\"\")))","v":""},null,{"$f":"IF(T452<>\"\",CONCATENATE(VLOOKUP(T452,zawodnicy!$A:$E,2,FALSE),\" \",VLOOKUP(T452,zawodnicy!$A:$E,3,FALSE),\" - \",VLOOKUP(T452,zawodnicy!$A:$E,4,FALSE)),\"\")","v":""},null,null,null,null,null,null,null,{"$f":"IF(G452=\"\",\"\",VLOOKUP(G452,zawodnicy!$A:$E,3,FALSE))","v":""}]
[null,null,null,null,null,null,null,null,null,null,null,null,null,null,null,{"$f":"IF(O427>10,26,\"\")","v":""},"2. z gr. 2",null,null,{"$f":"UPPER(IF(N428=\"\",\"\",IF(TYPE(VLOOKUP(2&2&N428,I:K,2,FALSE))=2,VLOOKUP(2&2&N428,I:K,2,FALSE),\"\")))","v":""},null,{"$f":"IF(T453<>\"\",CONCATENATE(VLOOKUP(T453,zawodnicy!$A:$E,2,FALSE),\" \",VLOOKUP(T453,zawodnicy!$A:$E,3,FALSE),\" - \",VLOOKUP(T453,zawodnicy!$A:$E,4,FALSE)),\"\")","v":""},null,{"$f":"IF(F454=\"\",\"\",VLOOKUP(F454,zawodnicy!$A:$D,3,FALSE))","v":""},null,null,null,null,null,{"$f":"IF(ISBLANK(AC452),\"\",IF((VLOOKUP(AC452,'plan gier'!$Z:$AH,7,FALSE))=\"\",L452,VLOOKUP(AC452,'plan gier'!$Z:$AH,9,FALSE)))","v":""}]
[{"$f":"W454","v":0},{"$f":"IF(TYPE(T453)=16,\"\",T453)","v":""},{"$f":"IF(TYPE(T454)=16,\"\",T454)","v":""},{"$f":"IF(TYPE(T455)=16,\"\",T455)","v":""},{"$f":"IF(TYPE(T456)=16,\"\",T456)","v":""},{"$f":"IF(A454=0,IF(AND(LEN(B454)>1,LEN(D454)=0),VLOOKUP(B454,zawodnicy!$A:$E,1,FALSE),IF(AND(LEN(D454)>1,LEN(B454)=0),VLOOKUP(D454,zawodnicy!$A:$E,1,FALSE),\"\")),IF((VLOOKUP(A454,'plan gier'!$Z:$AH,7,FALSE))=\"\",\"\",VLOOKUP(VLOOKUP(A454,'plan gier'!$Z:$AH,7,FALSE),zawodnicy!$A:$E,1,FALSE)))","v":""},{"$f":"IF(A454=0,IF(AND(LEN(C454)>1,LEN(E454)=0),VLOOKUP(C454,zawodnicy!$A:$E,1,FALSE),IF(AND(LEN(E454)>1,LEN(C454)=0),VLOOKUP(E454,zawodnicy!$A:$E,1,FALSE),\"\")),IF((VLOOKUP(A454,'plan gier'!$Z:$AH,8,FALSE))=\"\",\"\",VLOOKUP(VLOOKUP(A454,'plan gier'!$Z:$AH,8,FALSE),zawodnicy!$A:$E,1,FALSE)))","v":""},{"$f":"IF(A454=0,\"\",IF((VLOOKUP(A454,'plan gier'!$Z:$AH,7,FALSE))=\"\",\"\",VLOOKUP(A454,'plan gier'!$Z:$AH,9,FALSE)))","v":""},null,null,null,{"$f":"IF(A454=0,\"\",IF(VLOOKUP(A454,'plan gier'!A:T,20,FALSE)=\"\",\"\",VLOOKUP(A454,'plan gier'!A:T,20,FALSE)))","v":""},{"$f":"N428","v":0},null,null,null,null,null,null,{"$f":"UPPER(IF(N428=\"\",\"\",IF(TYPE(VLOOKUP(2&2&N428,I:K,3,FALSE))=2,VLOOKUP(2&2&N428,I:K,3,FALSE),\"\")))","v":""},null,{"$f":"IF(T454<>\"\",CONCATENATE(VLOOKUP(T454,zawodnicy!$A:$E,2,FALSE),\" \",VLOOKUP(T454,zawodnicy!$A:$E,3,FALSE),\" - \",VLOOKUP(T454,zawodnicy!$A:$E,4,FALSE)),\"\")","v":""},null,{"$f":"IF(G454=\"\",\"\",VLOOKUP(G454,zawodnicy!$A:$D,3,FALSE))","v":""}]
[null,null,null,null,null,null,null,null,null,null,null,null,null,null,null,{"$f":"IF(O427>8,28,\"\")","v":""},"1. z gr. 7",null,null,{"$f":"UPPER(IF(N428=\"\",\"\",IF(TYPE(VLOOKUP(1&7&N428,I:K,2,FALSE))=2,VLOOKUP(1&7&N428,I:K,2,FALSE),\"\")))","v":""},null,{"$f":"IF(T455<>\"\",CONCATENATE(VLOOKUP(T455,zawodnicy!$A:$E,2,FALSE),\" \",VLOOKUP(T455,zawodnicy!$A:$E,3,FALSE),\" - \",VLOOKUP(T455,zawodnicy!$A:$E,4,FALSE)),\"\")","v":""},null,{"$f":"IF(ISBLANK(W454),\"\",IF((VLOOKUP(W454,'plan gier'!$Z:$AH,7,FALSE))=\"\",L454,VLOOKUP(W454,'plan gier'!$Z:$AH,9,FALSE)))","v":""},null,null,{"$f":"IF(F456=\"\",\"\",VLOOKUP(F456,zawodnicy!$A:$E,3,FALSE))","v":""}]
[{"$f":"Z456","v":0},{"$f":"F454","v":""},{"$f":"G454","v":""},{"$f":"F458","v":""},{"$f":"G458","v":""},{"$f":"IF(A456=0,IF(AND(LEN(B456)>0,LEN(D456)=0),B456,IF(AND(LEN(D456)>0,LEN(B456)=0),D456,\"\")),IF((VLOOKUP(A456,'plan gier'!$Z:$AH,7,FALSE))=\"\",\"\",VLOOKUP(VLOOKUP(A456,'plan gier'!$Z:$AH,7,FALSE),zawodnicy!$A:$E,1,FALSE)))","v":""},{"$f":"IF(A456=0,IF(AND(LEN(C456)>0,LEN(E456)=0),C456,IF(AND(LEN(E456)>0,LEN(C456)=0),E456,\"\")),IF((VLOOKUP(A456,'plan gier'!$Z:$AH,8,FALSE))=\"\",\"\",VLOOKUP(VLOOKUP(A456,'plan gier'!$Z:$AH,8,FALSE),zawodnicy!$A:$E,1,FALSE)))","v":""},{"$f":"IF(A456=0,\"\",IF((VLOOKUP(A456,'plan gier'!$Z:$AH,7,FALSE))=\"\",\"\",VLOOKUP(A456,'plan gier'!$Z:$AH,9,FALSE)))","v":""},null,null,null,{"$f":"IF(A456=0,\"\",IF(VLOOKUP(A456,'plan gier'!A:T,20,FALSE)=\"\",\"\",VLOOKUP(A456,'plan gier'!A:T,20,FALSE)))","v":""},{"$f":"N428","v":0},null,null,null,null,null,null,{"$f":"UPPER(IF(N428=\"\",\"\",IF(TYPE(VLOOKUP(1&7&N428,I:K,3,FALSE))=2,VLOOKUP(1&7&N428,I:K,3,FALSE),\"\")))","v":""},null,{"$f":"IF(T456<>\"\",CONCATENATE(VLOOKUP(T456,zawodnicy!$A:$E,2,FALSE),\" \",VLOOKUP(T456,zawodnicy!$A:$E,3,FALSE),\" - \",VLOOKUP(T456,zawodnicy!$A:$E,4,FALSE)),\"\")","v":""},null,null,null,null,{"$f":"IF(G456=\"\",\"\",VLOOKUP(G456,zawodnicy!$A:$E,3,FALSE))","v":""}]
[null,null,null,null,null,null,null,null,null,null,null,null,null,null,null,{"$f":"IF(O427>14,30,\"\")","v":""},"2. z gr. 1",null,null,{"$f":"UPPER(IF(N428=\"\",\"\",IF(TYPE(VLOOKUP(2&1&N428,I:K,2,FALSE))=2,VLOOKUP(2&1&N428,I:K,2,FALSE),\"\")))","v":""},null,{"$f":"IF(T457<>\"\",CONCATENATE(VLOOKUP(T457,zawodnicy!$A:$E,2,FALSE),\" \",VLOOKUP(T457,zawodnicy!$A:$E,3,FALSE),\" - \",VLOOKUP(T457,zawodnicy!$A:$E,4,FALSE)),\"\")","v":""},null,{"$f":"IF(F458=\"\",\"\",VLOOKUP(F458,zawodnicy!$A:$D,3,FALSE))","v":""},null,null,{"$f":"IF(ISBLANK(Z456),\"\",IF((VLOOKUP(Z456,'plan gier'!$Z:$AH,7,FALSE))=\"\",L456,VLOOKUP(Z456,'plan gier'!$Z:$AH,9,FALSE)))","v":""}]
[{"$f":"W458","v":0},{"$f":"IF(TYPE(T457)=16,\"\",T457)","v":""},{"$f":"IF(TYPE(T458)=16,\"\",T458)","v":""},{"$f":"IF(TYPE(T459)=16,\"\",T459)","v":""},{"$f":"IF(TYPE(T460)=16,\"\",T460)","v":""},{"$f":"IF(A458=0,IF(AND(LEN(B458)>1,LEN(D458)=0),VLOOKUP(B458,zawodnicy!$A:$E,1,FALSE),IF(AND(LEN(D458)>1,LEN(B458)=0),VLOOKUP(D458,zawodnicy!$A:$E,1,FALSE),\"\")),IF((VLOOKUP(A458,'plan gier'!$Z:$AH,7,FALSE))=\"\",\"\",VLOOKUP(VLOOKUP(A458,'plan gier'!$Z:$AH,7,FALSE),zawodnicy!$A:$E,1,FALSE)))","v":""},{"$f":"IF(A458=0,IF(AND(LEN(C458)>1,LEN(E458)=0),VLOOKUP(C458,zawodnicy!$A:$E,1,FALSE),IF(AND(LEN(E458)>1,LEN(C458)=0),VLOOKUP(E458,zawodnicy!$A:$E,1,FALSE),\"\")),IF((VLOOKUP(A458,'plan gier'!$Z:$AH,8,FALSE))=\"\",\"\",VLOOKUP(VLOOKUP(A458,'plan gier'!$Z:$AH,8,FALSE),zawodnicy!$A:$E,1,FALSE)))","v":""},{"$f":"IF(A458=0,\"\",IF((VLOOKUP(A458,'plan gier'!$Z:$AH,7,FALSE))=\"\",\"\",VLOOKUP(A458,'plan gier'!$Z:$AH,9,FALSE)))","v":""},null,null,null,{"$f":"IF(A458=0,\"\",IF(VLOOKUP(A458,'plan gier'!A:T,20,FALSE)=\"\",\"\",VLOOKUP(A458,'plan gier'!A:T,20,FALSE)))","v":""},{"$f":"N428","v":0},null,null,null,null,null,null,{"$f":"UPPER(IF(N428=\"\",\"\",IF(TYPE(VLOOKUP(2&1&N428,I:K,3,FALSE))=2,VLOOKUP(2&1&N428,I:K,3,FALSE),\"\")))","v":""},null,{"$f":"IF(T458<>\"\",CONCATENATE(VLOOKUP(T458,zawodnicy!$A:$E,2,FALSE),\" \",VLOOKUP(T458,zawodnicy!$A:$E,3,FALSE),\" - \",VLOOKUP(T458,zawodnicy!$A:$E,4,FALSE)),\"\")","v":""},null,{"$f":"IF(G458=\"\",\"\",VLOOKUP(G458,zawodnicy!$A:$D,3,FALSE))","v":""}]
[null,null,null,null,null,null,null,null,null,null,null,null,null,null,null,{"$f":"IF(O427>8,32,\"\")","v":""},"1. z gr. 8",null,null,{"$f":"UPPER(IF(N428=\"\",\"\",IF(TYPE(VLOOKUP(1&8&N428,I:K,2,FALSE))=2,VLOOKUP(1&8&N428,I:K,2,FALSE),\"\")))","v":""},null,{"$f":"IF(T459<>\"\",CONCATENATE(VLOOKUP(T459,zawodnicy!$A:$E,2,FALSE),\" \",VLOOKUP(T459,zawodnicy!$A:$E,3,FALSE),\" - \",VLOOKUP(T459,zawodnicy!$A:$E,4,FALSE)),\"\")","v":""},null,{"$f":"IF(ISBLANK(W458),\"\",IF((VLOOKUP(W458,'plan gier'!$Z:$AH,7,FALSE))=\"\",L458,VLOOKUP(W458,'plan gier'!$Z:$AH,9,FALSE)))","v":""}]
[null,null,null,null,null,null,null,null,null,null,null,null,null,null,null,null,null,null,null,{"$f":"UPPER(IF(N428=\"\",\"\",IF(TYPE(VLOOKUP(1&8&N428,I:K,3,FALSE))=2,VLOOKUP(1&8&N428,I:K,3,FALSE),\"\")))","v":""},null,{"$f":"IF(T460<>\"\",CONCATENATE(VLOOKUP(T460,zawodnicy!$A:$E,2,FALSE),\" \",VLOOKUP(T460,zawodnicy!$A:$E,3,FALSE),\" - \",VLOOKUP(T460,zawodnicy!$A:$E,4,FALSE)),\"\")","v":""}]
[]
[]
[null,null,null,null,null,null,null,null,null,null,null,null,null,null,null,null,"Drabinka pucharowa pośredniego systemu grupowo-pucharowego dla 7 grup"]
[]
[null,null,null,null,null,null,null,null,null,null,null,null,null,null,null,null,null,null,null,"9-14.",null,null,null,"5-8.",null,null,"3-4.",null,null,"2."]
[]
[null,null,null,null,null,null,null,null,null,null,null,null,null,null,null,{"$f":"IF(O465>8,1,\"\")","v":""},null,null,null,null,null,null,null,{"$f":"IF(F468=\"\",\"\",VLOOKUP(F468,zawodnicy!$A:$D,3,FALSE))","v":""}]
[{"$f":"W469","v":0},{"$f":"IF(TYPE(T468)=16,\"\",T468)","v":""},{"$f":"IF(TYPE(T469)=16,\"\",T469)","v":""},null,null,{"$f":"IF(A468=0,IF(AND(LEN(B468)>1,LEN(D468)=0),VLOOKUP(B468,zawodnicy!$A:$E,1,FALSE),IF(AND(LEN(D468)>1,LEN(B468)=0),VLOOKUP(D468,zawodnicy!$A:$E,1,FALSE),\"\")),IF((VLOOKUP(A468,'plan gier'!$Z:$AH,7,FALSE))=\"\",\"\",VLOOKUP(VLOOKUP(A468,'plan gier'!$Z:$AH,7,FALSE),zawodnicy!$A:$E,1,FALSE)))","v":""},{"$f":"IF(A468=0,IF(AND(LEN(C468)>1,LEN(E468)=0),VLOOKUP(C468,zawodnicy!$A:$E,1,FALSE),IF(AND(LEN(E468)>1,LEN(C468)=0),VLOOKUP(E468,zawodnicy!$A:$E,1,FALSE),\"\")),IF((VLOOKUP(A468,'plan gier'!$Z:$AH,8,FALSE))=\"\",\"\",VLOOKUP(VLOOKUP(A468,'plan gier'!$Z:$AH,8,FALSE),zawodnicy!$A:$E,1,FALSE)))","v":""},{"$f":"IF(A468=0,\"\",IF((VLOOKUP(A468,'plan gier'!$Z:$AH,7,FALSE))=\"\",\"\",VLOOKUP(A468,'plan gier'!$Z:$AH,9,FALSE)))","v":""},null,null,null,{"$f":"IF(A468=0,\"\",IF(VLOOKUP(A468,'plan gier'!A:T,20,FALSE)=\"\",\"\",VLOOKUP(A468,'plan gier'!A:T,20,FALSE)))","v":""},{"$f":"N466","v":0},null,null,null,"1. z gr. 1",null,null,{"$f":"UPPER(IF(N466=\"\",\"\",IF(TYPE(VLOOKUP(1&1&N466,I:K,2,FALSE))=2,VLOOKUP(1&1&N466,I:K,2,FALSE),\"\")))","v":""},null,{"$f":"IF(T468<>\"\",CONCATENATE(VLOOKUP(T468,zawodnicy!$A:$E,2,FALSE),\" \",VLOOKUP(T468,zawodnicy!$A:$E,3,FALSE),\" - \",VLOOKUP(T468,zawodnicy!$A:$E,4,FALSE)),\"\")","v":""},null,{"$f":"IF(G468=\"\",\"\",VLOOKUP(G468,zawodnicy!$A:$D,3,FALSE))","v":""}]
[null,null,null,null,null,null,null,null,null,null,null,null,null,null,null,{"$f":"IF(O465>15,3,\"\")","v":""},null,null,null,{"$f":"UPPER(IF(N466=\"\",\"\",IF(TYPE(VLOOKUP(1&1&N466,I:K,3,FALSE))=2,VLOOKUP(1&1&N466,I:K,3,FALSE),\"\")))","v":""},null,{"$f":"IF(T469<>\"\",CONCATENATE(VLOOKUP(T469,zawodnicy!$A:$E,2,FALSE),\" \",VLOOKUP(T469,zawodnicy!$A:$E,3,FALSE),\" - \",VLOOKUP(T469,zawodnicy!$A:$E,4,FALSE)),\"\")","v":""},null,null,null,null,{"$f":"IF(F470=\"\",\"\",VLOOKUP(F470,zawodnicy!$A:$E,3,FALSE))","v":""}]
[{"$f":"Z470","v":0},{"$f":"F468","v":""},{"$f":"G468","v":""},{"$f":"F472","v":""},{"$f":"G472","v":""},{"$f":"IF(A470=0,IF(AND(LEN(B470)>0,LEN(D470)=0),B470,IF(AND(LEN(D470)>0,LEN(B470)=0),D470,\"\")),IF((VLOOKUP(A470,'plan gier'!$Z:$AH,7,FALSE))=\"\",\"\",VLOOKUP(VLOOKUP(A470,'plan gier'!$Z:$AH,7,FALSE),zawodnicy!$A:$E,1,FALSE)))","v":""},{"$f":"IF(A470=0,IF(AND(LEN(C470)>0,LEN(E470)=0),C470,IF(AND(LEN(E470)>0,LEN(C470)=0),E470,\"\")),IF((VLOOKUP(A470,'plan gier'!$Z:$AH,8,FALSE))=\"\",\"\",VLOOKUP(VLOOKUP(A470,'plan gier'!$Z:$AH,8,FALSE),zawodnicy!$A:$E,1,FALSE)))","v":""},{"$f":"IF(A470=0,\"\",IF((VLOOKUP(A470,'plan gier'!$Z:$AH,7,FALSE))=\"\",\"\",VLOOKUP(A470,'plan gier'!$Z:$AH,9,FALSE)))","v":""},null,null,null,{"$f":"IF(A470=0,\"\",IF(VLOOKUP(A470,'plan gier'!A:T,20,FALSE)=\"\",\"\",VLOOKUP(A470,'plan gier'!A:T,20,FALSE)))","v":""},{"$f":"N466","v":0},null,null,null,null,null,null,null,null,{"$f":"IF(T470<>\"\",CONCATENATE(VLOOKUP(T470,zawodnicy!$A:$E,2,FALSE),\" \",VLOOKUP(T470,zawodnicy!$A:$E,3,FALSE),\" - \",VLOOKUP(T470,zawodnicy!$A:$E,4,FALSE)),\"\")","v":""},null,null,null,null,{"$f":"IF(G470=\"\",\"\",VLOOKUP(G470,zawodnicy!$A:$E,3,FALSE))","v":""}]
[null,null,null,null,null,null,null,null,null,null,null,null,null,null,null,{"$f":"IF(O465>8,5,\"\")","v":""},"2. z gr. 7",null,null,{"$f":"UPPER(IF(N466=\"\",\"\",IF(TYPE(VLOOKUP(2&7&N466,I:K,2,FALSE))=2,VLOOKUP(2&7&N466,I:K,2,FALSE),\"\")))","v":""},null,{"$f":"IF(T471<>\"\",CONCATENATE(VLOOKUP(T471,zawodnicy!$A:$E,2,FALSE),\" \",VLOOKUP(T471,zawodnicy!$A:$E,3,FALSE),\" - \",VLOOKUP(T471,zawodnicy!$A:$E,4,FALSE)),\"\")","v":""},null,{"$f":"IF(F472=\"\",\"\",VLOOKUP(F472,zawodnicy!$A:$D,3,FALSE))","v":""},null,null,{"$f":"IF(ISBLANK(Z470),\"\",IF((VLOOKUP(Z470,'plan gier'!$Z:$AH,7,FALSE))=\"\",L470,VLOOKUP(Z470,'plan gier'!$Z:$AH,9,FALSE)))","v":""}]
[{"$f":"W472","v":0},{"$f":"IF(TYPE(T471)=16,\"\",T471)","v":""},{"$f":"IF(TYPE(T472)=16,\"\",T472)","v":""},{"$f":"IF(TYPE(T473)=16,\"\",T473)","v":""},{"$f":"IF(TYPE(T474)=16,\"\",T474)","v":""},{"$f":"IF(A472=0,IF(AND(LEN(B472)>1,LEN(D472)=0),VLOOKUP(B472,zawodnicy!$A:$E,1,FALSE),IF(AND(LEN(D472)>1,LEN(B472)=0),VLOOKUP(D472,zawodnicy!$A:$E,1,FALSE),\"\")),IF((VLOOKUP(A472,'plan gier'!$Z:$AH,7,FALSE))=\"\",\"\",VLOOKUP(VLOOKUP(A472,'plan gier'!$Z:$AH,7,FALSE),zawodnicy!$A:$E,1,FALSE)))","v":""},{"$f":"IF(A472=0,IF(AND(LEN(C472)>1,LEN(E472)=0),VLOOKUP(C472,zawodnicy!$A:$E,1,FALSE),IF(AND(LEN(E472)>1,LEN(C472)=0),VLOOKUP(E472,zawodnicy!$A:$E,1,FALSE),\"\")),IF((VLOOKUP(A472,'plan gier'!$Z:$AH,8,FALSE))=\"\",\"\",VLOOKUP(VLOOKUP(A472,'plan gier'!$Z:$AH,8,FALSE),zawodnicy!$A:$E,1,FALSE)))","v":""},{"$f":"IF(A472=0,\"\",IF((VLOOKUP(A472,'plan gier'!$Z:$AH,7,FALSE))=\"\",\"\",VLOOKUP(A472,'plan gier'!$Z:$AH,9,FALSE)))","v":""},null,null,null,{"$f":"IF(A472=0,\"\",IF(VLOOKUP(A472,'plan gier'!A:T,20,FALSE)=\"\",\"\",VLOOKUP(A472,'plan gier'!A:T,20,FALSE)))","v":""},{"$f":"N466","v":0},null,null,null,null,null,null,{"$f":"UPPER(IF(N466=\"\",\"\",IF(TYPE(VLOOKUP(2&7&N466,I:K,3,FALSE))=2,VLOOKUP(2&7&N466,I:K,3,FALSE),\"\")))","v":""},null,{"$f":"IF(T472<>\"\",CONCATENATE(VLOOKUP(T472,zawodnicy!$A:$E,2,FALSE),\" \",VLOOKUP(T472,zawodnicy!$A:$E,3,FALSE),\" - \",VLOOKUP(T472,zawodnicy!$A:$E,4,FALSE)),\"\")","v":""},null,{"$f":"IF(G472=\"\",\"\",VLOOKUP(G472,zawodnicy!$A:$D,3,FALSE))","v":""}]
[null,null,null,null,null,null,null,null,null,null,null,null,null,null,null,{"$f":"IF(O465>11,7,\"\")","v":""},"2. z gr. 6",null,null,{"$f":"UPPER(IF(N466=\"\",\"\",IF(TYPE(VLOOKUP(2&6&N466,I:K,2,FALSE))=2,VLOOKUP(2&6&N466,I:K,2,FALSE),\"\")))","v":""},null,{"$f":"IF(T473<>\"\",CONCATENATE(VLOOKUP(T473,zawodnicy!$A:$E,2,FALSE),\" \",VLOOKUP(T473,zawodnicy!$A:$E,3,FALSE),\" - \",VLOOKUP(T473,zawodnicy!$A:$E,4,FALSE)),\"\")","v":""},null,{"$f":"IF(ISBLANK(W472),\"\",IF((VLOOKUP(W472,'plan gier'!$Z:$AH,7,FALSE))=\"\",L472,VLOOKUP(W472,'plan gier'!$Z:$AH,9,FALSE)))","v":""},null,null,null,null,null,{"$f":"IF(F474=\"\",\"\",VLOOKUP(F474,zawodnicy!$A:$E,3,FALSE))","v":""}]
[{"$f":"AC474","v":0},{"$f":"F470","v":""},{"$f":"G470","v":""},{"$f":"F478","v":""},{"$f":"G478","v":""},{"$f":"IF(A474=0,IF(AND(LEN(B474)>0,LEN(D474)=0),B474,IF(AND(LEN(D474)>0,LEN(B474)=0),D474,\"\")),IF((VLOOKUP(A474,'plan gier'!$Z:$AH,7,FALSE))=\"\",\"\",VLOOKUP(VLOOKUP(A474,'plan gier'!$Z:$AH,7,FALSE),zawodnicy!$A:$E,1,FALSE)))","v":""},{"$f":"IF(A474=0,IF(AND(LEN(C474)>0,LEN(E474)=0),C474,IF(AND(LEN(E474)>0,LEN(C474)=0),E474,\"\")),IF((VLOOKUP(A474,'plan gier'!$Z:$AH,8,FALSE))=\"\",\"\",VLOOKUP(VLOOKUP(A474,'plan gier'!$Z:$AH,8,FALSE),zawodnicy!$A:$E,1,FALSE)))","v":""},{"$f":"IF(A474=0,\"\",IF((VLOOKUP(A474,'plan gier'!$Z:$AH,7,FALSE))=\"\",\"\",VLOOKUP(A474,'plan gier'!$Z:$AH,9,FALSE)))","v":""},null,null,null,{"$f":"IF(A474=0,\"\",IF(VLOOKUP(A474,'plan gier'!A:T,20,FALSE)=\"\",\"\",VLOOKUP(A474,'plan gier'!A:T,20,FALSE)))","v":""},{"$f":"N466","v":0},null,null,null,null,null,null,{"$f":"UPPER(IF(N466=\"\",\"\",IF(TYPE(VLOOKUP(2&6&N466,I:K,3,FALSE))=2,VLOOKUP(2&6&N466,I:K,3,FALSE),\"\")))","v":""},null,{"$f":"IF(T474<>\"\",CONCATENATE(VLOOKUP(T474,zawodnicy!$A:$E,2,FALSE),\" \",VLOOKUP(T474,zawodnicy!$A:$E,3,FALSE),\" - \",VLOOKUP(T474,zawodnicy!$A:$E,4,FALSE)),\"\")","v":""},null,null,null,null,null,null,null,{"$f":"IF(G474=\"\",\"\",VLOOKUP(G474,zawodnicy!$A:$E,3,FALSE))","v":""}]
[null,null,null,null,null,null,null,null,null,null,null,null,null,null,null,{"$f":"IF(O465>8,9,\"\")","v":""},"1. z gr. 2",null,null,{"$f":"UPPER(IF(N466=\"\",\"\",IF(TYPE(VLOOKUP(1&2&N466,I:K,2,FALSE))=2,VLOOKUP(1&2&N466,I:K,2,FALSE),\"\")))","v":""},null,{"$f":"IF(T475<>\"\",CONCATENATE(VLOOKUP(T475,zawodnicy!$A:$E,2,FALSE),\" \",VLOOKUP(T475,zawodnicy!$A:$E,3,FALSE),\" - \",VLOOKUP(T475,zawodnicy!$A:$E,4,FALSE)),\"\")","v":""},null,{"$f":"IF(F476=\"\",\"\",VLOOKUP(F476,zawodnicy!$A:$D,3,FALSE))","v":""},null,null,null,null,null,{"$f":"IF(ISBLANK(AC474),\"\",IF((VLOOKUP(AC474,'plan gier'!$Z:$AH,7,FALSE))=\"\",L474,VLOOKUP(AC474,'plan gier'!$Z:$AH,9,FALSE)))","v":""}]
[{"$f":"W476","v":0},{"$f":"IF(TYPE(T475)=16,\"\",T475)","v":""},{"$f":"IF(TYPE(T476)=16,\"\",T476)","v":""},{"$f":"IF(TYPE(T477)=16,\"\",T477)","v":""},{"$f":"IF(TYPE(T478)=16,\"\",T478)","v":""},{"$f":"IF(A476=0,IF(AND(LEN(B476)>1,LEN(D476)=0),VLOOKUP(B476,zawodnicy!$A:$E,1,FALSE),IF(AND(LEN(D476)>1,LEN(B476)=0),VLOOKUP(D476,zawodnicy!$A:$E,1,FALSE),\"\")),IF((VLOOKUP(A476,'plan gier'!$Z:$AH,7,FALSE))=\"\",\"\",VLOOKUP(VLOOKUP(A476,'plan gier'!$Z:$AH,7,FALSE),zawodnicy!$A:$E,1,FALSE)))","v":""},{"$f":"IF(A476=0,IF(AND(LEN(C476)>1,LEN(E476)=0),VLOOKUP(C476,zawodnicy!$A:$E,1,FALSE),IF(AND(LEN(E476)>1,LEN(C476)=0),VLOOKUP(E476,zawodnicy!$A:$E,1,FALSE),\"\")),IF((VLOOKUP(A476,'plan gier'!$Z:$AH,8,FALSE))=\"\",\"\",VLOOKUP(VLOOKUP(A476,'plan gier'!$Z:$AH,8,FALSE),zawodnicy!$A:$E,1,FALSE)))","v":""},{"$f":"IF(A476=0,\"\",IF((VLOOKUP(A476,'plan gier'!$Z:$AH,7,FALSE))=\"\",\"\",VLOOKUP(A476,'plan gier'!$Z:$AH,9,FALSE)))","v":""},null,null,null,{"$f":"IF(A476=0,\"\",IF(VLOOKUP(A476,'plan gier'!A:T,20,FALSE)=\"\",\"\",VLOOKUP(A476,'plan gier'!A:T,20,FALSE)))","v":""},{"$f":"N466","v":0},null,null,null,null,null,null,{"$f":"UPPER(IF(N466=\"\",\"\",IF(TYPE(VLOOKUP(1&2&N466,I:K,3,FALSE))=2,VLOOKUP(1&2&N466,I:K,3,FALSE),\"\")))","v":""},null,{"$f":"IF(T476<>\"\",CONCATENATE(VLOOKUP(T476,zawodnicy!$A:$E,2,FALSE),\" \",VLOOKUP(T476,zawodnicy!$A:$E,3,FALSE),\" - \",VLOOKUP(T476,zawodnicy!$A:$E,4,FALSE)),\"\")","v":""},null,{"$f":"IF(G476=\"\",\"\",VLOOKUP(G476,zawodnicy!$A:$D,3,FALSE))","v":""}]
[null,null,null,null,null,null,null,null,null,null,null,null,null,null,null,{"$f":"IF(O465>13,11,\"\")","v":""},"2. z gr. 5",null,null,{"$f":"UPPER(IF(N466=\"\",\"\",IF(TYPE(VLOOKUP(2&5&N466,I:K,2,FALSE))=2,VLOOKUP(2&5&N466,I:K,2,FALSE),\"\")))","v":""},null,{"$f":"IF(T477<>\"\",CONCATENATE(VLOOKUP(T477,zawodnicy!$A:$E,2,FALSE),\" \",VLOOKUP(T477,zawodnicy!$A:$E,3,FALSE),\" - \",VLOOKUP(T477,zawodnicy!$A:$E,4,FALSE)),\"\")","v":""},null,{"$f":"IF(ISBLANK(W476),\"\",IF((VLOOKUP(W476,'plan gier'!$Z:$AH,7,FALSE))=\"\",L476,VLOOKUP(W476,'plan gier'!$Z:$AH,9,FALSE)))","v":""},null,null,{"$f":"IF(F478=\"\",\"\",VLOOKUP(F478,zawodnicy!$A:$E,3,FALSE))","v":""}]
[{"$f":"Z478","v":0},{"$f":"F476","v":""},{"$f":"G476","v":""},{"$f":"F480","v":""},{"$f":"G480","v":""},{"$f":"IF(A478=0,IF(AND(LEN(B478)>0,LEN(D478)=0),B478,IF(AND(LEN(D478)>0,LEN(B478)=0),D478,\"\")),IF((VLOOKUP(A478,'plan gier'!$Z:$AH,7,FALSE))=\"\",\"\",VLOOKUP(VLOOKUP(A478,'plan gier'!$Z:$AH,7,FALSE),zawodnicy!$A:$E,1,FALSE)))","v":""},{"$f":"IF(A478=0,IF(AND(LEN(C478)>0,LEN(E478)=0),C478,IF(AND(LEN(E478)>0,LEN(C478)=0),E478,\"\")),IF((VLOOKUP(A478,'plan gier'!$Z:$AH,8,FALSE))=\"\",\"\",VLOOKUP(VLOOKUP(A478,'plan gier'!$Z:$AH,8,FALSE),zawodnicy!$A:$E,1,FALSE)))","v":""},{"$f":"IF(A478=0,\"\",IF((VLOOKUP(A478,'plan gier'!$Z:$AH,7,FALSE))=\"\",\"\",VLOOKUP(A478,'plan gier'!$Z:$AH,9,FALSE)))","v":""},null,null,null,{"$f":"IF(A478=0,\"\",IF(VLOOKUP(A478,'plan gier'!A:T,20,FALSE)=\"\",\"\",VLOOKUP(A478,'plan gier'!A:T,20,FALSE)))","v":""},{"$f":"N466","v":0},null,null,null,null,null,null,{"$f":"UPPER(IF(N466=\"\",\"\",IF(TYPE(VLOOKUP(2&5&N466,I:K,3,FALSE))=2,VLOOKUP(2&5&N466,I:K,3,FALSE),\"\")))","v":""},null,{"$f":"IF(T478<>\"\",CONCATENATE(VLOOKUP(T478,zawodnicy!$A:$E,2,FALSE),\" \",VLOOKUP(T478,zawodnicy!$A:$E,3,FALSE),\" - \",VLOOKUP(T478,zawodnicy!$A:$E,4,FALSE)),\"\")","v":""},null,null,null,null,{"$f":"IF(G478=\"\",\"\",VLOOKUP(G478,zawodnicy!$A:$E,3,FALSE))","v":""}]
[null,null,null,null,null,null,null,null,null,null,null,null,null,null,null,{"$f":"IF(O465>8,13,\"\")","v":""},"1. z gr. 3",null,null,{"$f":"UPPER(IF(N466=\"\",\"\",IF(TYPE(VLOOKUP(1&3&N466,I:K,2,FALSE))=2,VLOOKUP(1&3&N466,I:K,2,FALSE),\"\")))","v":""},null,{"$f":"IF(T479<>\"\",CONCATENATE(VLOOKUP(T479,zawodnicy!$A:$E,2,FALSE),\" \",VLOOKUP(T479,zawodnicy!$A:$E,3,FALSE),\" - \",VLOOKUP(T479,zawodnicy!$A:$E,4,FALSE)),\"\")","v":""},null,{"$f":"IF(F480=\"\",\"\",VLOOKUP(F480,zawodnicy!$A:$D,3,FALSE))","v":""},null,null,{"$f":"IF(ISBLANK(Z478),\"\",IF((VLOOKUP(Z478,'plan gier'!$Z:$AH,7,FALSE))=\"\",L478,VLOOKUP(Z478,'plan gier'!$Z:$AH,9,FALSE)))","v":""},null,null,"1."]
[{"$f":"W480","v":0},{"$f":"IF(TYPE(T479)=16,\"\",T479)","v":""},{"$f":"IF(TYPE(T480)=16,\"\",T480)","v":""},{"$f":"IF(TYPE(T481)=16,\"\",T481)","v":""},{"$f":"IF(TYPE(T482)=16,\"\",T482)","v":""},{"$f":"IF(A480=0,IF(AND(LEN(B480)>1,LEN(D480)=0),VLOOKUP(B480,zawodnicy!$A:$E,1,FALSE),IF(AND(LEN(D480)>1,LEN(B480)=0),VLOOKUP(D480,zawodnicy!$A:$E,1,FALSE),\"\")),IF((VLOOKUP(A480,'plan gier'!$Z:$AH,7,FALSE))=\"\",\"\",VLOOKUP(VLOOKUP(A480,'plan gier'!$Z:$AH,7,FALSE),zawodnicy!$A:$E,1,FALSE)))","v":""},{"$f":"IF(A480=0,IF(AND(LEN(C480)>1,LEN(E480)=0),VLOOKUP(C480,zawodnicy!$A:$E,1,FALSE),IF(AND(LEN(E480)>1,LEN(C480)=0),VLOOKUP(E480,zawodnicy!$A:$E,1,FALSE),\"\")),IF((VLOOKUP(A480,'plan gier'!$Z:$AH,8,FALSE))=\"\",\"\",VLOOKUP(VLOOKUP(A480,'plan gier'!$Z:$AH,8,FALSE),zawodnicy!$A:$E,1,FALSE)))","v":""},{"$f":"IF(A480=0,\"\",IF((VLOOKUP(A480,'plan gier'!$Z:$AH,7,FALSE))=\"\",\"\",VLOOKUP(A480,'plan gier'!$Z:$AH,9,FALSE)))","v":""},null,null,null,{"$f":"IF(A480=0,\"\",IF(VLOOKUP(A480,'plan gier'!A:T,20,FALSE)=\"\",\"\",VLOOKUP(A480,'plan gier'!A:T,20,FALSE)))","v":""},{"$f":"N466","v":0},null,null,null,null,null,null,{"$f":"UPPER(IF(N466=\"\",\"\",IF(TYPE(VLOOKUP(1&3&N466,I:K,3,FALSE))=2,VLOOKUP(1&3&N466,I:K,3,FALSE),\"\")))","v":""},null,{"$f":"IF(T480<>\"\",CONCATENATE(VLOOKUP(T480,zawodnicy!$A:$E,2,FALSE),\" \",VLOOKUP(T480,zawodnicy!$A:$E,3,FALSE),\" - \",VLOOKUP(T480,zawodnicy!$A:$E,4,FALSE)),\"\")","v":""},null,{"$f":"IF(G480=\"\",\"\",VLOOKUP(G480,zawodnicy!$A:$D,3,FALSE))","v":""}]
[null,null,null,null,null,null,null,null,null,null,null,null,null,null,null,{"$f":"IF(O465>9,15,\"\")","v":""},"2. z gr. 4",null,null,{"$f":"UPPER(IF(N466=\"\",\"\",IF(TYPE(VLOOKUP(2&4&N466,I:K,2,FALSE))=2,VLOOKUP(2&4&N466,I:K,2,FALSE),\"\")))","v":""},null,{"$f":"IF(T481<>\"\",CONCATENATE(VLOOKUP(T481,zawodnicy!$A:$E,2,FALSE),\" \",VLOOKUP(T481,zawodnicy!$A:$E,3,FALSE),\" - \",VLOOKUP(T481,zawodnicy!$A:$E,4,FALSE)),\"\")","v":""},null,{"$f":"IF(ISBLANK(W480),\"\",IF((VLOOKUP(W480,'plan gier'!$Z:$AH,7,FALSE))=\"\",L480,VLOOKUP(W480,'plan gier'!$Z:$AH,9,FALSE)))","v":""},null,null,null,null,null,{"$f":"IF(F482=\"\",\"\",VLOOKUP(F482,zawodnicy!$A:$E,3,FALSE))","v":""}]
[{"$f":"AC482","v":0},{"$f":"F474","v":""},{"$f":"G474","v":""},{"$f":"F490","v":""},{"$f":"G490","v":""},{"$f":"IF(A482=0,IF(AND(LEN(B482)>0,LEN(D482)=0),B482,IF(AND(LEN(D482)>0,LEN(B482)=0),D482,\"\")),IF((VLOOKUP(A482,'plan gier'!$Z:$AH,7,FALSE))=\"\",\"\",VLOOKUP(VLOOKUP(A482,'plan gier'!$Z:$AH,7,FALSE),zawodnicy!$A:$E,1,FALSE)))","v":""},{"$f":"IF(A482=0,IF(AND(LEN(C482)>0,LEN(E482)=0),C482,IF(AND(LEN(E482)>0,LEN(C482)=0),E482,\"\")),IF((VLOOKUP(A482,'plan gier'!$Z:$AH,8,FALSE))=\"\",\"\",VLOOKUP(VLOOKUP(A482,'plan gier'!$Z:$AH,8,FALSE),zawodnicy!$A:$E,1,FALSE)))","v":""},{"$f":"IF(A482=0,\"\",IF((VLOOKUP(A482,'plan gier'!$Z:$AH,7,FALSE))=\"\",\"\",VLOOKUP(A482,'plan gier'!$Z:$AH,9,FALSE)))","v":""},null,null,null,{"$f":"IF(A482=0,\"\",IF(VLOOKUP(A482,'plan gier'!A:T,20,FALSE)=\"\",\"\",VLOOKUP(A482,'plan gier'!A:T,20,FALSE)))","v":""},{"$f":"N466","v":0},null,null,null,null,null,null,{"$f":"UPPER(IF(N466=\"\",\"\",IF(TYPE(VLOOKUP(2&4&N466,I:K,3,FALSE))=2,VLOOKUP(2&4&N466,I:K,3,FALSE),\"\")))","v":""},null,{"$f":"IF(T482<>\"\",CONCATENATE(VLOOKUP(T482,zawodnicy!$A:$E,2,FALSE),\" \",VLOOKUP(T482,zawodnicy!$A:$E,3,FALSE),\" - \",VLOOKUP(T482,zawodnicy!$A:$E,4,FALSE)),\"\")","v":""},null,null,null,null,null,null,null,{"$f":"IF(G482=\"\",\"\",VLOOKUP(G482,zawodnicy!$A:$E,3,FALSE))","v":""}]
[null,null,null,null,null,null,null,null,null,null,null,null,null,null,null,{"$f":"IF(O465>8,18,\"\")","v":""},"2. z gr. 3",null,null,{"$f":"UPPER(IF(N466=\"\",\"\",IF(TYPE(VLOOKUP(2&3&N466,I:K,2,FALSE))=2,VLOOKUP(2&3&N466,I:K,2,FALSE),\"\")))","v":""},null,{"$f":"IF(T483<>\"\",CONCATENATE(VLOOKUP(T483,zawodnicy!$A:$E,2,FALSE),\" \",VLOOKUP(T483,zawodnicy!$A:$E,3,FALSE),\" - \",VLOOKUP(T483,zawodnicy!$A:$E,4,FALSE)),\"\")","v":""},null,{"$f":"IF(F484=\"\",\"\",VLOOKUP(F484,zawodnicy!$A:$D,3,FALSE))","v":""},null,null,null,null,null,{"$f":"IF(ISBLANK(AC482),\"\",IF((VLOOKUP(AC482,'plan gier'!$Z:$AH,7,FALSE))=\"\",L482,VLOOKUP(AC482,'plan gier'!$Z:$AH,9,FALSE)))","v":""}]
[{"$f":"W484","v":0},{"$f":"IF(TYPE(T483)=16,\"\",T483)","v":""},{"$f":"IF(TYPE(T484)=16,\"\",T484)","v":""},{"$f":"IF(TYPE(T485)=16,\"\",T485)","v":""},{"$f":"IF(TYPE(T486)=16,\"\",T486)","v":""},{"$f":"IF(A484=0,IF(AND(LEN(B484)>1,LEN(D484)=0),VLOOKUP(B484,zawodnicy!$A:$E,1,FALSE),IF(AND(LEN(D484)>1,LEN(B484)=0),VLOOKUP(D484,zawodnicy!$A:$E,1,FALSE),\"\")),IF((VLOOKUP(A484,'plan gier'!$Z:$AH,7,FALSE))=\"\",\"\",VLOOKUP(VLOOKUP(A484,'plan gier'!$Z:$AH,7,FALSE),zawodnicy!$A:$E,1,FALSE)))","v":""},{"$f":"IF(A484=0,IF(AND(LEN(C484)>1,LEN(E484)=0),VLOOKUP(C484,zawodnicy!$A:$E,1,FALSE),IF(AND(LEN(E484)>1,LEN(C484)=0),VLOOKUP(E484,zawodnicy!$A:$E,1,FALSE),\"\")),IF((VLOOKUP(A484,'plan gier'!$Z:$AH,8,FALSE))=\"\",\"\",VLOOKUP(VLOOKUP(A484,'plan gier'!$Z:$AH,8,FALSE),zawodnicy!$A:$E,1,FALSE)))","v":""},{"$f":"IF(A484=0,\"\",IF((VLOOKUP(A484,'plan gier'!$Z:$AH,7,FALSE))=\"\",\"\",VLOOKUP(A484,'plan gier'!$Z:$AH,9,FALSE)))","v":""},null,null,null,{"$f":"IF(A484=0,\"\",IF(VLOOKUP(A484,'plan gier'!A:T,20,FALSE)=\"\",\"\",VLOOKUP(A484,'plan gier'!A:T,20,FALSE)))","v":""},{"$f":"N466","v":0},null,null,null,null,null,null,{"$f":"UPPER(IF(N466=\"\",\"\",IF(TYPE(VLOOKUP(2&3&N466,I:K,3,FALSE))=2,VLOOKUP(2&3&N466,I:K,3,FALSE),\"\")))","v":""},null,{"$f":"IF(T484<>\"\",CONCATENATE(VLOOKUP(T484,zawodnicy!$A:$E,2,FALSE),\" \",VLOOKUP(T484,zawodnicy!$A:$E,3,FALSE),\" - \",VLOOKUP(T484,zawodnicy!$A:$E,4,FALSE)),\"\")","v":""},null,{"$f":"IF(G484=\"\",\"\",VLOOKUP(G484,zawodnicy!$A:$D,3,FALSE))","v":""}]
[null,null,null,null,null,null,null,null,null,null,null,null,null,null,null,{"$f":"IF(O465>8,20,\"\")","v":""},"1. z gr. 4",null,null,{"$f":"UPPER(IF(N466=\"\",\"\",IF(TYPE(VLOOKUP(1&4&N466,I:K,2,FALSE))=2,VLOOKUP(1&4&N466,I:K,2,FALSE),\"\")))","v":""},null,{"$f":"IF(T485<>\"\",CONCATENATE(VLOOKUP(T485,zawodnicy!$A:$E,2,FALSE),\" \",VLOOKUP(T485,zawodnicy!$A:$E,3,FALSE),\" - \",VLOOKUP(T485,zawodnicy!$A:$E,4,FALSE)),\"\")","v":""},null,{"$f":"IF(ISBLANK(W484),\"\",IF((VLOOKUP(W484,'plan gier'!$Z:$AH,7,FALSE))=\"\",L484,VLOOKUP(W484,'plan gier'!$Z:$AH,9,FALSE)))","v":""},null,null,{"$f":"IF(F486=\"\",\"\",VLOOKUP(F486,zawodnicy!$A:$E,3,FALSE))","v":""}]
[{"$f":"Z486","v":0},{"$f":"F484","v":""},{"$f":"G484","v":""},{"$f":"F488","v":""},{"$f":"G488","v":""},{"$f":"IF(A486=0,IF(AND(LEN(B486)>0,LEN(D486)=0),B486,IF(AND(LEN(D486)>0,LEN(B486)=0),D486,\"\")),IF((VLOOKUP(A486,'plan gier'!$Z:$AH,7,FALSE))=\"\",\"\",VLOOKUP(VLOOKUP(A486,'plan gier'!$Z:$AH,7,FALSE),zawodnicy!$A:$E,1,FALSE)))","v":""},{"$f":"IF(A486=0,IF(AND(LEN(C486)>0,LEN(E486)=0),C486,IF(AND(LEN(E486)>0,LEN(C486)=0),E486,\"\")),IF((VLOOKUP(A486,'plan gier'!$Z:$AH,8,FALSE))=\"\",\"\",VLOOKUP(VLOOKUP(A486,'plan gier'!$Z:$AH,8,FALSE),zawodnicy!$A:$E,1,FALSE)))","v":""},{"$f":"IF(A486=0,\"\",IF((VLOOKUP(A486,'plan gier'!$Z:$AH,7,FALSE))=\"\",\"\",VLOOKUP(A486,'plan gier'!$Z:$AH,9,FALSE)))","v":""},null,null,null,{"$f":"IF(A486=0,\"\",IF(VLOOKUP(A486,'plan gier'!A:T,20,FALSE)=\"\",\"\",VLOOKUP(A486,'plan gier'!A:T,20,FALSE)))","v":""},{"$f":"N466","v":0},null,null,null,null,null,null,{"$f":"UPPER(IF(N466=\"\",\"\",IF(TYPE(VLOOKUP(1&4&N466,I:K,3,FALSE))=2,VLOOKUP(1&4&N466,I:K,3,FALSE),\"\")))","v":""},null,{"$f":"IF(T486<>\"\",CONCATENATE(VLOOKUP(T486,zawodnicy!$A:$E,2,FALSE),\" \",VLOOKUP(T486,zawodnicy!$A:$E,3,FALSE),\" - \",VLOOKUP(T486,zawodnicy!$A:$E,4,FALSE)),\"\")","v":""},null,null,null,null,{"$f":"IF(G486=\"\",\"\",VLOOKUP(G486,zawodnicy!$A:$E,3,FALSE))","v":""}]
[null,null,null,null,null,null,null,null,null,null,null,null,null,null,null,{"$f":"IF(O465>12,22,\"\")","v":""},"2. z gr. 2",null,null,{"$f":"UPPER(IF(N466=\"\",\"\",IF(TYPE(VLOOKUP(2&2&N466,I:K,2,FALSE))=2,VLOOKUP(2&2&N466,I:K,2,FALSE),\"\")))","v":""},null,{"$f":"IF(T487<>\"\",CONCATENATE(VLOOKUP(T487,zawodnicy!$A:$E,2,FALSE),\" \",VLOOKUP(T487,zawodnicy!$A:$E,3,FALSE),\" - \",VLOOKUP(T487,zawodnicy!$A:$E,4,FALSE)),\"\")","v":""},null,{"$f":"IF(F488=\"\",\"\",VLOOKUP(F488,zawodnicy!$A:$D,3,FALSE))","v":""},null,null,{"$f":"IF(ISBLANK(Z486),\"\",IF((VLOOKUP(Z486,'plan gier'!$Z:$AH,7,FALSE))=\"\",L486,VLOOKUP(Z486,'plan gier'!$Z:$AH,9,FALSE)))","v":""}]
[{"$f":"W488","v":0},{"$f":"IF(TYPE(T487)=16,\"\",T487)","v":""},{"$f":"IF(TYPE(T488)=16,\"\",T488)","v":""},{"$f":"IF(TYPE(T489)=16,\"\",T489)","v":""},{"$f":"IF(TYPE(T490)=16,\"\",T490)","v":""},{"$f":"IF(A488=0,IF(AND(LEN(B488)>1,LEN(D488)=0),VLOOKUP(B488,zawodnicy!$A:$E,1,FALSE),IF(AND(LEN(D488)>1,LEN(B488)=0),VLOOKUP(D488,zawodnicy!$A:$E,1,FALSE),\"\")),IF((VLOOKUP(A488,'plan gier'!$Z:$AH,7,FALSE))=\"\",\"\",VLOOKUP(VLOOKUP(A488,'plan gier'!$Z:$AH,7,FALSE),zawodnicy!$A:$E,1,FALSE)))","v":""},{"$f":"IF(A488=0,IF(AND(LEN(C488)>1,LEN(E488)=0),VLOOKUP(C488,zawodnicy!$A:$E,1,FALSE),IF(AND(LEN(E488)>1,LEN(C488)=0),VLOOKUP(E488,zawodnicy!$A:$E,1,FALSE),\"\")),IF((VLOOKUP(A488,'plan gier'!$Z:$AH,8,FALSE))=\"\",\"\",VLOOKUP(VLOOKUP(A488,'plan gier'!$Z:$AH,8,FALSE),zawodnicy!$A:$E,1,FALSE)))","v":""},{"$f":"IF(A488=0,\"\",IF((VLOOKUP(A488,'plan gier'!$Z:$AH,7,FALSE))=\"\",\"\",VLOOKUP(A488,'plan gier'!$Z:$AH,9,FALSE)))","v":""},null,null,null,{"$f":"IF(A488=0,\"\",IF(VLOOKUP(A488,'plan gier'!A:T,20,FALSE)=\"\",\"\",VLOOKUP(A488,'plan gier'!A:T,20,FALSE)))","v":""},{"$f":"N466","v":0},null,null,null,null,null,null,{"$f":"UPPER(IF(N466=\"\",\"\",IF(TYPE(VLOOKUP(2&2&N466,I:K,3,FALSE))=2,VLOOKUP(2&2&N466,I:K,3,FALSE),\"\")))","v":""},null,{"$f":"IF(T488<>\"\",CONCATENATE(VLOOKUP(T488,zawodnicy!$A:$E,2,FALSE),\" \",VLOOKUP(T488,zawodnicy!$A:$E,3,FALSE),\" - \",VLOOKUP(T488,zawodnicy!$A:$E,4,FALSE)),\"\")","v":""},null,{"$f":"IF(G488=\"\",\"\",VLOOKUP(G488,zawodnicy!$A:$D,3,FALSE))","v":""}]
[null,null,null,null,null,null,null,null,null,null,null,null,null,null,null,{"$f":"IF(O465>8,24,\"\")","v":""},"1. z gr. 5",null,null,{"$f":"UPPER(IF(N466=\"\",\"\",IF(TYPE(VLOOKUP(1&5&N466,I:K,2,FALSE))=2,VLOOKUP(1&5&N466,I:K,2,FALSE),\"\")))","v":""},null,{"$f":"IF(T489<>\"\",CONCATENATE(VLOOKUP(T489,zawodnicy!$A:$E,2,FALSE),\" \",VLOOKUP(T489,zawodnicy!$A:$E,3,FALSE),\" - \",VLOOKUP(T489,zawodnicy!$A:$E,4,FALSE)),\"\")","v":""},null,{"$f":"IF(ISBLANK(W488),\"\",IF((VLOOKUP(W488,'plan gier'!$Z:$AH,7,FALSE))=\"\",L488,VLOOKUP(W488,'plan gier'!$Z:$AH,9,FALSE)))","v":""},null,null,null,null,null,{"$f":"IF(F490=\"\",\"\",VLOOKUP(F490,zawodnicy!$A:$E,3,FALSE))","v":""}]
[{"$f":"AC490","v":0},{"$f":"F486","v":""},{"$f":"G486","v":""},{"$f":"F494","v":""},{"$f":"G494","v":""},{"$f":"IF(A490=0,IF(AND(LEN(B490)>0,LEN(D490)=0),B490,IF(AND(LEN(D490)>0,LEN(B490)=0),D490,\"\")),IF((VLOOKUP(A490,'plan gier'!$Z:$AH,7,FALSE))=\"\",\"\",VLOOKUP(VLOOKUP(A490,'plan gier'!$Z:$AH,7,FALSE),zawodnicy!$A:$E,1,FALSE)))","v":""},{"$f":"IF(A490=0,IF(AND(LEN(C490)>0,LEN(E490)=0),C490,IF(AND(LEN(E490)>0,LEN(C490)=0),E490,\"\")),IF((VLOOKUP(A490,'plan gier'!$Z:$AH,8,FALSE))=\"\",\"\",VLOOKUP(VLOOKUP(A490,'plan gier'!$Z:$AH,8,FALSE),zawodnicy!$A:$E,1,FALSE)))","v":""},{"$f":"IF(A490=0,\"\",IF((VLOOKUP(A490,'plan gier'!$Z:$AH,7,FALSE))=\"\",\"\",VLOOKUP(A490,'plan gier'!$Z:$AH,9,FALSE)))","v":""},null,null,null,{"$f":"IF(A490=0,\"\",IF(VLOOKUP(A490,'plan gier'!A:T,20,FALSE)=\"\",\"\",VLOOKUP(A490,'plan gier'!A:T,20,FALSE)))","v":""},{"$f":"N466","v":0},null,null,null,null,null,null,{"$f":"UPPER(IF(N466=\"\",\"\",IF(TYPE(VLOOKUP(1&5&N466,I:K,3,FALSE))=2,VLOOKUP(1&5&N466,I:K,3,FALSE),\"\")))","v":""},null,{"$f":"IF(T490<>\"\",CONCATENATE(VLOOKUP(T490,zawodnicy!$A:$E,2,FALSE),\" \",VLOOKUP(T490,zawodnicy!$A:$E,3,FALSE),\" - \",VLOOKUP(T490,zawodnicy!$A:$E,4,FALSE)),\"\")","v":""},null,null,null,null,null,null,null,{"$f":"IF(G490=\"\",\"\",VLOOKUP(G490,zawodnicy!$A:$E,3,FALSE))","v":""}]
[null,null,null,null,null,null,null,null,null,null,null,null,null,null,null,{"$f":"IF(O465>10,26,\"\")","v":""},"2. z gr. 1",null,null,{"$f":"UPPER(IF(N466=\"\",\"\",IF(TYPE(VLOOKUP(2&1&N466,I:K,2,FALSE))=2,VLOOKUP(2&1&N466,I:K,2,FALSE),\"\")))","v":""},null,{"$f":"IF(T491<>\"\",CONCATENATE(VLOOKUP(T491,zawodnicy!$A:$E,2,FALSE),\" \",VLOOKUP(T491,zawodnicy!$A:$E,3,FALSE),\" - \",VLOOKUP(T491,zawodnicy!$A:$E,4,FALSE)),\"\")","v":""},null,{"$f":"IF(F492=\"\",\"\",VLOOKUP(F492,zawodnicy!$A:$D,3,FALSE))","v":""},null,null,null,null,null,{"$f":"IF(ISBLANK(AC490),\"\",IF((VLOOKUP(AC490,'plan gier'!$Z:$AH,7,FALSE))=\"\",L490,VLOOKUP(AC490,'plan gier'!$Z:$AH,9,FALSE)))","v":""}]
[{"$f":"W492","v":0},{"$f":"IF(TYPE(T491)=16,\"\",T491)","v":""},{"$f":"IF(TYPE(T492)=16,\"\",T492)","v":""},{"$f":"IF(TYPE(T493)=16,\"\",T493)","v":""},{"$f":"IF(TYPE(T494)=16,\"\",T494)","v":""},{"$f":"IF(A492=0,IF(AND(LEN(B492)>1,LEN(D492)=0),VLOOKUP(B492,zawodnicy!$A:$E,1,FALSE),IF(AND(LEN(D492)>1,LEN(B492)=0),VLOOKUP(D492,zawodnicy!$A:$E,1,FALSE),\"\")),IF((VLOOKUP(A492,'plan gier'!$Z:$AH,7,FALSE))=\"\",\"\",VLOOKUP(VLOOKUP(A492,'plan gier'!$Z:$AH,7,FALSE),zawodnicy!$A:$E,1,FALSE)))","v":""},{"$f":"IF(A492=0,IF(AND(LEN(C492)>1,LEN(E492)=0),VLOOKUP(C492,zawodnicy!$A:$E,1,FALSE),IF(AND(LEN(E492)>1,LEN(C492)=0),VLOOKUP(E492,zawodnicy!$A:$E,1,FALSE),\"\")),IF((VLOOKUP(A492,'plan gier'!$Z:$AH,8,FALSE))=\"\",\"\",VLOOKUP(VLOOKUP(A492,'plan gier'!$Z:$AH,8,FALSE),zawodnicy!$A:$E,1,FALSE)))","v":""},{"$f":"IF(A492=0,\"\",IF((VLOOKUP(A492,'plan gier'!$Z:$AH,7,FALSE))=\"\",\"\",VLOOKUP(A492,'plan gier'!$Z:$AH,9,FALSE)))","v":""},null,null,null,{"$f":"IF(A492=0,\"\",IF(VLOOKUP(A492,'plan gier'!A:T,20,FALSE)=\"\",\"\",VLOOKUP(A492,'plan gier'!A:T,20,FALSE)))","v":""},{"$f":"N466","v":0},null,null,null,null,null,null,{"$f":"UPPER(IF(N466=\"\",\"\",IF(TYPE(VLOOKUP(2&1&N466,I:K,3,FALSE))=2,VLOOKUP(2&1&N466,I:K,3,FALSE),\"\")))","v":""},null,{"$f":"IF(T492<>\"\",CONCATENATE(VLOOKUP(T492,zawodnicy!$A:$E,2,FALSE),\" \",VLOOKUP(T492,zawodnicy!$A:$E,3,FALSE),\" - \",VLOOKUP(T492,zawodnicy!$A:$E,4,FALSE)),\"\")","v":""},null,{"$f":"IF(G492=\"\",\"\",VLOOKUP(G492,zawodnicy!$A:$D,3,FALSE))","v":""}]
[null,null,null,null,null,null,null,null,null,null,null,null,null,null,null,{"$f":"IF(O465>8,28,\"\")","v":""},"1. z gr. 6",null,null,{"$f":"UPPER(IF(N466=\"\",\"\",IF(TYPE(VLOOKUP(1&6&N466,I:K,2,FALSE))=2,VLOOKUP(1&6&N466,I:K,2,FALSE),\"\")))","v":""},null,{"$f":"IF(T493<>\"\",CONCATENATE(VLOOKUP(T493,zawodnicy!$A:$E,2,FALSE),\" \",VLOOKUP(T493,zawodnicy!$A:$E,3,FALSE),\" - \",VLOOKUP(T493,zawodnicy!$A:$E,4,FALSE)),\"\")","v":""},null,{"$f":"IF(ISBLANK(W492),\"\",IF((VLOOKUP(W492,'plan gier'!$Z:$AH,7,FALSE))=\"\",L492,VLOOKUP(W492,'plan gier'!$Z:$AH,9,FALSE)))","v":""},null,null,{"$f":"IF(F494=\"\",\"\",VLOOKUP(F494,zawodnicy!$A:$E,3,FALSE))","v":""}]
[{"$f":"Z494","v":0},{"$f":"F492","v":""},{"$f":"G492","v":""},{"$f":"F496","v":""},{"$f":"G496","v":""},{"$f":"IF(A494=0,IF(AND(LEN(B494)>0,LEN(D494)=0),B494,IF(AND(LEN(D494)>0,LEN(B494)=0),D494,\"\")),IF((VLOOKUP(A494,'plan gier'!$Z:$AH,7,FALSE))=\"\",\"\",VLOOKUP(VLOOKUP(A494,'plan gier'!$Z:$AH,7,FALSE),zawodnicy!$A:$E,1,FALSE)))","v":""},{"$f":"IF(A494=0,IF(AND(LEN(C494)>0,LEN(E494)=0),C494,IF(AND(LEN(E494)>0,LEN(C494)=0),E494,\"\")),IF((VLOOKUP(A494,'plan gier'!$Z:$AH,8,FALSE))=\"\",\"\",VLOOKUP(VLOOKUP(A494,'plan gier'!$Z:$AH,8,FALSE),zawodnicy!$A:$E,1,FALSE)))","v":""},{"$f":"IF(A494=0,\"\",IF((VLOOKUP(A494,'plan gier'!$Z:$AH,7,FALSE))=\"\",\"\",VLOOKUP(A494,'plan gier'!$Z:$AH,9,FALSE)))","v":""},null,null,null,{"$f":"IF(A494=0,\"\",IF(VLOOKUP(A494,'plan gier'!A:T,20,FALSE)=\"\",\"\",VLOOKUP(A494,'plan gier'!A:T,20,FALSE)))","v":""},{"$f":"N466","v":0},null,null,null,null,null,null,{"$f":"UPPER(IF(N466=\"\",\"\",IF(TYPE(VLOOKUP(1&6&N466,I:K,3,FALSE))=2,VLOOKUP(1&6&N466,I:K,3,FALSE),\"\")))","v":""},null,{"$f":"IF(T494<>\"\",CONCATENATE(VLOOKUP(T494,zawodnicy!$A:$E,2,FALSE),\" \",VLOOKUP(T494,zawodnicy!$A:$E,3,FALSE),\" - \",VLOOKUP(T494,zawodnicy!$A:$E,4,FALSE)),\"\")","v":""},null,null,null,null,{"$f":"IF(G494=\"\",\"\",VLOOKUP(G494,zawodnicy!$A:$E,3,FALSE))","v":""}]
[null,null,null,null,null,null,null,null,null,null,null,null,null,null,null,{"$f":"IF(O465>14,30,\"\")","v":""},null,null,null,null,null,null,null,{"$f":"IF(F496=\"\",\"\",VLOOKUP(F496,zawodnicy!$A:$D,3,FALSE))","v":""},null,null,{"$f":"IF(ISBLANK(Z494),\"\",IF((VLOOKUP(Z494,'plan gier'!$Z:$AH,7,FALSE))=\"\",L494,VLOOKUP(Z494,'plan gier'!$Z:$AH,9,FALSE)))","v":""}]
[{"$f":"W497","v":0},{"$f":"IF(TYPE(T496)=16,\"\",T496)","v":""},{"$f":"IF(TYPE(T497)=16,\"\",T497)","v":""},null,null,{"$f":"IF(A496=0,IF(AND(LEN(B496)>1,LEN(D496)=0),VLOOKUP(B496,zawodnicy!$A:$E,1,FALSE),IF(AND(LEN(D496)>1,LEN(B496)=0),VLOOKUP(D496,zawodnicy!$A:$E,1,FALSE),\"\")),IF((VLOOKUP(A496,'plan gier'!$Z:$AH,7,FALSE))=\"\",\"\",VLOOKUP(VLOOKUP(A496,'plan gier'!$Z:$AH,7,FALSE),zawodnicy!$A:$E,1,FALSE)))","v":""},{"$f":"IF(A496=0,IF(AND(LEN(C496)>1,LEN(E496)=0),VLOOKUP(C496,zawodnicy!$A:$E,1,FALSE),IF(AND(LEN(E496)>1,LEN(C496)=0),VLOOKUP(E496,zawodnicy!$A:$E,1,FALSE),\"\")),IF((VLOOKUP(A496,'plan gier'!$Z:$AH,8,FALSE))=\"\",\"\",VLOOKUP(VLOOKUP(A496,'plan gier'!$Z:$AH,8,FALSE),zawodnicy!$A:$E,1,FALSE)))","v":""},{"$f":"IF(A496=0,\"\",IF((VLOOKUP(A496,'plan gier'!$Z:$AH,7,FALSE))=\"\",\"\",VLOOKUP(A496,'plan gier'!$Z:$AH,9,FALSE)))","v":""},null,null,null,{"$f":"IF(A496=0,\"\",IF(VLOOKUP(A496,'plan gier'!A:T,20,FALSE)=\"\",\"\",VLOOKUP(A496,'plan gier'!A:T,20,FALSE)))","v":""},{"$f":"N466","v":0},null,null,null,"1. z gr. 7",null,null,{"$f":"UPPER(IF(N466=\"\",\"\",IF(TYPE(VLOOKUP(1&7&N466,I:K,2,FALSE))=2,VLOOKUP(1&7&N466,I:K,2,FALSE),\"\")))","v":""},null,{"$f":"IF(T496<>\"\",CONCATENATE(VLOOKUP(T496,zawodnicy!$A:$E,2,FALSE),\" \",VLOOKUP(T496,zawodnicy!$A:$E,3,FALSE),\" - \",VLOOKUP(T496,zawodnicy!$A:$E,4,FALSE)),\"\")","v":""},null,{"$f":"IF(G496=\"\",\"\",VLOOKUP(G496,zawodnicy!$A:$D,3,FALSE))","v":""}]
[null,null,null,null,null,null,null,null,null,null,null,null,null,null,null,{"$f":"IF(O465>8,32,\"\")","v":""},null,null,null,{"$f":"UPPER(IF(N466=\"\",\"\",IF(TYPE(VLOOKUP(1&7&N466,I:K,3,FALSE))=2,VLOOKUP(1&7&N466,I:K,3,FALSE),\"\")))","v":""},null,{"$f":"IF(T497<>\"\",CONCATENATE(VLOOKUP(T497,zawodnicy!$A:$E,2,FALSE),\" \",VLOOKUP(T497,zawodnicy!$A:$E,3,FALSE),\" - \",VLOOKUP(T497,zawodnicy!$A:$E,4,FALSE)),\"\")","v":""}]
[null,null,null,null,null,null,null,null,null,null,null,null,null,null,null,null,null,null,null,null,null,{"$f":"IF(T498<>\"\",CONCATENATE(VLOOKUP(T498,zawodnicy!$A:$E,2,FALSE),\" \",VLOOKUP(T498,zawodnicy!$A:$E,3,FALSE),\" - \",VLOOKUP(T498,zawodnicy!$A:$E,4,FALSE)),\"\")","v":""}]
[]
[null,null,null,null,null,null,null,null,null,null,null,null,null,null,null,null,"Drabinka pucharowa pośredniego systemu grupowo-pucharowego dla 6 grup"]
[]
[null,null,null,null,null,null,null,null,null,null,null,null,null,null,null,null,null,null,null,"9-12.",null,null,null,"5-8.",null,null,"3-4.",null,null,"2."]
[]
[null,null,null,null,null,null,null,null,null,null,null,null,null,null,null,{"$f":"IF(O502>8,1,\"\")","v":""},null,null,null,null,null,null,null,{"$f":"IF(F505=\"\",\"\",VLOOKUP(F505,zawodnicy!$A:$D,3,FALSE))","v":""}]
[{"$f":"W506","v":0},{"$f":"IF(TYPE(T505)=16,\"\",T505)","v":""},{"$f":"IF(TYPE(T506)=16,\"\",T506)","v":""},null,null,{"$f":"IF(A505=0,IF(AND(LEN(B505)>1,LEN(D505)=0),VLOOKUP(B505,zawodnicy!$A:$E,1,FALSE),IF(AND(LEN(D505)>1,LEN(B505)=0),VLOOKUP(D505,zawodnicy!$A:$E,1,FALSE),\"\")),IF((VLOOKUP(A505,'plan gier'!$Z:$AH,7,FALSE))=\"\",\"\",VLOOKUP(VLOOKUP(A505,'plan gier'!$Z:$AH,7,FALSE),zawodnicy!$A:$E,1,FALSE)))","v":""},{"$f":"IF(A505=0,IF(AND(LEN(C505)>1,LEN(E505)=0),VLOOKUP(C505,zawodnicy!$A:$E,1,FALSE),IF(AND(LEN(E505)>1,LEN(C505)=0),VLOOKUP(E505,zawodnicy!$A:$E,1,FALSE),\"\")),IF((VLOOKUP(A505,'plan gier'!$Z:$AH,8,FALSE))=\"\",\"\",VLOOKUP(VLOOKUP(A505,'plan gier'!$Z:$AH,8,FALSE),zawodnicy!$A:$E,1,FALSE)))","v":""},{"$f":"IF(A505=0,\"\",IF((VLOOKUP(A505,'plan gier'!$Z:$AH,7,FALSE))=\"\",\"\",VLOOKUP(A505,'plan gier'!$Z:$AH,9,FALSE)))","v":""},null,null,null,{"$f":"IF(A505=0,\"\",IF(VLOOKUP(A505,'plan gier'!A:T,20,FALSE)=\"\",\"\",VLOOKUP(A505,'plan gier'!A:T,20,FALSE)))","v":""},{"$f":"N503","v":0},null,null,null,"1. z gr. 1",null,null,{"$f":"UPPER(IF(N503=\"\",\"\",IF(TYPE(VLOOKUP(1&1&N503,I:K,2,FALSE))=2,VLOOKUP(1&1&N503,I:K,2,FALSE),\"\")))","v":""},null,{"$f":"IF(T505<>\"\",CONCATENATE(VLOOKUP(T505,zawodnicy!$A:$E,2,FALSE),\" \",VLOOKUP(T505,zawodnicy!$A:$E,3,FALSE),\" - \",VLOOKUP(T505,zawodnicy!$A:$E,4,FALSE)),\"\")","v":""},null,{"$f":"IF(G505=\"\",\"\",VLOOKUP(G505,zawodnicy!$A:$D,3,FALSE))","v":""}]
[null,null,null,null,null,null,null,null,null,null,null,null,null,null,null,{"$f":"IF(O502>15,3,\"\")","v":""},null,null,null,{"$f":"UPPER(IF(N503=\"\",\"\",IF(TYPE(VLOOKUP(1&1&N503,I:K,3,FALSE))=2,VLOOKUP(1&1&N503,I:K,3,FALSE),\"\")))","v":""},null,{"$f":"IF(T506<>\"\",CONCATENATE(VLOOKUP(T506,zawodnicy!$A:$E,2,FALSE),\" \",VLOOKUP(T506,zawodnicy!$A:$E,3,FALSE),\" - \",VLOOKUP(T506,zawodnicy!$A:$E,4,FALSE)),\"\")","v":""},null,null,null,null,{"$f":"IF(F507=\"\",\"\",VLOOKUP(F507,zawodnicy!$A:$E,3,FALSE))","v":""}]
[{"$f":"Z507","v":0},{"$f":"F505","v":""},{"$f":"G505","v":""},{"$f":"F509","v":""},{"$f":"G509","v":""},{"$f":"IF(A507=0,IF(AND(LEN(B507)>0,LEN(D507)=0),B507,IF(AND(LEN(D507)>0,LEN(B507)=0),D507,\"\")),IF((VLOOKUP(A507,'plan gier'!$Z:$AH,7,FALSE))=\"\",\"\",VLOOKUP(VLOOKUP(A507,'plan gier'!$Z:$AH,7,FALSE),zawodnicy!$A:$E,1,FALSE)))","v":""},{"$f":"IF(A507=0,IF(AND(LEN(C507)>0,LEN(E507)=0),C507,IF(AND(LEN(E507)>0,LEN(C507)=0),E507,\"\")),IF((VLOOKUP(A507,'plan gier'!$Z:$AH,8,FALSE))=\"\",\"\",VLOOKUP(VLOOKUP(A507,'plan gier'!$Z:$AH,8,FALSE),zawodnicy!$A:$E,1,FALSE)))","v":""},{"$f":"IF(A507=0,\"\",IF((VLOOKUP(A507,'plan gier'!$Z:$AH,7,FALSE))=\"\",\"\",VLOOKUP(A507,'plan gier'!$Z:$AH,9,FALSE)))","v":""},null,null,null,{"$f":"IF(A507=0,\"\",IF(VLOOKUP(A507,'plan gier'!A:T,20,FALSE)=\"\",\"\",VLOOKUP(A507,'plan gier'!A:T,20,FALSE)))","v":""},{"$f":"N503","v":0},null,null,null,null,null,null,null,null,{"$f":"IF(T507<>\"\",CONCATENATE(VLOOKUP(T507,zawodnicy!$A:$E,2,FALSE),\" \",VLOOKUP(T507,zawodnicy!$A:$E,3,FALSE),\" - \",VLOOKUP(T507,zawodnicy!$A:$E,4,FALSE)),\"\")","v":""},null,null,null,null,{"$f":"IF(G507=\"\",\"\",VLOOKUP(G507,zawodnicy!$A:$E,3,FALSE))","v":""}]
[null,null,null,null,null,null,null,null,null,null,null,null,null,null,null,{"$f":"IF(O502>8,5,\"\")","v":""},"2. z gr. 6",null,null,{"$f":"UPPER(IF(N503=\"\",\"\",IF(TYPE(VLOOKUP(2&6&N503,I:K,2,FALSE))=2,VLOOKUP(2&6&N503,I:K,2,FALSE),\"\")))","v":""},null,{"$f":"IF(T508<>\"\",CONCATENATE(VLOOKUP(T508,zawodnicy!$A:$E,2,FALSE),\" \",VLOOKUP(T508,zawodnicy!$A:$E,3,FALSE),\" - \",VLOOKUP(T508,zawodnicy!$A:$E,4,FALSE)),\"\")","v":""},null,{"$f":"IF(F509=\"\",\"\",VLOOKUP(F509,zawodnicy!$A:$D,3,FALSE))","v":""},null,null,{"$f":"IF(ISBLANK(Z507),\"\",IF((VLOOKUP(Z507,'plan gier'!$Z:$AH,7,FALSE))=\"\",L507,VLOOKUP(Z507,'plan gier'!$Z:$AH,9,FALSE)))","v":""}]
[{"$f":"W509","v":0},{"$f":"IF(TYPE(T508)=16,\"\",T508)","v":""},{"$f":"IF(TYPE(T509)=16,\"\",T509)","v":""},{"$f":"IF(TYPE(T510)=16,\"\",T510)","v":""},{"$f":"IF(TYPE(T511)=16,\"\",T511)","v":""},{"$f":"IF(A509=0,IF(AND(LEN(B509)>1,LEN(D509)=0),VLOOKUP(B509,zawodnicy!$A:$E,1,FALSE),IF(AND(LEN(D509)>1,LEN(B509)=0),VLOOKUP(D509,zawodnicy!$A:$E,1,FALSE),\"\")),IF((VLOOKUP(A509,'plan gier'!$Z:$AH,7,FALSE))=\"\",\"\",VLOOKUP(VLOOKUP(A509,'plan gier'!$Z:$AH,7,FALSE),zawodnicy!$A:$E,1,FALSE)))","v":""},{"$f":"IF(A509=0,IF(AND(LEN(C509)>1,LEN(E509)=0),VLOOKUP(C509,zawodnicy!$A:$E,1,FALSE),IF(AND(LEN(E509)>1,LEN(C509)=0),VLOOKUP(E509,zawodnicy!$A:$E,1,FALSE),\"\")),IF((VLOOKUP(A509,'plan gier'!$Z:$AH,8,FALSE))=\"\",\"\",VLOOKUP(VLOOKUP(A509,'plan gier'!$Z:$AH,8,FALSE),zawodnicy!$A:$E,1,FALSE)))","v":""},{"$f":"IF(A509=0,\"\",IF((VLOOKUP(A509,'plan gier'!$Z:$AH,7,FALSE))=\"\",\"\",VLOOKUP(A509,'plan gier'!$Z:$AH,9,FALSE)))","v":""},null,null,null,{"$f":"IF(A509=0,\"\",IF(VLOOKUP(A509,'plan gier'!A:T,20,FALSE)=\"\",\"\",VLOOKUP(A509,'plan gier'!A:T,20,FALSE)))","v":""},{"$f":"N503","v":0},null,null,null,null,null,null,{"$f":"UPPER(IF(N503=\"\",\"\",IF(TYPE(VLOOKUP(2&6&N503,I:K,3,FALSE))=2,VLOOKUP(2&6&N503,I:K,3,FALSE),\"\")))","v":""},null,{"$f":"IF(T509<>\"\",CONCATENATE(VLOOKUP(T509,zawodnicy!$A:$E,2,FALSE),\" \",VLOOKUP(T509,zawodnicy!$A:$E,3,FALSE),\" - \",VLOOKUP(T509,zawodnicy!$A:$E,4,FALSE)),\"\")","v":""},null,{"$f":"IF(G509=\"\",\"\",VLOOKUP(G509,zawodnicy!$A:$D,3,FALSE))","v":""}]
[null,null,null,null,null,null,null,null,null,null,null,null,null,null,null,{"$f":"IF(O502>11,7,\"\")","v":""},"2. z gr. 5",null,null,{"$f":"UPPER(IF(N503=\"\",\"\",IF(TYPE(VLOOKUP(2&5&N503,I:K,2,FALSE))=2,VLOOKUP(2&5&N503,I:K,2,FALSE),\"\")))","v":""},null,{"$f":"IF(T510<>\"\",CONCATENATE(VLOOKUP(T510,zawodnicy!$A:$E,2,FALSE),\" \",VLOOKUP(T510,zawodnicy!$A:$E,3,FALSE),\" - \",VLOOKUP(T510,zawodnicy!$A:$E,4,FALSE)),\"\")","v":""},null,{"$f":"IF(ISBLANK(W509),\"\",IF((VLOOKUP(W509,'plan gier'!$Z:$AH,7,FALSE))=\"\",L509,VLOOKUP(W509,'plan gier'!$Z:$AH,9,FALSE)))","v":""},null,null,null,null,null,{"$f":"IF(F511=\"\",\"\",VLOOKUP(F511,zawodnicy!$A:$E,3,FALSE))","v":""}]
[{"$f":"AC511","v":0},{"$f":"F507","v":""},{"$f":"G507","v":""},{"$f":"F515","v":""},{"$f":"G515","v":""},{"$f":"IF(A511=0,IF(AND(LEN(B511)>0,LEN(D511)=0),B511,IF(AND(LEN(D511)>0,LEN(B511)=0),D511,\"\")),IF((VLOOKUP(A511,'plan gier'!$Z:$AH,7,FALSE))=\"\",\"\",VLOOKUP(VLOOKUP(A511,'plan gier'!$Z:$AH,7,FALSE),zawodnicy!$A:$E,1,FALSE)))","v":""},{"$f":"IF(A511=0,IF(AND(LEN(C511)>0,LEN(E511)=0),C511,IF(AND(LEN(E511)>0,LEN(C511)=0),E511,\"\")),IF((VLOOKUP(A511,'plan gier'!$Z:$AH,8,FALSE))=\"\",\"\",VLOOKUP(VLOOKUP(A511,'plan gier'!$Z:$AH,8,FALSE),zawodnicy!$A:$E,1,FALSE)))","v":""},{"$f":"IF(A511=0,\"\",IF((VLOOKUP(A511,'plan gier'!$Z:$AH,7,FALSE))=\"\",\"\",VLOOKUP(A511,'plan gier'!$Z:$AH,9,FALSE)))","v":""},null,null,null,{"$f":"IF(A511=0,\"\",IF(VLOOKUP(A511,'plan gier'!A:T,20,FALSE)=\"\",\"\",VLOOKUP(A511,'plan gier'!A:T,20,FALSE)))","v":""},{"$f":"N503","v":0},null,null,null,null,null,null,{"$f":"UPPER(IF(N503=\"\",\"\",IF(TYPE(VLOOKUP(2&5&N503,I:K,3,FALSE))=2,VLOOKUP(2&5&N503,I:K,3,FALSE),\"\")))","v":""},null,{"$f":"IF(T511<>\"\",CONCATENATE(VLOOKUP(T511,zawodnicy!$A:$E,2,FALSE),\" \",VLOOKUP(T511,zawodnicy!$A:$E,3,FALSE),\" - \",VLOOKUP(T511,zawodnicy!$A:$E,4,FALSE)),\"\")","v":""},null,null,null,null,null,null,null,{"$f":"IF(G511=\"\",\"\",VLOOKUP(G511,zawodnicy!$A:$E,3,FALSE))","v":""}]
[null,null,null,null,null,null,null,null,null,null,null,null,null,null,null,{"$f":"IF(O502>8,9,\"\")","v":""},null,null,null,null,null,null,null,{"$f":"IF(F513=\"\",\"\",VLOOKUP(F513,zawodnicy!$A:$D,3,FALSE))","v":""},null,null,null,null,null,{"$f":"IF(ISBLANK(AC511),\"\",IF((VLOOKUP(AC511,'plan gier'!$Z:$AH,7,FALSE))=\"\",L511,VLOOKUP(AC511,'plan gier'!$Z:$AH,9,FALSE)))","v":""}]
[{"$f":"W514","v":0},{"$f":"IF(TYPE(T513)=16,\"\",T513)","v":""},{"$f":"IF(TYPE(T514)=16,\"\",T514)","v":""},null,null,{"$f":"IF(A513=0,IF(AND(LEN(B513)>1,LEN(D513)=0),VLOOKUP(B513,zawodnicy!$A:$E,1,FALSE),IF(AND(LEN(D513)>1,LEN(B513)=0),VLOOKUP(D513,zawodnicy!$A:$E,1,FALSE),\"\")),IF((VLOOKUP(A513,'plan gier'!$Z:$AH,7,FALSE))=\"\",\"\",VLOOKUP(VLOOKUP(A513,'plan gier'!$Z:$AH,7,FALSE),zawodnicy!$A:$E,1,FALSE)))","v":""},{"$f":"IF(A513=0,IF(AND(LEN(C513)>1,LEN(E513)=0),VLOOKUP(C513,zawodnicy!$A:$E,1,FALSE),IF(AND(LEN(E513)>1,LEN(C513)=0),VLOOKUP(E513,zawodnicy!$A:$E,1,FALSE),\"\")),IF((VLOOKUP(A513,'plan gier'!$Z:$AH,8,FALSE))=\"\",\"\",VLOOKUP(VLOOKUP(A513,'plan gier'!$Z:$AH,8,FALSE),zawodnicy!$A:$E,1,FALSE)))","v":""},{"$f":"IF(A513=0,\"\",IF((VLOOKUP(A513,'plan gier'!$Z:$AH,7,FALSE))=\"\",\"\",VLOOKUP(A513,'plan gier'!$Z:$AH,9,FALSE)))","v":""},null,null,null,{"$f":"IF(A513=0,\"\",IF(VLOOKUP(A513,'plan gier'!A:T,20,FALSE)=\"\",\"\",VLOOKUP(A513,'plan gier'!A:T,20,FALSE)))","v":""},{"$f":"N503","v":0},null,null,null,"1. z gr. 2",null,null,{"$f":"UPPER(IF(N503=\"\",\"\",IF(TYPE(VLOOKUP(1&2&N503,I:K,2,FALSE))=2,VLOOKUP(1&2&N503,I:K,2,FALSE),\"\")))","v":""},null,{"$f":"IF(T513<>\"\",CONCATENATE(VLOOKUP(T513,zawodnicy!$A:$E,2,FALSE),\" \",VLOOKUP(T513,zawodnicy!$A:$E,3,FALSE),\" - \",VLOOKUP(T513,zawodnicy!$A:$E,4,FALSE)),\"\")","v":""},null,{"$f":"IF(G513=\"\",\"\",VLOOKUP(G513,zawodnicy!$A:$D,3,FALSE))","v":""}]
[null,null,null,null,null,null,null,null,null,null,null,null,null,null,null,{"$f":"IF(O502>13,11,\"\")","v":""},null,null,null,{"$f":"UPPER(IF(N503=\"\",\"\",IF(TYPE(VLOOKUP(1&2&N503,I:K,3,FALSE))=2,VLOOKUP(1&2&N503,I:K,3,FALSE),\"\")))","v":""},null,{"$f":"IF(T514<>\"\",CONCATENATE(VLOOKUP(T514,zawodnicy!$A:$E,2,FALSE),\" \",VLOOKUP(T514,zawodnicy!$A:$E,3,FALSE),\" - \",VLOOKUP(T514,zawodnicy!$A:$E,4,FALSE)),\"\")","v":""},null,null,null,null,{"$f":"IF(F515=\"\",\"\",VLOOKUP(F515,zawodnicy!$A:$E,3,FALSE))","v":""}]
[{"$f":"Z515","v":0},{"$f":"F513","v":""},{"$f":"G513","v":""},{"$f":"F517","v":""},{"$f":"G517","v":""},{"$f":"IF(A515=0,IF(AND(LEN(B515)>0,LEN(D515)=0),B515,IF(AND(LEN(D515)>0,LEN(B515)=0),D515,\"\")),IF((VLOOKUP(A515,'plan gier'!$Z:$AH,7,FALSE))=\"\",\"\",VLOOKUP(VLOOKUP(A515,'plan gier'!$Z:$AH,7,FALSE),zawodnicy!$A:$E,1,FALSE)))","v":""},{"$f":"IF(A515=0,IF(AND(LEN(C515)>0,LEN(E515)=0),C515,IF(AND(LEN(E515)>0,LEN(C515)=0),E515,\"\")),IF((VLOOKUP(A515,'plan gier'!$Z:$AH,8,FALSE))=\"\",\"\",VLOOKUP(VLOOKUP(A515,'plan gier'!$Z:$AH,8,FALSE),zawodnicy!$A:$E,1,FALSE)))","v":""},{"$f":"IF(A515=0,\"\",IF((VLOOKUP(A515,'plan gier'!$Z:$AH,7,FALSE))=\"\",\"\",VLOOKUP(A515,'plan gier'!$Z:$AH,9,FALSE)))","v":""},null,null,null,{"$f":"IF(A515=0,\"\",IF(VLOOKUP(A515,'plan gier'!A:T,20,FALSE)=\"\",\"\",VLOOKUP(A515,'plan gier'!A:T,20,FALSE)))","v":""},{"$f":"N503","v":0},null,null,null,null,null,null,null,null,{"$f":"IF(T515<>\"\",CONCATENATE(VLOOKUP(T515,zawodnicy!$A:$E,2,FALSE),\" \",VLOOKUP(T515,zawodnicy!$A:$E,3,FALSE),\" - \",VLOOKUP(T515,zawodnicy!$A:$E,4,FALSE)),\"\")","v":""},null,null,null,null,{"$f":"IF(G515=\"\",\"\",VLOOKUP(G515,zawodnicy!$A:$E,3,FALSE))","v":""}]
[null,null,null,null,null,null,null,null,null,null,null,null,null,null,null,{"$f":"IF(O502>8,13,\"\")","v":""},"1. z gr. 3",null,null,{"$f":"UPPER(IF(N503=\"\",\"\",IF(TYPE(VLOOKUP(1&3&N503,I:K,2,FALSE))=2,VLOOKUP(1&3&N503,I:K,2,FALSE),\"\")))","v":""},null,{"$f":"IF(T516<>\"\",CONCATENATE(VLOOKUP(T516,zawodnicy!$A:$E,2,FALSE),\" \",VLOOKUP(T516,zawodnicy!$A:$E,3,FALSE),\" - \",VLOOKUP(T516,zawodnicy!$A:$E,4,FALSE)),\"\")","v":""},null,{"$f":"IF(F517=\"\",\"\",VLOOKUP(F517,zawodnicy!$A:$D,3,FALSE))","v":""},null,null,{"$f":"IF(ISBLANK(Z515),\"\",IF((VLOOKUP(Z515,'plan gier'!$Z:$AH,7,FALSE))=\"\",L515,VLOOKUP(Z515,'plan gier'!$Z:$AH,9,FALSE)))","v":""},null,null,"1."]
[{"$f":"W517","v":0},{"$f":"IF(TYPE(T516)=16,\"\",T516)","v":""},{"$f":"IF(TYPE(T517)=16,\"\",T517)","v":""},{"$f":"IF(TYPE(T518)=16,\"\",T518)","v":""},{"$f":"IF(TYPE(T519)=16,\"\",T519)","v":""},{"$f":"IF(A517=0,IF(AND(LEN(B517)>1,LEN(D517)=0),VLOOKUP(B517,zawodnicy!$A:$E,1,FALSE),IF(AND(LEN(D517)>1,LEN(B517)=0),VLOOKUP(D517,zawodnicy!$A:$E,1,FALSE),\"\")),IF((VLOOKUP(A517,'plan gier'!$Z:$AH,7,FALSE))=\"\",\"\",VLOOKUP(VLOOKUP(A517,'plan gier'!$Z:$AH,7,FALSE),zawodnicy!$A:$E,1,FALSE)))","v":""},{"$f":"IF(A517=0,IF(AND(LEN(C517)>1,LEN(E517)=0),VLOOKUP(C517,zawodnicy!$A:$E,1,FALSE),IF(AND(LEN(E517)>1,LEN(C517)=0),VLOOKUP(E517,zawodnicy!$A:$E,1,FALSE),\"\")),IF((VLOOKUP(A517,'plan gier'!$Z:$AH,8,FALSE))=\"\",\"\",VLOOKUP(VLOOKUP(A517,'plan gier'!$Z:$AH,8,FALSE),zawodnicy!$A:$E,1,FALSE)))","v":""},{"$f":"IF(A517=0,\"\",IF((VLOOKUP(A517,'plan gier'!$Z:$AH,7,FALSE))=\"\",\"\",VLOOKUP(A517,'plan gier'!$Z:$AH,9,FALSE)))","v":""},null,null,null,{"$f":"IF(A517=0,\"\",IF(VLOOKUP(A517,'plan gier'!A:T,20,FALSE)=\"\",\"\",VLOOKUP(A517,'plan gier'!A:T,20,FALSE)))","v":""},{"$f":"N503","v":0},null,null,null,null,null,null,{"$f":"UPPER(IF(N503=\"\",\"\",IF(TYPE(VLOOKUP(1&3&N503,I:K,3,FALSE))=2,VLOOKUP(1&3&N503,I:K,3,FALSE),\"\")))","v":""},null,{"$f":"IF(T517<>\"\",CONCATENATE(VLOOKUP(T517,zawodnicy!$A:$E,2,FALSE),\" \",VLOOKUP(T517,zawodnicy!$A:$E,3,FALSE),\" - \",VLOOKUP(T517,zawodnicy!$A:$E,4,FALSE)),\"\")","v":""},null,{"$f":"IF(G517=\"\",\"\",VLOOKUP(G517,zawodnicy!$A:$D,3,FALSE))","v":""}]
[null,null,null,null,null,null,null,null,null,null,null,null,null,null,null,{"$f":"IF(O502>9,15,\"\")","v":""},"2. z gr. 4",null,null,{"$f":"UPPER(IF(N503=\"\",\"\",IF(TYPE(VLOOKUP(2&4&N503,I:K,2,FALSE))=2,VLOOKUP(2&4&N503,I:K,2,FALSE),\"\")))","v":""},null,{"$f":"IF(T518<>\"\",CONCATENATE(VLOOKUP(T518,zawodnicy!$A:$E,2,FALSE),\" \",VLOOKUP(T518,zawodnicy!$A:$E,3,FALSE),\" - \",VLOOKUP(T518,zawodnicy!$A:$E,4,FALSE)),\"\")","v":""},null,{"$f":"IF(ISBLANK(W517),\"\",IF((VLOOKUP(W517,'plan gier'!$Z:$AH,7,FALSE))=\"\",L517,VLOOKUP(W517,'plan gier'!$Z:$AH,9,FALSE)))","v":""},null,null,null,null,null,{"$f":"IF(F519=\"\",\"\",VLOOKUP(F519,zawodnicy!$A:$E,3,FALSE))","v":""}]
[{"$f":"AC519","v":0},{"$f":"F511","v":""},{"$f":"G511","v":""},{"$f":"F527","v":""},{"$f":"G527","v":""},{"$f":"IF(A519=0,IF(AND(LEN(B519)>0,LEN(D519)=0),B519,IF(AND(LEN(D519)>0,LEN(B519)=0),D519,\"\")),IF((VLOOKUP(A519,'plan gier'!$Z:$AH,7,FALSE))=\"\",\"\",VLOOKUP(VLOOKUP(A519,'plan gier'!$Z:$AH,7,FALSE),zawodnicy!$A:$E,1,FALSE)))","v":""},{"$f":"IF(A519=0,IF(AND(LEN(C519)>0,LEN(E519)=0),C519,IF(AND(LEN(E519)>0,LEN(C519)=0),E519,\"\")),IF((VLOOKUP(A519,'plan gier'!$Z:$AH,8,FALSE))=\"\",\"\",VLOOKUP(VLOOKUP(A519,'plan gier'!$Z:$AH,8,FALSE),zawodnicy!$A:$E,1,FALSE)))","v":""},{"$f":"IF(A519=0,\"\",IF((VLOOKUP(A519,'plan gier'!$Z:$AH,7,FALSE))=\"\",\"\",VLOOKUP(A519,'plan gier'!$Z:$AH,9,FALSE)))","v":""},null,null,null,{"$f":"IF(A519=0,\"\",IF(VLOOKUP(A519,'plan gier'!A:T,20,FALSE)=\"\",\"\",VLOOKUP(A519,'plan gier'!A:T,20,FALSE)))","v":""},{"$f":"N503","v":0},null,null,null,null,null,null,{"$f":"UPPER(IF(N503=\"\",\"\",IF(TYPE(VLOOKUP(2&4&N503,I:K,3,FALSE))=2,VLOOKUP(2&4&N503,I:K,3,FALSE),\"\")))","v":""},null,{"$f":"IF(T519<>\"\",CONCATENATE(VLOOKUP(T519,zawodnicy!$A:$E,2,FALSE),\" \",VLOOKUP(T519,zawodnicy!$A:$E,3,FALSE),\" - \",VLOOKUP(T519,zawodnicy!$A:$E,4,FALSE)),\"\")","v":""},null,null,null,null,null,null,null,{"$f":"IF(G519=\"\",\"\",VLOOKUP(G519,zawodnicy!$A:$E,3,FALSE))","v":""}]
[null,null,null,null,null,null,null,null,null,null,null,null,null,null,null,{"$f":"IF(O502>8,18,\"\")","v":""},"2. z gr. 3",null,null,{"$f":"UPPER(IF(N503=\"\",\"\",IF(TYPE(VLOOKUP(2&3&N503,I:K,2,FALSE))=2,VLOOKUP(2&3&N503,I:K,2,FALSE),\"\")))","v":""},null,{"$f":"IF(T520<>\"\",CONCATENATE(VLOOKUP(T520,zawodnicy!$A:$E,2,FALSE),\" \",VLOOKUP(T520,zawodnicy!$A:$E,3,FALSE),\" - \",VLOOKUP(T520,zawodnicy!$A:$E,4,FALSE)),\"\")","v":""},null,{"$f":"IF(F521=\"\",\"\",VLOOKUP(F521,zawodnicy!$A:$D,3,FALSE))","v":""},null,null,null,null,null,{"$f":"IF(ISBLANK(AC519),\"\",IF((VLOOKUP(AC519,'plan gier'!$Z:$AH,7,FALSE))=\"\",L519,VLOOKUP(AC519,'plan gier'!$Z:$AH,9,FALSE)))","v":""}]
[{"$f":"W521","v":0},{"$f":"IF(TYPE(T520)=16,\"\",T520)","v":""},{"$f":"IF(TYPE(T521)=16,\"\",T521)","v":""},{"$f":"IF(TYPE(T522)=16,\"\",T522)","v":""},{"$f":"IF(TYPE(T523)=16,\"\",T523)","v":""},{"$f":"IF(A521=0,IF(AND(LEN(B521)>1,LEN(D521)=0),VLOOKUP(B521,zawodnicy!$A:$E,1,FALSE),IF(AND(LEN(D521)>1,LEN(B521)=0),VLOOKUP(D521,zawodnicy!$A:$E,1,FALSE),\"\")),IF((VLOOKUP(A521,'plan gier'!$Z:$AH,7,FALSE))=\"\",\"\",VLOOKUP(VLOOKUP(A521,'plan gier'!$Z:$AH,7,FALSE),zawodnicy!$A:$E,1,FALSE)))","v":""},{"$f":"IF(A521=0,IF(AND(LEN(C521)>1,LEN(E521)=0),VLOOKUP(C521,zawodnicy!$A:$E,1,FALSE),IF(AND(LEN(E521)>1,LEN(C521)=0),VLOOKUP(E521,zawodnicy!$A:$E,1,FALSE),\"\")),IF((VLOOKUP(A521,'plan gier'!$Z:$AH,8,FALSE))=\"\",\"\",VLOOKUP(VLOOKUP(A521,'plan gier'!$Z:$AH,8,FALSE),zawodnicy!$A:$E,1,FALSE)))","v":""},{"$f":"IF(A521=0,\"\",IF((VLOOKUP(A521,'plan gier'!$Z:$AH,7,FALSE))=\"\",\"\",VLOOKUP(A521,'plan gier'!$Z:$AH,9,FALSE)))","v":""},null,null,null,{"$f":"IF(A521=0,\"\",IF(VLOOKUP(A521,'plan gier'!A:T,20,FALSE)=\"\",\"\",VLOOKUP(A521,'plan gier'!A:T,20,FALSE)))","v":""},{"$f":"N503","v":0},null,null,null,null,null,null,{"$f":"UPPER(IF(N503=\"\",\"\",IF(TYPE(VLOOKUP(2&3&N503,I:K,3,FALSE))=2,VLOOKUP(2&3&N503,I:K,3,FALSE),\"\")))","v":""},null,{"$f":"IF(T521<>\"\",CONCATENATE(VLOOKUP(T521,zawodnicy!$A:$E,2,FALSE),\" \",VLOOKUP(T521,zawodnicy!$A:$E,3,FALSE),\" - \",VLOOKUP(T521,zawodnicy!$A:$E,4,FALSE)),\"\")","v":""},null,{"$f":"IF(G521=\"\",\"\",VLOOKUP(G521,zawodnicy!$A:$D,3,FALSE))","v":""}]
[null,null,null,null,null,null,null,null,null,null,null,null,null,null,null,{"$f":"IF(O502>8,20,\"\")","v":""},"1. z gr. 4",null,null,{"$f":"UPPER(IF(N503=\"\",\"\",IF(TYPE(VLOOKUP(1&4&N503,I:K,2,FALSE))=2,VLOOKUP(1&4&N503,I:K,2,FALSE),\"\")))","v":""},null,{"$f":"IF(T522<>\"\",CONCATENATE(VLOOKUP(T522,zawodnicy!$A:$E,2,FALSE),\" \",VLOOKUP(T522,zawodnicy!$A:$E,3,FALSE),\" - \",VLOOKUP(T522,zawodnicy!$A:$E,4,FALSE)),\"\")","v":""},null,{"$f":"IF(ISBLANK(W521),\"\",IF((VLOOKUP(W521,'plan gier'!$Z:$AH,7,FALSE))=\"\",L521,VLOOKUP(W521,'plan gier'!$Z:$AH,9,FALSE)))","v":""},null,null,{"$f":"IF(F523=\"\",\"\",VLOOKUP(F523,zawodnicy!$A:$E,3,FALSE))","v":""}]
[{"$f":"Z523","v":0},{"$f":"F521","v":""},{"$f":"G521","v":""},{"$f":"F525","v":""},{"$f":"G525","v":""},{"$f":"IF(A523=0,IF(AND(LEN(B523)>0,LEN(D523)=0),B523,IF(AND(LEN(D523)>0,LEN(B523)=0),D523,\"\")),IF((VLOOKUP(A523,'plan gier'!$Z:$AH,7,FALSE))=\"\",\"\",VLOOKUP(VLOOKUP(A523,'plan gier'!$Z:$AH,7,FALSE),zawodnicy!$A:$E,1,FALSE)))","v":""},{"$f":"IF(A523=0,IF(AND(LEN(C523)>0,LEN(E523)=0),C523,IF(AND(LEN(E523)>0,LEN(C523)=0),E523,\"\")),IF((VLOOKUP(A523,'plan gier'!$Z:$AH,8,FALSE))=\"\",\"\",VLOOKUP(VLOOKUP(A523,'plan gier'!$Z:$AH,8,FALSE),zawodnicy!$A:$E,1,FALSE)))","v":""},{"$f":"IF(A523=0,\"\",IF((VLOOKUP(A523,'plan gier'!$Z:$AH,7,FALSE))=\"\",\"\",VLOOKUP(A523,'plan gier'!$Z:$AH,9,FALSE)))","v":""},null,null,null,{"$f":"IF(A523=0,\"\",IF(VLOOKUP(A523,'plan gier'!A:T,20,FALSE)=\"\",\"\",VLOOKUP(A523,'plan gier'!A:T,20,FALSE)))","v":""},{"$f":"N503","v":0},null,null,null,null,null,null,{"$f":"UPPER(IF(N503=\"\",\"\",IF(TYPE(VLOOKUP(1&4&N503,I:K,3,FALSE))=2,VLOOKUP(1&4&N503,I:K,3,FALSE),\"\")))","v":""},null,{"$f":"IF(T523<>\"\",CONCATENATE(VLOOKUP(T523,zawodnicy!$A:$E,2,FALSE),\" \",VLOOKUP(T523,zawodnicy!$A:$E,3,FALSE),\" - \",VLOOKUP(T523,zawodnicy!$A:$E,4,FALSE)),\"\")","v":""},null,null,null,null,{"$f":"IF(G523=\"\",\"\",VLOOKUP(G523,zawodnicy!$A:$E,3,FALSE))","v":""}]
[null,null,null,null,null,null,null,null,null,null,null,null,null,null,null,{"$f":"IF(O502>12,22,\"\")","v":""},null,null,null,null,null,null,null,{"$f":"IF(F525=\"\",\"\",VLOOKUP(F525,zawodnicy!$A:$D,3,FALSE))","v":""},null,null,{"$f":"IF(ISBLANK(Z523),\"\",IF((VLOOKUP(Z523,'plan gier'!$Z:$AH,7,FALSE))=\"\",L523,VLOOKUP(Z523,'plan gier'!$Z:$AH,9,FALSE)))","v":""}]
[{"$f":"W526","v":0},{"$f":"IF(TYPE(T525)=16,\"\",T525)","v":""},{"$f":"IF(TYPE(T526)=16,\"\",T526)","v":""},null,null,{"$f":"IF(A525=0,IF(AND(LEN(B525)>1,LEN(D525)=0),VLOOKUP(B525,zawodnicy!$A:$E,1,FALSE),IF(AND(LEN(D525)>1,LEN(B525)=0),VLOOKUP(D525,zawodnicy!$A:$E,1,FALSE),\"\")),IF((VLOOKUP(A525,'plan gier'!$Z:$AH,7,FALSE))=\"\",\"\",VLOOKUP(VLOOKUP(A525,'plan gier'!$Z:$AH,7,FALSE),zawodnicy!$A:$E,1,FALSE)))","v":""},{"$f":"IF(A525=0,IF(AND(LEN(C525)>1,LEN(E525)=0),VLOOKUP(C525,zawodnicy!$A:$E,1,FALSE),IF(AND(LEN(E525)>1,LEN(C525)=0),VLOOKUP(E525,zawodnicy!$A:$E,1,FALSE),\"\")),IF((VLOOKUP(A525,'plan gier'!$Z:$AH,8,FALSE))=\"\",\"\",VLOOKUP(VLOOKUP(A525,'plan gier'!$Z:$AH,8,FALSE),zawodnicy!$A:$E,1,FALSE)))","v":""},{"$f":"IF(A525=0,\"\",IF((VLOOKUP(A525,'plan gier'!$Z:$AH,7,FALSE))=\"\",\"\",VLOOKUP(A525,'plan gier'!$Z:$AH,9,FALSE)))","v":""},null,null,null,{"$f":"IF(A525=0,\"\",IF(VLOOKUP(A525,'plan gier'!A:T,20,FALSE)=\"\",\"\",VLOOKUP(A525,'plan gier'!A:T,20,FALSE)))","v":""},{"$f":"N503","v":0},null,null,null,"1. z gr. 5",null,null,{"$f":"UPPER(IF(N503=\"\",\"\",IF(TYPE(VLOOKUP(1&5&N503,I:K,2,FALSE))=2,VLOOKUP(1&5&N503,I:K,2,FALSE),\"\")))","v":""},null,{"$f":"IF(T525<>\"\",CONCATENATE(VLOOKUP(T525,zawodnicy!$A:$E,2,FALSE),\" \",VLOOKUP(T525,zawodnicy!$A:$E,3,FALSE),\" - \",VLOOKUP(T525,zawodnicy!$A:$E,4,FALSE)),\"\")","v":""},null,{"$f":"IF(G525=\"\",\"\",VLOOKUP(G525,zawodnicy!$A:$D,3,FALSE))","v":""}]
[null,null,null,null,null,null,null,null,null,null,null,null,null,null,null,{"$f":"IF(O502>8,24,\"\")","v":""},null,null,null,{"$f":"UPPER(IF(N503=\"\",\"\",IF(TYPE(VLOOKUP(1&5&N503,I:K,3,FALSE))=2,VLOOKUP(1&5&N503,I:K,3,FALSE),\"\")))","v":""},null,{"$f":"IF(T526<>\"\",CONCATENATE(VLOOKUP(T526,zawodnicy!$A:$E,2,FALSE),\" \",VLOOKUP(T526,zawodnicy!$A:$E,3,FALSE),\" - \",VLOOKUP(T526,zawodnicy!$A:$E,4,FALSE)),\"\")","v":""},null,null,null,null,null,null,null,{"$f":"IF(F527=\"\",\"\",VLOOKUP(F527,zawodnicy!$A:$E,3,FALSE))","v":""}]
[{"$f":"AC527","v":0},{"$f":"F523","v":""},{"$f":"G523","v":""},{"$f":"F531","v":""},{"$f":"G531","v":""},{"$f":"IF(A527=0,IF(AND(LEN(B527)>0,LEN(D527)=0),B527,IF(AND(LEN(D527)>0,LEN(B527)=0),D527,\"\")),IF((VLOOKUP(A527,'plan gier'!$Z:$AH,7,FALSE))=\"\",\"\",VLOOKUP(VLOOKUP(A527,'plan gier'!$Z:$AH,7,FALSE),zawodnicy!$A:$E,1,FALSE)))","v":""},{"$f":"IF(A527=0,IF(AND(LEN(C527)>0,LEN(E527)=0),C527,IF(AND(LEN(E527)>0,LEN(C527)=0),E527,\"\")),IF((VLOOKUP(A527,'plan gier'!$Z:$AH,8,FALSE))=\"\",\"\",VLOOKUP(VLOOKUP(A527,'plan gier'!$Z:$AH,8,FALSE),zawodnicy!$A:$E,1,FALSE)))","v":""},{"$f":"IF(A527=0,\"\",IF((VLOOKUP(A527,'plan gier'!$Z:$AH,7,FALSE))=\"\",\"\",VLOOKUP(A527,'plan gier'!$Z:$AH,9,FALSE)))","v":""},null,null,null,{"$f":"IF(A527=0,\"\",IF(VLOOKUP(A527,'plan gier'!A:T,20,FALSE)=\"\",\"\",VLOOKUP(A527,'plan gier'!A:T,20,FALSE)))","v":""},{"$f":"N503","v":0},null,null,null,null,null,null,null,null,{"$f":"IF(T527<>\"\",CONCATENATE(VLOOKUP(T527,zawodnicy!$A:$E,2,FALSE),\" \",VLOOKUP(T527,zawodnicy!$A:$E,3,FALSE),\" - \",VLOOKUP(T527,zawodnicy!$A:$E,4,FALSE)),\"\")","v":""},null,null,null,null,null,null,null,{"$f":"IF(G527=\"\",\"\",VLOOKUP(G527,zawodnicy!$A:$E,3,FALSE))","v":""}]
[null,null,null,null,null,null,null,null,null,null,null,null,null,null,null,{"$f":"IF(O502>10,26,\"\")","v":""},"2. z gr. 2",null,null,{"$f":"UPPER(IF(N503=\"\",\"\",IF(TYPE(VLOOKUP(2&2&N503,I:K,2,FALSE))=2,VLOOKUP(2&2&N503,I:K,2,FALSE),\"\")))","v":""},null,{"$f":"IF(T528<>\"\",CONCATENATE(VLOOKUP(T528,zawodnicy!$A:$E,2,FALSE),\" \",VLOOKUP(T528,zawodnicy!$A:$E,3,FALSE),\" - \",VLOOKUP(T528,zawodnicy!$A:$E,4,FALSE)),\"\")","v":""},null,{"$f":"IF(F529=\"\",\"\",VLOOKUP(F529,zawodnicy!$A:$D,3,FALSE))","v":""},null,null,null,null,null,{"$f":"IF(ISBLANK(AC527),\"\",IF((VLOOKUP(AC527,'plan gier'!$Z:$AH,7,FALSE))=\"\",L527,VLOOKUP(AC527,'plan gier'!$Z:$AH,9,FALSE)))","v":""}]
[{"$f":"W529","v":0},{"$f":"IF(TYPE(T528)=16,\"\",T528)","v":""},{"$f":"IF(TYPE(T529)=16,\"\",T529)","v":""},{"$f":"IF(TYPE(T530)=16,\"\",T530)","v":""},{"$f":"IF(TYPE(T531)=16,\"\",T531)","v":""},{"$f":"IF(A529=0,IF(AND(LEN(B529)>1,LEN(D529)=0),VLOOKUP(B529,zawodnicy!$A:$E,1,FALSE),IF(AND(LEN(D529)>1,LEN(B529)=0),VLOOKUP(D529,zawodnicy!$A:$E,1,FALSE),\"\")),IF((VLOOKUP(A529,'plan gier'!$Z:$AH,7,FALSE))=\"\",\"\",VLOOKUP(VLOOKUP(A529,'plan gier'!$Z:$AH,7,FALSE),zawodnicy!$A:$E,1,FALSE)))","v":""},{"$f":"IF(A529=0,IF(AND(LEN(C529)>1,LEN(E529)=0),VLOOKUP(C529,zawodnicy!$A:$E,1,FALSE),IF(AND(LEN(E529)>1,LEN(C529)=0),VLOOKUP(E529,zawodnicy!$A:$E,1,FALSE),\"\")),IF((VLOOKUP(A529,'plan gier'!$Z:$AH,8,FALSE))=\"\",\"\",VLOOKUP(VLOOKUP(A529,'plan gier'!$Z:$AH,8,FALSE),zawodnicy!$A:$E,1,FALSE)))","v":""},{"$f":"IF(A529=0,\"\",IF((VLOOKUP(A529,'plan gier'!$Z:$AH,7,FALSE))=\"\",\"\",VLOOKUP(A529,'plan gier'!$Z:$AH,9,FALSE)))","v":""},null,null,null,{"$f":"IF(A529=0,\"\",IF(VLOOKUP(A529,'plan gier'!A:T,20,FALSE)=\"\",\"\",VLOOKUP(A529,'plan gier'!A:T,20,FALSE)))","v":""},{"$f":"N503","v":0},null,null,null,null,null,null,{"$f":"UPPER(IF(N503=\"\",\"\",IF(TYPE(VLOOKUP(2&2&N503,I:K,3,FALSE))=2,VLOOKUP(2&2&N503,I:K,3,FALSE),\"\")))","v":""},null,{"$f":"IF(T529<>\"\",CONCATENATE(VLOOKUP(T529,zawodnicy!$A:$E,2,FALSE),\" \",VLOOKUP(T529,zawodnicy!$A:$E,3,FALSE),\" - \",VLOOKUP(T529,zawodnicy!$A:$E,4,FALSE)),\"\")","v":""},null,{"$f":"IF(G529=\"\",\"\",VLOOKUP(G529,zawodnicy!$A:$D,3,FALSE))","v":""}]
[null,null,null,null,null,null,null,null,null,null,null,null,null,null,null,{"$f":"IF(O502>8,28,\"\")","v":""},"2. z gr. 1",null,null,{"$f":"UPPER(IF(N503=\"\",\"\",IF(TYPE(VLOOKUP(2&1&N503,I:K,2,FALSE))=2,VLOOKUP(2&1&N503,I:K,2,FALSE),\"\")))","v":""},null,{"$f":"IF(T530<>\"\",CONCATENATE(VLOOKUP(T530,zawodnicy!$A:$E,2,FALSE),\" \",VLOOKUP(T530,zawodnicy!$A:$E,3,FALSE),\" - \",VLOOKUP(T530,zawodnicy!$A:$E,4,FALSE)),\"\")","v":""},null,{"$f":"IF(ISBLANK(W529),\"\",IF((VLOOKUP(W529,'plan gier'!$Z:$AH,7,FALSE))=\"\",L529,VLOOKUP(W529,'plan gier'!$Z:$AH,9,FALSE)))","v":""},null,null,{"$f":"IF(F531=\"\",\"\",VLOOKUP(F531,zawodnicy!$A:$E,3,FALSE))","v":""}]
[{"$f":"Z531","v":0},{"$f":"F529","v":""},{"$f":"G529","v":""},{"$f":"F533","v":""},{"$f":"G533","v":""},{"$f":"IF(A531=0,IF(AND(LEN(B531)>0,LEN(D531)=0),B531,IF(AND(LEN(D531)>0,LEN(B531)=0),D531,\"\")),IF((VLOOKUP(A531,'plan gier'!$Z:$AH,7,FALSE))=\"\",\"\",VLOOKUP(VLOOKUP(A531,'plan gier'!$Z:$AH,7,FALSE),zawodnicy!$A:$E,1,FALSE)))","v":""},{"$f":"IF(A531=0,IF(AND(LEN(C531)>0,LEN(E531)=0),C531,IF(AND(LEN(E531)>0,LEN(C531)=0),E531,\"\")),IF((VLOOKUP(A531,'plan gier'!$Z:$AH,8,FALSE))=\"\",\"\",VLOOKUP(VLOOKUP(A531,'plan gier'!$Z:$AH,8,FALSE),zawodnicy!$A:$E,1,FALSE)))","v":""},{"$f":"IF(A531=0,\"\",IF((VLOOKUP(A531,'plan gier'!$Z:$AH,7,FALSE))=\"\",\"\",VLOOKUP(A531,'plan gier'!$Z:$AH,9,FALSE)))","v":""},null,null,null,{"$f":"IF(A531=0,\"\",IF(VLOOKUP(A531,'plan gier'!A:T,20,FALSE)=\"\",\"\",VLOOKUP(A531,'plan gier'!A:T,20,FALSE)))","v":""},{"$f":"N503","v":0},null,null,null,null,null,null,{"$f":"UPPER(IF(N503=\"\",\"\",IF(TYPE(VLOOKUP(2&1&N503,I:K,3,FALSE))=2,VLOOKUP(2&1&N503,I:K,3,FALSE),\"\")))","v":""},null,{"$f":"IF(T531<>\"\",CONCATENATE(VLOOKUP(T531,zawodnicy!$A:$E,2,FALSE),\" \",VLOOKUP(T531,zawodnicy!$A:$E,3,FALSE),\" - \",VLOOKUP(T531,zawodnicy!$A:$E,4,FALSE)),\"\")","v":""},null,null,null,null,{"$f":"IF(G531=\"\",\"\",VLOOKUP(G531,zawodnicy!$A:$E,3,FALSE))","v":""}]
[null,null,null,null,null,null,null,null,null,null,null,null,null,null,null,{"$f":"IF(O502>14,30,\"\")","v":""},null,null,null,null,null,null,null,{"$f":"IF(F533=\"\",\"\",VLOOKUP(F533,zawodnicy!$A:$D,3,FALSE))","v":""},null,null,{"$f":"IF(ISBLANK(Z531),\"\",IF((VLOOKUP(Z531,'plan gier'!$Z:$AH,7,FALSE))=\"\",L531,VLOOKUP(Z531,'plan gier'!$Z:$AH,9,FALSE)))","v":""}]
[{"$f":"W534","v":0},{"$f":"IF(TYPE(T533)=16,\"\",T533)","v":""},{"$f":"IF(TYPE(T534)=16,\"\",T534)","v":""},null,null,{"$f":"IF(A533=0,IF(AND(LEN(B533)>1,LEN(D533)=0),VLOOKUP(B533,zawodnicy!$A:$E,1,FALSE),IF(AND(LEN(D533)>1,LEN(B533)=0),VLOOKUP(D533,zawodnicy!$A:$E,1,FALSE),\"\")),IF((VLOOKUP(A533,'plan gier'!$Z:$AH,7,FALSE))=\"\",\"\",VLOOKUP(VLOOKUP(A533,'plan gier'!$Z:$AH,7,FALSE),zawodnicy!$A:$E,1,FALSE)))","v":""},{"$f":"IF(A533=0,IF(AND(LEN(C533)>1,LEN(E533)=0),VLOOKUP(C533,zawodnicy!$A:$E,1,FALSE),IF(AND(LEN(E533)>1,LEN(C533)=0),VLOOKUP(E533,zawodnicy!$A:$E,1,FALSE),\"\")),IF((VLOOKUP(A533,'plan gier'!$Z:$AH,8,FALSE))=\"\",\"\",VLOOKUP(VLOOKUP(A533,'plan gier'!$Z:$AH,8,FALSE),zawodnicy!$A:$E,1,FALSE)))","v":""},{"$f":"IF(A533=0,\"\",IF((VLOOKUP(A533,'plan gier'!$Z:$AH,7,FALSE))=\"\",\"\",VLOOKUP(A533,'plan gier'!$Z:$AH,9,FALSE)))","v":""},null,null,null,{"$f":"IF(A533=0,\"\",IF(VLOOKUP(A533,'plan gier'!A:T,20,FALSE)=\"\",\"\",VLOOKUP(A533,'plan gier'!A:T,20,FALSE)))","v":""},{"$f":"N503","v":0},null,null,null,"1. z gr. 6",null,null,{"$f":"UPPER(IF(N503=\"\",\"\",IF(TYPE(VLOOKUP(1&6&N503,I:K,2,FALSE))=2,VLOOKUP(1&6&N503,I:K,2,FALSE),\"\")))","v":""},null,{"$f":"IF(T533<>\"\",CONCATENATE(VLOOKUP(T533,zawodnicy!$A:$E,2,FALSE),\" \",VLOOKUP(T533,zawodnicy!$A:$E,3,FALSE),\" - \",VLOOKUP(T533,zawodnicy!$A:$E,4,FALSE)),\"\")","v":""},null,{"$f":"IF(G533=\"\",\"\",VLOOKUP(G533,zawodnicy!$A:$D,3,FALSE))","v":""}]
[null,null,null,null,null,null,null,null,null,null,null,null,null,null,null,{"$f":"IF(O502>8,32,\"\")","v":""},null,null,null,{"$f":"UPPER(IF(N503=\"\",\"\",IF(TYPE(VLOOKUP(1&6&N503,I:K,3,FALSE))=2,VLOOKUP(1&6&N503,I:K,3,FALSE),\"\")))","v":""},null,{"$f":"IF(T534<>\"\",CONCATENATE(VLOOKUP(T534,zawodnicy!$A:$E,2,FALSE),\" \",VLOOKUP(T534,zawodnicy!$A:$E,3,FALSE),\" - \",VLOOKUP(T534,zawodnicy!$A:$E,4,FALSE)),\"\")","v":""}]
[]
[]
[null,null,null,null,null,null,null,null,null,null,null,null,null,null,null,null,"Drabinka pucharowa pośredniego systemu grupowo-pucharowego dla 5 grup"]
[]
[null,null,null,null,null,null,null,null,null,null,null,null,null,null,null,null,null,null,null,"9-10.",null,null,null,"5-8.",null,null,"3-4.",null,null,"2."]
[]
[null,null,null,null,null,null,null,null,null,null,null,null,null,null,null,{"$f":"IF(O539>8,1,\"\")","v":""},null,null,null,null,null,null,null,{"$f":"IF(F542=\"\",\"\",VLOOKUP(F542,zawodnicy!$A:$D,3,FALSE))","v":""}]
[{"$f":"W543","v":0},{"$f":"IF(TYPE(T542)=16,\"\",T542)","v":""},{"$f":"IF(TYPE(T543)=16,\"\",T543)","v":""},null,null,{"$f":"IF(A542=0,IF(AND(LEN(B542)>1,LEN(D542)=0),VLOOKUP(B542,zawodnicy!$A:$E,1,FALSE),IF(AND(LEN(D542)>1,LEN(B542)=0),VLOOKUP(D542,zawodnicy!$A:$E,1,FALSE),\"\")),IF((VLOOKUP(A542,'plan gier'!$Z:$AH,7,FALSE))=\"\",\"\",VLOOKUP(VLOOKUP(A542,'plan gier'!$Z:$AH,7,FALSE),zawodnicy!$A:$E,1,FALSE)))","v":""},{"$f":"IF(A542=0,IF(AND(LEN(C542)>1,LEN(E542)=0),VLOOKUP(C542,zawodnicy!$A:$E,1,FALSE),IF(AND(LEN(E542)>1,LEN(C542)=0),VLOOKUP(E542,zawodnicy!$A:$E,1,FALSE),\"\")),IF((VLOOKUP(A542,'plan gier'!$Z:$AH,8,FALSE))=\"\",\"\",VLOOKUP(VLOOKUP(A542,'plan gier'!$Z:$AH,8,FALSE),zawodnicy!$A:$E,1,FALSE)))","v":""},{"$f":"IF(A542=0,\"\",IF((VLOOKUP(A542,'plan gier'!$Z:$AH,7,FALSE))=\"\",\"\",VLOOKUP(A542,'plan gier'!$Z:$AH,9,FALSE)))","v":""},null,null,null,{"$f":"IF(A542=0,\"\",IF(VLOOKUP(A542,'plan gier'!A:T,20,FALSE)=\"\",\"\",VLOOKUP(A542,'plan gier'!A:T,20,FALSE)))","v":""},{"$f":"N540","v":0},null,null,null,"1. z gr. 1",null,null,{"$f":"UPPER(IF(N540=\"\",\"\",IF(TYPE(VLOOKUP(1&1&N540,I:K,2,FALSE))=2,VLOOKUP(1&1&N540,I:K,2,FALSE),\"\")))","v":""},null,{"$f":"IF(T542<>\"\",CONCATENATE(VLOOKUP(T542,zawodnicy!$A:$E,2,FALSE),\" \",VLOOKUP(T542,zawodnicy!$A:$E,3,FALSE),\" - \",VLOOKUP(T542,zawodnicy!$A:$E,4,FALSE)),\"\")","v":""},null,{"$f":"IF(G542=\"\",\"\",VLOOKUP(G542,zawodnicy!$A:$D,3,FALSE))","v":""}]
[null,null,null,null,null,null,null,null,null,null,null,null,null,null,null,{"$f":"IF(O539>15,3,\"\")","v":""},null,null,null,{"$f":"UPPER(IF(N540=\"\",\"\",IF(TYPE(VLOOKUP(1&1&N540,I:K,3,FALSE))=2,VLOOKUP(1&1&N540,I:K,3,FALSE),\"\")))","v":""},null,{"$f":"IF(T543<>\"\",CONCATENATE(VLOOKUP(T543,zawodnicy!$A:$E,2,FALSE),\" \",VLOOKUP(T543,zawodnicy!$A:$E,3,FALSE),\" - \",VLOOKUP(T543,zawodnicy!$A:$E,4,FALSE)),\"\")","v":""},null,null,null,null,{"$f":"IF(F544=\"\",\"\",VLOOKUP(F544,zawodnicy!$A:$E,3,FALSE))","v":""}]
[{"$f":"Z544","v":0},{"$f":"F542","v":""},{"$f":"G542","v":""},{"$f":"F546","v":""},{"$f":"G546","v":""},{"$f":"IF(A544=0,IF(AND(LEN(B544)>0,LEN(D544)=0),B544,IF(AND(LEN(D544)>0,LEN(B544)=0),D544,\"\")),IF((VLOOKUP(A544,'plan gier'!$Z:$AH,7,FALSE))=\"\",\"\",VLOOKUP(VLOOKUP(A544,'plan gier'!$Z:$AH,7,FALSE),zawodnicy!$A:$E,1,FALSE)))","v":""},{"$f":"IF(A544=0,IF(AND(LEN(C544)>0,LEN(E544)=0),C544,IF(AND(LEN(E544)>0,LEN(C544)=0),E544,\"\")),IF((VLOOKUP(A544,'plan gier'!$Z:$AH,8,FALSE))=\"\",\"\",VLOOKUP(VLOOKUP(A544,'plan gier'!$Z:$AH,8,FALSE),zawodnicy!$A:$E,1,FALSE)))","v":""},{"$f":"IF(A544=0,\"\",IF((VLOOKUP(A544,'plan gier'!$Z:$AH,7,FALSE))=\"\",\"\",VLOOKUP(A544,'plan gier'!$Z:$AH,9,FALSE)))","v":""},null,null,null,{"$f":"IF(A544=0,\"\",IF(VLOOKUP(A544,'plan gier'!A:T,20,FALSE)=\"\",\"\",VLOOKUP(A544,'plan gier'!A:T,20,FALSE)))","v":""},{"$f":"N540","v":0},null,null,null,null,null,null,null,null,{"$f":"IF(T544<>\"\",CONCATENATE(VLOOKUP(T544,zawodnicy!$A:$E,2,FALSE),\" \",VLOOKUP(T544,zawodnicy!$A:$E,3,FALSE),\" - \",VLOOKUP(T544,zawodnicy!$A:$E,4,FALSE)),\"\")","v":""},null,null,null,null,{"$f":"IF(G544=\"\",\"\",VLOOKUP(G544,zawodnicy!$A:$E,3,FALSE))","v":""}]
[null,null,null,null,null,null,null,null,null,null,null,null,null,null,null,{"$f":"IF(O539>8,5,\"\")","v":""},null,null,null,null,null,null,null,{"$f":"IF(F546=\"\",\"\",VLOOKUP(F546,zawodnicy!$A:$D,3,FALSE))","v":""},null,null,{"$f":"IF(ISBLANK(Z544),\"\",IF((VLOOKUP(Z544,'plan gier'!$Z:$AH,7,FALSE))=\"\",L544,VLOOKUP(Z544,'plan gier'!$Z:$AH,9,FALSE)))","v":""}]
[{"$f":"W547","v":0},{"$f":"IF(TYPE(T546)=16,\"\",T546)","v":""},{"$f":"IF(TYPE(T547)=16,\"\",T547)","v":""},null,null,{"$f":"IF(A546=0,IF(AND(LEN(B546)>1,LEN(D546)=0),VLOOKUP(B546,zawodnicy!$A:$E,1,FALSE),IF(AND(LEN(D546)>1,LEN(B546)=0),VLOOKUP(D546,zawodnicy!$A:$E,1,FALSE),\"\")),IF((VLOOKUP(A546,'plan gier'!$Z:$AH,7,FALSE))=\"\",\"\",VLOOKUP(VLOOKUP(A546,'plan gier'!$Z:$AH,7,FALSE),zawodnicy!$A:$E,1,FALSE)))","v":""},{"$f":"IF(A546=0,IF(AND(LEN(C546)>1,LEN(E546)=0),VLOOKUP(C546,zawodnicy!$A:$E,1,FALSE),IF(AND(LEN(E546)>1,LEN(C546)=0),VLOOKUP(E546,zawodnicy!$A:$E,1,FALSE),\"\")),IF((VLOOKUP(A546,'plan gier'!$Z:$AH,8,FALSE))=\"\",\"\",VLOOKUP(VLOOKUP(A546,'plan gier'!$Z:$AH,8,FALSE),zawodnicy!$A:$E,1,FALSE)))","v":""},{"$f":"IF(A546=0,\"\",IF((VLOOKUP(A546,'plan gier'!$Z:$AH,7,FALSE))=\"\",\"\",VLOOKUP(A546,'plan gier'!$Z:$AH,9,FALSE)))","v":""},null,null,null,{"$f":"IF(A546=0,\"\",IF(VLOOKUP(A546,'plan gier'!A:T,20,FALSE)=\"\",\"\",VLOOKUP(A546,'plan gier'!A:T,20,FALSE)))","v":""},{"$f":"N540","v":0},null,null,null,"2. z gr. 5",null,null,{"$f":"UPPER(IF(N540=\"\",\"\",IF(TYPE(VLOOKUP(2&5&N540,I:K,2,FALSE))=2,VLOOKUP(2&5&N540,I:K,2,FALSE),\"\")))","v":""},null,{"$f":"IF(T546<>\"\",CONCATENATE(VLOOKUP(T546,zawodnicy!$A:$E,2,FALSE),\" \",VLOOKUP(T546,zawodnicy!$A:$E,3,FALSE),\" - \",VLOOKUP(T546,zawodnicy!$A:$E,4,FALSE)),\"\")","v":""},null,{"$f":"IF(G546=\"\",\"\",VLOOKUP(G546,zawodnicy!$A:$D,3,FALSE))","v":""}]
[null,null,null,null,null,null,null,null,null,null,null,null,null,null,null,{"$f":"IF(O539>11,7,\"\")","v":""},null,null,null,{"$f":"UPPER(IF(N540=\"\",\"\",IF(TYPE(VLOOKUP(2&5&N540,I:K,3,FALSE))=2,VLOOKUP(2&5&N540,I:K,3,FALSE),\"\")))","v":""},null,{"$f":"IF(T547<>\"\",CONCATENATE(VLOOKUP(T547,zawodnicy!$A:$E,2,FALSE),\" \",VLOOKUP(T547,zawodnicy!$A:$E,3,FALSE),\" - \",VLOOKUP(T547,zawodnicy!$A:$E,4,FALSE)),\"\")","v":""},null,null,null,null,null,null,null,{"$f":"IF(F548=\"\",\"\",VLOOKUP(F548,zawodnicy!$A:$E,3,FALSE))","v":""}]
[{"$f":"AC548","v":0},{"$f":"F544","v":""},{"$f":"G544","v":""},{"$f":"F552","v":""},{"$f":"G552","v":""},{"$f":"IF(A548=0,IF(AND(LEN(B548)>0,LEN(D548)=0),B548,IF(AND(LEN(D548)>0,LEN(B548)=0),D548,\"\")),IF((VLOOKUP(A548,'plan gier'!$Z:$AH,7,FALSE))=\"\",\"\",VLOOKUP(VLOOKUP(A548,'plan gier'!$Z:$AH,7,FALSE),zawodnicy!$A:$E,1,FALSE)))","v":""},{"$f":"IF(A548=0,IF(AND(LEN(C548)>0,LEN(E548)=0),C548,IF(AND(LEN(E548)>0,LEN(C548)=0),E548,\"\")),IF((VLOOKUP(A548,'plan gier'!$Z:$AH,8,FALSE))=\"\",\"\",VLOOKUP(VLOOKUP(A548,'plan gier'!$Z:$AH,8,FALSE),zawodnicy!$A:$E,1,FALSE)))","v":""},{"$f":"IF(A548=0,\"\",IF((VLOOKUP(A548,'plan gier'!$Z:$AH,7,FALSE))=\"\",\"\",VLOOKUP(A548,'plan gier'!$Z:$AH,9,FALSE)))","v":""},null,null,null,{"$f":"IF(A548=0,\"\",IF(VLOOKUP(A548,'plan gier'!A:T,20,FALSE)=\"\",\"\",VLOOKUP(A548,'plan gier'!A:T,20,FALSE)))","v":""},{"$f":"N540","v":0},null,null,null,null,null,null,null,null,{"$f":"IF(T548<>\"\",CONCATENATE(VLOOKUP(T548,zawodnicy!$A:$E,2,FALSE),\" \",VLOOKUP(T548,zawodnicy!$A:$E,3,FALSE),\" - \",VLOOKUP(T548,zawodnicy!$A:$E,4,FALSE)),\"\")","v":""},null,null,null,null,null,null,null,{"$f":"IF(G548=\"\",\"\",VLOOKUP(G548,zawodnicy!$A:$E,3,FALSE))","v":""}]
[null,null,null,null,null,null,null,null,null,null,null,null,null,null,null,{"$f":"IF(O539>8,9,\"\")","v":""},null,null,null,null,null,null,null,{"$f":"IF(F550=\"\",\"\",VLOOKUP(F550,zawodnicy!$A:$D,3,FALSE))","v":""},null,null,null,null,null,{"$f":"IF(ISBLANK(AC548),\"\",IF((VLOOKUP(AC548,'plan gier'!$Z:$AH,7,FALSE))=\"\",L548,VLOOKUP(AC548,'plan gier'!$Z:$AH,9,FALSE)))","v":""}]
[{"$f":"W551","v":0},{"$f":"IF(TYPE(T550)=16,\"\",T550)","v":""},{"$f":"IF(TYPE(T551)=16,\"\",T551)","v":""},null,null,{"$f":"IF(A550=0,IF(AND(LEN(B550)>1,LEN(D550)=0),VLOOKUP(B550,zawodnicy!$A:$E,1,FALSE),IF(AND(LEN(D550)>1,LEN(B550)=0),VLOOKUP(D550,zawodnicy!$A:$E,1,FALSE),\"\")),IF((VLOOKUP(A550,'plan gier'!$Z:$AH,7,FALSE))=\"\",\"\",VLOOKUP(VLOOKUP(A550,'plan gier'!$Z:$AH,7,FALSE),zawodnicy!$A:$E,1,FALSE)))","v":""},{"$f":"IF(A550=0,IF(AND(LEN(C550)>1,LEN(E550)=0),VLOOKUP(C550,zawodnicy!$A:$E,1,FALSE),IF(AND(LEN(E550)>1,LEN(C550)=0),VLOOKUP(E550,zawodnicy!$A:$E,1,FALSE),\"\")),IF((VLOOKUP(A550,'plan gier'!$Z:$AH,8,FALSE))=\"\",\"\",VLOOKUP(VLOOKUP(A550,'plan gier'!$Z:$AH,8,FALSE),zawodnicy!$A:$E,1,FALSE)))","v":""},{"$f":"IF(A550=0,\"\",IF((VLOOKUP(A550,'plan gier'!$Z:$AH,7,FALSE))=\"\",\"\",VLOOKUP(A550,'plan gier'!$Z:$AH,9,FALSE)))","v":""},null,null,null,{"$f":"IF(A550=0,\"\",IF(VLOOKUP(A550,'plan gier'!A:T,20,FALSE)=\"\",\"\",VLOOKUP(A550,'plan gier'!A:T,20,FALSE)))","v":""},{"$f":"N540","v":0},null,null,null,"1. z gr. 2",null,null,{"$f":"UPPER(IF(N540=\"\",\"\",IF(TYPE(VLOOKUP(1&2&N540,I:K,2,FALSE))=2,VLOOKUP(1&2&N540,I:K,2,FALSE),\"\")))","v":""},null,{"$f":"IF(T550<>\"\",CONCATENATE(VLOOKUP(T550,zawodnicy!$A:$E,2,FALSE),\" \",VLOOKUP(T550,zawodnicy!$A:$E,3,FALSE),\" - \",VLOOKUP(T550,zawodnicy!$A:$E,4,FALSE)),\"\")","v":""},null,{"$f":"IF(G550=\"\",\"\",VLOOKUP(G550,zawodnicy!$A:$D,3,FALSE))","v":""}]
[null,null,null,null,null,null,null,null,null,null,null,null,null,null,null,{"$f":"IF(O539>13,11,\"\")","v":""},null,null,null,{"$f":"UPPER(IF(N540=\"\",\"\",IF(TYPE(VLOOKUP(1&2&N540,I:K,3,FALSE))=2,VLOOKUP(1&2&N540,I:K,3,FALSE),\"\")))","v":""},null,{"$f":"IF(T551<>\"\",CONCATENATE(VLOOKUP(T551,zawodnicy!$A:$E,2,FALSE),\" \",VLOOKUP(T551,zawodnicy!$A:$E,3,FALSE),\" - \",VLOOKUP(T551,zawodnicy!$A:$E,4,FALSE)),\"\")","v":""},null,null,null,null,{"$f":"IF(F552=\"\",\"\",VLOOKUP(F552,zawodnicy!$A:$E,3,FALSE))","v":""}]
[{"$f":"Z552","v":0},{"$f":"F550","v":""},{"$f":"G550","v":""},{"$f":"F554","v":""},{"$f":"G554","v":""},{"$f":"IF(A552=0,IF(AND(LEN(B552)>0,LEN(D552)=0),B552,IF(AND(LEN(D552)>0,LEN(B552)=0),D552,\"\")),IF((VLOOKUP(A552,'plan gier'!$Z:$AH,7,FALSE))=\"\",\"\",VLOOKUP(VLOOKUP(A552,'plan gier'!$Z:$AH,7,FALSE),zawodnicy!$A:$E,1,FALSE)))","v":""},{"$f":"IF(A552=0,IF(AND(LEN(C552)>0,LEN(E552)=0),C552,IF(AND(LEN(E552)>0,LEN(C552)=0),E552,\"\")),IF((VLOOKUP(A552,'plan gier'!$Z:$AH,8,FALSE))=\"\",\"\",VLOOKUP(VLOOKUP(A552,'plan gier'!$Z:$AH,8,FALSE),zawodnicy!$A:$E,1,FALSE)))","v":""},{"$f":"IF(A552=0,\"\",IF((VLOOKUP(A552,'plan gier'!$Z:$AH,7,FALSE))=\"\",\"\",VLOOKUP(A552,'plan gier'!$Z:$AH,9,FALSE)))","v":""},null,null,null,{"$f":"IF(A552=0,\"\",IF(VLOOKUP(A552,'plan gier'!A:T,20,FALSE)=\"\",\"\",VLOOKUP(A552,'plan gier'!A:T,20,FALSE)))","v":""},{"$f":"N540","v":0},null,null,null,null,null,null,null,null,{"$f":"IF(T552<>\"\",CONCATENATE(VLOOKUP(T552,zawodnicy!$A:$E,2,FALSE),\" \",VLOOKUP(T552,zawodnicy!$A:$E,3,FALSE),\" - \",VLOOKUP(T552,zawodnicy!$A:$E,4,FALSE)),\"\")","v":""},null,null,null,null,{"$f":"IF(G552=\"\",\"\",VLOOKUP(G552,zawodnicy!$A:$E,3,FALSE))","v":""}]
[null,null,null,null,null,null,null,null,null,null,null,null,null,null,null,{"$f":"IF(O539>8,13,\"\")","v":""},"2. z gr. 4",null,null,{"$f":"UPPER(IF(N540=\"\",\"\",IF(TYPE(VLOOKUP(2&4&N540,I:K,2,FALSE))=2,VLOOKUP(2&4&N540,I:K,2,FALSE),\"\")))","v":""},null,{"$f":"IF(T553<>\"\",CONCATENATE(VLOOKUP(T553,zawodnicy!$A:$E,2,FALSE),\" \",VLOOKUP(T553,zawodnicy!$A:$E,3,FALSE),\" - \",VLOOKUP(T553,zawodnicy!$A:$E,4,FALSE)),\"\")","v":""},null,{"$f":"IF(F554=\"\",\"\",VLOOKUP(F554,zawodnicy!$A:$D,3,FALSE))","v":""},null,null,{"$f":"IF(ISBLANK(Z552),\"\",IF((VLOOKUP(Z552,'plan gier'!$Z:$AH,7,FALSE))=\"\",L552,VLOOKUP(Z552,'plan gier'!$Z:$AH,9,FALSE)))","v":""},null,null,"1."]
[{"$f":"W554","v":0},{"$f":"IF(TYPE(T553)=16,\"\",T553)","v":""},{"$f":"IF(TYPE(T554)=16,\"\",T554)","v":""},{"$f":"IF(TYPE(T555)=16,\"\",T555)","v":""},{"$f":"IF(TYPE(T556)=16,\"\",T556)","v":""},{"$f":"IF(A554=0,IF(AND(LEN(B554)>1,LEN(D554)=0),VLOOKUP(B554,zawodnicy!$A:$E,1,FALSE),IF(AND(LEN(D554)>1,LEN(B554)=0),VLOOKUP(D554,zawodnicy!$A:$E,1,FALSE),\"\")),IF((VLOOKUP(A554,'plan gier'!$Z:$AH,7,FALSE))=\"\",\"\",VLOOKUP(VLOOKUP(A554,'plan gier'!$Z:$AH,7,FALSE),zawodnicy!$A:$E,1,FALSE)))","v":""},{"$f":"IF(A554=0,IF(AND(LEN(C554)>1,LEN(E554)=0),VLOOKUP(C554,zawodnicy!$A:$E,1,FALSE),IF(AND(LEN(E554)>1,LEN(C554)=0),VLOOKUP(E554,zawodnicy!$A:$E,1,FALSE),\"\")),IF((VLOOKUP(A554,'plan gier'!$Z:$AH,8,FALSE))=\"\",\"\",VLOOKUP(VLOOKUP(A554,'plan gier'!$Z:$AH,8,FALSE),zawodnicy!$A:$E,1,FALSE)))","v":""},{"$f":"IF(A554=0,\"\",IF((VLOOKUP(A554,'plan gier'!$Z:$AH,7,FALSE))=\"\",\"\",VLOOKUP(A554,'plan gier'!$Z:$AH,9,FALSE)))","v":""},null,null,null,{"$f":"IF(A554=0,\"\",IF(VLOOKUP(A554,'plan gier'!A:T,20,FALSE)=\"\",\"\",VLOOKUP(A554,'plan gier'!A:T,20,FALSE)))","v":""},{"$f":"N540","v":0},null,null,null,null,null,null,{"$f":"UPPER(IF(N540=\"\",\"\",IF(TYPE(VLOOKUP(2&4&N540,I:K,3,FALSE))=2,VLOOKUP(2&4&N540,I:K,3,FALSE),\"\")))","v":""},null,{"$f":"IF(T554<>\"\",CONCATENATE(VLOOKUP(T554,zawodnicy!$A:$E,2,FALSE),\" \",VLOOKUP(T554,zawodnicy!$A:$E,3,FALSE),\" - \",VLOOKUP(T554,zawodnicy!$A:$E,4,FALSE)),\"\")","v":""},null,{"$f":"IF(G554=\"\",\"\",VLOOKUP(G554,zawodnicy!$A:$D,3,FALSE))","v":""}]
[null,null,null,null,null,null,null,null,null,null,null,null,null,null,null,{"$f":"IF(O539>9,15,\"\")","v":""},"2. z gr. 3",null,null,{"$f":"UPPER(IF(N540=\"\",\"\",IF(TYPE(VLOOKUP(2&3&N540,I:K,2,FALSE))=2,VLOOKUP(2&3&N540,I:K,2,FALSE),\"\")))","v":""},null,{"$f":"IF(T555<>\"\",CONCATENATE(VLOOKUP(T555,zawodnicy!$A:$E,2,FALSE),\" \",VLOOKUP(T555,zawodnicy!$A:$E,3,FALSE),\" - \",VLOOKUP(T555,zawodnicy!$A:$E,4,FALSE)),\"\")","v":""},null,{"$f":"IF(ISBLANK(W554),\"\",IF((VLOOKUP(W554,'plan gier'!$Z:$AH,7,FALSE))=\"\",L554,VLOOKUP(W554,'plan gier'!$Z:$AH,9,FALSE)))","v":""},null,null,null,null,null,{"$f":"IF(F556=\"\",\"\",VLOOKUP(F556,zawodnicy!$A:$E,3,FALSE))","v":""}]
[{"$f":"AC556","v":0},{"$f":"F548","v":""},{"$f":"G548","v":""},{"$f":"F564","v":""},{"$f":"G564","v":""},{"$f":"IF(A556=0,IF(AND(LEN(B556)>0,LEN(D556)=0),B556,IF(AND(LEN(D556)>0,LEN(B556)=0),D556,\"\")),IF((VLOOKUP(A556,'plan gier'!$Z:$AH,7,FALSE))=\"\",\"\",VLOOKUP(VLOOKUP(A556,'plan gier'!$Z:$AH,7,FALSE),zawodnicy!$A:$E,1,FALSE)))","v":""},{"$f":"IF(A556=0,IF(AND(LEN(C556)>0,LEN(E556)=0),C556,IF(AND(LEN(E556)>0,LEN(C556)=0),E556,\"\")),IF((VLOOKUP(A556,'plan gier'!$Z:$AH,8,FALSE))=\"\",\"\",VLOOKUP(VLOOKUP(A556,'plan gier'!$Z:$AH,8,FALSE),zawodnicy!$A:$E,1,FALSE)))","v":""},{"$f":"IF(A556=0,\"\",IF((VLOOKUP(A556,'plan gier'!$Z:$AH,7,FALSE))=\"\",\"\",VLOOKUP(A556,'plan gier'!$Z:$AH,9,FALSE)))","v":""},null,null,null,{"$f":"IF(A556=0,\"\",IF(VLOOKUP(A556,'plan gier'!A:T,20,FALSE)=\"\",\"\",VLOOKUP(A556,'plan gier'!A:T,20,FALSE)))","v":""},{"$f":"N540","v":0},null,null,null,null,null,null,{"$f":"UPPER(IF(N540=\"\",\"\",IF(TYPE(VLOOKUP(2&3&N540,I:K,3,FALSE))=2,VLOOKUP(2&3&N540,I:K,3,FALSE),\"\")))","v":""},null,{"$f":"IF(T556<>\"\",CONCATENATE(VLOOKUP(T556,zawodnicy!$A:$E,2,FALSE),\" \",VLOOKUP(T556,zawodnicy!$A:$E,3,FALSE),\" - \",VLOOKUP(T556,zawodnicy!$A:$E,4,FALSE)),\"\")","v":""},null,null,null,null,null,null,null,{"$f":"IF(G556=\"\",\"\",VLOOKUP(G556,zawodnicy!$A:$E,3,FALSE))","v":""}]
[null,null,null,null,null,null,null,null,null,null,null,null,null,null,null,{"$f":"IF(O539>8,18,\"\")","v":""},"2. z gr. 2",null,null,{"$f":"UPPER(IF(N540=\"\",\"\",IF(TYPE(VLOOKUP(2&2&N540,I:K,2,FALSE))=2,VLOOKUP(2&2&N540,I:K,2,FALSE),\"\")))","v":""},null,{"$f":"IF(T557<>\"\",CONCATENATE(VLOOKUP(T557,zawodnicy!$A:$E,2,FALSE),\" \",VLOOKUP(T557,zawodnicy!$A:$E,3,FALSE),\" - \",VLOOKUP(T557,zawodnicy!$A:$E,4,FALSE)),\"\")","v":""},null,{"$f":"IF(F558=\"\",\"\",VLOOKUP(F558,zawodnicy!$A:$D,3,FALSE))","v":""},null,null,null,null,null,{"$f":"IF(ISBLANK(AC556),\"\",IF((VLOOKUP(AC556,'plan gier'!$Z:$AH,7,FALSE))=\"\",L556,VLOOKUP(AC556,'plan gier'!$Z:$AH,9,FALSE)))","v":""}]
[{"$f":"W558","v":0},{"$f":"IF(TYPE(T557)=16,\"\",T557)","v":""},{"$f":"IF(TYPE(T558)=16,\"\",T558)","v":""},{"$f":"IF(TYPE(T559)=16,\"\",T559)","v":""},{"$f":"IF(TYPE(T560)=16,\"\",T560)","v":""},{"$f":"IF(A558=0,IF(AND(LEN(B558)>1,LEN(D558)=0),VLOOKUP(B558,zawodnicy!$A:$E,1,FALSE),IF(AND(LEN(D558)>1,LEN(B558)=0),VLOOKUP(D558,zawodnicy!$A:$E,1,FALSE),\"\")),IF((VLOOKUP(A558,'plan gier'!$Z:$AH,7,FALSE))=\"\",\"\",VLOOKUP(VLOOKUP(A558,'plan gier'!$Z:$AH,7,FALSE),zawodnicy!$A:$E,1,FALSE)))","v":""},{"$f":"IF(A558=0,IF(AND(LEN(C558)>1,LEN(E558)=0),VLOOKUP(C558,zawodnicy!$A:$E,1,FALSE),IF(AND(LEN(E558)>1,LEN(C558)=0),VLOOKUP(E558,zawodnicy!$A:$E,1,FALSE),\"\")),IF((VLOOKUP(A558,'plan gier'!$Z:$AH,8,FALSE))=\"\",\"\",VLOOKUP(VLOOKUP(A558,'plan gier'!$Z:$AH,8,FALSE),zawodnicy!$A:$E,1,FALSE)))","v":""},{"$f":"IF(A558=0,\"\",IF((VLOOKUP(A558,'plan gier'!$Z:$AH,7,FALSE))=\"\",\"\",VLOOKUP(A558,'plan gier'!$Z:$AH,9,FALSE)))","v":""},null,null,null,{"$f":"IF(A558=0,\"\",IF(VLOOKUP(A558,'plan gier'!A:T,20,FALSE)=\"\",\"\",VLOOKUP(A558,'plan gier'!A:T,20,FALSE)))","v":""},{"$f":"N540","v":0},null,null,null,null,null,null,{"$f":"UPPER(IF(N540=\"\",\"\",IF(TYPE(VLOOKUP(2&2&N540,I:K,3,FALSE))=2,VLOOKUP(2&2&N540,I:K,3,FALSE),\"\")))","v":""},null,{"$f":"IF(T558<>\"\",CONCATENATE(VLOOKUP(T558,zawodnicy!$A:$E,2,FALSE),\" \",VLOOKUP(T558,zawodnicy!$A:$E,3,FALSE),\" - \",VLOOKUP(T558,zawodnicy!$A:$E,4,FALSE)),\"\")","v":""},null,{"$f":"IF(G558=\"\",\"\",VLOOKUP(G558,zawodnicy!$A:$D,3,FALSE))","v":""}]
[null,null,null,null,null,null,null,null,null,null,null,null,null,null,null,{"$f":"IF(O539>8,20,\"\")","v":""},"1. z gr. 3",null,null,{"$f":"UPPER(IF(N540=\"\",\"\",IF(TYPE(VLOOKUP(1&3&N540,I:K,2,FALSE))=2,VLOOKUP(1&3&N540,I:K,2,FALSE),\"\")))","v":""},null,{"$f":"IF(T559<>\"\",CONCATENATE(VLOOKUP(T559,zawodnicy!$A:$E,2,FALSE),\" \",VLOOKUP(T559,zawodnicy!$A:$E,3,FALSE),\" - \",VLOOKUP(T559,zawodnicy!$A:$E,4,FALSE)),\"\")","v":""},null,{"$f":"IF(ISBLANK(W558),\"\",IF((VLOOKUP(W558,'plan gier'!$Z:$AH,7,FALSE))=\"\",L558,VLOOKUP(W558,'plan gier'!$Z:$AH,9,FALSE)))","v":""},null,null,{"$f":"IF(F560=\"\",\"\",VLOOKUP(F560,zawodnicy!$A:$E,3,FALSE))","v":""}]
[{"$f":"Z560","v":0},{"$f":"F558","v":""},{"$f":"G558","v":""},{"$f":"F562","v":""},{"$f":"G562","v":""},{"$f":"IF(A560=0,IF(AND(LEN(B560)>0,LEN(D560)=0),B560,IF(AND(LEN(D560)>0,LEN(B560)=0),D560,\"\")),IF((VLOOKUP(A560,'plan gier'!$Z:$AH,7,FALSE))=\"\",\"\",VLOOKUP(VLOOKUP(A560,'plan gier'!$Z:$AH,7,FALSE),zawodnicy!$A:$E,1,FALSE)))","v":""},{"$f":"IF(A560=0,IF(AND(LEN(C560)>0,LEN(E560)=0),C560,IF(AND(LEN(E560)>0,LEN(C560)=0),E560,\"\")),IF((VLOOKUP(A560,'plan gier'!$Z:$AH,8,FALSE))=\"\",\"\",VLOOKUP(VLOOKUP(A560,'plan gier'!$Z:$AH,8,FALSE),zawodnicy!$A:$E,1,FALSE)))","v":""},{"$f":"IF(A560=0,\"\",IF((VLOOKUP(A560,'plan gier'!$Z:$AH,7,FALSE))=\"\",\"\",VLOOKUP(A560,'plan gier'!$Z:$AH,9,FALSE)))","v":""},null,null,null,{"$f":"IF(A560=0,\"\",IF(VLOOKUP(A560,'plan gier'!A:T,20,FALSE)=\"\",\"\",VLOOKUP(A560,'plan gier'!A:T,20,FALSE)))","v":""},{"$f":"N540","v":0},null,null,null,null,null,null,{"$f":"UPPER(IF(N540=\"\",\"\",IF(TYPE(VLOOKUP(1&3&N540,I:K,3,FALSE))=2,VLOOKUP(1&3&N540,I:K,3,FALSE),\"\")))","v":""},null,{"$f":"IF(T560<>\"\",CONCATENATE(VLOOKUP(T560,zawodnicy!$A:$E,2,FALSE),\" \",VLOOKUP(T560,zawodnicy!$A:$E,3,FALSE),\" - \",VLOOKUP(T560,zawodnicy!$A:$E,4,FALSE)),\"\")","v":""},null,null,null,null,{"$f":"IF(G560=\"\",\"\",VLOOKUP(G560,zawodnicy!$A:$E,3,FALSE))","v":""}]
[null,null,null,null,null,null,null,null,null,null,null,null,null,null,null,{"$f":"IF(O539>12,22,\"\")","v":""},null,null,null,null,null,null,null,{"$f":"IF(F562=\"\",\"\",VLOOKUP(F562,zawodnicy!$A:$D,3,FALSE))","v":""},null,null,{"$f":"IF(ISBLANK(Z560),\"\",IF((VLOOKUP(Z560,'plan gier'!$Z:$AH,7,FALSE))=\"\",L560,VLOOKUP(Z560,'plan gier'!$Z:$AH,9,FALSE)))","v":""}]
[{"$f":"W563","v":0},{"$f":"IF(TYPE(T562)=16,\"\",T562)","v":""},{"$f":"IF(TYPE(T563)=16,\"\",T563)","v":""},null,null,{"$f":"IF(A562=0,IF(AND(LEN(B562)>1,LEN(D562)=0),VLOOKUP(B562,zawodnicy!$A:$E,1,FALSE),IF(AND(LEN(D562)>1,LEN(B562)=0),VLOOKUP(D562,zawodnicy!$A:$E,1,FALSE),\"\")),IF((VLOOKUP(A562,'plan gier'!$Z:$AH,7,FALSE))=\"\",\"\",VLOOKUP(VLOOKUP(A562,'plan gier'!$Z:$AH,7,FALSE),zawodnicy!$A:$E,1,FALSE)))","v":""},{"$f":"IF(A562=0,IF(AND(LEN(C562)>1,LEN(E562)=0),VLOOKUP(C562,zawodnicy!$A:$E,1,FALSE),IF(AND(LEN(E562)>1,LEN(C562)=0),VLOOKUP(E562,zawodnicy!$A:$E,1,FALSE),\"\")),IF((VLOOKUP(A562,'plan gier'!$Z:$AH,8,FALSE))=\"\",\"\",VLOOKUP(VLOOKUP(A562,'plan gier'!$Z:$AH,8,FALSE),zawodnicy!$A:$E,1,FALSE)))","v":""},{"$f":"IF(A562=0,\"\",IF((VLOOKUP(A562,'plan gier'!$Z:$AH,7,FALSE))=\"\",\"\",VLOOKUP(A562,'plan gier'!$Z:$AH,9,FALSE)))","v":""},null,null,null,{"$f":"IF(A562=0,\"\",IF(VLOOKUP(A562,'plan gier'!A:T,20,FALSE)=\"\",\"\",VLOOKUP(A562,'plan gier'!A:T,20,FALSE)))","v":""},{"$f":"N540","v":0},null,null,null,"1. z gr. 4",null,null,{"$f":"UPPER(IF(N540=\"\",\"\",IF(TYPE(VLOOKUP(1&4&N540,I:K,2,FALSE))=2,VLOOKUP(1&4&N540,I:K,2,FALSE),\"\")))","v":""},null,{"$f":"IF(T562<>\"\",CONCATENATE(VLOOKUP(T562,zawodnicy!$A:$E,2,FALSE),\" \",VLOOKUP(T562,zawodnicy!$A:$E,3,FALSE),\" - \",VLOOKUP(T562,zawodnicy!$A:$E,4,FALSE)),\"\")","v":""},null,{"$f":"IF(G562=\"\",\"\",VLOOKUP(G562,zawodnicy!$A:$D,3,FALSE))","v":""}]
[null,null,null,null,null,null,null,null,null,null,null,null,null,null,null,{"$f":"IF(O539>8,24,\"\")","v":""},null,null,null,{"$f":"UPPER(IF(N540=\"\",\"\",IF(TYPE(VLOOKUP(1&4&N540,I:K,3,FALSE))=2,VLOOKUP(1&4&N540,I:K,3,FALSE),\"\")))","v":""},null,{"$f":"IF(T563<>\"\",CONCATENATE(VLOOKUP(T563,zawodnicy!$A:$E,2,FALSE),\" \",VLOOKUP(T563,zawodnicy!$A:$E,3,FALSE),\" - \",VLOOKUP(T563,zawodnicy!$A:$E,4,FALSE)),\"\")","v":""},null,null,null,null,null,null,null,{"$f":"IF(F564=\"\",\"\",VLOOKUP(F564,zawodnicy!$A:$E,3,FALSE))","v":""}]
[{"$f":"AC564","v":0},{"$f":"F560","v":""},{"$f":"G560","v":""},{"$f":"F568","v":""},{"$f":"G568","v":""},{"$f":"IF(A564=0,IF(AND(LEN(B564)>0,LEN(D564)=0),B564,IF(AND(LEN(D564)>0,LEN(B564)=0),D564,\"\")),IF((VLOOKUP(A564,'plan gier'!$Z:$AH,7,FALSE))=\"\",\"\",VLOOKUP(VLOOKUP(A564,'plan gier'!$Z:$AH,7,FALSE),zawodnicy!$A:$E,1,FALSE)))","v":""},{"$f":"IF(A564=0,IF(AND(LEN(C564)>0,LEN(E564)=0),C564,IF(AND(LEN(E564)>0,LEN(C564)=0),E564,\"\")),IF((VLOOKUP(A564,'plan gier'!$Z:$AH,8,FALSE))=\"\",\"\",VLOOKUP(VLOOKUP(A564,'plan gier'!$Z:$AH,8,FALSE),zawodnicy!$A:$E,1,FALSE)))","v":""},{"$f":"IF(A564=0,\"\",IF((VLOOKUP(A564,'plan gier'!$Z:$AH,7,FALSE))=\"\",\"\",VLOOKUP(A564,'plan gier'!$Z:$AH,9,FALSE)))","v":""},null,null,null,{"$f":"IF(A564=0,\"\",IF(VLOOKUP(A564,'plan gier'!A:T,20,FALSE)=\"\",\"\",VLOOKUP(A564,'plan gier'!A:T,20,FALSE)))","v":""},{"$f":"N540","v":0},null,null,null,null,null,null,null,null,{"$f":"IF(T564<>\"\",CONCATENATE(VLOOKUP(T564,zawodnicy!$A:$E,2,FALSE),\" \",VLOOKUP(T564,zawodnicy!$A:$E,3,FALSE),\" - \",VLOOKUP(T564,zawodnicy!$A:$E,4,FALSE)),\"\")","v":""},null,null,null,null,null,null,null,{"$f":"IF(G564=\"\",\"\",VLOOKUP(G564,zawodnicy!$A:$E,3,FALSE))","v":""}]
[null,null,null,null,null,null,null,null,null,null,null,null,null,null,null,{"$f":"IF(O539>10,26,\"\")","v":""},null,null,null,null,null,null,null,{"$f":"IF(F566=\"\",\"\",VLOOKUP(F566,zawodnicy!$A:$D,3,FALSE))","v":""},null,null,null,null,null,{"$f":"IF(ISBLANK(AC564),\"\",IF((VLOOKUP(AC564,'plan gier'!$Z:$AH,7,FALSE))=\"\",L564,VLOOKUP(AC564,'plan gier'!$Z:$AH,9,FALSE)))","v":""}]
[{"$f":"W567","v":0},{"$f":"IF(TYPE(T566)=16,\"\",T566)","v":""},{"$f":"IF(TYPE(T567)=16,\"\",T567)","v":""},null,null,{"$f":"IF(A566=0,IF(AND(LEN(B566)>1,LEN(D566)=0),VLOOKUP(B566,zawodnicy!$A:$E,1,FALSE),IF(AND(LEN(D566)>1,LEN(B566)=0),VLOOKUP(D566,zawodnicy!$A:$E,1,FALSE),\"\")),IF((VLOOKUP(A566,'plan gier'!$Z:$AH,7,FALSE))=\"\",\"\",VLOOKUP(VLOOKUP(A566,'plan gier'!$Z:$AH,7,FALSE),zawodnicy!$A:$E,1,FALSE)))","v":""},{"$f":"IF(A566=0,IF(AND(LEN(C566)>1,LEN(E566)=0),VLOOKUP(C566,zawodnicy!$A:$E,1,FALSE),IF(AND(LEN(E566)>1,LEN(C566)=0),VLOOKUP(E566,zawodnicy!$A:$E,1,FALSE),\"\")),IF((VLOOKUP(A566,'plan gier'!$Z:$AH,8,FALSE))=\"\",\"\",VLOOKUP(VLOOKUP(A566,'plan gier'!$Z:$AH,8,FALSE),zawodnicy!$A:$E,1,FALSE)))","v":""},{"$f":"IF(A566=0,\"\",IF((VLOOKUP(A566,'plan gier'!$Z:$AH,7,FALSE))=\"\",\"\",VLOOKUP(A566,'plan gier'!$Z:$AH,9,FALSE)))","v":""},null,null,null,{"$f":"IF(A566=0,\"\",IF(VLOOKUP(A566,'plan gier'!A:T,20,FALSE)=\"\",\"\",VLOOKUP(A566,'plan gier'!A:T,20,FALSE)))","v":""},{"$f":"N540","v":0},null,null,null,"2. z gr. 1",null,null,{"$f":"UPPER(IF(N540=\"\",\"\",IF(TYPE(VLOOKUP(2&1&N540,I:K,2,FALSE))=2,VLOOKUP(2&1&N540,I:K,2,FALSE),\"\")))","v":""},null,{"$f":"IF(T566<>\"\",CONCATENATE(VLOOKUP(T566,zawodnicy!$A:$E,2,FALSE),\" \",VLOOKUP(T566,zawodnicy!$A:$E,3,FALSE),\" - \",VLOOKUP(T566,zawodnicy!$A:$E,4,FALSE)),\"\")","v":""},null,{"$f":"IF(G566=\"\",\"\",VLOOKUP(G566,zawodnicy!$A:$D,3,FALSE))","v":""}]
[null,null,null,null,null,null,null,null,null,null,null,null,null,null,null,{"$f":"IF(O539>8,28,\"\")","v":""},null,null,null,{"$f":"UPPER(IF(N540=\"\",\"\",IF(TYPE(VLOOKUP(2&1&N540,I:K,3,FALSE))=2,VLOOKUP(2&1&N540,I:K,3,FALSE),\"\")))","v":""},null,{"$f":"IF(T567<>\"\",CONCATENATE(VLOOKUP(T567,zawodnicy!$A:$E,2,FALSE),\" \",VLOOKUP(T567,zawodnicy!$A:$E,3,FALSE),\" - \",VLOOKUP(T567,zawodnicy!$A:$E,4,FALSE)),\"\")","v":""},null,null,null,null,{"$f":"IF(F568=\"\",\"\",VLOOKUP(F568,zawodnicy!$A:$E,3,FALSE))","v":""}]
[{"$f":"Z568","v":0},{"$f":"F566","v":""},{"$f":"G566","v":""},{"$f":"F570","v":""},{"$f":"G570","v":""},{"$f":"IF(A568=0,IF(AND(LEN(B568)>0,LEN(D568)=0),B568,IF(AND(LEN(D568)>0,LEN(B568)=0),D568,\"\")),IF((VLOOKUP(A568,'plan gier'!$Z:$AH,7,FALSE))=\"\",\"\",VLOOKUP(VLOOKUP(A568,'plan gier'!$Z:$AH,7,FALSE),zawodnicy!$A:$E,1,FALSE)))","v":""},{"$f":"IF(A568=0,IF(AND(LEN(C568)>0,LEN(E568)=0),C568,IF(AND(LEN(E568)>0,LEN(C568)=0),E568,\"\")),IF((VLOOKUP(A568,'plan gier'!$Z:$AH,8,FALSE))=\"\",\"\",VLOOKUP(VLOOKUP(A568,'plan gier'!$Z:$AH,8,FALSE),zawodnicy!$A:$E,1,FALSE)))","v":""},{"$f":"IF(A568=0,\"\",IF((VLOOKUP(A568,'plan gier'!$Z:$AH,7,FALSE))=\"\",\"\",VLOOKUP(A568,'plan gier'!$Z:$AH,9,FALSE)))","v":""},null,null,null,{"$f":"IF(A568=0,\"\",IF(VLOOKUP(A568,'plan gier'!A:T,20,FALSE)=\"\",\"\",VLOOKUP(A568,'plan gier'!A:T,20,FALSE)))","v":""},{"$f":"N540","v":0},null,null,null,null,null,null,null,null,{"$f":"IF(T568<>\"\",CONCATENATE(VLOOKUP(T568,zawodnicy!$A:$E,2,FALSE),\" \",VLOOKUP(T568,zawodnicy!$A:$E,3,FALSE),\" - \",VLOOKUP(T568,zawodnicy!$A:$E,4,FALSE)),\"\")","v":""},null,null,null,null,{"$f":"IF(G568=\"\",\"\",VLOOKUP(G568,zawodnicy!$A:$E,3,FALSE))","v":""}]
[null,null,null,null,null,null,null,null,null,null,null,null,null,null,null,{"$f":"IF(O539>14,30,\"\")","v":""},null,null,null,null,null,null,null,{"$f":"IF(F570=\"\",\"\",VLOOKUP(F570,zawodnicy!$A:$D,3,FALSE))","v":""},null,null,{"$f":"IF(ISBLANK(Z568),\"\",IF((VLOOKUP(Z568,'plan gier'!$Z:$AH,7,FALSE))=\"\",L568,VLOOKUP(Z568,'plan gier'!$Z:$AH,9,FALSE)))","v":""}]
[{"$f":"W571","v":0},{"$f":"IF(TYPE(T570)=16,\"\",T570)","v":""},{"$f":"IF(TYPE(T571)=16,\"\",T571)","v":""},null,null,{"$f":"IF(A570=0,IF(AND(LEN(B570)>1,LEN(D570)=0),VLOOKUP(B570,zawodnicy!$A:$E,1,FALSE),IF(AND(LEN(D570)>1,LEN(B570)=0),VLOOKUP(D570,zawodnicy!$A:$E,1,FALSE),\"\")),IF((VLOOKUP(A570,'plan gier'!$Z:$AH,7,FALSE))=\"\",\"\",VLOOKUP(VLOOKUP(A570,'plan gier'!$Z:$AH,7,FALSE),zawodnicy!$A:$E,1,FALSE)))","v":""},{"$f":"IF(A570=0,IF(AND(LEN(C570)>1,LEN(E570)=0),VLOOKUP(C570,zawodnicy!$A:$E,1,FALSE),IF(AND(LEN(E570)>1,LEN(C570)=0),VLOOKUP(E570,zawodnicy!$A:$E,1,FALSE),\"\")),IF((VLOOKUP(A570,'plan gier'!$Z:$AH,8,FALSE))=\"\",\"\",VLOOKUP(VLOOKUP(A570,'plan gier'!$Z:$AH,8,FALSE),zawodnicy!$A:$E,1,FALSE)))","v":""},{"$f":"IF(A570=0,\"\",IF((VLOOKUP(A570,'plan gier'!$Z:$AH,7,FALSE))=\"\",\"\",VLOOKUP(A570,'plan gier'!$Z:$AH,9,FALSE)))","v":""},null,null,null,{"$f":"IF(A570=0,\"\",IF(VLOOKUP(A570,'plan gier'!A:T,20,FALSE)=\"\",\"\",VLOOKUP(A570,'plan gier'!A:T,20,FALSE)))","v":""},{"$f":"N540","v":0},null,null,null,"1. z gr. 5",null,null,{"$f":"UPPER(IF(N540=\"\",\"\",IF(TYPE(VLOOKUP(1&5&N540,I:K,2,FALSE))=2,VLOOKUP(1&5&N540,I:K,2,FALSE),\"\")))","v":""},null,{"$f":"IF(T570<>\"\",CONCATENATE(VLOOKUP(T570,zawodnicy!$A:$E,2,FALSE),\" \",VLOOKUP(T570,zawodnicy!$A:$E,3,FALSE),\" - \",VLOOKUP(T570,zawodnicy!$A:$E,4,FALSE)),\"\")","v":""},null,{"$f":"IF(G570=\"\",\"\",VLOOKUP(G570,zawodnicy!$A:$D,3,FALSE))","v":""}]
[null,null,null,null,null,null,null,null,null,null,null,null,null,null,null,{"$f":"IF(O539>8,32,\"\")","v":""},null,null,null,{"$f":"UPPER(IF(N540=\"\",\"\",IF(TYPE(VLOOKUP(1&5&N540,I:K,3,FALSE))=2,VLOOKUP(1&5&N540,I:K,3,FALSE),\"\")))","v":""},null,{"$f":"IF(T571<>\"\",CONCATENATE(VLOOKUP(T571,zawodnicy!$A:$E,2,FALSE),\" \",VLOOKUP(T571,zawodnicy!$A:$E,3,FALSE),\" - \",VLOOKUP(T571,zawodnicy!$A:$E,4,FALSE)),\"\")","v":""}]
[]
[]
[null,null,null,null,null,null,null,null,null,null,null,null,null,null,null,null,"Drabinka pucharowa pośredniego systemu grupowo-pucharowego dla 4 grup"]
[]
[null,null,null,null,null,null,null,null,null,null,null,null,null,null,null,null,null,null,null,"5-8.",null,null,null,"3-4.",null,null,"2.",null,null,"1."]
[]
[null,null,null,null,null,null,null,null,null,null,null,null,null,null,null,{"$f":"IF(O576>8,1,\"\")","v":""},"1. z gr. 1",null,null,{"$f":"UPPER(IF(N577=\"\",\"\",IF(TYPE(VLOOKUP(1&1&N577,I:K,2,FALSE))=2,VLOOKUP(1&1&N577,I:K,2,FALSE),\"\")))","v":""},null,{"$f":"IF(T578<>\"\",CONCATENATE(VLOOKUP(T578,zawodnicy!$A:$E,2,FALSE),\" \",VLOOKUP(T578,zawodnicy!$A:$E,3,FALSE),\" - \",VLOOKUP(T578,zawodnicy!$A:$E,4,FALSE)),\"\")","v":""},null,{"$f":"IF(F579=\"\",\"\",VLOOKUP(F579,zawodnicy!$A:$D,3,FALSE))","v":""}]
[{"$f":"W579","v":0},{"$f":"IF(TYPE(T578)=16,\"\",T578)","v":""},{"$f":"IF(TYPE(T579)=16,\"\",T579)","v":""},{"$f":"IF(TYPE(T580)=16,\"\",T580)","v":""},{"$f":"IF(TYPE(T581)=16,\"\",T581)","v":""},{"$f":"IF(A579=0,IF(AND(LEN(B579)>1,LEN(D579)=0),VLOOKUP(B579,zawodnicy!$A:$E,1,FALSE),IF(AND(LEN(D579)>1,LEN(B579)=0),VLOOKUP(D579,zawodnicy!$A:$E,1,FALSE),\"\")),IF((VLOOKUP(A579,'plan gier'!$Z:$AH,7,FALSE))=\"\",\"\",VLOOKUP(VLOOKUP(A579,'plan gier'!$Z:$AH,7,FALSE),zawodnicy!$A:$E,1,FALSE)))","v":""},{"$f":"IF(A579=0,IF(AND(LEN(C579)>1,LEN(E579)=0),VLOOKUP(C579,zawodnicy!$A:$E,1,FALSE),IF(AND(LEN(E579)>1,LEN(C579)=0),VLOOKUP(E579,zawodnicy!$A:$E,1,FALSE),\"\")),IF((VLOOKUP(A579,'plan gier'!$Z:$AH,8,FALSE))=\"\",\"\",VLOOKUP(VLOOKUP(A579,'plan gier'!$Z:$AH,8,FALSE),zawodnicy!$A:$E,1,FALSE)))","v":""},{"$f":"IF(A579=0,\"\",IF((VLOOKUP(A579,'plan gier'!$Z:$AH,7,FALSE))=\"\",\"\",VLOOKUP(A579,'plan gier'!$Z:$AH,9,FALSE)))","v":""},null,null,null,{"$f":"IF(A579=0,\"\",IF(VLOOKUP(A579,'plan gier'!A:T,20,FALSE)=\"\",\"\",VLOOKUP(A579,'plan gier'!A:T,20,FALSE)))","v":""},{"$f":"N577","v":0},null,null,null,null,null,null,{"$f":"UPPER(IF(N577=\"\",\"\",IF(TYPE(VLOOKUP(1&1&N577,I:K,3,FALSE))=2,VLOOKUP(1&1&N577,I:K,3,FALSE),\"\")))","v":""},null,{"$f":"IF(T579<>\"\",CONCATENATE(VLOOKUP(T579,zawodnicy!$A:$E,2,FALSE),\" \",VLOOKUP(T579,zawodnicy!$A:$E,3,FALSE),\" - \",VLOOKUP(T579,zawodnicy!$A:$E,4,FALSE)),\"\")","v":""},null,{"$f":"IF(G579=\"\",\"\",VLOOKUP(G579,zawodnicy!$A:$D,3,FALSE))","v":""}]
[null,null,null,null,null,null,null,null,null,null,null,null,null,null,null,{"$f":"IF(O576>15,3,\"\")","v":""},"2. z gr. 4",null,null,{"$f":"UPPER(IF(N577=\"\",\"\",IF(TYPE(VLOOKUP(2&4&N577,I:K,2,FALSE))=2,VLOOKUP(2&4&N577,I:K,2,FALSE),\"\")))","v":""},null,{"$f":"IF(T580<>\"\",CONCATENATE(VLOOKUP(T580,zawodnicy!$A:$E,2,FALSE),\" \",VLOOKUP(T580,zawodnicy!$A:$E,3,FALSE),\" - \",VLOOKUP(T580,zawodnicy!$A:$E,4,FALSE)),\"\")","v":""},null,{"$f":"IF(H579=\"\",L579,H579)","v":""},null,null,{"$f":"IF(F581=\"\",\"\",VLOOKUP(F581,zawodnicy!$A:$E,3,FALSE))","v":""}]
[{"$f":"Z581","v":0},{"$f":"F579","v":""},{"$f":"G579","v":""},{"$f":"F583","v":""},{"$f":"G583","v":""},{"$f":"IF(A581=0,IF(AND(LEN(B581)>0,LEN(D581)=0),B581,IF(AND(LEN(D581)>0,LEN(B581)=0),D581,\"\")),IF((VLOOKUP(A581,'plan gier'!$Z:$AH,7,FALSE))=\"\",\"\",VLOOKUP(VLOOKUP(A581,'plan gier'!$Z:$AH,7,FALSE),zawodnicy!$A:$E,1,FALSE)))","v":""},{"$f":"IF(A581=0,IF(AND(LEN(C581)>0,LEN(E581)=0),C581,IF(AND(LEN(E581)>0,LEN(C581)=0),E581,\"\")),IF((VLOOKUP(A581,'plan gier'!$Z:$AH,8,FALSE))=\"\",\"\",VLOOKUP(VLOOKUP(A581,'plan gier'!$Z:$AH,8,FALSE),zawodnicy!$A:$E,1,FALSE)))","v":""},{"$f":"IF(A581=0,\"\",IF((VLOOKUP(A581,'plan gier'!$Z:$AH,7,FALSE))=\"\",\"\",VLOOKUP(A581,'plan gier'!$Z:$AH,9,FALSE)))","v":""},null,null,null,{"$f":"IF(A581=0,\"\",IF(VLOOKUP(A581,'plan gier'!A:T,20,FALSE)=\"\",\"\",VLOOKUP(A581,'plan gier'!A:T,20,FALSE)))","v":""},{"$f":"N577","v":0},null,null,null,null,null,null,{"$f":"UPPER(IF(N577=\"\",\"\",IF(TYPE(VLOOKUP(2&4&N577,I:K,3,FALSE))=2,VLOOKUP(2&4&N577,I:K,3,FALSE),\"\")))","v":""},null,{"$f":"IF(T581<>\"\",CONCATENATE(VLOOKUP(T581,zawodnicy!$A:$E,2,FALSE),\" \",VLOOKUP(T581,zawodnicy!$A:$E,3,FALSE),\" - \",VLOOKUP(T581,zawodnicy!$A:$E,4,FALSE)),\"\")","v":""},null,null,null,null,{"$f":"IF(G581=\"\",\"\",VLOOKUP(G581,zawodnicy!$A:$E,3,FALSE))","v":""}]
[null,null,null,null,null,null,null,null,null,null,null,null,null,null,null,{"$f":"IF(O576>8,5,\"\")","v":""},"1. z gr. 2",null,null,{"$f":"UPPER(IF(N577=\"\",\"\",IF(TYPE(VLOOKUP(1&2&N577,I:K,2,FALSE))=2,VLOOKUP(1&2&N577,I:K,2,FALSE),\"\")))","v":""},null,{"$f":"IF(T582<>\"\",CONCATENATE(VLOOKUP(T582,zawodnicy!$A:$E,2,FALSE),\" \",VLOOKUP(T582,zawodnicy!$A:$E,3,FALSE),\" - \",VLOOKUP(T582,zawodnicy!$A:$E,4,FALSE)),\"\")","v":""},null,{"$f":"IF(F583=\"\",\"\",VLOOKUP(F583,zawodnicy!$A:$D,3,FALSE))","v":""},null,null,{"$f":"IF(ISBLANK(Z581),\"\",IF((VLOOKUP(Z581,'plan gier'!$Z:$AH,7,FALSE))=\"\",L581,VLOOKUP(Z581,'plan gier'!$Z:$AH,9,FALSE)))","v":""}]
[{"$f":"W583","v":0},{"$f":"IF(TYPE(T582)=16,\"\",T582)","v":""},{"$f":"IF(TYPE(T583)=16,\"\",T583)","v":""},{"$f":"IF(TYPE(T584)=16,\"\",T584)","v":""},{"$f":"IF(TYPE(T585)=16,\"\",T585)","v":""},{"$f":"IF(A583=0,IF(AND(LEN(B583)>1,LEN(D583)=0),VLOOKUP(B583,zawodnicy!$A:$E,1,FALSE),IF(AND(LEN(D583)>1,LEN(B583)=0),VLOOKUP(D583,zawodnicy!$A:$E,1,FALSE),\"\")),IF((VLOOKUP(A583,'plan gier'!$Z:$AH,7,FALSE))=\"\",\"\",VLOOKUP(VLOOKUP(A583,'plan gier'!$Z:$AH,7,FALSE),zawodnicy!$A:$E,1,FALSE)))","v":""},{"$f":"IF(A583=0,IF(AND(LEN(C583)>1,LEN(E583)=0),VLOOKUP(C583,zawodnicy!$A:$E,1,FALSE),IF(AND(LEN(E583)>1,LEN(C583)=0),VLOOKUP(E583,zawodnicy!$A:$E,1,FALSE),\"\")),IF((VLOOKUP(A583,'plan gier'!$Z:$AH,8,FALSE))=\"\",\"\",VLOOKUP(VLOOKUP(A583,'plan gier'!$Z:$AH,8,FALSE),zawodnicy!$A:$E,1,FALSE)))","v":""},{"$f":"IF(A583=0,\"\",IF((VLOOKUP(A583,'plan gier'!$Z:$AH,7,FALSE))=\"\",\"\",VLOOKUP(A583,'plan gier'!$Z:$AH,9,FALSE)))","v":""},null,null,null,{"$f":"IF(A583=0,\"\",IF(VLOOKUP(A583,'plan gier'!A:T,20,FALSE)=\"\",\"\",VLOOKUP(A583,'plan gier'!A:T,20,FALSE)))","v":""},{"$f":"N577","v":0},null,null,null,null,null,null,{"$f":"UPPER(IF(N577=\"\",\"\",IF(TYPE(VLOOKUP(1&2&N577,I:K,3,FALSE))=2,VLOOKUP(1&2&N577,I:K,3,FALSE),\"\")))","v":""},null,{"$f":"IF(T583<>\"\",CONCATENATE(VLOOKUP(T583,zawodnicy!$A:$E,2,FALSE),\" \",VLOOKUP(T583,zawodnicy!$A:$E,3,FALSE),\" - \",VLOOKUP(T583,zawodnicy!$A:$E,4,FALSE)),\"\")","v":""},null,{"$f":"IF(G583=\"\",\"\",VLOOKUP(G583,zawodnicy!$A:$D,3,FALSE))","v":""}]
[null,null,null,null,null,null,null,null,null,null,null,null,null,null,null,{"$f":"IF(O576>11,7,\"\")","v":""},"2. z gr. 3",null,null,{"$f":"UPPER(IF(N577=\"\",\"\",IF(TYPE(VLOOKUP(2&3&N577,I:K,2,FALSE))=2,VLOOKUP(2&3&N577,I:K,2,FALSE),\"\")))","v":""},null,{"$f":"IF(T584<>\"\",CONCATENATE(VLOOKUP(T584,zawodnicy!$A:$E,2,FALSE),\" \",VLOOKUP(T584,zawodnicy!$A:$E,3,FALSE),\" - \",VLOOKUP(T584,zawodnicy!$A:$E,4,FALSE)),\"\")","v":""},null,{"$f":"IF(ISBLANK(W583),\"\",IF((VLOOKUP(W583,'plan gier'!$Z:$AH,7,FALSE))=\"\",L583,VLOOKUP(W583,'plan gier'!$Z:$AH,9,FALSE)))","v":""},null,null,null,null,null,{"$f":"IF(F585=\"\",\"\",VLOOKUP(F585,zawodnicy!$A:$E,3,FALSE))","v":""}]
[{"$f":"AC585","v":0},{"$f":"F581","v":""},{"$f":"G581","v":""},{"$f":"F589","v":""},{"$f":"G589","v":""},{"$f":"IF(A585=0,IF(AND(LEN(B585)>0,LEN(D585)=0),B585,IF(AND(LEN(D585)>0,LEN(B585)=0),D585,\"\")),IF((VLOOKUP(A585,'plan gier'!$Z:$AH,7,FALSE))=\"\",\"\",VLOOKUP(VLOOKUP(A585,'plan gier'!$Z:$AH,7,FALSE),zawodnicy!$A:$E,1,FALSE)))","v":""},{"$f":"IF(A585=0,IF(AND(LEN(C585)>0,LEN(E585)=0),C585,IF(AND(LEN(E585)>0,LEN(C585)=0),E585,\"\")),IF((VLOOKUP(A585,'plan gier'!$Z:$AH,8,FALSE))=\"\",\"\",VLOOKUP(VLOOKUP(A585,'plan gier'!$Z:$AH,8,FALSE),zawodnicy!$A:$E,1,FALSE)))","v":""},{"$f":"IF(A585=0,\"\",IF((VLOOKUP(A585,'plan gier'!$Z:$AH,7,FALSE))=\"\",\"\",VLOOKUP(A585,'plan gier'!$Z:$AH,9,FALSE)))","v":""},null,null,null,{"$f":"IF(A585=0,\"\",IF(VLOOKUP(A585,'plan gier'!A:T,20,FALSE)=\"\",\"\",VLOOKUP(A585,'plan gier'!A:T,20,FALSE)))","v":""},{"$f":"N577","v":0},null,null,null,null,null,null,{"$f":"UPPER(IF(N577=\"\",\"\",IF(TYPE(VLOOKUP(2&3&N577,I:K,3,FALSE))=2,VLOOKUP(2&3&N577,I:K,3,FALSE),\"\")))","v":""},null,{"$f":"IF(T585<>\"\",CONCATENATE(VLOOKUP(T585,zawodnicy!$A:$E,2,FALSE),\" \",VLOOKUP(T585,zawodnicy!$A:$E,3,FALSE),\" - \",VLOOKUP(T585,zawodnicy!$A:$E,4,FALSE)),\"\")","v":""},null,null,null,null,null,null,null,{"$f":"IF(G585=\"\",\"\",VLOOKUP(G585,zawodnicy!$A:$E,3,FALSE))","v":""}]
[null,null,null,null,null,null,null,null,null,null,null,null,null,null,null,{"$f":"IF(O576>8,9,\"\")","v":""},"2. z gr. 2",null,null,{"$f":"UPPER(IF(N577=\"\",\"\",IF(TYPE(VLOOKUP(2&2&N577,I:K,2,FALSE))=2,VLOOKUP(2&2&N577,I:K,2,FALSE),\"\")))","v":""},null,{"$f":"IF(T586<>\"\",CONCATENATE(VLOOKUP(T586,zawodnicy!$A:$E,2,FALSE),\" \",VLOOKUP(T586,zawodnicy!$A:$E,3,FALSE),\" - \",VLOOKUP(T586,zawodnicy!$A:$E,4,FALSE)),\"\")","v":""},null,{"$f":"IF(F587=\"\",\"\",VLOOKUP(F587,zawodnicy!$A:$D,3,FALSE))","v":""},null,null,null,null,null,{"$f":"IF(ISBLANK(AC585),\"\",IF((VLOOKUP(AC585,'plan gier'!$Z:$AH,7,FALSE))=\"\",L585,VLOOKUP(AC585,'plan gier'!$Z:$AH,9,FALSE)))","v":""}]
[{"$f":"W587","v":0},{"$f":"IF(TYPE(T586)=16,\"\",T586)","v":""},{"$f":"IF(TYPE(T587)=16,\"\",T587)","v":""},{"$f":"IF(TYPE(T588)=16,\"\",T588)","v":""},{"$f":"IF(TYPE(T589)=16,\"\",T589)","v":""},{"$f":"IF(A587=0,IF(AND(LEN(B587)>1,LEN(D587)=0),VLOOKUP(B587,zawodnicy!$A:$E,1,FALSE),IF(AND(LEN(D587)>1,LEN(B587)=0),VLOOKUP(D587,zawodnicy!$A:$E,1,FALSE),\"\")),IF((VLOOKUP(A587,'plan gier'!$Z:$AH,7,FALSE))=\"\",\"\",VLOOKUP(VLOOKUP(A587,'plan gier'!$Z:$AH,7,FALSE),zawodnicy!$A:$E,1,FALSE)))","v":""},{"$f":"IF(A587=0,IF(AND(LEN(C587)>1,LEN(E587)=0),VLOOKUP(C587,zawodnicy!$A:$E,1,FALSE),IF(AND(LEN(E587)>1,LEN(C587)=0),VLOOKUP(E587,zawodnicy!$A:$E,1,FALSE),\"\")),IF((VLOOKUP(A587,'plan gier'!$Z:$AH,8,FALSE))=\"\",\"\",VLOOKUP(VLOOKUP(A587,'plan gier'!$Z:$AH,8,FALSE),zawodnicy!$A:$E,1,FALSE)))","v":""},{"$f":"IF(A587=0,\"\",IF((VLOOKUP(A587,'plan gier'!$Z:$AH,7,FALSE))=\"\",\"\",VLOOKUP(A587,'plan gier'!$Z:$AH,9,FALSE)))","v":""},null,null,null,{"$f":"IF(A587=0,\"\",IF(VLOOKUP(A587,'plan gier'!A:T,20,FALSE)=\"\",\"\",VLOOKUP(A587,'plan gier'!A:T,20,FALSE)))","v":""},{"$f":"N577","v":0},null,null,null,null,null,null,{"$f":"UPPER(IF(N577=\"\",\"\",IF(TYPE(VLOOKUP(2&2&N577,I:K,3,FALSE))=2,VLOOKUP(2&2&N577,I:K,3,FALSE),\"\")))","v":""},null,{"$f":"IF(T587<>\"\",CONCATENATE(VLOOKUP(T587,zawodnicy!$A:$E,2,FALSE),\" \",VLOOKUP(T587,zawodnicy!$A:$E,3,FALSE),\" - \",VLOOKUP(T587,zawodnicy!$A:$E,4,FALSE)),\"\")","v":""},null,{"$f":"IF(G587=\"\",\"\",VLOOKUP(G587,zawodnicy!$A:$D,3,FALSE))","v":""}]
[null,null,null,null,null,null,null,null,null,null,null,null,null,null,null,{"$f":"IF(O576>13,11,\"\")","v":""},"1. z gr. 3",null,null,{"$f":"UPPER(IF(N577=\"\",\"\",IF(TYPE(VLOOKUP(1&3&N577,I:K,2,FALSE))=2,VLOOKUP(1&3&N577,I:K,2,FALSE),\"\")))","v":""},null,{"$f":"IF(T588<>\"\",CONCATENATE(VLOOKUP(T588,zawodnicy!$A:$E,2,FALSE),\" \",VLOOKUP(T588,zawodnicy!$A:$E,3,FALSE),\" - \",VLOOKUP(T588,zawodnicy!$A:$E,4,FALSE)),\"\")","v":""},null,{"$f":"IF(ISBLANK(W587),\"\",IF((VLOOKUP(W587,'plan gier'!$Z:$AH,7,FALSE))=\"\",L587,VLOOKUP(W587,'plan gier'!$Z:$AH,9,FALSE)))","v":""},null,null,{"$f":"IF(F589=\"\",\"\",VLOOKUP(F589,zawodnicy!$A:$E,3,FALSE))","v":""}]
[{"$f":"Z589","v":0},{"$f":"F587","v":""},{"$f":"G587","v":""},{"$f":"F591","v":""},{"$f":"G591","v":""},{"$f":"IF(A589=0,IF(AND(LEN(B589)>0,LEN(D589)=0),B589,IF(AND(LEN(D589)>0,LEN(B589)=0),D589,\"\")),IF((VLOOKUP(A589,'plan gier'!$Z:$AH,7,FALSE))=\"\",\"\",VLOOKUP(VLOOKUP(A589,'plan gier'!$Z:$AH,7,FALSE),zawodnicy!$A:$E,1,FALSE)))","v":""},{"$f":"IF(A589=0,IF(AND(LEN(C589)>0,LEN(E589)=0),C589,IF(AND(LEN(E589)>0,LEN(C589)=0),E589,\"\")),IF((VLOOKUP(A589,'plan gier'!$Z:$AH,8,FALSE))=\"\",\"\",VLOOKUP(VLOOKUP(A589,'plan gier'!$Z:$AH,8,FALSE),zawodnicy!$A:$E,1,FALSE)))","v":""},{"$f":"IF(A589=0,\"\",IF((VLOOKUP(A589,'plan gier'!$Z:$AH,7,FALSE))=\"\",\"\",VLOOKUP(A589,'plan gier'!$Z:$AH,9,FALSE)))","v":""},null,null,null,{"$f":"IF(A589=0,\"\",IF(VLOOKUP(A589,'plan gier'!A:T,20,FALSE)=\"\",\"\",VLOOKUP(A589,'plan gier'!A:T,20,FALSE)))","v":""},{"$f":"N577","v":0},null,null,null,null,null,null,{"$f":"UPPER(IF(N577=\"\",\"\",IF(TYPE(VLOOKUP(1&3&N577,I:K,3,FALSE))=2,VLOOKUP(1&3&N577,I:K,3,FALSE),\"\")))","v":""},null,{"$f":"IF(T589<>\"\",CONCATENATE(VLOOKUP(T589,zawodnicy!$A:$E,2,FALSE),\" \",VLOOKUP(T589,zawodnicy!$A:$E,3,FALSE),\" - \",VLOOKUP(T589,zawodnicy!$A:$E,4,FALSE)),\"\")","v":""},null,null,null,null,{"$f":"IF(G589=\"\",\"\",VLOOKUP(G589,zawodnicy!$A:$E,3,FALSE))","v":""}]
[null,null,null,null,null,null,null,null,null,null,null,null,null,null,null,{"$f":"IF(O576>8,13,\"\")","v":""},"2. z gr. 1",null,null,{"$f":"UPPER(IF(N577=\"\",\"\",IF(TYPE(VLOOKUP(2&1&N577,I:K,2,FALSE))=2,VLOOKUP(2&1&N577,I:K,2,FALSE),\"\")))","v":""},null,{"$f":"IF(T590<>\"\",CONCATENATE(VLOOKUP(T590,zawodnicy!$A:$E,2,FALSE),\" \",VLOOKUP(T590,zawodnicy!$A:$E,3,FALSE),\" - \",VLOOKUP(T590,zawodnicy!$A:$E,4,FALSE)),\"\")","v":""},null,{"$f":"IF(F591=\"\",\"\",VLOOKUP(F591,zawodnicy!$A:$D,3,FALSE))","v":""},null,null,{"$f":"IF(ISBLANK(Z589),\"\",IF((VLOOKUP(Z589,'plan gier'!$Z:$AH,7,FALSE))=\"\",L589,VLOOKUP(Z589,'plan gier'!$Z:$AH,9,FALSE)))","v":""}]
[{"$f":"W591","v":0},{"$f":"IF(TYPE(T590)=16,\"\",T590)","v":""},{"$f":"IF(TYPE(T591)=16,\"\",T591)","v":""},{"$f":"IF(TYPE(T592)=16,\"\",T592)","v":""},{"$f":"IF(TYPE(T593)=16,\"\",T593)","v":""},{"$f":"IF(A591=0,IF(AND(LEN(B591)>1,LEN(D591)=0),VLOOKUP(B591,zawodnicy!$A:$E,1,FALSE),IF(AND(LEN(D591)>1,LEN(B591)=0),VLOOKUP(D591,zawodnicy!$A:$E,1,FALSE),\"\")),IF((VLOOKUP(A591,'plan gier'!$Z:$AH,7,FALSE))=\"\",\"\",VLOOKUP(VLOOKUP(A591,'plan gier'!$Z:$AH,7,FALSE),zawodnicy!$A:$E,1,FALSE)))","v":""},{"$f":"IF(A591=0,IF(AND(LEN(C591)>1,LEN(E591)=0),VLOOKUP(C591,zawodnicy!$A:$E,1,FALSE),IF(AND(LEN(E591)>1,LEN(C591)=0),VLOOKUP(E591,zawodnicy!$A:$E,1,FALSE),\"\")),IF((VLOOKUP(A591,'plan gier'!$Z:$AH,8,FALSE))=\"\",\"\",VLOOKUP(VLOOKUP(A591,'plan gier'!$Z:$AH,8,FALSE),zawodnicy!$A:$E,1,FALSE)))","v":""},{"$f":"IF(A591=0,\"\",IF((VLOOKUP(A591,'plan gier'!$Z:$AH,7,FALSE))=\"\",\"\",VLOOKUP(A591,'plan gier'!$Z:$AH,9,FALSE)))","v":""},null,null,null,{"$f":"IF(A591=0,\"\",IF(VLOOKUP(A591,'plan gier'!A:T,20,FALSE)=\"\",\"\",VLOOKUP(A591,'plan gier'!A:T,20,FALSE)))","v":""},{"$f":"N577","v":0},null,null,null,null,null,null,{"$f":"UPPER(IF(N577=\"\",\"\",IF(TYPE(VLOOKUP(2&1&N577,I:K,3,FALSE))=2,VLOOKUP(2&1&N577,I:K,3,FALSE),\"\")))","v":""},null,{"$f":"IF(T591<>\"\",CONCATENATE(VLOOKUP(T591,zawodnicy!$A:$E,2,FALSE),\" \",VLOOKUP(T591,zawodnicy!$A:$E,3,FALSE),\" - \",VLOOKUP(T591,zawodnicy!$A:$E,4,FALSE)),\"\")","v":""},null,{"$f":"IF(G591=\"\",\"\",VLOOKUP(G591,zawodnicy!$A:$D,3,FALSE))","v":""}]
[null,null,null,null,null,null,null,null,null,null,null,null,null,null,null,{"$f":"IF(O576>9,15,\"\")","v":""},"1. z gr. 4",null,null,{"$f":"UPPER(IF(N577=\"\",\"\",IF(TYPE(VLOOKUP(1&4&N577,I:K,2,FALSE))=2,VLOOKUP(1&4&N577,I:K,2,FALSE),\"\")))","v":""},null,{"$f":"IF(T592<>\"\",CONCATENATE(VLOOKUP(T592,zawodnicy!$A:$E,2,FALSE),\" \",VLOOKUP(T592,zawodnicy!$A:$E,3,FALSE),\" - \",VLOOKUP(T592,zawodnicy!$A:$E,4,FALSE)),\"\")","v":""},null,{"$f":"IF(ISBLANK(W591),\"\",IF((VLOOKUP(W591,'plan gier'!$Z:$AH,7,FALSE))=\"\",L591,VLOOKUP(W591,'plan gier'!$Z:$AH,9,FALSE)))","v":""}]
[null,null,null,null,null,null,null,null,null,null,null,null,null,null,null,null,null,null,null,{"$f":"UPPER(IF(N577=\"\",\"\",IF(TYPE(VLOOKUP(1&4&N577,I:K,3,FALSE))=2,VLOOKUP(1&4&N577,I:K,3,FALSE),\"\")))","v":""},null,{"$f":"IF(T593<>\"\",CONCATENATE(VLOOKUP(T593,zawodnicy!$A:$E,2,FALSE),\" \",VLOOKUP(T593,zawodnicy!$A:$E,3,FALSE),\" - \",VLOOKUP(T593,zawodnicy!$A:$E,4,FALSE)),\"\")","v":""}]
[]
[]
[null,null,null,null,null,null,null,null,null,null,null,null,null,null,null,null,"Drabinka pucharowa pośredniego systemu grupowo-pucharowego dla 3 grup"]
[]
[null,null,null,null,null,null,null,null,null,null,null,null,null,null,null,null,null,null,null,"5-6.",null,null,null,"3-4.",null,null,"2.",null,null,"1."]
[]
[null,null,null,null,null,null,null,null,null,null,null,null,null,null,null,{"$f":"IF(O598>8,1,\"\")","v":""},null,null,null,null,null,null,null,{"$f":"IF(F601=\"\",\"\",VLOOKUP(F601,zawodnicy!$A:$D,3,FALSE))","v":""}]
[{"$f":"W602","v":0},{"$f":"IF(TYPE(T601)=16,\"\",T601)","v":""},{"$f":"IF(TYPE(T602)=16,\"\",T602)","v":""},null,null,{"$f":"IF(A601=0,IF(AND(LEN(B601)>1,LEN(D601)=0),VLOOKUP(B601,zawodnicy!$A:$E,1,FALSE),IF(AND(LEN(D601)>1,LEN(B601)=0),VLOOKUP(D601,zawodnicy!$A:$E,1,FALSE),\"\")),IF((VLOOKUP(A601,'plan gier'!$Z:$AH,7,FALSE))=\"\",\"\",VLOOKUP(VLOOKUP(A601,'plan gier'!$Z:$AH,7,FALSE),zawodnicy!$A:$E,1,FALSE)))","v":""},{"$f":"IF(A601=0,IF(AND(LEN(C601)>1,LEN(E601)=0),VLOOKUP(C601,zawodnicy!$A:$E,1,FALSE),IF(AND(LEN(E601)>1,LEN(C601)=0),VLOOKUP(E601,zawodnicy!$A:$E,1,FALSE),\"\")),IF((VLOOKUP(A601,'plan gier'!$Z:$AH,8,FALSE))=\"\",\"\",VLOOKUP(VLOOKUP(A601,'plan gier'!$Z:$AH,8,FALSE),zawodnicy!$A:$E,1,FALSE)))","v":""},{"$f":"IF(A601=0,\"\",IF((VLOOKUP(A601,'plan gier'!$Z:$AH,7,FALSE))=\"\",\"\",VLOOKUP(A601,'plan gier'!$Z:$AH,9,FALSE)))","v":""},null,null,null,{"$f":"IF(A601=0,\"\",IF(VLOOKUP(A601,'plan gier'!A:T,20,FALSE)=\"\",\"\",VLOOKUP(A601,'plan gier'!A:T,20,FALSE)))","v":""},{"$f":"N599","v":0},null,null,null,"1. z gr. 1",null,null,{"$f":"UPPER(IF(N599=\"\",\"\",IF(TYPE(VLOOKUP(1&1&N599,I:K,2,FALSE))=2,VLOOKUP(1&1&N599,I:K,2,FALSE),\"\")))","v":""},null,{"$f":"IF(T601<>\"\",CONCATENATE(VLOOKUP(T601,zawodnicy!$A:$E,2,FALSE),\" \",VLOOKUP(T601,zawodnicy!$A:$E,3,FALSE),\" - \",VLOOKUP(T601,zawodnicy!$A:$E,4,FALSE)),\"\")","v":""},null,{"$f":"IF(G601=\"\",\"\",VLOOKUP(G601,zawodnicy!$A:$D,3,FALSE))","v":""}]
[null,null,null,null,null,null,null,null,null,null,null,null,null,null,null,{"$f":"IF(O598>15,3,\"\")","v":""},null,null,null,{"$f":"UPPER(IF(N599=\"\",\"\",IF(TYPE(VLOOKUP(1&1&N599,I:K,3,FALSE))=2,VLOOKUP(1&1&N599,I:K,3,FALSE),\"\")))","v":""},null,{"$f":"IF(T602<>\"\",CONCATENATE(VLOOKUP(T602,zawodnicy!$A:$E,2,FALSE),\" \",VLOOKUP(T602,zawodnicy!$A:$E,3,FALSE),\" - \",VLOOKUP(T602,zawodnicy!$A:$E,4,FALSE)),\"\")","v":""},null,{"$f":"IF(H601=\"\",L601,H601)","v":""},null,null,{"$f":"IF(F603=\"\",\"\",VLOOKUP(F603,zawodnicy!$A:$E,3,FALSE))","v":""}]
[{"$f":"Z603","v":0},{"$f":"F601","v":""},{"$f":"G601","v":""},{"$f":"F605","v":""},{"$f":"G605","v":""},{"$f":"IF(A603=0,IF(AND(LEN(B603)>0,LEN(D603)=0),B603,IF(AND(LEN(D603)>0,LEN(B603)=0),D603,\"\")),IF((VLOOKUP(A603,'plan gier'!$Z:$AH,7,FALSE))=\"\",\"\",VLOOKUP(VLOOKUP(A603,'plan gier'!$Z:$AH,7,FALSE),zawodnicy!$A:$E,1,FALSE)))","v":""},{"$f":"IF(A603=0,IF(AND(LEN(C603)>0,LEN(E603)=0),C603,IF(AND(LEN(E603)>0,LEN(C603)=0),E603,\"\")),IF((VLOOKUP(A603,'plan gier'!$Z:$AH,8,FALSE))=\"\",\"\",VLOOKUP(VLOOKUP(A603,'plan gier'!$Z:$AH,8,FALSE),zawodnicy!$A:$E,1,FALSE)))","v":""},{"$f":"IF(A603=0,\"\",IF((VLOOKUP(A603,'plan gier'!$Z:$AH,7,FALSE))=\"\",\"\",VLOOKUP(A603,'plan gier'!$Z:$AH,9,FALSE)))","v":""},null,null,null,{"$f":"IF(A603=0,\"\",IF(VLOOKUP(A603,'plan gier'!A:T,20,FALSE)=\"\",\"\",VLOOKUP(A603,'plan gier'!A:T,20,FALSE)))","v":""},{"$f":"N599","v":0},null,null,null,null,null,null,null,null,{"$f":"IF(T603<>\"\",CONCATENATE(VLOOKUP(T603,zawodnicy!$A:$E,2,FALSE),\" \",VLOOKUP(T603,zawodnicy!$A:$E,3,FALSE),\" - \",VLOOKUP(T603,zawodnicy!$A:$E,4,FALSE)),\"\")","v":""},null,null,null,null,{"$f":"IF(G603=\"\",\"\",VLOOKUP(G603,zawodnicy!$A:$E,3,FALSE))","v":""}]
[null,null,null,null,null,null,null,null,null,null,null,null,null,null,null,{"$f":"IF(O598>8,5,\"\")","v":""},"2. z gr. 3",null,null,{"$f":"UPPER(IF(N599=\"\",\"\",IF(TYPE(VLOOKUP(2&3&N599,I:K,2,FALSE))=2,VLOOKUP(2&3&N599,I:K,2,FALSE),\"\")))","v":""},null,{"$f":"IF(T604<>\"\",CONCATENATE(VLOOKUP(T604,zawodnicy!$A:$E,2,FALSE),\" \",VLOOKUP(T604,zawodnicy!$A:$E,3,FALSE),\" - \",VLOOKUP(T604,zawodnicy!$A:$E,4,FALSE)),\"\")","v":""},null,{"$f":"IF(F605=\"\",\"\",VLOOKUP(F605,zawodnicy!$A:$D,3,FALSE))","v":""},null,null,{"$f":"IF(ISBLANK(Z603),\"\",IF((VLOOKUP(Z603,'plan gier'!$Z:$AH,7,FALSE))=\"\",L603,VLOOKUP(Z603,'plan gier'!$Z:$AH,9,FALSE)))","v":""}]
[{"$f":"W605","v":0},{"$f":"IF(TYPE(T604)=16,\"\",T604)","v":""},{"$f":"IF(TYPE(T605)=16,\"\",T605)","v":""},{"$f":"IF(TYPE(T606)=16,\"\",T606)","v":""},{"$f":"IF(TYPE(T607)=16,\"\",T607)","v":""},{"$f":"IF(A605=0,IF(AND(LEN(B605)>1,LEN(D605)=0),VLOOKUP(B605,zawodnicy!$A:$E,1,FALSE),IF(AND(LEN(D605)>1,LEN(B605)=0),VLOOKUP(D605,zawodnicy!$A:$E,1,FALSE),\"\")),IF((VLOOKUP(A605,'plan gier'!$Z:$AH,7,FALSE))=\"\",\"\",VLOOKUP(VLOOKUP(A605,'plan gier'!$Z:$AH,7,FALSE),zawodnicy!$A:$E,1,FALSE)))","v":""},{"$f":"IF(A605=0,IF(AND(LEN(C605)>1,LEN(E605)=0),VLOOKUP(C605,zawodnicy!$A:$E,1,FALSE),IF(AND(LEN(E605)>1,LEN(C605)=0),VLOOKUP(E605,zawodnicy!$A:$E,1,FALSE),\"\")),IF((VLOOKUP(A605,'plan gier'!$Z:$AH,8,FALSE))=\"\",\"\",VLOOKUP(VLOOKUP(A605,'plan gier'!$Z:$AH,8,FALSE),zawodnicy!$A:$E,1,FALSE)))","v":""},{"$f":"IF(A605=0,\"\",IF((VLOOKUP(A605,'plan gier'!$Z:$AH,7,FALSE))=\"\",\"\",VLOOKUP(A605,'plan gier'!$Z:$AH,9,FALSE)))","v":""},null,null,null,{"$f":"IF(A605=0,\"\",IF(VLOOKUP(A605,'plan gier'!A:T,20,FALSE)=\"\",\"\",VLOOKUP(A605,'plan gier'!A:T,20,FALSE)))","v":""},{"$f":"N599","v":0},null,null,null,null,null,null,{"$f":"UPPER(IF(N599=\"\",\"\",IF(TYPE(VLOOKUP(2&3&N599,I:K,3,FALSE))=2,VLOOKUP(2&3&N599,I:K,3,FALSE),\"\")))","v":""},null,{"$f":"IF(T605<>\"\",CONCATENATE(VLOOKUP(T605,zawodnicy!$A:$E,2,FALSE),\" \",VLOOKUP(T605,zawodnicy!$A:$E,3,FALSE),\" - \",VLOOKUP(T605,zawodnicy!$A:$E,4,FALSE)),\"\")","v":""},null,{"$f":"IF(G605=\"\",\"\",VLOOKUP(G605,zawodnicy!$A:$D,3,FALSE))","v":""}]
[null,null,null,null,null,null,null,null,null,null,null,null,null,null,null,{"$f":"IF(O598>11,7,\"\")","v":""},"2. z gr. 2",null,null,{"$f":"UPPER(IF(N599=\"\",\"\",IF(TYPE(VLOOKUP(2&2&N599,I:K,2,FALSE))=2,VLOOKUP(2&2&N599,I:K,2,FALSE),\"\")))","v":""},null,{"$f":"IF(T606<>\"\",CONCATENATE(VLOOKUP(T606,zawodnicy!$A:$E,2,FALSE),\" \",VLOOKUP(T606,zawodnicy!$A:$E,3,FALSE),\" - \",VLOOKUP(T606,zawodnicy!$A:$E,4,FALSE)),\"\")","v":""},null,{"$f":"IF(ISBLANK(W605),\"\",IF((VLOOKUP(W605,'plan gier'!$Z:$AH,7,FALSE))=\"\",L605,VLOOKUP(W605,'plan gier'!$Z:$AH,9,FALSE)))","v":""},null,null,null,null,null,{"$f":"IF(F607=\"\",\"\",VLOOKUP(F607,zawodnicy!$A:$E,3,FALSE))","v":""}]
[{"$f":"AC607","v":0},{"$f":"F603","v":""},{"$f":"G603","v":""},{"$f":"F611","v":""},{"$f":"G611","v":""},{"$f":"IF(A607=0,IF(AND(LEN(B607)>0,LEN(D607)=0),B607,IF(AND(LEN(D607)>0,LEN(B607)=0),D607,\"\")),IF((VLOOKUP(A607,'plan gier'!$Z:$AH,7,FALSE))=\"\",\"\",VLOOKUP(VLOOKUP(A607,'plan gier'!$Z:$AH,7,FALSE),zawodnicy!$A:$E,1,FALSE)))","v":""},{"$f":"IF(A607=0,IF(AND(LEN(C607)>0,LEN(E607)=0),C607,IF(AND(LEN(E607)>0,LEN(C607)=0),E607,\"\")),IF((VLOOKUP(A607,'plan gier'!$Z:$AH,8,FALSE))=\"\",\"\",VLOOKUP(VLOOKUP(A607,'plan gier'!$Z:$AH,8,FALSE),zawodnicy!$A:$E,1,FALSE)))","v":""},{"$f":"IF(A607=0,\"\",IF((VLOOKUP(A607,'plan gier'!$Z:$AH,7,FALSE))=\"\",\"\",VLOOKUP(A607,'plan gier'!$Z:$AH,9,FALSE)))","v":""},null,null,null,{"$f":"IF(A607=0,\"\",IF(VLOOKUP(A607,'plan gier'!A:T,20,FALSE)=\"\",\"\",VLOOKUP(A607,'plan gier'!A:T,20,FALSE)))","v":""},{"$f":"N599","v":0},null,null,null,null,null,null,{"$f":"UPPER(IF(N599=\"\",\"\",IF(TYPE(VLOOKUP(2&2&N599,I:K,3,FALSE))=2,VLOOKUP(2&2&N599,I:K,3,FALSE),\"\")))","v":""},null,{"$f":"IF(T607<>\"\",CONCATENATE(VLOOKUP(T607,zawodnicy!$A:$E,2,FALSE),\" \",VLOOKUP(T607,zawodnicy!$A:$E,3,FALSE),\" - \",VLOOKUP(T607,zawodnicy!$A:$E,4,FALSE)),\"\")","v":""},null,null,null,null,null,null,null,{"$f":"IF(G607=\"\",\"\",VLOOKUP(G607,zawodnicy!$A:$E,3,FALSE))","v":""}]
[null,null,null,null,null,null,null,null,null,null,null,null,null,null,null,{"$f":"IF(O598>8,9,\"\")","v":""},"2. z gr. 1",null,null,{"$f":"UPPER(IF(N599=\"\",\"\",IF(TYPE(VLOOKUP(2&1&N599,I:K,2,FALSE))=2,VLOOKUP(2&1&N599,I:K,2,FALSE),\"\")))","v":""},null,{"$f":"IF(T608<>\"\",CONCATENATE(VLOOKUP(T608,zawodnicy!$A:$E,2,FALSE),\" \",VLOOKUP(T608,zawodnicy!$A:$E,3,FALSE),\" - \",VLOOKUP(T608,zawodnicy!$A:$E,4,FALSE)),\"\")","v":""},null,{"$f":"IF(F609=\"\",\"\",VLOOKUP(F609,zawodnicy!$A:$D,3,FALSE))","v":""},null,null,null,null,null,{"$f":"IF(ISBLANK(AC607),\"\",IF((VLOOKUP(AC607,'plan gier'!$Z:$AH,7,FALSE))=\"\",L607,VLOOKUP(AC607,'plan gier'!$Z:$AH,9,FALSE)))","v":""}]
[{"$f":"W609","v":0},{"$f":"IF(TYPE(T608)=16,\"\",T608)","v":""},{"$f":"IF(TYPE(T609)=16,\"\",T609)","v":""},{"$f":"IF(TYPE(T610)=16,\"\",T610)","v":""},{"$f":"IF(TYPE(T611)=16,\"\",T611)","v":""},{"$f":"IF(A609=0,IF(AND(LEN(B609)>1,LEN(D609)=0),VLOOKUP(B609,zawodnicy!$A:$E,1,FALSE),IF(AND(LEN(D609)>1,LEN(B609)=0),VLOOKUP(D609,zawodnicy!$A:$E,1,FALSE),\"\")),IF((VLOOKUP(A609,'plan gier'!$Z:$AH,7,FALSE))=\"\",\"\",VLOOKUP(VLOOKUP(A609,'plan gier'!$Z:$AH,7,FALSE),zawodnicy!$A:$E,1,FALSE)))","v":""},{"$f":"IF(A609=0,IF(AND(LEN(C609)>1,LEN(E609)=0),VLOOKUP(C609,zawodnicy!$A:$E,1,FALSE),IF(AND(LEN(E609)>1,LEN(C609)=0),VLOOKUP(E609,zawodnicy!$A:$E,1,FALSE),\"\")),IF((VLOOKUP(A609,'plan gier'!$Z:$AH,8,FALSE))=\"\",\"\",VLOOKUP(VLOOKUP(A609,'plan gier'!$Z:$AH,8,FALSE),zawodnicy!$A:$E,1,FALSE)))","v":""},{"$f":"IF(A609=0,\"\",IF((VLOOKUP(A609,'plan gier'!$Z:$AH,7,FALSE))=\"\",\"\",VLOOKUP(A609,'plan gier'!$Z:$AH,9,FALSE)))","v":""},null,null,null,{"$f":"IF(A609=0,\"\",IF(VLOOKUP(A609,'plan gier'!A:T,20,FALSE)=\"\",\"\",VLOOKUP(A609,'plan gier'!A:T,20,FALSE)))","v":""},{"$f":"N599","v":0},null,null,null,null,null,null,{"$f":"UPPER(IF(N599=\"\",\"\",IF(TYPE(VLOOKUP(2&1&N599,I:K,3,FALSE))=2,VLOOKUP(2&1&N599,I:K,3,FALSE),\"\")))","v":""},null,{"$f":"IF(T609<>\"\",CONCATENATE(VLOOKUP(T609,zawodnicy!$A:$E,2,FALSE),\" \",VLOOKUP(T609,zawodnicy!$A:$E,3,FALSE),\" - \",VLOOKUP(T609,zawodnicy!$A:$E,4,FALSE)),\"\")","v":""},null,{"$f":"IF(G609=\"\",\"\",VLOOKUP(G609,zawodnicy!$A:$D,3,FALSE))","v":""}]
[null,null,null,null,null,null,null,null,null,null,null,null,null,null,null,{"$f":"IF(O598>13,11,\"\")","v":""},"1. z gr. 2",null,null,{"$f":"UPPER(IF(N599=\"\",\"\",IF(TYPE(VLOOKUP(1&2&N599,I:K,2,FALSE))=2,VLOOKUP(1&2&N599,I:K,2,FALSE),\"\")))","v":""},null,{"$f":"IF(T610<>\"\",CONCATENATE(VLOOKUP(T610,zawodnicy!$A:$E,2,FALSE),\" \",VLOOKUP(T610,zawodnicy!$A:$E,3,FALSE),\" - \",VLOOKUP(T610,zawodnicy!$A:$E,4,FALSE)),\"\")","v":""},null,{"$f":"IF(ISBLANK(W609),\"\",IF((VLOOKUP(W609,'plan gier'!$Z:$AH,7,FALSE))=\"\",L609,VLOOKUP(W609,'plan gier'!$Z:$AH,9,FALSE)))","v":""},null,null,{"$f":"IF(F611=\"\",\"\",VLOOKUP(F611,zawodnicy!$A:$E,3,FALSE))","v":""}]
[{"$f":"Z611","v":0},{"$f":"F609","v":""},{"$f":"G609","v":""},{"$f":"F613","v":""},{"$f":"G613","v":""},{"$f":"IF(A611=0,IF(AND(LEN(B611)>0,LEN(D611)=0),B611,IF(AND(LEN(D611)>0,LEN(B611)=0),D611,\"\")),IF((VLOOKUP(A611,'plan gier'!$Z:$AH,7,FALSE))=\"\",\"\",VLOOKUP(VLOOKUP(A611,'plan gier'!$Z:$AH,7,FALSE),zawodnicy!$A:$E,1,FALSE)))","v":""},{"$f":"IF(A611=0,IF(AND(LEN(C611)>0,LEN(E611)=0),C611,IF(AND(LEN(E611)>0,LEN(C611)=0),E611,\"\")),IF((VLOOKUP(A611,'plan gier'!$Z:$AH,8,FALSE))=\"\",\"\",VLOOKUP(VLOOKUP(A611,'plan gier'!$Z:$AH,8,FALSE),zawodnicy!$A:$E,1,FALSE)))","v":""},{"$f":"IF(A611=0,\"\",IF((VLOOKUP(A611,'plan gier'!$Z:$AH,7,FALSE))=\"\",\"\",VLOOKUP(A611,'plan gier'!$Z:$AH,9,FALSE)))","v":""},null,null,null,{"$f":"IF(A611=0,\"\",IF(VLOOKUP(A611,'plan gier'!A:T,20,FALSE)=\"\",\"\",VLOOKUP(A611,'plan gier'!A:T,20,FALSE)))","v":""},{"$f":"N599","v":0},null,null,null,null,null,null,{"$f":"UPPER(IF(N599=\"\",\"\",IF(TYPE(VLOOKUP(1&2&N599,I:K,3,FALSE))=2,VLOOKUP(1&2&N599,I:K,3,FALSE),\"\")))","v":""},null,{"$f":"IF(T611<>\"\",CONCATENATE(VLOOKUP(T611,zawodnicy!$A:$E,2,FALSE),\" \",VLOOKUP(T611,zawodnicy!$A:$E,3,FALSE),\" - \",VLOOKUP(T611,zawodnicy!$A:$E,4,FALSE)),\"\")","v":""},null,null,null,null,{"$f":"IF(G611=\"\",\"\",VLOOKUP(G611,zawodnicy!$A:$E,3,FALSE))","v":""}]
[null,null,null,null,null,null,null,null,null,null,null,null,null,null,null,{"$f":"IF(O598>8,13,\"\")","v":""},null,null,null,null,null,null,null,{"$f":"IF(F613=\"\",\"\",VLOOKUP(F613,zawodnicy!$A:$D,3,FALSE))","v":""},null,null,{"$f":"IF(ISBLANK(Z611),\"\",IF((VLOOKUP(Z611,'plan gier'!$Z:$AH,7,FALSE))=\"\",L611,VLOOKUP(Z611,'plan gier'!$Z:$AH,9,FALSE)))","v":""}]
[{"$f":"W614","v":0},{"$f":"IF(TYPE(T613)=16,\"\",T613)","v":""},{"$f":"IF(TYPE(T614)=16,\"\",T614)","v":""},null,null,{"$f":"IF(A613=0,IF(AND(LEN(B613)>1,LEN(D613)=0),VLOOKUP(B613,zawodnicy!$A:$E,1,FALSE),IF(AND(LEN(D613)>1,LEN(B613)=0),VLOOKUP(D613,zawodnicy!$A:$E,1,FALSE),\"\")),IF((VLOOKUP(A613,'plan gier'!$Z:$AH,7,FALSE))=\"\",\"\",VLOOKUP(VLOOKUP(A613,'plan gier'!$Z:$AH,7,FALSE),zawodnicy!$A:$E,1,FALSE)))","v":""},{"$f":"IF(A613=0,IF(AND(LEN(C613)>1,LEN(E613)=0),VLOOKUP(C613,zawodnicy!$A:$E,1,FALSE),IF(AND(LEN(E613)>1,LEN(C613)=0),VLOOKUP(E613,zawodnicy!$A:$E,1,FALSE),\"\")),IF((VLOOKUP(A613,'plan gier'!$Z:$AH,8,FALSE))=\"\",\"\",VLOOKUP(VLOOKUP(A613,'plan gier'!$Z:$AH,8,FALSE),zawodnicy!$A:$E,1,FALSE)))","v":""},{"$f":"IF(A613=0,\"\",IF((VLOOKUP(A613,'plan gier'!$Z:$AH,7,FALSE))=\"\",\"\",VLOOKUP(A613,'plan gier'!$Z:$AH,9,FALSE)))","v":""},null,null,null,{"$f":"IF(A613=0,\"\",IF(VLOOKUP(A613,'plan gier'!A:T,20,FALSE)=\"\",\"\",VLOOKUP(A613,'plan gier'!A:T,20,FALSE)))","v":""},{"$f":"N599","v":0},null,null,null,"1. z gr. 3",null,null,{"$f":"UPPER(IF(N599=\"\",\"\",IF(TYPE(VLOOKUP(1&3&N599,I:K,2,FALSE))=2,VLOOKUP(1&3&N599,I:K,2,FALSE),\"\")))","v":""},null,{"$f":"IF(T613<>\"\",CONCATENATE(VLOOKUP(T613,zawodnicy!$A:$E,2,FALSE),\" \",VLOOKUP(T613,zawodnicy!$A:$E,3,FALSE),\" - \",VLOOKUP(T613,zawodnicy!$A:$E,4,FALSE)),\"\")","v":""},null,{"$f":"IF(G613=\"\",\"\",VLOOKUP(G613,zawodnicy!$A:$D,3,FALSE))","v":""}]
[null,null,null,null,null,null,null,null,null,null,null,null,null,null,null,{"$f":"IF(O598>9,15,\"\")","v":""},null,null,null,{"$f":"UPPER(IF(N599=\"\",\"\",IF(TYPE(VLOOKUP(1&3&N599,I:K,3,FALSE))=2,VLOOKUP(1&3&N599,I:K,3,FALSE),\"\")))","v":""},null,{"$f":"IF(T614<>\"\",CONCATENATE(VLOOKUP(T614,zawodnicy!$A:$E,2,FALSE),\" \",VLOOKUP(T614,zawodnicy!$A:$E,3,FALSE),\" - \",VLOOKUP(T614,zawodnicy!$A:$E,4,FALSE)),\"\")","v":""},null,{"$f":"IF(ISBLANK(W614),\"\",IF((VLOOKUP(W614,'plan gier'!$Z:$AH,7,FALSE))=\"\",L613,VLOOKUP(W614,'plan gier'!$Z:$AH,9,FALSE)))","v":""}]
[null,null,null,null,null,null,null,null,null,null,null,null,null,null,null,null,null,null,null,null,null,{"$f":"IF(T615<>\"\",CONCATENATE(VLOOKUP(T615,zawodnicy!$A:$E,2,FALSE),\" \",VLOOKUP(T615,zawodnicy!$A:$E,3,FALSE),\" - \",VLOOKUP(T615,zawodnicy!$A:$E,4,FALSE)),\"\")","v":""}]
[]
[null,null,null,null,null,null,null,null,null,null,null,null,null,null,null,null,"Drabinka pucharowa pośredniego systemu grupowo-pucharowego dla 2 grup"]
[]
[null,null,null,null,null,null,null,null,null,null,null,null,null,null,null,null,null,null,null,"3-4.",null,null,null,"2.",null,null,"1."]
[]
[null,null,null,null,null,null,null,null,null,null,null,null,null,null,null,{"$f":"IF(O619>8,1,\"\")","v":""},"1. z gr. 1",null,null,{"$f":"UPPER(IF(N620=\"\",\"\",IF(TYPE(VLOOKUP(1&1&N620,I:K,2,FALSE))=2,VLOOKUP(1&1&N620,I:K,2,FALSE),\"\")))","v":""},null,{"$f":"IF(T621<>\"\",CONCATENATE(VLOOKUP(T621,zawodnicy!$A:$E,2,FALSE),\" \",VLOOKUP(T621,zawodnicy!$A:$E,3,FALSE),\" - \",VLOOKUP(T621,zawodnicy!$A:$E,4,FALSE)),\"\")","v":""},null,{"$f":"IF(F622=\"\",\"\",VLOOKUP(F622,zawodnicy!$A:$D,3,FALSE))","v":""}]
[{"$f":"W622","v":0},{"$f":"IF(TYPE(T621)=16,\"\",T621)","v":""},{"$f":"IF(TYPE(T622)=16,\"\",T622)","v":""},{"$f":"IF(TYPE(T623)=16,\"\",T623)","v":""},{"$f":"IF(TYPE(T624)=16,\"\",T624)","v":""},{"$f":"IF(A622=0,IF(AND(LEN(B622)>1,LEN(D622)=0),VLOOKUP(B622,zawodnicy!$A:$E,1,FALSE),IF(AND(LEN(D622)>1,LEN(B622)=0),VLOOKUP(D622,zawodnicy!$A:$E,1,FALSE),\"\")),IF((VLOOKUP(A622,'plan gier'!$Z:$AH,7,FALSE))=\"\",\"\",VLOOKUP(VLOOKUP(A622,'plan gier'!$Z:$AH,7,FALSE),zawodnicy!$A:$E,1,FALSE)))","v":""},{"$f":"IF(A622=0,IF(AND(LEN(C622)>1,LEN(E622)=0),VLOOKUP(C622,zawodnicy!$A:$E,1,FALSE),IF(AND(LEN(E622)>1,LEN(C622)=0),VLOOKUP(E622,zawodnicy!$A:$E,1,FALSE),\"\")),IF((VLOOKUP(A622,'plan gier'!$Z:$AH,8,FALSE))=\"\",\"\",VLOOKUP(VLOOKUP(A622,'plan gier'!$Z:$AH,8,FALSE),zawodnicy!$A:$E,1,FALSE)))","v":""},{"$f":"IF(A622=0,\"\",IF((VLOOKUP(A622,'plan gier'!$Z:$AH,7,FALSE))=\"\",\"\",VLOOKUP(A622,'plan gier'!$Z:$AH,9,FALSE)))","v":""},null,null,null,{"$f":"IF(A622=0,\"\",IF(VLOOKUP(A622,'plan gier'!A:T,20,FALSE)=\"\",\"\",VLOOKUP(A622,'plan gier'!A:T,20,FALSE)))","v":""},{"$f":"N620","v":0},null,null,null,null,null,null,{"$f":"UPPER(IF(N620=\"\",\"\",IF(TYPE(VLOOKUP(1&1&N620,I:K,3,FALSE))=2,VLOOKUP(1&1&N620,I:K,3,FALSE),\"\")))","v":""},null,{"$f":"IF(T622<>\"\",CONCATENATE(VLOOKUP(T622,zawodnicy!$A:$E,2,FALSE),\" \",VLOOKUP(T622,zawodnicy!$A:$E,3,FALSE),\" - \",VLOOKUP(T622,zawodnicy!$A:$E,4,FALSE)),\"\")","v":""},null,{"$f":"IF(G622=\"\",\"\",VLOOKUP(G622,zawodnicy!$A:$D,3,FALSE))","v":""}]
[null,null,null,null,null,null,null,null,null,null,null,null,null,null,null,{"$f":"IF(O619>15,3,\"\")","v":""},"2. z gr. 2",null,null,{"$f":"UPPER(IF(N620=\"\",\"\",IF(TYPE(VLOOKUP(2&2&N620,I:K,2,FALSE))=2,VLOOKUP(2&2&N620,I:K,2,FALSE),\"\")))","v":""},null,{"$f":"IF(T623<>\"\",CONCATENATE(VLOOKUP(T623,zawodnicy!$A:$E,2,FALSE),\" \",VLOOKUP(T623,zawodnicy!$A:$E,3,FALSE),\" - \",VLOOKUP(T623,zawodnicy!$A:$E,4,FALSE)),\"\")","v":""},null,{"$f":"IF(H622=\"\",L622,H622)","v":""},null,null,{"$f":"IF(F624=\"\",\"\",VLOOKUP(F624,zawodnicy!$A:$E,3,FALSE))","v":""}]
[{"$f":"Z624","v":0},{"$f":"F622","v":""},{"$f":"G622","v":""},{"$f":"F626","v":""},{"$f":"G626","v":""},{"$f":"IF(A624=0,IF(AND(LEN(B624)>0,LEN(D624)=0),B624,IF(AND(LEN(D624)>0,LEN(B624)=0),D624,\"\")),IF((VLOOKUP(A624,'plan gier'!$Z:$AH,7,FALSE))=\"\",\"\",VLOOKUP(VLOOKUP(A624,'plan gier'!$Z:$AH,7,FALSE),zawodnicy!$A:$E,1,FALSE)))","v":""},{"$f":"IF(A624=0,IF(AND(LEN(C624)>0,LEN(E624)=0),C624,IF(AND(LEN(E624)>0,LEN(C624)=0),E624,\"\")),IF((VLOOKUP(A624,'plan gier'!$Z:$AH,8,FALSE))=\"\",\"\",VLOOKUP(VLOOKUP(A624,'plan gier'!$Z:$AH,8,FALSE),zawodnicy!$A:$E,1,FALSE)))","v":""},{"$f":"IF(A624=0,\"\",IF((VLOOKUP(A624,'plan gier'!$Z:$AH,7,FALSE))=\"\",\"\",VLOOKUP(A624,'plan gier'!$Z:$AH,9,FALSE)))","v":""},null,null,null,{"$f":"IF(A624=0,\"\",IF(VLOOKUP(A624,'plan gier'!A:T,20,FALSE)=\"\",\"\",VLOOKUP(A624,'plan gier'!A:T,20,FALSE)))","v":""},{"$f":"N620","v":0},null,null,null,null,null,null,{"$f":"UPPER(IF(N620=\"\",\"\",IF(TYPE(VLOOKUP(2&2&N620,I:K,3,FALSE))=2,VLOOKUP(2&2&N620,I:K,3,FALSE),\"\")))","v":""},null,{"$f":"IF(T624<>\"\",CONCATENATE(VLOOKUP(T624,zawodnicy!$A:$E,2,FALSE),\" \",VLOOKUP(T624,zawodnicy!$A:$E,3,FALSE),\" - \",VLOOKUP(T624,zawodnicy!$A:$E,4,FALSE)),\"\")","v":""},null,null,null,null,{"$f":"IF(G624=\"\",\"\",VLOOKUP(G624,zawodnicy!$A:$E,3,FALSE))","v":""}]
[null,null,null,null,null,null,null,null,null,null,null,null,null,null,null,{"$f":"IF(O619>8,5,\"\")","v":""},"2. z gr. 1",null,null,{"$f":"UPPER(IF(N620=\"\",\"\",IF(TYPE(VLOOKUP(2&1&N620,I:K,2,FALSE))=2,VLOOKUP(2&1&N620,I:K,2,FALSE),\"\")))","v":""},null,{"$f":"IF(T625<>\"\",CONCATENATE(VLOOKUP(T625,zawodnicy!$A:$E,2,FALSE),\" \",VLOOKUP(T625,zawodnicy!$A:$E,3,FALSE),\" - \",VLOOKUP(T625,zawodnicy!$A:$E,4,FALSE)),\"\")","v":""},null,{"$f":"IF(F626=\"\",\"\",VLOOKUP(F626,zawodnicy!$A:$D,3,FALSE))","v":""},null,null,{"$f":"IF(ISBLANK(Z624),\"\",IF((VLOOKUP(Z624,'plan gier'!$Z:$AH,7,FALSE))=\"\",L624,VLOOKUP(Z624,'plan gier'!$Z:$AH,9,FALSE)))","v":""}]
[{"$f":"W626","v":0},{"$f":"IF(TYPE(T625)=16,\"\",T625)","v":""},{"$f":"IF(TYPE(T626)=16,\"\",T626)","v":""},{"$f":"IF(TYPE(T627)=16,\"\",T627)","v":""},{"$f":"IF(TYPE(T628)=16,\"\",T628)","v":""},{"$f":"IF(A626=0,IF(AND(LEN(B626)>1,LEN(D626)=0),VLOOKUP(B626,zawodnicy!$A:$E,1,FALSE),IF(AND(LEN(D626)>1,LEN(B626)=0),VLOOKUP(D626,zawodnicy!$A:$E,1,FALSE),\"\")),IF((VLOOKUP(A626,'plan gier'!$Z:$AH,7,FALSE))=\"\",\"\",VLOOKUP(VLOOKUP(A626,'plan gier'!$Z:$AH,7,FALSE),zawodnicy!$A:$E,1,FALSE)))","v":""},{"$f":"IF(A626=0,IF(AND(LEN(C626)>1,LEN(E626)=0),VLOOKUP(C626,zawodnicy!$A:$E,1,FALSE),IF(AND(LEN(E626)>1,LEN(C626)=0),VLOOKUP(E626,zawodnicy!$A:$E,1,FALSE),\"\")),IF((VLOOKUP(A626,'plan gier'!$Z:$AH,8,FALSE))=\"\",\"\",VLOOKUP(VLOOKUP(A626,'plan gier'!$Z:$AH,8,FALSE),zawodnicy!$A:$E,1,FALSE)))","v":""},{"$f":"IF(A626=0,\"\",IF((VLOOKUP(A626,'plan gier'!$Z:$AH,7,FALSE))=\"\",\"\",VLOOKUP(A626,'plan gier'!$Z:$AH,9,FALSE)))","v":""},null,null,null,{"$f":"IF(A626=0,\"\",IF(VLOOKUP(A626,'plan gier'!A:T,20,FALSE)=\"\",\"\",VLOOKUP(A626,'plan gier'!A:T,20,FALSE)))","v":""},{"$f":"N620","v":0},null,null,null,null,null,null,{"$f":"UPPER(IF(N620=\"\",\"\",IF(TYPE(VLOOKUP(2&1&N620,I:K,3,FALSE))=2,VLOOKUP(2&1&N620,I:K,3,FALSE),\"\")))","v":""},null,{"$f":"IF(T626<>\"\",CONCATENATE(VLOOKUP(T626,zawodnicy!$A:$E,2,FALSE),\" \",VLOOKUP(T626,zawodnicy!$A:$E,3,FALSE),\" - \",VLOOKUP(T626,zawodnicy!$A:$E,4,FALSE)),\"\")","v":""},null,{"$f":"IF(G626=\"\",\"\",VLOOKUP(G626,zawodnicy!$A:$D,3,FALSE))","v":""}]
[null,null,null,null,null,null,null,null,null,null,null,null,null,null,null,{"$f":"IF(O619>11,7,\"\")","v":""},"1. z gr. 2",null,null,{"$f":"UPPER(IF(N620=\"\",\"\",IF(TYPE(VLOOKUP(1&2&N620,I:K,2,FALSE))=2,VLOOKUP(1&2&N620,I:K,2,FALSE),\"\")))","v":""},null,{"$f":"IF(T627<>\"\",CONCATENATE(VLOOKUP(T627,zawodnicy!$A:$E,2,FALSE),\" \",VLOOKUP(T627,zawodnicy!$A:$E,3,FALSE),\" - \",VLOOKUP(T627,zawodnicy!$A:$E,4,FALSE)),\"\")","v":""},null,{"$f":"IF(ISBLANK(W626),\"\",IF((VLOOKUP(W626,'plan gier'!$Z:$AH,7,FALSE))=\"\",L626,VLOOKUP(W626,'plan gier'!$Z:$AH,9,FALSE)))","v":""}]
[null,null,null,null,null,null,null,null,null,null,null,null,null,null,null,null,null,null,null,{"$f":"UPPER(IF(N620=\"\",\"\",IF(TYPE(VLOOKUP(1&2&N620,I:K,3,FALSE))=2,VLOOKUP(1&2&N620,I:K,3,FALSE),\"\")))","v":""},null,{"$f":"IF(T628<>\"\",CONCATENATE(VLOOKUP(T628,zawodnicy!$A:$E,2,FALSE),\" \",VLOOKUP(T628,zawodnicy!$A:$E,3,FALSE),\" - \",VLOOKUP(T628,zawodnicy!$A:$E,4,FALSE)),\"\")","v":""}]

{"sheet":"drabinki","index":7,"n_rows":567,"n_cols":24,"rows_kept":567,"cut":false,"hidden":false,"merged":[[561,16,561,18],[479,21,479,22],[410,21,410,22],[409,21,409,22],[478,21,478,22],[0,16,0,23],[197,21,197,22],[198,21,198,22],[131,21,131,22],[132,21,132,22],[68,15,68,23],[67,16,67,23],[65,21,65,22],[66,21,66,22],[1,16,1,23],[2,15,2,23],[275,16,275,23],[343,21,343,22],[269,16,269,18],[277,15,277,23],[345,15,345,23],[344,16,344,23],[342,21,342,22],[276,16,276,23]]}
[null,null,null,null,null,null,null,null,null,null,null,null,null,null,null,null,"Gry pojedyncze"]
[]
["V",null,null,null,null,null,null,null,null,null,null,null,null,null,null,"Górna połówka"]
[null,null,null,null,null,null,null,null,null,null,null,64]
[]
[{"$f":"S6","v":0},{"$f":"IF(Q6=\"\",\"\",Q6)","v":""},null,{"$f":"IF(Q7=\"\",\"\",Q7)","v":""},null,{"$f":"IF(A6=0,IF(AND(LEN(B6)>0,LEN(D6)=0),VLOOKUP(B6,zawodnicy!$A:$E,1,FALSE),IF(AND(LEN(D6)>0,LEN(B6)=0),VLOOKUP(D6,zawodnicy!$A:$E,1,FALSE),\"\")),IF((VLOOKUP(A6,'plan gier'!$Z:$AH,7,FALSE))=\"\",\"\",VLOOKUP(VLOOKUP(A6,'plan gier'!$Z:$AH,7,FALSE),zawodnicy!$A:$E,1,FALSE)))","v":""},null,{"$f":"IF(A6=0,\"\",IF((VLOOKUP(A6,'plan gier'!$Z:$AH,7,FALSE))=\"\",\"\",VLOOKUP(A6,'plan gier'!$Z:$AH,9,FALSE)))","v":""},{"$f":"IF(A6=0,\"\",IF(VLOOKUP(A6,'plan gier'!A:T,20,FALSE)=\"\",\"\",VLOOKUP(A6,'plan gier'!A:T,20,FALSE)))","v":""},{"$f":"L5","v":0},{"$f":"IF(L4>32,1,\"\")","v":1},null,null,null,null,{"$f":"IF(K6=\"\",\"\",1)","v":1},{"$f":"UPPER(IF(P6=\"\",\"\",IF(ISTEXT(L6),L6,IF(AND(L3>0,P6>0),VLOOKUP(L3&P6&J6,'grup-puch'!I:J,2,FALSE),\"\"))))","v":""},{"$f":"IF(Q6<>\"\",CONCATENATE(VLOOKUP(Q6,zawodnicy!$A:$E,2,FALSE),\" \",VLOOKUP(Q6,zawodnicy!$A:$E,3,FALSE),\" - \",VLOOKUP(Q6,zawodnicy!$A:$E,4,FALSE)),\"\")","v":""},null,{"$f":"IF(F6=\"\",\"\",VLOOKUP(F6,zawodnicy!$A:$D,3,FALSE))","v":""}]
[null,null,null,null,null,null,null,null,null,null,{"$f":"IF(L4>63,2,\"\")","v":2},null,null,null,null,{"$f":"IF(K7=\"\",\"\",2)","v":2},{"$f":"UPPER(IF(P7=\"\",\"\",IF(ISTEXT(L7),L7,IF(AND(L3>0,P7>0),VLOOKUP(L3&P7&J6,'grup-puch'!I:J,2,FALSE),\"\"))))","v":""},{"$f":"IF(Q7<>\"\",CONCATENATE(VLOOKUP(Q7,zawodnicy!$A:$E,2,FALSE),\" \",VLOOKUP(Q7,zawodnicy!$A:$E,3,FALSE),\" - \",VLOOKUP(Q7,zawodnicy!$A:$E,4,FALSE)),\"\")","v":""},null,{"$f":"IF(H6=\"\",I6,H6)","v":""}]
[{"$f":"T8","v":0},{"$f":"F6","v":""},null,{"$f":"F10","v":""},null,{"$f":"IF(A8=0,IF(AND(LEN(B8)>0,LEN(D8)=0),B8,IF(AND(LEN(D8)>0,LEN(B8)=0),D8,\"\")),IF((VLOOKUP(A8,'plan gier'!$Z:$AH,7,FALSE))=\"\",\"\",VLOOKUP(VLOOKUP(A8,'plan gier'!$Z:$AH,7,FALSE),zawodnicy!$A:$E,1,FALSE)))","v":""},null,{"$f":"IF(A8=0,\"\",IF((VLOOKUP(A8,'plan gier'!$Z:$AH,7,FALSE))=\"\",\"\",VLOOKUP(A8,'plan gier'!$Z:$AH,9,FALSE)))","v":""},{"$f":"IF(A8=0,\"\",IF(VLOOKUP(A8,'plan gier'!A:T,20,FALSE)=\"\",\"\",VLOOKUP(A8,'plan gier'!A:T,20,FALSE)))","v":""},{"$f":"L5","v":0},null,null,null,null,null,null,null,null,null,null,{"$f":"IF(F8=\"\",\"\",VLOOKUP(F8,zawodnicy!$A:$D,3,FALSE))","v":""}]
[null,null,null,null,null,null,null,null,null,null,null,null,null,null,null,null,null,null,null,null,{"$f":"IF(H8=\"\",I8,H8)","v":""}]
[{"$f":"S10","v":0},{"$f":"IF(Q10=\"\",\"\",Q10)","v":""},null,{"$f":"IF(Q11=\"\",\"\",Q11)","v":""},null,{"$f":"IF(A10=0,IF(AND(LEN(B10)>0,LEN(D10)=0),VLOOKUP(B10,zawodnicy!$A:$E,1,FALSE),IF(AND(LEN(D10)>0,LEN(B10)=0),VLOOKUP(D10,zawodnicy!$A:$E,1,FALSE),\"\")),IF((VLOOKUP(A10,'plan gier'!$Z:$AH,7,FALSE))=\"\",\"\",VLOOKUP(VLOOKUP(A10,'plan gier'!$Z:$AH,7,FALSE),zawodnicy!$A:$E,1,FALSE)))","v":""},null,{"$f":"IF(A10=0,\"\",IF((VLOOKUP(A10,'plan gier'!$Z:$AH,7,FALSE))=\"\",\"\",VLOOKUP(A10,'plan gier'!$Z:$AH,9,FALSE)))","v":""},{"$f":"IF(A10=0,\"\",IF(VLOOKUP(A10,'plan gier'!A:T,20,FALSE)=\"\",\"\",VLOOKUP(A10,'plan gier'!A:T,20,FALSE)))","v":""},{"$f":"L5","v":0},{"$f":"IF(L4>32,3,\"\")","v":3},null,null,null,null,{"$f":"IF(K10=\"\",\"\",MAX(P6:P9)+1)","v":3},{"$f":"UPPER(IF(P10=\"\",\"\",IF(ISTEXT(L10),L10,IF(AND(L3>0,P10>0),VLOOKUP(L3&P10&J10,'grup-puch'!I:J,2,FALSE),\"\"))))","v":""},{"$f":"IF(Q10<>\"\",CONCATENATE(VLOOKUP(Q10,zawodnicy!$A:$E,2,FALSE),\" \",VLOOKUP(Q10,zawodnicy!$A:$E,3,FALSE),\" - \",VLOOKUP(Q10,zawodnicy!$A:$E,4,FALSE)),\"\")","v":""},null,{"$f":"IF(F10=\"\",\"\",VLOOKUP(F10,zawodnicy!$A:$D,3,FALSE))","v":""}]
[null,null,null,null,null,null,null,null,null,null,{"$f":"IF(L4>55,4,\"\")","v":4},null,null,null,null,{"$f":"IF(K11=\"\",\"\",MAX(P6:P10)+1)","v":4},{"$f":"UPPER(IF(P11=\"\",\"\",IF(ISTEXT(L11),L11,IF(AND(L3>0,P11>0),VLOOKUP(L3&P11&J10,'grup-puch'!I:J,2,FALSE),\"\"))))","v":""},{"$f":"IF(Q11<>\"\",CONCATENATE(VLOOKUP(Q11,zawodnicy!$A:$E,2,FALSE),\" \",VLOOKUP(Q11,zawodnicy!$A:$E,3,FALSE),\" - \",VLOOKUP(Q11,zawodnicy!$A:$E,4,FALSE)),\"\")","v":""},null,{"$f":"IF(H10=\"\",I10,H10)","v":""}]
[{"$f":"U12","v":0},{"$f":"F8","v":""},null,{"$f":"F16","v":""},null,{"$f":"IF(A12=0,IF(AND(LEN(B12)>0,LEN(D12)=0),B12,IF(AND(LEN(D12)>0,LEN(B12)=0),D12,\"\")),IF((VLOOKUP(A12,'plan gier'!$Z:$AH,7,FALSE))=\"\",\"\",VLOOKUP(VLOOKUP(A12,'plan gier'!$Z:$AH,7,FALSE),zawodnicy!$A:$E,1,FALSE)))","v":""},null,{"$f":"IF(A12=0,\"\",IF((VLOOKUP(A12,'plan gier'!$Z:$AH,7,FALSE))=\"\",\"\",VLOOKUP(A12,'plan gier'!$Z:$AH,9,FALSE)))","v":""},{"$f":"IF(A12=0,\"\",IF(VLOOKUP(A12,'plan gier'!A:T,20,FALSE)=\"\",\"\",VLOOKUP(A12,'plan gier'!A:T,20,FALSE)))","v":""},{"$f":"L5","v":0},null,null,null,null,null,null,null,null,null,null,null,{"$f":"IF(F12=\"\",\"\",VLOOKUP(F12,zawodnicy!$A:$D,3,FALSE))","v":""}]
[null,null,null,null,null,null,null,null,null,null,null,null,null,null,null,null,null,null,null,null,null,{"$f":"IF(H12=\"\",I12,H12)","v":""}]
[{"$f":"S14","v":0},{"$f":"IF(Q14=\"\",\"\",Q14)","v":""},null,{"$f":"IF(Q15=\"\",\"\",Q15)","v":""},null,{"$f":"IF(A14=0,IF(AND(LEN(B14)>0,LEN(D14)=0),VLOOKUP(B14,zawodnicy!$A:$E,1,FALSE),IF(AND(LEN(D14)>0,LEN(B14)=0),VLOOKUP(D14,zawodnicy!$A:$E,1,FALSE),\"\")),IF((VLOOKUP(A14,'plan gier'!$Z:$AH,7,FALSE))=\"\",\"\",VLOOKUP(VLOOKUP(A14,'plan gier'!$Z:$AH,7,FALSE),zawodnicy!$A:$E,1,FALSE)))","v":""},null,{"$f":"IF(A14=0,\"\",IF((VLOOKUP(A14,'plan gier'!$Z:$AH,7,FALSE))=\"\",\"\",VLOOKUP(A14,'plan gier'!$Z:$AH,9,FALSE)))","v":""},{"$f":"IF(A14=0,\"\",IF(VLOOKUP(A14,'plan gier'!A:T,20,FALSE)=\"\",\"\",VLOOKUP(A14,'plan gier'!A:T,20,FALSE)))","v":""},{"$f":"L5","v":0},{"$f":"IF(L4>32,5,\"\")","v":5},null,null,null,null,{"$f":"IF(K14=\"\",\"\",MAX(P6:P13)+1)","v":5},{"$f":"UPPER(IF(P14=\"\",\"\",IF(ISTEXT(L14),L14,IF(AND(L3>0,P14>0),VLOOKUP(L3&P14&J14,'grup-puch'!I:J,2,FALSE),\"\"))))","v":""},{"$f":"IF(Q14<>\"\",CONCATENATE(VLOOKUP(Q14,zawodnicy!$A:$E,2,FALSE),\" \",VLOOKUP(Q14,zawodnicy!$A:$E,3,FALSE),\" - \",VLOOKUP(Q14,zawodnicy!$A:$E,4,FALSE)),\"\")","v":""},null,{"$f":"IF(F14=\"\",\"\",VLOOKUP(F14,zawodnicy!$A:$D,3,FALSE))","v":""}]
[null,null,null,null,null,null,null,null,null,null,{"$f":"IF(L4>47,6,\"\")","v":6},null,null,null,null,{"$f":"IF(K15=\"\",\"\",MAX(P6:P14)+1)","v":6},{"$f":"UPPER(IF(P15=\"\",\"\",IF(ISTEXT(L15),L15,IF(AND(L3>0,P15>0),VLOOKUP(L3&P15&J14,'grup-puch'!I:J,2,FALSE),\"\"))))","v":""},{"$f":"IF(Q15<>\"\",CONCATENATE(VLOOKUP(Q15,zawodnicy!$A:$E,2,FALSE),\" \",VLOOKUP(Q15,zawodnicy!$A:$E,3,FALSE),\" - \",VLOOKUP(Q15,zawodnicy!$A:$E,4,FALSE)),\"\")","v":""},null,{"$f":"IF(H14=\"\",I14,H14)","v":""}]
[{"$f":"T16","v":0},{"$f":"F14","v":""},null,{"$f":"F18","v":""},null,{"$f":"IF(A16=0,IF(AND(LEN(B16)>0,LEN(D16)=0),B16,IF(AND(LEN(D16)>0,LEN(B16)=0),D16,\"\")),IF((VLOOKUP(A16,'plan gier'!$Z:$AH,7,FALSE))=\"\",\"\",VLOOKUP(VLOOKUP(A16,'plan gier'!$Z:$AH,7,FALSE),zawodnicy!$A:$E,1,FALSE)))","v":""},null,{"$f":"IF(A16=0,\"\",IF((VLOOKUP(A16,'plan gier'!$Z:$AH,7,FALSE))=\"\",\"\",VLOOKUP(A16,'plan gier'!$Z:$AH,9,FALSE)))","v":""},{"$f":"IF(A16=0,\"\",IF(VLOOKUP(A16,'plan gier'!A:T,20,FALSE)=\"\",\"\",VLOOKUP(A16,'plan gier'!A:T,20,FALSE)))","v":""},{"$f":"L5","v":0},null,null,null,null,null,{"$f":"IF(K16=\"\",\"\",MAX(P6:P15)+1)","v":""},null,null,null,null,{"$f":"IF(F16=\"\",\"\",VLOOKUP(F16,zawodnicy!$A:$D,3,FALSE))","v":""}]
[null,null,null,null,null,null,null,null,null,null,null,null,null,null,null,{"$f":"IF(K17=\"\",\"\",MAX(P6:P16)+1)","v":""},null,null,null,null,{"$f":"IF(H16=\"\",I16,H16)","v":""}]
[{"$f":"S18","v":0},{"$f":"IF(Q18=\"\",\"\",Q18)","v":""},null,{"$f":"IF(Q19=\"\",\"\",Q19)","v":""},null,{"$f":"IF(A18=0,IF(AND(LEN(B18)>0,LEN(D18)=0),VLOOKUP(B18,zawodnicy!$A:$E,1,FALSE),IF(AND(LEN(D18)>0,LEN(B18)=0),VLOOKUP(D18,zawodnicy!$A:$E,1,FALSE),\"\")),IF((VLOOKUP(A18,'plan gier'!$Z:$AH,7,FALSE))=\"\",\"\",VLOOKUP(VLOOKUP(A18,'plan gier'!$Z:$AH,7,FALSE),zawodnicy!$A:$E,1,FALSE)))","v":""},null,{"$f":"IF(A18=0,\"\",IF((VLOOKUP(A18,'plan gier'!$Z:$AH,7,FALSE))=\"\",\"\",VLOOKUP(A18,'plan gier'!$Z:$AH,9,FALSE)))","v":""},{"$f":"IF(A18=0,\"\",IF(VLOOKUP(A18,'plan gier'!A:T,20,FALSE)=\"\",\"\",VLOOKUP(A18,'plan gier'!A:T,20,FALSE)))","v":""},{"$f":"L5","v":0},{"$f":"IF(L4>32,7,\"\")","v":7},null,null,null,null,{"$f":"IF(K18=\"\",\"\",MAX(P6:P17)+1)","v":7},{"$f":"UPPER(IF(P18=\"\",\"\",IF(ISTEXT(L18),L18,IF(AND(L3>0,P18>0),VLOOKUP(L3&P18&J18,'grup-puch'!I:J,2,FALSE),\"\"))))","v":""},{"$f":"IF(Q18<>\"\",CONCATENATE(VLOOKUP(Q18,zawodnicy!$A:$E,2,FALSE),\" \",VLOOKUP(Q18,zawodnicy!$A:$E,3,FALSE),\" - \",VLOOKUP(Q18,zawodnicy!$A:$E,4,FALSE)),\"\")","v":""},null,{"$f":"IF(F18=\"\",\"\",VLOOKUP(F18,zawodnicy!$A:$D,3,FALSE))","v":""}]
[null,null,null,null,null,null,null,null,null,null,{"$f":"IF(L4>39,8,\"\")","v":8},null,null,null,null,{"$f":"IF(K19=\"\",\"\",MAX(P6:P18)+1)","v":8},{"$f":"UPPER(IF(P19=\"\",\"\",IF(ISTEXT(L19),L19,IF(AND(L3>0,P19>0),VLOOKUP(L3&P19&J18,'grup-puch'!I:J,2,FALSE),\"\"))))","v":""},{"$f":"IF(Q19<>\"\",CONCATENATE(VLOOKUP(Q19,zawodnicy!$A:$E,2,FALSE),\" \",VLOOKUP(Q19,zawodnicy!$A:$E,3,FALSE),\" - \",VLOOKUP(Q19,zawodnicy!$A:$E,4,FALSE)),\"\")","v":""},null,{"$f":"IF(H18=\"\",I18,H18)","v":""}]
[{"$f":"V20","v":0},{"$f":"F12","v":""},null,{"$f":"F28","v":""},null,{"$f":"IF(A20=0,IF(AND(LEN(B20)>0,LEN(D20)=0),B20,IF(AND(LEN(D20)>0,LEN(B20)=0),D20,\"\")),IF((VLOOKUP(A20,'plan gier'!$Z:$AH,7,FALSE))=\"\",\"\",VLOOKUP(VLOOKUP(A20,'plan gier'!$Z:$AH,7,FALSE),zawodnicy!$A:$E,1,FALSE)))","v":""},null,{"$f":"IF(A20=0,\"\",IF((VLOOKUP(A20,'plan gier'!$Z:$AH,7,FALSE))=\"\",\"\",VLOOKUP(A20,'plan gier'!$Z:$AH,9,FALSE)))","v":""},{"$f":"IF(A20=0,\"\",IF(VLOOKUP(A20,'plan gier'!A:T,20,FALSE)=\"\",\"\",VLOOKUP(A20,'plan gier'!A:T,20,FALSE)))","v":""},{"$f":"L5","v":0},null,null,null,null,null,{"$f":"IF(K20=\"\",\"\",MAX(P6:P19)+1)","v":""},null,null,null,null,null,null,{"$f":"IF(F20=\"\",\"\",VLOOKUP(F20,zawodnicy!$A:$D,3,FALSE))","v":""}]
[null,null,null,null,null,null,null,null,null,null,null,null,null,null,null,{"$f":"IF(K21=\"\",\"\",MAX(P6:P20)+1)","v":""},null,null,null,null,null,null,{"$f":"IF(H20=\"\",I20,H20)","v":""}]
[{"$f":"S22","v":0},{"$f":"IF(Q22=\"\",\"\",Q22)","v":""},null,{"$f":"IF(Q23=\"\",\"\",Q23)","v":""},null,{"$f":"IF(A22=0,IF(AND(LEN(B22)>0,LEN(D22)=0),VLOOKUP(B22,zawodnicy!$A:$E,1,FALSE),IF(AND(LEN(D22)>0,LEN(B22)=0),VLOOKUP(D22,zawodnicy!$A:$E,1,FALSE),\"\")),IF((VLOOKUP(A22,'plan gier'!$Z:$AH,7,FALSE))=\"\",\"\",VLOOKUP(VLOOKUP(A22,'plan gier'!$Z:$AH,7,FALSE),zawodnicy!$A:$E,1,FALSE)))","v":""},null,{"$f":"IF(A22=0,\"\",IF((VLOOKUP(A22,'plan gier'!$Z:$AH,7,FALSE))=\"\",\"\",VLOOKUP(A22,'plan gier'!$Z:$AH,9,FALSE)))","v":""},{"$f":"IF(A22=0,\"\",IF(VLOOKUP(A22,'plan gier'!A:T,20,FALSE)=\"\",\"\",VLOOKUP(A22,'plan gier'!A:T,20,FALSE)))","v":""},{"$f":"L5","v":0},{"$f":"IF(L4>32,9,\"\")","v":9},null,null,null,null,{"$f":"IF(K22=\"\",\"\",MAX(P6:P21)+1)","v":9},{"$f":"UPPER(IF(P22=\"\",\"\",IF(ISTEXT(L22),L22,IF(AND(L3>0,P22>0),VLOOKUP(L3&P22&J22,'grup-puch'!I:J,2,FALSE),\"\"))))","v":""},{"$f":"IF(Q22<>\"\",CONCATENATE(VLOOKUP(Q22,zawodnicy!$A:$E,2,FALSE),\" \",VLOOKUP(Q22,zawodnicy!$A:$E,3,FALSE),\" - \",VLOOKUP(Q22,zawodnicy!$A:$E,4,FALSE)),\"\")","v":""},null,{"$f":"IF(F22=\"\",\"\",VLOOKUP(F22,zawodnicy!$A:$D,3,FALSE))","v":""}]
[null,null,null,null,null,null,null,null,null,null,{"$f":"IF(L4>59,10,\"\")","v":10},null,null,null,null,{"$f":"IF(K23=\"\",\"\",MAX(P6:P22)+1)","v":10},{"$f":"UPPER(IF(P23=\"\",\"\",IF(ISTEXT(L23),L23,IF(AND(L3>0,P23>0),VLOOKUP(L3&P23&J22,'grup-puch'!I:J,2,FALSE),\"\"))))","v":""},{"$f":"IF(Q23<>\"\",CONCATENATE(VLOOKUP(Q23,zawodnicy!$A:$E,2,FALSE),\" \",VLOOKUP(Q23,zawodnicy!$A:$E,3,FALSE),\" - \",VLOOKUP(Q23,zawodnicy!$A:$E,4,FALSE)),\"\")","v":""},null,{"$f":"IF(H22=\"\",I22,H22)","v":""}]
[{"$f":"T24","v":0},{"$f":"F22","v":""},null,{"$f":"F26","v":""},null,{"$f":"IF(A24=0,IF(AND(LEN(B24)>0,LEN(D24)=0),B24,IF(AND(LEN(D24)>0,LEN(B24)=0),D24,\"\")),IF((VLOOKUP(A24,'plan gier'!$Z:$AH,7,FALSE))=\"\",\"\",VLOOKUP(VLOOKUP(A24,'plan gier'!$Z:$AH,7,FALSE),zawodnicy!$A:$E,1,FALSE)))","v":""},null,{"$f":"IF(A24=0,\"\",IF((VLOOKUP(A24,'plan gier'!$Z:$AH,7,FALSE))=\"\",\"\",VLOOKUP(A24,'plan gier'!$Z:$AH,9,FALSE)))","v":""},{"$f":"IF(A24=0,\"\",IF(VLOOKUP(A24,'plan gier'!A:T,20,FALSE)=\"\",\"\",VLOOKUP(A24,'plan gier'!A:T,20,FALSE)))","v":""},{"$f":"L5","v":0},null,null,null,null,null,{"$f":"IF(K24=\"\",\"\",MAX(P6:P23)+1)","v":""},null,null,null,null,{"$f":"IF(F24=\"\",\"\",VLOOKUP(F24,zawodnicy!$A:$D,3,FALSE))","v":""}]
[null,null,null,null,null,null,null,null,null,null,null,null,null,null,null,{"$f":"IF(K25=\"\",\"\",MAX(P6:P24)+1)","v":""},null,null,null,null,{"$f":"IF(H24=\"\",I24,H24)","v":""}]
[{"$f":"S26","v":0},{"$f":"IF(Q26=\"\",\"\",Q26)","v":""},null,{"$f":"IF(Q27=\"\",\"\",Q27)","v":""},null,{"$f":"IF(A26=0,IF(AND(LEN(B26)>0,LEN(D26)=0),VLOOKUP(B26,zawodnicy!$A:$E,1,FALSE),IF(AND(LEN(D26)>0,LEN(B26)=0),VLOOKUP(D26,zawodnicy!$A:$E,1,FALSE),\"\")),IF((VLOOKUP(A26,'plan gier'!$Z:$AH,7,FALSE))=\"\",\"\",VLOOKUP(VLOOKUP(A26,'plan gier'!$Z:$AH,7,FALSE),zawodnicy!$A:$E,1,FALSE)))","v":""},null,{"$f":"IF(A26=0,\"\",IF((VLOOKUP(A26,'plan gier'!$Z:$AH,7,FALSE))=\"\",\"\",VLOOKUP(A26,'plan gier'!$Z:$AH,9,FALSE)))","v":""},{"$f":"IF(A26=0,\"\",IF(VLOOKUP(A26,'plan gier'!A:T,20,FALSE)=\"\",\"\",VLOOKUP(A26,'plan gier'!A:T,20,FALSE)))","v":""},{"$f":"L5","v":0},{"$f":"IF(L4>32,11,\"\")","v":11},null,null,null,null,{"$f":"IF(K26=\"\",\"\",MAX(P6:P25)+1)","v":11},{"$f":"UPPER(IF(P26=\"\",\"\",IF(ISTEXT(L26),L26,IF(AND(L3>0,P26>0),VLOOKUP(L3&P26&J26,'grup-puch'!I:J,2,FALSE),\"\"))))","v":""},{"$f":"IF(Q26<>\"\",CONCATENATE(VLOOKUP(Q26,zawodnicy!$A:$E,2,FALSE),\" \",VLOOKUP(Q26,zawodnicy!$A:$E,3,FALSE),\" - \",VLOOKUP(Q26,zawodnicy!$A:$E,4,FALSE)),\"\")","v":""},null,{"$f":"IF(F26=\"\",\"\",VLOOKUP(F26,zawodnicy!$A:$D,3,FALSE))","v":""}]
[null,null,null,null,null,null,null,null,null,null,{"$f":"IF(L4>51,12,\"\")","v":12},null,null,null,null,{"$f":"IF(K27=\"\",\"\",MAX(P6:P26)+1)","v":12},{"$f":"UPPER(IF(P27=\"\",\"\",IF(ISTEXT(L27),L27,IF(AND(L3>0,P27>0),VLOOKUP(L3&P27&J26,'grup-puch'!I:J,2,FALSE),\"\"))))","v":""},{"$f":"IF(Q27<>\"\",CONCATENATE(VLOOKUP(Q27,zawodnicy!$A:$E,2,FALSE),\" \",VLOOKUP(Q27,zawodnicy!$A:$E,3,FALSE),\" - \",VLOOKUP(Q27,zawodnicy!$A:$E,4,FALSE)),\"\")","v":""},null,{"$f":"IF(H26=\"\",I26,H26)","v":""}]
[{"$f":"U28","v":0},{"$f":"F24","v":""},null,{"$f":"F32","v":""},null,{"$f":"IF(A28=0,IF(AND(LEN(B28)>0,LEN(D28)=0),B28,IF(AND(LEN(D28)>0,LEN(B28)=0),D28,\"\")),IF((VLOOKUP(A28,'plan gier'!$Z:$AH,7,FALSE))=\"\",\"\",VLOOKUP(VLOOKUP(A28,'plan gier'!$Z:$AH,7,FALSE),zawodnicy!$A:$E,1,FALSE)))","v":""},null,{"$f":"IF(A28=0,\"\",IF((VLOOKUP(A28,'plan gier'!$Z:$AH,7,FALSE))=\"\",\"\",VLOOKUP(A28,'plan gier'!$Z:$AH,9,FALSE)))","v":""},{"$f":"IF(A28=0,\"\",IF(VLOOKUP(A28,'plan gier'!A:T,20,FALSE)=\"\",\"\",VLOOKUP(A28,'plan gier'!A:T,20,FALSE)))","v":""},{"$f":"L5","v":0},null,null,null,null,null,{"$f":"IF(K28=\"\",\"\",MAX(P6:P27)+1)","v":""},null,null,null,null,null,{"$f":"IF(F28=\"\",\"\",VLOOKUP(F28,zawodnicy!$A:$D,3,FALSE))","v":""}]
[null,null,null,null,null,null,null,null,null,null,null,null,null,null,null,{"$f":"IF(K29=\"\",\"\",MAX(P6:P28)+1)","v":""},null,null,null,null,null,{"$f":"IF(H28=\"\",I28,H28)","v":""}]
[{"$f":"S30","v":0},{"$f":"IF(Q30=\"\",\"\",Q30)","v":""},null,{"$f":"IF(Q31=\"\",\"\",Q31)","v":""},null,{"$f":"IF(A30=0,IF(AND(LEN(B30)>0,LEN(D30)=0),VLOOKUP(B30,zawodnicy!$A:$E,1,FALSE),IF(AND(LEN(D30)>0,LEN(B30)=0),VLOOKUP(D30,zawodnicy!$A:$E,1,FALSE),\"\")),IF((VLOOKUP(A30,'plan gier'!$Z:$AH,7,FALSE))=\"\",\"\",VLOOKUP(VLOOKUP(A30,'plan gier'!$Z:$AH,7,FALSE),zawodnicy!$A:$E,1,FALSE)))","v":""},null,{"$f":"IF(A30=0,\"\",IF((VLOOKUP(A30,'plan gier'!$Z:$AH,7,FALSE))=\"\",\"\",VLOOKUP(A30,'plan gier'!$Z:$AH,9,FALSE)))","v":""},{"$f":"IF(A30=0,\"\",IF(VLOOKUP(A30,'plan gier'!A:T,20,FALSE)=\"\",\"\",VLOOKUP(A30,'plan gier'!A:T,20,FALSE)))","v":""},{"$f":"L5","v":0},{"$f":"IF(L4>32,13,\"\")","v":13},null,null,null,null,{"$f":"IF(K30=\"\",\"\",MAX(P6:P29)+1)","v":13},{"$f":"UPPER(IF(P30=\"\",\"\",IF(ISTEXT(L30),L30,IF(AND(L3>0,P30>0),VLOOKUP(L3&P30&J30,'grup-puch'!I:J,2,FALSE),\"\"))))","v":""},{"$f":"IF(Q30<>\"\",CONCATENATE(VLOOKUP(Q30,zawodnicy!$A:$E,2,FALSE),\" \",VLOOKUP(Q30,zawodnicy!$A:$E,3,FALSE),\" - \",VLOOKUP(Q30,zawodnicy!$A:$E,4,FALSE)),\"\")","v":""},null,{"$f":"IF(F30=\"\",\"\",VLOOKUP(F30,zawodnicy!$A:$D,3,FALSE))","v":""}]
[null,null,null,null,null,null,null,null,null,null,{"$f":"IF(L4>43,14,\"\")","v":14},null,null,null,null,{"$f":"IF(K31=\"\",\"\",MAX(P6:P30)+1)","v":14},{"$f":"UPPER(IF(P31=\"\",\"\",IF(ISTEXT(L31),L31,IF(AND(L3>0,P31>0),VLOOKUP(L3&P31&J30,'grup-puch'!I:J,2,FALSE),\"\"))))","v":""},{"$f":"IF(Q31<>\"\",CONCATENATE(VLOOKUP(Q31,zawodnicy!$A:$E,2,FALSE),\" \",VLOOKUP(Q31,zawodnicy!$A:$E,3,FALSE),\" - \",VLOOKUP(Q31,zawodnicy!$A:$E,4,FALSE)),\"\")","v":""},null,{"$f":"IF(H30=\"\",I30,H30)","v":""}]
[{"$f":"T32","v":0},{"$f":"F30","v":""},null,{"$f":"F34","v":""},null,{"$f":"IF(A32=0,IF(AND(LEN(B32)>0,LEN(D32)=0),B32,IF(AND(LEN(D32)>0,LEN(B32)=0),D32,\"\")),IF((VLOOKUP(A32,'plan gier'!$Z:$AH,7,FALSE))=\"\",\"\",VLOOKUP(VLOOKUP(A32,'plan gier'!$Z:$AH,7,FALSE),zawodnicy!$A:$E,1,FALSE)))","v":""},null,{"$f":"IF(A32=0,\"\",IF((VLOOKUP(A32,'plan gier'!$Z:$AH,7,FALSE))=\"\",\"\",VLOOKUP(A32,'plan gier'!$Z:$AH,9,FALSE)))","v":""},{"$f":"IF(A32=0,\"\",IF(VLOOKUP(A32,'plan gier'!A:T,20,FALSE)=\"\",\"\",VLOOKUP(A32,'plan gier'!A:T,20,FALSE)))","v":""},{"$f":"L5","v":0},null,null,null,null,null,{"$f":"IF(K32=\"\",\"\",MAX(P6:P31)+1)","v":""},null,null,null,null,{"$f":"IF(F32=\"\",\"\",VLOOKUP(F32,zawodnicy!$A:$D,3,FALSE))","v":""}]
[null,null,null,null,null,null,null,null,null,null,null,null,null,null,null,{"$f":"IF(K33=\"\",\"\",MAX(P6:P32)+1)","v":""},null,null,null,null,{"$f":"IF(H32=\"\",I32,H32)","v":""}]
[{"$f":"S34","v":0},{"$f":"IF(Q34=\"\",\"\",Q34)","v":""},null,{"$f":"IF(Q35=\"\",\"\",Q35)","v":""},null,{"$f":"IF(A34=0,IF(AND(LEN(B34)>0,LEN(D34)=0),VLOOKUP(B34,zawodnicy!$A:$E,1,FALSE),IF(AND(LEN(D34)>0,LEN(B34)=0),VLOOKUP(D34,zawodnicy!$A:$E,1,FALSE),\"\")),IF((VLOOKUP(A34,'plan gier'!$Z:$AH,7,FALSE))=\"\",\"\",VLOOKUP(VLOOKUP(A34,'plan gier'!$Z:$AH,7,FALSE),zawodnicy!$A:$E,1,FALSE)))","v":""},null,{"$f":"IF(A34=0,\"\",IF((VLOOKUP(A34,'plan gier'!$Z:$AH,7,FALSE))=\"\",\"\",VLOOKUP(A34,'plan gier'!$Z:$AH,9,FALSE)))","v":""},{"$f":"IF(A34=0,\"\",IF(VLOOKUP(A34,'plan gier'!A:T,20,FALSE)=\"\",\"\",VLOOKUP(A34,'plan gier'!A:T,20,FALSE)))","v":""},{"$f":"L5","v":0},{"$f":"IF(L4>32,15,\"\")","v":15},null,null,null,null,{"$f":"IF(K34=\"\",\"\",MAX(P6:P33)+1)","v":15},{"$f":"UPPER(IF(P34=\"\",\"\",IF(ISTEXT(L34),L34,IF(AND(L3>0,P34>0),VLOOKUP(L3&P34&J34,'grup-puch'!I:J,2,FALSE),\"\"))))","v":""},{"$f":"IF(Q34<>\"\",CONCATENATE(VLOOKUP(Q34,zawodnicy!$A:$E,2,FALSE),\" \",VLOOKUP(Q34,zawodnicy!$A:$E,3,FALSE),\" - \",VLOOKUP(Q34,zawodnicy!$A:$E,4,FALSE)),\"\")","v":""},null,{"$f":"IF(F34=\"\",\"\",VLOOKUP(F34,zawodnicy!$A:$D,3,FALSE))","v":""}]
[null,null,null,null,null,null,null,null,null,null,{"$f":"IF(L4>35,16,\"\")","v":16},null,null,null,null,{"$f":"IF(K35=\"\",\"\",MAX(P6:P34)+1)","v":16},{"$f":"UPPER(IF(P35=\"\",\"\",IF(ISTEXT(L35),L35,IF(AND(L3>0,P35>0),VLOOKUP(L3&P35&J34,'grup-puch'!I:J,2,FALSE),\"\"))))","v":""},{"$f":"IF(Q35<>\"\",CONCATENATE(VLOOKUP(Q35,zawodnicy!$A:$E,2,FALSE),\" \",VLOOKUP(Q35,zawodnicy!$A:$E,3,FALSE),\" - \",VLOOKUP(Q35,zawodnicy!$A:$E,4,FALSE)),\"\")","v":""},null,{"$f":"IF(H34=\"\",I34,H34)","v":""}]
[{"$f":"W36","v":0},{"$f":"F20","v":""},null,{"$f":"F52","v":""},null,{"$f":"IF(A36=0,IF(AND(LEN(B36)>0,LEN(D36)=0),B36,IF(AND(LEN(D36)>0,LEN(B36)=0),D36,\"\")),IF((VLOOKUP(A36,'plan gier'!$Z:$AH,7,FALSE))=\"\",\"\",VLOOKUP(VLOOKUP(A36,'plan gier'!$Z:$AH,7,FALSE),zawodnicy!$A:$E,1,FALSE)))","v":""},null,{"$f":"IF(A36=0,\"\",IF((VLOOKUP(A36,'plan gier'!$Z:$AH,7,FALSE))=\"\",\"\",VLOOKUP(A36,'plan gier'!$Z:$AH,9,FALSE)))","v":""},{"$f":"IF(A36=0,\"\",IF(VLOOKUP(A36,'plan gier'!A:T,20,FALSE)=\"\",\"\",VLOOKUP(A36,'plan gier'!A:T,20,FALSE)))","v":""},{"$f":"L5","v":0},null,null,null,null,null,{"$f":"IF(K36=\"\",\"\",MAX(P6:P35)+1)","v":""},null,null,null,null,null,null,null,{"$f":"IF(F36=\"\",\"\",VLOOKUP(F36,zawodnicy!$A:$D,3,FALSE))","v":""}]
[null,null,null,null,null,null,null,null,null,null,null,null,null,null,null,{"$f":"IF(K37=\"\",\"\",MAX(P6:P36)+1)","v":""},null,null,null,null,null,null,null,{"$f":"IF(H36=\"\",I36,H36)","v":""}]
[{"$f":"S38","v":0},{"$f":"IF(Q38=\"\",\"\",Q38)","v":""},null,{"$f":"IF(Q39=\"\",\"\",Q39)","v":""},null,{"$f":"IF(A38=0,IF(AND(LEN(B38)>0,LEN(D38)=0),VLOOKUP(B38,zawodnicy!$A:$E,1,FALSE),IF(AND(LEN(D38)>0,LEN(B38)=0),VLOOKUP(D38,zawodnicy!$A:$E,1,FALSE),\"\")),IF((VLOOKUP(A38,'plan gier'!$Z:$AH,7,FALSE))=\"\",\"\",VLOOKUP(VLOOKUP(A38,'plan gier'!$Z:$AH,7,FALSE),zawodnicy!$A:$E,1,FALSE)))","v":""},null,{"$f":"IF(A38=0,\"\",IF((VLOOKUP(A38,'plan gier'!$Z:$AH,7,FALSE))=\"\",\"\",VLOOKUP(A38,'plan gier'!$Z:$AH,9,FALSE)))","v":""},{"$f":"IF(A38=0,\"\",IF(VLOOKUP(A38,'plan gier'!A:T,20,FALSE)=\"\",\"\",VLOOKUP(A38,'plan gier'!A:T,20,FALSE)))","v":""},{"$f":"L5","v":0},{"$f":"IF(L4>32,17,\"\")","v":17},null,null,null,null,{"$f":"IF(K38=\"\",\"\",MAX(P6:P37)+1)","v":17},{"$f":"UPPER(IF(P38=\"\",\"\",IF(ISTEXT(L38),L38,IF(AND(L3>0,P38>0),VLOOKUP(L3&P38&J38,'grup-puch'!I:J,2,FALSE),\"\"))))","v":""},{"$f":"IF(Q38<>\"\",CONCATENATE(VLOOKUP(Q38,zawodnicy!$A:$E,2,FALSE),\" \",VLOOKUP(Q38,zawodnicy!$A:$E,3,FALSE),\" - \",VLOOKUP(Q38,zawodnicy!$A:$E,4,FALSE)),\"\")","v":""},null,{"$f":"IF(F38=\"\",\"\",VLOOKUP(F38,zawodnicy!$A:$D,3,FALSE))","v":""}]
[null,null,null,null,null,null,null,null,null,null,{"$f":"IF(L4>61,18,\"\")","v":18},null,null,null,null,{"$f":"IF(K39=\"\",\"\",MAX(P6:P38)+1)","v":18},{"$f":"UPPER(IF(P39=\"\",\"\",IF(ISTEXT(L39),L39,IF(AND(L3>0,P39>0),VLOOKUP(L3&P39&J38,'grup-puch'!I:J,2,FALSE),\"\"))))","v":""},{"$f":"IF(Q39<>\"\",CONCATENATE(VLOOKUP(Q39,zawodnicy!$A:$E,2,FALSE),\" \",VLOOKUP(Q39,zawodnicy!$A:$E,3,FALSE),\" - \",VLOOKUP(Q39,zawodnicy!$A:$E,4,FALSE)),\"\")","v":""},null,{"$f":"IF(H38=\"\",I38,H38)","v":""}]
[{"$f":"T40","v":0},{"$f":"F38","v":""},null,{"$f":"F42","v":""},null,{"$f":"IF(A40=0,IF(AND(LEN(B40)>0,LEN(D40)=0),B40,IF(AND(LEN(D40)>0,LEN(B40)=0),D40,\"\")),IF((VLOOKUP(A40,'plan gier'!$Z:$AH,7,FALSE))=\"\",\"\",VLOOKUP(VLOOKUP(A40,'plan gier'!$Z:$AH,7,FALSE),zawodnicy!$A:$E,1,FALSE)))","v":""},null,{"$f":"IF(A40=0,\"\",IF((VLOOKUP(A40,'plan gier'!$Z:$AH,7,FALSE))=\"\",\"\",VLOOKUP(A40,'plan gier'!$Z:$AH,9,FALSE)))","v":""},{"$f":"IF(A40=0,\"\",IF(VLOOKUP(A40,'plan gier'!A:T,20,FALSE)=\"\",\"\",VLOOKUP(A40,'plan gier'!A:T,20,FALSE)))","v":""},{"$f":"L5","v":0},null,null,null,null,null,{"$f":"IF(K40=\"\",\"\",MAX(P6:P39)+1)","v":""},null,null,null,null,{"$f":"IF(F40=\"\",\"\",VLOOKUP(F40,zawodnicy!$A:$D,3,FALSE))","v":""}]
[null,null,null,null,null,null,null,null,null,null,null,null,null,null,null,{"$f":"IF(K41=\"\",\"\",MAX(P6:P40)+1)","v":""},null,null,null,null,{"$f":"IF(H40=\"\",I40,H40)","v":""}]
[{"$f":"S42","v":0},{"$f":"IF(Q42=\"\",\"\",Q42)","v":""},null,{"$f":"IF(Q43=\"\",\"\",Q43)","v":""},null,{"$f":"IF(A42=0,IF(AND(LEN(B42)>0,LEN(D42)=0),VLOOKUP(B42,zawodnicy!$A:$E,1,FALSE),IF(AND(LEN(D42)>0,LEN(B42)=0),VLOOKUP(D42,zawodnicy!$A:$E,1,FALSE),\"\")),IF((VLOOKUP(A42,'plan gier'!$Z:$AH,7,FALSE))=\"\",\"\",VLOOKUP(VLOOKUP(A42,'plan gier'!$Z:$AH,7,FALSE),zawodnicy!$A:$E,1,FALSE)))","v":""},null,{"$f":"IF(A42=0,\"\",IF((VLOOKUP(A42,'plan gier'!$Z:$AH,7,FALSE))=\"\",\"\",VLOOKUP(A42,'plan gier'!$Z:$AH,9,FALSE)))","v":""},{"$f":"IF(A42=0,\"\",IF(VLOOKUP(A42,'plan gier'!A:T,20,FALSE)=\"\",\"\",VLOOKUP(A42,'plan gier'!A:T,20,FALSE)))","v":""},{"$f":"L5","v":0},{"$f":"IF(L4>32,19,\"\")","v":19},null,null,null,null,{"$f":"IF(K42=\"\",\"\",MAX(P6:P41)+1)","v":19},{"$f":"UPPER(IF(P42=\"\",\"\",IF(ISTEXT(L42),L42,IF(AND(L3>0,P42>0),VLOOKUP(L3&P42&J42,'grup-puch'!I:J,2,FALSE),\"\"))))","v":""},{"$f":"IF(Q42<>\"\",CONCATENATE(VLOOKUP(Q42,zawodnicy!$A:$E,2,FALSE),\" \",VLOOKUP(Q42,zawodnicy!$A:$E,3,FALSE),\" - \",VLOOKUP(Q42,zawodnicy!$A:$E,4,FALSE)),\"\")","v":""},null,{"$f":"IF(F42=\"\",\"\",VLOOKUP(F42,zawodnicy!$A:$D,3,FALSE))","v":""}]
[null,null,null,null,null,null,null,null,null,null,{"$f":"IF(L4>53,20,\"\")","v":20},null,null,null,null,{"$f":"IF(K43=\"\",\"\",MAX(P6:P42)+1)","v":20},{"$f":"UPPER(IF(P43=\"\",\"\",IF(ISTEXT(L43),L43,IF(AND(L3>0,P43>0),VLOOKUP(L3&P43&J42,'grup-puch'!I:J,2,FALSE),\"\"))))","v":""},{"$f":"IF(Q43<>\"\",CONCATENATE(VLOOKUP(Q43,zawodnicy!$A:$E,2,FALSE),\" \",VLOOKUP(Q43,zawodnicy!$A:$E,3,FALSE),\" - \",VLOOKUP(Q43,zawodnicy!$A:$E,4,FALSE)),\"\")","v":""},null,{"$f":"IF(H42=\"\",I42,H42)","v":""}]
[{"$f":"U44","v":0},{"$f":"F40","v":""},null,{"$f":"F48","v":""},null,{"$f":"IF(A44=0,IF(AND(LEN(B44)>0,LEN(D44)=0),B44,IF(AND(LEN(D44)>0,LEN(B44)=0),D44,\"\")),IF((VLOOKUP(A44,'plan gier'!$Z:$AH,7,FALSE))=\"\",\"\",VLOOKUP(VLOOKUP(A44,'plan gier'!$Z:$AH,7,FALSE),zawodnicy!$A:$E,1,FALSE)))","v":""},null,{"$f":"IF(A44=0,\"\",IF((VLOOKUP(A44,'plan gier'!$Z:$AH,7,FALSE))=\"\",\"\",VLOOKUP(A44,'plan gier'!$Z:$AH,9,FALSE)))","v":""},{"$f":"IF(A44=0,\"\",IF(VLOOKUP(A44,'plan gier'!A:T,20,FALSE)=\"\",\"\",VLOOKUP(A44,'plan gier'!A:T,20,FALSE)))","v":""},{"$f":"L5","v":0},null,null,null,null,null,{"$f":"IF(K44=\"\",\"\",MAX(P6:P43)+1)","v":""},null,null,null,null,null,{"$f":"IF(F44=\"\",\"\",VLOOKUP(F44,zawodnicy!$A:$D,3,FALSE))","v":""}]
[null,null,null,null,null,null,null,null,null,null,null,null,null,null,null,{"$f":"IF(K45=\"\",\"\",MAX(P6:P44)+1)","v":""},null,null,null,null,null,{"$f":"IF(H44=\"\",I44,H44)","v":""}]
[{"$f":"S46","v":0},{"$f":"IF(Q46=\"\",\"\",Q46)","v":""},null,{"$f":"IF(Q47=\"\",\"\",Q47)","v":""},null,{"$f":"IF(A46=0,IF(AND(LEN(B46)>0,LEN(D46)=0),VLOOKUP(B46,zawodnicy!$A:$E,1,FALSE),IF(AND(LEN(D46)>0,LEN(B46)=0),VLOOKUP(D46,zawodnicy!$A:$E,1,FALSE),\"\")),IF((VLOOKUP(A46,'plan gier'!$Z:$AH,7,FALSE))=\"\",\"\",VLOOKUP(VLOOKUP(A46,'plan gier'!$Z:$AH,7,FALSE),zawodnicy!$A:$E,1,FALSE)))","v":""},null,{"$f":"IF(A46=0,\"\",IF((VLOOKUP(A46,'plan gier'!$Z:$AH,7,FALSE))=\"\",\"\",VLOOKUP(A46,'plan gier'!$Z:$AH,9,FALSE)))","v":""},{"$f":"IF(A46=0,\"\",IF(VLOOKUP(A46,'plan gier'!A:T,20,FALSE)=\"\",\"\",VLOOKUP(A46,'plan gier'!A:T,20,FALSE)))","v":""},{"$f":"L5","v":0},{"$f":"IF(L4>32,21,\"\")","v":21},null,null,null,null,{"$f":"IF(K46=\"\",\"\",MAX(P6:P45)+1)","v":21},{"$f":"UPPER(IF(P46=\"\",\"\",IF(ISTEXT(L46),L46,IF(AND(L3>0,P46>0),VLOOKUP(L3&P46&J46,'grup-puch'!I:J,2,FALSE),\"\"))))","v":""},{"$f":"IF(Q46<>\"\",CONCATENATE(VLOOKUP(Q46,zawodnicy!$A:$E,2,FALSE),\" \",VLOOKUP(Q46,zawodnicy!$A:$E,3,FALSE),\" - \",VLOOKUP(Q46,zawodnicy!$A:$E,4,FALSE)),\"\")","v":""},null,{"$f":"IF(F46=\"\",\"\",VLOOKUP(F46,zawodnicy!$A:$D,3,FALSE))","v":""}]
[null,null,null,null,null,null,null,null,null,null,{"$f":"IF(L4>45,22,\"\")","v":22},null,null,null,null,{"$f":"IF(K47=\"\",\"\",MAX(P6:P46)+1)","v":22},{"$f":"UPPER(IF(P47=\"\",\"\",IF(ISTEXT(L47),L47,IF(AND(L3>0,P47>0),VLOOKUP(L3&P47&J46,'grup-puch'!I:J,2,FALSE),\"\"))))","v":""},{"$f":"IF(Q47<>\"\",CONCATENATE(VLOOKUP(Q47,zawodnicy!$A:$E,2,FALSE),\" \",VLOOKUP(Q47,zawodnicy!$A:$E,3,FALSE),\" - \",VLOOKUP(Q47,zawodnicy!$A:$E,4,FALSE)),\"\")","v":""},null,{"$f":"IF(H46=\"\",I46,H46)","v":""}]
[{"$f":"T48","v":0},{"$f":"F46","v":""},null,{"$f":"F50","v":""},null,{"$f":"IF(A48=0,IF(AND(LEN(B48)>0,LEN(D48)=0),B48,IF(AND(LEN(D48)>0,LEN(B48)=0),D48,\"\")),IF((VLOOKUP(A48,'plan gier'!$Z:$AH,7,FALSE))=\"\",\"\",VLOOKUP(VLOOKUP(A48,'plan gier'!$Z:$AH,7,FALSE),zawodnicy!$A:$E,1,FALSE)))","v":""},null,{"$f":"IF(A48=0,\"\",IF((VLOOKUP(A48,'plan gier'!$Z:$AH,7,FALSE))=\"\",\"\",VLOOKUP(A48,'plan gier'!$Z:$AH,9,FALSE)))","v":""},{"$f":"IF(A48=0,\"\",IF(VLOOKUP(A48,'plan gier'!A:T,20,FALSE)=\"\",\"\",VLOOKUP(A48,'plan gier'!A:T,20,FALSE)))","v":""},{"$f":"L5","v":0},null,null,null,null,null,{"$f":"IF(K48=\"\",\"\",MAX(P6:P47)+1)","v":""},null,null,null,null,{"$f":"IF(F48=\"\",\"\",VLOOKUP(F48,zawodnicy!$A:$D,3,FALSE))","v":""}]
[null,null,null,null,null,null,null,null,null,null,null,null,null,null,null,{"$f":"IF(K49=\"\",\"\",MAX(P6:P48)+1)","v":""},null,null,null,null,{"$f":"IF(H48=\"\",I48,H48)","v":""}]
[{"$f":"S50","v":0},{"$f":"IF(Q50=\"\",\"\",Q50)","v":""},null,{"$f":"IF(Q51=\"\",\"\",Q51)","v":""},null,{"$f":"IF(A50=0,IF(AND(LEN(B50)>0,LEN(D50)=0),VLOOKUP(B50,zawodnicy!$A:$E,1,FALSE),IF(AND(LEN(D50)>0,LEN(B50)=0),VLOOKUP(D50,zawodnicy!$A:$E,1,FALSE),\"\")),IF((VLOOKUP(A50,'plan gier'!$Z:$AH,7,FALSE))=\"\",\"\",VLOOKUP(VLOOKUP(A50,'plan gier'!$Z:$AH,7,FALSE),zawodnicy!$A:$E,1,FALSE)))","v":""},null,{"$f":"IF(A50=0,\"\",IF((VLOOKUP(A50,'plan gier'!$Z:$AH,7,FALSE))=\"\",\"\",VLOOKUP(A50,'plan gier'!$Z:$AH,9,FALSE)))","v":""},{"$f":"IF(A50=0,\"\",IF(VLOOKUP(A50,'plan gier'!A:T,20,FALSE)=\"\",\"\",VLOOKUP(A50,'plan gier'!A:T,20,FALSE)))","v":""},{"$f":"L5","v":0},{"$f":"IF(L4>32,23,\"\")","v":23},null,null,null,null,{"$f":"IF(K50=\"\",\"\",MAX(P6:P49)+1)","v":23},{"$f":"UPPER(IF(P50=\"\",\"\",IF(ISTEXT(L50),L50,IF(AND(L3>0,P50>0),VLOOKUP(L3&P50&J50,'grup-puch'!I:J,2,FALSE),\"\"))))","v":""},{"$f":"IF(Q50<>\"\",CONCATENATE(VLOOKUP(Q50,zawodnicy!$A:$E,2,FALSE),\" \",VLOOKUP(Q50,zawodnicy!$A:$E,3,FALSE),\" - \",VLOOKUP(Q50,zawodnicy!$A:$E,4,FALSE)),\"\")","v":""},null,{"$f":"IF(F50=\"\",\"\",VLOOKUP(F50,zawodnicy!$A:$D,3,FALSE))","v":""}]
[null,null,null,null,null,null,null,null,null,null,{"$f":"IF(L4>37,24,\"\")","v":24},null,null,null,null,{"$f":"IF(K51=\"\",\"\",MAX(P6:P50)+1)","v":24},{"$f":"UPPER(IF(P51=\"\",\"\",IF(ISTEXT(L51),L51,IF(AND(L3>0,P51>0),VLOOKUP(L3&P51&J50,'grup-puch'!I:J,2,FALSE),\"\"))))","v":""},{"$f":"IF(Q51<>\"\",CONCATENATE(VLOOKUP(Q51,zawodnicy!$A:$E,2,FALSE),\" \",VLOOKUP(Q51,zawodnicy!$A:$E,3,FALSE),\" - \",VLOOKUP(Q51,zawodnicy!$A:$E,4,FALSE)),\"\")","v":""},null,{"$f":"IF(H50=\"\",I50,H50)","v":""}]
[{"$f":"V52","v":0},{"$f":"F44","v":""},null,{"$f":"F60","v":""},null,{"$f":"IF(A52=0,IF(AND(LEN(B52)>0,LEN(D52)=0),B52,IF(AND(LEN(D52)>0,LEN(B52)=0),D52,\"\")),IF((VLOOKUP(A52,'plan gier'!$Z:$AH,7,FALSE))=\"\",\"\",VLOOKUP(VLOOKUP(A52,'plan gier'!$Z:$AH,7,FALSE),zawodnicy!$A:$E,1,FALSE)))","v":""},null,{"$f":"IF(A52=0,\"\",IF((VLOOKUP(A52,'plan gier'!$Z:$AH,7,FALSE))=\"\",\"\",VLOOKUP(A52,'plan gier'!$Z:$AH,9,FALSE)))","v":""},{"$f":"IF(A52=0,\"\",IF(VLOOKUP(A52,'plan gier'!A:T,20,FALSE)=\"\",\"\",VLOOKUP(A52,'plan gier'!A:T,20,FALSE)))","v":""},{"$f":"L5","v":0},null,null,null,null,null,{"$f":"IF(K52=\"\",\"\",MAX(P6:P51)+1)","v":""},null,null,null,null,null,null,{"$f":"IF(F52=\"\",\"\",VLOOKUP(F52,zawodnicy!$A:$D,3,FALSE))","v":""}]
[null,null,null,null,null,null,null,null,null,null,null,null,null,null,null,{"$f":"IF(K53=\"\",\"\",MAX(P6:P52)+1)","v":""},null,null,null,null,null,null,{"$f":"IF(H52=\"\",I52,H52)","v":""}]
[{"$f":"S54","v":0},{"$f":"IF(Q54=\"\",\"\",Q54)","v":""},null,{"$f":"IF(Q55=\"\",\"\",Q55)","v":""},null,{"$f":"IF(A54=0,IF(AND(LEN(B54)>0,LEN(D54)=0),VLOOKUP(B54,zawodnicy!$A:$E,1,FALSE),IF(AND(LEN(D54)>0,LEN(B54)=0),VLOOKUP(D54,zawodnicy!$A:$E,1,FALSE),\"\")),IF((VLOOKUP(A54,'plan gier'!$Z:$AH,7,FALSE))=\"\",\"\",VLOOKUP(VLOOKUP(A54,'plan gier'!$Z:$AH,7,FALSE),zawodnicy!$A:$E,1,FALSE)))","v":""},null,{"$f":"IF(A54=0,\"\",IF((VLOOKUP(A54,'plan gier'!$Z:$AH,7,FALSE))=\"\",\"\",VLOOKUP(A54,'plan gier'!$Z:$AH,9,FALSE)))","v":""},{"$f":"IF(A54=0,\"\",IF(VLOOKUP(A54,'plan gier'!A:T,20,FALSE)=\"\",\"\",VLOOKUP(A54,'plan gier'!A:T,20,FALSE)))","v":""},{"$f":"L5","v":0},{"$f":"IF(L4>32,25,\"\")","v":25},null,null,null,null,{"$f":"IF(K54=\"\",\"\",MAX(P6:P53)+1)","v":25},{"$f":"UPPER(IF(P54=\"\",\"\",IF(ISTEXT(L54),L54,IF(AND(L3>0,P54>0),VLOOKUP(L3&P54&J54,'grup-puch'!I:J,2,FALSE),\"\"))))","v":""},{"$f":"IF(Q54<>\"\",CONCATENATE(VLOOKUP(Q54,zawodnicy!$A:$E,2,FALSE),\" \",VLOOKUP(Q54,zawodnicy!$A:$E,3,FALSE),\" - \",VLOOKUP(Q54,zawodnicy!$A:$E,4,FALSE)),\"\")","v":""},null,{"$f":"IF(F54=\"\",\"\",VLOOKUP(F54,zawodnicy!$A:$D,3,FALSE))","v":""}]
[null,null,null,null,null,null,null,null,null,null,{"$f":"IF(L4>57,26,\"\")","v":26},null,null,null,null,{"$f":"IF(K55=\"\",\"\",MAX(P6:P54)+1)","v":26},{"$f":"UPPER(IF(P55=\"\",\"\",IF(ISTEXT(L55),L55,IF(AND(L3>0,P55>0),VLOOKUP(L3&P55&J54,'grup-puch'!I:J,2,FALSE),\"\"))))","v":""},{"$f":"IF(Q55<>\"\",CONCATENATE(VLOOKUP(Q55,zawodnicy!$A:$E,2,FALSE),\" \",VLOOKUP(Q55,zawodnicy!$A:$E,3,FALSE),\" - \",VLOOKUP(Q55,zawodnicy!$A:$E,4,FALSE)),\"\")","v":""},null,{"$f":"IF(H54=\"\",I54,H54)","v":""}]
[{"$f":"T56","v":0},{"$f":"F54","v":""},null,{"$f":"F58","v":""},null,{"$f":"IF(A56=0,IF(AND(LEN(B56)>0,LEN(D56)=0),B56,IF(AND(LEN(D56)>0,LEN(B56)=0),D56,\"\")),IF((VLOOKUP(A56,'plan gier'!$Z:$AH,7,FALSE))=\"\",\"\",VLOOKUP(VLOOKUP(A56,'plan gier'!$Z:$AH,7,FALSE),zawodnicy!$A:$E,1,FALSE)))","v":""},null,{"$f":"IF(A56=0,\"\",IF((VLOOKUP(A56,'plan gier'!$Z:$AH,7,FALSE))=\"\",\"\",VLOOKUP(A56,'plan gier'!$Z:$AH,9,FALSE)))","v":""},{"$f":"IF(A56=0,\"\",IF(VLOOKUP(A56,'plan gier'!A:T,20,FALSE)=\"\",\"\",VLOOKUP(A56,'plan gier'!A:T,20,FALSE)))","v":""},{"$f":"L5","v":0},null,null,null,null,null,{"$f":"IF(K56=\"\",\"\",MAX(P6:P55)+1)","v":""},null,null,null,null,{"$f":"IF(F56=\"\",\"\",VLOOKUP(F56,zawodnicy!$A:$D,3,FALSE))","v":""}]
[null,null,null,null,null,null,null,null,null,null,null,null,null,null,null,{"$f":"IF(K57=\"\",\"\",MAX(P6:P56)+1)","v":""},null,null,null,null,{"$f":"IF(H56=\"\",I56,H56)","v":""}]
[{"$f":"S58","v":0},{"$f":"IF(Q58=\"\",\"\",Q58)","v":""},null,{"$f":"IF(Q59=\"\",\"\",Q59)","v":""},null,{"$f":"IF(A58=0,IF(AND(LEN(B58)>0,LEN(D58)=0),VLOOKUP(B58,zawodnicy!$A:$E,1,FALSE),IF(AND(LEN(D58)>0,LEN(B58)=0),VLOOKUP(D58,zawodnicy!$A:$E,1,FALSE),\"\")),IF((VLOOKUP(A58,'plan gier'!$Z:$AH,7,FALSE))=\"\",\"\",VLOOKUP(VLOOKUP(A58,'plan gier'!$Z:$AH,7,FALSE),zawodnicy!$A:$E,1,FALSE)))","v":""},null,{"$f":"IF(A58=0,\"\",IF((VLOOKUP(A58,'plan gier'!$Z:$AH,7,FALSE))=\"\",\"\",VLOOKUP(A58,'plan gier'!$Z:$AH,9,FALSE)))","v":""},{"$f":"IF(A58=0,\"\",IF(VLOOKUP(A58,'plan gier'!A:T,20,FALSE)=\"\",\"\",VLOOKUP(A58,'plan gier'!A:T,20,FALSE)))","v":""},{"$f":"L5","v":0},{"$f":"IF(L4>32,27,\"\")","v":27},null,null,null,null,{"$f":"IF(K58=\"\",\"\",MAX(P6:P57)+1)","v":27},{"$f":"UPPER(IF(P58=\"\",\"\",IF(ISTEXT(L58),L58,IF(AND(L3>0,P58>0),VLOOKUP(L3&P58&J58,'grup-puch'!I:J,2,FALSE),\"\"))))","v":""},{"$f":"IF(Q58<>\"\",CONCATENATE(VLOOKUP(Q58,zawodnicy!$A:$E,2,FALSE),\" \",VLOOKUP(Q58,zawodnicy!$A:$E,3,FALSE),\" - \",VLOOKUP(Q58,zawodnicy!$A:$E,4,FALSE)),\"\")","v":""},null,{"$f":"IF(F58=\"\",\"\",VLOOKUP(F58,zawodnicy!$A:$D,3,FALSE))","v":""}]
[null,null,null,null,null,null,null,null,null,null,{"$f":"IF(L4>49,28,\"\")","v":28},null,null,null,null,{"$f":"IF(K59=\"\",\"\",MAX(P6:P58)+1)","v":28},{"$f":"UPPER(IF(P59=\"\",\"\",IF(ISTEXT(L59),L59,IF(AND(L3>0,P59>0),VLOOKUP(L3&P59&J58,'grup-puch'!I:J,2,FALSE),\"\"))))","v":""},{"$f":"IF(Q59<>\"\",CONCATENATE(VLOOKUP(Q59,zawodnicy!$A:$E,2,FALSE),\" \",VLOOKUP(Q59,zawodnicy!$A:$E,3,FALSE),\" - \",VLOOKUP(Q59,zawodnicy!$A:$E,4,FALSE)),\"\")","v":""},null,{"$f":"IF(H58=\"\",I58,H58)","v":""}]
[{"$f":"U60","v":0},{"$f":"F56","v":""},null,{"$f":"F64","v":""},null,{"$f":"IF(A60=0,IF(AND(LEN(B60)>0,LEN(D60)=0),B60,IF(AND(LEN(D60)>0,LEN(B60)=0),D60,\"\")),IF((VLOOKUP(A60,'plan gier'!$Z:$AH,7,FALSE))=\"\",\"\",VLOOKUP(VLOOKUP(A60,'plan gier'!$Z:$AH,7,FALSE),zawodnicy!$A:$E,1,FALSE)))","v":""},null,{"$f":"IF(A60=0,\"\",IF((VLOOKUP(A60,'plan gier'!$Z:$AH,7,FALSE))=\"\",\"\",VLOOKUP(A60,'plan gier'!$Z:$AH,9,FALSE)))","v":""},{"$f":"IF(A60=0,\"\",IF(VLOOKUP(A60,'plan gier'!A:T,20,FALSE)=\"\",\"\",VLOOKUP(A60,'plan gier'!A:T,20,FALSE)))","v":""},{"$f":"L5","v":0},null,null,null,null,null,{"$f":"IF(K60=\"\",\"\",MAX(P6:P59)+1)","v":""},null,null,null,null,null,{"$f":"IF(F60=\"\",\"\",VLOOKUP(F60,zawodnicy!$A:$D,3,FALSE))","v":""}]
[null,null,null,null,null,null,null,null,null,null,null,null,null,null,null,{"$f":"IF(K61=\"\",\"\",MAX(P6:P60)+1)","v":""},null,null,null,null,null,{"$f":"IF(H60=\"\",I60,H60)","v":""}]
[{"$f":"S62","v":0},{"$f":"IF(Q62=\"\",\"\",Q62)","v":""},null,{"$f":"IF(Q63=\"\",\"\",Q63)","v":""},null,{"$f":"IF(A62=0,IF(AND(LEN(B62)>0,LEN(D62)=0),VLOOKUP(B62,zawodnicy!$A:$E,1,FALSE),IF(AND(LEN(D62)>0,LEN(B62)=0),VLOOKUP(D62,zawodnicy!$A:$E,1,FALSE),\"\")),IF((VLOOKUP(A62,'plan gier'!$Z:$AH,7,FALSE))=\"\",\"\",VLOOKUP(VLOOKUP(A62,'plan gier'!$Z:$AH,7,FALSE),zawodnicy!$A:$E,1,FALSE)))","v":""},null,{"$f":"IF(A62=0,\"\",IF((VLOOKUP(A62,'plan gier'!$Z:$AH,7,FALSE))=\"\",\"\",VLOOKUP(A62,'plan gier'!$Z:$AH,9,FALSE)))","v":""},{"$f":"IF(A62=0,\"\",IF(VLOOKUP(A62,'plan gier'!A:T,20,FALSE)=\"\",\"\",VLOOKUP(A62,'plan gier'!A:T,20,FALSE)))","v":""},{"$f":"L5","v":0},{"$f":"IF(L4>32,29,\"\")","v":29},null,null,null,null,{"$f":"IF(K62=\"\",\"\",MAX(P6:P61)+1)","v":29},{"$f":"UPPER(IF(P62=\"\",\"\",IF(ISTEXT(L62),L62,IF(AND(L3>0,P62>0),VLOOKUP(L3&P62&J62,'grup-puch'!I:J,2,FALSE),\"\"))))","v":""},{"$f":"IF(Q62<>\"\",CONCATENATE(VLOOKUP(Q62,zawodnicy!$A:$E,2,FALSE),\" \",VLOOKUP(Q62,zawodnicy!$A:$E,3,FALSE),\" - \",VLOOKUP(Q62,zawodnicy!$A:$E,4,FALSE)),\"\")","v":""},null,{"$f":"IF(F62=\"\",\"\",VLOOKUP(F62,zawodnicy!$A:$D,3,FALSE))","v":""}]
[{"$f":"W63","v":0},{"$f":"F36","v":""},null,{"$f":"F102","v":""},null,{"$f":"IF(A63=0,IF(AND(LEN(B63)>0,LEN(D63)=0),B63,IF(AND(LEN(D63)>0,LEN(B63)=0),D63,\"\")),IF((VLOOKUP(A63,'plan gier'!$Z:$AH,7,FALSE))=\"\",\"\",VLOOKUP(VLOOKUP(A63,'plan gier'!$Z:$AH,7,FALSE),zawodnicy!$A:$E,1,FALSE)))","v":""},null,{"$f":"IF(A63=0,\"\",IF((VLOOKUP(A63,'plan gier'!$Z:$AH,7,FALSE))=\"\",\"\",VLOOKUP(A63,'plan gier'!$Z:$AH,9,FALSE)))","v":""},{"$f":"IF(A63=0,\"\",IF(VLOOKUP(A63,'plan gier'!A:T,20,FALSE)=\"\",\"\",VLOOKUP(A63,'plan gier'!A:T,20,FALSE)))","v":""},{"$f":"L5","v":0},{"$f":"IF(L4>41,30,\"\")","v":30},null,null,null,null,{"$f":"IF(K63=\"\",\"\",MAX(P6:P62)+1)","v":30},{"$f":"UPPER(IF(P63=\"\",\"\",IF(ISTEXT(L63),L63,IF(AND(L3>0,P63>0),VLOOKUP(L3&P63&J62,'grup-puch'!I:J,2,FALSE),\"\"))))","v":""},{"$f":"IF(Q63<>\"\",CONCATENATE(VLOOKUP(Q63,zawodnicy!$A:$E,2,FALSE),\" \",VLOOKUP(Q63,zawodnicy!$A:$E,3,FALSE),\" - \",VLOOKUP(Q63,zawodnicy!$A:$E,4,FALSE)),\"\")","v":""},null,{"$f":"IF(H62=\"\",I62,H62)","v":""},null,null,null,{"$f":"IF(F63=\"\",\"\",VLOOKUP(F63,zawodnicy!$A:$D,3,FALSE))","v":""}]
[{"$f":"T64","v":0},{"$f":"F62","v":""},null,{"$f":"F66","v":""},null,{"$f":"IF(A64=0,IF(AND(LEN(B64)>0,LEN(D64)=0),B64,IF(AND(LEN(D64)>0,LEN(B64)=0),D64,\"\")),IF((VLOOKUP(A64,'plan gier'!$Z:$AH,7,FALSE))=\"\",\"\",VLOOKUP(VLOOKUP(A64,'plan gier'!$Z:$AH,7,FALSE),zawodnicy!$A:$E,1,FALSE)))","v":""},null,{"$f":"IF(A64=0,\"\",IF((VLOOKUP(A64,'plan gier'!$Z:$AH,7,FALSE))=\"\",\"\",VLOOKUP(A64,'plan gier'!$Z:$AH,9,FALSE)))","v":""},{"$f":"IF(A64=0,\"\",IF(VLOOKUP(A64,'plan gier'!A:T,20,FALSE)=\"\",\"\",VLOOKUP(A64,'plan gier'!A:T,20,FALSE)))","v":""},{"$f":"L5","v":0},null,null,null,null,null,{"$f":"IF(K64=\"\",\"\",MAX(P6:P63)+1)","v":""},null,null,null,null,{"$f":"IF(F64=\"\",\"\",VLOOKUP(F64,zawodnicy!$A:$D,3,FALSE))","v":""},null,null,{"$f":"IF(H63=\"\",I63,H63)","v":""}]
[null,null,null,null,null,null,null,null,null,null,null,null,null,null,null,{"$f":"IF(K65=\"\",\"\",MAX(P6:P64)+1)","v":""},null,null,null,null,{"$f":"IF(H64=\"\",I64,H64)","v":""}]
[{"$f":"S66","v":0},{"$f":"IF(Q66=\"\",\"\",Q66)","v":""},null,{"$f":"IF(Q67=\"\",\"\",Q67)","v":""},null,{"$f":"IF(A66=0,IF(AND(LEN(B66)>0,LEN(D66)=0),VLOOKUP(B66,zawodnicy!$A:$E,1,FALSE),IF(AND(LEN(D66)>0,LEN(B66)=0),VLOOKUP(D66,zawodnicy!$A:$E,1,FALSE),\"\")),IF((VLOOKUP(A66,'plan gier'!$Z:$AH,7,FALSE))=\"\",\"\",VLOOKUP(VLOOKUP(A66,'plan gier'!$Z:$AH,7,FALSE),zawodnicy!$A:$E,1,FALSE)))","v":""},null,{"$f":"IF(A66=0,\"\",IF((VLOOKUP(A66,'plan gier'!$Z:$AH,7,FALSE))=\"\",\"\",VLOOKUP(A66,'plan gier'!$Z:$AH,9,FALSE)))","v":""},{"$f":"IF(A66=0,\"\",IF(VLOOKUP(A66,'plan gier'!A:T,20,FALSE)=\"\",\"\",VLOOKUP(A66,'plan gier'!A:T,20,FALSE)))","v":""},{"$f":"L5","v":0},{"$f":"IF(L4>32,31,\"\")","v":31},null,null,null,null,{"$f":"IF(K66=\"\",\"\",MAX(P6:P65)+1)","v":31},{"$f":"UPPER(IF(P66=\"\",\"\",IF(ISTEXT(L66),L66,IF(AND(L3>0,P66>0),VLOOKUP(L3&P66&J66,'grup-puch'!I:J,2,FALSE),\"\"))))","v":""},{"$f":"IF(Q66<>\"\",CONCATENATE(VLOOKUP(Q66,zawodnicy!$A:$E,2,FALSE),\" \",VLOOKUP(Q66,zawodnicy!$A:$E,3,FALSE),\" - \",VLOOKUP(Q66,zawodnicy!$A:$E,4,FALSE)),\"\")","v":""},null,{"$f":"IF(F66=\"\",\"\",VLOOKUP(F66,zawodnicy!$A:$D,3,FALSE))","v":""},null,"Sędzia główny"]
[null,null,null,null,null,null,null,null,null,null,{"$f":"IF(L4>33,32,\"\")","v":32},null,null,null,null,{"$f":"IF(K67=\"\",\"\",MAX(P6:P66)+1)","v":32},{"$f":"UPPER(IF(P67=\"\",\"\",IF(ISTEXT(L67),L67,IF(AND(L3>0,P67>0),VLOOKUP(L3&P67&J66,'grup-puch'!I:J,2,FALSE),\"\"))))","v":""},{"$f":"IF(Q67<>\"\",CONCATENATE(VLOOKUP(Q67,zawodnicy!$A:$E,2,FALSE),\" \",VLOOKUP(Q67,zawodnicy!$A:$E,3,FALSE),\" - \",VLOOKUP(Q67,zawodnicy!$A:$E,4,FALSE)),\"\")","v":""},null,{"$f":"IF(H66=\"\",I66,H66)","v":""},null,{"$f":"IF(ISBLANK(dane!$D$4),\"\",dane!$D$4)","v":"Marek Krawczyk"}]
[null,null,null,null,null,null,null,null,null,null,null,null,null,null,null,null,{"$f":"\"Gra\"&\" \"&L5","v":"Gra "}]
[null,null,null,null,null,null,null,null,null,null,null,null,null,null,null,"Dolna połówka"]
[]
[]
[{"$f":"S72","v":0},{"$f":"IF(Q72=\"\",\"\",Q72)","v":""},null,{"$f":"IF(Q73=\"\",\"\",Q73)","v":""},null,{"$f":"IF(A72=0,IF(AND(LEN(B72)>0,LEN(D72)=0),VLOOKUP(B72,zawodnicy!$A:$E,1,FALSE),IF(AND(LEN(D72)>0,LEN(B72)=0),VLOOKUP(D72,zawodnicy!$A:$E,1,FALSE),\"\")),IF((VLOOKUP(A72,'plan gier'!$Z:$AH,7,FALSE))=\"\",\"\",VLOOKUP(VLOOKUP(A72,'plan gier'!$Z:$AH,7,FALSE),zawodnicy!$A:$E,1,FALSE)))","v":""},null,{"$f":"IF(A72=0,\"\",IF((VLOOKUP(A72,'plan gier'!$Z:$AH,7,FALSE))=\"\",\"\",VLOOKUP(A72,'plan gier'!$Z:$AH,9,FALSE)))","v":""},{"$f":"IF(A72=0,\"\",IF(VLOOKUP(A72,'plan gier'!A:T,20,FALSE)=\"\",\"\",VLOOKUP(A72,'plan gier'!A:T,20,FALSE)))","v":""},{"$f":"L5","v":0},{"$f":"IF(L4>32,33,\"\")","v":33},null,null,null,null,{"$f":"IF(K72=\"\",\"\",MAX(P6:P71)+1)","v":33},{"$f":"UPPER(IF(P72=\"\",\"\",IF(ISTEXT(L72),L72,IF(AND(L3>0,P72>0),VLOOKUP(L3&P72&J72,'grup-puch'!I:J,2,FALSE),\"\"))))","v":""},{"$f":"IF(Q72<>\"\",CONCATENATE(VLOOKUP(Q72,zawodnicy!$A:$E,2,FALSE),\" \",VLOOKUP(Q72,zawodnicy!$A:$E,3,FALSE),\" - \",VLOOKUP(Q72,zawodnicy!$A:$E,4,FALSE)),\"\")","v":""},null,{"$f":"IF(F72=\"\",\"\",VLOOKUP(F72,zawodnicy!$A:$D,3,FALSE))","v":""}]
[null,null,null,null,null,null,null,null,null,null,{"$f":"IF(L4>32,34,\"\")","v":34},null,null,null,null,{"$f":"IF(K73=\"\",\"\",MAX(P6:P72)+1)","v":34},{"$f":"UPPER(IF(P73=\"\",\"\",IF(ISTEXT(L73),L73,IF(AND(L3>0,P73>0),VLOOKUP(L3&P73&J72,'grup-puch'!I:J,2,FALSE),\"\"))))","v":""},{"$f":"IF(Q73<>\"\",CONCATENATE(VLOOKUP(Q73,zawodnicy!$A:$E,2,FALSE),\" \",VLOOKUP(Q73,zawodnicy!$A:$E,3,FALSE),\" - \",VLOOKUP(Q73,zawodnicy!$A:$E,4,FALSE)),\"\")","v":""},null,{"$f":"IF(H72=\"\",I72,H72)","v":""}]
[{"$f":"T74","v":0},{"$f":"F72","v":""},null,{"$f":"F76","v":""},null,{"$f":"IF(A74=0,IF(AND(LEN(B74)>0,LEN(D74)=0),B74,IF(AND(LEN(D74)>0,LEN(B74)=0),D74,\"\")),IF((VLOOKUP(A74,'plan gier'!$Z:$AH,7,FALSE))=\"\",\"\",VLOOKUP(VLOOKUP(A74,'plan gier'!$Z:$AH,7,FALSE),zawodnicy!$A:$E,1,FALSE)))","v":""},null,{"$f":"IF(A74=0,\"\",IF((VLOOKUP(A74,'plan gier'!$Z:$AH,7,FALSE))=\"\",\"\",VLOOKUP(A74,'plan gier'!$Z:$AH,9,FALSE)))","v":""},{"$f":"IF(A74=0,\"\",IF(VLOOKUP(A74,'plan gier'!A:T,20,FALSE)=\"\",\"\",VLOOKUP(A74,'plan gier'!A:T,20,FALSE)))","v":""},{"$f":"L5","v":0},null,null,null,null,null,null,null,null,null,null,{"$f":"IF(F74=\"\",\"\",VLOOKUP(F74,zawodnicy!$A:$D,3,FALSE))","v":""}]
[null,null,null,null,null,null,null,null,null,null,null,null,null,null,null,null,null,null,null,null,{"$f":"IF(H74=\"\",I74,H74)","v":""}]
[{"$f":"S76","v":0},{"$f":"IF(Q76=\"\",\"\",Q76)","v":""},null,{"$f":"IF(Q77=\"\",\"\",Q77)","v":""},null,{"$f":"IF(A76=0,IF(AND(LEN(B76)>0,LEN(D76)=0),VLOOKUP(B76,zawodnicy!$A:$E,1,FALSE),IF(AND(LEN(D76)>0,LEN(B76)=0),VLOOKUP(D76,zawodnicy!$A:$E,1,FALSE),\"\")),IF((VLOOKUP(A76,'plan gier'!$Z:$AH,7,FALSE))=\"\",\"\",VLOOKUP(VLOOKUP(A76,'plan gier'!$Z:$AH,7,FALSE),zawodnicy!$A:$E,1,FALSE)))","v":""},null,{"$f":"IF(A76=0,\"\",IF((VLOOKUP(A76,'plan gier'!$Z:$AH,7,FALSE))=\"\",\"\",VLOOKUP(A76,'plan gier'!$Z:$AH,9,FALSE)))","v":""},{"$f":"IF(A76=0,\"\",IF(VLOOKUP(A76,'plan gier'!A:T,20,FALSE)=\"\",\"\",VLOOKUP(A76,'plan gier'!A:T,20,FALSE)))","v":""},{"$f":"L5","v":0},{"$f":"IF(L4>40,35,\"\")","v":35},null,null,null,null,{"$f":"IF(K76=\"\",\"\",MAX(P6:P75)+1)","v":35},{"$f":"UPPER(IF(P76=\"\",\"\",IF(ISTEXT(L76),L76,IF(AND(L3>0,P76>0),VLOOKUP(L3&P76&J76,'grup-puch'!I:J,2,FALSE),\"\"))))","v":""},{"$f":"IF(Q76<>\"\",CONCATENATE(VLOOKUP(Q76,zawodnicy!$A:$E,2,FALSE),\" \",VLOOKUP(Q76,zawodnicy!$A:$E,3,FALSE),\" - \",VLOOKUP(Q76,zawodnicy!$A:$E,4,FALSE)),\"\")","v":""},null,{"$f":"IF(F76=\"\",\"\",VLOOKUP(F76,zawodnicy!$A:$D,3,FALSE))","v":""}]
[null,null,null,null,null,null,null,null,null,null,{"$f":"IF(L4>32,36,\"\")","v":36},null,null,null,null,{"$f":"IF(K77=\"\",\"\",MAX(P6:P76)+1)","v":36},{"$f":"UPPER(IF(P77=\"\",\"\",IF(ISTEXT(L77),L77,IF(AND(L3>0,P77>0),VLOOKUP(L3&P77&J76,'grup-puch'!I:J,2,FALSE),\"\"))))","v":""},{"$f":"IF(Q77<>\"\",CONCATENATE(VLOOKUP(Q77,zawodnicy!$A:$E,2,FALSE),\" \",VLOOKUP(Q77,zawodnicy!$A:$E,3,FALSE),\" - \",VLOOKUP(Q77,zawodnicy!$A:$E,4,FALSE)),\"\")","v":""},null,{"$f":"IF(H76=\"\",I76,H76)","v":""}]
[{"$f":"U78","v":0},{"$f":"F74","v":""},null,{"$f":"F82","v":""},null,{"$f":"IF(A78=0,IF(AND(LEN(B78)>0,LEN(D78)=0),B78,IF(AND(LEN(D78)>0,LEN(B78)=0),D78,\"\")),IF((VLOOKUP(A78,'plan gier'!$Z:$AH,7,FALSE))=\"\",\"\",VLOOKUP(VLOOKUP(A78,'plan gier'!$Z:$AH,7,FALSE),zawodnicy!$A:$E,1,FALSE)))","v":""},null,{"$f":"IF(A78=0,\"\",IF((VLOOKUP(A78,'plan gier'!$Z:$AH,7,FALSE))=\"\",\"\",VLOOKUP(A78,'plan gier'!$Z:$AH,9,FALSE)))","v":""},{"$f":"IF(A78=0,\"\",IF(VLOOKUP(A78,'plan gier'!A:T,20,FALSE)=\"\",\"\",VLOOKUP(A78,'plan gier'!A:T,20,FALSE)))","v":""},{"$f":"L5","v":0},null,null,null,null,null,null,null,null,null,null,null,{"$f":"IF(F78=\"\",\"\",VLOOKUP(F78,zawodnicy!$A:$D,3,FALSE))","v":""}]
[null,null,null,null,null,null,null,null,null,null,null,null,null,null,null,null,null,null,null,null,null,{"$f":"IF(H78=\"\",I78,H78)","v":""}]
[{"$f":"S80","v":0},{"$f":"IF(Q80=\"\",\"\",Q80)","v":""},null,{"$f":"IF(Q81=\"\",\"\",Q81)","v":""},null,{"$f":"IF(A80=0,IF(AND(LEN(B80)>0,LEN(D80)=0),VLOOKUP(B80,zawodnicy!$A:$E,1,FALSE),IF(AND(LEN(D80)>0,LEN(B80)=0),VLOOKUP(D80,zawodnicy!$A:$E,1,FALSE),\"\")),IF((VLOOKUP(A80,'plan gier'!$Z:$AH,7,FALSE))=\"\",\"\",VLOOKUP(VLOOKUP(A80,'plan gier'!$Z:$AH,7,FALSE),zawodnicy!$A:$E,1,FALSE)))","v":""},null,{"$f":"IF(A80=0,\"\",IF((VLOOKUP(A80,'plan gier'!$Z:$AH,7,FALSE))=\"\",\"\",VLOOKUP(A80,'plan gier'!$Z:$AH,9,FALSE)))","v":""},{"$f":"IF(A80=0,\"\",IF(VLOOKUP(A80,'plan gier'!A:T,20,FALSE)=\"\",\"\",VLOOKUP(A80,'plan gier'!A:T,20,FALSE)))","v":""},{"$f":"L5","v":0},{"$f":"IF(L4>48,37,\"\")","v":37},null,null,null,null,{"$f":"IF(K80=\"\",\"\",MAX(P6:P79)+1)","v":37},{"$f":"UPPER(IF(P80=\"\",\"\",IF(ISTEXT(L80),L80,IF(AND(L3>0,P80>0),VLOOKUP(L3&P80&J80,'grup-puch'!I:J,2,FALSE),\"\"))))","v":""},{"$f":"IF(Q80<>\"\",CONCATENATE(VLOOKUP(Q80,zawodnicy!$A:$E,2,FALSE),\" \",VLOOKUP(Q80,zawodnicy!$A:$E,3,FALSE),\" - \",VLOOKUP(Q80,zawodnicy!$A:$E,4,FALSE)),\"\")","v":""},null,{"$f":"IF(F80=\"\",\"\",VLOOKUP(F80,zawodnicy!$A:$D,3,FALSE))","v":""}]
[null,null,null,null,null,null,null,null,null,null,{"$f":"IF(L4>32,38,\"\")","v":38},null,null,null,null,{"$f":"IF(K81=\"\",\"\",MAX(P6:P80)+1)","v":38},{"$f":"UPPER(IF(P81=\"\",\"\",IF(ISTEXT(L81),L81,IF(AND(L3>0,P81>0),VLOOKUP(L3&P81&J80,'grup-puch'!I:J,2,FALSE),\"\"))))","v":""},{"$f":"IF(Q81<>\"\",CONCATENATE(VLOOKUP(Q81,zawodnicy!$A:$E,2,FALSE),\" \",VLOOKUP(Q81,zawodnicy!$A:$E,3,FALSE),\" - \",VLOOKUP(Q81,zawodnicy!$A:$E,4,FALSE)),\"\")","v":""},null,{"$f":"IF(H80=\"\",I80,H80)","v":""}]
[{"$f":"T82","v":0},{"$f":"F80","v":""},null,{"$f":"F84","v":""},null,{"$f":"IF(A82=0,IF(AND(LEN(B82)>0,LEN(D82)=0),B82,IF(AND(LEN(D82)>0,LEN(B82)=0),D82,\"\")),IF((VLOOKUP(A82,'plan gier'!$Z:$AH,7,FALSE))=\"\",\"\",VLOOKUP(VLOOKUP(A82,'plan gier'!$Z:$AH,7,FALSE),zawodnicy!$A:$E,1,FALSE)))","v":""},null,{"$f":"IF(A82=0,\"\",IF((VLOOKUP(A82,'plan gier'!$Z:$AH,7,FALSE))=\"\",\"\",VLOOKUP(A82,'plan gier'!$Z:$AH,9,FALSE)))","v":""},{"$f":"IF(A82=0,\"\",IF(VLOOKUP(A82,'plan gier'!A:T,20,FALSE)=\"\",\"\",VLOOKUP(A82,'plan gier'!A:T,20,FALSE)))","v":""},{"$f":"L5","v":0},null,null,null,null,null,null,null,null,null,null,{"$f":"IF(F82=\"\",\"\",VLOOKUP(F82,zawodnicy!$A:$D,3,FALSE))","v":""}]
[null,null,null,null,null,null,null,null,null,null,null,null,null,null,null,null,null,null,null,null,{"$f":"IF(H82=\"\",I82,H82)","v":""}]
[{"$f":"S84","v":0},{"$f":"IF(Q84=\"\",\"\",Q84)","v":""},null,{"$f":"IF(Q85=\"\",\"\",Q85)","v":""},null,{"$f":"IF(A84=0,IF(AND(LEN(B84)>0,LEN(D84)=0),VLOOKUP(B84,zawodnicy!$A:$E,1,FALSE),IF(AND(LEN(D84)>0,LEN(B84)=0),VLOOKUP(D84,zawodnicy!$A:$E,1,FALSE),\"\")),IF((VLOOKUP(A84,'plan gier'!$Z:$AH,7,FALSE))=\"\",\"\",VLOOKUP(VLOOKUP(A84,'plan gier'!$Z:$AH,7,FALSE),zawodnicy!$A:$E,1,FALSE)))","v":""},null,{"$f":"IF(A84=0,\"\",IF((VLOOKUP(A84,'plan gier'!$Z:$AH,7,FALSE))=\"\",\"\",VLOOKUP(A84,'plan gier'!$Z:$AH,9,FALSE)))","v":""},{"$f":"IF(A84=0,\"\",IF(VLOOKUP(A84,'plan gier'!A:T,20,FALSE)=\"\",\"\",VLOOKUP(A84,'plan gier'!A:T,20,FALSE)))","v":""},{"$f":"L5","v":0},{"$f":"IF(L4>56,39,\"\")","v":39},null,null,null,null,{"$f":"IF(K84=\"\",\"\",MAX(P6:P83)+1)","v":39},{"$f":"UPPER(IF(P84=\"\",\"\",IF(ISTEXT(L84),L84,IF(AND(L3>0,P84>0),VLOOKUP(L3&P84&J84,'grup-puch'!I:J,2,FALSE),\"\"))))","v":""},{"$f":"IF(Q84<>\"\",CONCATENATE(VLOOKUP(Q84,zawodnicy!$A:$E,2,FALSE),\" \",VLOOKUP(Q84,zawodnicy!$A:$E,3,FALSE),\" - \",VLOOKUP(Q84,zawodnicy!$A:$E,4,FALSE)),\"\")","v":""},null,{"$f":"IF(F84=\"\",\"\",VLOOKUP(F84,zawodnicy!$A:$D,3,FALSE))","v":""}]
[null,null,null,null,null,null,null,null,null,null,{"$f":"IF(L4>32,40,\"\")","v":40},null,null,null,null,{"$f":"IF(K85=\"\",\"\",MAX(P6:P84)+1)","v":40},{"$f":"UPPER(IF(P85=\"\",\"\",IF(ISTEXT(L85),L85,IF(AND(L3>0,P85>0),VLOOKUP(L3&P85&J84,'grup-puch'!I:J,2,FALSE),\"\"))))","v":""},{"$f":"IF(Q85<>\"\",CONCATENATE(VLOOKUP(Q85,zawodnicy!$A:$E,2,FALSE),\" \",VLOOKUP(Q85,zawodnicy!$A:$E,3,FALSE),\" - \",VLOOKUP(Q85,zawodnicy!$A:$E,4,FALSE)),\"\")","v":""},null,{"$f":"IF(H84=\"\",I84,H84)","v":""}]
[{"$f":"V86","v":0},{"$f":"F78","v":""},null,{"$f":"F94","v":""},null,{"$f":"IF(A86=0,IF(AND(LEN(B86)>0,LEN(D86)=0),B86,IF(AND(LEN(D86)>0,LEN(B86)=0),D86,\"\")),IF((VLOOKUP(A86,'plan gier'!$Z:$AH,7,FALSE))=\"\",\"\",VLOOKUP(VLOOKUP(A86,'plan gier'!$Z:$AH,7,FALSE),zawodnicy!$A:$E,1,FALSE)))","v":""},null,{"$f":"IF(A86=0,\"\",IF((VLOOKUP(A86,'plan gier'!$Z:$AH,7,FALSE))=\"\",\"\",VLOOKUP(A86,'plan gier'!$Z:$AH,9,FALSE)))","v":""},{"$f":"IF(A86=0,\"\",IF(VLOOKUP(A86,'plan gier'!A:T,20,FALSE)=\"\",\"\",VLOOKUP(A86,'plan gier'!A:T,20,FALSE)))","v":""},{"$f":"L5","v":0},null,null,null,null,null,null,null,null,null,null,null,null,{"$f":"IF(F86=\"\",\"\",VLOOKUP(F86,zawodnicy!$A:$D,3,FALSE))","v":""}]
[null,null,null,null,null,null,null,null,null,null,null,null,null,null,null,null,null,null,null,null,null,null,{"$f":"IF(H86=\"\",I86,H86)","v":""}]
[{"$f":"S88","v":0},{"$f":"IF(Q88=\"\",\"\",Q88)","v":""},null,{"$f":"IF(Q89=\"\",\"\",Q89)","v":""},null,{"$f":"IF(A88=0,IF(AND(LEN(B88)>0,LEN(D88)=0),VLOOKUP(B88,zawodnicy!$A:$E,1,FALSE),IF(AND(LEN(D88)>0,LEN(B88)=0),VLOOKUP(D88,zawodnicy!$A:$E,1,FALSE),\"\")),IF((VLOOKUP(A88,'plan gier'!$Z:$AH,7,FALSE))=\"\",\"\",VLOOKUP(VLOOKUP(A88,'plan gier'!$Z:$AH,7,FALSE),zawodnicy!$A:$E,1,FALSE)))","v":""},null,{"$f":"IF(A88=0,\"\",IF((VLOOKUP(A88,'plan gier'!$Z:$AH,7,FALSE))=\"\",\"\",VLOOKUP(A88,'plan gier'!$Z:$AH,9,FALSE)))","v":""},{"$f":"IF(A88=0,\"\",IF(VLOOKUP(A88,'plan gier'!A:T,20,FALSE)=\"\",\"\",VLOOKUP(A88,'plan gier'!A:T,20,FALSE)))","v":""},{"$f":"L5","v":0},{"$f":"IF(L4>36,41,\"\")","v":41},null,null,null,null,{"$f":"IF(K88=\"\",\"\",MAX(P6:P87)+1)","v":41},{"$f":"UPPER(IF(P88=\"\",\"\",IF(ISTEXT(L88),L88,IF(AND(L3>0,P88>0),VLOOKUP(L3&P88&J88,'grup-puch'!I:J,2,FALSE),\"\"))))","v":""},{"$f":"IF(Q88<>\"\",CONCATENATE(VLOOKUP(Q88,zawodnicy!$A:$E,2,FALSE),\" \",VLOOKUP(Q88,zawodnicy!$A:$E,3,FALSE),\" - \",VLOOKUP(Q88,zawodnicy!$A:$E,4,FALSE)),\"\")","v":""},null,{"$f":"IF(F88=\"\",\"\",VLOOKUP(F88,zawodnicy!$A:$D,3,FALSE))","v":""}]
[null,null,null,null,null,null,null,null,null,null,{"$f":"IF(L4>32,42,\"\")","v":42},null,null,null,null,{"$f":"IF(K89=\"\",\"\",MAX(P6:P88)+1)","v":42},{"$f":"UPPER(IF(P89=\"\",\"\",IF(ISTEXT(L89),L89,IF(AND(L3>0,P89>0),VLOOKUP(L3&P89&J88,'grup-puch'!I:J,2,FALSE),\"\"))))","v":""},{"$f":"IF(Q89<>\"\",CONCATENATE(VLOOKUP(Q89,zawodnicy!$A:$E,2,FALSE),\" \",VLOOKUP(Q89,zawodnicy!$A:$E,3,FALSE),\" - \",VLOOKUP(Q89,zawodnicy!$A:$E,4,FALSE)),\"\")","v":""},null,{"$f":"IF(H88=\"\",I88,H88)","v":""}]
[{"$f":"T90","v":0},{"$f":"F88","v":""},null,{"$f":"F92","v":""},null,{"$f":"IF(A90=0,IF(AND(LEN(B90)>0,LEN(D90)=0),B90,IF(AND(LEN(D90)>0,LEN(B90)=0),D90,\"\")),IF((VLOOKUP(A90,'plan gier'!$Z:$AH,7,FALSE))=\"\",\"\",VLOOKUP(VLOOKUP(A90,'plan gier'!$Z:$AH,7,FALSE),zawodnicy!$A:$E,1,FALSE)))","v":""},null,{"$f":"IF(A90=0,\"\",IF((VLOOKUP(A90,'plan gier'!$Z:$AH,7,FALSE))=\"\",\"\",VLOOKUP(A90,'plan gier'!$Z:$AH,9,FALSE)))","v":""},{"$f":"IF(A90=0,\"\",IF(VLOOKUP(A90,'plan gier'!A:T,20,FALSE)=\"\",\"\",VLOOKUP(A90,'plan gier'!A:T,20,FALSE)))","v":""},{"$f":"L5","v":0},null,null,null,null,null,null,null,null,null,null,{"$f":"IF(F90=\"\",\"\",VLOOKUP(F90,zawodnicy!$A:$D,3,FALSE))","v":""}]
[null,null,null,null,null,null,null,null,null,null,null,null,null,null,null,null,null,null,null,null,{"$f":"IF(H90=\"\",I90,H90)","v":""}]
[{"$f":"S92","v":0},{"$f":"IF(Q92=\"\",\"\",Q92)","v":""},null,{"$f":"IF(Q93=\"\",\"\",Q93)","v":""},null,{"$f":"IF(A92=0,IF(AND(LEN(B92)>0,LEN(D92)=0),VLOOKUP(B92,zawodnicy!$A:$E,1,FALSE),IF(AND(LEN(D92)>0,LEN(B92)=0),VLOOKUP(D92,zawodnicy!$A:$E,1,FALSE),\"\")),IF((VLOOKUP(A92,'plan gier'!$Z:$AH,7,FALSE))=\"\",\"\",VLOOKUP(VLOOKUP(A92,'plan gier'!$Z:$AH,7,FALSE),zawodnicy!$A:$E,1,FALSE)))","v":""},null,{"$f":"IF(A92=0,\"\",IF((VLOOKUP(A92,'plan gier'!$Z:$AH,7,FALSE))=\"\",\"\",VLOOKUP(A92,'plan gier'!$Z:$AH,9,FALSE)))","v":""},{"$f":"IF(A92=0,\"\",IF(VLOOKUP(A92,'plan gier'!A:T,20,FALSE)=\"\",\"\",VLOOKUP(A92,'plan gier'!A:T,20,FALSE)))","v":""},{"$f":"L5","v":0},{"$f":"IF(L4>44,43,\"\")","v":43},null,null,null,null,{"$f":"IF(K92=\"\",\"\",MAX(P6:P91)+1)","v":43},{"$f":"UPPER(IF(P92=\"\",\"\",IF(ISTEXT(L92),L92,IF(AND(L3>0,P92>0),VLOOKUP(L3&P92&J92,'grup-puch'!I:J,2,FALSE),\"\"))))","v":""},{"$f":"IF(Q92<>\"\",CONCATENATE(VLOOKUP(Q92,zawodnicy!$A:$E,2,FALSE),\" \",VLOOKUP(Q92,zawodnicy!$A:$E,3,FALSE),\" - \",VLOOKUP(Q92,zawodnicy!$A:$E,4,FALSE)),\"\")","v":""},null,{"$f":"IF(F92=\"\",\"\",VLOOKUP(F92,zawodnicy!$A:$D,3,FALSE))","v":""}]
[null,null,null,null,null,null,null,null,null,null,{"$f":"IF(L4>32,44,\"\")","v":44},null,null,null,null,{"$f":"IF(K93=\"\",\"\",MAX(P6:P92)+1)","v":44},{"$f":"UPPER(IF(P93=\"\",\"\",IF(ISTEXT(L93),L93,IF(AND(L3>0,P93>0),VLOOKUP(L3&P93&J92,'grup-puch'!I:J,2,FALSE),\"\"))))","v":""},{"$f":"IF(Q93<>\"\",CONCATENATE(VLOOKUP(Q93,zawodnicy!$A:$E,2,FALSE),\" \",VLOOKUP(Q93,zawodnicy!$A:$E,3,FALSE),\" - \",VLOOKUP(Q93,zawodnicy!$A:$E,4,FALSE)),\"\")","v":""},null,{"$f":"IF(H92=\"\",I92,H92)","v":""}]
[{"$f":"U94","v":0},{"$f":"F90","v":""},null,{"$f":"F98","v":""},null,{"$f":"IF(A94=0,IF(AND(LEN(B94)>0,LEN(D94)=0),B94,IF(AND(LEN(D94)>0,LEN(B94)=0),D94,\"\")),IF((VLOOKUP(A94,'plan gier'!$Z:$AH,7,FALSE))=\"\",\"\",VLOOKUP(VLOOKUP(A94,'plan gier'!$Z:$AH,7,FALSE),zawodnicy!$A:$E,1,FALSE)))","v":""},null,{"$f":"IF(A94=0,\"\",IF((VLOOKUP(A94,'plan gier'!$Z:$AH,7,FALSE))=\"\",\"\",VLOOKUP(A94,'plan gier'!$Z:$AH,9,FALSE)))","v":""},{"$f":"IF(A94=0,\"\",IF(VLOOKUP(A94,'plan gier'!A:T,20,FALSE)=\"\",\"\",VLOOKUP(A94,'plan gier'!A:T,20,FALSE)))","v":""},{"$f":"L5","v":0},null,null,null,null,null,null,null,null,null,null,null,{"$f":"IF(F94=\"\",\"\",VLOOKUP(F94,zawodnicy!$A:$D,3,FALSE))","v":""}]
[null,null,null,null,null,null,null,null,null,null,null,null,null,null,null,null,null,null,null,null,null,{"$f":"IF(H94=\"\",I94,H94)","v":""}]
[{"$f":"S96","v":0},{"$f":"IF(Q96=\"\",\"\",Q96)","v":""},null,{"$f":"IF(Q97=\"\",\"\",Q97)","v":""},null,{"$f":"IF(A96=0,IF(AND(LEN(B96)>0,LEN(D96)=0),VLOOKUP(B96,zawodnicy!$A:$E,1,FALSE),IF(AND(LEN(D96)>0,LEN(B96)=0),VLOOKUP(D96,zawodnicy!$A:$E,1,FALSE),\"\")),IF((VLOOKUP(A96,'plan gier'!$Z:$AH,7,FALSE))=\"\",\"\",VLOOKUP(VLOOKUP(A96,'plan gier'!$Z:$AH,7,FALSE),zawodnicy!$A:$E,1,FALSE)))","v":""},null,{"$f":"IF(A96=0,\"\",IF((VLOOKUP(A96,'plan gier'!$Z:$AH,7,FALSE))=\"\",\"\",VLOOKUP(A96,'plan gier'!$Z:$AH,9,FALSE)))","v":""},{"$f":"IF(A96=0,\"\",IF(VLOOKUP(A96,'plan gier'!A:T,20,FALSE)=\"\",\"\",VLOOKUP(A96,'plan gier'!A:T,20,FALSE)))","v":""},{"$f":"L5","v":0},{"$f":"IF(L4>52,45,\"\")","v":45},null,null,null,null,{"$f":"IF(K96=\"\",\"\",MAX(P6:P95)+1)","v":45},{"$f":"UPPER(IF(P96=\"\",\"\",IF(ISTEXT(L96),L96,IF(AND(L3>0,P96>0),VLOOKUP(L3&P96&J96,'grup-puch'!I:J,2,FALSE),\"\"))))","v":""},{"$f":"IF(Q96<>\"\",CONCATENATE(VLOOKUP(Q96,zawodnicy!$A:$E,2,FALSE),\" \",VLOOKUP(Q96,zawodnicy!$A:$E,3,FALSE),\" - \",VLOOKUP(Q96,zawodnicy!$A:$E,4,FALSE)),\"\")","v":""},null,{"$f":"IF(F96=\"\",\"\",VLOOKUP(F96,zawodnicy!$A:$D,3,FALSE))","v":""}]
[null,null,null,null,null,null,null,null,null,null,{"$f":"IF(L4>32,46,\"\")","v":46},null,null,null,null,{"$f":"IF(K97=\"\",\"\",MAX(P6:P96)+1)","v":46},{"$f":"UPPER(IF(P97=\"\",\"\",IF(ISTEXT(L97),L97,IF(AND(L3>0,P97>0),VLOOKUP(L3&P97&J96,'grup-puch'!I:J,2,FALSE),\"\"))))","v":""},{"$f":"IF(Q97<>\"\",CONCATENATE(VLOOKUP(Q97,zawodnicy!$A:$E,2,FALSE),\" \",VLOOKUP(Q97,zawodnicy!$A:$E,3,FALSE),\" - \",VLOOKUP(Q97,zawodnicy!$A:$E,4,FALSE)),\"\")","v":""},null,{"$f":"IF(H96=\"\",I96,H96)","v":""}]
[{"$f":"T98","v":0},{"$f":"F96","v":""},null,{"$f":"F100","v":""},null,{"$f":"IF(A98=0,IF(AND(LEN(B98)>0,LEN(D98)=0),B98,IF(AND(LEN(D98)>0,LEN(B98)=0),D98,\"\")),IF((VLOOKUP(A98,'plan gier'!$Z:$AH,7,FALSE))=\"\",\"\",VLOOKUP(VLOOKUP(A98,'plan gier'!$Z:$AH,7,FALSE),zawodnicy!$A:$E,1,FALSE)))","v":""},null,{"$f":"IF(A98=0,\"\",IF((VLOOKUP(A98,'plan gier'!$Z:$AH,7,FALSE))=\"\",\"\",VLOOKUP(A98,'plan gier'!$Z:$AH,9,FALSE)))","v":""},{"$f":"IF(A98=0,\"\",IF(VLOOKUP(A98,'plan gier'!A:T,20,FALSE)=\"\",\"\",VLOOKUP(A98,'plan gier'!A:T,20,FALSE)))","v":""},{"$f":"L5","v":0},null,null,null,null,null,null,null,null,null,null,{"$f":"IF(F98=\"\",\"\",VLOOKUP(F98,zawodnicy!$A:$D,3,FALSE))","v":""}]
[null,null,null,null,null,null,null,null,null,null,null,null,null,null,null,null,null,null,null,null,{"$f":"IF(H98=\"\",I98,H98)","v":""}]
[{"$f":"S100","v":0},{"$f":"IF(Q100=\"\",\"\",Q100)","v":""},null,{"$f":"IF(Q101=\"\",\"\",Q101)","v":""},null,{"$f":"IF(A100=0,IF(AND(LEN(B100)>0,LEN(D100)=0),VLOOKUP(B100,zawodnicy!$A:$E,1,FALSE),IF(AND(LEN(D100)>0,LEN(B100)=0),VLOOKUP(D100,zawodnicy!$A:$E,1,FALSE),\"\")),IF((VLOOKUP(A100,'plan gier'!$Z:$AH,7,FALSE))=\"\",\"\",VLOOKUP(VLOOKUP(A100,'plan gier'!$Z:$AH,7,FALSE),zawodnicy!$A:$E,1,FALSE)))","v":""},null,{"$f":"IF(A100=0,\"\",IF((VLOOKUP(A100,'plan gier'!$Z:$AH,7,FALSE))=\"\",\"\",VLOOKUP(A100,'plan gier'!$Z:$AH,9,FALSE)))","v":""},{"$f":"IF(A100=0,\"\",IF(VLOOKUP(A100,'plan gier'!A:T,20,FALSE)=\"\",\"\",VLOOKUP(A100,'plan gier'!A:T,20,FALSE)))","v":""},{"$f":"L5","v":0},{"$f":"IF(L4>60,47,\"\")","v":47},null,null,null,null,{"$f":"IF(K100=\"\",\"\",MAX(P6:P99)+1)","v":47},{"$f":"UPPER(IF(P100=\"\",\"\",IF(ISTEXT(L100),L100,IF(AND(L3>0,P100>0),VLOOKUP(L3&P100&J100,'grup-puch'!I:J,2,FALSE),\"\"))))","v":""},{"$f":"IF(Q100<>\"\",CONCATENATE(VLOOKUP(Q100,zawodnicy!$A:$E,2,FALSE),\" \",VLOOKUP(Q100,zawodnicy!$A:$E,3,FALSE),\" - \",VLOOKUP(Q100,zawodnicy!$A:$E,4,FALSE)),\"\")","v":""},null,{"$f":"IF(F100=\"\",\"\",VLOOKUP(F100,zawodnicy!$A:$D,3,FALSE))","v":""}]
[null,null,null,null,null,null,null,null,null,null,{"$f":"IF(L4>32,48,\"\")","v":48},null,null,null,null,{"$f":"IF(K101=\"\",\"\",MAX(P6:P100)+1)","v":48},{"$f":"UPPER(IF(P101=\"\",\"\",IF(ISTEXT(L101),L101,IF(AND(L3>0,P101>0),VLOOKUP(L3&P101&J100,'grup-puch'!I:J,2,FALSE),\"\"))))","v":""},{"$f":"IF(Q101<>\"\",CONCATENATE(VLOOKUP(Q101,zawodnicy!$A:$E,2,FALSE),\" \",VLOOKUP(Q101,zawodnicy!$A:$E,3,FALSE),\" - \",VLOOKUP(Q101,zawodnicy!$A:$E,4,FALSE)),\"\")","v":""},null,{"$f":"IF(H100=\"\",I100,H100)","v":""}]
[{"$f":"W102","v":0},{"$f":"F86","v":""},null,{"$f":"F118","v":""},null,{"$f":"IF(A102=0,IF(AND(LEN(B102)>0,LEN(D102)=0),B102,IF(AND(LEN(D102)>0,LEN(B102)=0),D102,\"\")),IF((VLOOKUP(A102,'plan gier'!$Z:$AH,7,FALSE))=\"\",\"\",VLOOKUP(VLOOKUP(A102,'plan gier'!$Z:$AH,7,FALSE),zawodnicy!$A:$E,1,FALSE)))","v":""},null,{"$f":"IF(A102=0,\"\",IF((VLOOKUP(A102,'plan gier'!$Z:$AH,7,FALSE))=\"\",\"\",VLOOKUP(A102,'plan gier'!$Z:$AH,9,FALSE)))","v":""},{"$f":"IF(A102=0,\"\",IF(VLOOKUP(A102,'plan gier'!A:T,20,FALSE)=\"\",\"\",VLOOKUP(A102,'plan gier'!A:T,20,FALSE)))","v":""},{"$f":"L5","v":0},null,null,null,null,null,null,null,null,null,null,null,null,null,{"$f":"IF(F102=\"\",\"\",VLOOKUP(F102,zawodnicy!$A:$D,3,FALSE))","v":""}]
[null,null,null,null,null,null,null,null,null,null,null,null,null,null,null,null,null,null,null,null,null,null,null,{"$f":"IF(H102=\"\",I102,H102)","v":""}]
[{"$f":"S104","v":0},{"$f":"IF(Q104=\"\",\"\",Q104)","v":""},null,{"$f":"IF(Q105=\"\",\"\",Q105)","v":""},null,{"$f":"IF(A104=0,IF(AND(LEN(B104)>0,LEN(D104)=0),VLOOKUP(B104,zawodnicy!$A:$E,1,FALSE),IF(AND(LEN(D104)>0,LEN(B104)=0),VLOOKUP(D104,zawodnicy!$A:$E,1,FALSE),\"\")),IF((VLOOKUP(A104,'plan gier'!$Z:$AH,7,FALSE))=\"\",\"\",VLOOKUP(VLOOKUP(A104,'plan gier'!$Z:$AH,7,FALSE),zawodnicy!$A:$E,1,FALSE)))","v":""},null,{"$f":"IF(A104=0,\"\",IF((VLOOKUP(A104,'plan gier'!$Z:$AH,7,FALSE))=\"\",\"\",VLOOKUP(A104,'plan gier'!$Z:$AH,9,FALSE)))","v":""},{"$f":"IF(A104=0,\"\",IF(VLOOKUP(A104,'plan gier'!A:T,20,FALSE)=\"\",\"\",VLOOKUP(A104,'plan gier'!A:T,20,FALSE)))","v":""},{"$f":"L5","v":0},{"$f":"IF(L4>34,49,\"\")","v":49},null,null,null,null,{"$f":"IF(K104=\"\",\"\",MAX(P6:P103)+1)","v":49},{"$f":"UPPER(IF(P104=\"\",\"\",IF(ISTEXT(L104),L104,IF(AND(L3>0,P104>0),VLOOKUP(L3&P104&J104,'grup-puch'!I:J,2,FALSE),\"\"))))","v":""},{"$f":"IF(Q104<>\"\",CONCATENATE(VLOOKUP(Q104,zawodnicy!$A:$E,2,FALSE),\" \",VLOOKUP(Q104,zawodnicy!$A:$E,3,FALSE),\" - \",VLOOKUP(Q104,zawodnicy!$A:$E,4,FALSE)),\"\")","v":""},null,{"$f":"IF(F104=\"\",\"\",VLOOKUP(F104,zawodnicy!$A:$D,3,FALSE))","v":""}]
[null,null,null,null,null,null,null,null,null,null,{"$f":"IF(L4>32,50,\"\")","v":50},null,null,null,null,{"$f":"IF(K105=\"\",\"\",MAX(P6:P104)+1)","v":50},{"$f":"UPPER(IF(P105=\"\",\"\",IF(ISTEXT(L105),L105,IF(AND(L3>0,P105>0),VLOOKUP(L3&P105&J104,'grup-puch'!I:J,2,FALSE),\"\"))))","v":""},{"$f":"IF(Q105<>\"\",CONCATENATE(VLOOKUP(Q105,zawodnicy!$A:$E,2,FALSE),\" \",VLOOKUP(Q105,zawodnicy!$A:$E,3,FALSE),\" - \",VLOOKUP(Q105,zawodnicy!$A:$E,4,FALSE)),\"\")","v":""},null,{"$f":"IF(H104=\"\",I104,H104)","v":""}]
[{"$f":"T106","v":0},{"$f":"F104","v":""},null,{"$f":"F108","v":""},null,{"$f":"IF(A106=0,IF(AND(LEN(B106)>0,LEN(D106)=0),B106,IF(AND(LEN(D106)>0,LEN(B106)=0),D106,\"\")),IF((VLOOKUP(A106,'plan gier'!$Z:$AH,7,FALSE))=\"\",\"\",VLOOKUP(VLOOKUP(A106,'plan gier'!$Z:$AH,7,FALSE),zawodnicy!$A:$E,1,FALSE)))","v":""},null,{"$f":"IF(A106=0,\"\",IF((VLOOKUP(A106,'plan gier'!$Z:$AH,7,FALSE))=\"\",\"\",VLOOKUP(A106,'plan gier'!$Z:$AH,9,FALSE)))","v":""},{"$f":"IF(A106=0,\"\",IF(VLOOKUP(A106,'plan gier'!A:T,20,FALSE)=\"\",\"\",VLOOKUP(A106,'plan gier'!A:T,20,FALSE)))","v":""},{"$f":"L5","v":0},null,null,null,null,null,null,null,null,null,null,{"$f":"IF(F106=\"\",\"\",VLOOKUP(F106,zawodnicy!$A:$D,3,FALSE))","v":""}]
[null,null,null,null,null,null,null,null,null,null,null,null,null,null,null,null,null,null,null,null,{"$f":"IF(H106=\"\",I106,H106)","v":""}]
[{"$f":"S108","v":0},{"$f":"IF(Q108=\"\",\"\",Q108)","v":""},null,{"$f":"IF(Q109=\"\",\"\",Q109)","v":""},null,{"$f":"IF(A108=0,IF(AND(LEN(B108)>0,LEN(D108)=0),VLOOKUP(B108,zawodnicy!$A:$E,1,FALSE),IF(AND(LEN(D108)>0,LEN(B108)=0),VLOOKUP(D108,zawodnicy!$A:$E,1,FALSE),\"\")),IF((VLOOKUP(A108,'plan gier'!$Z:$AH,7,FALSE))=\"\",\"\",VLOOKUP(VLOOKUP(A108,'plan gier'!$Z:$AH,7,FALSE),zawodnicy!$A:$E,1,FALSE)))","v":""},null,{"$f":"IF(A108=0,\"\",IF((VLOOKUP(A108,'plan gier'!$Z:$AH,7,FALSE))=\"\",\"\",VLOOKUP(A108,'plan gier'!$Z:$AH,9,FALSE)))","v":""},{"$f":"IF(A108=0,\"\",IF(VLOOKUP(A108,'plan gier'!A:T,20,FALSE)=\"\",\"\",VLOOKUP(A108,'plan gier'!A:T,20,FALSE)))","v":""},{"$f":"L5","v":0},{"$f":"IF(L4>42,51,\"\")","v":51},null,null,null,null,{"$f":"IF(K108=\"\",\"\",MAX(P6:P107)+1)","v":51},{"$f":"UPPER(IF(P108=\"\",\"\",IF(ISTEXT(L108),L108,IF(AND(L3>0,P108>0),VLOOKUP(L3&P108&J108,'grup-puch'!I:J,2,FALSE),\"\"))))","v":""},{"$f":"IF(Q108<>\"\",CONCATENATE(VLOOKUP(Q108,zawodnicy!$A:$E,2,FALSE),\" \",VLOOKUP(Q108,zawodnicy!$A:$E,3,FALSE),\" - \",VLOOKUP(Q108,zawodnicy!$A:$E,4,FALSE)),\"\")","v":""},null,{"$f":"IF(F108=\"\",\"\",VLOOKUP(F108,zawodnicy!$A:$D,3,FALSE))","v":""}]
[null,null,null,null,null,null,null,null,null,null,{"$f":"IF(L4>32,52,\"\")","v":52},null,null,null,null,{"$f":"IF(K109=\"\",\"\",MAX(P6:P108)+1)","v":52},{"$f":"UPPER(IF(P109=\"\",\"\",IF(ISTEXT(L109),L109,IF(AND(L3>0,P109>0),VLOOKUP(L3&P109&J108,'grup-puch'!I:J,2,FALSE),\"\"))))","v":""},{"$f":"IF(Q109<>\"\",CONCATENATE(VLOOKUP(Q109,zawodnicy!$A:$E,2,FALSE),\" \",VLOOKUP(Q109,zawodnicy!$A:$E,3,FALSE),\" - \",VLOOKUP(Q109,zawodnicy!$A:$E,4,FALSE)),\"\")","v":""},null,{"$f":"IF(H108=\"\",I108,H108)","v":""}]
[{"$f":"U110","v":0},{"$f":"F106","v":""},null,{"$f":"F114","v":""},null,{"$f":"IF(A110=0,IF(AND(LEN(B110)>0,LEN(D110)=0),B110,IF(AND(LEN(D110)>0,LEN(B110)=0),D110,\"\")),IF((VLOOKUP(A110,'plan gier'!$Z:$AH,7,FALSE))=\"\",\"\",VLOOKUP(VLOOKUP(A110,'plan gier'!$Z:$AH,7,FALSE),zawodnicy!$A:$E,1,FALSE)))","v":""},null,{"$f":"IF(A110=0,\"\",IF((VLOOKUP(A110,'plan gier'!$Z:$AH,7,FALSE))=\"\",\"\",VLOOKUP(A110,'plan gier'!$Z:$AH,9,FALSE)))","v":""},{"$f":"IF(A110=0,\"\",IF(VLOOKUP(A110,'plan gier'!A:T,20,FALSE)=\"\",\"\",VLOOKUP(A110,'plan gier'!A:T,20,FALSE)))","v":""},{"$f":"L5","v":0},null,null,null,null,null,null,null,null,null,null,null,{"$f":"IF(F110=\"\",\"\",VLOOKUP(F110,zawodnicy!$A:$D,3,FALSE))","v":""}]
[null,null,null,null,null,null,null,null,null,null,null,null,null,null,null,null,null,null,null,null,null,{"$f":"IF(H110=\"\",I110,H110)","v":""}]
[{"$f":"S112","v":0},{"$f":"IF(Q112=\"\",\"\",Q112)","v":""},null,{"$f":"IF(Q113=\"\",\"\",Q113)","v":""},null,{"$f":"IF(A112=0,IF(AND(LEN(B112)>0,LEN(D112)=0),VLOOKUP(B112,zawodnicy!$A:$E,1,FALSE),IF(AND(LEN(D112)>0,LEN(B112)=0),VLOOKUP(D112,zawodnicy!$A:$E,1,FALSE),\"\")),IF((VLOOKUP(A112,'plan gier'!$Z:$AH,7,FALSE))=\"\",\"\",VLOOKUP(VLOOKUP(A112,'plan gier'!$Z:$AH,7,FALSE),zawodnicy!$A:$E,1,FALSE)))","v":""},null,{"$f":"IF(A112=0,\"\",IF((VLOOKUP(A112,'plan gier'!$Z:$AH,7,FALSE))=\"\",\"\",VLOOKUP(A112,'plan gier'!$Z:$AH,9,FALSE)))","v":""},{"$f":"IF(A112=0,\"\",IF(VLOOKUP(A112,'plan gier'!A:T,20,FALSE)=\"\",\"\",VLOOKUP(A112,'plan gier'!A:T,20,FALSE)))","v":""},{"$f":"L5","v":0},{"$f":"IF(L4>50,53,\"\")","v":53},null,null,null,null,{"$f":"IF(K112=\"\",\"\",MAX(P6:P111)+1)","v":53},{"$f":"UPPER(IF(P112=\"\",\"\",IF(ISTEXT(L112),L112,IF(AND(L3>0,P112>0),VLOOKUP(L3&P112&J112,'grup-puch'!I:J,2,FALSE),\"\"))))","v":""},{"$f":"IF(Q112<>\"\",CONCATENATE(VLOOKUP(Q112,zawodnicy!$A:$E,2,FALSE),\" \",VLOOKUP(Q112,zawodnicy!$A:$E,3,FALSE),\" - \",VLOOKUP(Q112,zawodnicy!$A:$E,4,FALSE)),\"\")","v":""},null,{"$f":"IF(F112=\"\",\"\",VLOOKUP(F112,zawodnicy!$A:$D,3,FALSE))","v":""}]
[null,null,null,null,null,null,null,null,null,null,{"$f":"IF(L4>32,54,\"\")","v":54},null,null,null,null,{"$f":"IF(K113=\"\",\"\",MAX(P6:P112)+1)","v":54},{"$f":"UPPER(IF(P113=\"\",\"\",IF(ISTEXT(L113),L113,IF(AND(L3>0,P113>0),VLOOKUP(L3&P113&J112,'grup-puch'!I:J,2,FALSE),\"\"))))","v":""},{"$f":"IF(Q113<>\"\",CONCATENATE(VLOOKUP(Q113,zawodnicy!$A:$E,2,FALSE),\" \",VLOOKUP(Q113,zawodnicy!$A:$E,3,FALSE),\" - \",VLOOKUP(Q113,zawodnicy!$A:$E,4,FALSE)),\"\")","v":""},null,{"$f":"IF(H112=\"\",I112,H112)","v":""}]
[{"$f":"T114","v":0},{"$f":"F112","v":""},null,{"$f":"F116","v":""},null,{"$f":"IF(A114=0,IF(AND(LEN(B114)>0,LEN(D114)=0),B114,IF(AND(LEN(D114)>0,LEN(B114)=0),D114,\"\")),IF((VLOOKUP(A114,'plan gier'!$Z:$AH,7,FALSE))=\"\",\"\",VLOOKUP(VLOOKUP(A114,'plan gier'!$Z:$AH,7,FALSE),zawodnicy!$A:$E,1,FALSE)))","v":""},null,{"$f":"IF(A114=0,\"\",IF((VLOOKUP(A114,'plan gier'!$Z:$AH,7,FALSE))=\"\",\"\",VLOOKUP(A114,'plan gier'!$Z:$AH,9,FALSE)))","v":""},{"$f":"IF(A114=0,\"\",IF(VLOOKUP(A114,'plan gier'!A:T,20,FALSE)=\"\",\"\",VLOOKUP(A114,'plan gier'!A:T,20,FALSE)))","v":""},{"$f":"L5","v":0},null,null,null,null,null,null,null,null,null,null,{"$f":"IF(F114=\"\",\"\",VLOOKUP(F114,zawodnicy!$A:$D,3,FALSE))","v":""}]
[null,null,null,null,null,null,null,null,null,null,null,null,null,null,null,null,null,null,null,null,{"$f":"IF(H114=\"\",I114,H114)","v":""}]
[{"$f":"S116","v":0},{"$f":"IF(Q116=\"\",\"\",Q116)","v":""},null,{"$f":"IF(Q117=\"\",\"\",Q117)","v":""},null,{"$f":"IF(A116=0,IF(AND(LEN(B116)>0,LEN(D116)=0),VLOOKUP(B116,zawodnicy!$A:$E,1,FALSE),IF(AND(LEN(D116)>0,LEN(B116)=0),VLOOKUP(D116,zawodnicy!$A:$E,1,FALSE),\"\")),IF((VLOOKUP(A116,'plan gier'!$Z:$AH,7,FALSE))=\"\",\"\",VLOOKUP(VLOOKUP(A116,'plan gier'!$Z:$AH,7,FALSE),zawodnicy!$A:$E,1,FALSE)))","v":""},null,{"$f":"IF(A116=0,\"\",IF((VLOOKUP(A116,'plan gier'!$Z:$AH,7,FALSE))=\"\",\"\",VLOOKUP(A116,'plan gier'!$Z:$AH,9,FALSE)))","v":""},{"$f":"IF(A116=0,\"\",IF(VLOOKUP(A116,'plan gier'!A:T,20,FALSE)=\"\",\"\",VLOOKUP(A116,'plan gier'!A:T,20,FALSE)))","v":""},{"$f":"L5","v":0},{"$f":"IF(L4>58,55,\"\")","v":55},null,null,null,null,{"$f":"IF(K116=\"\",\"\",MAX(P6:P115)+1)","v":55},{"$f":"UPPER(IF(P116=\"\",\"\",IF(ISTEXT(L116),L116,IF(AND(L3>0,P116>0),VLOOKUP(L3&P116&J116,'grup-puch'!I:J,2,FALSE),\"\"))))","v":""},{"$f":"IF(Q116<>\"\",CONCATENATE(VLOOKUP(Q116,zawodnicy!$A:$E,2,FALSE),\" \",VLOOKUP(Q116,zawodnicy!$A:$E,3,FALSE),\" - \",VLOOKUP(Q116,zawodnicy!$A:$E,4,FALSE)),\"\")","v":""},null,{"$f":"IF(F116=\"\",\"\",VLOOKUP(F116,zawodnicy!$A:$D,3,FALSE))","v":""}]
[null,null,null,null,null,null,null,null,null,null,{"$f":"IF(L4>32,56,\"\")","v":56},null,null,null,null,{"$f":"IF(K117=\"\",\"\",MAX(P6:P116)+1)","v":56},{"$f":"UPPER(IF(P117=\"\",\"\",IF(ISTEXT(L117),L117,IF(AND(L3>0,P117>0),VLOOKUP(L3&P117&J116,'grup-puch'!I:J,2,FALSE),\"\"))))","v":""},{"$f":"IF(Q117<>\"\",CONCATENATE(VLOOKUP(Q117,zawodnicy!$A:$E,2,FALSE),\" \",VLOOKUP(Q117,zawodnicy!$A:$E,3,FALSE),\" - \",VLOOKUP(Q117,zawodnicy!$A:$E,4,FALSE)),\"\")","v":""},null,{"$f":"IF(H116=\"\",I116,H116)","v":""}]
[{"$f":"V118","v":0},{"$f":"F110","v":""},null,{"$f":"F126","v":""},null,{"$f":"IF(A118=0,IF(AND(LEN(B118)>0,LEN(D118)=0),B118,IF(AND(LEN(D118)>0,LEN(B118)=0),D118,\"\")),IF((VLOOKUP(A118,'plan gier'!$Z:$AH,7,FALSE))=\"\",\"\",VLOOKUP(VLOOKUP(A118,'plan gier'!$Z:$AH,7,FALSE),zawodnicy!$A:$E,1,FALSE)))","v":""},null,{"$f":"IF(A118=0,\"\",IF((VLOOKUP(A118,'plan gier'!$Z:$AH,7,FALSE))=\"\",\"\",VLOOKUP(A118,'plan gier'!$Z:$AH,9,FALSE)))","v":""},{"$f":"IF(A118=0,\"\",IF(VLOOKUP(A118,'plan gier'!A:T,20,FALSE)=\"\",\"\",VLOOKUP(A118,'plan gier'!A:T,20,FALSE)))","v":""},{"$f":"L5","v":0},null,null,null,null,null,null,null,null,null,null,null,null,{"$f":"IF(F118=\"\",\"\",VLOOKUP(F118,zawodnicy!$A:$D,3,FALSE))","v":""}]
[null,null,null,null,null,null,null,null,null,null,null,null,null,null,null,null,null,null,null,null,null,null,{"$f":"IF(H118=\"\",I118,H118)","v":""}]
[{"$f":"S120","v":0},{"$f":"IF(Q120=\"\",\"\",Q120)","v":""},null,{"$f":"IF(Q121=\"\",\"\",Q121)","v":""},null,{"$f":"IF(A120=0,IF(AND(LEN(B120)>0,LEN(D120)=0),VLOOKUP(B120,zawodnicy!$A:$E,1,FALSE),IF(AND(LEN(D120)>0,LEN(B120)=0),VLOOKUP(D120,zawodnicy!$A:$E,1,FALSE),\"\")),IF((VLOOKUP(A120,'plan gier'!$Z:$AH,7,FALSE))=\"\",\"\",VLOOKUP(VLOOKUP(A120,'plan gier'!$Z:$AH,7,FALSE),zawodnicy!$A:$E,1,FALSE)))","v":""},null,{"$f":"IF(A120=0,\"\",IF((VLOOKUP(A120,'plan gier'!$Z:$AH,7,FALSE))=\"\",\"\",VLOOKUP(A120,'plan gier'!$Z:$AH,9,FALSE)))","v":""},{"$f":"IF(A120=0,\"\",IF(VLOOKUP(A120,'plan gier'!A:T,20,FALSE)=\"\",\"\",VLOOKUP(A120,'plan gier'!A:T,20,FALSE)))","v":""},{"$f":"L5","v":0},{"$f":"IF(L4>38,57,\"\")","v":57},null,null,null,null,{"$f":"IF(K120=\"\",\"\",MAX(P6:P119)+1)","v":57},{"$f":"UPPER(IF(P120=\"\",\"\",IF(ISTEXT(L120),L120,IF(AND(L3>0,P120>0),VLOOKUP(L3&P120&J120,'grup-puch'!I:J,2,FALSE),\"\"))))","v":""},{"$f":"IF(Q120<>\"\",CONCATENATE(VLOOKUP(Q120,zawodnicy!$A:$E,2,FALSE),\" \",VLOOKUP(Q120,zawodnicy!$A:$E,3,FALSE),\" - \",VLOOKUP(Q120,zawodnicy!$A:$E,4,FALSE)),\"\")","v":""},null,{"$f":"IF(F120=\"\",\"\",VLOOKUP(F120,zawodnicy!$A:$D,3,FALSE))","v":""}]
[null,null,null,null,null,null,null,null,null,null,{"$f":"IF(L4>32,58,\"\")","v":58},null,null,null,null,{"$f":"IF(K121=\"\",\"\",MAX(P6:P120)+1)","v":58},{"$f":"UPPER(IF(P121=\"\",\"\",IF(ISTEXT(L121),L121,IF(AND(L3>0,P121>0),VLOOKUP(L3&P121&J120,'grup-puch'!I:J,2,FALSE),\"\"))))","v":""},{"$f":"IF(Q121<>\"\",CONCATENATE(VLOOKUP(Q121,zawodnicy!$A:$E,2,FALSE),\" \",VLOOKUP(Q121,zawodnicy!$A:$E,3,FALSE),\" - \",VLOOKUP(Q121,zawodnicy!$A:$E,4,FALSE)),\"\")","v":""},null,{"$f":"IF(H120=\"\",I120,H120)","v":""}]
[{"$f":"T122","v":0},{"$f":"F120","v":""},null,{"$f":"F124","v":""},null,{"$f":"IF(A122=0,IF(AND(LEN(B122)>0,LEN(D122)=0),B122,IF(AND(LEN(D122)>0,LEN(B122)=0),D122,\"\")),IF((VLOOKUP(A122,'plan gier'!$Z:$AH,7,FALSE))=\"\",\"\",VLOOKUP(VLOOKUP(A122,'plan gier'!$Z:$AH,7,FALSE),zawodnicy!$A:$E,1,FALSE)))","v":""},null,{"$f":"IF(A122=0,\"\",IF((VLOOKUP(A122,'plan gier'!$Z:$AH,7,FALSE))=\"\",\"\",VLOOKUP(A122,'plan gier'!$Z:$AH,9,FALSE)))","v":""},{"$f":"IF(A122=0,\"\",IF(VLOOKUP(A122,'plan gier'!A:T,20,FALSE)=\"\",\"\",VLOOKUP(A122,'plan gier'!A:T,20,FALSE)))","v":""},{"$f":"L5","v":0},null,null,null,null,null,null,null,null,null,null,{"$f":"IF(F122=\"\",\"\",VLOOKUP(F122,zawodnicy!$A:$D,3,FALSE))","v":""}]
[null,null,null,null,null,null,null,null,null,null,null,null,null,null,null,null,null,null,null,null,{"$f":"IF(H122=\"\",I122,H122)","v":""}]
[{"$f":"S124","v":0},{"$f":"IF(Q124=\"\",\"\",Q124)","v":""},null,{"$f":"IF(Q125=\"\",\"\",Q125)","v":""},null,{"$f":"IF(A124=0,IF(AND(LEN(B124)>0,LEN(D124)=0),VLOOKUP(B124,zawodnicy!$A:$E,1,FALSE),IF(AND(LEN(D124)>0,LEN(B124)=0),VLOOKUP(D124,zawodnicy!$A:$E,1,FALSE),\"\")),IF((VLOOKUP(A124,'plan gier'!$Z:$AH,7,FALSE))=\"\",\"\",VLOOKUP(VLOOKUP(A124,'plan gier'!$Z:$AH,7,FALSE),zawodnicy!$A:$E,1,FALSE)))","v":""},null,{"$f":"IF(A124=0,\"\",IF((VLOOKUP(A124,'plan gier'!$Z:$AH,7,FALSE))=\"\",\"\",VLOOKUP(A124,'plan gier'!$Z:$AH,9,FALSE)))","v":""},{"$f":"IF(A124=0,\"\",IF(VLOOKUP(A124,'plan gier'!A:T,20,FALSE)=\"\",\"\",VLOOKUP(A124,'plan gier'!A:T,20,FALSE)))","v":""},{"$f":"L5","v":0},{"$f":"IF(L4>46,59,\"\")","v":59},null,null,null,null,{"$f":"IF(K124=\"\",\"\",MAX(P6:P123)+1)","v":59},{"$f":"UPPER(IF(P124=\"\",\"\",IF(ISTEXT(L124),L124,IF(AND(L3>0,P124>0),VLOOKUP(L3&P124&J124,'grup-puch'!I:J,2,FALSE),\"\"))))","v":""},{"$f":"IF(Q124<>\"\",CONCATENATE(VLOOKUP(Q124,zawodnicy!$A:$E,2,FALSE),\" \",VLOOKUP(Q124,zawodnicy!$A:$E,3,FALSE),\" - \",VLOOKUP(Q124,zawodnicy!$A:$E,4,FALSE)),\"\")","v":""},null,{"$f":"IF(F124=\"\",\"\",VLOOKUP(F124,zawodnicy!$A:$D,3,FALSE))","v":""}]
[null,null,null,null,null,null,null,null,null,null,{"$f":"IF(L4>32,60,\"\")","v":60},null,null,null,null,{"$f":"IF(K125=\"\",\"\",MAX(P6:P124)+1)","v":60},{"$f":"UPPER(IF(P125=\"\",\"\",IF(ISTEXT(L125),L125,IF(AND(L3>0,P125>0),VLOOKUP(L3&P125&J124,'grup-puch'!I:J,2,FALSE),\"\"))))","v":""},{"$f":"IF(Q125<>\"\",CONCATENATE(VLOOKUP(Q125,zawodnicy!$A:$E,2,FALSE),\" \",VLOOKUP(Q125,zawodnicy!$A:$E,3,FALSE),\" - \",VLOOKUP(Q125,zawodnicy!$A:$E,4,FALSE)),\"\")","v":""},null,{"$f":"IF(H124=\"\",I124,H124)","v":""}]
[{"$f":"U126","v":0},{"$f":"F122","v":""},null,{"$f":"F130","v":""},null,{"$f":"IF(A126=0,IF(AND(LEN(B126)>0,LEN(D126)=0),B126,IF(AND(LEN(D126)>0,LEN(B126)=0),D126,\"\")),IF((VLOOKUP(A126,'plan gier'!$Z:$AH,7,FALSE))=\"\",\"\",VLOOKUP(VLOOKUP(A126,'plan gier'!$Z:$AH,7,FALSE),zawodnicy!$A:$E,1,FALSE)))","v":""},null,{"$f":"IF(A126=0,\"\",IF((VLOOKUP(A126,'plan gier'!$Z:$AH,7,FALSE))=\"\",\"\",VLOOKUP(A126,'plan gier'!$Z:$AH,9,FALSE)))","v":""},{"$f":"IF(A126=0,\"\",IF(VLOOKUP(A126,'plan gier'!A:T,20,FALSE)=\"\",\"\",VLOOKUP(A126,'plan gier'!A:T,20,FALSE)))","v":""},{"$f":"L5","v":0},null,null,null,null,null,null,null,null,null,null,null,{"$f":"IF(F126=\"\",\"\",VLOOKUP(F126,zawodnicy!$A:$D,3,FALSE))","v":""}]
[null,null,null,null,null,null,null,null,null,null,null,null,null,null,null,null,null,null,null,null,null,{"$f":"IF(H126=\"\",I126,H126)","v":""}]
[{"$f":"S128","v":0},{"$f":"IF(Q128=\"\",\"\",Q128)","v":""},null,{"$f":"IF(Q129=\"\",\"\",Q129)","v":""},null,{"$f":"IF(A128=0,IF(AND(LEN(B128)>0,LEN(D128)=0),VLOOKUP(B128,zawodnicy!$A:$E,1,FALSE),IF(AND(LEN(D128)>0,LEN(B128)=0),VLOOKUP(D128,zawodnicy!$A:$E,1,FALSE),\"\")),IF((VLOOKUP(A128,'plan gier'!$Z:$AH,7,FALSE))=\"\",\"\",VLOOKUP(VLOOKUP(A128,'plan gier'!$Z:$AH,7,FALSE),zawodnicy!$A:$E,1,FALSE)))","v":""},null,{"$f":"IF(A128=0,\"\",IF((VLOOKUP(A128,'plan gier'!$Z:$AH,7,FALSE))=\"\",\"\",VLOOKUP(A128,'plan gier'!$Z:$AH,9,FALSE)))","v":""},{"$f":"IF(A128=0,\"\",IF(VLOOKUP(A128,'plan gier'!A:T,20,FALSE)=\"\",\"\",VLOOKUP(A128,'plan gier'!A:T,20,FALSE)))","v":""},{"$f":"L5","v":0},{"$f":"IF(L4>54,61,\"\")","v":61},null,null,null,null,{"$f":"IF(K128=\"\",\"\",MAX(P6:P127)+1)","v":61},{"$f":"UPPER(IF(P128=\"\",\"\",IF(ISTEXT(L128),L128,IF(AND(L3>0,P128>0),VLOOKUP(L3&P128&J128,'grup-puch'!I:J,2,FALSE),\"\"))))","v":""},{"$f":"IF(Q128<>\"\",CONCATENATE(VLOOKUP(Q128,zawodnicy!$A:$E,2,FALSE),\" \",VLOOKUP(Q128,zawodnicy!$A:$E,3,FALSE),\" - \",VLOOKUP(Q128,zawodnicy!$A:$E,4,FALSE)),\"\")","v":""},null,{"$f":"IF(F128=\"\",\"\",VLOOKUP(F128,zawodnicy!$A:$D,3,FALSE))","v":""}]
[null,null,null,null,null,null,null,null,null,null,{"$f":"IF(L4>32,62,\"\")","v":62},null,null,null,null,{"$f":"IF(K129=\"\",\"\",MAX(P6:P128)+1)","v":62},{"$f":"UPPER(IF(P129=\"\",\"\",IF(ISTEXT(L129),L129,IF(AND(L3>0,P129>0),VLOOKUP(L3&P129&J128,'grup-puch'!I:J,2,FALSE),\"\"))))","v":""},{"$f":"IF(Q129<>\"\",CONCATENATE(VLOOKUP(Q129,zawodnicy!$A:$E,2,FALSE),\" \",VLOOKUP(Q129,zawodnicy!$A:$E,3,FALSE),\" - \",VLOOKUP(Q129,zawodnicy!$A:$E,4,FALSE)),\"\")","v":""},null,{"$f":"IF(H128=\"\",I128,H128)","v":""}]
[{"$f":"T130","v":0},{"$f":"F128","v":""},null,{"$f":"F132","v":""},null,{"$f":"IF(A130=0,IF(AND(LEN(B130)>0,LEN(D130)=0),B130,IF(AND(LEN(D130)>0,LEN(B130)=0),D130,\"\")),IF((VLOOKUP(A130,'plan gier'!$Z:$AH,7,FALSE))=\"\",\"\",VLOOKUP(VLOOKUP(A130,'plan gier'!$Z:$AH,7,FALSE),zawodnicy!$A:$E,1,FALSE)))","v":""},null,{"$f":"IF(A130=0,\"\",IF((VLOOKUP(A130,'plan gier'!$Z:$AH,7,FALSE))=\"\",\"\",VLOOKUP(A130,'plan gier'!$Z:$AH,9,FALSE)))","v":""},{"$f":"IF(A130=0,\"\",IF(VLOOKUP(A130,'plan gier'!A:T,20,FALSE)=\"\",\"\",VLOOKUP(A130,'plan gier'!A:T,20,FALSE)))","v":""},{"$f":"L5","v":0},null,null,null,null,null,null,null,null,null,null,{"$f":"IF(F130=\"\",\"\",VLOOKUP(F130,zawodnicy!$A:$D,3,FALSE))","v":""}]
[null,null,null,null,null,null,null,null,null,null,null,null,null,null,null,null,null,null,null,null,{"$f":"IF(H130=\"\",I130,H130)","v":""}]
[{"$f":"S132","v":0},{"$f":"IF(Q132=\"\",\"\",Q132)","v":""},null,{"$f":"IF(Q133=\"\",\"\",Q133)","v":""},null,{"$f":"IF(A132=0,IF(AND(LEN(B132)>0,LEN(D132)=0),VLOOKUP(B132,zawodnicy!$A:$E,1,FALSE),IF(AND(LEN(D132)>0,LEN(B132)=0),VLOOKUP(D132,zawodnicy!$A:$E,1,FALSE),\"\")),IF((VLOOKUP(A132,'plan gier'!$Z:$AH,7,FALSE))=\"\",\"\",VLOOKUP(VLOOKUP(A132,'plan gier'!$Z:$AH,7,FALSE),zawodnicy!$A:$E,1,FALSE)))","v":""},null,{"$f":"IF(A132=0,\"\",IF((VLOOKUP(A132,'plan gier'!$Z:$AH,7,FALSE))=\"\",\"\",VLOOKUP(A132,'plan gier'!$Z:$AH,9,FALSE)))","v":""},{"$f":"IF(A132=0,\"\",IF(VLOOKUP(A132,'plan gier'!A:T,20,FALSE)=\"\",\"\",VLOOKUP(A132,'plan gier'!A:T,20,FALSE)))","v":""},{"$f":"L5","v":0},{"$f":"IF(L4>62,63,\"\")","v":63},null,null,null,null,{"$f":"IF(K132=\"\",\"\",MAX(P6:P131)+1)","v":63},{"$f":"UPPER(IF(P132=\"\",\"\",IF(ISTEXT(L132),L132,IF(AND(L3>0,P132>0),VLOOKUP(L3&P132&J132,'grup-puch'!I:J,2,FALSE),\"\"))))","v":""},{"$f":"IF(Q132<>\"\",CONCATENATE(VLOOKUP(Q132,zawodnicy!$A:$E,2,FALSE),\" \",VLOOKUP(Q132,zawodnicy!$A:$E,3,FALSE),\" - \",VLOOKUP(Q132,zawodnicy!$A:$E,4,FALSE)),\"\")","v":""},null,{"$f":"IF(F132=\"\",\"\",VLOOKUP(F132,zawodnicy!$A:$D,3,FALSE))","v":""},null,"Sędzia główny"]
[null,null,null,null,null,null,null,null,null,null,{"$f":"IF(L4>32,64,\"\")","v":64},null,null,null,null,{"$f":"IF(K133=\"\",\"\",MAX(P6:P132)+1)","v":64},{"$f":"UPPER(IF(P133=\"\",\"\",IF(ISTEXT(L133),L133,IF(AND(L3>0,P133>0),VLOOKUP(L3&P133&J132,'grup-puch'!I:J,2,FALSE),\"\"))))","v":""},{"$f":"IF(Q133<>\"\",CONCATENATE(VLOOKUP(Q133,zawodnicy!$A:$E,2,FALSE),\" \",VLOOKUP(Q133,zawodnicy!$A:$E,3,FALSE),\" - \",VLOOKUP(Q133,zawodnicy!$A:$E,4,FALSE)),\"\")","v":""},null,{"$f":"IF(H132=\"\",I132,H132)","v":""},null,{"$f":"IF(ISBLANK(dane!$D$4),\"\",dane!$D$4)","v":"Marek Krawczyk"}]
[]
[]
[null,null,null,null,null,null,null,null,null,null,null,32]
[]
[{"$f":"S138","v":0},{"$f":"IF(Q138=\"\",\"\",Q138)","v":""},null,{"$f":"IF(Q139=\"\",\"\",Q139)","v":""},null,{"$f":"IF(A138=0,IF(AND(LEN(B138)>0,LEN(D138)=0),VLOOKUP(B138,zawodnicy!$A:$E,1,FALSE),IF(AND(LEN(D138)>0,LEN(B138)=0),VLOOKUP(D138,zawodnicy!$A:$E,1,FALSE),\"\")),IF((VLOOKUP(A138,'plan gier'!$Z:$AH,7,FALSE))=\"\",\"\",VLOOKUP(VLOOKUP(A138,'plan gier'!$Z:$AH,7,FALSE),zawodnicy!$A:$E,1,FALSE)))","v":""},null,{"$f":"IF(A138=0,\"\",IF((VLOOKUP(A138,'plan gier'!$Z:$AH,7,FALSE))=\"\",\"\",VLOOKUP(A138,'plan gier'!$Z:$AH,9,FALSE)))","v":""},{"$f":"IF(A138=0,\"\",IF(VLOOKUP(A138,'plan gier'!A:T,20,FALSE)=\"\",\"\",VLOOKUP(A138,'plan gier'!A:T,20,FALSE)))","v":""},{"$f":"L137","v":0},{"$f":"IF(L136>16,1,\"\")","v":1},null,null,null,null,{"$f":"IF(K138=\"\",\"\",1)","v":1},{"$f":"UPPER(IF(P138=\"\",\"\",IF(ISTEXT(L138),L138,IF(AND(L135>0,P138>0),VLOOKUP(L135&P138&J138,'grup-puch'!I:J,2,FALSE),\"\"))))","v":""},{"$f":"IF(Q138<>\"\",CONCATENATE(VLOOKUP(Q138,zawodnicy!$A:$E,2,FALSE),\" \",VLOOKUP(Q138,zawodnicy!$A:$E,3,FALSE),\" - \",VLOOKUP(Q138,zawodnicy!$A:$E,4,FALSE)),\"\")","v":""},null,{"$f":"IF(F138=\"\",\"\",VLOOKUP(F138,zawodnicy!$A:$D,3,FALSE))","v":""}]
[null,null,null,null,null,null,null,null,null,null,{"$f":"IF(L136>31,2,\"\")","v":2},null,null,null,null,{"$f":"IF(K139=\"\",\"\",2)","v":2},{"$f":"UPPER(IF(P139=\"\",\"\",IF(ISTEXT(L139),L139,IF(AND(L135>0,P139>0),VLOOKUP(L135&P139&J138,'grup-puch'!I:J,2,FALSE),\"\"))))","v":""},{"$f":"IF(Q139<>\"\",CONCATENATE(VLOOKUP(Q139,zawodnicy!$A:$E,2,FALSE),\" \",VLOOKUP(Q139,zawodnicy!$A:$E,3,FALSE),\" - \",VLOOKUP(Q139,zawodnicy!$A:$E,4,FALSE)),\"\")","v":""},null,{"$f":"IF(H138=\"\",I138,H138)","v":""}]
[{"$f":"T140","v":0},{"$f":"F138","v":""},null,{"$f":"F142","v":""},null,{"$f":"IF(A140=0,IF(AND(LEN(B140)>0,LEN(D140)=0),B140,IF(AND(LEN(D140)>0,LEN(B140)=0),D140,\"\")),IF((VLOOKUP(A140,'plan gier'!$Z:$AH,7,FALSE))=\"\",\"\",VLOOKUP(VLOOKUP(A140,'plan gier'!$Z:$AH,7,FALSE),zawodnicy!$A:$E,1,FALSE)))","v":""},null,{"$f":"IF(A140=0,\"\",IF((VLOOKUP(A140,'plan gier'!$Z:$AH,7,FALSE))=\"\",\"\",VLOOKUP(A140,'plan gier'!$Z:$AH,9,FALSE)))","v":""},{"$f":"IF(A140=0,\"\",IF(VLOOKUP(A140,'plan gier'!A:T,20,FALSE)=\"\",\"\",VLOOKUP(A140,'plan gier'!A:T,20,FALSE)))","v":""},{"$f":"L137","v":0},null,null,null,null,null,null,null,null,null,null,{"$f":"IF(F140=\"\",\"\",VLOOKUP(F140,zawodnicy!$A:$D,3,FALSE))","v":""}]
[null,null,null,null,null,null,null,null,null,null,null,null,null,null,null,null,null,null,null,null,{"$f":"IF(H140=\"\",I140,H140)","v":""}]
[{"$f":"S142","v":0},{"$f":"IF(Q142=\"\",\"\",Q142)","v":""},null,{"$f":"IF(Q143=\"\",\"\",Q143)","v":""},null,{"$f":"IF(A142=0,IF(AND(LEN(B142)>0,LEN(D142)=0),VLOOKUP(B142,zawodnicy!$A:$E,1,FALSE),IF(AND(LEN(D142)>0,LEN(B142)=0),VLOOKUP(D142,zawodnicy!$A:$E,1,FALSE),\"\")),IF((VLOOKUP(A142,'plan gier'!$Z:$AH,7,FALSE))=\"\",\"\",VLOOKUP(VLOOKUP(A142,'plan gier'!$Z:$AH,7,FALSE),zawodnicy!$A:$E,1,FALSE)))","v":""},null,{"$f":"IF(A142=0,\"\",IF((VLOOKUP(A142,'plan gier'!$Z:$AH,7,FALSE))=\"\",\"\",VLOOKUP(A142,'plan gier'!$Z:$AH,9,FALSE)))","v":""},{"$f":"IF(A142=0,\"\",IF(VLOOKUP(A142,'plan gier'!A:T,20,FALSE)=\"\",\"\",VLOOKUP(A142,'plan gier'!A:T,20,FALSE)))","v":""},{"$f":"L137","v":0},{"$f":"IF(L136>16,3,\"\")","v":3},null,null,null,null,{"$f":"IF(K142=\"\",\"\",MAX(P138:P141)+1)","v":3},{"$f":"UPPER(IF(P142=\"\",\"\",IF(ISTEXT(L142),L142,IF(AND(L135>0,P142>0),VLOOKUP(L135&P142&J142,'grup-puch'!I:J,2,FALSE),\"\"))))","v":""},{"$f":"IF(Q142<>\"\",CONCATENATE(VLOOKUP(Q142,zawodnicy!$A:$E,2,FALSE),\" \",VLOOKUP(Q142,zawodnicy!$A:$E,3,FALSE),\" - \",VLOOKUP(Q142,zawodnicy!$A:$E,4,FALSE)),\"\")","v":""},null,{"$f":"IF(F142=\"\",\"\",VLOOKUP(F142,zawodnicy!$A:$D,3,FALSE))","v":""}]
[null,null,null,null,null,null,null,null,null,null,{"$f":"IF(L136>23,4,\"\")","v":4},null,null,null,null,{"$f":"IF(K143=\"\",\"\",MAX(P138:P142)+1)","v":4},{"$f":"UPPER(IF(P143=\"\",\"\",IF(ISTEXT(L143),L143,IF(AND(L135>0,P143>0),VLOOKUP(L135&P143&J142,'grup-puch'!I:J,2,FALSE),\"\"))))","v":""},{"$f":"IF(Q143<>\"\",CONCATENATE(VLOOKUP(Q143,zawodnicy!$A:$E,2,FALSE),\" \",VLOOKUP(Q143,zawodnicy!$A:$E,3,FALSE),\" - \",VLOOKUP(Q143,zawodnicy!$A:$E,4,FALSE)),\"\")","v":""},null,{"$f":"IF(H142=\"\",I142,H142)","v":""}]
[{"$f":"U144","v":0},{"$f":"F140","v":""},null,{"$f":"F148","v":""},null,{"$f":"IF(A144=0,IF(AND(LEN(B144)>0,LEN(D144)=0),B144,IF(AND(LEN(D144)>0,LEN(B144)=0),D144,\"\")),IF((VLOOKUP(A144,'plan gier'!$Z:$AH,7,FALSE))=\"\",\"\",VLOOKUP(VLOOKUP(A144,'plan gier'!$Z:$AH,7,FALSE),zawodnicy!$A:$E,1,FALSE)))","v":""},null,{"$f":"IF(A144=0,\"\",IF((VLOOKUP(A144,'plan gier'!$Z:$AH,7,FALSE))=\"\",\"\",VLOOKUP(A144,'plan gier'!$Z:$AH,9,FALSE)))","v":""},{"$f":"IF(A144=0,\"\",IF(VLOOKUP(A144,'plan gier'!A:T,20,FALSE)=\"\",\"\",VLOOKUP(A144,'plan gier'!A:T,20,FALSE)))","v":""},{"$f":"L137","v":0},null,null,null,null,null,null,null,null,null,null,null,{"$f":"IF(F144=\"\",\"\",VLOOKUP(F144,zawodnicy!$A:$D,3,FALSE))","v":""}]
[null,null,null,null,null,null,null,null,null,null,null,null,null,null,null,null,null,null,null,null,null,{"$f":"IF(H144=\"\",I144,H144)","v":""}]
[{"$f":"S146","v":0},{"$f":"IF(Q146=\"\",\"\",Q146)","v":""},null,{"$f":"IF(Q147=\"\",\"\",Q147)","v":""},null,{"$f":"IF(A146=0,IF(AND(LEN(B146)>0,LEN(D146)=0),VLOOKUP(B146,zawodnicy!$A:$E,1,FALSE),IF(AND(LEN(D146)>0,LEN(B146)=0),VLOOKUP(D146,zawodnicy!$A:$E,1,FALSE),\"\")),IF((VLOOKUP(A146,'plan gier'!$Z:$AH,7,FALSE))=\"\",\"\",VLOOKUP(VLOOKUP(A146,'plan gier'!$Z:$AH,7,FALSE),zawodnicy!$A:$E,1,FALSE)))","v":""},null,{"$f":"IF(A146=0,\"\",IF((VLOOKUP(A146,'plan gier'!$Z:$AH,7,FALSE))=\"\",\"\",VLOOKUP(A146,'plan gier'!$Z:$AH,9,FALSE)))","v":""},{"$f":"IF(A146=0,\"\",IF(VLOOKUP(A146,'plan gier'!A:T,20,FALSE)=\"\",\"\",VLOOKUP(A146,'plan gier'!A:T,20,FALSE)))","v":""},{"$f":"L137","v":0},{"$f":"IF(L136>16,5,\"\")","v":5},null,null,null,null,{"$f":"IF(K146=\"\",\"\",MAX(P138:P145)+1)","v":5},{"$f":"UPPER(IF(P146=\"\",\"\",IF(ISTEXT(L146),L146,IF(AND(L135>0,P146>0),VLOOKUP(L135&P146&J146,'grup-puch'!I:J,2,FALSE),\"\"))))","v":""},{"$f":"IF(Q146<>\"\",CONCATENATE(VLOOKUP(Q146,zawodnicy!$A:$E,2,FALSE),\" \",VLOOKUP(Q146,zawodnicy!$A:$E,3,FALSE),\" - \",VLOOKUP(Q146,zawodnicy!$A:$E,4,FALSE)),\"\")","v":""},null,{"$f":"IF(F146=\"\",\"\",VLOOKUP(F146,zawodnicy!$A:$D,3,FALSE))","v":""}]
[null,null,null,null,null,null,null,null,null,null,{"$f":"IF(L136>27,6,\"\")","v":6},null,null,null,null,{"$f":"IF(K147=\"\",\"\",MAX(P138:P146)+1)","v":6},{"$f":"UPPER(IF(P147=\"\",\"\",IF(ISTEXT(L147),L147,IF(AND(L135>0,P147>0),VLOOKUP(L135&P147&J146,'grup-puch'!I:J,2,FALSE),\"\"))))","v":""},{"$f":"IF(Q147<>\"\",CONCATENATE(VLOOKUP(Q147,zawodnicy!$A:$E,2,FALSE),\" \",VLOOKUP(Q147,zawodnicy!$A:$E,3,FALSE),\" - \",VLOOKUP(Q147,zawodnicy!$A:$E,4,FALSE)),\"\")","v":""},null,{"$f":"IF(H146=\"\",I146,H146)","v":""}]
[{"$f":"T148","v":0},{"$f":"F146","v":""},null,{"$f":"F150","v":""},null,{"$f":"IF(A148=0,IF(AND(LEN(B148)>0,LEN(D148)=0),B148,IF(AND(LEN(D148)>0,LEN(B148)=0),D148,\"\")),IF((VLOOKUP(A148,'plan gier'!$Z:$AH,7,FALSE))=\"\",\"\",VLOOKUP(VLOOKUP(A148,'plan gier'!$Z:$AH,7,FALSE),zawodnicy!$A:$E,1,FALSE)))","v":""},null,{"$f":"IF(A148=0,\"\",IF((VLOOKUP(A148,'plan gier'!$Z:$AH,7,FALSE))=\"\",\"\",VLOOKUP(A148,'plan gier'!$Z:$AH,9,FALSE)))","v":""},{"$f":"IF(A148=0,\"\",IF(VLOOKUP(A148,'plan gier'!A:T,20,FALSE)=\"\",\"\",VLOOKUP(A148,'plan gier'!A:T,20,FALSE)))","v":""},{"$f":"L137","v":0},null,null,null,null,null,null,null,null,null,null,{"$f":"IF(F148=\"\",\"\",VLOOKUP(F148,zawodnicy!$A:$D,3,FALSE))","v":""}]
[null,null,null,null,null,null,null,null,null,null,null,null,null,null,null,null,null,null,null,null,{"$f":"IF(H148=\"\",I148,H148)","v":""}]
[{"$f":"S150","v":0},{"$f":"IF(Q150=\"\",\"\",Q150)","v":""},null,{"$f":"IF(Q151=\"\",\"\",Q151)","v":""},null,{"$f":"IF(A150=0,IF(AND(LEN(B150)>0,LEN(D150)=0),VLOOKUP(B150,zawodnicy!$A:$E,1,FALSE),IF(AND(LEN(D150)>0,LEN(B150)=0),VLOOKUP(D150,zawodnicy!$A:$E,1,FALSE),\"\")),IF((VLOOKUP(A150,'plan gier'!$Z:$AH,7,FALSE))=\"\",\"\",VLOOKUP(VLOOKUP(A150,'plan gier'!$Z:$AH,7,FALSE),zawodnicy!$A:$E,1,FALSE)))","v":""},null,{"$f":"IF(A150=0,\"\",IF((VLOOKUP(A150,'plan gier'!$Z:$AH,7,FALSE))=\"\",\"\",VLOOKUP(A150,'plan gier'!$Z:$AH,9,FALSE)))","v":""},{"$f":"IF(A150=0,\"\",IF(VLOOKUP(A150,'plan gier'!A:T,20,FALSE)=\"\",\"\",VLOOKUP(A150,'plan gier'!A:T,20,FALSE)))","v":""},{"$f":"L137","v":0},{"$f":"IF(L136>16,7,\"\")","v":7},null,null,null,null,{"$f":"IF(K150=\"\",\"\",MAX(P138:P149)+1)","v":7},{"$f":"UPPER(IF(P150=\"\",\"\",IF(ISTEXT(L150),L150,IF(AND(L135>0,P150>0),VLOOKUP(L135&P150&J150,'grup-puch'!I:J,2,FALSE),\"\"))))","v":""},{"$f":"IF(Q150<>\"\",CONCATENATE(VLOOKUP(Q150,zawodnicy!$A:$E,2,FALSE),\" \",VLOOKUP(Q150,zawodnicy!$A:$E,3,FALSE),\" - \",VLOOKUP(Q150,zawodnicy!$A:$E,4,FALSE)),\"\")","v":""},null,{"$f":"IF(F150=\"\",\"\",VLOOKUP(F150,zawodnicy!$A:$D,3,FALSE))","v":""}]
[null,null,null,null,null,null,null,null,null,null,{"$f":"IF(L136>19,8,\"\")","v":8},null,null,null,null,{"$f":"IF(K151=\"\",\"\",MAX(P138:P150)+1)","v":8},{"$f":"UPPER(IF(P151=\"\",\"\",IF(ISTEXT(L151),L151,IF(AND(L135>0,P151>0),VLOOKUP(L135&P151&J150,'grup-puch'!I:J,2,FALSE),\"\"))))","v":""},{"$f":"IF(Q151<>\"\",CONCATENATE(VLOOKUP(Q151,zawodnicy!$A:$E,2,FALSE),\" \",VLOOKUP(Q151,zawodnicy!$A:$E,3,FALSE),\" - \",VLOOKUP(Q151,zawodnicy!$A:$E,4,FALSE)),\"\")","v":""},null,{"$f":"IF(H150=\"\",I150,H150)","v":""}]
[{"$f":"V152","v":0},{"$f":"F144","v":""},null,{"$f":"F160","v":""},null,{"$f":"IF(A152=0,IF(AND(LEN(B152)>0,LEN(D152)=0),B152,IF(AND(LEN(D152)>0,LEN(B152)=0),D152,\"\")),IF((VLOOKUP(A152,'plan gier'!$Z:$AH,7,FALSE))=\"\",\"\",VLOOKUP(VLOOKUP(A152,'plan gier'!$Z:$AH,7,FALSE),zawodnicy!$A:$E,1,FALSE)))","v":""},null,{"$f":"IF(A152=0,\"\",IF((VLOOKUP(A152,'plan gier'!$Z:$AH,7,FALSE))=\"\",\"\",VLOOKUP(A152,'plan gier'!$Z:$AH,9,FALSE)))","v":""},{"$f":"IF(A152=0,\"\",IF(VLOOKUP(A152,'plan gier'!A:T,20,FALSE)=\"\",\"\",VLOOKUP(A152,'plan gier'!A:T,20,FALSE)))","v":""},{"$f":"L137","v":0},null,null,null,null,null,null,null,null,null,null,null,null,{"$f":"IF(F152=\"\",\"\",VLOOKUP(F152,zawodnicy!$A:$D,3,FALSE))","v":""}]
[null,null,null,null,null,null,null,null,null,null,null,null,null,null,null,null,null,null,null,null,null,null,{"$f":"IF(H152=\"\",I152,H152)","v":""}]
[{"$f":"S154","v":0},{"$f":"IF(Q154=\"\",\"\",Q154)","v":""},null,{"$f":"IF(Q155=\"\",\"\",Q155)","v":""},null,{"$f":"IF(A154=0,IF(AND(LEN(B154)>0,LEN(D154)=0),VLOOKUP(B154,zawodnicy!$A:$E,1,FALSE),IF(AND(LEN(D154)>0,LEN(B154)=0),VLOOKUP(D154,zawodnicy!$A:$E,1,FALSE),\"\")),IF((VLOOKUP(A154,'plan gier'!$Z:$AH,7,FALSE))=\"\",\"\",VLOOKUP(VLOOKUP(A154,'plan gier'!$Z:$AH,7,FALSE),zawodnicy!$A:$E,1,FALSE)))","v":""},null,{"$f":"IF(A154=0,\"\",IF((VLOOKUP(A154,'plan gier'!$Z:$AH,7,FALSE))=\"\",\"\",VLOOKUP(A154,'plan gier'!$Z:$AH,9,FALSE)))","v":""},{"$f":"IF(A154=0,\"\",IF(VLOOKUP(A154,'plan gier'!A:T,20,FALSE)=\"\",\"\",VLOOKUP(A154,'plan gier'!A:T,20,FALSE)))","v":""},{"$f":"L137","v":0},{"$f":"IF(L136>16,9,\"\")","v":9},null,null,null,null,{"$f":"IF(K154=\"\",\"\",MAX(P138:P153)+1)","v":9},{"$f":"UPPER(IF(P154=\"\",\"\",IF(ISTEXT(L154),L154,IF(AND(L135>0,P154>0),VLOOKUP(L135&P154&J154,'grup-puch'!I:J,2,FALSE),\"\"))))","v":""},{"$f":"IF(Q154<>\"\",CONCATENATE(VLOOKUP(Q154,zawodnicy!$A:$E,2,FALSE),\" \",VLOOKUP(Q154,zawodnicy!$A:$E,3,FALSE),\" - \",VLOOKUP(Q154,zawodnicy!$A:$E,4,FALSE)),\"\")","v":""},null,{"$f":"IF(F154=\"\",\"\",VLOOKUP(F154,zawodnicy!$A:$D,3,FALSE))","v":""}]
[null,null,null,null,null,null,null,null,null,null,{"$f":"IF(L136>29,10,\"\")","v":10},null,null,null,null,{"$f":"IF(K155=\"\",\"\",MAX(P138:P154)+1)","v":10},{"$f":"UPPER(IF(P155=\"\",\"\",IF(ISTEXT(L155),L155,IF(AND(L135>0,P155>0),VLOOKUP(L135&P155&J154,'grup-puch'!I:J,2,FALSE),\"\"))))","v":""},{"$f":"IF(Q155<>\"\",CONCATENATE(VLOOKUP(Q155,zawodnicy!$A:$E,2,FALSE),\" \",VLOOKUP(Q155,zawodnicy!$A:$E,3,FALSE),\" - \",VLOOKUP(Q155,zawodnicy!$A:$E,4,FALSE)),\"\")","v":""},null,{"$f":"IF(H154=\"\",I154,H154)","v":""}]
[{"$f":"T156","v":0},{"$f":"F154","v":""},null,{"$f":"F158","v":""},null,{"$f":"IF(A156=0,IF(AND(LEN(B156)>0,LEN(D156)=0),B156,IF(AND(LEN(D156)>0,LEN(B156)=0),D156,\"\")),IF((VLOOKUP(A156,'plan gier'!$Z:$AH,7,FALSE))=\"\",\"\",VLOOKUP(VLOOKUP(A156,'plan gier'!$Z:$AH,7,FALSE),zawodnicy!$A:$E,1,FALSE)))","v":""},null,{"$f":"IF(A156=0,\"\",IF((VLOOKUP(A156,'plan gier'!$Z:$AH,7,FALSE))=\"\",\"\",VLOOKUP(A156,'plan gier'!$Z:$AH,9,FALSE)))","v":""},{"$f":"IF(A156=0,\"\",IF(VLOOKUP(A156,'plan gier'!A:T,20,FALSE)=\"\",\"\",VLOOKUP(A156,'plan gier'!A:T,20,FALSE)))","v":""},{"$f":"L137","v":0},null,null,null,null,null,null,null,null,null,null,{"$f":"IF(F156=\"\",\"\",VLOOKUP(F156,zawodnicy!$A:$D,3,FALSE))","v":""}]
[null,null,null,null,null,null,null,null,null,null,null,null,null,null,null,null,null,null,null,null,{"$f":"IF(H156=\"\",I156,H156)","v":""}]
[{"$f":"S158","v":0},{"$f":"IF(Q158=\"\",\"\",Q158)","v":""},null,{"$f":"IF(Q159=\"\",\"\",Q159)","v":""},null,{"$f":"IF(A158=0,IF(AND(LEN(B158)>0,LEN(D158)=0),VLOOKUP(B158,zawodnicy!$A:$E,1,FALSE),IF(AND(LEN(D158)>0,LEN(B158)=0),VLOOKUP(D158,zawodnicy!$A:$E,1,FALSE),\"\")),IF((VLOOKUP(A158,'plan gier'!$Z:$AH,7,FALSE))=\"\",\"\",VLOOKUP(VLOOKUP(A158,'plan gier'!$Z:$AH,7,FALSE),zawodnicy!$A:$E,1,FALSE)))","v":""},null,{"$f":"IF(A158=0,\"\",IF((VLOOKUP(A158,'plan gier'!$Z:$AH,7,FALSE))=\"\",\"\",VLOOKUP(A158,'plan gier'!$Z:$AH,9,FALSE)))","v":""},{"$f":"IF(A158=0,\"\",IF(VLOOKUP(A158,'plan gier'!A:T,20,FALSE)=\"\",\"\",VLOOKUP(A158,'plan gier'!A:T,20,FALSE)))","v":""},{"$f":"L137","v":0},{"$f":"IF(L136>16,11,\"\")","v":11},null,null,null,null,{"$f":"IF(K158=\"\",\"\",MAX(P138:P157)+1)","v":11},{"$f":"UPPER(IF(P158=\"\",\"\",IF(ISTEXT(L158),L158,IF(AND(L135>0,P158>0),VLOOKUP(L135&P158&J158,'grup-puch'!I:J,2,FALSE),\"\"))))","v":""},{"$f":"IF(Q158<>\"\",CONCATENATE(VLOOKUP(Q158,zawodnicy!$A:$E,2,FALSE),\" \",VLOOKUP(Q158,zawodnicy!$A:$E,3,FALSE),\" - \",VLOOKUP(Q158,zawodnicy!$A:$E,4,FALSE)),\"\")","v":""},null,{"$f":"IF(F158=\"\",\"\",VLOOKUP(F158,zawodnicy!$A:$D,3,FALSE))","v":""}]
[null,null,null,null,null,null,null,null,null,null,{"$f":"IF(L136>21,12,\"\")","v":12},null,null,null,null,{"$f":"IF(K159=\"\",\"\",MAX(P138:P158)+1)","v":12},{"$f":"UPPER(IF(P159=\"\",\"\",IF(ISTEXT(L159),L159,IF(AND(L135>0,P159>0),VLOOKUP(L135&P159&J158,'grup-puch'!I:J,2,FALSE),\"\"))))","v":""},{"$f":"IF(Q159<>\"\",CONCATENATE(VLOOKUP(Q159,zawodnicy!$A:$E,2,FALSE),\" \",VLOOKUP(Q159,zawodnicy!$A:$E,3,FALSE),\" - \",VLOOKUP(Q159,zawodnicy!$A:$E,4,FALSE)),\"\")","v":""},null,{"$f":"IF(H158=\"\",I158,H158)","v":""}]
[{"$f":"U160","v":0},{"$f":"F156","v":""},null,{"$f":"F164","v":""},null,{"$f":"IF(A160=0,IF(AND(LEN(B160)>0,LEN(D160)=0),B160,IF(AND(LEN(D160)>0,LEN(B160)=0),D160,\"\")),IF((VLOOKUP(A160,'plan gier'!$Z:$AH,7,FALSE))=\"\",\"\",VLOOKUP(VLOOKUP(A160,'plan gier'!$Z:$AH,7,FALSE),zawodnicy!$A:$E,1,FALSE)))","v":""},null,{"$f":"IF(A160=0,\"\",IF((VLOOKUP(A160,'plan gier'!$Z:$AH,7,FALSE))=\"\",\"\",VLOOKUP(A160,'plan gier'!$Z:$AH,9,FALSE)))","v":""},{"$f":"IF(A160=0,\"\",IF(VLOOKUP(A160,'plan gier'!A:T,20,FALSE)=\"\",\"\",VLOOKUP(A160,'plan gier'!A:T,20,FALSE)))","v":""},{"$f":"L137","v":0},null,null,null,null,null,null,null,null,null,null,null,{"$f":"IF(F160=\"\",\"\",VLOOKUP(F160,zawodnicy!$A:$D,3,FALSE))","v":""}]
[null,null,null,null,null,null,null,null,null,null,null,null,null,null,null,null,null,null,null,null,null,{"$f":"IF(H160=\"\",I160,H160)","v":""}]
[{"$f":"S162","v":0},{"$f":"IF(Q162=\"\",\"\",Q162)","v":""},null,{"$f":"IF(Q163=\"\",\"\",Q163)","v":""},null,{"$f":"IF(A162=0,IF(AND(LEN(B162)>0,LEN(D162)=0),VLOOKUP(B162,zawodnicy!$A:$E,1,FALSE),IF(AND(LEN(D162)>0,LEN(B162)=0),VLOOKUP(D162,zawodnicy!$A:$E,1,FALSE),\"\")),IF((VLOOKUP(A162,'plan gier'!$Z:$AH,7,FALSE))=\"\",\"\",VLOOKUP(VLOOKUP(A162,'plan gier'!$Z:$AH,7,FALSE),zawodnicy!$A:$E,1,FALSE)))","v":""},null,{"$f":"IF(A162=0,\"\",IF((VLOOKUP(A162,'plan gier'!$Z:$AH,7,FALSE))=\"\",\"\",VLOOKUP(A162,'plan gier'!$Z:$AH,9,FALSE)))","v":""},{"$f":"IF(A162=0,\"\",IF(VLOOKUP(A162,'plan gier'!A:T,20,FALSE)=\"\",\"\",VLOOKUP(A162,'plan gier'!A:T,20,FALSE)))","v":""},{"$f":"L137","v":0},{"$f":"IF(L136>16,13,\"\")","v":13},null,null,null,null,{"$f":"IF(K162=\"\",\"\",MAX(P138:P161)+1)","v":13},{"$f":"UPPER(IF(P162=\"\",\"\",IF(ISTEXT(L162),L162,IF(AND(L135>0,P162>0),VLOOKUP(L135&P162&J162,'grup-puch'!I:J,2,FALSE),\"\"))))","v":""},{"$f":"IF(Q162<>\"\",CONCATENATE(VLOOKUP(Q162,zawodnicy!$A:$E,2,FALSE),\" \",VLOOKUP(Q162,zawodnicy!$A:$E,3,FALSE),\" - \",VLOOKUP(Q162,zawodnicy!$A:$E,4,FALSE)),\"\")","v":""},null,{"$f":"IF(F162=\"\",\"\",VLOOKUP(F162,zawodnicy!$A:$D,3,FALSE))","v":""}]
[null,null,null,null,null,null,null,null,null,null,{"$f":"IF(L136>25,14,\"\")","v":14},null,null,null,null,{"$f":"IF(K163=\"\",\"\",MAX(P138:P162)+1)","v":14},{"$f":"UPPER(IF(P163=\"\",\"\",IF(ISTEXT(L163),L163,IF(AND(L135>0,P163>0),VLOOKUP(L135&P163&J162,'grup-puch'!I:J,2,FALSE),\"\"))))","v":""},{"$f":"IF(Q163<>\"\",CONCATENATE(VLOOKUP(Q163,zawodnicy!$A:$E,2,FALSE),\" \",VLOOKUP(Q163,zawodnicy!$A:$E,3,FALSE),\" - \",VLOOKUP(Q163,zawodnicy!$A:$E,4,FALSE)),\"\")","v":""},null,{"$f":"IF(H162=\"\",I162,H162)","v":""}]
[{"$f":"T164","v":0},{"$f":"F162","v":""},null,{"$f":"F166","v":""},null,{"$f":"IF(A164=0,IF(AND(LEN(B164)>0,LEN(D164)=0),B164,IF(AND(LEN(D164)>0,LEN(B164)=0),D164,\"\")),IF((VLOOKUP(A164,'plan gier'!$Z:$AH,7,FALSE))=\"\",\"\",VLOOKUP(VLOOKUP(A164,'plan gier'!$Z:$AH,7,FALSE),zawodnicy!$A:$E,1,FALSE)))","v":""},null,{"$f":"IF(A164=0,\"\",IF((VLOOKUP(A164,'plan gier'!$Z:$AH,7,FALSE))=\"\",\"\",VLOOKUP(A164,'plan gier'!$Z:$AH,9,FALSE)))","v":""},{"$f":"IF(A164=0,\"\",IF(VLOOKUP(A164,'plan gier'!A:T,20,FALSE)=\"\",\"\",VLOOKUP(A164,'plan gier'!A:T,20,FALSE)))","v":""},{"$f":"L137","v":0},null,null,null,null,null,null,null,null,null,null,{"$f":"IF(F164=\"\",\"\",VLOOKUP(F164,zawodnicy!$A:$D,3,FALSE))","v":""}]
[null,null,null,null,null,null,null,null,null,null,null,null,null,null,null,null,null,null,null,null,{"$f":"IF(H164=\"\",I164,H164)","v":""}]
[{"$f":"S166","v":0},{"$f":"IF(Q166=\"\",\"\",Q166)","v":""},null,{"$f":"IF(Q167=\"\",\"\",Q167)","v":""},null,{"$f":"IF(A166=0,IF(AND(LEN(B166)>0,LEN(D166)=0),VLOOKUP(B166,zawodnicy!$A:$E,1,FALSE),IF(AND(LEN(D166)>0,LEN(B166)=0),VLOOKUP(D166,zawodnicy!$A:$E,1,FALSE),\"\")),IF((VLOOKUP(A166,'plan gier'!$Z:$AH,7,FALSE))=\"\",\"\",VLOOKUP(VLOOKUP(A166,'plan gier'!$Z:$AH,7,FALSE),zawodnicy!$A:$E,1,FALSE)))","v":""},null,{"$f":"IF(A166=0,\"\",IF((VLOOKUP(A166,'plan gier'!$Z:$AH,7,FALSE))=\"\",\"\",VLOOKUP(A166,'plan gier'!$Z:$AH,9,FALSE)))","v":""},{"$f":"IF(A166=0,\"\",IF(VLOOKUP(A166,'plan gier'!A:T,20,FALSE)=\"\",\"\",VLOOKUP(A166,'plan gier'!A:T,20,FALSE)))","v":""},{"$f":"L137","v":0},{"$f":"IF(L136>16,15,\"\")","v":15},null,null,null,null,{"$f":"IF(K166=\"\",\"\",MAX(P138:P165)+1)","v":15},{"$f":"UPPER(IF(P166=\"\",\"\",IF(ISTEXT(L166),L166,IF(AND(L135>0,P166>0),VLOOKUP(L135&P166&J166,'grup-puch'!I:J,2,FALSE),\"\"))))","v":""},{"$f":"IF(Q166<>\"\",CONCATENATE(VLOOKUP(Q166,zawodnicy!$A:$E,2,FALSE),\" \",VLOOKUP(Q166,zawodnicy!$A:$E,3,FALSE),\" - \",VLOOKUP(Q166,zawodnicy!$A:$E,4,FALSE)),\"\")","v":""},null,{"$f":"IF(F166=\"\",\"\",VLOOKUP(F166,zawodnicy!$A:$D,3,FALSE))","v":""}]
[null,null,null,null,null,null,null,null,null,null,{"$f":"IF(L136>17,16,\"\")","v":16},null,null,null,null,{"$f":"IF(K167=\"\",\"\",MAX(P138:P166)+1)","v":16},{"$f":"UPPER(IF(P167=\"\",\"\",IF(ISTEXT(L167),L167,IF(AND(L135>0,P167>0),VLOOKUP(L135&P167&J166,'grup-puch'!I:J,2,FALSE),\"\"))))","v":""},{"$f":"IF(Q167<>\"\",CONCATENATE(VLOOKUP(Q167,zawodnicy!$A:$E,2,FALSE),\" \",VLOOKUP(Q167,zawodnicy!$A:$E,3,FALSE),\" - \",VLOOKUP(Q167,zawodnicy!$A:$E,4,FALSE)),\"\")","v":""},null,{"$f":"IF(H166=\"\",I166,H166)","v":""}]
[{"$f":"W168","v":0},{"$f":"F152","v":""},null,{"$f":"F184","v":""},null,{"$f":"IF(A168=0,IF(AND(LEN(B168)>0,LEN(D168)=0),B168,IF(AND(LEN(D168)>0,LEN(B168)=0),D168,\"\")),IF((VLOOKUP(A168,'plan gier'!$Z:$AH,7,FALSE))=\"\",\"\",VLOOKUP(VLOOKUP(A168,'plan gier'!$Z:$AH,7,FALSE),zawodnicy!$A:$E,1,FALSE)))","v":""},null,{"$f":"IF(A168=0,\"\",IF((VLOOKUP(A168,'plan gier'!$Z:$AH,7,FALSE))=\"\",\"\",VLOOKUP(A168,'plan gier'!$Z:$AH,9,FALSE)))","v":""},{"$f":"IF(A168=0,\"\",IF(VLOOKUP(A168,'plan gier'!A:T,20,FALSE)=\"\",\"\",VLOOKUP(A168,'plan gier'!A:T,20,FALSE)))","v":""},{"$f":"L137","v":0},null,null,null,null,null,null,null,null,null,null,null,null,null,{"$f":"IF(F168=\"\",\"\",VLOOKUP(F168,zawodnicy!$A:$D,3,FALSE))","v":""}]
[null,null,null,null,null,null,null,null,null,null,null,null,null,null,null,null,null,null,null,null,null,null,null,{"$f":"IF(H168=\"\",I168,H168)","v":""}]
[{"$f":"S170","v":0},{"$f":"IF(Q170=\"\",\"\",Q170)","v":""},null,{"$f":"IF(Q171=\"\",\"\",Q171)","v":""},null,{"$f":"IF(A170=0,IF(AND(LEN(B170)>0,LEN(D170)=0),VLOOKUP(B170,zawodnicy!$A:$E,1,FALSE),IF(AND(LEN(D170)>0,LEN(B170)=0),VLOOKUP(D170,zawodnicy!$A:$E,1,FALSE),\"\")),IF((VLOOKUP(A170,'plan gier'!$Z:$AH,7,FALSE))=\"\",\"\",VLOOKUP(VLOOKUP(A170,'plan gier'!$Z:$AH,7,FALSE),zawodnicy!$A:$E,1,FALSE)))","v":""},null,{"$f":"IF(A170=0,\"\",IF((VLOOKUP(A170,'plan gier'!$Z:$AH,7,FALSE))=\"\",\"\",VLOOKUP(A170,'plan gier'!$Z:$AH,9,FALSE)))","v":""},{"$f":"IF(A170=0,\"\",IF(VLOOKUP(A170,'plan gier'!A:T,20,FALSE)=\"\",\"\",VLOOKUP(A170,'plan gier'!A:T,20,FALSE)))","v":""},{"$f":"L137","v":0},{"$f":"IF(L136>16,17,\"\")","v":17},null,null,null,null,{"$f":"IF(K170=\"\",\"\",MAX(P138:P169)+1)","v":17},{"$f":"UPPER(IF(P170=\"\",\"\",IF(ISTEXT(L170),L170,IF(AND(L135>0,P170>0),VLOOKUP(L135&P170&J170,'grup-puch'!I:J,2,FALSE),\"\"))))","v":""},{"$f":"IF(Q170<>\"\",CONCATENATE(VLOOKUP(Q170,zawodnicy!$A:$E,2,FALSE),\" \",VLOOKUP(Q170,zawodnicy!$A:$E,3,FALSE),\" - \",VLOOKUP(Q170,zawodnicy!$A:$E,4,FALSE)),\"\")","v":""},null,{"$f":"IF(F170=\"\",\"\",VLOOKUP(F170,zawodnicy!$A:$D,3,FALSE))","v":""}]
[null,null,null,null,null,null,null,null,null,null,{"$f":"IF(L136>16,18,\"\")","v":18},null,null,null,null,{"$f":"IF(K171=\"\",\"\",MAX(P138:P170)+1)","v":18},{"$f":"UPPER(IF(P171=\"\",\"\",IF(ISTEXT(L171),L171,IF(AND(L135>0,P171>0),VLOOKUP(L135&P171&J170,'grup-puch'!I:J,2,FALSE),\"\"))))","v":""},{"$f":"IF(Q171<>\"\",CONCATENATE(VLOOKUP(Q171,zawodnicy!$A:$E,2,FALSE),\" \",VLOOKUP(Q171,zawodnicy!$A:$E,3,FALSE),\" - \",VLOOKUP(Q171,zawodnicy!$A:$E,4,FALSE)),\"\")","v":""},null,{"$f":"IF(H170=\"\",I170,H170)","v":""}]
[{"$f":"T172","v":0},{"$f":"F170","v":""},null,{"$f":"F174","v":""},null,{"$f":"IF(A172=0,IF(AND(LEN(B172)>0,LEN(D172)=0),B172,IF(AND(LEN(D172)>0,LEN(B172)=0),D172,\"\")),IF((VLOOKUP(A172,'plan gier'!$Z:$AH,7,FALSE))=\"\",\"\",VLOOKUP(VLOOKUP(A172,'plan gier'!$Z:$AH,7,FALSE),zawodnicy!$A:$E,1,FALSE)))","v":""},null,{"$f":"IF(A172=0,\"\",IF((VLOOKUP(A172,'plan gier'!$Z:$AH,7,FALSE))=\"\",\"\",VLOOKUP(A172,'plan gier'!$Z:$AH,9,FALSE)))","v":""},{"$f":"IF(A172=0,\"\",IF(VLOOKUP(A172,'plan gier'!A:T,20,FALSE)=\"\",\"\",VLOOKUP(A172,'plan gier'!A:T,20,FALSE)))","v":""},{"$f":"L137","v":0},null,null,null,null,null,null,null,null,null,null,{"$f":"IF(F172=\"\",\"\",VLOOKUP(F172,zawodnicy!$A:$D,3,FALSE))","v":""}]
[null,null,null,null,null,null,null,null,null,null,null,null,null,null,null,null,null,null,null,null,{"$f":"IF(H172=\"\",I172,H172)","v":""}]
[{"$f":"S174","v":0},{"$f":"IF(Q174=\"\",\"\",Q174)","v":""},null,{"$f":"IF(Q175=\"\",\"\",Q175)","v":""},null,{"$f":"IF(A174=0,IF(AND(LEN(B174)>0,LEN(D174)=0),VLOOKUP(B174,zawodnicy!$A:$E,1,FALSE),IF(AND(LEN(D174)>0,LEN(B174)=0),VLOOKUP(D174,zawodnicy!$A:$E,1,FALSE),\"\")),IF((VLOOKUP(A174,'plan gier'!$Z:$AH,7,FALSE))=\"\",\"\",VLOOKUP(VLOOKUP(A174,'plan gier'!$Z:$AH,7,FALSE),zawodnicy!$A:$E,1,FALSE)))","v":""},null,{"$f":"IF(A174=0,\"\",IF((VLOOKUP(A174,'plan gier'!$Z:$AH,7,FALSE))=\"\",\"\",VLOOKUP(A174,'plan gier'!$Z:$AH,9,FALSE)))","v":""},{"$f":"IF(A174=0,\"\",IF(VLOOKUP(A174,'plan gier'!A:T,20,FALSE)=\"\",\"\",VLOOKUP(A174,'plan gier'!A:T,20,FALSE)))","v":""},{"$f":"L137","v":0},{"$f":"IF(L136>24,19,\"\")","v":19},null,null,null,null,{"$f":"IF(K174=\"\",\"\",MAX(P138:P173)+1)","v":19},{"$f":"UPPER(IF(P174=\"\",\"\",IF(ISTEXT(L174),L174,IF(AND(L135>0,P174>0),VLOOKUP(L135&P174&J174,'grup-puch'!I:J,2,FALSE),\"\"))))","v":""},{"$f":"IF(Q174<>\"\",CONCATENATE(VLOOKUP(Q174,zawodnicy!$A:$E,2,FALSE),\" \",VLOOKUP(Q174,zawodnicy!$A:$E,3,FALSE),\" - \",VLOOKUP(Q174,zawodnicy!$A:$E,4,FALSE)),\"\")","v":""},null,{"$f":"IF(F174=\"\",\"\",VLOOKUP(F174,zawodnicy!$A:$D,3,FALSE))","v":""}]
[null,null,null,null,null,null,null,null,null,null,{"$f":"IF(L136>16,20,\"\")","v":20},null,null,null,null,{"$f":"IF(K175=\"\",\"\",MAX(P138:P174)+1)","v":20},{"$f":"UPPER(IF(P175=\"\",\"\",IF(ISTEXT(L175),L175,IF(AND(L135>0,P175>0),VLOOKUP(L135&P175&J174,'grup-puch'!I:J,2,FALSE),\"\"))))","v":""},{"$f":"IF(Q175<>\"\",CONCATENATE(VLOOKUP(Q175,zawodnicy!$A:$E,2,FALSE),\" \",VLOOKUP(Q175,zawodnicy!$A:$E,3,FALSE),\" - \",VLOOKUP(Q175,zawodnicy!$A:$E,4,FALSE)),\"\")","v":""},null,{"$f":"IF(H174=\"\",I174,H174)","v":""}]
[{"$f":"U176","v":0},{"$f":"F172","v":""},null,{"$f":"F180","v":""},null,{"$f":"IF(A176=0,IF(AND(LEN(B176)>0,LEN(D176)=0),B176,IF(AND(LEN(D176)>0,LEN(B176)=0),D176,\"\")),IF((VLOOKUP(A176,'plan gier'!$Z:$AH,7,FALSE))=\"\",\"\",VLOOKUP(VLOOKUP(A176,'plan gier'!$Z:$AH,7,FALSE),zawodnicy!$A:$E,1,FALSE)))","v":""},null,{"$f":"IF(A176=0,\"\",IF((VLOOKUP(A176,'plan gier'!$Z:$AH,7,FALSE))=\"\",\"\",VLOOKUP(A176,'plan gier'!$Z:$AH,9,FALSE)))","v":""},{"$f":"IF(A176=0,\"\",IF(VLOOKUP(A176,'plan gier'!A:T,20,FALSE)=\"\",\"\",VLOOKUP(A176,'plan gier'!A:T,20,FALSE)))","v":""},{"$f":"L137","v":0},null,null,null,null,null,null,null,null,null,null,null,{"$f":"IF(F176=\"\",\"\",VLOOKUP(F176,zawodnicy!$A:$D,3,FALSE))","v":""}]
[null,null,null,null,null,null,null,null,null,null,null,null,null,null,null,null,null,null,null,null,null,{"$f":"IF(H176=\"\",I176,H176)","v":""}]
[{"$f":"S178","v":0},{"$f":"IF(Q178=\"\",\"\",Q178)","v":""},null,{"$f":"IF(Q179=\"\",\"\",Q179)","v":""},null,{"$f":"IF(A178=0,IF(AND(LEN(B178)>0,LEN(D178)=0),VLOOKUP(B178,zawodnicy!$A:$E,1,FALSE),IF(AND(LEN(D178)>0,LEN(B178)=0),VLOOKUP(D178,zawodnicy!$A:$E,1,FALSE),\"\")),IF((VLOOKUP(A178,'plan gier'!$Z:$AH,7,FALSE))=\"\",\"\",VLOOKUP(VLOOKUP(A178,'plan gier'!$Z:$AH,7,FALSE),zawodnicy!$A:$E,1,FALSE)))","v":""},null,{"$f":"IF(A178=0,\"\",IF((VLOOKUP(A178,'plan gier'!$Z:$AH,7,FALSE))=\"\",\"\",VLOOKUP(A178,'plan gier'!$Z:$AH,9,FALSE)))","v":""},{"$f":"IF(A178=0,\"\",IF(VLOOKUP(A178,'plan gier'!A:T,20,FALSE)=\"\",\"\",VLOOKUP(A178,'plan gier'!A:T,20,FALSE)))","v":""},{"$f":"L137","v":0},{"$f":"IF(L136>20,21,\"\")","v":21},null,null,null,null,{"$f":"IF(K178=\"\",\"\",MAX(P138:P177)+1)","v":21},{"$f":"UPPER(IF(P178=\"\",\"\",IF(ISTEXT(L178),L178,IF(AND(L135>0,P178>0),VLOOKUP(L135&P178&J178,'grup-puch'!I:J,2,FALSE),\"\"))))","v":""},{"$f":"IF(Q178<>\"\",CONCATENATE(VLOOKUP(Q178,zawodnicy!$A:$E,2,FALSE),\" \",VLOOKUP(Q178,zawodnicy!$A:$E,3,FALSE),\" - \",VLOOKUP(Q178,zawodnicy!$A:$E,4,FALSE)),\"\")","v":""},null,{"$f":"IF(F178=\"\",\"\",VLOOKUP(F178,zawodnicy!$A:$D,3,FALSE))","v":""}]
[null,null,null,null,null,null,null,null,null,null,{"$f":"IF(L136>16,22,\"\")","v":22},null,null,null,null,{"$f":"IF(K179=\"\",\"\",MAX(P138:P178)+1)","v":22},{"$f":"UPPER(IF(P179=\"\",\"\",IF(ISTEXT(L179),L179,IF(AND(L135>0,P179>0),VLOOKUP(L135&P179&J178,'grup-puch'!I:J,2,FALSE),\"\"))))","v":""},{"$f":"IF(Q179<>\"\",CONCATENATE(VLOOKUP(Q179,zawodnicy!$A:$E,2,FALSE),\" \",VLOOKUP(Q179,zawodnicy!$A:$E,3,FALSE),\" - \",VLOOKUP(Q179,zawodnicy!$A:$E,4,FALSE)),\"\")","v":""},null,{"$f":"IF(H178=\"\",I178,H178)","v":""}]
[{"$f":"T180","v":0},{"$f":"F178","v":""},null,{"$f":"F182","v":""},null,{"$f":"IF(A180=0,IF(AND(LEN(B180)>0,LEN(D180)=0),B180,IF(AND(LEN(D180)>0,LEN(B180)=0),D180,\"\")),IF((VLOOKUP(A180,'plan gier'!$Z:$AH,7,FALSE))=\"\",\"\",VLOOKUP(VLOOKUP(A180,'plan gier'!$Z:$AH,7,FALSE),zawodnicy!$A:$E,1,FALSE)))","v":""},null,{"$f":"IF(A180=0,\"\",IF((VLOOKUP(A180,'plan gier'!$Z:$AH,7,FALSE))=\"\",\"\",VLOOKUP(A180,'plan gier'!$Z:$AH,9,FALSE)))","v":""},{"$f":"IF(A180=0,\"\",IF(VLOOKUP(A180,'plan gier'!A:T,20,FALSE)=\"\",\"\",VLOOKUP(A180,'plan gier'!A:T,20,FALSE)))","v":""},{"$f":"L137","v":0},null,null,null,null,null,null,null,null,null,null,{"$f":"IF(F180=\"\",\"\",VLOOKUP(F180,zawodnicy!$A:$D,3,FALSE))","v":""}]
[null,null,null,null,null,null,null,null,null,null,null,null,null,null,null,null,null,null,null,null,{"$f":"IF(H180=\"\",I180,H180)","v":""}]
[{"$f":"S182","v":0},{"$f":"IF(Q182=\"\",\"\",Q182)","v":""},null,{"$f":"IF(Q183=\"\",\"\",Q183)","v":""},null,{"$f":"IF(A182=0,IF(AND(LEN(B182)>0,LEN(D182)=0),VLOOKUP(B182,zawodnicy!$A:$E,1,FALSE),IF(AND(LEN(D182)>0,LEN(B182)=0),VLOOKUP(D182,zawodnicy!$A:$E,1,FALSE),\"\")),IF((VLOOKUP(A182,'plan gier'!$Z:$AH,7,FALSE))=\"\",\"\",VLOOKUP(VLOOKUP(A182,'plan gier'!$Z:$AH,7,FALSE),zawodnicy!$A:$E,1,FALSE)))","v":""},null,{"$f":"IF(A182=0,\"\",IF((VLOOKUP(A182,'plan gier'!$Z:$AH,7,FALSE))=\"\",\"\",VLOOKUP(A182,'plan gier'!$Z:$AH,9,FALSE)))","v":""},{"$f":"IF(A182=0,\"\",IF(VLOOKUP(A182,'plan gier'!A:T,20,FALSE)=\"\",\"\",VLOOKUP(A182,'plan gier'!A:T,20,FALSE)))","v":""},{"$f":"L137","v":0},{"$f":"IF(L136>28,23,\"\")","v":23},null,null,null,null,{"$f":"IF(K182=\"\",\"\",MAX(P138:P181)+1)","v":23},{"$f":"UPPER(IF(P182=\"\",\"\",IF(ISTEXT(L182),L182,IF(AND(L135>0,P182>0),VLOOKUP(L135&P182&J182,'grup-puch'!I:J,2,FALSE),\"\"))))","v":""},{"$f":"IF(Q182<>\"\",CONCATENATE(VLOOKUP(Q182,zawodnicy!$A:$E,2,FALSE),\" \",VLOOKUP(Q182,zawodnicy!$A:$E,3,FALSE),\" - \",VLOOKUP(Q182,zawodnicy!$A:$E,4,FALSE)),\"\")","v":""},null,{"$f":"IF(F182=\"\",\"\",VLOOKUP(F182,zawodnicy!$A:$D,3,FALSE))","v":""}]
[null,null,null,null,null,null,null,null,null,null,{"$f":"IF(L136>16,24,\"\")","v":24},null,null,null,null,{"$f":"IF(K183=\"\",\"\",MAX(P138:P182)+1)","v":24},{"$f":"UPPER(IF(P183=\"\",\"\",IF(ISTEXT(L183),L183,IF(AND(L135>0,P183>0),VLOOKUP(L135&P183&J182,'grup-puch'!I:J,2,FALSE),\"\"))))","v":""},{"$f":"IF(Q183<>\"\",CONCATENATE(VLOOKUP(Q183,zawodnicy!$A:$E,2,FALSE),\" \",VLOOKUP(Q183,zawodnicy!$A:$E,3,FALSE),\" - \",VLOOKUP(Q183,zawodnicy!$A:$E,4,FALSE)),\"\")","v":""},null,{"$f":"IF(H182=\"\",I182,H182)","v":""}]
[{"$f":"V184","v":0},{"$f":"F176","v":""},null,{"$f":"F192","v":""},null,{"$f":"IF(A184=0,IF(AND(LEN(B184)>0,LEN(D184)=0),B184,IF(AND(LEN(D184)>0,LEN(B184)=0),D184,\"\")),IF((VLOOKUP(A184,'plan gier'!$Z:$AH,7,FALSE))=\"\",\"\",VLOOKUP(VLOOKUP(A184,'plan gier'!$Z:$AH,7,FALSE),zawodnicy!$A:$E,1,FALSE)))","v":""},null,{"$f":"IF(A184=0,\"\",IF((VLOOKUP(A184,'plan gier'!$Z:$AH,7,FALSE))=\"\",\"\",VLOOKUP(A184,'plan gier'!$Z:$AH,9,FALSE)))","v":""},{"$f":"IF(A184=0,\"\",IF(VLOOKUP(A184,'plan gier'!A:T,20,FALSE)=\"\",\"\",VLOOKUP(A184,'plan gier'!A:T,20,FALSE)))","v":""},{"$f":"L137","v":0},null,null,null,null,null,null,null,null,null,null,null,null,{"$f":"IF(F184=\"\",\"\",VLOOKUP(F184,zawodnicy!$A:$D,3,FALSE))","v":""}]
[null,null,null,null,null,null,null,null,null,null,null,null,null,null,null,null,null,null,null,null,null,null,{"$f":"IF(H184=\"\",I184,H184)","v":""}]
[{"$f":"S186","v":0},{"$f":"IF(Q186=\"\",\"\",Q186)","v":""},null,{"$f":"IF(Q187=\"\",\"\",Q187)","v":""},null,{"$f":"IF(A186=0,IF(AND(LEN(B186)>0,LEN(D186)=0),VLOOKUP(B186,zawodnicy!$A:$E,1,FALSE),IF(AND(LEN(D186)>0,LEN(B186)=0),VLOOKUP(D186,zawodnicy!$A:$E,1,FALSE),\"\")),IF((VLOOKUP(A186,'plan gier'!$Z:$AH,7,FALSE))=\"\",\"\",VLOOKUP(VLOOKUP(A186,'plan gier'!$Z:$AH,7,FALSE),zawodnicy!$A:$E,1,FALSE)))","v":""},null,{"$f":"IF(A186=0,\"\",IF((VLOOKUP(A186,'plan gier'!$Z:$AH,7,FALSE))=\"\",\"\",VLOOKUP(A186,'plan gier'!$Z:$AH,9,FALSE)))","v":""},{"$f":"IF(A186=0,\"\",IF(VLOOKUP(A186,'plan gier'!A:T,20,FALSE)=\"\",\"\",VLOOKUP(A186,'plan gier'!A:T,20,FALSE)))","v":""},{"$f":"L137","v":0},{"$f":"IF(L136>18,25,\"\")","v":25},null,null,null,null,{"$f":"IF(K186=\"\",\"\",MAX(P138:P185)+1)","v":25},{"$f":"UPPER(IF(P186=\"\",\"\",IF(ISTEXT(L186),L186,IF(AND(L135>0,P186>0),VLOOKUP(L135&P186&J186,'grup-puch'!I:J,2,FALSE),\"\"))))","v":""},{"$f":"IF(Q186<>\"\",CONCATENATE(VLOOKUP(Q186,zawodnicy!$A:$E,2,FALSE),\" \",VLOOKUP(Q186,zawodnicy!$A:$E,3,FALSE),\" - \",VLOOKUP(Q186,zawodnicy!$A:$E,4,FALSE)),\"\")","v":""},null,{"$f":"IF(F186=\"\",\"\",VLOOKUP(F186,zawodnicy!$A:$D,3,FALSE))","v":""}]
[null,null,null,null,null,null,null,null,null,null,{"$f":"IF(L136>16,26,\"\")","v":26},null,null,null,null,{"$f":"IF(K187=\"\",\"\",MAX(P138:P186)+1)","v":26},{"$f":"UPPER(IF(P187=\"\",\"\",IF(ISTEXT(L187),L187,IF(AND(L135>0,P187>0),VLOOKUP(L135&P187&J186,'grup-puch'!I:J,2,FALSE),\"\"))))","v":""},{"$f":"IF(Q187<>\"\",CONCATENATE(VLOOKUP(Q187,zawodnicy!$A:$E,2,FALSE),\" \",VLOOKUP(Q187,zawodnicy!$A:$E,3,FALSE),\" - \",VLOOKUP(Q187,zawodnicy!$A:$E,4,FALSE)),\"\")","v":""},null,{"$f":"IF(H186=\"\",I186,H186)","v":""}]
[{"$f":"T188","v":0},{"$f":"F186","v":""},null,{"$f":"F190","v":""},null,{"$f":"IF(A188=0,IF(AND(LEN(B188)>0,LEN(D188)=0),B188,IF(AND(LEN(D188)>0,LEN(B188)=0),D188,\"\")),IF((VLOOKUP(A188,'plan gier'!$Z:$AH,7,FALSE))=\"\",\"\",VLOOKUP(VLOOKUP(A188,'plan gier'!$Z:$AH,7,FALSE),zawodnicy!$A:$E,1,FALSE)))","v":""},null,{"$f":"IF(A188=0,\"\",IF((VLOOKUP(A188,'plan gier'!$Z:$AH,7,FALSE))=\"\",\"\",VLOOKUP(A188,'plan gier'!$Z:$AH,9,FALSE)))","v":""},{"$f":"IF(A188=0,\"\",IF(VLOOKUP(A188,'plan gier'!A:T,20,FALSE)=\"\",\"\",VLOOKUP(A188,'plan gier'!A:T,20,FALSE)))","v":""},{"$f":"L137","v":0},null,null,null,null,null,null,null,null,null,null,{"$f":"IF(F188=\"\",\"\",VLOOKUP(F188,zawodnicy!$A:$D,3,FALSE))","v":""}]
[null,null,null,null,null,null,null,null,null,null,null,null,null,null,null,null,null,null,null,null,{"$f":"IF(H188=\"\",I188,H188)","v":""}]
[{"$f":"S190","v":0},{"$f":"IF(Q190=\"\",\"\",Q190)","v":""},null,{"$f":"IF(Q191=\"\",\"\",Q191)","v":""},null,{"$f":"IF(A190=0,IF(AND(LEN(B190)>0,LEN(D190)=0),VLOOKUP(B190,zawodnicy!$A:$E,1,FALSE),IF(AND(LEN(D190)>0,LEN(B190)=0),VLOOKUP(D190,zawodnicy!$A:$E,1,FALSE),\"\")),IF((VLOOKUP(A190,'plan gier'!$Z:$AH,7,FALSE))=\"\",\"\",VLOOKUP(VLOOKUP(A190,'plan gier'!$Z:$AH,7,FALSE),zawodnicy!$A:$E,1,FALSE)))","v":""},null,{"$f":"IF(A190=0,\"\",IF((VLOOKUP(A190,'plan gier'!$Z:$AH,7,FALSE))=\"\",\"\",VLOOKUP(A190,'plan gier'!$Z:$AH,9,FALSE)))","v":""},{"$f":"IF(A190=0,\"\",IF(VLOOKUP(A190,'plan gier'!A:T,20,FALSE)=\"\",\"\",VLOOKUP(A190,'plan gier'!A:T,20,FALSE)))","v":""},{"$f":"L137","v":0},{"$f":"IF(L136>26,27,\"\")","v":27},null,null,null,null,{"$f":"IF(K190=\"\",\"\",MAX(P138:P189)+1)","v":27},{"$f":"UPPER(IF(P190=\"\",\"\",IF(ISTEXT(L190),L190,IF(AND(L135>0,P190>0),VLOOKUP(L135&P190&J190,'grup-puch'!I:J,2,FALSE),\"\"))))","v":""},{"$f":"IF(Q190<>\"\",CONCATENATE(VLOOKUP(Q190,zawodnicy!$A:$E,2,FALSE),\" \",VLOOKUP(Q190,zawodnicy!$A:$E,3,FALSE),\" - \",VLOOKUP(Q190,zawodnicy!$A:$E,4,FALSE)),\"\")","v":""},null,{"$f":"IF(F190=\"\",\"\",VLOOKUP(F190,zawodnicy!$A:$D,3,FALSE))","v":""}]
[null,null,null,null,null,null,null,null,null,null,{"$f":"IF(L136>16,28,\"\")","v":28},null,null,null,null,{"$f":"IF(K191=\"\",\"\",MAX(P138:P190)+1)","v":28},{"$f":"UPPER(IF(P191=\"\",\"\",IF(ISTEXT(L191),L191,IF(AND(L135>0,P191>0),VLOOKUP(L135&P191&J190,'grup-puch'!I:J,2,FALSE),\"\"))))","v":""},{"$f":"IF(Q191<>\"\",CONCATENATE(VLOOKUP(Q191,zawodnicy!$A:$E,2,FALSE),\" \",VLOOKUP(Q191,zawodnicy!$A:$E,3,FALSE),\" - \",VLOOKUP(Q191,zawodnicy!$A:$E,4,FALSE)),\"\")","v":""},null,{"$f":"IF(H190=\"\",I190,H190)","v":""}]
[{"$f":"U192","v":0},{"$f":"F188","v":""},null,{"$f":"F196","v":""},null,{"$f":"IF(A192=0,IF(AND(LEN(B192)>0,LEN(D192)=0),B192,IF(AND(LEN(D192)>0,LEN(B192)=0),D192,\"\")),IF((VLOOKUP(A192,'plan gier'!$Z:$AH,7,FALSE))=\"\",\"\",VLOOKUP(VLOOKUP(A192,'plan gier'!$Z:$AH,7,FALSE),zawodnicy!$A:$E,1,FALSE)))","v":""},null,{"$f":"IF(A192=0,\"\",IF((VLOOKUP(A192,'plan gier'!$Z:$AH,7,FALSE))=\"\",\"\",VLOOKUP(A192,'plan gier'!$Z:$AH,9,FALSE)))","v":""},{"$f":"IF(A192=0,\"\",IF(VLOOKUP(A192,'plan gier'!A:T,20,FALSE)=\"\",\"\",VLOOKUP(A192,'plan gier'!A:T,20,FALSE)))","v":""},{"$f":"L137","v":0},null,null,null,null,null,null,null,null,null,null,null,{"$f":"IF(F192=\"\",\"\",VLOOKUP(F192,zawodnicy!$A:$D,3,FALSE))","v":""}]
[null,null,null,null,null,null,null,null,null,null,null,null,null,null,null,null,null,null,null,null,null,{"$f":"IF(H192=\"\",I192,H192)","v":""}]
[{"$f":"S194","v":0},{"$f":"IF(Q194=\"\",\"\",Q194)","v":""},null,{"$f":"IF(Q195=\"\",\"\",Q195)","v":""},null,{"$f":"IF(A194=0,IF(AND(LEN(B194)>0,LEN(D194)=0),VLOOKUP(B194,zawodnicy!$A:$E,1,FALSE),IF(AND(LEN(D194)>0,LEN(B194)=0),VLOOKUP(D194,zawodnicy!$A:$E,1,FALSE),\"\")),IF((VLOOKUP(A194,'plan gier'!$Z:$AH,7,FALSE))=\"\",\"\",VLOOKUP(VLOOKUP(A194,'plan gier'!$Z:$AH,7,FALSE),zawodnicy!$A:$E,1,FALSE)))","v":""},null,{"$f":"IF(A194=0,\"\",IF((VLOOKUP(A194,'plan gier'!$Z:$AH,7,FALSE))=\"\",\"\",VLOOKUP(A194,'plan gier'!$Z:$AH,9,FALSE)))","v":""},{"$f":"IF(A194=0,\"\",IF(VLOOKUP(A194,'plan gier'!A:T,20,FALSE)=\"\",\"\",VLOOKUP(A194,'plan gier'!A:T,20,FALSE)))","v":""},{"$f":"L137","v":0},{"$f":"IF(L136>22,29,\"\")","v":29},null,null,null,null,{"$f":"IF(K194=\"\",\"\",MAX(P138:P193)+1)","v":29},{"$f":"UPPER(IF(P194=\"\",\"\",IF(ISTEXT(L194),L194,IF(AND(L135>0,P194>0),VLOOKUP(L135&P194&J194,'grup-puch'!I:J,2,FALSE),\"\"))))","v":""},{"$f":"IF(Q194<>\"\",CONCATENATE(VLOOKUP(Q194,zawodnicy!$A:$E,2,FALSE),\" \",VLOOKUP(Q194,zawodnicy!$A:$E,3,FALSE),\" - \",VLOOKUP(Q194,zawodnicy!$A:$E,4,FALSE)),\"\")","v":""},null,{"$f":"IF(F194=\"\",\"\",VLOOKUP(F194,zawodnicy!$A:$D,3,FALSE))","v":""}]
[null,null,null,null,null,null,null,null,null,null,{"$f":"IF(L136>16,30,\"\")","v":30},null,null,null,null,{"$f":"IF(K195=\"\",\"\",MAX(P138:P194)+1)","v":30},{"$f":"UPPER(IF(P195=\"\",\"\",IF(ISTEXT(L195),L195,IF(AND(L135>0,P195>0),VLOOKUP(L135&P195&J194,'grup-puch'!I:J,2,FALSE),\"\"))))","v":""},{"$f":"IF(Q195<>\"\",CONCATENATE(VLOOKUP(Q195,zawodnicy!$A:$E,2,FALSE),\" \",VLOOKUP(Q195,zawodnicy!$A:$E,3,FALSE),\" - \",VLOOKUP(Q195,zawodnicy!$A:$E,4,FALSE)),\"\")","v":""},null,{"$f":"IF(H194=\"\",I194,H194)","v":""}]
[{"$f":"T196","v":0},{"$f":"F194","v":""},null,{"$f":"F198","v":""},null,{"$f":"IF(A196=0,IF(AND(LEN(B196)>0,LEN(D196)=0),B196,IF(AND(LEN(D196)>0,LEN(B196)=0),D196,\"\")),IF((VLOOKUP(A196,'plan gier'!$Z:$AH,7,FALSE))=\"\",\"\",VLOOKUP(VLOOKUP(A196,'plan gier'!$Z:$AH,7,FALSE),zawodnicy!$A:$E,1,FALSE)))","v":""},null,{"$f":"IF(A196=0,\"\",IF((VLOOKUP(A196,'plan gier'!$Z:$AH,7,FALSE))=\"\",\"\",VLOOKUP(A196,'plan gier'!$Z:$AH,9,FALSE)))","v":""},{"$f":"IF(A196=0,\"\",IF(VLOOKUP(A196,'plan gier'!A:T,20,FALSE)=\"\",\"\",VLOOKUP(A196,'plan gier'!A:T,20,FALSE)))","v":""},{"$f":"L137","v":0},null,null,null,null,null,null,null,null,null,null,{"$f":"IF(F196=\"\",\"\",VLOOKUP(F196,zawodnicy!$A:$D,3,FALSE))","v":""}]
[null,null,null,null,null,null,null,null,null,null,null,null,null,null,null,null,null,null,null,null,{"$f":"IF(H196=\"\",I196,H196)","v":""}]
[{"$f":"S198","v":0},{"$f":"IF(Q198=\"\",\"\",Q198)","v":""},null,{"$f":"IF(Q199=\"\",\"\",Q199)","v":""},null,{"$f":"IF(A198=0,IF(AND(LEN(B198)>0,LEN(D198)=0),VLOOKUP(B198,zawodnicy!$A:$E,1,FALSE),IF(AND(LEN(D198)>0,LEN(B198)=0),VLOOKUP(D198,zawodnicy!$A:$E,1,FALSE),\"\")),IF((VLOOKUP(A198,'plan gier'!$Z:$AH,7,FALSE))=\"\",\"\",VLOOKUP(VLOOKUP(A198,'plan gier'!$Z:$AH,7,FALSE),zawodnicy!$A:$E,1,FALSE)))","v":""},null,{"$f":"IF(A198=0,\"\",IF((VLOOKUP(A198,'plan gier'!$Z:$AH,7,FALSE))=\"\",\"\",VLOOKUP(A198,'plan gier'!$Z:$AH,9,FALSE)))","v":""},{"$f":"IF(A198=0,\"\",IF(VLOOKUP(A198,'plan gier'!A:T,20,FALSE)=\"\",\"\",VLOOKUP(A198,'plan gier'!A:T,20,FALSE)))","v":""},{"$f":"L137","v":0},{"$f":"IF(L136>30,31,\"\")","v":31},null,null,null,null,{"$f":"IF(K198=\"\",\"\",MAX(P138:P197)+1)","v":31},{"$f":"UPPER(IF(P198=\"\",\"\",IF(ISTEXT(L198),L198,IF(AND(L135>0,P198>0),VLOOKUP(L135&P198&J198,'grup-puch'!I:J,2,FALSE),\"\"))))","v":""},{"$f":"IF(Q198<>\"\",CONCATENATE(VLOOKUP(Q198,zawodnicy!$A:$E,2,FALSE),\" \",VLOOKUP(Q198,zawodnicy!$A:$E,3,FALSE),\" - \",VLOOKUP(Q198,zawodnicy!$A:$E,4,FALSE)),\"\")","v":""},null,{"$f":"IF(F198=\"\",\"\",VLOOKUP(F198,zawodnicy!$A:$D,3,FALSE))","v":""},null,"Sędzia główny"]
[null,null,null,null,null,null,null,null,null,null,{"$f":"IF(L136>16,32,\"\")","v":32},null,null,null,null,{"$f":"IF(K199=\"\",\"\",MAX(P138:P198)+1)","v":32},{"$f":"UPPER(IF(P199=\"\",\"\",IF(ISTEXT(L199),L199,IF(AND(L135>0,P199>0),VLOOKUP(L135&P199&J198,'grup-puch'!I:J,2,FALSE),\"\"))))","v":""},{"$f":"IF(Q199<>\"\",CONCATENATE(VLOOKUP(Q199,zawodnicy!$A:$E,2,FALSE),\" \",VLOOKUP(Q199,zawodnicy!$A:$E,3,FALSE),\" - \",VLOOKUP(Q199,zawodnicy!$A:$E,4,FALSE)),\"\")","v":""},null,{"$f":"IF(H198=\"\",I198,H198)","v":""},null,{"$f":"IF(ISBLANK(dane!$D$4),\"\",dane!$D$4)","v":"Marek Krawczyk"}]
[]
[]
[null,null,null,null,null,null,null,null,null,null,null,16]
[]
[{"$f":"S204","v":0},{"$f":"IF(Q204=\"\",\"\",Q204)","v":""},null,{"$f":"IF(Q205=\"\",\"\",Q205)","v":""},null,{"$f":"IF(A204=0,IF(AND(LEN(B204)>0,LEN(D204)=0),VLOOKUP(B204,zawodnicy!$A:$E,1,FALSE),IF(AND(LEN(D204)>0,LEN(B204)=0),VLOOKUP(D204,zawodnicy!$A:$E,1,FALSE),\"\")),IF((VLOOKUP(A204,'plan gier'!$Z:$AH,7,FALSE))=\"\",\"\",VLOOKUP(VLOOKUP(A204,'plan gier'!$Z:$AH,7,FALSE),zawodnicy!$A:$E,1,FALSE)))","v":""},null,{"$f":"IF(A204=0,\"\",IF((VLOOKUP(A204,'plan gier'!$Z:$AH,7,FALSE))=\"\",\"\",VLOOKUP(A204,'plan gier'!$Z:$AH,9,FALSE)))","v":""},{"$f":"IF(A204=0,\"\",IF(VLOOKUP(A204,'plan gier'!A:T,20,FALSE)=\"\",\"\",VLOOKUP(A204,'plan gier'!A:T,20,FALSE)))","v":""},{"$f":"L203","v":0},{"$f":"IF(L202>8,1,\"\")","v":1},null,null,null,null,{"$f":"IF(K204=\"\",\"\",1)","v":1},{"$f":"UPPER(IF(P204=\"\",\"\",IF(ISTEXT(L204),L204,IF(AND(L201>0,P204>0),VLOOKUP(L201&P204&J204,'grup-puch'!I:J,2,FALSE),\"\"))))","v":""},{"$f":"IF(Q204<>\"\",CONCATENATE(VLOOKUP(Q204,zawodnicy!$A:$E,2,FALSE),\" \",VLOOKUP(Q204,zawodnicy!$A:$E,3,FALSE),\" - \",VLOOKUP(Q204,zawodnicy!$A:$E,4,FALSE)),\"\")","v":""},null,{"$f":"IF(F204=\"\",\"\",VLOOKUP(F204,zawodnicy!$A:$D,3,FALSE))","v":""}]
[null,null,null,null,null,null,null,null,null,null,{"$f":"IF(L202>15,3,\"\")","v":3},null,null,null,null,{"$f":"IF(K205=\"\",\"\",2)","v":2},{"$f":"UPPER(IF(P205=\"\",\"\",IF(ISTEXT(L205),L205,IF(AND(L201>0,P205>0),VLOOKUP(L201&P205&J204,'grup-puch'!I:J,2,FALSE),\"\"))))","v":""},{"$f":"IF(Q205<>\"\",CONCATENATE(VLOOKUP(Q205,zawodnicy!$A:$E,2,FALSE),\" \",VLOOKUP(Q205,zawodnicy!$A:$E,3,FALSE),\" - \",VLOOKUP(Q205,zawodnicy!$A:$E,4,FALSE)),\"\")","v":""},null,{"$f":"IF(H204=\"\",I204,H204)","v":""}]
[{"$f":"T206","v":0},{"$f":"F204","v":""},null,{"$f":"F208","v":""},null,{"$f":"IF(A206=0,IF(AND(LEN(B206)>0,LEN(D206)=0),B206,IF(AND(LEN(D206)>0,LEN(B206)=0),D206,\"\")),IF((VLOOKUP(A206,'plan gier'!$Z:$AH,7,FALSE))=\"\",\"\",VLOOKUP(VLOOKUP(A206,'plan gier'!$Z:$AH,7,FALSE),zawodnicy!$A:$E,1,FALSE)))","v":""},null,{"$f":"IF(A206=0,\"\",IF((VLOOKUP(A206,'plan gier'!$Z:$AH,7,FALSE))=\"\",\"\",VLOOKUP(A206,'plan gier'!$Z:$AH,9,FALSE)))","v":""},{"$f":"IF(A206=0,\"\",IF(VLOOKUP(A206,'plan gier'!A:T,20,FALSE)=\"\",\"\",VLOOKUP(A206,'plan gier'!A:T,20,FALSE)))","v":""},{"$f":"L203","v":0},null,null,null,null,null,null,null,null,null,null,{"$f":"IF(F206=\"\",\"\",VLOOKUP(F206,zawodnicy!$A:$D,3,FALSE))","v":""}]
[null,null,null,null,null,null,null,null,null,null,null,null,null,null,null,null,null,null,null,null,{"$f":"IF(H206=\"\",I206,H206)","v":""}]
[{"$f":"S208","v":0},{"$f":"IF(Q208=\"\",\"\",Q208)","v":""},null,{"$f":"IF(Q209=\"\",\"\",Q209)","v":""},null,{"$f":"IF(A208=0,IF(AND(LEN(B208)>0,LEN(D208)=0),VLOOKUP(B208,zawodnicy!$A:$E,1,FALSE),IF(AND(LEN(D208)>0,LEN(B208)=0),VLOOKUP(D208,zawodnicy!$A:$E,1,FALSE),\"\")),IF((VLOOKUP(A208,'plan gier'!$Z:$AH,7,FALSE))=\"\",\"\",VLOOKUP(VLOOKUP(A208,'plan gier'!$Z:$AH,7,FALSE),zawodnicy!$A:$E,1,FALSE)))","v":""},null,{"$f":"IF(A208=0,\"\",IF((VLOOKUP(A208,'plan gier'!$Z:$AH,7,FALSE))=\"\",\"\",VLOOKUP(A208,'plan gier'!$Z:$AH,9,FALSE)))","v":""},{"$f":"IF(A208=0,\"\",IF(VLOOKUP(A208,'plan gier'!A:T,20,FALSE)=\"\",\"\",VLOOKUP(A208,'plan gier'!A:T,20,FALSE)))","v":""},{"$f":"L203","v":0},{"$f":"IF(L202>8,5,\"\")","v":5},null,null,null,null,{"$f":"IF(K208=\"\",\"\",MAX(P204:P207)+1)","v":3},{"$f":"UPPER(IF(P208=\"\",\"\",IF(ISTEXT(L208),L208,IF(AND(L201>0,P208>0),VLOOKUP(L201&P208&J208,'grup-puch'!I:J,2,FALSE),\"\"))))","v":""},{"$f":"IF(Q208<>\"\",CONCATENATE(VLOOKUP(Q208,zawodnicy!$A:$E,2,FALSE),\" \",VLOOKUP(Q208,zawodnicy!$A:$E,3,FALSE),\" - \",VLOOKUP(Q208,zawodnicy!$A:$E,4,FALSE)),\"\")","v":""},null,{"$f":"IF(F208=\"\",\"\",VLOOKUP(F208,zawodnicy!$A:$D,3,FALSE))","v":""}]
[null,null,null,null,null,null,null,null,null,null,{"$f":"IF(L202>11,7,\"\")","v":7},null,null,null,null,{"$f":"IF(K209=\"\",\"\",MAX(P204:P208)+1)","v":4},{"$f":"UPPER(IF(P209=\"\",\"\",IF(ISTEXT(L209),L209,IF(AND(L201>0,P209>0),VLOOKUP(L201&P209&J208,'grup-puch'!I:J,2,FALSE),\"\"))))","v":""},{"$f":"IF(Q209<>\"\",CONCATENATE(VLOOKUP(Q209,zawodnicy!$A:$E,2,FALSE),\" \",VLOOKUP(Q209,zawodnicy!$A:$E,3,FALSE),\" - \",VLOOKUP(Q209,zawodnicy!$A:$E,4,FALSE)),\"\")","v":""},null,{"$f":"IF(H208=\"\",I208,H208)","v":""}]
[{"$f":"U210","v":0},{"$f":"F206","v":""},null,{"$f":"F214","v":""},null,{"$f":"IF(A210=0,IF(AND(LEN(B210)>0,LEN(D210)=0),B210,IF(AND(LEN(D210)>0,LEN(B210)=0),D210,\"\")),IF((VLOOKUP(A210,'plan gier'!$Z:$AH,7,FALSE))=\"\",\"\",VLOOKUP(VLOOKUP(A210,'plan gier'!$Z:$AH,7,FALSE),zawodnicy!$A:$E,1,FALSE)))","v":""},null,{"$f":"IF(A210=0,\"\",IF((VLOOKUP(A210,'plan gier'!$Z:$AH,7,FALSE))=\"\",\"\",VLOOKUP(A210,'plan gier'!$Z:$AH,9,FALSE)))","v":""},{"$f":"IF(A210=0,\"\",IF(VLOOKUP(A210,'plan gier'!A:T,20,FALSE)=\"\",\"\",VLOOKUP(A210,'plan gier'!A:T,20,FALSE)))","v":""},{"$f":"L203","v":0},null,null,null,null,null,{"$f":"IF(K210=\"\",\"\",MAX(P204:P209)+1)","v":""},null,null,null,null,null,{"$f":"IF(F210=\"\",\"\",VLOOKUP(F210,zawodnicy!$A:$D,3,FALSE))","v":""}]
[null,null,null,null,null,null,null,null,null,null,null,null,null,null,null,{"$f":"IF(K211=\"\",\"\",MAX(P204:P210)+1)","v":""},null,null,null,null,null,{"$f":"IF(H210=\"\",I210,H210)","v":""}]
[{"$f":"S212","v":0},{"$f":"IF(Q212=\"\",\"\",Q212)","v":""},null,{"$f":"IF(Q213=\"\",\"\",Q213)","v":""},null,{"$f":"IF(A212=0,IF(AND(LEN(B212)>0,LEN(D212)=0),VLOOKUP(B212,zawodnicy!$A:$E,1,FALSE),IF(AND(LEN(D212)>0,LEN(B212)=0),VLOOKUP(D212,zawodnicy!$A:$E,1,FALSE),\"\")),IF((VLOOKUP(A212,'plan gier'!$Z:$AH,7,FALSE))=\"\",\"\",VLOOKUP(VLOOKUP(A212,'plan gier'!$Z:$AH,7,FALSE),zawodnicy!$A:$E,1,FALSE)))","v":""},null,{"$f":"IF(A212=0,\"\",IF((VLOOKUP(A212,'plan gier'!$Z:$AH,7,FALSE))=\"\",\"\",VLOOKUP(A212,'plan gier'!$Z:$AH,9,FALSE)))","v":""},{"$f":"IF(A212=0,\"\",IF(VLOOKUP(A212,'plan gier'!A:T,20,FALSE)=\"\",\"\",VLOOKUP(A212,'plan gier'!A:T,20,FALSE)))","v":""},{"$f":"L203","v":0},{"$f":"IF(L202>8,9,\"\")","v":9},null,null,null,null,{"$f":"IF(K212=\"\",\"\",MAX(P204:P211)+1)","v":5},{"$f":"UPPER(IF(P212=\"\",\"\",IF(ISTEXT(L212),L212,IF(AND(L201>0,P212>0),VLOOKUP(L201&P212&J212,'grup-puch'!I:J,2,FALSE),\"\"))))","v":""},{"$f":"IF(Q212<>\"\",CONCATENATE(VLOOKUP(Q212,zawodnicy!$A:$E,2,FALSE),\" \",VLOOKUP(Q212,zawodnicy!$A:$E,3,FALSE),\" - \",VLOOKUP(Q212,zawodnicy!$A:$E,4,FALSE)),\"\")","v":""},null,{"$f":"IF(F212=\"\",\"\",VLOOKUP(F212,zawodnicy!$A:$D,3,FALSE))","v":""}]
[null,null,null,null,null,null,null,null,null,null,{"$f":"IF(L202>13,11,\"\")","v":11},null,null,null,null,{"$f":"IF(K213=\"\",\"\",MAX(P204:P212)+1)","v":6},{"$f":"UPPER(IF(P213=\"\",\"\",IF(ISTEXT(L213),L213,IF(AND(L201>0,P213>0),VLOOKUP(L201&P213&J212,'grup-puch'!I:J,2,FALSE),\"\"))))","v":""},{"$f":"IF(Q213<>\"\",CONCATENATE(VLOOKUP(Q213,zawodnicy!$A:$E,2,FALSE),\" \",VLOOKUP(Q213,zawodnicy!$A:$E,3,FALSE),\" - \",VLOOKUP(Q213,zawodnicy!$A:$E,4,FALSE)),\"\")","v":""},null,{"$f":"IF(H212=\"\",I212,H212)","v":""}]
[{"$f":"T214","v":0},{"$f":"F212","v":""},null,{"$f":"F216","v":""},null,{"$f":"IF(A214=0,IF(AND(LEN(B214)>0,LEN(D214)=0),B214,IF(AND(LEN(D214)>0,LEN(B214)=0),D214,\"\")),IF((VLOOKUP(A214,'plan gier'!$Z:$AH,7,FALSE))=\"\",\"\",VLOOKUP(VLOOKUP(A214,'plan gier'!$Z:$AH,7,FALSE),zawodnicy!$A:$E,1,FALSE)))","v":""},null,{"$f":"IF(A214=0,\"\",IF((VLOOKUP(A214,'plan gier'!$Z:$AH,7,FALSE))=\"\",\"\",VLOOKUP(A214,'plan gier'!$Z:$AH,9,FALSE)))","v":""},{"$f":"IF(A214=0,\"\",IF(VLOOKUP(A214,'plan gier'!A:T,20,FALSE)=\"\",\"\",VLOOKUP(A214,'plan gier'!A:T,20,FALSE)))","v":""},{"$f":"L203","v":0},null,null,null,null,null,{"$f":"IF(K214=\"\",\"\",MAX(P204:P213)+1)","v":""},null,null,null,null,{"$f":"IF(F214=\"\",\"\",VLOOKUP(F214,zawodnicy!$A:$D,3,FALSE))","v":""}]
[null,null,null,null,null,null,null,null,null,null,null,null,null,null,null,{"$f":"IF(K215=\"\",\"\",MAX(P204:P214)+1)","v":""},null,null,null,null,{"$f":"IF(H214=\"\",I214,H214)","v":""}]
[{"$f":"S216","v":0},{"$f":"IF(Q216=\"\",\"\",Q216)","v":""},null,{"$f":"IF(Q217=\"\",\"\",Q217)","v":""},null,{"$f":"IF(A216=0,IF(AND(LEN(B216)>0,LEN(D216)=0),VLOOKUP(B216,zawodnicy!$A:$E,1,FALSE),IF(AND(LEN(D216)>0,LEN(B216)=0),VLOOKUP(D216,zawodnicy!$A:$E,1,FALSE),\"\")),IF((VLOOKUP(A216,'plan gier'!$Z:$AH,7,FALSE))=\"\",\"\",VLOOKUP(VLOOKUP(A216,'plan gier'!$Z:$AH,7,FALSE),zawodnicy!$A:$E,1,FALSE)))","v":""},null,{"$f":"IF(A216=0,\"\",IF((VLOOKUP(A216,'plan gier'!$Z:$AH,7,FALSE))=\"\",\"\",VLOOKUP(A216,'plan gier'!$Z:$AH,9,FALSE)))","v":""},{"$f":"IF(A216=0,\"\",IF(VLOOKUP(A216,'plan gier'!A:T,20,FALSE)=\"\",\"\",VLOOKUP(A216,'plan gier'!A:T,20,FALSE)))","v":""},{"$f":"L203","v":0},{"$f":"IF(L202>8,13,\"\")","v":13},null,null,null,null,{"$f":"IF(K216=\"\",\"\",MAX(P204:P215)+1)","v":7},{"$f":"UPPER(IF(P216=\"\",\"\",IF(ISTEXT(L216),L216,IF(AND(L201>0,P216>0),VLOOKUP(L201&P216&J216,'grup-puch'!I:J,2,FALSE),\"\"))))","v":""},{"$f":"IF(Q216<>\"\",CONCATENATE(VLOOKUP(Q216,zawodnicy!$A:$E,2,FALSE),\" \",VLOOKUP(Q216,zawodnicy!$A:$E,3,FALSE),\" - \",VLOOKUP(Q216,zawodnicy!$A:$E,4,FALSE)),\"\")","v":""},null,{"$f":"IF(F216=\"\",\"\",VLOOKUP(F216,zawodnicy!$A:$D,3,FALSE))","v":""}]
[null,null,null,null,null,null,null,null,null,null,{"$f":"IF(L202>9,15,\"\")","v":15},null,null,null,null,{"$f":"IF(K217=\"\",\"\",MAX(P204:P216)+1)","v":8},{"$f":"UPPER(IF(P217=\"\",\"\",IF(ISTEXT(L217),L217,IF(AND(L201>0,P217>0),VLOOKUP(L201&P217&J216,'grup-puch'!I:J,2,FALSE),\"\"))))","v":""},{"$f":"IF(Q217<>\"\",CONCATENATE(VLOOKUP(Q217,zawodnicy!$A:$E,2,FALSE),\" \",VLOOKUP(Q217,zawodnicy!$A:$E,3,FALSE),\" - \",VLOOKUP(Q217,zawodnicy!$A:$E,4,FALSE)),\"\")","v":""},null,{"$f":"IF(H216=\"\",I216,H216)","v":""}]
[{"$f":"V218","v":0},{"$f":"F210","v":""},null,{"$f":"F226","v":""},null,{"$f":"IF(A218=0,IF(AND(LEN(B218)>0,LEN(D218)=0),B218,IF(AND(LEN(D218)>0,LEN(B218)=0),D218,\"\")),IF((VLOOKUP(A218,'plan gier'!$Z:$AH,7,FALSE))=\"\",\"\",VLOOKUP(VLOOKUP(A218,'plan gier'!$Z:$AH,7,FALSE),zawodnicy!$A:$E,1,FALSE)))","v":""},null,{"$f":"IF(A218=0,\"\",IF((VLOOKUP(A218,'plan gier'!$Z:$AH,7,FALSE))=\"\",\"\",VLOOKUP(A218,'plan gier'!$Z:$AH,9,FALSE)))","v":""},{"$f":"IF(A218=0,\"\",IF(VLOOKUP(A218,'plan gier'!A:T,20,FALSE)=\"\",\"\",VLOOKUP(A218,'plan gier'!A:T,20,FALSE)))","v":""},{"$f":"L203","v":0},null,null,null,null,null,{"$f":"IF(K218=\"\",\"\",MAX(P204:P217)+1)","v":""},null,null,null,null,null,null,{"$f":"IF(F218=\"\",\"\",VLOOKUP(F218,zawodnicy!$A:$D,3,FALSE))","v":""}]
[null,null,null,null,null,null,null,null,null,null,null,null,null,null,null,{"$f":"IF(K219=\"\",\"\",MAX(P204:P218)+1)","v":""},null,null,null,null,null,null,{"$f":"IF(H218=\"\",I218,H218)","v":""}]
[{"$f":"S220","v":0},{"$f":"IF(Q220=\"\",\"\",Q220)","v":""},null,{"$f":"IF(Q221=\"\",\"\",Q221)","v":""},null,{"$f":"IF(A220=0,IF(AND(LEN(B220)>0,LEN(D220)=0),VLOOKUP(B220,zawodnicy!$A:$E,1,FALSE),IF(AND(LEN(D220)>0,LEN(B220)=0),VLOOKUP(D220,zawodnicy!$A:$E,1,FALSE),\"\")),IF((VLOOKUP(A220,'plan gier'!$Z:$AH,7,FALSE))=\"\",\"\",VLOOKUP(VLOOKUP(A220,'plan gier'!$Z:$AH,7,FALSE),zawodnicy!$A:$E,1,FALSE)))","v":""},null,{"$f":"IF(A220=0,\"\",IF((VLOOKUP(A220,'plan gier'!$Z:$AH,7,FALSE))=\"\",\"\",VLOOKUP(A220,'plan gier'!$Z:$AH,9,FALSE)))","v":""},{"$f":"IF(A220=0,\"\",IF(VLOOKUP(A220,'plan gier'!A:T,20,FALSE)=\"\",\"\",VLOOKUP(A220,'plan gier'!A:T,20,FALSE)))","v":""},{"$f":"L203","v":0},{"$f":"IF(L202>8,18,\"\")","v":18},null,null,null,null,{"$f":"IF(K220=\"\",\"\",MAX(P204:P219)+1)","v":9},{"$f":"UPPER(IF(P220=\"\",\"\",IF(ISTEXT(L220),L220,IF(AND(L201>0,P220>0),VLOOKUP(L201&P220&J220,'grup-puch'!I:J,2,FALSE),\"\"))))","v":""},{"$f":"IF(Q220<>\"\",CONCATENATE(VLOOKUP(Q220,zawodnicy!$A:$E,2,FALSE),\" \",VLOOKUP(Q220,zawodnicy!$A:$E,3,FALSE),\" - \",VLOOKUP(Q220,zawodnicy!$A:$E,4,FALSE)),\"\")","v":""},null,{"$f":"IF(F220=\"\",\"\",VLOOKUP(F220,zawodnicy!$A:$D,3,FALSE))","v":""}]
[null,null,null,null,null,null,null,null,null,null,{"$f":"IF(L202>8,20,\"\")","v":20},null,null,null,null,{"$f":"IF(K221=\"\",\"\",MAX(P204:P220)+1)","v":10},{"$f":"UPPER(IF(P221=\"\",\"\",IF(ISTEXT(L221),L221,IF(AND(L201>0,P221>0),VLOOKUP(L201&P221&J220,'grup-puch'!I:J,2,FALSE),\"\"))))","v":""},{"$f":"IF(Q221<>\"\",CONCATENATE(VLOOKUP(Q221,zawodnicy!$A:$E,2,FALSE),\" \",VLOOKUP(Q221,zawodnicy!$A:$E,3,FALSE),\" - \",VLOOKUP(Q221,zawodnicy!$A:$E,4,FALSE)),\"\")","v":""},null,{"$f":"IF(H220=\"\",I220,H220)","v":""}]
[{"$f":"T222","v":0},{"$f":"F220","v":""},null,{"$f":"F224","v":""},null,{"$f":"IF(A222=0,IF(AND(LEN(B222)>0,LEN(D222)=0),B222,IF(AND(LEN(D222)>0,LEN(B222)=0),D222,\"\")),IF((VLOOKUP(A222,'plan gier'!$Z:$AH,7,FALSE))=\"\",\"\",VLOOKUP(VLOOKUP(A222,'plan gier'!$Z:$AH,7,FALSE),zawodnicy!$A:$E,1,FALSE)))","v":""},null,{"$f":"IF(A222=0,\"\",IF((VLOOKUP(A222,'plan gier'!$Z:$AH,7,FALSE))=\"\",\"\",VLOOKUP(A222,'plan gier'!$Z:$AH,9,FALSE)))","v":""},{"$f":"IF(A222=0,\"\",IF(VLOOKUP(A222,'plan gier'!A:T,20,FALSE)=\"\",\"\",VLOOKUP(A222,'plan gier'!A:T,20,FALSE)))","v":""},{"$f":"L203","v":0},null,null,null,null,null,{"$f":"IF(K222=\"\",\"\",MAX(P204:P221)+1)","v":""},null,null,null,null,{"$f":"IF(F222=\"\",\"\",VLOOKUP(F222,zawodnicy!$A:$D,3,FALSE))","v":""}]
[null,null,null,null,null,null,null,null,null,null,null,null,null,null,null,{"$f":"IF(K223=\"\",\"\",MAX(P204:P222)+1)","v":""},null,null,null,null,{"$f":"IF(H222=\"\",I222,H222)","v":""}]
[{"$f":"S224","v":0},{"$f":"IF(Q224=\"\",\"\",Q224)","v":""},null,{"$f":"IF(Q225=\"\",\"\",Q225)","v":""},null,{"$f":"IF(A224=0,IF(AND(LEN(B224)>0,LEN(D224)=0),VLOOKUP(B224,zawodnicy!$A:$E,1,FALSE),IF(AND(LEN(D224)>0,LEN(B224)=0),VLOOKUP(D224,zawodnicy!$A:$E,1,FALSE),\"\")),IF((VLOOKUP(A224,'plan gier'!$Z:$AH,7,FALSE))=\"\",\"\",VLOOKUP(VLOOKUP(A224,'plan gier'!$Z:$AH,7,FALSE),zawodnicy!$A:$E,1,FALSE)))","v":""},null,{"$f":"IF(A224=0,\"\",IF((VLOOKUP(A224,'plan gier'!$Z:$AH,7,FALSE))=\"\",\"\",VLOOKUP(A224,'plan gier'!$Z:$AH,9,FALSE)))","v":""},{"$f":"IF(A224=0,\"\",IF(VLOOKUP(A224,'plan gier'!A:T,20,FALSE)=\"\",\"\",VLOOKUP(A224,'plan gier'!A:T,20,FALSE)))","v":""},{"$f":"L203","v":0},{"$f":"IF(L202>12,22,\"\")","v":22},null,null,null,null,{"$f":"IF(K224=\"\",\"\",MAX(P204:P223)+1)","v":11},{"$f":"UPPER(IF(P224=\"\",\"\",IF(ISTEXT(L224),L224,IF(AND(L201>0,P224>0),VLOOKUP(L201&P224&J224,'grup-puch'!I:J,2,FALSE),\"\"))))","v":""},{"$f":"IF(Q224<>\"\",CONCATENATE(VLOOKUP(Q224,zawodnicy!$A:$E,2,FALSE),\" \",VLOOKUP(Q224,zawodnicy!$A:$E,3,FALSE),\" - \",VLOOKUP(Q224,zawodnicy!$A:$E,4,FALSE)),\"\")","v":""},null,{"$f":"IF(F224=\"\",\"\",VLOOKUP(F224,zawodnicy!$A:$D,3,FALSE))","v":""}]
[null,null,null,null,null,null,null,null,null,null,{"$f":"IF(L202>8,24,\"\")","v":24},null,null,null,null,{"$f":"IF(K225=\"\",\"\",MAX(P204:P224)+1)","v":12},{"$f":"UPPER(IF(P225=\"\",\"\",IF(ISTEXT(L225),L225,IF(AND(L201>0,P225>0),VLOOKUP(L201&P225&J224,'grup-puch'!I:J,2,FALSE),\"\"))))","v":""},{"$f":"IF(Q225<>\"\",CONCATENATE(VLOOKUP(Q225,zawodnicy!$A:$E,2,FALSE),\" \",VLOOKUP(Q225,zawodnicy!$A:$E,3,FALSE),\" - \",VLOOKUP(Q225,zawodnicy!$A:$E,4,FALSE)),\"\")","v":""},null,{"$f":"IF(H224=\"\",I224,H224)","v":""}]
[{"$f":"U226","v":0},{"$f":"F222","v":""},null,{"$f":"F230","v":""},null,{"$f":"IF(A226=0,IF(AND(LEN(B226)>0,LEN(D226)=0),B226,IF(AND(LEN(D226)>0,LEN(B226)=0),D226,\"\")),IF((VLOOKUP(A226,'plan gier'!$Z:$AH,7,FALSE))=\"\",\"\",VLOOKUP(VLOOKUP(A226,'plan gier'!$Z:$AH,7,FALSE),zawodnicy!$A:$E,1,FALSE)))","v":""},null,{"$f":"IF(A226=0,\"\",IF((VLOOKUP(A226,'plan gier'!$Z:$AH,7,FALSE))=\"\",\"\",VLOOKUP(A226,'plan gier'!$Z:$AH,9,FALSE)))","v":""},{"$f":"IF(A226=0,\"\",IF(VLOOKUP(A226,'plan gier'!A:T,20,FALSE)=\"\",\"\",VLOOKUP(A226,'plan gier'!A:T,20,FALSE)))","v":""},{"$f":"L203","v":0},null,null,null,null,null,{"$f":"IF(K226=\"\",\"\",MAX(P204:P225)+1)","v":""},null,null,null,null,null,{"$f":"IF(F226=\"\",\"\",VLOOKUP(F226,zawodnicy!$A:$D,3,FALSE))","v":""}]
[null,null,null,null,null,null,null,null,null,null,null,null,null,null,null,{"$f":"IF(K227=\"\",\"\",MAX(P204:P226)+1)","v":""},null,null,null,null,null,{"$f":"IF(H226=\"\",I226,H226)","v":""}]
[{"$f":"S228","v":0},{"$f":"IF(Q228=\"\",\"\",Q228)","v":""},null,{"$f":"IF(Q229=\"\",\"\",Q229)","v":""},null,{"$f":"IF(A228=0,IF(AND(LEN(B228)>0,LEN(D228)=0),VLOOKUP(B228,zawodnicy!$A:$E,1,FALSE),IF(AND(LEN(D228)>0,LEN(B228)=0),VLOOKUP(D228,zawodnicy!$A:$E,1,FALSE),\"\")),IF((VLOOKUP(A228,'plan gier'!$Z:$AH,7,FALSE))=\"\",\"\",VLOOKUP(VLOOKUP(A228,'plan gier'!$Z:$AH,7,FALSE),zawodnicy!$A:$E,1,FALSE)))","v":""},null,{"$f":"IF(A228=0,\"\",IF((VLOOKUP(A228,'plan gier'!$Z:$AH,7,FALSE))=\"\",\"\",VLOOKUP(A228,'plan gier'!$Z:$AH,9,FALSE)))","v":""},{"$f":"IF(A228=0,\"\",IF(VLOOKUP(A228,'plan gier'!A:T,20,FALSE)=\"\",\"\",VLOOKUP(A228,'plan gier'!A:T,20,FALSE)))","v":""},{"$f":"L203","v":0},{"$f":"IF(L202>10,26,\"\")","v":26},null,null,null,null,{"$f":"IF(K228=\"\",\"\",MAX(P204:P227)+1)","v":13},{"$f":"UPPER(IF(P228=\"\",\"\",IF(ISTEXT(L228),L228,IF(AND(L201>0,P228>0),VLOOKUP(L201&P228&J228,'grup-puch'!I:J,2,FALSE),\"\"))))","v":""},{"$f":"IF(Q228<>\"\",CONCATENATE(VLOOKUP(Q228,zawodnicy!$A:$E,2,FALSE),\" \",VLOOKUP(Q228,zawodnicy!$A:$E,3,FALSE),\" - \",VLOOKUP(Q228,zawodnicy!$A:$E,4,FALSE)),\"\")","v":""},null,{"$f":"IF(F228=\"\",\"\",VLOOKUP(F228,zawodnicy!$A:$D,3,FALSE))","v":""}]
[null,null,null,null,null,null,null,null,null,null,{"$f":"IF(L202>8,28,\"\")","v":28},null,null,null,null,{"$f":"IF(K229=\"\",\"\",MAX(P204:P228)+1)","v":14},{"$f":"UPPER(IF(P229=\"\",\"\",IF(ISTEXT(L229),L229,IF(AND(L201>0,P229>0),VLOOKUP(L201&P229&J228,'grup-puch'!I:J,2,FALSE),\"\"))))","v":""},{"$f":"IF(Q229<>\"\",CONCATENATE(VLOOKUP(Q229,zawodnicy!$A:$E,2,FALSE),\" \",VLOOKUP(Q229,zawodnicy!$A:$E,3,FALSE),\" - \",VLOOKUP(Q229,zawodnicy!$A:$E,4,FALSE)),\"\")","v":""},null,{"$f":"IF(H228=\"\",I228,H228)","v":""}]
[{"$f":"T230","v":0},{"$f":"F228","v":""},null,{"$f":"F232","v":""},null,{"$f":"IF(A230=0,IF(AND(LEN(B230)>0,LEN(D230)=0),B230,IF(AND(LEN(D230)>0,LEN(B230)=0),D230,\"\")),IF((VLOOKUP(A230,'plan gier'!$Z:$AH,7,FALSE))=\"\",\"\",VLOOKUP(VLOOKUP(A230,'plan gier'!$Z:$AH,7,FALSE),zawodnicy!$A:$E,1,FALSE)))","v":""},null,{"$f":"IF(A230=0,\"\",IF((VLOOKUP(A230,'plan gier'!$Z:$AH,7,FALSE))=\"\",\"\",VLOOKUP(A230,'plan gier'!$Z:$AH,9,FALSE)))","v":""},{"$f":"IF(A230=0,\"\",IF(VLOOKUP(A230,'plan gier'!A:T,20,FALSE)=\"\",\"\",VLOOKUP(A230,'plan gier'!A:T,20,FALSE)))","v":""},{"$f":"L203","v":0},null,null,null,null,null,{"$f":"IF(K230=\"\",\"\",MAX(P204:P229)+1)","v":""},null,null,null,null,{"$f":"IF(F230=\"\",\"\",VLOOKUP(F230,zawodnicy!$A:$D,3,FALSE))","v":""}]
[null,null,null,null,null,null,null,null,null,null,null,null,null,null,null,{"$f":"IF(K231=\"\",\"\",MAX(P204:P230)+1)","v":""},null,null,null,null,{"$f":"IF(H230=\"\",I230,H230)","v":""}]
[{"$f":"S232","v":0},{"$f":"IF(Q232=\"\",\"\",Q232)","v":""},null,{"$f":"IF(Q233=\"\",\"\",Q233)","v":""},null,{"$f":"IF(A232=0,IF(AND(LEN(B232)>0,LEN(D232)=0),VLOOKUP(B232,zawodnicy!$A:$E,1,FALSE),IF(AND(LEN(D232)>0,LEN(B232)=0),VLOOKUP(D232,zawodnicy!$A:$E,1,FALSE),\"\")),IF((VLOOKUP(A232,'plan gier'!$Z:$AH,7,FALSE))=\"\",\"\",VLOOKUP(VLOOKUP(A232,'plan gier'!$Z:$AH,7,FALSE),zawodnicy!$A:$E,1,FALSE)))","v":""},null,{"$f":"IF(A232=0,\"\",IF((VLOOKUP(A232,'plan gier'!$Z:$AH,7,FALSE))=\"\",\"\",VLOOKUP(A232,'plan gier'!$Z:$AH,9,FALSE)))","v":""},{"$f":"IF(A232=0,\"\",IF(VLOOKUP(A232,'plan gier'!A:T,20,FALSE)=\"\",\"\",VLOOKUP(A232,'plan gier'!A:T,20,FALSE)))","v":""},{"$f":"L203","v":0},{"$f":"IF(L202>14,30,\"\")","v":30},null,null,null,null,{"$f":"IF(K232=\"\",\"\",MAX(P204:P231)+1)","v":15},{"$f":"UPPER(IF(P232=\"\",\"\",IF(ISTEXT(L232),L232,IF(AND(L201>0,P232>0),VLOOKUP(L201&P232&J232,'grup-puch'!I:J,2,FALSE),\"\"))))","v":""},{"$f":"IF(Q232<>\"\",CONCATENATE(VLOOKUP(Q232,zawodnicy!$A:$E,2,FALSE),\" \",VLOOKUP(Q232,zawodnicy!$A:$E,3,FALSE),\" - \",VLOOKUP(Q232,zawodnicy!$A:$E,4,FALSE)),\"\")","v":""},null,{"$f":"IF(F232=\"\",\"\",VLOOKUP(F232,zawodnicy!$A:$D,3,FALSE))","v":""}]
[null,null,null,null,null,null,null,null,null,null,{"$f":"IF(L202>8,32,\"\")","v":32},null,null,null,null,{"$f":"IF(K233=\"\",\"\",MAX(P204:P232)+1)","v":16},{"$f":"UPPER(IF(P233=\"\",\"\",IF(ISTEXT(L233),L233,IF(AND(L201>0,P233>0),VLOOKUP(L201&P233&J232,'grup-puch'!I:J,2,FALSE),\"\"))))","v":""},{"$f":"IF(Q233<>\"\",CONCATENATE(VLOOKUP(Q233,zawodnicy!$A:$E,2,FALSE),\" \",VLOOKUP(Q233,zawodnicy!$A:$E,3,FALSE),\" - \",VLOOKUP(Q233,zawodnicy!$A:$E,4,FALSE)),\"\")","v":""},null,{"$f":"IF(H232=\"\",I232,H232)","v":""}]
[]
[]
[null,null,null,null,null,null,null,null,null,null,null,8]
[]
[{"$f":"S238","v":0},{"$f":"IF(Q238=\"\",\"\",Q238)","v":""},null,{"$f":"IF(Q239=\"\",\"\",Q239)","v":""},null,{"$f":"IF(A238=0,IF(AND(LEN(B238)>0,LEN(D238)=0),VLOOKUP(B238,zawodnicy!$A:$E,1,FALSE),IF(AND(LEN(D238)>0,LEN(B238)=0),VLOOKUP(D238,zawodnicy!$A:$E,1,FALSE),\"\")),IF((VLOOKUP(A238,'plan gier'!$Z:$AH,7,FALSE))=\"\",\"\",VLOOKUP(VLOOKUP(A238,'plan gier'!$Z:$AH,7,FALSE),zawodnicy!$A:$E,1,FALSE)))","v":""},null,{"$f":"IF(A238=0,\"\",IF((VLOOKUP(A238,'plan gier'!$Z:$AH,7,FALSE))=\"\",\"\",VLOOKUP(A238,'plan gier'!$Z:$AH,9,FALSE)))","v":""},{"$f":"IF(A238=0,\"\",IF(VLOOKUP(A238,'plan gier'!A:T,20,FALSE)=\"\",\"\",VLOOKUP(A238,'plan gier'!A:T,20,FALSE)))","v":""},{"$f":"L237","v":0},{"$f":"IF(L236>4,1,\"\")","v":1},null,null,null,null,{"$f":"IF(K238=\"\",\"\",1)","v":1},{"$f":"UPPER(IF(P238=\"\",\"\",IF(ISTEXT(L238),L238,IF(AND(L235>0,P238>0),VLOOKUP(L235&P238&J238,'grup-puch'!I:J,2,FALSE),\"\"))))","v":""},{"$f":"IF(Q238<>\"\",CONCATENATE(VLOOKUP(Q238,zawodnicy!$A:$E,2,FALSE),\" \",VLOOKUP(Q238,zawodnicy!$A:$E,3,FALSE),\" - \",VLOOKUP(Q238,zawodnicy!$A:$E,4,FALSE)),\"\")","v":""},null,{"$f":"IF(F238=\"\",\"\",VLOOKUP(F238,zawodnicy!$A:$D,3,FALSE))","v":""}]
[null,null,null,null,null,null,null,null,null,null,{"$f":"IF(L236>7,5,\"\")","v":5},null,null,null,null,{"$f":"IF(K239=\"\",\"\",2)","v":2},{"$f":"UPPER(IF(P239=\"\",\"\",IF(ISTEXT(L239),L239,IF(AND(L235>0,P239>0),VLOOKUP(L235&P239&J238,'grup-puch'!I:J,2,FALSE),\"\"))))","v":""},{"$f":"IF(Q239<>\"\",CONCATENATE(VLOOKUP(Q239,zawodnicy!$A:$E,2,FALSE),\" \",VLOOKUP(Q239,zawodnicy!$A:$E,3,FALSE),\" - \",VLOOKUP(Q239,zawodnicy!$A:$E,4,FALSE)),\"\")","v":""},null,{"$f":"IF(H238=\"\",I238,H238)","v":""}]
[{"$f":"T240","v":0},{"$f":"F238","v":""},null,{"$f":"F242","v":""},null,{"$f":"IF(A240=0,IF(AND(LEN(B240)>0,LEN(D240)=0),B240,IF(AND(LEN(D240)>0,LEN(B240)=0),D240,\"\")),IF((VLOOKUP(A240,'plan gier'!$Z:$AH,7,FALSE))=\"\",\"\",VLOOKUP(VLOOKUP(A240,'plan gier'!$Z:$AH,7,FALSE),zawodnicy!$A:$E,1,FALSE)))","v":""},null,{"$f":"IF(A240=0,\"\",IF((VLOOKUP(A240,'plan gier'!$Z:$AH,7,FALSE))=\"\",\"\",VLOOKUP(A240,'plan gier'!$Z:$AH,9,FALSE)))","v":""},{"$f":"IF(A240=0,\"\",IF(VLOOKUP(A240,'plan gier'!A:T,20,FALSE)=\"\",\"\",VLOOKUP(A240,'plan gier'!A:T,20,FALSE)))","v":""},{"$f":"L237","v":0},null,null,null,null,null,null,null,null,null,null,{"$f":"IF(F240=\"\",\"\",VLOOKUP(F240,zawodnicy!$A:$D,3,FALSE))","v":""}]
[null,null,null,null,null,null,null,null,null,null,null,null,null,null,null,null,null,null,null,null,{"$f":"IF(H240=\"\",I240,H240)","v":""}]
[{"$f":"S242","v":0},{"$f":"IF(Q242=\"\",\"\",Q242)","v":""},null,{"$f":"IF(Q243=\"\",\"\",Q243)","v":""},null,{"$f":"IF(A242=0,IF(AND(LEN(B242)>0,LEN(D242)=0),VLOOKUP(B242,zawodnicy!$A:$E,1,FALSE),IF(AND(LEN(D242)>0,LEN(B242)=0),VLOOKUP(D242,zawodnicy!$A:$E,1,FALSE),\"\")),IF((VLOOKUP(A242,'plan gier'!$Z:$AH,7,FALSE))=\"\",\"\",VLOOKUP(VLOOKUP(A242,'plan gier'!$Z:$AH,7,FALSE),zawodnicy!$A:$E,1,FALSE)))","v":""},null,{"$f":"IF(A242=0,\"\",IF((VLOOKUP(A242,'plan gier'!$Z:$AH,7,FALSE))=\"\",\"\",VLOOKUP(A242,'plan gier'!$Z:$AH,9,FALSE)))","v":""},{"$f":"IF(A242=0,\"\",IF(VLOOKUP(A242,'plan gier'!A:T,20,FALSE)=\"\",\"\",VLOOKUP(A242,'plan gier'!A:T,20,FALSE)))","v":""},{"$f":"L237","v":0},{"$f":"IF(L236>4,9,\"\")","v":9},null,null,null,null,{"$f":"IF(K242=\"\",\"\",MAX(P238:P241)+1)","v":3},{"$f":"UPPER(IF(P242=\"\",\"\",IF(ISTEXT(L242),L242,IF(AND(L235>0,P242>0),VLOOKUP(L235&P242&J242,'grup-puch'!I:J,2,FALSE),\"\"))))","v":""},{"$f":"IF(Q242<>\"\",CONCATENATE(VLOOKUP(Q242,zawodnicy!$A:$E,2,FALSE),\" \",VLOOKUP(Q242,zawodnicy!$A:$E,3,FALSE),\" - \",VLOOKUP(Q242,zawodnicy!$A:$E,4,FALSE)),\"\")","v":""},null,{"$f":"IF(F242=\"\",\"\",VLOOKUP(F242,zawodnicy!$A:$D,3,FALSE))","v":""}]
[null,null,null,null,null,null,null,null,null,null,{"$f":"IF(L236>5,13,\"\")","v":13},null,null,null,null,{"$f":"IF(K243=\"\",\"\",MAX(P238:P242)+1)","v":4},{"$f":"UPPER(IF(P243=\"\",\"\",IF(ISTEXT(L243),L243,IF(AND(L235>0,P243>0),VLOOKUP(L235&P243&J242,'grup-puch'!I:J,2,FALSE),\"\"))))","v":""},{"$f":"IF(Q243<>\"\",CONCATENATE(VLOOKUP(Q243,zawodnicy!$A:$E,2,FALSE),\" \",VLOOKUP(Q243,zawodnicy!$A:$E,3,FALSE),\" - \",VLOOKUP(Q243,zawodnicy!$A:$E,4,FALSE)),\"\")","v":""},null,{"$f":"IF(H242=\"\",I242,H242)","v":""}]
[{"$f":"U244","v":0},{"$f":"F240","v":""},null,{"$f":"F248","v":""},null,{"$f":"IF(A244=0,IF(AND(LEN(B244)>0,LEN(D244)=0),B244,IF(AND(LEN(D244)>0,LEN(B244)=0),D244,\"\")),IF((VLOOKUP(A244,'plan gier'!$Z:$AH,7,FALSE))=\"\",\"\",VLOOKUP(VLOOKUP(A244,'plan gier'!$Z:$AH,7,FALSE),zawodnicy!$A:$E,1,FALSE)))","v":""},null,{"$f":"IF(A244=0,\"\",IF((VLOOKUP(A244,'plan gier'!$Z:$AH,7,FALSE))=\"\",\"\",VLOOKUP(A244,'plan gier'!$Z:$AH,9,FALSE)))","v":""},{"$f":"IF(A244=0,\"\",IF(VLOOKUP(A244,'plan gier'!A:T,20,FALSE)=\"\",\"\",VLOOKUP(A244,'plan gier'!A:T,20,FALSE)))","v":""},{"$f":"L237","v":0},null,null,null,null,null,null,null,null,null,null,null,{"$f":"IF(F244=\"\",\"\",VLOOKUP(F244,zawodnicy!$A:$D,3,FALSE))","v":""}]
[null,null,null,null,null,null,null,null,null,null,null,null,null,null,null,null,null,null,null,null,null,{"$f":"IF(H244=\"\",I244,H244)","v":""}]
[{"$f":"S246","v":0},{"$f":"IF(Q246=\"\",\"\",Q246)","v":""},null,{"$f":"IF(Q247=\"\",\"\",Q247)","v":""},null,{"$f":"IF(A246=0,IF(AND(LEN(B246)>0,LEN(D246)=0),VLOOKUP(B246,zawodnicy!$A:$E,1,FALSE),IF(AND(LEN(D246)>0,LEN(B246)=0),VLOOKUP(D246,zawodnicy!$A:$E,1,FALSE),\"\")),IF((VLOOKUP(A246,'plan gier'!$Z:$AH,7,FALSE))=\"\",\"\",VLOOKUP(VLOOKUP(A246,'plan gier'!$Z:$AH,7,FALSE),zawodnicy!$A:$E,1,FALSE)))","v":""},null,{"$f":"IF(A246=0,\"\",IF((VLOOKUP(A246,'plan gier'!$Z:$AH,7,FALSE))=\"\",\"\",VLOOKUP(A246,'plan gier'!$Z:$AH,9,FALSE)))","v":""},{"$f":"IF(A246=0,\"\",IF(VLOOKUP(A246,'plan gier'!A:T,20,FALSE)=\"\",\"\",VLOOKUP(A246,'plan gier'!A:T,20,FALSE)))","v":""},{"$f":"L237","v":0},{"$f":"IF(L236>4,20,\"\")","v":20},null,null,null,null,{"$f":"IF(K246=\"\",\"\",MAX(P238:P245)+1)","v":5},{"$f":"UPPER(IF(P246=\"\",\"\",IF(ISTEXT(L246),L246,IF(AND(L235>0,P246>0),VLOOKUP(L235&P246&J246,'grup-puch'!I:J,2,FALSE),\"\"))))","v":""},{"$f":"IF(Q246<>\"\",CONCATENATE(VLOOKUP(Q246,zawodnicy!$A:$E,2,FALSE),\" \",VLOOKUP(Q246,zawodnicy!$A:$E,3,FALSE),\" - \",VLOOKUP(Q246,zawodnicy!$A:$E,4,FALSE)),\"\")","v":""},null,{"$f":"IF(F246=\"\",\"\",VLOOKUP(F246,zawodnicy!$A:$D,3,FALSE))","v":""}]
[null,null,null,null,null,null,null,null,null,null,{"$f":"IF(L236>4,24,\"\")","v":24},null,null,null,null,{"$f":"IF(K247=\"\",\"\",MAX(P238:P246)+1)","v":6},{"$f":"UPPER(IF(P247=\"\",\"\",IF(ISTEXT(L247),L247,IF(AND(L235>0,P247>0),VLOOKUP(L235&P247&J246,'grup-puch'!I:J,2,FALSE),\"\"))))","v":""},{"$f":"IF(Q247<>\"\",CONCATENATE(VLOOKUP(Q247,zawodnicy!$A:$E,2,FALSE),\" \",VLOOKUP(Q247,zawodnicy!$A:$E,3,FALSE),\" - \",VLOOKUP(Q247,zawodnicy!$A:$E,4,FALSE)),\"\")","v":""},null,{"$f":"IF(H246=\"\",I246,H246)","v":""}]
[{"$f":"T248","v":0},{"$f":"F246","v":""},null,{"$f":"F250","v":""},null,{"$f":"IF(A248=0,IF(AND(LEN(B248)>0,LEN(D248)=0),B248,IF(AND(LEN(D248)>0,LEN(B248)=0),D248,\"\")),IF((VLOOKUP(A248,'plan gier'!$Z:$AH,7,FALSE))=\"\",\"\",VLOOKUP(VLOOKUP(A248,'plan gier'!$Z:$AH,7,FALSE),zawodnicy!$A:$E,1,FALSE)))","v":""},null,{"$f":"IF(A248=0,\"\",IF((VLOOKUP(A248,'plan gier'!$Z:$AH,7,FALSE))=\"\",\"\",VLOOKUP(A248,'plan gier'!$Z:$AH,9,FALSE)))","v":""},{"$f":"IF(A248=0,\"\",IF(VLOOKUP(A248,'plan gier'!A:T,20,FALSE)=\"\",\"\",VLOOKUP(A248,'plan gier'!A:T,20,FALSE)))","v":""},{"$f":"L237","v":0},null,null,null,null,null,null,null,null,null,null,{"$f":"IF(F248=\"\",\"\",VLOOKUP(F248,zawodnicy!$A:$D,3,FALSE))","v":""}]
[null,null,null,null,null,null,null,null,null,null,null,null,null,null,null,null,null,null,null,null,{"$f":"IF(H248=\"\",I248,H248)","v":""}]
[{"$f":"S250","v":0},{"$f":"IF(Q250=\"\",\"\",Q250)","v":""},null,{"$f":"IF(Q251=\"\",\"\",Q251)","v":""},null,{"$f":"IF(A250=0,IF(AND(LEN(B250)>0,LEN(D250)=0),VLOOKUP(B250,zawodnicy!$A:$E,1,FALSE),IF(AND(LEN(D250)>0,LEN(B250)=0),VLOOKUP(D250,zawodnicy!$A:$E,1,FALSE),\"\")),IF((VLOOKUP(A250,'plan gier'!$Z:$AH,7,FALSE))=\"\",\"\",VLOOKUP(VLOOKUP(A250,'plan gier'!$Z:$AH,7,FALSE),zawodnicy!$A:$E,1,FALSE)))","v":""},null,{"$f":"IF(A250=0,\"\",IF((VLOOKUP(A250,'plan gier'!$Z:$AH,7,FALSE))=\"\",\"\",VLOOKUP(A250,'plan gier'!$Z:$AH,9,FALSE)))","v":""},{"$f":"IF(A250=0,\"\",IF(VLOOKUP(A250,'plan gier'!A:T,20,FALSE)=\"\",\"\",VLOOKUP(A250,'plan gier'!A:T,20,FALSE)))","v":""},{"$f":"L237","v":0},{"$f":"IF(L236>6,28,\"\")","v":28},null,null,null,null,{"$f":"IF(K250=\"\",\"\",MAX(P238:P249)+1)","v":7},{"$f":"UPPER(IF(P250=\"\",\"\",IF(ISTEXT(L250),L250,IF(AND(L235>0,P250>0),VLOOKUP(L235&P250&J250,'grup-puch'!I:J,2,FALSE),\"\"))))","v":""},{"$f":"IF(Q250<>\"\",CONCATENATE(VLOOKUP(Q250,zawodnicy!$A:$E,2,FALSE),\" \",VLOOKUP(Q250,zawodnicy!$A:$E,3,FALSE),\" - \",VLOOKUP(Q250,zawodnicy!$A:$E,4,FALSE)),\"\")","v":""},null,{"$f":"IF(F250=\"\",\"\",VLOOKUP(F250,zawodnicy!$A:$D,3,FALSE))","v":""}]
[null,null,null,null,null,null,null,null,null,null,{"$f":"IF(L236>4,32,\"\")","v":32},null,null,null,null,{"$f":"IF(K251=\"\",\"\",MAX(P238:P250)+1)","v":8},{"$f":"UPPER(IF(P251=\"\",\"\",IF(ISTEXT(L251),L251,IF(AND(L235>0,P251>0),VLOOKUP(L235&P251&J250,'grup-puch'!I:J,2,FALSE),\"\"))))","v":""},{"$f":"IF(Q251<>\"\",CONCATENATE(VLOOKUP(Q251,zawodnicy!$A:$E,2,FALSE),\" \",VLOOKUP(Q251,zawodnicy!$A:$E,3,FALSE),\" - \",VLOOKUP(Q251,zawodnicy!$A:$E,4,FALSE)),\"\")","v":""},null,{"$f":"IF(H250=\"\",I250,H250)","v":""}]
[]
[]
[null,null,null,null,null,null,null,null,null,null,null,4]
[]
[{"$f":"S256","v":0},{"$f":"IF(Q256=\"\",\"\",Q256)","v":""},null,{"$f":"IF(Q257=\"\",\"\",Q257)","v":""},null,{"$f":"IF(A256=0,IF(AND(LEN(B256)>0,LEN(D256)=0),VLOOKUP(B256,zawodnicy!$A:$E,1,FALSE),IF(AND(LEN(D256)>0,LEN(B256)=0),VLOOKUP(D256,zawodnicy!$A:$E,1,FALSE),\"\")),IF((VLOOKUP(A256,'plan gier'!$Z:$AH,7,FALSE))=\"\",\"\",VLOOKUP(VLOOKUP(A256,'plan gier'!$Z:$AH,7,FALSE),zawodnicy!$A:$E,1,FALSE)))","v":""},null,{"$f":"IF(A256=0,\"\",IF((VLOOKUP(A256,'plan gier'!$Z:$AH,7,FALSE))=\"\",\"\",VLOOKUP(A256,'plan gier'!$Z:$AH,9,FALSE)))","v":""},{"$f":"IF(A256=0,\"\",IF(VLOOKUP(A256,'plan gier'!A:T,20,FALSE)=\"\",\"\",VLOOKUP(A256,'plan gier'!A:T,20,FALSE)))","v":""},{"$f":"L255","v":0},{"$f":"IF(L254>2,1,\"\")","v":1},null,null,null,null,{"$f":"IF(K256=\"\",\"\",1)","v":1},{"$f":"UPPER(IF(P256=\"\",\"\",IF(ISTEXT(L256),L256,IF(AND(L253>0,P256>0),VLOOKUP(L253&P256&J256,'grup-puch'!I:J,2,FALSE),\"\"))))","v":""},{"$f":"IF(Q256<>\"\",CONCATENATE(VLOOKUP(Q256,zawodnicy!$A:$E,2,FALSE),\" \",VLOOKUP(Q256,zawodnicy!$A:$E,3,FALSE),\" - \",VLOOKUP(Q256,zawodnicy!$A:$E,4,FALSE)),\"\")","v":""},null,{"$f":"IF(F256=\"\",\"\",VLOOKUP(F256,zawodnicy!$A:$D,3,FALSE))","v":""}]
[null,null,null,null,null,null,null,null,null,null,{"$f":"IF(L254>3,9,\"\")","v":9},null,null,null,null,{"$f":"IF(K257=\"\",\"\",2)","v":2},{"$f":"UPPER(IF(P257=\"\",\"\",IF(ISTEXT(L257),L257,IF(AND(L253>0,P257>0),VLOOKUP(L253&P257&J256,'grup-puch'!I:J,2,FALSE),\"\"))))","v":""},{"$f":"IF(Q257<>\"\",CONCATENATE(VLOOKUP(Q257,zawodnicy!$A:$E,2,FALSE),\" \",VLOOKUP(Q257,zawodnicy!$A:$E,3,FALSE),\" - \",VLOOKUP(Q257,zawodnicy!$A:$E,4,FALSE)),\"\")","v":""},null,{"$f":"IF(H256=\"\",I256,H256)","v":""}]
[{"$f":"T258","v":0},{"$f":"F256","v":""},null,{"$f":"F260","v":""},null,{"$f":"IF(A258=0,IF(AND(LEN(B258)>0,LEN(D258)=0),B258,IF(AND(LEN(D258)>0,LEN(B258)=0),D258,\"\")),IF((VLOOKUP(A258,'plan gier'!$Z:$AH,7,FALSE))=\"\",\"\",VLOOKUP(VLOOKUP(A258,'plan gier'!$Z:$AH,7,FALSE),zawodnicy!$A:$E,1,FALSE)))","v":""},null,{"$f":"IF(A258=0,\"\",IF((VLOOKUP(A258,'plan gier'!$Z:$AH,7,FALSE))=\"\",\"\",VLOOKUP(A258,'plan gier'!$Z:$AH,9,FALSE)))","v":""},{"$f":"IF(A258=0,\"\",IF(VLOOKUP(A258,'plan gier'!A:T,20,FALSE)=\"\",\"\",VLOOKUP(A258,'plan gier'!A:T,20,FALSE)))","v":""},{"$f":"L255","v":0},null,null,null,null,null,null,null,null,null,null,{"$f":"IF(F258=\"\",\"\",VLOOKUP(F258,zawodnicy!$A:$D,3,FALSE))","v":""}]
[null,null,null,null,null,null,null,null,null,null,null,null,null,null,null,null,null,null,null,null,{"$f":"IF(H258=\"\",I258,H258)","v":""}]
[{"$f":"S260","v":0},{"$f":"IF(Q260=\"\",\"\",Q260)","v":""},null,{"$f":"IF(Q261=\"\",\"\",Q261)","v":""},null,{"$f":"IF(A260=0,IF(AND(LEN(B260)>0,LEN(D260)=0),VLOOKUP(B260,zawodnicy!$A:$E,1,FALSE),IF(AND(LEN(D260)>0,LEN(B260)=0),VLOOKUP(D260,zawodnicy!$A:$E,1,FALSE),\"\")),IF((VLOOKUP(A260,'plan gier'!$Z:$AH,7,FALSE))=\"\",\"\",VLOOKUP(VLOOKUP(A260,'plan gier'!$Z:$AH,7,FALSE),zawodnicy!$A:$E,1,FALSE)))","v":""},null,{"$f":"IF(A260=0,\"\",IF((VLOOKUP(A260,'plan gier'!$Z:$AH,7,FALSE))=\"\",\"\",VLOOKUP(A260,'plan gier'!$Z:$AH,9,FALSE)))","v":""},{"$f":"IF(A260=0,\"\",IF(VLOOKUP(A260,'plan gier'!A:T,20,FALSE)=\"\",\"\",VLOOKUP(A260,'plan gier'!A:T,20,FALSE)))","v":""},{"$f":"L255","v":0},{"$f":"IF(L254>2,24,\"\")","v":24},null,null,null,null,{"$f":"IF(K260=\"\",\"\",MAX(P256:P259)+1)","v":3},{"$f":"UPPER(IF(P260=\"\",\"\",IF(ISTEXT(L260),L260,IF(AND(L253>0,P260>0),VLOOKUP(L253&P260&J260,'grup-puch'!I:J,2,FALSE),\"\"))))","v":""},{"$f":"IF(Q260<>\"\",CONCATENATE(VLOOKUP(Q260,zawodnicy!$A:$E,2,FALSE),\" \",VLOOKUP(Q260,zawodnicy!$A:$E,3,FALSE),\" - \",VLOOKUP(Q260,zawodnicy!$A:$E,4,FALSE)),\"\")","v":""},null,{"$f":"IF(F260=\"\",\"\",VLOOKUP(F260,zawodnicy!$A:$D,3,FALSE))","v":""}]
[null,null,null,null,null,null,null,null,null,null,{"$f":"IF(L254>2,32,\"\")","v":32},null,null,null,null,{"$f":"IF(K261=\"\",\"\",MAX(P256:P260)+1)","v":4},{"$f":"UPPER(IF(P261=\"\",\"\",IF(ISTEXT(L261),L261,IF(AND(L253>0,P261>0),VLOOKUP(L253&P261&J260,'grup-puch'!I:J,2,FALSE),\"\"))))","v":""},{"$f":"IF(Q261<>\"\",CONCATENATE(VLOOKUP(Q261,zawodnicy!$A:$E,2,FALSE),\" \",VLOOKUP(Q261,zawodnicy!$A:$E,3,FALSE),\" - \",VLOOKUP(Q261,zawodnicy!$A:$E,4,FALSE)),\"\")","v":""},null,{"$f":"IF(H260=\"\",I260,H260)","v":""}]
[]
[]
[]
[]
[{"$f":"S266","v":0},{"$f":"IF(Q266=\"\",\"\",Q266)","v":""},null,{"$f":"IF(Q267=\"\",\"\",Q267)","v":""},null,{"$f":"IF(A266=0,IF(AND(LEN(B266)>0,LEN(D266)=0),VLOOKUP(B266,zawodnicy!$A:$E,1,FALSE),IF(AND(LEN(D266)>0,LEN(B266)=0),VLOOKUP(D266,zawodnicy!$A:$E,1,FALSE),\"\")),IF((VLOOKUP(A266,'plan gier'!$Z:$AH,7,FALSE))=\"\",\"\",VLOOKUP(VLOOKUP(A266,'plan gier'!$Z:$AH,7,FALSE),zawodnicy!$A:$E,1,FALSE)))","v":""},null,{"$f":"IF(A266=0,\"\",IF((VLOOKUP(A266,'plan gier'!$Z:$AH,7,FALSE))=\"\",\"\",VLOOKUP(A266,'plan gier'!$Z:$AH,9,FALSE)))","v":""},{"$f":"IF(A266=0,\"\",IF(VLOOKUP(A266,'plan gier'!A:T,20,FALSE)=\"\",\"\",VLOOKUP(A266,'plan gier'!A:T,20,FALSE)))","v":""},{"$f":"L265","v":0},1,null,null,null,null,{"$f":"K266","v":1},{"$f":"UPPER(IF(P266=\"\",\"\",IF(ISTEXT(L266),L266,IF(AND(L264>0,P266>0),VLOOKUP(L264&P266&J266,'grup-puch'!I:J,2,FALSE),\"\"))))","v":""},{"$f":"IF(Q266<>\"\",CONCATENATE(VLOOKUP(Q266,zawodnicy!$A:$E,2,FALSE),\" \",VLOOKUP(Q266,zawodnicy!$A:$E,3,FALSE),\" - \",VLOOKUP(Q266,zawodnicy!$A:$E,4,FALSE)),\"\")","v":""},null,{"$f":"IF(F266=\"\",\"\",VLOOKUP(F266,zawodnicy!$A:$D,3,FALSE))","v":""}]
[null,null,null,null,null,null,null,null,null,null,2,null,null,null,null,{"$f":"K267","v":2},{"$f":"UPPER(IF(P267=\"\",\"\",IF(ISTEXT(L267),L267,IF(AND(L264>0,P267>0),VLOOKUP(L264&P267&J266,'grup-puch'!I:J,2,FALSE),\"\"))))","v":""},{"$f":"IF(Q267<>\"\",CONCATENATE(VLOOKUP(Q267,zawodnicy!$A:$E,2,FALSE),\" \",VLOOKUP(Q267,zawodnicy!$A:$E,3,FALSE),\" - \",VLOOKUP(Q267,zawodnicy!$A:$E,4,FALSE)),\"\")","v":""},null,{"$f":"IF(H266=\"\",I266,H266)","v":""}]
[]
[]
[null,null,null,null,null,null,null,null,null,null,null,{"$f":"J272","v":""},null,null,null,null,"4.",null,null,"3."]
[null,null,null,null,null,null,null,null,null,null,null,"o 3 miejsce"]
[{"$f":"S272","v":0},{"$f":"IF(Q272=\"\",\"\",Q272)","v":""},null,{"$f":"IF(Q273=\"\",\"\",Q273)","v":""},null,{"$f":"IF(A272=0,IF(AND(LEN(B272)>0,LEN(D272)=0),VLOOKUP(B272,zawodnicy!$A:$E,1,FALSE),IF(AND(LEN(D272)>0,LEN(B272)=0),VLOOKUP(D272,zawodnicy!$A:$E,1,FALSE),\"\")),IF((VLOOKUP(A272,'plan gier'!$Z:$AH,7,FALSE))=\"\",\"\",VLOOKUP(VLOOKUP(A272,'plan gier'!$Z:$AH,7,FALSE),zawodnicy!$A:$E,1,FALSE)))","v":""},null,{"$f":"IF(A272=0,\"\",IF((VLOOKUP(A272,'plan gier'!$Z:$AH,7,FALSE))=\"\",\"\",VLOOKUP(A272,'plan gier'!$Z:$AH,9,FALSE)))","v":""},{"$f":"IF(A272=0,\"\",IF(VLOOKUP(A272,'plan gier'!A:T,20,FALSE)=\"\",\"\",VLOOKUP(A272,'plan gier'!A:T,20,FALSE)))","v":""},{"$f":"IF(L272=\"\",\"\",VLOOKUP(L272,A:J,10,FALSE))","v":""},1,null,null,null,null,null,{"$f":"IF(L272=\"\",\"\",IF(LEN(VLOOKUP(L272,A:J,6,FALSE))=0,\"\",IF(VLOOKUP(L272,A:J,6,FALSE)=VLOOKUP(L272,A:P,2,FALSE),VLOOKUP(L272,A:P,4,FALSE),VLOOKUP(L272,A:P,2,FALSE))))","v":""},{"$f":"IF(Q272<>\"\",CONCATENATE(VLOOKUP(Q272,zawodnicy!$A:$E,2,FALSE),\" \",VLOOKUP(Q272,zawodnicy!$A:$E,3,FALSE),\" - \",VLOOKUP(Q272,zawodnicy!$A:$E,4,FALSE)),\"\")","v":""},null,{"$f":"IF(F272=\"\",\"\",VLOOKUP(F272,zawodnicy!$A:$D,3,FALSE))","v":""}]
[null,null,null,null,null,null,null,null,null,null,2,null,null,null,null,null,{"$f":"IF(L273=\"\",\"\",IF(LEN(VLOOKUP(L273,A:J,6,FALSE))=0,\"\",IF(VLOOKUP(L273,A:J,6,FALSE)=VLOOKUP(L273,A:P,2,FALSE),VLOOKUP(L273,A:P,4,FALSE),VLOOKUP(L273,A:P,2,FALSE))))","v":""},{"$f":"IF(Q273<>\"\",CONCATENATE(VLOOKUP(Q273,zawodnicy!$A:$E,2,FALSE),\" \",VLOOKUP(Q273,zawodnicy!$A:$E,3,FALSE),\" - \",VLOOKUP(Q273,zawodnicy!$A:$E,4,FALSE)),\"\")","v":""},null,{"$f":"IF(H272=\"\",I272,H272)","v":""}]
[]
[]
[null,null,null,null,null,null,null,null,null,null,null,null,null,null,null,null,"Gry podwójne"]
[]
[null,null,null,null,null,null,null,null,null,null,null,null,null,null,null,"Górna połówka"]
[null,null,null,null,null,null,null,null,null,null,null,64]
[]
[null,null,null,null,null,null,null,null,null,null,{"$f":"IF(L279>32,1,\"\")","v":1},null,null,null,null,{"$f":"IF(K281=\"\",\"\",1)","v":1},{"$f":"UPPER(IF(P281=\"\",\"\",IF(ISTEXT(L281),L281,IF(AND(L278>0,P281>0),VLOOKUP(L278&P281&J282,'grup-puch'!I:J,2,FALSE),\"\"))))","v":""},{"$f":"IF(Q281<>\"\",CONCATENATE(VLOOKUP(Q281,zawodnicy!$A:$E,2,FALSE),\" \",VLOOKUP(Q281,zawodnicy!$A:$E,3,FALSE),\" - \",VLOOKUP(Q281,zawodnicy!$A:$E,4,FALSE)),\"\")","v":""},null,{"$f":"IF(F282=\"\",\"\",VLOOKUP(F282,zawodnicy!$A:$D,3,FALSE))","v":""}]
[{"$f":"S282","v":0},{"$f":"IF(Q281=\"\",\"\",Q281)","v":""},{"$f":"IF(Q282=\"\",\"\",Q282)","v":""},{"$f":"IF(Q283=\"\",\"\",Q283)","v":""},{"$f":"IF(Q284=\"\",\"\",Q284)","v":""},{"$f":"IF(A282=0,IF(AND(LEN(B282)>0,LEN(D282)=0),VLOOKUP(B282,zawodnicy!$A:$E,1,FALSE),IF(AND(LEN(D282)>0,LEN(B282)=0),VLOOKUP(D282,zawodnicy!$A:$E,1,FALSE),\"\")),IF((VLOOKUP(A282,'plan gier'!$Z:$AH,7,FALSE))=\"\",\"\",VLOOKUP(VLOOKUP(A282,'plan gier'!$Z:$AH,7,FALSE),zawodnicy!$A:$E,1,FALSE)))","v":""},{"$f":"IF(A282=0,IF(AND(LEN(C282)>1,LEN(E282)=0),VLOOKUP(C282,zawodnicy!$A:$E,1,FALSE),IF(AND(LEN(E282)>1,LEN(C282)=0),VLOOKUP(E282,zawodnicy!$A:$E,1,FALSE),\"\")),IF((VLOOKUP(A282,'plan gier'!$Z:$AH,8,FALSE))=\"\",\"\",VLOOKUP(VLOOKUP(A282,'plan gier'!$Z:$AH,8,FALSE),zawodnicy!$A:$E,1,FALSE)))","v":""},{"$f":"IF(A282=0,\"\",IF((VLOOKUP(A282,'plan gier'!$Z:$AH,7,FALSE))=\"\",\"\",VLOOKUP(A282,'plan gier'!$Z:$AH,9,FALSE)))","v":""},{"$f":"IF(A282=0,\"\",IF(VLOOKUP(A282,'plan gier'!A:T,20,FALSE)=\"\",\"\",VLOOKUP(A282,'plan gier'!A:T,20,FALSE)))","v":""},{"$f":"L280","v":0},null,null,null,null,null,null,{"$f":"UPPER(IF(P281=\"\",\"\",IF(ISTEXT(L282),L282,IF(AND(L278>0,P281>0),VLOOKUP(L278&P281&J282,'grup-puch'!I:K,3,FALSE),\"\"))))","v":""},{"$f":"IF(Q282<>\"\",CONCATENATE(VLOOKUP(Q282,zawodnicy!$A:$E,2,FALSE),\" \",VLOOKUP(Q282,zawodnicy!$A:$E,3,FALSE),\" - \",VLOOKUP(Q282,zawodnicy!$A:$E,4,FALSE)),\"\")","v":""},null,{"$f":"IF(G282=\"\",\"\",VLOOKUP(G282,zawodnicy!$A:$D,3,FALSE))","v":""}]
[null,null,null,null,null,null,null,null,null,null,{"$f":"IF(L279>63,2,\"\")","v":2},null,null,null,null,{"$f":"IF(K283=\"\",\"\",2)","v":2},{"$f":"UPPER(IF(P283=\"\",\"\",IF(ISTEXT(L283),L283,IF(AND(L278>0,P283>0),VLOOKUP(L278&P283&J282,'grup-puch'!I:J,2,FALSE),\"\"))))","v":""},{"$f":"IF(Q283<>\"\",CONCATENATE(VLOOKUP(Q283,zawodnicy!$A:$E,2,FALSE),\" \",VLOOKUP(Q283,zawodnicy!$A:$E,3,FALSE),\" - \",VLOOKUP(Q283,zawodnicy!$A:$E,4,FALSE)),\"\")","v":""},null,{"$f":"IF(H282=\"\",I282,H282)","v":""},{"$f":"IF(F284=\"\",\"\",VLOOKUP(F284,zawodnicy!$A:$D,3,FALSE))","v":""}]
[{"$f":"T284","v":0},{"$f":"F282","v":""},{"$f":"G282","v":""},{"$f":"F286","v":""},{"$f":"G286","v":""},{"$f":"IF(A284=0,IF(AND(LEN(B284)>0,LEN(D284)=0),B284,IF(AND(LEN(D284)>0,LEN(B284)=0),D284,\"\")),IF((VLOOKUP(A284,'plan gier'!$Z:$AH,7,FALSE))=\"\",\"\",VLOOKUP(VLOOKUP(A284,'plan gier'!$Z:$AH,7,FALSE),zawodnicy!$A:$E,1,FALSE)))","v":""},{"$f":"IF(A284=0,IF(AND(LEN(C284)>0,LEN(E284)=0),C284,IF(AND(LEN(E284)>0,LEN(C284)=0),E284,\"\")),IF((VLOOKUP(A284,'plan gier'!$Z:$AH,8,FALSE))=\"\",\"\",VLOOKUP(VLOOKUP(A284,'plan gier'!$Z:$AH,8,FALSE),zawodnicy!$A:$E,1,FALSE)))","v":""},{"$f":"IF(A284=0,\"\",IF((VLOOKUP(A284,'plan gier'!$Z:$AH,7,FALSE))=\"\",\"\",VLOOKUP(A284,'plan gier'!$Z:$AH,9,FALSE)))","v":""},{"$f":"IF(A284=0,\"\",IF(VLOOKUP(A284,'plan gier'!A:T,20,FALSE)=\"\",\"\",VLOOKUP(A284,'plan gier'!A:T,20,FALSE)))","v":""},{"$f":"L280","v":0},null,null,null,null,null,null,{"$f":"UPPER(IF(P283=\"\",\"\",IF(ISTEXT(L284),L284,IF(AND(L278>0,P283>0),VLOOKUP(L278&P283&J282,'grup-puch'!I:K,3,FALSE),\"\"))))","v":""},{"$f":"IF(Q284<>\"\",CONCATENATE(VLOOKUP(Q284,zawodnicy!$A:$E,2,FALSE),\" \",VLOOKUP(Q284,zawodnicy!$A:$E,3,FALSE),\" - \",VLOOKUP(Q284,zawodnicy!$A:$E,4,FALSE)),\"\")","v":""},null,null,{"$f":"IF(G284=\"\",\"\",VLOOKUP(G284,zawodnicy!$A:$D,3,FALSE))","v":""}]
[null,null,null,null,null,null,null,null,null,null,{"$f":"IF(L279>32,3,\"\")","v":3},null,null,null,null,{"$f":"IF(K285=\"\",\"\",MAX(P281:P284)+1)","v":3},{"$f":"UPPER(IF(P285=\"\",\"\",IF(ISTEXT(L285),L285,IF(AND(L278>0,P285>0),VLOOKUP(L278&P285&J286,'grup-puch'!I:J,2,FALSE),\"\"))))","v":""},{"$f":"IF(Q285<>\"\",CONCATENATE(VLOOKUP(Q285,zawodnicy!$A:$E,2,FALSE),\" \",VLOOKUP(Q285,zawodnicy!$A:$E,3,FALSE),\" - \",VLOOKUP(Q285,zawodnicy!$A:$E,4,FALSE)),\"\")","v":""},null,{"$f":"IF(F286=\"\",\"\",VLOOKUP(F286,zawodnicy!$A:$D,3,FALSE))","v":""},{"$f":"IF(H284=\"\",I284,H284)","v":""}]
[{"$f":"S286","v":0},{"$f":"IF(Q285=\"\",\"\",Q285)","v":""},{"$f":"IF(Q286=\"\",\"\",Q286)","v":""},{"$f":"IF(Q287=\"\",\"\",Q287)","v":""},{"$f":"IF(Q288=\"\",\"\",Q288)","v":""},{"$f":"IF(A286=0,IF(AND(LEN(B286)>0,LEN(D286)=0),VLOOKUP(B286,zawodnicy!$A:$E,1,FALSE),IF(AND(LEN(D286)>0,LEN(B286)=0),VLOOKUP(D286,zawodnicy!$A:$E,1,FALSE),\"\")),IF((VLOOKUP(A286,'plan gier'!$Z:$AH,7,FALSE))=\"\",\"\",VLOOKUP(VLOOKUP(A286,'plan gier'!$Z:$AH,7,FALSE),zawodnicy!$A:$E,1,FALSE)))","v":""},{"$f":"IF(A286=0,IF(AND(LEN(C286)>1,LEN(E286)=0),VLOOKUP(C286,zawodnicy!$A:$E,1,FALSE),IF(AND(LEN(E286)>1,LEN(C286)=0),VLOOKUP(E286,zawodnicy!$A:$E,1,FALSE),\"\")),IF((VLOOKUP(A286,'plan gier'!$Z:$AH,8,FALSE))=\"\",\"\",VLOOKUP(VLOOKUP(A286,'plan gier'!$Z:$AH,8,FALSE),zawodnicy!$A:$E,1,FALSE)))","v":""},{"$f":"IF(A286=0,\"\",IF((VLOOKUP(A286,'plan gier'!$Z:$AH,7,FALSE))=\"\",\"\",VLOOKUP(A286,'plan gier'!$Z:$AH,9,FALSE)))","v":""},{"$f":"IF(A286=0,\"\",IF(VLOOKUP(A286,'plan gier'!A:T,20,FALSE)=\"\",\"\",VLOOKUP(A286,'plan gier'!A:T,20,FALSE)))","v":""},{"$f":"L280","v":0},null,null,null,null,null,null,{"$f":"UPPER(IF(P285=\"\",\"\",IF(ISTEXT(L286),L286,IF(AND(L278>0,P285>0),VLOOKUP(L278&P285&J286,'grup-puch'!I:K,3,FALSE),\"\"))))","v":""},{"$f":"IF(Q286<>\"\",CONCATENATE(VLOOKUP(Q286,zawodnicy!$A:$E,2,FALSE),\" \",VLOOKUP(Q286,zawodnicy!$A:$E,3,FALSE),\" - \",VLOOKUP(Q286,zawodnicy!$A:$E,4,FALSE)),\"\")","v":""},null,{"$f":"IF(G286=\"\",\"\",VLOOKUP(G286,zawodnicy!$A:$D,3,FALSE))","v":""}]
[null,null,null,null,null,null,null,null,null,null,{"$f":"IF(L279>47,4,\"\")","v":4},null,null,null,null,{"$f":"IF(K287=\"\",\"\",MAX(P281:P286)+1)","v":4},{"$f":"UPPER(IF(P287=\"\",\"\",IF(ISTEXT(L287),L287,IF(AND(L278>0,P287>0),VLOOKUP(L278&P287&J286,'grup-puch'!I:J,2,FALSE),\"\"))))","v":""},{"$f":"IF(Q287<>\"\",CONCATENATE(VLOOKUP(Q287,zawodnicy!$A:$E,2,FALSE),\" \",VLOOKUP(Q287,zawodnicy!$A:$E,3,FALSE),\" - \",VLOOKUP(Q287,zawodnicy!$A:$E,4,FALSE)),\"\")","v":""},null,{"$f":"IF(H286=\"\",I286,H286)","v":""},null,{"$f":"IF(F288=\"\",\"\",VLOOKUP(F288,zawodnicy!$A:$D,3,FALSE))","v":""}]
[{"$f":"U288","v":0},{"$f":"F284","v":""},{"$f":"G284","v":""},{"$f":"F292","v":""},{"$f":"G292","v":""},{"$f":"IF(A288=0,IF(AND(LEN(B288)>0,LEN(D288)=0),B288,IF(AND(LEN(D288)>0,LEN(B288)=0),D288,\"\")),IF((VLOOKUP(A288,'plan gier'!$Z:$AH,7,FALSE))=\"\",\"\",VLOOKUP(VLOOKUP(A288,'plan gier'!$Z:$AH,7,FALSE),zawodnicy!$A:$E,1,FALSE)))","v":""},{"$f":"IF(A288=0,IF(AND(LEN(C288)>0,LEN(E288)=0),C288,IF(AND(LEN(E288)>0,LEN(C288)=0),E288,\"\")),IF((VLOOKUP(A288,'plan gier'!$Z:$AH,8,FALSE))=\"\",\"\",VLOOKUP(VLOOKUP(A288,'plan gier'!$Z:$AH,8,FALSE),zawodnicy!$A:$E,1,FALSE)))","v":""},{"$f":"IF(A288=0,\"\",IF((VLOOKUP(A288,'plan gier'!$Z:$AH,7,FALSE))=\"\",\"\",VLOOKUP(A288,'plan gier'!$Z:$AH,9,FALSE)))","v":""},{"$f":"IF(A288=0,\"\",IF(VLOOKUP(A288,'plan gier'!A:T,20,FALSE)=\"\",\"\",VLOOKUP(A288,'plan gier'!A:T,20,FALSE)))","v":""},{"$f":"L280","v":0},null,null,null,null,null,null,{"$f":"UPPER(IF(P287=\"\",\"\",IF(ISTEXT(L288),L288,IF(AND(L278>0,P287>0),VLOOKUP(L278&P287&J286,'grup-puch'!I:K,3,FALSE),\"\"))))","v":""},{"$f":"IF(Q288<>\"\",CONCATENATE(VLOOKUP(Q288,zawodnicy!$A:$E,2,FALSE),\" \",VLOOKUP(Q288,zawodnicy!$A:$E,3,FALSE),\" - \",VLOOKUP(Q288,zawodnicy!$A:$E,4,FALSE)),\"\")","v":""},null,null,null,{"$f":"IF(G288=\"\",\"\",VLOOKUP(G288,zawodnicy!$A:$D,3,FALSE))","v":""}]
[null,null,null,null,null,null,null,null,null,null,{"$f":"IF(L279>32,5,\"\")","v":5},null,null,null,null,{"$f":"IF(K289=\"\",\"\",MAX(P281:P288)+1)","v":5},{"$f":"UPPER(IF(P289=\"\",\"\",IF(ISTEXT(L289),L289,IF(AND(L278>0,P289>0),VLOOKUP(L278&P289&J290,'grup-puch'!I:J,2,FALSE),\"\"))))","v":""},{"$f":"IF(Q289<>\"\",CONCATENATE(VLOOKUP(Q289,zawodnicy!$A:$E,2,FALSE),\" \",VLOOKUP(Q289,zawodnicy!$A:$E,3,FALSE),\" - \",VLOOKUP(Q289,zawodnicy!$A:$E,4,FALSE)),\"\")","v":""},null,{"$f":"IF(F290=\"\",\"\",VLOOKUP(F290,zawodnicy!$A:$D,3,FALSE))","v":""},null,{"$f":"IF(H288=\"\",I288,H288)","v":""}]
[{"$f":"S290","v":0},{"$f":"IF(Q289=\"\",\"\",Q289)","v":""},{"$f":"IF(Q290=\"\",\"\",Q290)","v":""},{"$f":"IF(Q291=\"\",\"\",Q291)","v":""},{"$f":"IF(Q292=\"\",\"\",Q292)","v":""},{"$f":"IF(A290=0,IF(AND(LEN(B290)>0,LEN(D290)=0),VLOOKUP(B290,zawodnicy!$A:$E,1,FALSE),IF(AND(LEN(D290)>0,LEN(B290)=0),VLOOKUP(D290,zawodnicy!$A:$E,1,FALSE),\"\")),IF((VLOOKUP(A290,'plan gier'!$Z:$AH,7,FALSE))=\"\",\"\",VLOOKUP(VLOOKUP(A290,'plan gier'!$Z:$AH,7,FALSE),zawodnicy!$A:$E,1,FALSE)))","v":""},{"$f":"IF(A290=0,IF(AND(LEN(C290)>1,LEN(E290)=0),VLOOKUP(C290,zawodnicy!$A:$E,1,FALSE),IF(AND(LEN(E290)>1,LEN(C290)=0),VLOOKUP(E290,zawodnicy!$A:$E,1,FALSE),\"\")),IF((VLOOKUP(A290,'plan gier'!$Z:$AH,8,FALSE))=\"\",\"\",VLOOKUP(VLOOKUP(A290,'plan gier'!$Z:$AH,8,FALSE),zawodnicy!$A:$E,1,FALSE)))","v":""},{"$f":"IF(A290=0,\"\",IF((VLOOKUP(A290,'plan gier'!$Z:$AH,7,FALSE))=\"\",\"\",VLOOKUP(A290,'plan gier'!$Z:$AH,9,FALSE)))","v":""},{"$f":"IF(A290=0,\"\",IF(VLOOKUP(A290,'plan gier'!A:T,20,FALSE)=\"\",\"\",VLOOKUP(A290,'plan gier'!A:T,20,FALSE)))","v":""},{"$f":"L280","v":0},null,null,null,null,null,null,{"$f":"UPPER(IF(P289=\"\",\"\",IF(ISTEXT(L290),L290,IF(AND(L278>0,P289>0),VLOOKUP(L278&P289&J290,'grup-puch'!I:K,3,FALSE),\"\"))))","v":""},{"$f":"IF(Q290<>\"\",CONCATENATE(VLOOKUP(Q290,zawodnicy!$A:$E,2,FALSE),\" \",VLOOKUP(Q290,zawodnicy!$A:$E,3,FALSE),\" - \",VLOOKUP(Q290,zawodnicy!$A:$E,4,FALSE)),\"\")","v":""},null,{"$f":"IF(G290=\"\",\"\",VLOOKUP(G290,zawodnicy!$A:$D,3,FALSE))","v":""}]
[null,null,null,null,null,null,null,null,null,null,{"$f":"IF(L279>55,6,\"\")","v":6},null,null,null,null,{"$f":"IF(K291=\"\",\"\",MAX(P281:P290)+1)","v":6},{"$f":"UPPER(IF(P291=\"\",\"\",IF(ISTEXT(L291),L291,IF(AND(L278>0,P291>0),VLOOKUP(L278&P291&J290,'grup-puch'!I:J,2,FALSE),\"\"))))","v":""},{"$f":"IF(Q291<>\"\",CONCATENATE(VLOOKUP(Q291,zawodnicy!$A:$E,2,FALSE),\" \",VLOOKUP(Q291,zawodnicy!$A:$E,3,FALSE),\" - \",VLOOKUP(Q291,zawodnicy!$A:$E,4,FALSE)),\"\")","v":""},null,{"$f":"IF(H290=\"\",I290,H290)","v":""},{"$f":"IF(F292=\"\",\"\",VLOOKUP(F292,zawodnicy!$A:$D,3,FALSE))","v":""}]
[{"$f":"T292","v":0},{"$f":"F290","v":""},{"$f":"G290","v":""},{"$f":"F294","v":""},{"$f":"G294","v":""},{"$f":"IF(A292=0,IF(AND(LEN(B292)>0,LEN(D292)=0),B292,IF(AND(LEN(D292)>0,LEN(B292)=0),D292,\"\")),IF((VLOOKUP(A292,'plan gier'!$Z:$AH,7,FALSE))=\"\",\"\",VLOOKUP(VLOOKUP(A292,'plan gier'!$Z:$AH,7,FALSE),zawodnicy!$A:$E,1,FALSE)))","v":""},{"$f":"IF(A292=0,IF(AND(LEN(C292)>0,LEN(E292)=0),C292,IF(AND(LEN(E292)>0,LEN(C292)=0),E292,\"\")),IF((VLOOKUP(A292,'plan gier'!$Z:$AH,8,FALSE))=\"\",\"\",VLOOKUP(VLOOKUP(A292,'plan gier'!$Z:$AH,8,FALSE),zawodnicy!$A:$E,1,FALSE)))","v":""},{"$f":"IF(A292=0,\"\",IF((VLOOKUP(A292,'plan gier'!$Z:$AH,7,FALSE))=\"\",\"\",VLOOKUP(A292,'plan gier'!$Z:$AH,9,FALSE)))","v":""},{"$f":"IF(A292=0,\"\",IF(VLOOKUP(A292,'plan gier'!A:T,20,FALSE)=\"\",\"\",VLOOKUP(A292,'plan gier'!A:T,20,FALSE)))","v":""},{"$f":"L280","v":0},null,null,null,null,null,null,{"$f":"UPPER(IF(P291=\"\",\"\",IF(ISTEXT(L292),L292,IF(AND(L278>0,P291>0),VLOOKUP(L278&P291&J290,'grup-puch'!I:K,3,FALSE),\"\"))))","v":""},{"$f":"IF(Q292<>\"\",CONCATENATE(VLOOKUP(Q292,zawodnicy!$A:$E,2,FALSE),\" \",VLOOKUP(Q292,zawodnicy!$A:$E,3,FALSE),\" - \",VLOOKUP(Q292,zawodnicy!$A:$E,4,FALSE)),\"\")","v":""},null,null,{"$f":"IF(G292=\"\",\"\",VLOOKUP(G292,zawodnicy!$A:$D,3,FALSE))","v":""}]
[null,null,null,null,null,null,null,null,null,null,{"$f":"IF(L279>32,7,\"\")","v":7},null,null,null,null,{"$f":"IF(K293=\"\",\"\",MAX(P281:P292)+1)","v":7},{"$f":"UPPER(IF(P293=\"\",\"\",IF(ISTEXT(L293),L293,IF(AND(L278>0,P293>0),VLOOKUP(L278&P293&J294,'grup-puch'!I:J,2,FALSE),\"\"))))","v":""},{"$f":"IF(Q293<>\"\",CONCATENATE(VLOOKUP(Q293,zawodnicy!$A:$E,2,FALSE),\" \",VLOOKUP(Q293,zawodnicy!$A:$E,3,FALSE),\" - \",VLOOKUP(Q293,zawodnicy!$A:$E,4,FALSE)),\"\")","v":""},null,{"$f":"IF(F294=\"\",\"\",VLOOKUP(F294,zawodnicy!$A:$D,3,FALSE))","v":""},{"$f":"IF(H292=\"\",I292,H292)","v":""}]
[{"$f":"S294","v":0},{"$f":"IF(Q293=\"\",\"\",Q293)","v":""},{"$f":"IF(Q294=\"\",\"\",Q294)","v":""},{"$f":"IF(Q295=\"\",\"\",Q295)","v":""},{"$f":"IF(Q296=\"\",\"\",Q296)","v":""},{"$f":"IF(A294=0,IF(AND(LEN(B294)>0,LEN(D294)=0),VLOOKUP(B294,zawodnicy!$A:$E,1,FALSE),IF(AND(LEN(D294)>0,LEN(B294)=0),VLOOKUP(D294,zawodnicy!$A:$E,1,FALSE),\"\")),IF((VLOOKUP(A294,'plan gier'!$Z:$AH,7,FALSE))=\"\",\"\",VLOOKUP(VLOOKUP(A294,'plan gier'!$Z:$AH,7,FALSE),zawodnicy!$A:$E,1,FALSE)))","v":""},{"$f":"IF(A294=0,IF(AND(LEN(C294)>1,LEN(E294)=0),VLOOKUP(C294,zawodnicy!$A:$E,1,FALSE),IF(AND(LEN(E294)>1,LEN(C294)=0),VLOOKUP(E294,zawodnicy!$A:$E,1,FALSE),\"\")),IF((VLOOKUP(A294,'plan gier'!$Z:$AH,8,FALSE))=\"\",\"\",VLOOKUP(VLOOKUP(A294,'plan gier'!$Z:$AH,8,FALSE),zawodnicy!$A:$E,1,FALSE)))","v":""},{"$f":"IF(A294=0,\"\",IF((VLOOKUP(A294,'plan gier'!$Z:$AH,7,FALSE))=\"\",\"\",VLOOKUP(A294,'plan gier'!$Z:$AH,9,FALSE)))","v":""},{"$f":"IF(A294=0,\"\",IF(VLOOKUP(A294,'plan gier'!A:T,20,FALSE)=\"\",\"\",VLOOKUP(A294,'plan gier'!A:T,20,FALSE)))","v":""},{"$f":"L280","v":0},null,null,null,null,null,null,{"$f":"UPPER(IF(P293=\"\",\"\",IF(ISTEXT(L294),L294,IF(AND(L278>0,P293>0),VLOOKUP(L278&P293&J294,'grup-puch'!I:K,3,FALSE),\"\"))))","v":""},{"$f":"IF(Q294<>\"\",CONCATENATE(VLOOKUP(Q294,zawodnicy!$A:$E,2,FALSE),\" \",VLOOKUP(Q294,zawodnicy!$A:$E,3,FALSE),\" - \",VLOOKUP(Q294,zawodnicy!$A:$E,4,FALSE)),\"\")","v":""},null,{"$f":"IF(G294=\"\",\"\",VLOOKUP(G294,zawodnicy!$A:$D,3,FALSE))","v":""}]
[null,null,null,null,null,null,null,null,null,null,{"$f":"IF(L279>39,8,\"\")","v":8},null,null,null,null,{"$f":"IF(K295=\"\",\"\",MAX(P281:P294)+1)","v":8},{"$f":"UPPER(IF(P295=\"\",\"\",IF(ISTEXT(L295),L295,IF(AND(L278>0,P295>0),VLOOKUP(L278&P295&J294,'grup-puch'!I:J,2,FALSE),\"\"))))","v":""},{"$f":"IF(Q295<>\"\",CONCATENATE(VLOOKUP(Q295,zawodnicy!$A:$E,2,FALSE),\" \",VLOOKUP(Q295,zawodnicy!$A:$E,3,FALSE),\" - \",VLOOKUP(Q295,zawodnicy!$A:$E,4,FALSE)),\"\")","v":""},null,{"$f":"IF(H294=\"\",I294,H294)","v":""},null,null,{"$f":"IF(F296=\"\",\"\",VLOOKUP(F296,zawodnicy!$A:$D,3,FALSE))","v":""}]
[{"$f":"V296","v":0},{"$f":"F288","v":""},{"$f":"G288","v":""},{"$f":"F304","v":""},{"$f":"G304","v":""},{"$f":"IF(A296=0,IF(AND(LEN(B296)>0,LEN(D296)=0),B296,IF(AND(LEN(D296)>0,LEN(B296)=0),D296,\"\")),IF((VLOOKUP(A296,'plan gier'!$Z:$AH,7,FALSE))=\"\",\"\",VLOOKUP(VLOOKUP(A296,'plan gier'!$Z:$AH,7,FALSE),zawodnicy!$A:$E,1,FALSE)))","v":""},{"$f":"IF(A296=0,IF(AND(LEN(C296)>0,LEN(E296)=0),C296,IF(AND(LEN(E296)>0,LEN(C296)=0),E296,\"\")),IF((VLOOKUP(A296,'plan gier'!$Z:$AH,8,FALSE))=\"\",\"\",VLOOKUP(VLOOKUP(A296,'plan gier'!$Z:$AH,8,FALSE),zawodnicy!$A:$E,1,FALSE)))","v":""},{"$f":"IF(A296=0,\"\",IF((VLOOKUP(A296,'plan gier'!$Z:$AH,7,FALSE))=\"\",\"\",VLOOKUP(A296,'plan gier'!$Z:$AH,9,FALSE)))","v":""},{"$f":"IF(A296=0,\"\",IF(VLOOKUP(A296,'plan gier'!A:T,20,FALSE)=\"\",\"\",VLOOKUP(A296,'plan gier'!A:T,20,FALSE)))","v":""},{"$f":"L280","v":0},null,null,null,null,null,null,{"$f":"UPPER(IF(P295=\"\",\"\",IF(ISTEXT(L296),L296,IF(AND(L278>0,P295>0),VLOOKUP(L278&P295&J294,'grup-puch'!I:K,3,FALSE),\"\"))))","v":""},{"$f":"IF(Q296<>\"\",CONCATENATE(VLOOKUP(Q296,zawodnicy!$A:$E,2,FALSE),\" \",VLOOKUP(Q296,zawodnicy!$A:$E,3,FALSE),\" - \",VLOOKUP(Q296,zawodnicy!$A:$E,4,FALSE)),\"\")","v":""},null,null,null,null,{"$f":"IF(G296=\"\",\"\",VLOOKUP(G296,zawodnicy!$A:$D,3,FALSE))","v":""}]
[null,null,null,null,null,null,null,null,null,null,{"$f":"IF(L279>32,9,\"\")","v":9},null,null,null,null,{"$f":"IF(K297=\"\",\"\",MAX(P281:P296)+1)","v":9},{"$f":"UPPER(IF(P297=\"\",\"\",IF(ISTEXT(L297),L297,IF(AND(L278>0,P297>0),VLOOKUP(L278&P297&J298,'grup-puch'!I:J,2,FALSE),\"\"))))","v":""},{"$f":"IF(Q297<>\"\",CONCATENATE(VLOOKUP(Q297,zawodnicy!$A:$E,2,FALSE),\" \",VLOOKUP(Q297,zawodnicy!$A:$E,3,FALSE),\" - \",VLOOKUP(Q297,zawodnicy!$A:$E,4,FALSE)),\"\")","v":""},null,{"$f":"IF(F298=\"\",\"\",VLOOKUP(F298,zawodnicy!$A:$D,3,FALSE))","v":""},null,null,{"$f":"IF(H296=\"\",I296,H296)","v":""}]
[{"$f":"S298","v":0},{"$f":"IF(Q297=\"\",\"\",Q297)","v":""},{"$f":"IF(Q298=\"\",\"\",Q298)","v":""},{"$f":"IF(Q299=\"\",\"\",Q299)","v":""},{"$f":"IF(Q300=\"\",\"\",Q300)","v":""},{"$f":"IF(A298=0,IF(AND(LEN(B298)>0,LEN(D298)=0),VLOOKUP(B298,zawodnicy!$A:$E,1,FALSE),IF(AND(LEN(D298)>0,LEN(B298)=0),VLOOKUP(D298,zawodnicy!$A:$E,1,FALSE),\"\")),IF((VLOOKUP(A298,'plan gier'!$Z:$AH,7,FALSE))=\"\",\"\",VLOOKUP(VLOOKUP(A298,'plan gier'!$Z:$AH,7,FALSE),zawodnicy!$A:$E,1,FALSE)))","v":""},{"$f":"IF(A298=0,IF(AND(LEN(C298)>1,LEN(E298)=0),VLOOKUP(C298,zawodnicy!$A:$E,1,FALSE),IF(AND(LEN(E298)>1,LEN(C298)=0),VLOOKUP(E298,zawodnicy!$A:$E,1,FALSE),\"\")),IF((VLOOKUP(A298,'plan gier'!$Z:$AH,8,FALSE))=\"\",\"\",VLOOKUP(VLOOKUP(A298,'plan gier'!$Z:$AH,8,FALSE),zawodnicy!$A:$E,1,FALSE)))","v":""},{"$f":"IF(A298=0,\"\",IF((VLOOKUP(A298,'plan gier'!$Z:$AH,7,FALSE))=\"\",\"\",VLOOKUP(A298,'plan gier'!$Z:$AH,9,FALSE)))","v":""},{"$f":"IF(A298=0,\"\",IF(VLOOKUP(A298,'plan gier'!A:T,20,FALSE)=\"\",\"\",VLOOKUP(A298,'plan gier'!A:T,20,FALSE)))","v":""},{"$f":"L280","v":0},null,null,null,null,null,null,{"$f":"UPPER(IF(P297=\"\",\"\",IF(ISTEXT(L298),L298,IF(AND(L278>0,P297>0),VLOOKUP(L278&P297&J298,'grup-puch'!I:K,3,FALSE),\"\"))))","v":""},{"$f":"IF(Q298<>\"\",CONCATENATE(VLOOKUP(Q298,zawodnicy!$A:$E,2,FALSE),\" \",VLOOKUP(Q298,zawodnicy!$A:$E,3,FALSE),\" - \",VLOOKUP(Q298,zawodnicy!$A:$E,4,FALSE)),\"\")","v":""},null,{"$f":"IF(G298=\"\",\"\",VLOOKUP(G298,zawodnicy!$A:$D,3,FALSE))","v":""}]
[null,null,null,null,null,null,null,null,null,null,{"$f":"IF(L279>59,10,\"\")","v":10},null,null,null,null,{"$f":"IF(K299=\"\",\"\",MAX(P281:P298)+1)","v":10},{"$f":"UPPER(IF(P299=\"\",\"\",IF(ISTEXT(L299),L299,IF(AND(L278>0,P299>0),VLOOKUP(L278&P299&J298,'grup-puch'!I:J,2,FALSE),\"\"))))","v":""},{"$f":"IF(Q299<>\"\",CONCATENATE(VLOOKUP(Q299,zawodnicy!$A:$E,2,FALSE),\" \",VLOOKUP(Q299,zawodnicy!$A:$E,3,FALSE),\" - \",VLOOKUP(Q299,zawodnicy!$A:$E,4,FALSE)),\"\")","v":""},null,{"$f":"IF(H298=\"\",I298,H298)","v":""},{"$f":"IF(F300=\"\",\"\",VLOOKUP(F300,zawodnicy!$A:$D,3,FALSE))","v":""}]
[{"$f":"T300","v":0},{"$f":"F298","v":""},{"$f":"G298","v":""},{"$f":"F302","v":""},{"$f":"G302","v":""},{"$f":"IF(A300=0,IF(AND(LEN(B300)>0,LEN(D300)=0),B300,IF(AND(LEN(D300)>0,LEN(B300)=0),D300,\"\")),IF((VLOOKUP(A300,'plan gier'!$Z:$AH,7,FALSE))=\"\",\"\",VLOOKUP(VLOOKUP(A300,'plan gier'!$Z:$AH,7,FALSE),zawodnicy!$A:$E,1,FALSE)))","v":""},{"$f":"IF(A300=0,IF(AND(LEN(C300)>0,LEN(E300)=0),C300,IF(AND(LEN(E300)>0,LEN(C300)=0),E300,\"\")),IF((VLOOKUP(A300,'plan gier'!$Z:$AH,8,FALSE))=\"\",\"\",VLOOKUP(VLOOKUP(A300,'plan gier'!$Z:$AH,8,FALSE),zawodnicy!$A:$E,1,FALSE)))","v":""},{"$f":"IF(A300=0,\"\",IF((VLOOKUP(A300,'plan gier'!$Z:$AH,7,FALSE))=\"\",\"\",VLOOKUP(A300,'plan gier'!$Z:$AH,9,FALSE)))","v":""},{"$f":"IF(A300=0,\"\",IF(VLOOKUP(A300,'plan gier'!A:T,20,FALSE)=\"\",\"\",VLOOKUP(A300,'plan gier'!A:T,20,FALSE)))","v":""},{"$f":"L280","v":0},null,null,null,null,null,null,{"$f":"UPPER(IF(P299=\"\",\"\",IF(ISTEXT(L300),L300,IF(AND(L278>0,P299>0),VLOOKUP(L278&P299&J298,'grup-puch'!I:K,3,FALSE),\"\"))))","v":""},{"$f":"IF(Q300<>\"\",CONCATENATE(VLOOKUP(Q300,zawodnicy!$A:$E,2,FALSE),\" \",VLOOKUP(Q300,zawodnicy!$A:$E,3,FALSE),\" - \",VLOOKUP(Q300,zawodnicy!$A:$E,4,FALSE)),\"\")","v":""},null,null,{"$f":"IF(G300=\"\",\"\",VLOOKUP(G300,zawodnicy!$A:$D,3,FALSE))","v":""}]
[null,null,null,null,null,null,null,null,null,null,{"$f":"IF(L279>32,11,\"\")","v":11},null,null,null,null,{"$f":"IF(K301=\"\",\"\",MAX(P281:P300)+1)","v":11},{"$f":"UPPER(IF(P301=\"\",\"\",IF(ISTEXT(L301),L301,IF(AND(L278>0,P301>0),VLOOKUP(L278&P301&J302,'grup-puch'!I:J,2,FALSE),\"\"))))","v":""},{"$f":"IF(Q301<>\"\",CONCATENATE(VLOOKUP(Q301,zawodnicy!$A:$E,2,FALSE),\" \",VLOOKUP(Q301,zawodnicy!$A:$E,3,FALSE),\" - \",VLOOKUP(Q301,zawodnicy!$A:$E,4,FALSE)),\"\")","v":""},null,{"$f":"IF(F302=\"\",\"\",VLOOKUP(F302,zawodnicy!$A:$D,3,FALSE))","v":""},{"$f":"IF(H300=\"\",I300,H300)","v":""}]
[{"$f":"S302","v":0},{"$f":"IF(Q301=\"\",\"\",Q301)","v":""},{"$f":"IF(Q302=\"\",\"\",Q302)","v":""},{"$f":"IF(Q303=\"\",\"\",Q303)","v":""},{"$f":"IF(Q304=\"\",\"\",Q304)","v":""},{"$f":"IF(A302=0,IF(AND(LEN(B302)>0,LEN(D302)=0),VLOOKUP(B302,zawodnicy!$A:$E,1,FALSE),IF(AND(LEN(D302)>0,LEN(B302)=0),VLOOKUP(D302,zawodnicy!$A:$E,1,FALSE),\"\")),IF((VLOOKUP(A302,'plan gier'!$Z:$AH,7,FALSE))=\"\",\"\",VLOOKUP(VLOOKUP(A302,'plan gier'!$Z:$AH,7,FALSE),zawodnicy!$A:$E,1,FALSE)))","v":""},{"$f":"IF(A302=0,IF(AND(LEN(C302)>1,LEN(E302)=0),VLOOKUP(C302,zawodnicy!$A:$E,1,FALSE),IF(AND(LEN(E302)>1,LEN(C302)=0),VLOOKUP(E302,zawodnicy!$A:$E,1,FALSE),\"\")),IF((VLOOKUP(A302,'plan gier'!$Z:$AH,8,FALSE))=\"\",\"\",VLOOKUP(VLOOKUP(A302,'plan gier'!$Z:$AH,8,FALSE),zawodnicy!$A:$E,1,FALSE)))","v":""},{"$f":"IF(A302=0,\"\",IF((VLOOKUP(A302,'plan gier'!$Z:$AH,7,FALSE))=\"\",\"\",VLOOKUP(A302,'plan gier'!$Z:$AH,9,FALSE)))","v":""},{"$f":"IF(A302=0,\"\",IF(VLOOKUP(A302,'plan gier'!A:T,20,FALSE)=\"\",\"\",VLOOKUP(A302,'plan gier'!A:T,20,FALSE)))","v":""},{"$f":"L280","v":0},null,null,null,null,null,null,{"$f":"UPPER(IF(P301=\"\",\"\",IF(ISTEXT(L302),L302,IF(AND(L278>0,P301>0),VLOOKUP(L278&P301&J302,'grup-puch'!I:K,3,FALSE),\"\"))))","v":""},{"$f":"IF(Q302<>\"\",CONCATENATE(VLOOKUP(Q302,zawodnicy!$A:$E,2,FALSE),\" \",VLOOKUP(Q302,zawodnicy!$A:$E,3,FALSE),\" - \",VLOOKUP(Q302,zawodnicy!$A:$E,4,FALSE)),\"\")","v":""},null,{"$f":"IF(G302=\"\",\"\",VLOOKUP(G302,zawodnicy!$A:$D,3,FALSE))","v":""}]
[null,null,null,null,null,null,null,null,null,null,{"$f":"IF(L279>43,12,\"\")","v":12},null,null,null,null,{"$f":"IF(K303=\"\",\"\",MAX(P281:P302)+1)","v":12},{"$f":"UPPER(IF(P303=\"\",\"\",IF(ISTEXT(L303),L303,IF(AND(L278>0,P303>0),VLOOKUP(L278&P303&J302,'grup-puch'!I:J,2,FALSE),\"\"))))","v":""},{"$f":"IF(Q303<>\"\",CONCATENATE(VLOOKUP(Q303,zawodnicy!$A:$E,2,FALSE),\" \",VLOOKUP(Q303,zawodnicy!$A:$E,3,FALSE),\" - \",VLOOKUP(Q303,zawodnicy!$A:$E,4,FALSE)),\"\")","v":""},null,{"$f":"IF(H302=\"\",I302,H302)","v":""},null,{"$f":"IF(F304=\"\",\"\",VLOOKUP(F304,zawodnicy!$A:$D,3,FALSE))","v":""}]
[{"$f":"U304","v":0},{"$f":"F300","v":""},{"$f":"G300","v":""},{"$f":"F308","v":""},{"$f":"G308","v":""},{"$f":"IF(A304=0,IF(AND(LEN(B304)>0,LEN(D304)=0),B304,IF(AND(LEN(D304)>0,LEN(B304)=0),D304,\"\")),IF((VLOOKUP(A304,'plan gier'!$Z:$AH,7,FALSE))=\"\",\"\",VLOOKUP(VLOOKUP(A304,'plan gier'!$Z:$AH,7,FALSE),zawodnicy!$A:$E,1,FALSE)))","v":""},{"$f":"IF(A304=0,IF(AND(LEN(C304)>0,LEN(E304)=0),C304,IF(AND(LEN(E304)>0,LEN(C304)=0),E304,\"\")),IF((VLOOKUP(A304,'plan gier'!$Z:$AH,8,FALSE))=\"\",\"\",VLOOKUP(VLOOKUP(A304,'plan gier'!$Z:$AH,8,FALSE),zawodnicy!$A:$E,1,FALSE)))","v":""},{"$f":"IF(A304=0,\"\",IF((VLOOKUP(A304,'plan gier'!$Z:$AH,7,FALSE))=\"\",\"\",VLOOKUP(A304,'plan gier'!$Z:$AH,9,FALSE)))","v":""},{"$f":"IF(A304=0,\"\",IF(VLOOKUP(A304,'plan gier'!A:T,20,FALSE)=\"\",\"\",VLOOKUP(A304,'plan gier'!A:T,20,FALSE)))","v":""},{"$f":"L280","v":0},null,null,null,null,null,null,{"$f":"UPPER(IF(P303=\"\",\"\",IF(ISTEXT(L304),L304,IF(AND(L278>0,P303>0),VLOOKUP(L278&P303&J302,'grup-puch'!I:K,3,FALSE),\"\"))))","v":""},{"$f":"IF(Q304<>\"\",CONCATENATE(VLOOKUP(Q304,zawodnicy!$A:$E,2,FALSE),\" \",VLOOKUP(Q304,zawodnicy!$A:$E,3,FALSE),\" - \",VLOOKUP(Q304,zawodnicy!$A:$E,4,FALSE)),\"\")","v":""},null,null,null,{"$f":"IF(G304=\"\",\"\",VLOOKUP(G304,zawodnicy!$A:$D,3,FALSE))","v":""}]
[null,null,null,null,null,null,null,null,null,null,{"$f":"IF(L279>32,13,\"\")","v":13},null,null,null,null,{"$f":"IF(K305=\"\",\"\",MAX(P281:P304)+1)","v":13},{"$f":"UPPER(IF(P305=\"\",\"\",IF(ISTEXT(L305),L305,IF(AND(L278>0,P305>0),VLOOKUP(L278&P305&J306,'grup-puch'!I:J,2,FALSE),\"\"))))","v":""},{"$f":"IF(Q305<>\"\",CONCATENATE(VLOOKUP(Q305,zawodnicy!$A:$E,2,FALSE),\" \",VLOOKUP(Q305,zawodnicy!$A:$E,3,FALSE),\" - \",VLOOKUP(Q305,zawodnicy!$A:$E,4,FALSE)),\"\")","v":""},null,{"$f":"IF(F306=\"\",\"\",VLOOKUP(F306,zawodnicy!$A:$D,3,FALSE))","v":""},null,{"$f":"IF(H304=\"\",I304,H304)","v":""}]
[{"$f":"S306","v":0},{"$f":"IF(Q305=\"\",\"\",Q305)","v":""},{"$f":"IF(Q306=\"\",\"\",Q306)","v":""},{"$f":"IF(Q307=\"\",\"\",Q307)","v":""},{"$f":"IF(Q308=\"\",\"\",Q308)","v":""},{"$f":"IF(A306=0,IF(AND(LEN(B306)>0,LEN(D306)=0),VLOOKUP(B306,zawodnicy!$A:$E,1,FALSE),IF(AND(LEN(D306)>0,LEN(B306)=0),VLOOKUP(D306,zawodnicy!$A:$E,1,FALSE),\"\")),IF((VLOOKUP(A306,'plan gier'!$Z:$AH,7,FALSE))=\"\",\"\",VLOOKUP(VLOOKUP(A306,'plan gier'!$Z:$AH,7,FALSE),zawodnicy!$A:$E,1,FALSE)))","v":""},{"$f":"IF(A306=0,IF(AND(LEN(C306)>1,LEN(E306)=0),VLOOKUP(C306,zawodnicy!$A:$E,1,FALSE),IF(AND(LEN(E306)>1,LEN(C306)=0),VLOOKUP(E306,zawodnicy!$A:$E,1,FALSE),\"\")),IF((VLOOKUP(A306,'plan gier'!$Z:$AH,8,FALSE))=\"\",\"\",VLOOKUP(VLOOKUP(A306,'plan gier'!$Z:$AH,8,FALSE),zawodnicy!$A:$E,1,FALSE)))","v":""},{"$f":"IF(A306=0,\"\",IF((VLOOKUP(A306,'plan gier'!$Z:$AH,7,FALSE))=\"\",\"\",VLOOKUP(A306,'plan gier'!$Z:$AH,9,FALSE)))","v":""},{"$f":"IF(A306=0,\"\",IF(VLOOKUP(A306,'plan gier'!A:T,20,FALSE)=\"\",\"\",VLOOKUP(A306,'plan gier'!A:T,20,FALSE)))","v":""},{"$f":"L280","v":0},null,null,null,null,null,null,{"$f":"UPPER(IF(P305=\"\",\"\",IF(ISTEXT(L306),L306,IF(AND(L278>0,P305>0),VLOOKUP(L278&P305&J306,'grup-puch'!I:K,3,FALSE),\"\"))))","v":""},{"$f":"IF(Q306<>\"\",CONCATENATE(VLOOKUP(Q306,zawodnicy!$A:$E,2,FALSE),\" \",VLOOKUP(Q306,zawodnicy!$A:$E,3,FALSE),\" - \",VLOOKUP(Q306,zawodnicy!$A:$E,4,FALSE)),\"\")","v":""},null,{"$f":"IF(G306=\"\",\"\",VLOOKUP(G306,zawodnicy!$A:$D,3,FALSE))","v":""}]
[null,null,null,null,null,null,null,null,null,null,{"$f":"IF(L279>51,14,\"\")","v":14},null,null,null,null,{"$f":"IF(K307=\"\",\"\",MAX(P281:P306)+1)","v":14},{"$f":"UPPER(IF(P307=\"\",\"\",IF(ISTEXT(L307),L307,IF(AND(L278>0,P307>0),VLOOKUP(L278&P307&J306,'grup-puch'!I:J,2,FALSE),\"\"))))","v":""},{"$f":"IF(Q307<>\"\",CONCATENATE(VLOOKUP(Q307,zawodnicy!$A:$E,2,FALSE),\" \",VLOOKUP(Q307,zawodnicy!$A:$E,3,FALSE),\" - \",VLOOKUP(Q307,zawodnicy!$A:$E,4,FALSE)),\"\")","v":""},null,{"$f":"IF(H306=\"\",I306,H306)","v":""},{"$f":"IF(F308=\"\",\"\",VLOOKUP(F308,zawodnicy!$A:$D,3,FALSE))","v":""}]
[{"$f":"T308","v":0},{"$f":"F306","v":""},{"$f":"G306","v":""},{"$f":"F310","v":""},{"$f":"G310","v":""},{"$f":"IF(A308=0,IF(AND(LEN(B308)>0,LEN(D308)=0),B308,IF(AND(LEN(D308)>0,LEN(B308)=0),D308,\"\")),IF((VLOOKUP(A308,'plan gier'!$Z:$AH,7,FALSE))=\"\",\"\",VLOOKUP(VLOOKUP(A308,'plan gier'!$Z:$AH,7,FALSE),zawodnicy!$A:$E,1,FALSE)))","v":""},{"$f":"IF(A308=0,IF(AND(LEN(C308)>0,LEN(E308)=0),C308,IF(AND(LEN(E308)>0,LEN(C308)=0),E308,\"\")),IF((VLOOKUP(A308,'plan gier'!$Z:$AH,8,FALSE))=\"\",\"\",VLOOKUP(VLOOKUP(A308,'plan gier'!$Z:$AH,8,FALSE),zawodnicy!$A:$E,1,FALSE)))","v":""},{"$f":"IF(A308=0,\"\",IF((VLOOKUP(A308,'plan gier'!$Z:$AH,7,FALSE))=\"\",\"\",VLOOKUP(A308,'plan gier'!$Z:$AH,9,FALSE)))","v":""},{"$f":"IF(A308=0,\"\",IF(VLOOKUP(A308,'plan gier'!A:T,20,FALSE)=\"\",\"\",VLOOKUP(A308,'plan gier'!A:T,20,FALSE)))","v":""},{"$f":"L280","v":0},null,null,null,null,null,null,{"$f":"UPPER(IF(P307=\"\",\"\",IF(ISTEXT(L308),L308,IF(AND(L278>0,P307>0),VLOOKUP(L278&P307&J306,'grup-puch'!I:K,3,FALSE),\"\"))))","v":""},{"$f":"IF(Q308<>\"\",CONCATENATE(VLOOKUP(Q308,zawodnicy!$A:$E,2,FALSE),\" \",VLOOKUP(Q308,zawodnicy!$A:$E,3,FALSE),\" - \",VLOOKUP(Q308,zawodnicy!$A:$E,4,FALSE)),\"\")","v":""},null,null,{"$f":"IF(G308=\"\",\"\",VLOOKUP(G308,zawodnicy!$A:$D,3,FALSE))","v":""}]
[null,null,null,null,null,null,null,null,null,null,{"$f":"IF(L279>32,15,\"\")","v":15},null,null,null,null,{"$f":"IF(K309=\"\",\"\",MAX(P281:P308)+1)","v":15},{"$f":"UPPER(IF(P309=\"\",\"\",IF(ISTEXT(L309),L309,IF(AND(L278>0,P309>0),VLOOKUP(L278&P309&J310,'grup-puch'!I:J,2,FALSE),\"\"))))","v":""},{"$f":"IF(Q309<>\"\",CONCATENATE(VLOOKUP(Q309,zawodnicy!$A:$E,2,FALSE),\" \",VLOOKUP(Q309,zawodnicy!$A:$E,3,FALSE),\" - \",VLOOKUP(Q309,zawodnicy!$A:$E,4,FALSE)),\"\")","v":""},null,{"$f":"IF(F310=\"\",\"\",VLOOKUP(F310,zawodnicy!$A:$D,3,FALSE))","v":""},{"$f":"IF(H308=\"\",I308,H308)","v":""}]
[{"$f":"S310","v":0},{"$f":"IF(Q309=\"\",\"\",Q309)","v":""},{"$f":"IF(Q310=\"\",\"\",Q310)","v":""},{"$f":"IF(Q311=\"\",\"\",Q311)","v":""},{"$f":"IF(Q312=\"\",\"\",Q312)","v":""},{"$f":"IF(A310=0,IF(AND(LEN(B310)>0,LEN(D310)=0),VLOOKUP(B310,zawodnicy!$A:$E,1,FALSE),IF(AND(LEN(D310)>0,LEN(B310)=0),VLOOKUP(D310,zawodnicy!$A:$E,1,FALSE),\"\")),IF((VLOOKUP(A310,'plan gier'!$Z:$AH,7,FALSE))=\"\",\"\",VLOOKUP(VLOOKUP(A310,'plan gier'!$Z:$AH,7,FALSE),zawodnicy!$A:$E,1,FALSE)))","v":""},{"$f":"IF(A310=0,IF(AND(LEN(C310)>1,LEN(E310)=0),VLOOKUP(C310,zawodnicy!$A:$E,1,FALSE),IF(AND(LEN(E310)>1,LEN(C310)=0),VLOOKUP(E310,zawodnicy!$A:$E,1,FALSE),\"\")),IF((VLOOKUP(A310,'plan gier'!$Z:$AH,8,FALSE))=\"\",\"\",VLOOKUP(VLOOKUP(A310,'plan gier'!$Z:$AH,8,FALSE),zawodnicy!$A:$E,1,FALSE)))","v":""},{"$f":"IF(A310=0,\"\",IF((VLOOKUP(A310,'plan gier'!$Z:$AH,7,FALSE))=\"\",\"\",VLOOKUP(A310,'plan gier'!$Z:$AH,9,FALSE)))","v":""},{"$f":"IF(A310=0,\"\",IF(VLOOKUP(A310,'plan gier'!A:T,20,FALSE)=\"\",\"\",VLOOKUP(A310,'plan gier'!A:T,20,FALSE)))","v":""},{"$f":"L280","v":0},null,null,null,null,null,null,{"$f":"UPPER(IF(P309=\"\",\"\",IF(ISTEXT(L310),L310,IF(AND(L278>0,P309>0),VLOOKUP(L278&P309&J310,'grup-puch'!I:K,3,FALSE),\"\"))))","v":""},{"$f":"IF(Q310<>\"\",CONCATENATE(VLOOKUP(Q310,zawodnicy!$A:$E,2,FALSE),\" \",VLOOKUP(Q310,zawodnicy!$A:$E,3,FALSE),\" - \",VLOOKUP(Q310,zawodnicy!$A:$E,4,FALSE)),\"\")","v":""},null,{"$f":"IF(G310=\"\",\"\",VLOOKUP(G310,zawodnicy!$A:$D,3,FALSE))","v":""}]
[null,null,null,null,null,null,null,null,null,null,{"$f":"IF(L279>35,16,\"\")","v":16},null,null,null,null,{"$f":"IF(K311=\"\",\"\",MAX(P281:P310)+1)","v":16},{"$f":"UPPER(IF(P311=\"\",\"\",IF(ISTEXT(L311),L311,IF(AND(L278>0,P311>0),VLOOKUP(L278&P311&J310,'grup-puch'!I:J,2,FALSE),\"\"))))","v":""},{"$f":"IF(Q311<>\"\",CONCATENATE(VLOOKUP(Q311,zawodnicy!$A:$E,2,FALSE),\" \",VLOOKUP(Q311,zawodnicy!$A:$E,3,FALSE),\" - \",VLOOKUP(Q311,zawodnicy!$A:$E,4,FALSE)),\"\")","v":""},null,{"$f":"IF(H310=\"\",I310,H310)","v":""},null,null,null,{"$f":"IF(F312=\"\",\"\",VLOOKUP(F312,zawodnicy!$A:$D,3,FALSE))","v":""}]
[{"$f":"W312","v":0},{"$f":"F296","v":""},{"$f":"G296","v":""},{"$f":"F328","v":""},{"$f":"G328","v":""},{"$f":"IF(A312=0,IF(AND(LEN(B312)>0,LEN(D312)=0),B312,IF(AND(LEN(D312)>0,LEN(B312)=0),D312,\"\")),IF((VLOOKUP(A312,'plan gier'!$Z:$AH,7,FALSE))=\"\",\"\",VLOOKUP(VLOOKUP(A312,'plan gier'!$Z:$AH,7,FALSE),zawodnicy!$A:$E,1,FALSE)))","v":""},{"$f":"IF(A312=0,IF(AND(LEN(C312)>0,LEN(E312)=0),C312,IF(AND(LEN(E312)>0,LEN(C312)=0),E312,\"\")),IF((VLOOKUP(A312,'plan gier'!$Z:$AH,8,FALSE))=\"\",\"\",VLOOKUP(VLOOKUP(A312,'plan gier'!$Z:$AH,8,FALSE),zawodnicy!$A:$E,1,FALSE)))","v":""},{"$f":"IF(A312=0,\"\",IF((VLOOKUP(A312,'plan gier'!$Z:$AH,7,FALSE))=\"\",\"\",VLOOKUP(A312,'plan gier'!$Z:$AH,9,FALSE)))","v":""},{"$f":"IF(A312=0,\"\",IF(VLOOKUP(A312,'plan gier'!A:T,20,FALSE)=\"\",\"\",VLOOKUP(A312,'plan gier'!A:T,20,FALSE)))","v":""},{"$f":"L280","v":0},null,null,null,null,null,null,{"$f":"UPPER(IF(P311=\"\",\"\",IF(ISTEXT(L312),L312,IF(AND(L278>0,P311>0),VLOOKUP(L278&P311&J310,'grup-puch'!I:K,3,FALSE),\"\"))))","v":""},{"$f":"IF(Q312<>\"\",CONCATENATE(VLOOKUP(Q312,zawodnicy!$A:$E,2,FALSE),\" \",VLOOKUP(Q312,zawodnicy!$A:$E,3,FALSE),\" - \",VLOOKUP(Q312,zawodnicy!$A:$E,4,FALSE)),\"\")","v":""},null,null,null,null,null,{"$f":"IF(G312=\"\",\"\",VLOOKUP(G312,zawodnicy!$A:$D,3,FALSE))","v":""}]
[null,null,null,null,null,null,null,null,null,null,{"$f":"IF(L279>32,17,\"\")","v":17},null,null,null,null,{"$f":"IF(K313=\"\",\"\",MAX(P281:P312)+1)","v":17},{"$f":"UPPER(IF(P313=\"\",\"\",IF(ISTEXT(L313),L313,IF(AND(L278>0,P313>0),VLOOKUP(L278&P313&J314,'grup-puch'!I:J,2,FALSE),\"\"))))","v":""},{"$f":"IF(Q313<>\"\",CONCATENATE(VLOOKUP(Q313,zawodnicy!$A:$E,2,FALSE),\" \",VLOOKUP(Q313,zawodnicy!$A:$E,3,FALSE),\" - \",VLOOKUP(Q313,zawodnicy!$A:$E,4,FALSE)),\"\")","v":""},null,{"$f":"IF(F314=\"\",\"\",VLOOKUP(F314,zawodnicy!$A:$D,3,FALSE))","v":""},null,null,null,{"$f":"IF(H312=\"\",I312,H312)","v":""}]
[{"$f":"S314","v":0},{"$f":"IF(Q313=\"\",\"\",Q313)","v":""},{"$f":"IF(Q314=\"\",\"\",Q314)","v":""},{"$f":"IF(Q315=\"\",\"\",Q315)","v":""},{"$f":"IF(Q316=\"\",\"\",Q316)","v":""},{"$f":"IF(A314=0,IF(AND(LEN(B314)>0,LEN(D314)=0),VLOOKUP(B314,zawodnicy!$A:$E,1,FALSE),IF(AND(LEN(D314)>0,LEN(B314)=0),VLOOKUP(D314,zawodnicy!$A:$E,1,FALSE),\"\")),IF((VLOOKUP(A314,'plan gier'!$Z:$AH,7,FALSE))=\"\",\"\",VLOOKUP(VLOOKUP(A314,'plan gier'!$Z:$AH,7,FALSE),zawodnicy!$A:$E,1,FALSE)))","v":""},{"$f":"IF(A314=0,IF(AND(LEN(C314)>1,LEN(E314)=0),VLOOKUP(C314,zawodnicy!$A:$E,1,FALSE),IF(AND(LEN(E314)>1,LEN(C314)=0),VLOOKUP(E314,zawodnicy!$A:$E,1,FALSE),\"\")),IF((VLOOKUP(A314,'plan gier'!$Z:$AH,8,FALSE))=\"\",\"\",VLOOKUP(VLOOKUP(A314,'plan gier'!$Z:$AH,8,FALSE),zawodnicy!$A:$E,1,FALSE)))","v":""},{"$f":"IF(A314=0,\"\",IF((VLOOKUP(A314,'plan gier'!$Z:$AH,7,FALSE))=\"\",\"\",VLOOKUP(A314,'plan gier'!$Z:$AH,9,FALSE)))","v":""},{"$f":"IF(A314=0,\"\",IF(VLOOKUP(A314,'plan gier'!A:T,20,FALSE)=\"\",\"\",VLOOKUP(A314,'plan gier'!A:T,20,FALSE)))","v":""},{"$f":"L280","v":0},null,null,null,null,null,null,{"$f":"UPPER(IF(P313=\"\",\"\",IF(ISTEXT(L314),L314,IF(AND(L278>0,P313>0),VLOOKUP(L278&P313&J314,'grup-puch'!I:K,3,FALSE),\"\"))))","v":""},{"$f":"IF(Q314<>\"\",CONCATENATE(VLOOKUP(Q314,zawodnicy!$A:$E,2,FALSE),\" \",VLOOKUP(Q314,zawodnicy!$A:$E,3,FALSE),\" - \",VLOOKUP(Q314,zawodnicy!$A:$E,4,FALSE)),\"\")","v":""},null,{"$f":"IF(G314=\"\",\"\",VLOOKUP(G314,zawodnicy!$A:$D,3,FALSE))","v":""}]
[null,null,null,null,null,null,null,null,null,null,{"$f":"IF(L279>61,18,\"\")","v":18},null,null,null,null,{"$f":"IF(K315=\"\",\"\",MAX(P281:P314)+1)","v":18},{"$f":"UPPER(IF(P315=\"\",\"\",IF(ISTEXT(L315),L315,IF(AND(L278>0,P315>0),VLOOKUP(L278&P315&J314,'grup-puch'!I:J,2,FALSE),\"\"))))","v":""},{"$f":"IF(Q315<>\"\",CONCATENATE(VLOOKUP(Q315,zawodnicy!$A:$E,2,FALSE),\" \",VLOOKUP(Q315,zawodnicy!$A:$E,3,FALSE),\" - \",VLOOKUP(Q315,zawodnicy!$A:$E,4,FALSE)),\"\")","v":""},null,{"$f":"IF(H314=\"\",I314,H314)","v":""},{"$f":"IF(F316=\"\",\"\",VLOOKUP(F316,zawodnicy!$A:$D,3,FALSE))","v":""}]
[{"$f":"T316","v":0},{"$f":"F314","v":""},{"$f":"G314","v":""},{"$f":"F318","v":""},{"$f":"G318","v":""},{"$f":"IF(A316=0,IF(AND(LEN(B316)>0,LEN(D316)=0),B316,IF(AND(LEN(D316)>0,LEN(B316)=0),D316,\"\")),IF((VLOOKUP(A316,'plan gier'!$Z:$AH,7,FALSE))=\"\",\"\",VLOOKUP(VLOOKUP(A316,'plan gier'!$Z:$AH,7,FALSE),zawodnicy!$A:$E,1,FALSE)))","v":""},{"$f":"IF(A316=0,IF(AND(LEN(C316)>0,LEN(E316)=0),C316,IF(AND(LEN(E316)>0,LEN(C316)=0),E316,\"\")),IF((VLOOKUP(A316,'plan gier'!$Z:$AH,8,FALSE))=\"\",\"\",VLOOKUP(VLOOKUP(A316,'plan gier'!$Z:$AH,8,FALSE),zawodnicy!$A:$E,1,FALSE)))","v":""},{"$f":"IF(A316=0,\"\",IF((VLOOKUP(A316,'plan gier'!$Z:$AH,7,FALSE))=\"\",\"\",VLOOKUP(A316,'plan gier'!$Z:$AH,9,FALSE)))","v":""},{"$f":"IF(A316=0,\"\",IF(VLOOKUP(A316,'plan gier'!A:T,20,FALSE)=\"\",\"\",VLOOKUP(A316,'plan gier'!A:T,20,FALSE)))","v":""},{"$f":"L280","v":0},null,null,null,null,null,null,{"$f":"UPPER(IF(P315=\"\",\"\",IF(ISTEXT(L316),L316,IF(AND(L278>0,P315>0),VLOOKUP(L278&P315&J314,'grup-puch'!I:K,3,FALSE),\"\"))))","v":""},{"$f":"IF(Q316<>\"\",CONCATENATE(VLOOKUP(Q316,zawodnicy!$A:$E,2,FALSE),\" \",VLOOKUP(Q316,zawodnicy!$A:$E,3,FALSE),\" - \",VLOOKUP(Q316,zawodnicy!$A:$E,4,FALSE)),\"\")","v":""},null,null,{"$f":"IF(G316=\"\",\"\",VLOOKUP(G316,zawodnicy!$A:$D,3,FALSE))","v":""}]
[null,null,null,null,null,null,null,null,null,null,{"$f":"IF(L279>32,19,\"\")","v":19},null,null,null,null,{"$f":"IF(K317=\"\",\"\",MAX(P281:P316)+1)","v":19},{"$f":"UPPER(IF(P317=\"\",\"\",IF(ISTEXT(L317),L317,IF(AND(L278>0,P317>0),VLOOKUP(L278&P317&J318,'grup-puch'!I:J,2,FALSE),\"\"))))","v":""},{"$f":"IF(Q317<>\"\",CONCATENATE(VLOOKUP(Q317,zawodnicy!$A:$E,2,FALSE),\" \",VLOOKUP(Q317,zawodnicy!$A:$E,3,FALSE),\" - \",VLOOKUP(Q317,zawodnicy!$A:$E,4,FALSE)),\"\")","v":""},null,{"$f":"IF(F318=\"\",\"\",VLOOKUP(F318,zawodnicy!$A:$D,3,FALSE))","v":""},{"$f":"IF(H316=\"\",I316,H316)","v":""}]
[{"$f":"S318","v":0},{"$f":"IF(Q317=\"\",\"\",Q317)","v":""},{"$f":"IF(Q318=\"\",\"\",Q318)","v":""},{"$f":"IF(Q319=\"\",\"\",Q319)","v":""},{"$f":"IF(Q320=\"\",\"\",Q320)","v":""},{"$f":"IF(A318=0,IF(AND(LEN(B318)>0,LEN(D318)=0),VLOOKUP(B318,zawodnicy!$A:$E,1,FALSE),IF(AND(LEN(D318)>0,LEN(B318)=0),VLOOKUP(D318,zawodnicy!$A:$E,1,FALSE),\"\")),IF((VLOOKUP(A318,'plan gier'!$Z:$AH,7,FALSE))=\"\",\"\",VLOOKUP(VLOOKUP(A318,'plan gier'!$Z:$AH,7,FALSE),zawodnicy!$A:$E,1,FALSE)))","v":""},{"$f":"IF(A318=0,IF(AND(LEN(C318)>1,LEN(E318)=0),VLOOKUP(C318,zawodnicy!$A:$E,1,FALSE),IF(AND(LEN(E318)>1,LEN(C318)=0),VLOOKUP(E318,zawodnicy!$A:$E,1,FALSE),\"\")),IF((VLOOKUP(A318,'plan gier'!$Z:$AH,8,FALSE))=\"\",\"\",VLOOKUP(VLOOKUP(A318,'plan gier'!$Z:$AH,8,FALSE),zawodnicy!$A:$E,1,FALSE)))","v":""},{"$f":"IF(A318=0,\"\",IF((VLOOKUP(A318,'plan gier'!$Z:$AH,7,FALSE))=\"\",\"\",VLOOKUP(A318,'plan gier'!$Z:$AH,9,FALSE)))","v":""},{"$f":"IF(A318=0,\"\",IF(VLOOKUP(A318,'plan gier'!A:T,20,FALSE)=\"\",\"\",VLOOKUP(A318,'plan gier'!A:T,20,FALSE)))","v":""},{"$f":"L280","v":0},null,null,null,null,null,null,{"$f":"UPPER(IF(P317=\"\",\"\",IF(ISTEXT(L318),L318,IF(AND(L278>0,P317>0),VLOOKUP(L278&P317&J318,'grup-puch'!I:K,3,FALSE),\"\"))))","v":""},{"$f":"IF(Q318<>\"\",CONCATENATE(VLOOKUP(Q318,zawodnicy!$A:$E,2,FALSE),\" \",VLOOKUP(Q318,zawodnicy!$A:$E,3,FALSE),\" - \",VLOOKUP(Q318,zawodnicy!$A:$E,4,FALSE)),\"\")","v":""},null,{"$f":"IF(G318=\"\",\"\",VLOOKUP(G318,zawodnicy!$A:$D,3,FALSE))","v":""}]
[null,null,null,null,null,null,null,null,null,null,{"$f":"IF(L279>45,20,\"\")","v":20},null,null,null,null,{"$f":"IF(K319=\"\",\"\",MAX(P281:P318)+1)","v":20},{"$f":"UPPER(IF(P319=\"\",\"\",IF(ISTEXT(L319),L319,IF(AND(L278>0,P319>0),VLOOKUP(L278&P319&J318,'grup-puch'!I:J,2,FALSE),\"\"))))","v":""},{"$f":"IF(Q319<>\"\",CONCATENATE(VLOOKUP(Q319,zawodnicy!$A:$E,2,FALSE),\" \",VLOOKUP(Q319,zawodnicy!$A:$E,3,FALSE),\" - \",VLOOKUP(Q319,zawodnicy!$A:$E,4,FALSE)),\"\")","v":""},null,{"$f":"IF(H318=\"\",I318,H318)","v":""},null,{"$f":"IF(F320=\"\",\"\",VLOOKUP(F320,zawodnicy!$A:$D,3,FALSE))","v":""}]
[{"$f":"U320","v":0},{"$f":"F316","v":""},{"$f":"G316","v":""},{"$f":"F324","v":""},{"$f":"G324","v":""},{"$f":"IF(A320=0,IF(AND(LEN(B320)>0,LEN(D320)=0),B320,IF(AND(LEN(D320)>0,LEN(B320)=0),D320,\"\")),IF((VLOOKUP(A320,'plan gier'!$Z:$AH,7,FALSE))=\"\",\"\",VLOOKUP(VLOOKUP(A320,'plan gier'!$Z:$AH,7,FALSE),zawodnicy!$A:$E,1,FALSE)))","v":""},{"$f":"IF(A320=0,IF(AND(LEN(C320)>0,LEN(E320)=0),C320,IF(AND(LEN(E320)>0,LEN(C320)=0),E320,\"\")),IF((VLOOKUP(A320,'plan gier'!$Z:$AH,8,FALSE))=\"\",\"\",VLOOKUP(VLOOKUP(A320,'plan gier'!$Z:$AH,8,FALSE),zawodnicy!$A:$E,1,FALSE)))","v":""},{"$f":"IF(A320=0,\"\",IF((VLOOKUP(A320,'plan gier'!$Z:$AH,7,FALSE))=\"\",\"\",VLOOKUP(A320,'plan gier'!$Z:$AH,9,FALSE)))","v":""},{"$f":"IF(A320=0,\"\",IF(VLOOKUP(A320,'plan gier'!A:T,20,FALSE)=\"\",\"\",VLOOKUP(A320,'plan gier'!A:T,20,FALSE)))","v":""},{"$f":"L280","v":0},null,null,null,null,null,null,{"$f":"UPPER(IF(P319=\"\",\"\",IF(ISTEXT(L320),L320,IF(AND(L278>0,P319>0),VLOOKUP(L278&P319&J318,'grup-puch'!I:K,3,FALSE),\"\"))))","v":""},{"$f":"IF(Q320<>\"\",CONCATENATE(VLOOKUP(Q320,zawodnicy!$A:$E,2,FALSE),\" \",VLOOKUP(Q320,zawodnicy!$A:$E,3,FALSE),\" - \",VLOOKUP(Q320,zawodnicy!$A:$E,4,FALSE)),\"\")","v":""},null,null,null,{"$f":"IF(G320=\"\",\"\",VLOOKUP(G320,zawodnicy!$A:$D,3,FALSE))","v":""}]
[null,null,null,null,null,null,null,null,null,null,{"$f":"IF(L279>32,21,\"\")","v":21},null,null,null,null,{"$f":"IF(K321=\"\",\"\",MAX(P281:P320)+1)","v":21},{"$f":"UPPER(IF(P321=\"\",\"\",IF(ISTEXT(L321),L321,IF(AND(L278>0,P321>0),VLOOKUP(L278&P321&J322,'grup-puch'!I:J,2,FALSE),\"\"))))","v":""},{"$f":"IF(Q321<>\"\",CONCATENATE(VLOOKUP(Q321,zawodnicy!$A:$E,2,FALSE),\" \",VLOOKUP(Q321,zawodnicy!$A:$E,3,FALSE),\" - \",VLOOKUP(Q321,zawodnicy!$A:$E,4,FALSE)),\"\")","v":""},null,{"$f":"IF(F322=\"\",\"\",VLOOKUP(F322,zawodnicy!$A:$D,3,FALSE))","v":""},null,{"$f":"IF(H320=\"\",I320,H320)","v":""}]
[{"$f":"S322","v":0},{"$f":"IF(Q321=\"\",\"\",Q321)","v":""},{"$f":"IF(Q322=\"\",\"\",Q322)","v":""},{"$f":"IF(Q323=\"\",\"\",Q323)","v":""},{"$f":"IF(Q324=\"\",\"\",Q324)","v":""},{"$f":"IF(A322=0,IF(AND(LEN(B322)>0,LEN(D322)=0),VLOOKUP(B322,zawodnicy!$A:$E,1,FALSE),IF(AND(LEN(D322)>0,LEN(B322)=0),VLOOKUP(D322,zawodnicy!$A:$E,1,FALSE),\"\")),IF((VLOOKUP(A322,'plan gier'!$Z:$AH,7,FALSE))=\"\",\"\",VLOOKUP(VLOOKUP(A322,'plan gier'!$Z:$AH,7,FALSE),zawodnicy!$A:$E,1,FALSE)))","v":""},{"$f":"IF(A322=0,IF(AND(LEN(C322)>1,LEN(E322)=0),VLOOKUP(C322,zawodnicy!$A:$E,1,FALSE),IF(AND(LEN(E322)>1,LEN(C322)=0),VLOOKUP(E322,zawodnicy!$A:$E,1,FALSE),\"\")),IF((VLOOKUP(A322,'plan gier'!$Z:$AH,8,FALSE))=\"\",\"\",VLOOKUP(VLOOKUP(A322,'plan gier'!$Z:$AH,8,FALSE),zawodnicy!$A:$E,1,FALSE)))","v":""},{"$f":"IF(A322=0,\"\",IF((VLOOKUP(A322,'plan gier'!$Z:$AH,7,FALSE))=\"\",\"\",VLOOKUP(A322,'plan gier'!$Z:$AH,9,FALSE)))","v":""},{"$f":"IF(A322=0,\"\",IF(VLOOKUP(A322,'plan gier'!A:T,20,FALSE)=\"\",\"\",VLOOKUP(A322,'plan gier'!A:T,20,FALSE)))","v":""},{"$f":"L280","v":0},null,null,null,null,null,null,{"$f":"UPPER(IF(P321=\"\",\"\",IF(ISTEXT(L322),L322,IF(AND(L278>0,P321>0),VLOOKUP(L278&P321&J322,'grup-puch'!I:K,3,FALSE),\"\"))))","v":""},{"$f":"IF(Q322<>\"\",CONCATENATE(VLOOKUP(Q322,zawodnicy!$A:$E,2,FALSE),\" \",VLOOKUP(Q322,zawodnicy!$A:$E,3,FALSE),\" - \",VLOOKUP(Q322,zawodnicy!$A:$E,4,FALSE)),\"\")","v":""},null,{"$f":"IF(G322=\"\",\"\",VLOOKUP(G322,zawodnicy!$A:$D,3,FALSE))","v":""}]
[null,null,null,null,null,null,null,null,null,null,{"$f":"IF(L279>53,22,\"\")","v":22},null,null,null,null,{"$f":"IF(K323=\"\",\"\",MAX(P281:P322)+1)","v":22},{"$f":"UPPER(IF(P323=\"\",\"\",IF(ISTEXT(L323),L323,IF(AND(L278>0,P323>0),VLOOKUP(L278&P323&J322,'grup-puch'!I:J,2,FALSE),\"\"))))","v":""},{"$f":"IF(Q323<>\"\",CONCATENATE(VLOOKUP(Q323,zawodnicy!$A:$E,2,FALSE),\" \",VLOOKUP(Q323,zawodnicy!$A:$E,3,FALSE),\" - \",VLOOKUP(Q323,zawodnicy!$A:$E,4,FALSE)),\"\")","v":""},null,{"$f":"IF(H322=\"\",I322,H322)","v":""},{"$f":"IF(F324=\"\",\"\",VLOOKUP(F324,zawodnicy!$A:$D,3,FALSE))","v":""}]
[{"$f":"T324","v":0},{"$f":"F322","v":""},{"$f":"G322","v":""},{"$f":"F326","v":""},{"$f":"G326","v":""},{"$f":"IF(A324=0,IF(AND(LEN(B324)>0,LEN(D324)=0),B324,IF(AND(LEN(D324)>0,LEN(B324)=0),D324,\"\")),IF((VLOOKUP(A324,'plan gier'!$Z:$AH,7,FALSE))=\"\",\"\",VLOOKUP(VLOOKUP(A324,'plan gier'!$Z:$AH,7,FALSE),zawodnicy!$A:$E,1,FALSE)))","v":""},{"$f":"IF(A324=0,IF(AND(LEN(C324)>0,LEN(E324)=0),C324,IF(AND(LEN(E324)>0,LEN(C324)=0),E324,\"\")),IF((VLOOKUP(A324,'plan gier'!$Z:$AH,8,FALSE))=\"\",\"\",VLOOKUP(VLOOKUP(A324,'plan gier'!$Z:$AH,8,FALSE),zawodnicy!$A:$E,1,FALSE)))","v":""},{"$f":"IF(A324=0,\"\",IF((VLOOKUP(A324,'plan gier'!$Z:$AH,7,FALSE))=\"\",\"\",VLOOKUP(A324,'plan gier'!$Z:$AH,9,FALSE)))","v":""},{"$f":"IF(A324=0,\"\",IF(VLOOKUP(A324,'plan gier'!A:T,20,FALSE)=\"\",\"\",VLOOKUP(A324,'plan gier'!A:T,20,FALSE)))","v":""},{"$f":"L280","v":0},null,null,null,null,null,null,{"$f":"UPPER(IF(P323=\"\",\"\",IF(ISTEXT(L324),L324,IF(AND(L278>0,P323>0),VLOOKUP(L278&P323&J322,'grup-puch'!I:K,3,FALSE),\"\"))))","v":""},{"$f":"IF(Q324<>\"\",CONCATENATE(VLOOKUP(Q324,zawodnicy!$A:$E,2,FALSE),\" \",VLOOKUP(Q324,zawodnicy!$A:$E,3,FALSE),\" - \",VLOOKUP(Q324,zawodnicy!$A:$E,4,FALSE)),\"\")","v":""},null,null,{"$f":"IF(G324=\"\",\"\",VLOOKUP(G324,zawodnicy!$A:$D,3,FALSE))","v":""}]
[null,null,null,null,null,null,null,null,null,null,{"$f":"IF(L279>32,23,\"\")","v":23},null,null,null,null,{"$f":"IF(K325=\"\",\"\",MAX(P281:P324)+1)","v":23},{"$f":"UPPER(IF(P325=\"\",\"\",IF(ISTEXT(L325),L325,IF(AND(L278>0,P325>0),VLOOKUP(L278&P325&J326,'grup-puch'!I:J,2,FALSE),\"\"))))","v":""},{"$f":"IF(Q325<>\"\",CONCATENATE(VLOOKUP(Q325,zawodnicy!$A:$E,2,FALSE),\" \",VLOOKUP(Q325,zawodnicy!$A:$E,3,FALSE),\" - \",VLOOKUP(Q325,zawodnicy!$A:$E,4,FALSE)),\"\")","v":""},null,{"$f":"IF(F326=\"\",\"\",VLOOKUP(F326,zawodnicy!$A:$D,3,FALSE))","v":""},{"$f":"IF(H324=\"\",I324,H324)","v":""}]
[{"$f":"S326","v":0},{"$f":"IF(Q325=\"\",\"\",Q325)","v":""},{"$f":"IF(Q326=\"\",\"\",Q326)","v":""},{"$f":"IF(Q327=\"\",\"\",Q327)","v":""},{"$f":"IF(Q328=\"\",\"\",Q328)","v":""},{"$f":"IF(A326=0,IF(AND(LEN(B326)>0,LEN(D326)=0),VLOOKUP(B326,zawodnicy!$A:$E,1,FALSE),IF(AND(LEN(D326)>0,LEN(B326)=0),VLOOKUP(D326,zawodnicy!$A:$E,1,FALSE),\"\")),IF((VLOOKUP(A326,'plan gier'!$Z:$AH,7,FALSE))=\"\",\"\",VLOOKUP(VLOOKUP(A326,'plan gier'!$Z:$AH,7,FALSE),zawodnicy!$A:$E,1,FALSE)))","v":""},{"$f":"IF(A326=0,IF(AND(LEN(C326)>1,LEN(E326)=0),VLOOKUP(C326,zawodnicy!$A:$E,1,FALSE),IF(AND(LEN(E326)>1,LEN(C326)=0),VLOOKUP(E326,zawodnicy!$A:$E,1,FALSE),\"\")),IF((VLOOKUP(A326,'plan gier'!$Z:$AH,8,FALSE))=\"\",\"\",VLOOKUP(VLOOKUP(A326,'plan gier'!$Z:$AH,8,FALSE),zawodnicy!$A:$E,1,FALSE)))","v":""},{"$f":"IF(A326=0,\"\",IF((VLOOKUP(A326,'plan gier'!$Z:$AH,7,FALSE))=\"\",\"\",VLOOKUP(A326,'plan gier'!$Z:$AH,9,FALSE)))","v":""},{"$f":"IF(A326=0,\"\",IF(VLOOKUP(A326,'plan gier'!A:T,20,FALSE)=\"\",\"\",VLOOKUP(A326,'plan gier'!A:T,20,FALSE)))","v":""},{"$f":"L280","v":0},null,null,null,null,null,null,{"$f":"UPPER(IF(P325=\"\",\"\",IF(ISTEXT(L326),L326,IF(AND(L278>0,P325>0),VLOOKUP(L278&P325&J326,'grup-puch'!I:K,3,FALSE),\"\"))))","v":""},{"$f":"IF(Q326<>\"\",CONCATENATE(VLOOKUP(Q326,zawodnicy!$A:$E,2,FALSE),\" \",VLOOKUP(Q326,zawodnicy!$A:$E,3,FALSE),\" - \",VLOOKUP(Q326,zawodnicy!$A:$E,4,FALSE)),\"\")","v":""},null,{"$f":"IF(G326=\"\",\"\",VLOOKUP(G326,zawodnicy!$A:$D,3,FALSE))","v":""}]
[null,null,null,null,null,null,null,null,null,null,{"$f":"IF(L279>37,24,\"\")","v":24},null,null,null,null,{"$f":"IF(K327=\"\",\"\",MAX(P281:P326)+1)","v":24},{"$f":"UPPER(IF(P327=\"\",\"\",IF(ISTEXT(L327),L327,IF(AND(L278>0,P327>0),VLOOKUP(L278&P327&J326,'grup-puch'!I:J,2,FALSE),\"\"))))","v":""},{"$f":"IF(Q327<>\"\",CONCATENATE(VLOOKUP(Q327,zawodnicy!$A:$E,2,FALSE),\" \",VLOOKUP(Q327,zawodnicy!$A:$E,3,FALSE),\" - \",VLOOKUP(Q327,zawodnicy!$A:$E,4,FALSE)),\"\")","v":""},null,{"$f":"IF(H326=\"\",I326,H326)","v":""},null,null,{"$f":"IF(F328=\"\",\"\",VLOOKUP(F328,zawodnicy!$A:$D,3,FALSE))","v":""}]
[{"$f":"V328","v":0},{"$f":"F320","v":""},{"$f":"G320","v":""},{"$f":"F336","v":""},{"$f":"G336","v":""},{"$f":"IF(A328=0,IF(AND(LEN(B328)>0,LEN(D328)=0),B328,IF(AND(LEN(D328)>0,LEN(B328)=0),D328,\"\")),IF((VLOOKUP(A328,'plan gier'!$Z:$AH,7,FALSE))=\"\",\"\",VLOOKUP(VLOOKUP(A328,'plan gier'!$Z:$AH,7,FALSE),zawodnicy!$A:$E,1,FALSE)))","v":""},{"$f":"IF(A328=0,IF(AND(LEN(C328)>0,LEN(E328)=0),C328,IF(AND(LEN(E328)>0,LEN(C328)=0),E328,\"\")),IF((VLOOKUP(A328,'plan gier'!$Z:$AH,8,FALSE))=\"\",\"\",VLOOKUP(VLOOKUP(A328,'plan gier'!$Z:$AH,8,FALSE),zawodnicy!$A:$E,1,FALSE)))","v":""},{"$f":"IF(A328=0,\"\",IF((VLOOKUP(A328,'plan gier'!$Z:$AH,7,FALSE))=\"\",\"\",VLOOKUP(A328,'plan gier'!$Z:$AH,9,FALSE)))","v":""},{"$f":"IF(A328=0,\"\",IF(VLOOKUP(A328,'plan gier'!A:T,20,FALSE)=\"\",\"\",VLOOKUP(A328,'plan gier'!A:T,20,FALSE)))","v":""},{"$f":"L280","v":0},null,null,null,null,null,null,{"$f":"UPPER(IF(P327=\"\",\"\",IF(ISTEXT(L328),L328,IF(AND(L278>0,P327>0),VLOOKUP(L278&P327&J326,'grup-puch'!I:K,3,FALSE),\"\"))))","v":""},{"$f":"IF(Q328<>\"\",CONCATENATE(VLOOKUP(Q328,zawodnicy!$A:$E,2,FALSE),\" \",VLOOKUP(Q328,zawodnicy!$A:$E,3,FALSE),\" - \",VLOOKUP(Q328,zawodnicy!$A:$E,4,FALSE)),\"\")","v":""},null,null,null,null,{"$f":"IF(G328=\"\",\"\",VLOOKUP(G328,zawodnicy!$A:$D,3,FALSE))","v":""}]
[null,null,null,null,null,null,null,null,null,null,{"$f":"IF(L279>32,25,\"\")","v":25},null,null,null,null,{"$f":"IF(K329=\"\",\"\",MAX(P281:P328)+1)","v":25},{"$f":"UPPER(IF(P329=\"\",\"\",IF(ISTEXT(L329),L329,IF(AND(L278>0,P329>0),VLOOKUP(L278&P329&J330,'grup-puch'!I:J,2,FALSE),\"\"))))","v":""},{"$f":"IF(Q329<>\"\",CONCATENATE(VLOOKUP(Q329,zawodnicy!$A:$E,2,FALSE),\" \",VLOOKUP(Q329,zawodnicy!$A:$E,3,FALSE),\" - \",VLOOKUP(Q329,zawodnicy!$A:$E,4,FALSE)),\"\")","v":""},null,{"$f":"IF(F330=\"\",\"\",VLOOKUP(F330,zawodnicy!$A:$D,3,FALSE))","v":""},null,null,{"$f":"IF(H328=\"\",I328,H328)","v":""}]
[{"$f":"S330","v":0},{"$f":"IF(Q329=\"\",\"\",Q329)","v":""},{"$f":"IF(Q330=\"\",\"\",Q330)","v":""},{"$f":"IF(Q331=\"\",\"\",Q331)","v":""},{"$f":"IF(Q332=\"\",\"\",Q332)","v":""},{"$f":"IF(A330=0,IF(AND(LEN(B330)>0,LEN(D330)=0),VLOOKUP(B330,zawodnicy!$A:$E,1,FALSE),IF(AND(LEN(D330)>0,LEN(B330)=0),VLOOKUP(D330,zawodnicy!$A:$E,1,FALSE),\"\")),IF((VLOOKUP(A330,'plan gier'!$Z:$AH,7,FALSE))=\"\",\"\",VLOOKUP(VLOOKUP(A330,'plan gier'!$Z:$AH,7,FALSE),zawodnicy!$A:$E,1,FALSE)))","v":""},{"$f":"IF(A330=0,IF(AND(LEN(C330)>1,LEN(E330)=0),VLOOKUP(C330,zawodnicy!$A:$E,1,FALSE),IF(AND(LEN(E330)>1,LEN(C330)=0),VLOOKUP(E330,zawodnicy!$A:$E,1,FALSE),\"\")),IF((VLOOKUP(A330,'plan gier'!$Z:$AH,8,FALSE))=\"\",\"\",VLOOKUP(VLOOKUP(A330,'plan gier'!$Z:$AH,8,FALSE),zawodnicy!$A:$E,1,FALSE)))","v":""},{"$f":"IF(A330=0,\"\",IF((VLOOKUP(A330,'plan gier'!$Z:$AH,7,FALSE))=\"\",\"\",VLOOKUP(A330,'plan gier'!$Z:$AH,9,FALSE)))","v":""},{"$f":"IF(A330=0,\"\",IF(VLOOKUP(A330,'plan gier'!A:T,20,FALSE)=\"\",\"\",VLOOKUP(A330,'plan gier'!A:T,20,FALSE)))","v":""},{"$f":"L280","v":0},null,null,null,null,null,null,{"$f":"UPPER(IF(P329=\"\",\"\",IF(ISTEXT(L330),L330,IF(AND(L278>0,P329>0),VLOOKUP(L278&P329&J330,'grup-puch'!I:K,3,FALSE),\"\"))))","v":""},{"$f":"IF(Q330<>\"\",CONCATENATE(VLOOKUP(Q330,zawodnicy!$A:$E,2,FALSE),\" \",VLOOKUP(Q330,zawodnicy!$A:$E,3,FALSE),\" - \",VLOOKUP(Q330,zawodnicy!$A:$E,4,FALSE)),\"\")","v":""},null,{"$f":"IF(G330=\"\",\"\",VLOOKUP(G330,zawodnicy!$A:$D,3,FALSE))","v":""}]
[null,null,null,null,null,null,null,null,null,null,{"$f":"IF(L279>57,26,\"\")","v":26},null,null,null,null,{"$f":"IF(K331=\"\",\"\",MAX(P281:P330)+1)","v":26},{"$f":"UPPER(IF(P331=\"\",\"\",IF(ISTEXT(L331),L331,IF(AND(L278>0,P331>0),VLOOKUP(L278&P331&J330,'grup-puch'!I:J,2,FALSE),\"\"))))","v":""},{"$f":"IF(Q331<>\"\",CONCATENATE(VLOOKUP(Q331,zawodnicy!$A:$E,2,FALSE),\" \",VLOOKUP(Q331,zawodnicy!$A:$E,3,FALSE),\" - \",VLOOKUP(Q331,zawodnicy!$A:$E,4,FALSE)),\"\")","v":""},null,{"$f":"IF(H330=\"\",I330,H330)","v":""},{"$f":"IF(F332=\"\",\"\",VLOOKUP(F332,zawodnicy!$A:$D,3,FALSE))","v":""}]
[{"$f":"T332","v":0},{"$f":"F330","v":""},{"$f":"G330","v":""},{"$f":"F334","v":""},{"$f":"G334","v":""},{"$f":"IF(A332=0,IF(AND(LEN(B332)>0,LEN(D332)=0),B332,IF(AND(LEN(D332)>0,LEN(B332)=0),D332,\"\")),IF((VLOOKUP(A332,'plan gier'!$Z:$AH,7,FALSE))=\"\",\"\",VLOOKUP(VLOOKUP(A332,'plan gier'!$Z:$AH,7,FALSE),zawodnicy!$A:$E,1,FALSE)))","v":""},{"$f":"IF(A332=0,IF(AND(LEN(C332)>0,LEN(E332)=0),C332,IF(AND(LEN(E332)>0,LEN(C332)=0),E332,\"\")),IF((VLOOKUP(A332,'plan gier'!$Z:$AH,8,FALSE))=\"\",\"\",VLOOKUP(VLOOKUP(A332,'plan gier'!$Z:$AH,8,FALSE),zawodnicy!$A:$E,1,FALSE)))","v":""},{"$f":"IF(A332=0,\"\",IF((VLOOKUP(A332,'plan gier'!$Z:$AH,7,FALSE))=\"\",\"\",VLOOKUP(A332,'plan gier'!$Z:$AH,9,FALSE)))","v":""},{"$f":"IF(A332=0,\"\",IF(VLOOKUP(A332,'plan gier'!A:T,20,FALSE)=\"\",\"\",VLOOKUP(A332,'plan gier'!A:T,20,FALSE)))","v":""},{"$f":"L280","v":0},null,null,null,null,null,null,{"$f":"UPPER(IF(P331=\"\",\"\",IF(ISTEXT(L332),L332,IF(AND(L278>0,P331>0),VLOOKUP(L278&P331&J330,'grup-puch'!I:K,3,FALSE),\"\"))))","v":""},{"$f":"IF(Q332<>\"\",CONCATENATE(VLOOKUP(Q332,zawodnicy!$A:$E,2,FALSE),\" \",VLOOKUP(Q332,zawodnicy!$A:$E,3,FALSE),\" - \",VLOOKUP(Q332,zawodnicy!$A:$E,4,FALSE)),\"\")","v":""},null,null,{"$f":"IF(G332=\"\",\"\",VLOOKUP(G332,zawodnicy!$A:$D,3,FALSE))","v":""}]
[null,null,null,null,null,null,null,null,null,null,{"$f":"IF(L279>32,27,\"\")","v":27},null,null,null,null,{"$f":"IF(K333=\"\",\"\",MAX(P281:P332)+1)","v":27},{"$f":"UPPER(IF(P333=\"\",\"\",IF(ISTEXT(L333),L333,IF(AND(L278>0,P333>0),VLOOKUP(L278&P333&J334,'grup-puch'!I:J,2,FALSE),\"\"))))","v":""},{"$f":"IF(Q333<>\"\",CONCATENATE(VLOOKUP(Q333,zawodnicy!$A:$E,2,FALSE),\" \",VLOOKUP(Q333,zawodnicy!$A:$E,3,FALSE),\" - \",VLOOKUP(Q333,zawodnicy!$A:$E,4,FALSE)),\"\")","v":""},null,{"$f":"IF(F334=\"\",\"\",VLOOKUP(F334,zawodnicy!$A:$D,3,FALSE))","v":""},{"$f":"IF(H332=\"\",I332,H332)","v":""}]
[{"$f":"S334","v":0},{"$f":"IF(Q333=\"\",\"\",Q333)","v":""},{"$f":"IF(Q334=\"\",\"\",Q334)","v":""},{"$f":"IF(Q335=\"\",\"\",Q335)","v":""},{"$f":"IF(Q336=\"\",\"\",Q336)","v":""},{"$f":"IF(A334=0,IF(AND(LEN(B334)>0,LEN(D334)=0),VLOOKUP(B334,zawodnicy!$A:$E,1,FALSE),IF(AND(LEN(D334)>0,LEN(B334)=0),VLOOKUP(D334,zawodnicy!$A:$E,1,FALSE),\"\")),IF((VLOOKUP(A334,'plan gier'!$Z:$AH,7,FALSE))=\"\",\"\",VLOOKUP(VLOOKUP(A334,'plan gier'!$Z:$AH,7,FALSE),zawodnicy!$A:$E,1,FALSE)))","v":""},{"$f":"IF(A334=0,IF(AND(LEN(C334)>1,LEN(E334)=0),VLOOKUP(C334,zawodnicy!$A:$E,1,FALSE),IF(AND(LEN(E334)>1,LEN(C334)=0),VLOOKUP(E334,zawodnicy!$A:$E,1,FALSE),\"\")),IF((VLOOKUP(A334,'plan gier'!$Z:$AH,8,FALSE))=\"\",\"\",VLOOKUP(VLOOKUP(A334,'plan gier'!$Z:$AH,8,FALSE),zawodnicy!$A:$E,1,FALSE)))","v":""},{"$f":"IF(A334=0,\"\",IF((VLOOKUP(A334,'plan gier'!$Z:$AH,7,FALSE))=\"\",\"\",VLOOKUP(A334,'plan gier'!$Z:$AH,9,FALSE)))","v":""},{"$f":"IF(A334=0,\"\",IF(VLOOKUP(A334,'plan gier'!A:T,20,FALSE)=\"\",\"\",VLOOKUP(A334,'plan gier'!A:T,20,FALSE)))","v":""},{"$f":"L280","v":0},null,null,null,null,null,null,{"$f":"UPPER(IF(P333=\"\",\"\",IF(ISTEXT(L334),L334,IF(AND(L278>0,P333>0),VLOOKUP(L278&P333&J334,'grup-puch'!I:K,3,FALSE),\"\"))))","v":""},{"$f":"IF(Q334<>\"\",CONCATENATE(VLOOKUP(Q334,zawodnicy!$A:$E,2,FALSE),\" \",VLOOKUP(Q334,zawodnicy!$A:$E,3,FALSE),\" - \",VLOOKUP(Q334,zawodnicy!$A:$E,4,FALSE)),\"\")","v":""},null,{"$f":"IF(G334=\"\",\"\",VLOOKUP(G334,zawodnicy!$A:$D,3,FALSE))","v":""}]
[null,null,null,null,null,null,null,null,null,null,{"$f":"IF(L279>41,28,\"\")","v":28},null,null,null,null,{"$f":"IF(K335=\"\",\"\",MAX(P281:P334)+1)","v":28},{"$f":"UPPER(IF(P335=\"\",\"\",IF(ISTEXT(L335),L335,IF(AND(L278>0,P335>0),VLOOKUP(L278&P335&J334,'grup-puch'!I:J,2,FALSE),\"\"))))","v":""},{"$f":"IF(Q335<>\"\",CONCATENATE(VLOOKUP(Q335,zawodnicy!$A:$E,2,FALSE),\" \",VLOOKUP(Q335,zawodnicy!$A:$E,3,FALSE),\" - \",VLOOKUP(Q335,zawodnicy!$A:$E,4,FALSE)),\"\")","v":""},null,{"$f":"IF(H334=\"\",I334,H334)","v":""},null,{"$f":"IF(F336=\"\",\"\",VLOOKUP(F336,zawodnicy!$A:$D,3,FALSE))","v":""}]
[{"$f":"U336","v":0},{"$f":"F332","v":""},{"$f":"G332","v":""},{"$f":"F340","v":""},{"$f":"G340","v":""},{"$f":"IF(A336=0,IF(AND(LEN(B336)>0,LEN(D336)=0),B336,IF(AND(LEN(D336)>0,LEN(B336)=0),D336,\"\")),IF((VLOOKUP(A336,'plan gier'!$Z:$AH,7,FALSE))=\"\",\"\",VLOOKUP(VLOOKUP(A336,'plan gier'!$Z:$AH,7,FALSE),zawodnicy!$A:$E,1,FALSE)))","v":""},{"$f":"IF(A336=0,IF(AND(LEN(C336)>0,LEN(E336)=0),C336,IF(AND(LEN(E336)>0,LEN(C336)=0),E336,\"\")),IF((VLOOKUP(A336,'plan gier'!$Z:$AH,8,FALSE))=\"\",\"\",VLOOKUP(VLOOKUP(A336,'plan gier'!$Z:$AH,8,FALSE),zawodnicy!$A:$E,1,FALSE)))","v":""},{"$f":"IF(A336=0,\"\",IF((VLOOKUP(A336,'plan gier'!$Z:$AH,7,FALSE))=\"\",\"\",VLOOKUP(A336,'plan gier'!$Z:$AH,9,FALSE)))","v":""},{"$f":"IF(A336=0,\"\",IF(VLOOKUP(A336,'plan gier'!A:T,20,FALSE)=\"\",\"\",VLOOKUP(A336,'plan gier'!A:T,20,FALSE)))","v":""},{"$f":"L280","v":0},null,null,null,null,null,null,{"$f":"UPPER(IF(P335=\"\",\"\",IF(ISTEXT(L336),L336,IF(AND(L278>0,P335>0),VLOOKUP(L278&P335&J334,'grup-puch'!I:K,3,FALSE),\"\"))))","v":""},{"$f":"IF(Q336<>\"\",CONCATENATE(VLOOKUP(Q336,zawodnicy!$A:$E,2,FALSE),\" \",VLOOKUP(Q336,zawodnicy!$A:$E,3,FALSE),\" - \",VLOOKUP(Q336,zawodnicy!$A:$E,4,FALSE)),\"\")","v":""},null,null,null,{"$f":"IF(G336=\"\",\"\",VLOOKUP(G336,zawodnicy!$A:$D,3,FALSE))","v":""}]
[null,null,null,null,null,null,null,null,null,null,{"$f":"IF(L279>32,29,\"\")","v":29},null,null,null,null,{"$f":"IF(K337=\"\",\"\",MAX(P281:P336)+1)","v":29},{"$f":"UPPER(IF(P337=\"\",\"\",IF(ISTEXT(L337),L337,IF(AND(L278>0,P337>0),VLOOKUP(L278&P337&J338,'grup-puch'!I:J,2,FALSE),\"\"))))","v":""},{"$f":"IF(Q337<>\"\",CONCATENATE(VLOOKUP(Q337,zawodnicy!$A:$E,2,FALSE),\" \",VLOOKUP(Q337,zawodnicy!$A:$E,3,FALSE),\" - \",VLOOKUP(Q337,zawodnicy!$A:$E,4,FALSE)),\"\")","v":""},null,{"$f":"IF(F338=\"\",\"\",VLOOKUP(F338,zawodnicy!$A:$D,3,FALSE))","v":""},null,{"$f":"IF(H336=\"\",I336,H336)","v":""}]
[{"$f":"S338","v":0},{"$f":"IF(Q337=\"\",\"\",Q337)","v":""},{"$f":"IF(Q338=\"\",\"\",Q338)","v":""},{"$f":"IF(Q339=\"\",\"\",Q339)","v":""},{"$f":"IF(Q340=\"\",\"\",Q340)","v":""},{"$f":"IF(A338=0,IF(AND(LEN(B338)>0,LEN(D338)=0),VLOOKUP(B338,zawodnicy!$A:$E,1,FALSE),IF(AND(LEN(D338)>0,LEN(B338)=0),VLOOKUP(D338,zawodnicy!$A:$E,1,FALSE),\"\")),IF((VLOOKUP(A338,'plan gier'!$Z:$AH,7,FALSE))=\"\",\"\",VLOOKUP(VLOOKUP(A338,'plan gier'!$Z:$AH,7,FALSE),zawodnicy!$A:$E,1,FALSE)))","v":""},{"$f":"IF(A338=0,IF(AND(LEN(C338)>1,LEN(E338)=0),VLOOKUP(C338,zawodnicy!$A:$E,1,FALSE),IF(AND(LEN(E338)>1,LEN(C338)=0),VLOOKUP(E338,zawodnicy!$A:$E,1,FALSE),\"\")),IF((VLOOKUP(A338,'plan gier'!$Z:$AH,8,FALSE))=\"\",\"\",VLOOKUP(VLOOKUP(A338,'plan gier'!$Z:$AH,8,FALSE),zawodnicy!$A:$E,1,FALSE)))","v":""},{"$f":"IF(A338=0,\"\",IF((VLOOKUP(A338,'plan gier'!$Z:$AH,7,FALSE))=\"\",\"\",VLOOKUP(A338,'plan gier'!$Z:$AH,9,FALSE)))","v":""},{"$f":"IF(A338=0,\"\",IF(VLOOKUP(A338,'plan gier'!A:T,20,FALSE)=\"\",\"\",VLOOKUP(A338,'plan gier'!A:T,20,FALSE)))","v":""},{"$f":"L280","v":0},null,null,null,null,null,null,{"$f":"UPPER(IF(P337=\"\",\"\",IF(ISTEXT(L338),L338,IF(AND(L278>0,P337>0),VLOOKUP(L278&P337&J338,'grup-puch'!I:K,3,FALSE),\"\"))))","v":""},{"$f":"IF(Q338<>\"\",CONCATENATE(VLOOKUP(Q338,zawodnicy!$A:$E,2,FALSE),\" \",VLOOKUP(Q338,zawodnicy!$A:$E,3,FALSE),\" - \",VLOOKUP(Q338,zawodnicy!$A:$E,4,FALSE)),\"\")","v":""},null,{"$f":"IF(G338=\"\",\"\",VLOOKUP(G338,zawodnicy!$A:$D,3,FALSE))","v":""},null,null,null,{"$f":"IF(F339=\"\",\"\",VLOOKUP(F339,zawodnicy!$A:$D,3,FALSE))","v":""}]
[{"$f":"W339","v":0},{"$f":"F312","v":""},{"$f":"G312","v":""},{"$f":"F379","v":""},{"$f":"G379","v":""},{"$f":"IF(A339=0,IF(AND(LEN(B339)>0,LEN(D339)=0),B339,IF(AND(LEN(D339)>0,LEN(B339)=0),D339,\"\")),IF((VLOOKUP(A339,'plan gier'!$Z:$AH,7,FALSE))=\"\",\"\",VLOOKUP(VLOOKUP(A339,'plan gier'!$Z:$AH,7,FALSE),zawodnicy!$A:$E,1,FALSE)))","v":""},{"$f":"IF(A339=0,IF(AND(LEN(C339)>0,LEN(E339)=0),C339,IF(AND(LEN(E339)>0,LEN(C339)=0),E339,\"\")),IF((VLOOKUP(A339,'plan gier'!$Z:$AH,8,FALSE))=\"\",\"\",VLOOKUP(VLOOKUP(A339,'plan gier'!$Z:$AH,8,FALSE),zawodnicy!$A:$E,1,FALSE)))","v":""},{"$f":"IF(A339=0,\"\",IF((VLOOKUP(A339,'plan gier'!$Z:$AH,7,FALSE))=\"\",\"\",VLOOKUP(A339,'plan gier'!$Z:$AH,9,FALSE)))","v":""},{"$f":"IF(A339=0,\"\",IF(VLOOKUP(A339,'plan gier'!A:T,20,FALSE)=\"\",\"\",VLOOKUP(A339,'plan gier'!A:T,20,FALSE)))","v":""},{"$f":"L280","v":0},{"$f":"IF(L279>49,23,\"\")","v":23},null,null,null,null,{"$f":"IF(K339=\"\",\"\",MAX(P281:P338)+1)","v":30},{"$f":"UPPER(IF(P339=\"\",\"\",IF(ISTEXT(L339),L339,IF(AND(L278>0,P339>0),VLOOKUP(L278&P339&J338,'grup-puch'!I:J,2,FALSE),\"\"))))","v":""},{"$f":"IF(Q339<>\"\",CONCATENATE(VLOOKUP(Q339,zawodnicy!$A:$E,2,FALSE),\" \",VLOOKUP(Q339,zawodnicy!$A:$E,3,FALSE),\" - \",VLOOKUP(Q339,zawodnicy!$A:$E,4,FALSE)),\"\")","v":""},null,{"$f":"IF(H338=\"\",I338,H338)","v":""},{"$f":"IF(F340=\"\",\"\",VLOOKUP(F340,zawodnicy!$A:$D,3,FALSE))","v":""},null,null,{"$f":"IF(G339=\"\",\"\",VLOOKUP(G339,zawodnicy!$A:$D,3,FALSE))","v":""}]
[{"$f":"T340","v":0},{"$f":"F338","v":""},{"$f":"G338","v":""},{"$f":"F342","v":""},{"$f":"G342","v":""},{"$f":"IF(A340=0,IF(AND(LEN(B340)>0,LEN(D340)=0),B340,IF(AND(LEN(D340)>0,LEN(B340)=0),D340,\"\")),IF((VLOOKUP(A340,'plan gier'!$Z:$AH,7,FALSE))=\"\",\"\",VLOOKUP(VLOOKUP(A340,'plan gier'!$Z:$AH,7,FALSE),zawodnicy!$A:$E,1,FALSE)))","v":""},{"$f":"IF(A340=0,IF(AND(LEN(C340)>0,LEN(E340)=0),C340,IF(AND(LEN(E340)>0,LEN(C340)=0),E340,\"\")),IF((VLOOKUP(A340,'plan gier'!$Z:$AH,8,FALSE))=\"\",\"\",VLOOKUP(VLOOKUP(A340,'plan gier'!$Z:$AH,8,FALSE),zawodnicy!$A:$E,1,FALSE)))","v":""},{"$f":"IF(A340=0,\"\",IF((VLOOKUP(A340,'plan gier'!$Z:$AH,7,FALSE))=\"\",\"\",VLOOKUP(A340,'plan gier'!$Z:$AH,9,FALSE)))","v":""},{"$f":"IF(A340=0,\"\",IF(VLOOKUP(A340,'plan gier'!A:T,20,FALSE)=\"\",\"\",VLOOKUP(A340,'plan gier'!A:T,20,FALSE)))","v":""},{"$f":"L280","v":0},null,null,null,null,null,null,{"$f":"UPPER(IF(P339=\"\",\"\",IF(ISTEXT(L340),L340,IF(AND(L278>0,P339>0),VLOOKUP(L278&P339&J338,'grup-puch'!I:K,3,FALSE),\"\"))))","v":""},{"$f":"IF(Q340<>\"\",CONCATENATE(VLOOKUP(Q340,zawodnicy!$A:$E,2,FALSE),\" \",VLOOKUP(Q340,zawodnicy!$A:$E,3,FALSE),\" - \",VLOOKUP(Q340,zawodnicy!$A:$E,4,FALSE)),\"\")","v":""},null,null,{"$f":"IF(G340=\"\",\"\",VLOOKUP(G340,zawodnicy!$A:$D,3,FALSE))","v":""},null,null,{"$f":"IF(H339=\"\",I339,H339)","v":""}]
[null,null,null,null,null,null,null,null,null,null,{"$f":"IF(L279>32,31,\"\")","v":31},null,null,null,null,{"$f":"IF(K341=\"\",\"\",MAX(P281:P340)+1)","v":31},{"$f":"UPPER(IF(P341=\"\",\"\",IF(ISTEXT(L341),L341,IF(AND(L278>0,P341>0),VLOOKUP(L278&P341&J342,'grup-puch'!I:J,2,FALSE),\"\"))))","v":""},{"$f":"IF(Q341<>\"\",CONCATENATE(VLOOKUP(Q341,zawodnicy!$A:$E,2,FALSE),\" \",VLOOKUP(Q341,zawodnicy!$A:$E,3,FALSE),\" - \",VLOOKUP(Q341,zawodnicy!$A:$E,4,FALSE)),\"\")","v":""},null,{"$f":"IF(F342=\"\",\"\",VLOOKUP(F342,zawodnicy!$A:$D,3,FALSE))","v":""},{"$f":"IF(H340=\"\",I340,H340)","v":""}]
[{"$f":"S342","v":0},{"$f":"IF(Q341=\"\",\"\",Q341)","v":""},{"$f":"IF(Q342=\"\",\"\",Q342)","v":""},{"$f":"IF(Q343=\"\",\"\",Q343)","v":""},{"$f":"IF(Q344=\"\",\"\",Q344)","v":""},{"$f":"IF(A342=0,IF(AND(LEN(B342)>0,LEN(D342)=0),VLOOKUP(B342,zawodnicy!$A:$E,1,FALSE),IF(AND(LEN(D342)>0,LEN(B342)=0),VLOOKUP(D342,zawodnicy!$A:$E,1,FALSE),\"\")),IF((VLOOKUP(A342,'plan gier'!$Z:$AH,7,FALSE))=\"\",\"\",VLOOKUP(VLOOKUP(A342,'plan gier'!$Z:$AH,7,FALSE),zawodnicy!$A:$E,1,FALSE)))","v":""},{"$f":"IF(A342=0,IF(AND(LEN(C342)>1,LEN(E342)=0),VLOOKUP(C342,zawodnicy!$A:$E,1,FALSE),IF(AND(LEN(E342)>1,LEN(C342)=0),VLOOKUP(E342,zawodnicy!$A:$E,1,FALSE),\"\")),IF((VLOOKUP(A342,'plan gier'!$Z:$AH,8,FALSE))=\"\",\"\",VLOOKUP(VLOOKUP(A342,'plan gier'!$Z:$AH,8,FALSE),zawodnicy!$A:$E,1,FALSE)))","v":""},{"$f":"IF(A342=0,\"\",IF((VLOOKUP(A342,'plan gier'!$Z:$AH,7,FALSE))=\"\",\"\",VLOOKUP(A342,'plan gier'!$Z:$AH,9,FALSE)))","v":""},{"$f":"IF(A342=0,\"\",IF(VLOOKUP(A342,'plan gier'!A:T,20,FALSE)=\"\",\"\",VLOOKUP(A342,'plan gier'!A:T,20,FALSE)))","v":""},{"$f":"L280","v":0},null,null,null,null,null,null,{"$f":"UPPER(IF(P341=\"\",\"\",IF(ISTEXT(L342),L342,IF(AND(L278>0,P341>0),VLOOKUP(L278&P341&J342,'grup-puch'!I:K,3,FALSE),\"\"))))","v":""},{"$f":"IF(Q342<>\"\",CONCATENATE(VLOOKUP(Q342,zawodnicy!$A:$E,2,FALSE),\" \",VLOOKUP(Q342,zawodnicy!$A:$E,3,FALSE),\" - \",VLOOKUP(Q342,zawodnicy!$A:$E,4,FALSE)),\"\")","v":""},null,{"$f":"IF(G342=\"\",\"\",VLOOKUP(G342,zawodnicy!$A:$D,3,FALSE))","v":""}]
[null,null,null,null,null,null,null,null,null,null,{"$f":"IF(L279>33,32,\"\")","v":32},null,null,null,null,{"$f":"IF(K343=\"\",\"\",MAX(P281:P342)+1)","v":32},{"$f":"UPPER(IF(P343=\"\",\"\",IF(ISTEXT(L343),L343,IF(AND(L278>0,P343>0),VLOOKUP(L278&P343&J342,'grup-puch'!I:J,2,FALSE),\"\"))))","v":""},{"$f":"IF(Q343<>\"\",CONCATENATE(VLOOKUP(Q343,zawodnicy!$A:$E,2,FALSE),\" \",VLOOKUP(Q343,zawodnicy!$A:$E,3,FALSE),\" - \",VLOOKUP(Q343,zawodnicy!$A:$E,4,FALSE)),\"\")","v":""},null,{"$f":"IF(H342=\"\",I342,H342)","v":""},null,"Sędzia głowny"]
[null,null,null,null,null,null,null,null,null,null,null,null,null,null,null,null,{"$f":"UPPER(IF(P343=\"\",\"\",IF(ISTEXT(L344),L344,IF(AND(L278>0,P343>0),VLOOKUP(L278&P343&J342,'grup-puch'!I:K,3,FALSE),\"\"))))","v":""},{"$f":"IF(Q344<>\"\",CONCATENATE(VLOOKUP(Q344,zawodnicy!$A:$E,2,FALSE),\" \",VLOOKUP(Q344,zawodnicy!$A:$E,3,FALSE),\" - \",VLOOKUP(Q344,zawodnicy!$A:$E,4,FALSE)),\"\")","v":""},null,null,null,{"$f":"IF(ISBLANK(dane!$D$4),\"\",dane!$D$4)","v":"Marek Krawczyk"}]
[null,null,null,null,null,null,null,null,null,null,null,null,null,null,null,null,{"$f":"\"Gra\"&\" \"&L280","v":"Gra "}]
[null,null,null,null,null,null,null,null,null,null,null,null,null,null,null,"Dolna połówka"]
[]
[null,null,null,null,null,null,null,null,null,null,{"$f":"IF(L279>32,33,\"\")","v":33},null,null,null,null,{"$f":"IF(K348=\"\",\"\",MAX(P281:P347)+1)","v":33},{"$f":"UPPER(IF(P348=\"\",\"\",IF(ISTEXT(L348),L348,IF(AND(L278>0,P348>0),VLOOKUP(L278&P348&J349,'grup-puch'!I:J,2,FALSE),\"\"))))","v":""},{"$f":"IF(Q348<>\"\",CONCATENATE(VLOOKUP(Q348,zawodnicy!$A:$E,2,FALSE),\" \",VLOOKUP(Q348,zawodnicy!$A:$E,3,FALSE),\" - \",VLOOKUP(Q348,zawodnicy!$A:$E,4,FALSE)),\"\")","v":""},null,{"$f":"IF(F349=\"\",\"\",VLOOKUP(F349,zawodnicy!$A:$D,3,FALSE))","v":""}]
[{"$f":"S349","v":0},{"$f":"IF(Q348=\"\",\"\",Q348)","v":""},{"$f":"IF(Q349=\"\",\"\",Q349)","v":""},{"$f":"IF(Q350=\"\",\"\",Q350)","v":""},{"$f":"IF(Q351=\"\",\"\",Q351)","v":""},{"$f":"IF(A349=0,IF(AND(LEN(B349)>0,LEN(D349)=0),VLOOKUP(B349,zawodnicy!$A:$E,1,FALSE),IF(AND(LEN(D349)>0,LEN(B349)=0),VLOOKUP(D349,zawodnicy!$A:$E,1,FALSE),\"\")),IF((VLOOKUP(A349,'plan gier'!$Z:$AH,7,FALSE))=\"\",\"\",VLOOKUP(VLOOKUP(A349,'plan gier'!$Z:$AH,7,FALSE),zawodnicy!$A:$E,1,FALSE)))","v":""},{"$f":"IF(A349=0,IF(AND(LEN(C349)>1,LEN(E349)=0),VLOOKUP(C349,zawodnicy!$A:$E,1,FALSE),IF(AND(LEN(E349)>1,LEN(C349)=0),VLOOKUP(E349,zawodnicy!$A:$E,1,FALSE),\"\")),IF((VLOOKUP(A349,'plan gier'!$Z:$AH,8,FALSE))=\"\",\"\",VLOOKUP(VLOOKUP(A349,'plan gier'!$Z:$AH,8,FALSE),zawodnicy!$A:$E,1,FALSE)))","v":""},{"$f":"IF(A349=0,\"\",IF((VLOOKUP(A349,'plan gier'!$Z:$AH,7,FALSE))=\"\",\"\",VLOOKUP(A349,'plan gier'!$Z:$AH,9,FALSE)))","v":""},{"$f":"IF(A349=0,\"\",IF(VLOOKUP(A349,'plan gier'!A:T,20,FALSE)=\"\",\"\",VLOOKUP(A349,'plan gier'!A:T,20,FALSE)))","v":""},{"$f":"L280","v":0},null,null,null,null,null,null,{"$f":"UPPER(IF(P348=\"\",\"\",IF(ISTEXT(L349),L349,IF(AND(L278>0,P348>0),VLOOKUP(L278&P348&J349,'grup-puch'!I:K,3,FALSE),\"\"))))","v":""},{"$f":"IF(Q349<>\"\",CONCATENATE(VLOOKUP(Q349,zawodnicy!$A:$E,2,FALSE),\" \",VLOOKUP(Q349,zawodnicy!$A:$E,3,FALSE),\" - \",VLOOKUP(Q349,zawodnicy!$A:$E,4,FALSE)),\"\")","v":""},null,{"$f":"IF(G349=\"\",\"\",VLOOKUP(G349,zawodnicy!$A:$D,3,FALSE))","v":""}]
[null,null,null,null,null,null,null,null,null,null,{"$f":"IF(L279>32,34,\"\")","v":34},null,null,null,null,{"$f":"IF(K350=\"\",\"\",MAX(P281:P349)+1)","v":34},{"$f":"UPPER(IF(P350=\"\",\"\",IF(ISTEXT(L350),L350,IF(AND(L278>0,P350>0),VLOOKUP(L278&P350&J349,'grup-puch'!I:J,2,FALSE),\"\"))))","v":""},{"$f":"IF(Q350<>\"\",CONCATENATE(VLOOKUP(Q350,zawodnicy!$A:$E,2,FALSE),\" \",VLOOKUP(Q350,zawodnicy!$A:$E,3,FALSE),\" - \",VLOOKUP(Q350,zawodnicy!$A:$E,4,FALSE)),\"\")","v":""},null,{"$f":"IF(H349=\"\",I349,H349)","v":""},{"$f":"IF(F351=\"\",\"\",VLOOKUP(F351,zawodnicy!$A:$D,3,FALSE))","v":""}]
[{"$f":"T351","v":0},{"$f":"F349","v":""},{"$f":"G349","v":""},{"$f":"F353","v":""},{"$f":"G353","v":""},{"$f":"IF(A351=0,IF(AND(LEN(B351)>0,LEN(D351)=0),B351,IF(AND(LEN(D351)>0,LEN(B351)=0),D351,\"\")),IF((VLOOKUP(A351,'plan gier'!$Z:$AH,7,FALSE))=\"\",\"\",VLOOKUP(VLOOKUP(A351,'plan gier'!$Z:$AH,7,FALSE),zawodnicy!$A:$E,1,FALSE)))","v":""},{"$f":"IF(A351=0,IF(AND(LEN(C351)>0,LEN(E351)=0),C351,IF(AND(LEN(E351)>0,LEN(C351)=0),E351,\"\")),IF((VLOOKUP(A351,'plan gier'!$Z:$AH,8,FALSE))=\"\",\"\",VLOOKUP(VLOOKUP(A351,'plan gier'!$Z:$AH,8,FALSE),zawodnicy!$A:$E,1,FALSE)))","v":""},{"$f":"IF(A351=0,\"\",IF((VLOOKUP(A351,'plan gier'!$Z:$AH,7,FALSE))=\"\",\"\",VLOOKUP(A351,'plan gier'!$Z:$AH,9,FALSE)))","v":""},{"$f":"IF(A351=0,\"\",IF(VLOOKUP(A351,'plan gier'!A:T,20,FALSE)=\"\",\"\",VLOOKUP(A351,'plan gier'!A:T,20,FALSE)))","v":""},{"$f":"L280","v":0},null,null,null,null,null,null,{"$f":"UPPER(IF(P350=\"\",\"\",IF(ISTEXT(L351),L351,IF(AND(L278>0,P350>0),VLOOKUP(L278&P350&J349,'grup-puch'!I:K,3,FALSE),\"\"))))","v":""},{"$f":"IF(Q351<>\"\",CONCATENATE(VLOOKUP(Q351,zawodnicy!$A:$E,2,FALSE),\" \",VLOOKUP(Q351,zawodnicy!$A:$E,3,FALSE),\" - \",VLOOKUP(Q351,zawodnicy!$A:$E,4,FALSE)),\"\")","v":""},null,null,{"$f":"IF(G351=\"\",\"\",VLOOKUP(G351,zawodnicy!$A:$D,3,FALSE))","v":""}]
[null,null,null,null,null,null,null,null,null,null,{"$f":"IF(L279>48,35,\"\")","v":35},null,null,null,null,{"$f":"IF(K352=\"\",\"\",MAX(P281:P351)+1)","v":35},{"$f":"UPPER(IF(P352=\"\",\"\",IF(ISTEXT(L352),L352,IF(AND(L278>0,P352>0),VLOOKUP(L278&P352&J353,'grup-puch'!I:J,2,FALSE),\"\"))))","v":""},{"$f":"IF(Q352<>\"\",CONCATENATE(VLOOKUP(Q352,zawodnicy!$A:$E,2,FALSE),\" \",VLOOKUP(Q352,zawodnicy!$A:$E,3,FALSE),\" - \",VLOOKUP(Q352,zawodnicy!$A:$E,4,FALSE)),\"\")","v":""},null,{"$f":"IF(F353=\"\",\"\",VLOOKUP(F353,zawodnicy!$A:$D,3,FALSE))","v":""},{"$f":"IF(H351=\"\",I351,H351)","v":""}]
[{"$f":"S353","v":0},{"$f":"IF(Q352=\"\",\"\",Q352)","v":""},{"$f":"IF(Q353=\"\",\"\",Q353)","v":""},{"$f":"IF(Q354=\"\",\"\",Q354)","v":""},{"$f":"IF(Q355=\"\",\"\",Q355)","v":""},{"$f":"IF(A353=0,IF(AND(LEN(B353)>0,LEN(D353)=0),VLOOKUP(B353,zawodnicy!$A:$E,1,FALSE),IF(AND(LEN(D353)>0,LEN(B353)=0),VLOOKUP(D353,zawodnicy!$A:$E,1,FALSE),\"\")),IF((VLOOKUP(A353,'plan gier'!$Z:$AH,7,FALSE))=\"\",\"\",VLOOKUP(VLOOKUP(A353,'plan gier'!$Z:$AH,7,FALSE),zawodnicy!$A:$E,1,FALSE)))","v":""},{"$f":"IF(A353=0,IF(AND(LEN(C353)>1,LEN(E353)=0),VLOOKUP(C353,zawodnicy!$A:$E,1,FALSE),IF(AND(LEN(E353)>1,LEN(C353)=0),VLOOKUP(E353,zawodnicy!$A:$E,1,FALSE),\"\")),IF((VLOOKUP(A353,'plan gier'!$Z:$AH,8,FALSE))=\"\",\"\",VLOOKUP(VLOOKUP(A353,'plan gier'!$Z:$AH,8,FALSE),zawodnicy!$A:$E,1,FALSE)))","v":""},{"$f":"IF(A353=0,\"\",IF((VLOOKUP(A353,'plan gier'!$Z:$AH,7,FALSE))=\"\",\"\",VLOOKUP(A353,'plan gier'!$Z:$AH,9,FALSE)))","v":""},{"$f":"IF(A353=0,\"\",IF(VLOOKUP(A353,'plan gier'!A:T,20,FALSE)=\"\",\"\",VLOOKUP(A353,'plan gier'!A:T,20,FALSE)))","v":""},{"$f":"L280","v":0},null,null,null,null,null,null,{"$f":"UPPER(IF(P352=\"\",\"\",IF(ISTEXT(L353),L353,IF(AND(L278>0,P352>0),VLOOKUP(L278&P352&J353,'grup-puch'!I:K,3,FALSE),\"\"))))","v":""},{"$f":"IF(Q353<>\"\",CONCATENATE(VLOOKUP(Q353,zawodnicy!$A:$E,2,FALSE),\" \",VLOOKUP(Q353,zawodnicy!$A:$E,3,FALSE),\" - \",VLOOKUP(Q353,zawodnicy!$A:$E,4,FALSE)),\"\")","v":""},null,{"$f":"IF(G353=\"\",\"\",VLOOKUP(G353,zawodnicy!$A:$D,3,FALSE))","v":""}]
[null,null,null,null,null,null,null,null,null,null,{"$f":"IF(L279>32,36,\"\")","v":36},null,null,null,null,{"$f":"IF(K354=\"\",\"\",MAX(P281:P353)+1)","v":36},{"$f":"UPPER(IF(P354=\"\",\"\",IF(ISTEXT(L354),L354,IF(AND(L278>0,P354>0),VLOOKUP(L278&P354&J353,'grup-puch'!I:J,2,FALSE),\"\"))))","v":""},{"$f":"IF(Q354<>\"\",CONCATENATE(VLOOKUP(Q354,zawodnicy!$A:$E,2,FALSE),\" \",VLOOKUP(Q354,zawodnicy!$A:$E,3,FALSE),\" - \",VLOOKUP(Q354,zawodnicy!$A:$E,4,FALSE)),\"\")","v":""},null,{"$f":"IF(H353=\"\",I353,H353)","v":""},null,{"$f":"IF(F355=\"\",\"\",VLOOKUP(F355,zawodnicy!$A:$D,3,FALSE))","v":""}]
[{"$f":"U355","v":0},{"$f":"F351","v":""},{"$f":"G351","v":""},{"$f":"F359","v":""},{"$f":"G359","v":""},{"$f":"IF(A355=0,IF(AND(LEN(B355)>0,LEN(D355)=0),B355,IF(AND(LEN(D355)>0,LEN(B355)=0),D355,\"\")),IF((VLOOKUP(A355,'plan gier'!$Z:$AH,7,FALSE))=\"\",\"\",VLOOKUP(VLOOKUP(A355,'plan gier'!$Z:$AH,7,FALSE),zawodnicy!$A:$E,1,FALSE)))","v":""},{"$f":"IF(A355=0,IF(AND(LEN(C355)>0,LEN(E355)=0),C355,IF(AND(LEN(E355)>0,LEN(C355)=0),E355,\"\")),IF((VLOOKUP(A355,'plan gier'!$Z:$AH,8,FALSE))=\"\",\"\",VLOOKUP(VLOOKUP(A355,'plan gier'!$Z:$AH,8,FALSE),zawodnicy!$A:$E,1,FALSE)))","v":""},{"$f":"IF(A355=0,\"\",IF((VLOOKUP(A355,'plan gier'!$Z:$AH,7,FALSE))=\"\",\"\",VLOOKUP(A355,'plan gier'!$Z:$AH,9,FALSE)))","v":""},{"$f":"IF(A355=0,\"\",IF(VLOOKUP(A355,'plan gier'!A:T,20,FALSE)=\"\",\"\",VLOOKUP(A355,'plan gier'!A:T,20,FALSE)))","v":""},{"$f":"L280","v":0},null,null,null,null,null,null,{"$f":"UPPER(IF(P354=\"\",\"\",IF(ISTEXT(L355),L355,IF(AND(L278>0,P354>0),VLOOKUP(L278&P354&J353,'grup-puch'!I:K,3,FALSE),\"\"))))","v":""},{"$f":"IF(Q355<>\"\",CONCATENATE(VLOOKUP(Q355,zawodnicy!$A:$E,2,FALSE),\" \",VLOOKUP(Q355,zawodnicy!$A:$E,3,FALSE),\" - \",VLOOKUP(Q355,zawodnicy!$A:$E,4,FALSE)),\"\")","v":""},null,null,null,{"$f":"IF(G355=\"\",\"\",VLOOKUP(G355,zawodnicy!$A:$D,3,FALSE))","v":""}]
[null,null,null,null,null,null,null,null,null,null,{"$f":"IF(L279>40,37,\"\")","v":37},null,null,null,null,{"$f":"IF(K356=\"\",\"\",MAX(P281:P355)+1)","v":37},{"$f":"UPPER(IF(P356=\"\",\"\",IF(ISTEXT(L356),L356,IF(AND(L278>0,P356>0),VLOOKUP(L278&P356&J357,'grup-puch'!I:J,2,FALSE),\"\"))))","v":""},{"$f":"IF(Q356<>\"\",CONCATENATE(VLOOKUP(Q356,zawodnicy!$A:$E,2,FALSE),\" \",VLOOKUP(Q356,zawodnicy!$A:$E,3,FALSE),\" - \",VLOOKUP(Q356,zawodnicy!$A:$E,4,FALSE)),\"\")","v":""},null,{"$f":"IF(F357=\"\",\"\",VLOOKUP(F357,zawodnicy!$A:$D,3,FALSE))","v":""},null,{"$f":"IF(H355=\"\",I355,H355)","v":""}]
[{"$f":"S357","v":0},{"$f":"IF(Q356=\"\",\"\",Q356)","v":""},{"$f":"IF(Q357=\"\",\"\",Q357)","v":""},{"$f":"IF(Q358=\"\",\"\",Q358)","v":""},{"$f":"IF(Q359=\"\",\"\",Q359)","v":""},{"$f":"IF(A357=0,IF(AND(LEN(B357)>0,LEN(D357)=0),VLOOKUP(B357,zawodnicy!$A:$E,1,FALSE),IF(AND(LEN(D357)>0,LEN(B357)=0),VLOOKUP(D357,zawodnicy!$A:$E,1,FALSE),\"\")),IF((VLOOKUP(A357,'plan gier'!$Z:$AH,7,FALSE))=\"\",\"\",VLOOKUP(VLOOKUP(A357,'plan gier'!$Z:$AH,7,FALSE),zawodnicy!$A:$E,1,FALSE)))","v":""},{"$f":"IF(A357=0,IF(AND(LEN(C357)>1,LEN(E357)=0),VLOOKUP(C357,zawodnicy!$A:$E,1,FALSE),IF(AND(LEN(E357)>1,LEN(C357)=0),VLOOKUP(E357,zawodnicy!$A:$E,1,FALSE),\"\")),IF((VLOOKUP(A357,'plan gier'!$Z:$AH,8,FALSE))=\"\",\"\",VLOOKUP(VLOOKUP(A357,'plan gier'!$Z:$AH,8,FALSE),zawodnicy!$A:$E,1,FALSE)))","v":""},{"$f":"IF(A357=0,\"\",IF((VLOOKUP(A357,'plan gier'!$Z:$AH,7,FALSE))=\"\",\"\",VLOOKUP(A357,'plan gier'!$Z:$AH,9,FALSE)))","v":""},{"$f":"IF(A357=0,\"\",IF(VLOOKUP(A357,'plan gier'!A:T,20,FALSE)=\"\",\"\",VLOOKUP(A357,'plan gier'!A:T,20,FALSE)))","v":""},{"$f":"L280","v":0},null,null,null,null,null,null,{"$f":"UPPER(IF(P356=\"\",\"\",IF(ISTEXT(L357),L357,IF(AND(L278>0,P356>0),VLOOKUP(L278&P356&J357,'grup-puch'!I:K,3,FALSE),\"\"))))","v":""},{"$f":"IF(Q357<>\"\",CONCATENATE(VLOOKUP(Q357,zawodnicy!$A:$E,2,FALSE),\" \",VLOOKUP(Q357,zawodnicy!$A:$E,3,FALSE),\" - \",VLOOKUP(Q357,zawodnicy!$A:$E,4,FALSE)),\"\")","v":""},null,{"$f":"IF(G357=\"\",\"\",VLOOKUP(G357,zawodnicy!$A:$D,3,FALSE))","v":""}]
[null,null,null,null,null,null,null,null,null,null,{"$f":"IF(L279>32,38,\"\")","v":38},null,null,null,null,{"$f":"IF(K358=\"\",\"\",MAX(P281:P357)+1)","v":38},{"$f":"UPPER(IF(P358=\"\",\"\",IF(ISTEXT(L358),L358,IF(AND(L278>0,P358>0),VLOOKUP(L278&P358&J357,'grup-puch'!I:J,2,FALSE),\"\"))))","v":""},{"$f":"IF(Q358<>\"\",CONCATENATE(VLOOKUP(Q358,zawodnicy!$A:$E,2,FALSE),\" \",VLOOKUP(Q358,zawodnicy!$A:$E,3,FALSE),\" - \",VLOOKUP(Q358,zawodnicy!$A:$E,4,FALSE)),\"\")","v":""},null,{"$f":"IF(H357=\"\",I357,H357)","v":""},{"$f":"IF(F359=\"\",\"\",VLOOKUP(F359,zawodnicy!$A:$D,3,FALSE))","v":""}]
[{"$f":"T359","v":0},{"$f":"F357","v":""},{"$f":"G357","v":""},{"$f":"F361","v":""},{"$f":"G361","v":""},{"$f":"IF(A359=0,IF(AND(LEN(B359)>0,LEN(D359)=0),B359,IF(AND(LEN(D359)>0,LEN(B359)=0),D359,\"\")),IF((VLOOKUP(A359,'plan gier'!$Z:$AH,7,FALSE))=\"\",\"\",VLOOKUP(VLOOKUP(A359,'plan gier'!$Z:$AH,7,FALSE),zawodnicy!$A:$E,1,FALSE)))","v":""},{"$f":"IF(A359=0,IF(AND(LEN(C359)>0,LEN(E359)=0),C359,IF(AND(LEN(E359)>0,LEN(C359)=0),E359,\"\")),IF((VLOOKUP(A359,'plan gier'!$Z:$AH,8,FALSE))=\"\",\"\",VLOOKUP(VLOOKUP(A359,'plan gier'!$Z:$AH,8,FALSE),zawodnicy!$A:$E,1,FALSE)))","v":""},{"$f":"IF(A359=0,\"\",IF((VLOOKUP(A359,'plan gier'!$Z:$AH,7,FALSE))=\"\",\"\",VLOOKUP(A359,'plan gier'!$Z:$AH,9,FALSE)))","v":""},{"$f":"IF(A359=0,\"\",IF(VLOOKUP(A359,'plan gier'!A:T,20,FALSE)=\"\",\"\",VLOOKUP(A359,'plan gier'!A:T,20,FALSE)))","v":""},{"$f":"L280","v":0},null,null,null,null,null,null,{"$f":"UPPER(IF(P358=\"\",\"\",IF(ISTEXT(L359),L359,IF(AND(L278>0,P358>0),VLOOKUP(L278&P358&J357,'grup-puch'!I:K,3,FALSE),\"\"))))","v":""},{"$f":"IF(Q359<>\"\",CONCATENATE(VLOOKUP(Q359,zawodnicy!$A:$E,2,FALSE),\" \",VLOOKUP(Q359,zawodnicy!$A:$E,3,FALSE),\" - \",VLOOKUP(Q359,zawodnicy!$A:$E,4,FALSE)),\"\")","v":""},null,null,{"$f":"IF(G359=\"\",\"\",VLOOKUP(G359,zawodnicy!$A:$D,3,FALSE))","v":""}]
[null,null,null,null,null,null,null,null,null,null,{"$f":"IF(L279>56,39,\"\")","v":39},null,null,null,null,{"$f":"IF(K360=\"\",\"\",MAX(P281:P359)+1)","v":39},{"$f":"UPPER(IF(P360=\"\",\"\",IF(ISTEXT(L360),L360,IF(AND(L278>0,P360>0),VLOOKUP(L278&P360&J361,'grup-puch'!I:J,2,FALSE),\"\"))))","v":""},{"$f":"IF(Q360<>\"\",CONCATENATE(VLOOKUP(Q360,zawodnicy!$A:$E,2,FALSE),\" \",VLOOKUP(Q360,zawodnicy!$A:$E,3,FALSE),\" - \",VLOOKUP(Q360,zawodnicy!$A:$E,4,FALSE)),\"\")","v":""},null,{"$f":"IF(F361=\"\",\"\",VLOOKUP(F361,zawodnicy!$A:$D,3,FALSE))","v":""},{"$f":"IF(H359=\"\",I359,H359)","v":""}]
[{"$f":"S361","v":0},{"$f":"IF(Q360=\"\",\"\",Q360)","v":""},{"$f":"IF(Q361=\"\",\"\",Q361)","v":""},{"$f":"IF(Q362=\"\",\"\",Q362)","v":""},{"$f":"IF(Q363=\"\",\"\",Q363)","v":""},{"$f":"IF(A361=0,IF(AND(LEN(B361)>0,LEN(D361)=0),VLOOKUP(B361,zawodnicy!$A:$E,1,FALSE),IF(AND(LEN(D361)>0,LEN(B361)=0),VLOOKUP(D361,zawodnicy!$A:$E,1,FALSE),\"\")),IF((VLOOKUP(A361,'plan gier'!$Z:$AH,7,FALSE))=\"\",\"\",VLOOKUP(VLOOKUP(A361,'plan gier'!$Z:$AH,7,FALSE),zawodnicy!$A:$E,1,FALSE)))","v":""},{"$f":"IF(A361=0,IF(AND(LEN(C361)>1,LEN(E361)=0),VLOOKUP(C361,zawodnicy!$A:$E,1,FALSE),IF(AND(LEN(E361)>1,LEN(C361)=0),VLOOKUP(E361,zawodnicy!$A:$E,1,FALSE),\"\")),IF((VLOOKUP(A361,'plan gier'!$Z:$AH,8,FALSE))=\"\",\"\",VLOOKUP(VLOOKUP(A361,'plan gier'!$Z:$AH,8,FALSE),zawodnicy!$A:$E,1,FALSE)))","v":""},{"$f":"IF(A361=0,\"\",IF((VLOOKUP(A361,'plan gier'!$Z:$AH,7,FALSE))=\"\",\"\",VLOOKUP(A361,'plan gier'!$Z:$AH,9,FALSE)))","v":""},{"$f":"IF(A361=0,\"\",IF(VLOOKUP(A361,'plan gier'!A:T,20,FALSE)=\"\",\"\",VLOOKUP(A361,'plan gier'!A:T,20,FALSE)))","v":""},{"$f":"L280","v":0},null,null,null,null,null,null,{"$f":"UPPER(IF(P360=\"\",\"\",IF(ISTEXT(L361),L361,IF(AND(L278>0,P360>0),VLOOKUP(L278&P360&J361,'grup-puch'!I:K,3,FALSE),\"\"))))","v":""},{"$f":"IF(Q361<>\"\",CONCATENATE(VLOOKUP(Q361,zawodnicy!$A:$E,2,FALSE),\" \",VLOOKUP(Q361,zawodnicy!$A:$E,3,FALSE),\" - \",VLOOKUP(Q361,zawodnicy!$A:$E,4,FALSE)),\"\")","v":""},null,{"$f":"IF(G361=\"\",\"\",VLOOKUP(G361,zawodnicy!$A:$D,3,FALSE))","v":""}]
[null,null,null,null,null,null,null,null,null,null,{"$f":"IF(L279>32,40,\"\")","v":40},null,null,null,null,{"$f":"IF(K362=\"\",\"\",MAX(P281:P361)+1)","v":40},{"$f":"UPPER(IF(P362=\"\",\"\",IF(ISTEXT(L362),L362,IF(AND(L278>0,P362>0),VLOOKUP(L278&P362&J361,'grup-puch'!I:J,2,FALSE),\"\"))))","v":""},{"$f":"IF(Q362<>\"\",CONCATENATE(VLOOKUP(Q362,zawodnicy!$A:$E,2,FALSE),\" \",VLOOKUP(Q362,zawodnicy!$A:$E,3,FALSE),\" - \",VLOOKUP(Q362,zawodnicy!$A:$E,4,FALSE)),\"\")","v":""},null,{"$f":"IF(H361=\"\",I361,H361)","v":""},null,null,{"$f":"IF(F363=\"\",\"\",VLOOKUP(F363,zawodnicy!$A:$D,3,FALSE))","v":""}]
[{"$f":"V363","v":0},{"$f":"F355","v":""},{"$f":"G355","v":""},{"$f":"F371","v":""},{"$f":"G371","v":""},{"$f":"IF(A363=0,IF(AND(LEN(B363)>0,LEN(D363)=0),B363,IF(AND(LEN(D363)>0,LEN(B363)=0),D363,\"\")),IF((VLOOKUP(A363,'plan gier'!$Z:$AH,7,FALSE))=\"\",\"\",VLOOKUP(VLOOKUP(A363,'plan gier'!$Z:$AH,7,FALSE),zawodnicy!$A:$E,1,FALSE)))","v":""},{"$f":"IF(A363=0,IF(AND(LEN(C363)>0,LEN(E363)=0),C363,IF(AND(LEN(E363)>0,LEN(C363)=0),E363,\"\")),IF((VLOOKUP(A363,'plan gier'!$Z:$AH,8,FALSE))=\"\",\"\",VLOOKUP(VLOOKUP(A363,'plan gier'!$Z:$AH,8,FALSE),zawodnicy!$A:$E,1,FALSE)))","v":""},{"$f":"IF(A363=0,\"\",IF((VLOOKUP(A363,'plan gier'!$Z:$AH,7,FALSE))=\"\",\"\",VLOOKUP(A363,'plan gier'!$Z:$AH,9,FALSE)))","v":""},{"$f":"IF(A363=0,\"\",IF(VLOOKUP(A363,'plan gier'!A:T,20,FALSE)=\"\",\"\",VLOOKUP(A363,'plan gier'!A:T,20,FALSE)))","v":""},{"$f":"L280","v":0},null,null,null,null,null,null,{"$f":"UPPER(IF(P362=\"\",\"\",IF(ISTEXT(L363),L363,IF(AND(L278>0,P362>0),VLOOKUP(L278&P362&J361,'grup-puch'!I:K,3,FALSE),\"\"))))","v":""},{"$f":"IF(Q363<>\"\",CONCATENATE(VLOOKUP(Q363,zawodnicy!$A:$E,2,FALSE),\" \",VLOOKUP(Q363,zawodnicy!$A:$E,3,FALSE),\" - \",VLOOKUP(Q363,zawodnicy!$A:$E,4,FALSE)),\"\")","v":""},null,null,null,null,{"$f":"IF(G363=\"\",\"\",VLOOKUP(G363,zawodnicy!$A:$D,3,FALSE))","v":""}]
[null,null,null,null,null,null,null,null,null,null,{"$f":"IF(L279>36,41,\"\")","v":41},null,null,null,null,{"$f":"IF(K364=\"\",\"\",MAX(P281:P363)+1)","v":41},{"$f":"UPPER(IF(P364=\"\",\"\",IF(ISTEXT(L364),L364,IF(AND(L278>0,P364>0),VLOOKUP(L278&P364&J365,'grup-puch'!I:J,2,FALSE),\"\"))))","v":""},{"$f":"IF(Q364<>\"\",CONCATENATE(VLOOKUP(Q364,zawodnicy!$A:$E,2,FALSE),\" \",VLOOKUP(Q364,zawodnicy!$A:$E,3,FALSE),\" - \",VLOOKUP(Q364,zawodnicy!$A:$E,4,FALSE)),\"\")","v":""},null,{"$f":"IF(F365=\"\",\"\",VLOOKUP(F365,zawodnicy!$A:$D,3,FALSE))","v":""},null,null,{"$f":"IF(H363=\"\",I363,H363)","v":""}]
[{"$f":"S365","v":0},{"$f":"IF(Q364=\"\",\"\",Q364)","v":""},{"$f":"IF(Q365=\"\",\"\",Q365)","v":""},{"$f":"IF(Q366=\"\",\"\",Q366)","v":""},{"$f":"IF(Q367=\"\",\"\",Q367)","v":""},{"$f":"IF(A365=0,IF(AND(LEN(B365)>0,LEN(D365)=0),VLOOKUP(B365,zawodnicy!$A:$E,1,FALSE),IF(AND(LEN(D365)>0,LEN(B365)=0),VLOOKUP(D365,zawodnicy!$A:$E,1,FALSE),\"\")),IF((VLOOKUP(A365,'plan gier'!$Z:$AH,7,FALSE))=\"\",\"\",VLOOKUP(VLOOKUP(A365,'plan gier'!$Z:$AH,7,FALSE),zawodnicy!$A:$E,1,FALSE)))","v":""},{"$f":"IF(A365=0,IF(AND(LEN(C365)>1,LEN(E365)=0),VLOOKUP(C365,zawodnicy!$A:$E,1,FALSE),IF(AND(LEN(E365)>1,LEN(C365)=0),VLOOKUP(E365,zawodnicy!$A:$E,1,FALSE),\"\")),IF((VLOOKUP(A365,'plan gier'!$Z:$AH,8,FALSE))=\"\",\"\",VLOOKUP(VLOOKUP(A365,'plan gier'!$Z:$AH,8,FALSE),zawodnicy!$A:$E,1,FALSE)))","v":""},{"$f":"IF(A365=0,\"\",IF((VLOOKUP(A365,'plan gier'!$Z:$AH,7,FALSE))=\"\",\"\",VLOOKUP(A365,'plan gier'!$Z:$AH,9,FALSE)))","v":""},{"$f":"IF(A365=0,\"\",IF(VLOOKUP(A365,'plan gier'!A:T,20,FALSE)=\"\",\"\",VLOOKUP(A365,'plan gier'!A:T,20,FALSE)))","v":""},{"$f":"L280","v":0},null,null,null,null,null,null,{"$f":"UPPER(IF(P364=\"\",\"\",IF(ISTEXT(L365),L365,IF(AND(L278>0,P364>0),VLOOKUP(L278&P364&J365,'grup-puch'!I:K,3,FALSE),\"\"))))","v":""},{"$f":"IF(Q365<>\"\",CONCATENATE(VLOOKUP(Q365,zawodnicy!$A:$E,2,FALSE),\" \",VLOOKUP(Q365,zawodnicy!$A:$E,3,FALSE),\" - \",VLOOKUP(Q365,zawodnicy!$A:$E,4,FALSE)),\"\")","v":""},null,{"$f":"IF(G365=\"\",\"\",VLOOKUP(G365,zawodnicy!$A:$D,3,FALSE))","v":""}]
[null,null,null,null,null,null,null,null,null,null,{"$f":"IF(L279>32,42,\"\")","v":42},null,null,null,null,{"$f":"IF(K366=\"\",\"\",MAX(P281:P365)+1)","v":42},{"$f":"UPPER(IF(P366=\"\",\"\",IF(ISTEXT(L366),L366,IF(AND(L278>0,P366>0),VLOOKUP(L278&P366&J365,'grup-puch'!I:J,2,FALSE),\"\"))))","v":""},{"$f":"IF(Q366<>\"\",CONCATENATE(VLOOKUP(Q366,zawodnicy!$A:$E,2,FALSE),\" \",VLOOKUP(Q366,zawodnicy!$A:$E,3,FALSE),\" - \",VLOOKUP(Q366,zawodnicy!$A:$E,4,FALSE)),\"\")","v":""},null,{"$f":"IF(H365=\"\",I365,H365)","v":""},{"$f":"IF(F367=\"\",\"\",VLOOKUP(F367,zawodnicy!$A:$D,3,FALSE))","v":""}]
[{"$f":"T367","v":0},{"$f":"F365","v":""},{"$f":"G365","v":""},{"$f":"F369","v":""},{"$f":"G369","v":""},{"$f":"IF(A367=0,IF(AND(LEN(B367)>0,LEN(D367)=0),B367,IF(AND(LEN(D367)>0,LEN(B367)=0),D367,\"\")),IF((VLOOKUP(A367,'plan gier'!$Z:$AH,7,FALSE))=\"\",\"\",VLOOKUP(VLOOKUP(A367,'plan gier'!$Z:$AH,7,FALSE),zawodnicy!$A:$E,1,FALSE)))","v":""},{"$f":"IF(A367=0,IF(AND(LEN(C367)>0,LEN(E367)=0),C367,IF(AND(LEN(E367)>0,LEN(C367)=0),E367,\"\")),IF((VLOOKUP(A367,'plan gier'!$Z:$AH,8,FALSE))=\"\",\"\",VLOOKUP(VLOOKUP(A367,'plan gier'!$Z:$AH,8,FALSE),zawodnicy!$A:$E,1,FALSE)))","v":""},{"$f":"IF(A367=0,\"\",IF((VLOOKUP(A367,'plan gier'!$Z:$AH,7,FALSE))=\"\",\"\",VLOOKUP(A367,'plan gier'!$Z:$AH,9,FALSE)))","v":""},{"$f":"IF(A367=0,\"\",IF(VLOOKUP(A367,'plan gier'!A:T,20,FALSE)=\"\",\"\",VLOOKUP(A367,'plan gier'!A:T,20,FALSE)))","v":""},{"$f":"L280","v":0},null,null,null,null,null,null,{"$f":"UPPER(IF(P366=\"\",\"\",IF(ISTEXT(L367),L367,IF(AND(L278>0,P366>0),VLOOKUP(L278&P366&J365,'grup-puch'!I:K,3,FALSE),\"\"))))","v":""},{"$f":"IF(Q367<>\"\",CONCATENATE(VLOOKUP(Q367,zawodnicy!$A:$E,2,FALSE),\" \",VLOOKUP(Q367,zawodnicy!$A:$E,3,FALSE),\" - \",VLOOKUP(Q367,zawodnicy!$A:$E,4,FALSE)),\"\")","v":""},null,null,{"$f":"IF(G367=\"\",\"\",VLOOKUP(G367,zawodnicy!$A:$D,3,FALSE))","v":""}]
[null,null,null,null,null,null,null,null,null,null,{"$f":"IF(L279>52,43,\"\")","v":43},null,null,null,null,{"$f":"IF(K368=\"\",\"\",MAX(P281:P367)+1)","v":43},{"$f":"UPPER(IF(P368=\"\",\"\",IF(ISTEXT(L368),L368,IF(AND(L278>0,P368>0),VLOOKUP(L278&P368&J369,'grup-puch'!I:J,2,FALSE),\"\"))))","v":""},{"$f":"IF(Q368<>\"\",CONCATENATE(VLOOKUP(Q368,zawodnicy!$A:$E,2,FALSE),\" \",VLOOKUP(Q368,zawodnicy!$A:$E,3,FALSE),\" - \",VLOOKUP(Q368,zawodnicy!$A:$E,4,FALSE)),\"\")","v":""},null,{"$f":"IF(F369=\"\",\"\",VLOOKUP(F369,zawodnicy!$A:$D,3,FALSE))","v":""},{"$f":"IF(H367=\"\",I367,H367)","v":""}]
[{"$f":"S369","v":0},{"$f":"IF(Q368=\"\",\"\",Q368)","v":""},{"$f":"IF(Q369=\"\",\"\",Q369)","v":""},{"$f":"IF(Q370=\"\",\"\",Q370)","v":""},{"$f":"IF(Q371=\"\",\"\",Q371)","v":""},{"$f":"IF(A369=0,IF(AND(LEN(B369)>0,LEN(D369)=0),VLOOKUP(B369,zawodnicy!$A:$E,1,FALSE),IF(AND(LEN(D369)>0,LEN(B369)=0),VLOOKUP(D369,zawodnicy!$A:$E,1,FALSE),\"\")),IF((VLOOKUP(A369,'plan gier'!$Z:$AH,7,FALSE))=\"\",\"\",VLOOKUP(VLOOKUP(A369,'plan gier'!$Z:$AH,7,FALSE),zawodnicy!$A:$E,1,FALSE)))","v":""},{"$f":"IF(A369=0,IF(AND(LEN(C369)>1,LEN(E369)=0),VLOOKUP(C369,zawodnicy!$A:$E,1,FALSE),IF(AND(LEN(E369)>1,LEN(C369)=0),VLOOKUP(E369,zawodnicy!$A:$E,1,FALSE),\"\")),IF((VLOOKUP(A369,'plan gier'!$Z:$AH,8,FALSE))=\"\",\"\",VLOOKUP(VLOOKUP(A369,'plan gier'!$Z:$AH,8,FALSE),zawodnicy!$A:$E,1,FALSE)))","v":""},{"$f":"IF(A369=0,\"\",IF((VLOOKUP(A369,'plan gier'!$Z:$AH,7,FALSE))=\"\",\"\",VLOOKUP(A369,'plan gier'!$Z:$AH,9,FALSE)))","v":""},{"$f":"IF(A369=0,\"\",IF(VLOOKUP(A369,'plan gier'!A:T,20,FALSE)=\"\",\"\",VLOOKUP(A369,'plan gier'!A:T,20,FALSE)))","v":""},{"$f":"L280","v":0},null,null,null,null,null,null,{"$f":"UPPER(IF(P368=\"\",\"\",IF(ISTEXT(L369),L369,IF(AND(L278>0,P368>0),VLOOKUP(L278&P368&J369,'grup-puch'!I:K,3,FALSE),\"\"))))","v":""},{"$f":"IF(Q369<>\"\",CONCATENATE(VLOOKUP(Q369,zawodnicy!$A:$E,2,FALSE),\" \",VLOOKUP(Q369,zawodnicy!$A:$E,3,FALSE),\" - \",VLOOKUP(Q369,zawodnicy!$A:$E,4,FALSE)),\"\")","v":""},null,{"$f":"IF(G369=\"\",\"\",VLOOKUP(G369,zawodnicy!$A:$D,3,FALSE))","v":""}]
[null,null,null,null,null,null,null,null,null,null,{"$f":"IF(L279>32,44,\"\")","v":44},null,null,null,null,{"$f":"IF(K370=\"\",\"\",MAX(P281:P369)+1)","v":44},{"$f":"UPPER(IF(P370=\"\",\"\",IF(ISTEXT(L370),L370,IF(AND(L278>0,P370>0),VLOOKUP(L278&P370&J369,'grup-puch'!I:J,2,FALSE),\"\"))))","v":""},{"$f":"IF(Q370<>\"\",CONCATENATE(VLOOKUP(Q370,zawodnicy!$A:$E,2,FALSE),\" \",VLOOKUP(Q370,zawodnicy!$A:$E,3,FALSE),\" - \",VLOOKUP(Q370,zawodnicy!$A:$E,4,FALSE)),\"\")","v":""},null,{"$f":"IF(H369=\"\",I369,H369)","v":""},null,{"$f":"IF(F371=\"\",\"\",VLOOKUP(F371,zawodnicy!$A:$D,3,FALSE))","v":""}]
[{"$f":"U371","v":0},{"$f":"F367","v":""},{"$f":"G367","v":""},{"$f":"F375","v":""},{"$f":"G375","v":""},{"$f":"IF(A371=0,IF(AND(LEN(B371)>0,LEN(D371)=0),B371,IF(AND(LEN(D371)>0,LEN(B371)=0),D371,\"\")),IF((VLOOKUP(A371,'plan gier'!$Z:$AH,7,FALSE))=\"\",\"\",VLOOKUP(VLOOKUP(A371,'plan gier'!$Z:$AH,7,FALSE),zawodnicy!$A:$E,1,FALSE)))","v":""},{"$f":"IF(A371=0,IF(AND(LEN(C371)>0,LEN(E371)=0),C371,IF(AND(LEN(E371)>0,LEN(C371)=0),E371,\"\")),IF((VLOOKUP(A371,'plan gier'!$Z:$AH,8,FALSE))=\"\",\"\",VLOOKUP(VLOOKUP(A371,'plan gier'!$Z:$AH,8,FALSE),zawodnicy!$A:$E,1,FALSE)))","v":""},{"$f":"IF(A371=0,\"\",IF((VLOOKUP(A371,'plan gier'!$Z:$AH,7,FALSE))=\"\",\"\",VLOOKUP(A371,'plan gier'!$Z:$AH,9,FALSE)))","v":""},{"$f":"IF(A371=0,\"\",IF(VLOOKUP(A371,'plan gier'!A:T,20,FALSE)=\"\",\"\",VLOOKUP(A371,'plan gier'!A:T,20,FALSE)))","v":""},{"$f":"L280","v":0},null,null,null,null,null,null,{"$f":"UPPER(IF(P370=\"\",\"\",IF(ISTEXT(L371),L371,IF(AND(L278>0,P370>0),VLOOKUP(L278&P370&J369,'grup-puch'!I:K,3,FALSE),\"\"))))","v":""},{"$f":"IF(Q371<>\"\",CONCATENATE(VLOOKUP(Q371,zawodnicy!$A:$E,2,FALSE),\" \",VLOOKUP(Q371,zawodnicy!$A:$E,3,FALSE),\" - \",VLOOKUP(Q371,zawodnicy!$A:$E,4,FALSE)),\"\")","v":""},null,null,null,{"$f":"IF(G371=\"\",\"\",VLOOKUP(G371,zawodnicy!$A:$D,3,FALSE))","v":""}]
[null,null,null,null,null,null,null,null,null,null,{"$f":"IF(L279>44,45,\"\")","v":45},null,null,null,null,{"$f":"IF(K372=\"\",\"\",MAX(P281:P371)+1)","v":45},{"$f":"UPPER(IF(P372=\"\",\"\",IF(ISTEXT(L372),L372,IF(AND(L278>0,P372>0),VLOOKUP(L278&P372&J373,'grup-puch'!I:J,2,FALSE),\"\"))))","v":""},{"$f":"IF(Q372<>\"\",CONCATENATE(VLOOKUP(Q372,zawodnicy!$A:$E,2,FALSE),\" \",VLOOKUP(Q372,zawodnicy!$A:$E,3,FALSE),\" - \",VLOOKUP(Q372,zawodnicy!$A:$E,4,FALSE)),\"\")","v":""},null,{"$f":"IF(F373=\"\",\"\",VLOOKUP(F373,zawodnicy!$A:$D,3,FALSE))","v":""},null,{"$f":"IF(H371=\"\",I371,H371)","v":""}]
[{"$f":"S373","v":0},{"$f":"IF(Q372=\"\",\"\",Q372)","v":""},{"$f":"IF(Q373=\"\",\"\",Q373)","v":""},{"$f":"IF(Q374=\"\",\"\",Q374)","v":""},{"$f":"IF(Q375=\"\",\"\",Q375)","v":""},{"$f":"IF(A373=0,IF(AND(LEN(B373)>0,LEN(D373)=0),VLOOKUP(B373,zawodnicy!$A:$E,1,FALSE),IF(AND(LEN(D373)>0,LEN(B373)=0),VLOOKUP(D373,zawodnicy!$A:$E,1,FALSE),\"\")),IF((VLOOKUP(A373,'plan gier'!$Z:$AH,7,FALSE))=\"\",\"\",VLOOKUP(VLOOKUP(A373,'plan gier'!$Z:$AH,7,FALSE),zawodnicy!$A:$E,1,FALSE)))","v":""},{"$f":"IF(A373=0,IF(AND(LEN(C373)>1,LEN(E373)=0),VLOOKUP(C373,zawodnicy!$A:$E,1,FALSE),IF(AND(LEN(E373)>1,LEN(C373)=0),VLOOKUP(E373,zawodnicy!$A:$E,1,FALSE),\"\")),IF((VLOOKUP(A373,'plan gier'!$Z:$AH,8,FALSE))=\"\",\"\",VLOOKUP(VLOOKUP(A373,'plan gier'!$Z:$AH,8,FALSE),zawodnicy!$A:$E,1,FALSE)))","v":""},{"$f":"IF(A373=0,\"\",IF((VLOOKUP(A373,'plan gier'!$Z:$AH,7,FALSE))=\"\",\"\",VLOOKUP(A373,'plan gier'!$Z:$AH,9,FALSE)))","v":""},{"$f":"IF(A373=0,\"\",IF(VLOOKUP(A373,'plan gier'!A:T,20,FALSE)=\"\",\"\",VLOOKUP(A373,'plan gier'!A:T,20,FALSE)))","v":""},{"$f":"L280","v":0},null,null,null,null,null,null,{"$f":"UPPER(IF(P372=\"\",\"\",IF(ISTEXT(L373),L373,IF(AND(L278>0,P372>0),VLOOKUP(L278&P372&J373,'grup-puch'!I:K,3,FALSE),\"\"))))","v":""},{"$f":"IF(Q373<>\"\",CONCATENATE(VLOOKUP(Q373,zawodnicy!$A:$E,2,FALSE),\" \",VLOOKUP(Q373,zawodnicy!$A:$E,3,FALSE),\" - \",VLOOKUP(Q373,zawodnicy!$A:$E,4,FALSE)),\"\")","v":""},null,{"$f":"IF(G373=\"\",\"\",VLOOKUP(G373,zawodnicy!$A:$D,3,FALSE))","v":""}]
[null,null,null,null,null,null,null,null,null,null,{"$f":"IF(L279>32,46,\"\")","v":46},null,null,null,null,{"$f":"IF(K374=\"\",\"\",MAX(P281:P373)+1)","v":46},{"$f":"UPPER(IF(P374=\"\",\"\",IF(ISTEXT(L374),L374,IF(AND(L278>0,P374>0),VLOOKUP(L278&P374&J373,'grup-puch'!I:J,2,FALSE),\"\"))))","v":""},{"$f":"IF(Q374<>\"\",CONCATENATE(VLOOKUP(Q374,zawodnicy!$A:$E,2,FALSE),\" \",VLOOKUP(Q374,zawodnicy!$A:$E,3,FALSE),\" - \",VLOOKUP(Q374,zawodnicy!$A:$E,4,FALSE)),\"\")","v":""},null,{"$f":"IF(H373=\"\",I373,H373)","v":""},{"$f":"IF(F375=\"\",\"\",VLOOKUP(F375,zawodnicy!$A:$D,3,FALSE))","v":""}]
[{"$f":"T375","v":0},{"$f":"F373","v":""},{"$f":"G373","v":""},{"$f":"F377","v":""},{"$f":"G377","v":""},{"$f":"IF(A375=0,IF(AND(LEN(B375)>0,LEN(D375)=0),B375,IF(AND(LEN(D375)>0,LEN(B375)=0),D375,\"\")),IF((VLOOKUP(A375,'plan gier'!$Z:$AH,7,FALSE))=\"\",\"\",VLOOKUP(VLOOKUP(A375,'plan gier'!$Z:$AH,7,FALSE),zawodnicy!$A:$E,1,FALSE)))","v":""},{"$f":"IF(A375=0,IF(AND(LEN(C375)>0,LEN(E375)=0),C375,IF(AND(LEN(E375)>0,LEN(C375)=0),E375,\"\")),IF((VLOOKUP(A375,'plan gier'!$Z:$AH,8,FALSE))=\"\",\"\",VLOOKUP(VLOOKUP(A375,'plan gier'!$Z:$AH,8,FALSE),zawodnicy!$A:$E,1,FALSE)))","v":""},{"$f":"IF(A375=0,\"\",IF((VLOOKUP(A375,'plan gier'!$Z:$AH,7,FALSE))=\"\",\"\",VLOOKUP(A375,'plan gier'!$Z:$AH,9,FALSE)))","v":""},{"$f":"IF(A375=0,\"\",IF(VLOOKUP(A375,'plan gier'!A:T,20,FALSE)=\"\",\"\",VLOOKUP(A375,'plan gier'!A:T,20,FALSE)))","v":""},{"$f":"L280","v":0},null,null,null,null,null,null,{"$f":"UPPER(IF(P374=\"\",\"\",IF(ISTEXT(L375),L375,IF(AND(L278>0,P374>0),VLOOKUP(L278&P374&J373,'grup-puch'!I:K,3,FALSE),\"\"))))","v":""},{"$f":"IF(Q375<>\"\",CONCATENATE(VLOOKUP(Q375,zawodnicy!$A:$E,2,FALSE),\" \",VLOOKUP(Q375,zawodnicy!$A:$E,3,FALSE),\" - \",VLOOKUP(Q375,zawodnicy!$A:$E,4,FALSE)),\"\")","v":""},null,null,{"$f":"IF(G375=\"\",\"\",VLOOKUP(G375,zawodnicy!$A:$D,3,FALSE))","v":""}]
[null,null,null,null,null,null,null,null,null,null,{"$f":"IF(L279>60,47,\"\")","v":47},null,null,null,null,{"$f":"IF(K376=\"\",\"\",MAX(P281:P375)+1)","v":47},{"$f":"UPPER(IF(P376=\"\",\"\",IF(ISTEXT(L376),L376,IF(AND(L278>0,P376>0),VLOOKUP(L278&P376&J377,'grup-puch'!I:J,2,FALSE),\"\"))))","v":""},{"$f":"IF(Q376<>\"\",CONCATENATE(VLOOKUP(Q376,zawodnicy!$A:$E,2,FALSE),\" \",VLOOKUP(Q376,zawodnicy!$A:$E,3,FALSE),\" - \",VLOOKUP(Q376,zawodnicy!$A:$E,4,FALSE)),\"\")","v":""},null,{"$f":"IF(F377=\"\",\"\",VLOOKUP(F377,zawodnicy!$A:$D,3,FALSE))","v":""},{"$f":"IF(H375=\"\",I375,H375)","v":""}]
[{"$f":"S377","v":0},{"$f":"IF(Q376=\"\",\"\",Q376)","v":""},{"$f":"IF(Q377=\"\",\"\",Q377)","v":""},{"$f":"IF(Q378=\"\",\"\",Q378)","v":""},{"$f":"IF(Q379=\"\",\"\",Q379)","v":""},{"$f":"IF(A377=0,IF(AND(LEN(B377)>0,LEN(D377)=0),VLOOKUP(B377,zawodnicy!$A:$E,1,FALSE),IF(AND(LEN(D377)>0,LEN(B377)=0),VLOOKUP(D377,zawodnicy!$A:$E,1,FALSE),\"\")),IF((VLOOKUP(A377,'plan gier'!$Z:$AH,7,FALSE))=\"\",\"\",VLOOKUP(VLOOKUP(A377,'plan gier'!$Z:$AH,7,FALSE),zawodnicy!$A:$E,1,FALSE)))","v":""},{"$f":"IF(A377=0,IF(AND(LEN(C377)>1,LEN(E377)=0),VLOOKUP(C377,zawodnicy!$A:$E,1,FALSE),IF(AND(LEN(E377)>1,LEN(C377)=0),VLOOKUP(E377,zawodnicy!$A:$E,1,FALSE),\"\")),IF((VLOOKUP(A377,'plan gier'!$Z:$AH,8,FALSE))=\"\",\"\",VLOOKUP(VLOOKUP(A377,'plan gier'!$Z:$AH,8,FALSE),zawodnicy!$A:$E,1,FALSE)))","v":""},{"$f":"IF(A377=0,\"\",IF((VLOOKUP(A377,'plan gier'!$Z:$AH,7,FALSE))=\"\",\"\",VLOOKUP(A377,'plan gier'!$Z:$AH,9,FALSE)))","v":""},{"$f":"IF(A377=0,\"\",IF(VLOOKUP(A377,'plan gier'!A:T,20,FALSE)=\"\",\"\",VLOOKUP(A377,'plan gier'!A:T,20,FALSE)))","v":""},{"$f":"L280","v":0},null,null,null,null,null,null,{"$f":"UPPER(IF(P376=\"\",\"\",IF(ISTEXT(L377),L377,IF(AND(L278>0,P376>0),VLOOKUP(L278&P376&J377,'grup-puch'!I:K,3,FALSE),\"\"))))","v":""},{"$f":"IF(Q377<>\"\",CONCATENATE(VLOOKUP(Q377,zawodnicy!$A:$E,2,FALSE),\" \",VLOOKUP(Q377,zawodnicy!$A:$E,3,FALSE),\" - \",VLOOKUP(Q377,zawodnicy!$A:$E,4,FALSE)),\"\")","v":""},null,{"$f":"IF(G377=\"\",\"\",VLOOKUP(G377,zawodnicy!$A:$D,3,FALSE))","v":""}]
[null,null,null,null,null,null,null,null,null,null,{"$f":"IF(L279>32,48,\"\")","v":48},null,null,null,null,{"$f":"IF(K378=\"\",\"\",MAX(P281:P377)+1)","v":48},{"$f":"UPPER(IF(P378=\"\",\"\",IF(ISTEXT(L378),L378,IF(AND(L278>0,P378>0),VLOOKUP(L278&P378&J377,'grup-puch'!I:J,2,FALSE),\"\"))))","v":""},{"$f":"IF(Q378<>\"\",CONCATENATE(VLOOKUP(Q378,zawodnicy!$A:$E,2,FALSE),\" \",VLOOKUP(Q378,zawodnicy!$A:$E,3,FALSE),\" - \",VLOOKUP(Q378,zawodnicy!$A:$E,4,FALSE)),\"\")","v":""},null,{"$f":"IF(H377=\"\",I377,H377)","v":""},null,null,null,{"$f":"IF(F379=\"\",\"\",VLOOKUP(F379,zawodnicy!$A:$D,3,FALSE))","v":""}]
[{"$f":"W379","v":0},{"$f":"F363","v":""},{"$f":"G363","v":""},{"$f":"F395","v":""},{"$f":"G395","v":""},{"$f":"IF(A379=0,IF(AND(LEN(B379)>0,LEN(D379)=0),B379,IF(AND(LEN(D379)>0,LEN(B379)=0),D379,\"\")),IF((VLOOKUP(A379,'plan gier'!$Z:$AH,7,FALSE))=\"\",\"\",VLOOKUP(VLOOKUP(A379,'plan gier'!$Z:$AH,7,FALSE),zawodnicy!$A:$E,1,FALSE)))","v":""},{"$f":"IF(A379=0,IF(AND(LEN(C379)>0,LEN(E379)=0),C379,IF(AND(LEN(E379)>0,LEN(C379)=0),E379,\"\")),IF((VLOOKUP(A379,'plan gier'!$Z:$AH,8,FALSE))=\"\",\"\",VLOOKUP(VLOOKUP(A379,'plan gier'!$Z:$AH,8,FALSE),zawodnicy!$A:$E,1,FALSE)))","v":""},{"$f":"IF(A379=0,\"\",IF((VLOOKUP(A379,'plan gier'!$Z:$AH,7,FALSE))=\"\",\"\",VLOOKUP(A379,'plan gier'!$Z:$AH,9,FALSE)))","v":""},{"$f":"IF(A379=0,\"\",IF(VLOOKUP(A379,'plan gier'!A:T,20,FALSE)=\"\",\"\",VLOOKUP(A379,'plan gier'!A:T,20,FALSE)))","v":""},{"$f":"L280","v":0},null,null,null,null,null,null,{"$f":"UPPER(IF(P378=\"\",\"\",IF(ISTEXT(L379),L379,IF(AND(L278>0,P378>0),VLOOKUP(L278&P378&J377,'grup-puch'!I:K,3,FALSE),\"\"))))","v":""},{"$f":"IF(Q379<>\"\",CONCATENATE(VLOOKUP(Q379,zawodnicy!$A:$E,2,FALSE),\" \",VLOOKUP(Q379,zawodnicy!$A:$E,3,FALSE),\" - \",VLOOKUP(Q379,zawodnicy!$A:$E,4,FALSE)),\"\")","v":""},null,null,null,null,null,{"$f":"IF(G379=\"\",\"\",VLOOKUP(G379,zawodnicy!$A:$D,3,FALSE))","v":""}]
[null,null,null,null,null,null,null,null,null,null,{"$f":"IF(L279>34,49,\"\")","v":49},null,null,null,null,{"$f":"IF(K380=\"\",\"\",MAX(P281:P379)+1)","v":49},{"$f":"UPPER(IF(P380=\"\",\"\",IF(ISTEXT(L380),L380,IF(AND(L278>0,P380>0),VLOOKUP(L278&P380&J381,'grup-puch'!I:J,2,FALSE),\"\"))))","v":""},{"$f":"IF(Q380<>\"\",CONCATENATE(VLOOKUP(Q380,zawodnicy!$A:$E,2,FALSE),\" \",VLOOKUP(Q380,zawodnicy!$A:$E,3,FALSE),\" - \",VLOOKUP(Q380,zawodnicy!$A:$E,4,FALSE)),\"\")","v":""},null,{"$f":"IF(F381=\"\",\"\",VLOOKUP(F381,zawodnicy!$A:$D,3,FALSE))","v":""},null,null,null,{"$f":"IF(H379=\"\",I379,H379)","v":""}]
[{"$f":"S381","v":0},{"$f":"IF(Q380=\"\",\"\",Q380)","v":""},{"$f":"IF(Q381=\"\",\"\",Q381)","v":""},{"$f":"IF(Q382=\"\",\"\",Q382)","v":""},{"$f":"IF(Q383=\"\",\"\",Q383)","v":""},{"$f":"IF(A381=0,IF(AND(LEN(B381)>0,LEN(D381)=0),VLOOKUP(B381,zawodnicy!$A:$E,1,FALSE),IF(AND(LEN(D381)>0,LEN(B381)=0),VLOOKUP(D381,zawodnicy!$A:$E,1,FALSE),\"\")),IF((VLOOKUP(A381,'plan gier'!$Z:$AH,7,FALSE))=\"\",\"\",VLOOKUP(VLOOKUP(A381,'plan gier'!$Z:$AH,7,FALSE),zawodnicy!$A:$E,1,FALSE)))","v":""},{"$f":"IF(A381=0,IF(AND(LEN(C381)>1,LEN(E381)=0),VLOOKUP(C381,zawodnicy!$A:$E,1,FALSE),IF(AND(LEN(E381)>1,LEN(C381)=0),VLOOKUP(E381,zawodnicy!$A:$E,1,FALSE),\"\")),IF((VLOOKUP(A381,'plan gier'!$Z:$AH,8,FALSE))=\"\",\"\",VLOOKUP(VLOOKUP(A381,'plan gier'!$Z:$AH,8,FALSE),zawodnicy!$A:$E,1,FALSE)))","v":""},{"$f":"IF(A381=0,\"\",IF((VLOOKUP(A381,'plan gier'!$Z:$AH,7,FALSE))=\"\",\"\",VLOOKUP(A381,'plan gier'!$Z:$AH,9,FALSE)))","v":""},{"$f":"IF(A381=0,\"\",IF(VLOOKUP(A381,'plan gier'!A:T,20,FALSE)=\"\",\"\",VLOOKUP(A381,'plan gier'!A:T,20,FALSE)))","v":""},{"$f":"L280","v":0},null,null,null,null,null,null,{"$f":"UPPER(IF(P380=\"\",\"\",IF(ISTEXT(L381),L381,IF(AND(L278>0,P380>0),VLOOKUP(L278&P380&J381,'grup-puch'!I:K,3,FALSE),\"\"))))","v":""},{"$f":"IF(Q381<>\"\",CONCATENATE(VLOOKUP(Q381,zawodnicy!$A:$E,2,FALSE),\" \",VLOOKUP(Q381,zawodnicy!$A:$E,3,FALSE),\" - \",VLOOKUP(Q381,zawodnicy!$A:$E,4,FALSE)),\"\")","v":""},null,{"$f":"IF(G381=\"\",\"\",VLOOKUP(G381,zawodnicy!$A:$D,3,FALSE))","v":""}]
[null,null,null,null,null,null,null,null,null,null,{"$f":"IF(L279>32,50,\"\")","v":50},null,null,null,null,{"$f":"IF(K382=\"\",\"\",MAX(P281:P381)+1)","v":50},{"$f":"UPPER(IF(P382=\"\",\"\",IF(ISTEXT(L382),L382,IF(AND(L278>0,P382>0),VLOOKUP(L278&P382&J381,'grup-puch'!I:J,2,FALSE),\"\"))))","v":""},{"$f":"IF(Q382<>\"\",CONCATENATE(VLOOKUP(Q382,zawodnicy!$A:$E,2,FALSE),\" \",VLOOKUP(Q382,zawodnicy!$A:$E,3,FALSE),\" - \",VLOOKUP(Q382,zawodnicy!$A:$E,4,FALSE)),\"\")","v":""},null,{"$f":"IF(H381=\"\",I381,H381)","v":""},{"$f":"IF(F383=\"\",\"\",VLOOKUP(F383,zawodnicy!$A:$D,3,FALSE))","v":""}]
[{"$f":"T383","v":0},{"$f":"F381","v":""},{"$f":"G381","v":""},{"$f":"F385","v":""},{"$f":"G385","v":""},{"$f":"IF(A383=0,IF(AND(LEN(B383)>0,LEN(D383)=0),B383,IF(AND(LEN(D383)>0,LEN(B383)=0),D383,\"\")),IF((VLOOKUP(A383,'plan gier'!$Z:$AH,7,FALSE))=\"\",\"\",VLOOKUP(VLOOKUP(A383,'plan gier'!$Z:$AH,7,FALSE),zawodnicy!$A:$E,1,FALSE)))","v":""},{"$f":"IF(A383=0,IF(AND(LEN(C383)>0,LEN(E383)=0),C383,IF(AND(LEN(E383)>0,LEN(C383)=0),E383,\"\")),IF((VLOOKUP(A383,'plan gier'!$Z:$AH,8,FALSE))=\"\",\"\",VLOOKUP(VLOOKUP(A383,'plan gier'!$Z:$AH,8,FALSE),zawodnicy!$A:$E,1,FALSE)))","v":""},{"$f":"IF(A383=0,\"\",IF((VLOOKUP(A383,'plan gier'!$Z:$AH,7,FALSE))=\"\",\"\",VLOOKUP(A383,'plan gier'!$Z:$AH,9,FALSE)))","v":""},{"$f":"IF(A383=0,\"\",IF(VLOOKUP(A383,'plan gier'!A:T,20,FALSE)=\"\",\"\",VLOOKUP(A383,'plan gier'!A:T,20,FALSE)))","v":""},{"$f":"L280","v":0},null,null,null,null,null,null,{"$f":"UPPER(IF(P382=\"\",\"\",IF(ISTEXT(L383),L383,IF(AND(L278>0,P382>0),VLOOKUP(L278&P382&J381,'grup-puch'!I:K,3,FALSE),\"\"))))","v":""},{"$f":"IF(Q383<>\"\",CONCATENATE(VLOOKUP(Q383,zawodnicy!$A:$E,2,FALSE),\" \",VLOOKUP(Q383,zawodnicy!$A:$E,3,FALSE),\" - \",VLOOKUP(Q383,zawodnicy!$A:$E,4,FALSE)),\"\")","v":""},null,null,{"$f":"IF(G383=\"\",\"\",VLOOKUP(G383,zawodnicy!$A:$D,3,FALSE))","v":""}]
[null,null,null,null,null,null,null,null,null,null,{"$f":"IF(L279>50,51,\"\")","v":51},null,null,null,null,{"$f":"IF(K384=\"\",\"\",MAX(P281:P383)+1)","v":51},{"$f":"UPPER(IF(P384=\"\",\"\",IF(ISTEXT(L384),L384,IF(AND(L278>0,P384>0),VLOOKUP(L278&P384&J385,'grup-puch'!I:J,2,FALSE),\"\"))))","v":""},{"$f":"IF(Q384<>\"\",CONCATENATE(VLOOKUP(Q384,zawodnicy!$A:$E,2,FALSE),\" \",VLOOKUP(Q384,zawodnicy!$A:$E,3,FALSE),\" - \",VLOOKUP(Q384,zawodnicy!$A:$E,4,FALSE)),\"\")","v":""},null,{"$f":"IF(F385=\"\",\"\",VLOOKUP(F385,zawodnicy!$A:$D,3,FALSE))","v":""},{"$f":"IF(H383=\"\",I383,H383)","v":""}]
[{"$f":"S385","v":0},{"$f":"IF(Q384=\"\",\"\",Q384)","v":""},{"$f":"IF(Q385=\"\",\"\",Q385)","v":""},{"$f":"IF(Q386=\"\",\"\",Q386)","v":""},{"$f":"IF(Q387=\"\",\"\",Q387)","v":""},{"$f":"IF(A385=0,IF(AND(LEN(B385)>0,LEN(D385)=0),VLOOKUP(B385,zawodnicy!$A:$E,1,FALSE),IF(AND(LEN(D385)>0,LEN(B385)=0),VLOOKUP(D385,zawodnicy!$A:$E,1,FALSE),\"\")),IF((VLOOKUP(A385,'plan gier'!$Z:$AH,7,FALSE))=\"\",\"\",VLOOKUP(VLOOKUP(A385,'plan gier'!$Z:$AH,7,FALSE),zawodnicy!$A:$E,1,FALSE)))","v":""},{"$f":"IF(A385=0,IF(AND(LEN(C385)>1,LEN(E385)=0),VLOOKUP(C385,zawodnicy!$A:$E,1,FALSE),IF(AND(LEN(E385)>1,LEN(C385)=0),VLOOKUP(E385,zawodnicy!$A:$E,1,FALSE),\"\")),IF((VLOOKUP(A385,'plan gier'!$Z:$AH,8,FALSE))=\"\",\"\",VLOOKUP(VLOOKUP(A385,'plan gier'!$Z:$AH,8,FALSE),zawodnicy!$A:$E,1,FALSE)))","v":""},{"$f":"IF(A385=0,\"\",IF((VLOOKUP(A385,'plan gier'!$Z:$AH,7,FALSE))=\"\",\"\",VLOOKUP(A385,'plan gier'!$Z:$AH,9,FALSE)))","v":""},{"$f":"IF(A385=0,\"\",IF(VLOOKUP(A385,'plan gier'!A:T,20,FALSE)=\"\",\"\",VLOOKUP(A385,'plan gier'!A:T,20,FALSE)))","v":""},{"$f":"L280","v":0},null,null,null,null,null,null,{"$f":"UPPER(IF(P384=\"\",\"\",IF(ISTEXT(L385),L385,IF(AND(L278>0,P384>0),VLOOKUP(L278&P384&J385,'grup-puch'!I:K,3,FALSE),\"\"))))","v":""},{"$f":"IF(Q385<>\"\",CONCATENATE(VLOOKUP(Q385,zawodnicy!$A:$E,2,FALSE),\" \",VLOOKUP(Q385,zawodnicy!$A:$E,3,FALSE),\" - \",VLOOKUP(Q385,zawodnicy!$A:$E,4,FALSE)),\"\")","v":""},null,{"$f":"IF(G385=\"\",\"\",VLOOKUP(G385,zawodnicy!$A:$D,3,FALSE))","v":""}]
[null,null,null,null,null,null,null,null,null,null,{"$f":"IF(L279>32,52,\"\")","v":52},null,null,null,null,{"$f":"IF(K386=\"\",\"\",MAX(P281:P385)+1)","v":52},{"$f":"UPPER(IF(P386=\"\",\"\",IF(ISTEXT(L386),L386,IF(AND(L278>0,P386>0),VLOOKUP(L278&P386&J385,'grup-puch'!I:J,2,FALSE),\"\"))))","v":""},{"$f":"IF(Q386<>\"\",CONCATENATE(VLOOKUP(Q386,zawodnicy!$A:$E,2,FALSE),\" \",VLOOKUP(Q386,zawodnicy!$A:$E,3,FALSE),\" - \",VLOOKUP(Q386,zawodnicy!$A:$E,4,FALSE)),\"\")","v":""},null,{"$f":"IF(H385=\"\",I385,H385)","v":""},null,{"$f":"IF(F387=\"\",\"\",VLOOKUP(F387,zawodnicy!$A:$D,3,FALSE))","v":""}]
[{"$f":"U387","v":0},{"$f":"F383","v":""},{"$f":"G383","v":""},{"$f":"F391","v":""},{"$f":"G391","v":""},{"$f":"IF(A387=0,IF(AND(LEN(B387)>0,LEN(D387)=0),B387,IF(AND(LEN(D387)>0,LEN(B387)=0),D387,\"\")),IF((VLOOKUP(A387,'plan gier'!$Z:$AH,7,FALSE))=\"\",\"\",VLOOKUP(VLOOKUP(A387,'plan gier'!$Z:$AH,7,FALSE),zawodnicy!$A:$E,1,FALSE)))","v":""},{"$f":"IF(A387=0,IF(AND(LEN(C387)>0,LEN(E387)=0),C387,IF(AND(LEN(E387)>0,LEN(C387)=0),E387,\"\")),IF((VLOOKUP(A387,'plan gier'!$Z:$AH,8,FALSE))=\"\",\"\",VLOOKUP(VLOOKUP(A387,'plan gier'!$Z:$AH,8,FALSE),zawodnicy!$A:$E,1,FALSE)))","v":""},{"$f":"IF(A387=0,\"\",IF((VLOOKUP(A387,'plan gier'!$Z:$AH,7,FALSE))=\"\",\"\",VLOOKUP(A387,'plan gier'!$Z:$AH,9,FALSE)))","v":""},{"$f":"IF(A387=0,\"\",IF(VLOOKUP(A387,'plan gier'!A:T,20,FALSE)=\"\",\"\",VLOOKUP(A387,'plan gier'!A:T,20,FALSE)))","v":""},{"$f":"L280","v":0},null,null,null,null,null,null,{"$f":"UPPER(IF(P386=\"\",\"\",IF(ISTEXT(L387),L387,IF(AND(L278>0,P386>0),VLOOKUP(L278&P386&J385,'grup-puch'!I:K,3,FALSE),\"\"))))","v":""},{"$f":"IF(Q387<>\"\",CONCATENATE(VLOOKUP(Q387,zawodnicy!$A:$E,2,FALSE),\" \",VLOOKUP(Q387,zawodnicy!$A:$E,3,FALSE),\" - \",VLOOKUP(Q387,zawodnicy!$A:$E,4,FALSE)),\"\")","v":""},null,null,null,{"$f":"IF(G387=\"\",\"\",VLOOKUP(G387,zawodnicy!$A:$D,3,FALSE))","v":""}]
[null,null,null,null,null,null,null,null,null,null,{"$f":"IF(L279>42,53,\"\")","v":53},null,null,null,null,{"$f":"IF(K388=\"\",\"\",MAX(P281:P387)+1)","v":53},{"$f":"UPPER(IF(P388=\"\",\"\",IF(ISTEXT(L388),L388,IF(AND(L278>0,P388>0),VLOOKUP(L278&P388&J389,'grup-puch'!I:J,2,FALSE),\"\"))))","v":""},{"$f":"IF(Q388<>\"\",CONCATENATE(VLOOKUP(Q388,zawodnicy!$A:$E,2,FALSE),\" \",VLOOKUP(Q388,zawodnicy!$A:$E,3,FALSE),\" - \",VLOOKUP(Q388,zawodnicy!$A:$E,4,FALSE)),\"\")","v":""},null,{"$f":"IF(F389=\"\",\"\",VLOOKUP(F389,zawodnicy!$A:$D,3,FALSE))","v":""},null,{"$f":"IF(H387=\"\",I387,H387)","v":""}]
[{"$f":"S389","v":0},{"$f":"IF(Q388=\"\",\"\",Q388)","v":""},{"$f":"IF(Q389=\"\",\"\",Q389)","v":""},{"$f":"IF(Q390=\"\",\"\",Q390)","v":""},{"$f":"IF(Q391=\"\",\"\",Q391)","v":""},{"$f":"IF(A389=0,IF(AND(LEN(B389)>0,LEN(D389)=0),VLOOKUP(B389,zawodnicy!$A:$E,1,FALSE),IF(AND(LEN(D389)>0,LEN(B389)=0),VLOOKUP(D389,zawodnicy!$A:$E,1,FALSE),\"\")),IF((VLOOKUP(A389,'plan gier'!$Z:$AH,7,FALSE))=\"\",\"\",VLOOKUP(VLOOKUP(A389,'plan gier'!$Z:$AH,7,FALSE),zawodnicy!$A:$E,1,FALSE)))","v":""},{"$f":"IF(A389=0,IF(AND(LEN(C389)>1,LEN(E389)=0),VLOOKUP(C389,zawodnicy!$A:$E,1,FALSE),IF(AND(LEN(E389)>1,LEN(C389)=0),VLOOKUP(E389,zawodnicy!$A:$E,1,FALSE),\"\")),IF((VLOOKUP(A389,'plan gier'!$Z:$AH,8,FALSE))=\"\",\"\",VLOOKUP(VLOOKUP(A389,'plan gier'!$Z:$AH,8,FALSE),zawodnicy!$A:$E,1,FALSE)))","v":""},{"$f":"IF(A389=0,\"\",IF((VLOOKUP(A389,'plan gier'!$Z:$AH,7,FALSE))=\"\",\"\",VLOOKUP(A389,'plan gier'!$Z:$AH,9,FALSE)))","v":""},{"$f":"IF(A389=0,\"\",IF(VLOOKUP(A389,'plan gier'!A:T,20,FALSE)=\"\",\"\",VLOOKUP(A389,'plan gier'!A:T,20,FALSE)))","v":""},{"$f":"L280","v":0},null,null,null,null,null,null,{"$f":"UPPER(IF(P388=\"\",\"\",IF(ISTEXT(L389),L389,IF(AND(L278>0,P388>0),VLOOKUP(L278&P388&J389,'grup-puch'!I:K,3,FALSE),\"\"))))","v":""},{"$f":"IF(Q389<>\"\",CONCATENATE(VLOOKUP(Q389,zawodnicy!$A:$E,2,FALSE),\" \",VLOOKUP(Q389,zawodnicy!$A:$E,3,FALSE),\" - \",VLOOKUP(Q389,zawodnicy!$A:$E,4,FALSE)),\"\")","v":""},null,{"$f":"IF(G389=\"\",\"\",VLOOKUP(G389,zawodnicy!$A:$D,3,FALSE))","v":""}]
[null,null,null,null,null,null,null,null,null,null,{"$f":"IF(L279>32,54,\"\")","v":54},null,null,null,null,{"$f":"IF(K390=\"\",\"\",MAX(P281:P389)+1)","v":54},{"$f":"UPPER(IF(P390=\"\",\"\",IF(ISTEXT(L390),L390,IF(AND(L278>0,P390>0),VLOOKUP(L278&P390&J389,'grup-puch'!I:J,2,FALSE),\"\"))))","v":""},{"$f":"IF(Q390<>\"\",CONCATENATE(VLOOKUP(Q390,zawodnicy!$A:$E,2,FALSE),\" \",VLOOKUP(Q390,zawodnicy!$A:$E,3,FALSE),\" - \",VLOOKUP(Q390,zawodnicy!$A:$E,4,FALSE)),\"\")","v":""},null,{"$f":"IF(H389=\"\",I389,H389)","v":""},{"$f":"IF(F391=\"\",\"\",VLOOKUP(F391,zawodnicy!$A:$D,3,FALSE))","v":""}]
[{"$f":"T391","v":0},{"$f":"F389","v":""},{"$f":"G389","v":""},{"$f":"F393","v":""},{"$f":"G393","v":""},{"$f":"IF(A391=0,IF(AND(LEN(B391)>0,LEN(D391)=0),B391,IF(AND(LEN(D391)>0,LEN(B391)=0),D391,\"\")),IF((VLOOKUP(A391,'plan gier'!$Z:$AH,7,FALSE))=\"\",\"\",VLOOKUP(VLOOKUP(A391,'plan gier'!$Z:$AH,7,FALSE),zawodnicy!$A:$E,1,FALSE)))","v":""},{"$f":"IF(A391=0,IF(AND(LEN(C391)>0,LEN(E391)=0),C391,IF(AND(LEN(E391)>0,LEN(C391)=0),E391,\"\")),IF((VLOOKUP(A391,'plan gier'!$Z:$AH,8,FALSE))=\"\",\"\",VLOOKUP(VLOOKUP(A391,'plan gier'!$Z:$AH,8,FALSE),zawodnicy!$A:$E,1,FALSE)))","v":""},{"$f":"IF(A391=0,\"\",IF((VLOOKUP(A391,'plan gier'!$Z:$AH,7,FALSE))=\"\",\"\",VLOOKUP(A391,'plan gier'!$Z:$AH,9,FALSE)))","v":""},{"$f":"IF(A391=0,\"\",IF(VLOOKUP(A391,'plan gier'!A:T,20,FALSE)=\"\",\"\",VLOOKUP(A391,'plan gier'!A:T,20,FALSE)))","v":""},{"$f":"L280","v":0},null,null,null,null,null,null,{"$f":"UPPER(IF(P390=\"\",\"\",IF(ISTEXT(L391),L391,IF(AND(L278>0,P390>0),VLOOKUP(L278&P390&J389,'grup-puch'!I:K,3,FALSE),\"\"))))","v":""},{"$f":"IF(Q391<>\"\",CONCATENATE(VLOOKUP(Q391,zawodnicy!$A:$E,2,FALSE),\" \",VLOOKUP(Q391,zawodnicy!$A:$E,3,FALSE),\" - \",VLOOKUP(Q391,zawodnicy!$A:$E,4,FALSE)),\"\")","v":""},null,null,{"$f":"IF(G391=\"\",\"\",VLOOKUP(G391,zawodnicy!$A:$D,3,FALSE))","v":""}]
[null,null,null,null,null,null,null,null,null,null,{"$f":"IF(L279>58,55,\"\")","v":55},null,null,null,null,{"$f":"IF(K392=\"\",\"\",MAX(P281:P391)+1)","v":55},{"$f":"UPPER(IF(P392=\"\",\"\",IF(ISTEXT(L392),L392,IF(AND(L278>0,P392>0),VLOOKUP(L278&P392&J393,'grup-puch'!I:J,2,FALSE),\"\"))))","v":""},{"$f":"IF(Q392<>\"\",CONCATENATE(VLOOKUP(Q392,zawodnicy!$A:$E,2,FALSE),\" \",VLOOKUP(Q392,zawodnicy!$A:$E,3,FALSE),\" - \",VLOOKUP(Q392,zawodnicy!$A:$E,4,FALSE)),\"\")","v":""},null,{"$f":"IF(F393=\"\",\"\",VLOOKUP(F393,zawodnicy!$A:$D,3,FALSE))","v":""},{"$f":"IF(H391=\"\",I391,H391)","v":""}]
[{"$f":"S393","v":0},{"$f":"IF(Q392=\"\",\"\",Q392)","v":""},{"$f":"IF(Q393=\"\",\"\",Q393)","v":""},{"$f":"IF(Q394=\"\",\"\",Q394)","v":""},{"$f":"IF(Q395=\"\",\"\",Q395)","v":""},{"$f":"IF(A393=0,IF(AND(LEN(B393)>0,LEN(D393)=0),VLOOKUP(B393,zawodnicy!$A:$E,1,FALSE),IF(AND(LEN(D393)>0,LEN(B393)=0),VLOOKUP(D393,zawodnicy!$A:$E,1,FALSE),\"\")),IF((VLOOKUP(A393,'plan gier'!$Z:$AH,7,FALSE))=\"\",\"\",VLOOKUP(VLOOKUP(A393,'plan gier'!$Z:$AH,7,FALSE),zawodnicy!$A:$E,1,FALSE)))","v":""},{"$f":"IF(A393=0,IF(AND(LEN(C393)>1,LEN(E393)=0),VLOOKUP(C393,zawodnicy!$A:$E,1,FALSE),IF(AND(LEN(E393)>1,LEN(C393)=0),VLOOKUP(E393,zawodnicy!$A:$E,1,FALSE),\"\")),IF((VLOOKUP(A393,'plan gier'!$Z:$AH,8,FALSE))=\"\",\"\",VLOOKUP(VLOOKUP(A393,'plan gier'!$Z:$AH,8,FALSE),zawodnicy!$A:$E,1,FALSE)))","v":""},{"$f":"IF(A393=0,\"\",IF((VLOOKUP(A393,'plan gier'!$Z:$AH,7,FALSE))=\"\",\"\",VLOOKUP(A393,'plan gier'!$Z:$AH,9,FALSE)))","v":""},{"$f":"IF(A393=0,\"\",IF(VLOOKUP(A393,'plan gier'!A:T,20,FALSE)=\"\",\"\",VLOOKUP(A393,'plan gier'!A:T,20,FALSE)))","v":""},{"$f":"L280","v":0},null,null,null,null,null,null,{"$f":"UPPER(IF(P392=\"\",\"\",IF(ISTEXT(L393),L393,IF(AND(L278>0,P392>0),VLOOKUP(L278&P392&J393,'grup-puch'!I:K,3,FALSE),\"\"))))","v":""},{"$f":"IF(Q393<>\"\",CONCATENATE(VLOOKUP(Q393,zawodnicy!$A:$E,2,FALSE),\" \",VLOOKUP(Q393,zawodnicy!$A:$E,3,FALSE),\" - \",VLOOKUP(Q393,zawodnicy!$A:$E,4,FALSE)),\"\")","v":""},null,{"$f":"IF(G393=\"\",\"\",VLOOKUP(G393,zawodnicy!$A:$D,3,FALSE))","v":""}]
[null,null,null,null,null,null,null,null,null,null,{"$f":"IF(L279>32,56,\"\")","v":56},null,null,null,null,{"$f":"IF(K394=\"\",\"\",MAX(P281:P393)+1)","v":56},{"$f":"UPPER(IF(P394=\"\",\"\",IF(ISTEXT(L394),L394,IF(AND(L278>0,P394>0),VLOOKUP(L278&P394&J393,'grup-puch'!I:J,2,FALSE),\"\"))))","v":""},{"$f":"IF(Q394<>\"\",CONCATENATE(VLOOKUP(Q394,zawodnicy!$A:$E,2,FALSE),\" \",VLOOKUP(Q394,zawodnicy!$A:$E,3,FALSE),\" - \",VLOOKUP(Q394,zawodnicy!$A:$E,4,FALSE)),\"\")","v":""},null,{"$f":"IF(H393=\"\",I393,H393)","v":""},null,null,{"$f":"IF(F395=\"\",\"\",VLOOKUP(F395,zawodnicy!$A:$D,3,FALSE))","v":""}]
[{"$f":"V395","v":0},{"$f":"F387","v":""},{"$f":"G387","v":""},{"$f":"F403","v":""},{"$f":"G403","v":""},{"$f":"IF(A395=0,IF(AND(LEN(B395)>0,LEN(D395)=0),B395,IF(AND(LEN(D395)>0,LEN(B395)=0),D395,\"\")),IF((VLOOKUP(A395,'plan gier'!$Z:$AH,7,FALSE))=\"\",\"\",VLOOKUP(VLOOKUP(A395,'plan gier'!$Z:$AH,7,FALSE),zawodnicy!$A:$E,1,FALSE)))","v":""},{"$f":"IF(A395=0,IF(AND(LEN(C395)>0,LEN(E395)=0),C395,IF(AND(LEN(E395)>0,LEN(C395)=0),E395,\"\")),IF((VLOOKUP(A395,'plan gier'!$Z:$AH,8,FALSE))=\"\",\"\",VLOOKUP(VLOOKUP(A395,'plan gier'!$Z:$AH,8,FALSE),zawodnicy!$A:$E,1,FALSE)))","v":""},{"$f":"IF(A395=0,\"\",IF((VLOOKUP(A395,'plan gier'!$Z:$AH,7,FALSE))=\"\",\"\",VLOOKUP(A395,'plan gier'!$Z:$AH,9,FALSE)))","v":""},{"$f":"IF(A395=0,\"\",IF(VLOOKUP(A395,'plan gier'!A:T,20,FALSE)=\"\",\"\",VLOOKUP(A395,'plan gier'!A:T,20,FALSE)))","v":""},{"$f":"L280","v":0},null,null,null,null,null,null,{"$f":"UPPER(IF(P394=\"\",\"\",IF(ISTEXT(L395),L395,IF(AND(L278>0,P394>0),VLOOKUP(L278&P394&J393,'grup-puch'!I:K,3,FALSE),\"\"))))","v":""},{"$f":"IF(Q395<>\"\",CONCATENATE(VLOOKUP(Q395,zawodnicy!$A:$E,2,FALSE),\" \",VLOOKUP(Q395,zawodnicy!$A:$E,3,FALSE),\" - \",VLOOKUP(Q395,zawodnicy!$A:$E,4,FALSE)),\"\")","v":""},null,null,null,null,{"$f":"IF(G395=\"\",\"\",VLOOKUP(G395,zawodnicy!$A:$D,3,FALSE))","v":""}]
[null,null,null,null,null,null,null,null,null,null,{"$f":"IF(L279>38,57,\"\")","v":57},null,null,null,null,{"$f":"IF(K396=\"\",\"\",MAX(P281:P395)+1)","v":57},{"$f":"UPPER(IF(P396=\"\",\"\",IF(ISTEXT(L396),L396,IF(AND(L278>0,P396>0),VLOOKUP(L278&P396&J397,'grup-puch'!I:J,2,FALSE),\"\"))))","v":""},{"$f":"IF(Q396<>\"\",CONCATENATE(VLOOKUP(Q396,zawodnicy!$A:$E,2,FALSE),\" \",VLOOKUP(Q396,zawodnicy!$A:$E,3,FALSE),\" - \",VLOOKUP(Q396,zawodnicy!$A:$E,4,FALSE)),\"\")","v":""},null,{"$f":"IF(F397=\"\",\"\",VLOOKUP(F397,zawodnicy!$A:$D,3,FALSE))","v":""},null,null,{"$f":"IF(H395=\"\",I395,H395)","v":""}]
[{"$f":"S397","v":0},{"$f":"IF(Q396=\"\",\"\",Q396)","v":""},{"$f":"IF(Q397=\"\",\"\",Q397)","v":""},{"$f":"IF(Q398=\"\",\"\",Q398)","v":""},{"$f":"IF(Q399=\"\",\"\",Q399)","v":""},{"$f":"IF(A397=0,IF(AND(LEN(B397)>0,LEN(D397)=0),VLOOKUP(B397,zawodnicy!$A:$E,1,FALSE),IF(AND(LEN(D397)>0,LEN(B397)=0),VLOOKUP(D397,zawodnicy!$A:$E,1,FALSE),\"\")),IF((VLOOKUP(A397,'plan gier'!$Z:$AH,7,FALSE))=\"\",\"\",VLOOKUP(VLOOKUP(A397,'plan gier'!$Z:$AH,7,FALSE),zawodnicy!$A:$E,1,FALSE)))","v":""},{"$f":"IF(A397=0,IF(AND(LEN(C397)>1,LEN(E397)=0),VLOOKUP(C397,zawodnicy!$A:$E,1,FALSE),IF(AND(LEN(E397)>1,LEN(C397)=0),VLOOKUP(E397,zawodnicy!$A:$E,1,FALSE),\"\")),IF((VLOOKUP(A397,'plan gier'!$Z:$AH,8,FALSE))=\"\",\"\",VLOOKUP(VLOOKUP(A397,'plan gier'!$Z:$AH,8,FALSE),zawodnicy!$A:$E,1,FALSE)))","v":""},{"$f":"IF(A397=0,\"\",IF((VLOOKUP(A397,'plan gier'!$Z:$AH,7,FALSE))=\"\",\"\",VLOOKUP(A397,'plan gier'!$Z:$AH,9,FALSE)))","v":""},{"$f":"IF(A397=0,\"\",IF(VLOOKUP(A397,'plan gier'!A:T,20,FALSE)=\"\",\"\",VLOOKUP(A397,'plan gier'!A:T,20,FALSE)))","v":""},{"$f":"L280","v":0},null,null,null,null,null,null,{"$f":"UPPER(IF(P396=\"\",\"\",IF(ISTEXT(L397),L397,IF(AND(L278>0,P396>0),VLOOKUP(L278&P396&J397,'grup-puch'!I:K,3,FALSE),\"\"))))","v":""},{"$f":"IF(Q397<>\"\",CONCATENATE(VLOOKUP(Q397,zawodnicy!$A:$E,2,FALSE),\" \",VLOOKUP(Q397,zawodnicy!$A:$E,3,FALSE),\" - \",VLOOKUP(Q397,zawodnicy!$A:$E,4,FALSE)),\"\")","v":""},null,{"$f":"IF(G397=\"\",\"\",VLOOKUP(G397,zawodnicy!$A:$D,3,FALSE))","v":""}]
[null,null,null,null,null,null,null,null,null,null,{"$f":"IF(L279>32,58,\"\")","v":58},null,null,null,null,{"$f":"IF(K398=\"\",\"\",MAX(P281:P397)+1)","v":58},{"$f":"UPPER(IF(P398=\"\",\"\",IF(ISTEXT(L398),L398,IF(AND(L278>0,P398>0),VLOOKUP(L278&P398&J397,'grup-puch'!I:J,2,FALSE),\"\"))))","v":""},{"$f":"IF(Q398<>\"\",CONCATENATE(VLOOKUP(Q398,zawodnicy!$A:$E,2,FALSE),\" \",VLOOKUP(Q398,zawodnicy!$A:$E,3,FALSE),\" - \",VLOOKUP(Q398,zawodnicy!$A:$E,4,FALSE)),\"\")","v":""},null,{"$f":"IF(H397=\"\",I397,H397)","v":""},{"$f":"IF(F399=\"\",\"\",VLOOKUP(F399,zawodnicy!$A:$D,3,FALSE))","v":""}]
[{"$f":"T399","v":0},{"$f":"F397","v":""},{"$f":"G397","v":""},{"$f":"F401","v":""},{"$f":"G401","v":""},{"$f":"IF(A399=0,IF(AND(LEN(B399)>0,LEN(D399)=0),B399,IF(AND(LEN(D399)>0,LEN(B399)=0),D399,\"\")),IF((VLOOKUP(A399,'plan gier'!$Z:$AH,7,FALSE))=\"\",\"\",VLOOKUP(VLOOKUP(A399,'plan gier'!$Z:$AH,7,FALSE),zawodnicy!$A:$E,1,FALSE)))","v":""},{"$f":"IF(A399=0,IF(AND(LEN(C399)>0,LEN(E399)=0),C399,IF(AND(LEN(E399)>0,LEN(C399)=0),E399,\"\")),IF((VLOOKUP(A399,'plan gier'!$Z:$AH,8,FALSE))=\"\",\"\",VLOOKUP(VLOOKUP(A399,'plan gier'!$Z:$AH,8,FALSE),zawodnicy!$A:$E,1,FALSE)))","v":""},{"$f":"IF(A399=0,\"\",IF((VLOOKUP(A399,'plan gier'!$Z:$AH,7,FALSE))=\"\",\"\",VLOOKUP(A399,'plan gier'!$Z:$AH,9,FALSE)))","v":""},{"$f":"IF(A399=0,\"\",IF(VLOOKUP(A399,'plan gier'!A:T,20,FALSE)=\"\",\"\",VLOOKUP(A399,'plan gier'!A:T,20,FALSE)))","v":""},{"$f":"L280","v":0},null,null,null,null,null,null,{"$f":"UPPER(IF(P398=\"\",\"\",IF(ISTEXT(L399),L399,IF(AND(L278>0,P398>0),VLOOKUP(L278&P398&J397,'grup-puch'!I:K,3,FALSE),\"\"))))","v":""},{"$f":"IF(Q399<>\"\",CONCATENATE(VLOOKUP(Q399,zawodnicy!$A:$E,2,FALSE),\" \",VLOOKUP(Q399,zawodnicy!$A:$E,3,FALSE),\" - \",VLOOKUP(Q399,zawodnicy!$A:$E,4,FALSE)),\"\")","v":""},null,null,{"$f":"IF(G399=\"\",\"\",VLOOKUP(G399,zawodnicy!$A:$D,3,FALSE))","v":""}]
[null,null,null,null,null,null,null,null,null,null,{"$f":"IF(L279>54,59,\"\")","v":59},null,null,null,null,{"$f":"IF(K400=\"\",\"\",MAX(P281:P399)+1)","v":59},{"$f":"UPPER(IF(P400=\"\",\"\",IF(ISTEXT(L400),L400,IF(AND(L278>0,P400>0),VLOOKUP(L278&P400&J401,'grup-puch'!I:J,2,FALSE),\"\"))))","v":""},{"$f":"IF(Q400<>\"\",CONCATENATE(VLOOKUP(Q400,zawodnicy!$A:$E,2,FALSE),\" \",VLOOKUP(Q400,zawodnicy!$A:$E,3,FALSE),\" - \",VLOOKUP(Q400,zawodnicy!$A:$E,4,FALSE)),\"\")","v":""},null,{"$f":"IF(F401=\"\",\"\",VLOOKUP(F401,zawodnicy!$A:$D,3,FALSE))","v":""},{"$f":"IF(H399=\"\",I399,H399)","v":""}]
[{"$f":"S401","v":0},{"$f":"IF(Q400=\"\",\"\",Q400)","v":""},{"$f":"IF(Q401=\"\",\"\",Q401)","v":""},{"$f":"IF(Q402=\"\",\"\",Q402)","v":""},{"$f":"IF(Q403=\"\",\"\",Q403)","v":""},{"$f":"IF(A401=0,IF(AND(LEN(B401)>0,LEN(D401)=0),VLOOKUP(B401,zawodnicy!$A:$E,1,FALSE),IF(AND(LEN(D401)>0,LEN(B401)=0),VLOOKUP(D401,zawodnicy!$A:$E,1,FALSE),\"\")),IF((VLOOKUP(A401,'plan gier'!$Z:$AH,7,FALSE))=\"\",\"\",VLOOKUP(VLOOKUP(A401,'plan gier'!$Z:$AH,7,FALSE),zawodnicy!$A:$E,1,FALSE)))","v":""},{"$f":"IF(A401=0,IF(AND(LEN(C401)>1,LEN(E401)=0),VLOOKUP(C401,zawodnicy!$A:$E,1,FALSE),IF(AND(LEN(E401)>1,LEN(C401)=0),VLOOKUP(E401,zawodnicy!$A:$E,1,FALSE),\"\")),IF((VLOOKUP(A401,'plan gier'!$Z:$AH,8,FALSE))=\"\",\"\",VLOOKUP(VLOOKUP(A401,'plan gier'!$Z:$AH,8,FALSE),zawodnicy!$A:$E,1,FALSE)))","v":""},{"$f":"IF(A401=0,\"\",IF((VLOOKUP(A401,'plan gier'!$Z:$AH,7,FALSE))=\"\",\"\",VLOOKUP(A401,'plan gier'!$Z:$AH,9,FALSE)))","v":""},{"$f":"IF(A401=0,\"\",IF(VLOOKUP(A401,'plan gier'!A:T,20,FALSE)=\"\",\"\",VLOOKUP(A401,'plan gier'!A:T,20,FALSE)))","v":""},{"$f":"L280","v":0},null,null,null,null,null,null,{"$f":"UPPER(IF(P400=\"\",\"\",IF(ISTEXT(L401),L401,IF(AND(L278>0,P400>0),VLOOKUP(L278&P400&J401,'grup-puch'!I:K,3,FALSE),\"\"))))","v":""},{"$f":"IF(Q401<>\"\",CONCATENATE(VLOOKUP(Q401,zawodnicy!$A:$E,2,FALSE),\" \",VLOOKUP(Q401,zawodnicy!$A:$E,3,FALSE),\" - \",VLOOKUP(Q401,zawodnicy!$A:$E,4,FALSE)),\"\")","v":""},null,{"$f":"IF(G401=\"\",\"\",VLOOKUP(G401,zawodnicy!$A:$D,3,FALSE))","v":""}]
[null,null,null,null,null,null,null,null,null,null,{"$f":"IF(L279>32,60,\"\")","v":60},null,null,null,null,{"$f":"IF(K402=\"\",\"\",MAX(P281:P401)+1)","v":60},{"$f":"UPPER(IF(P402=\"\",\"\",IF(ISTEXT(L402),L402,IF(AND(L278>0,P402>0),VLOOKUP(L278&P402&J401,'grup-puch'!I:J,2,FALSE),\"\"))))","v":""},{"$f":"IF(Q402<>\"\",CONCATENATE(VLOOKUP(Q402,zawodnicy!$A:$E,2,FALSE),\" \",VLOOKUP(Q402,zawodnicy!$A:$E,3,FALSE),\" - \",VLOOKUP(Q402,zawodnicy!$A:$E,4,FALSE)),\"\")","v":""},null,{"$f":"IF(H401=\"\",I401,H401)","v":""},null,{"$f":"IF(F403=\"\",\"\",VLOOKUP(F403,zawodnicy!$A:$D,3,FALSE))","v":""}]
[{"$f":"U403","v":0},{"$f":"F399","v":""},{"$f":"G399","v":""},{"$f":"F407","v":""},{"$f":"G407","v":""},{"$f":"IF(A403=0,IF(AND(LEN(B403)>0,LEN(D403)=0),B403,IF(AND(LEN(D403)>0,LEN(B403)=0),D403,\"\")),IF((VLOOKUP(A403,'plan gier'!$Z:$AH,7,FALSE))=\"\",\"\",VLOOKUP(VLOOKUP(A403,'plan gier'!$Z:$AH,7,FALSE),zawodnicy!$A:$E,1,FALSE)))","v":""},{"$f":"IF(A403=0,IF(AND(LEN(C403)>0,LEN(E403)=0),C403,IF(AND(LEN(E403)>0,LEN(C403)=0),E403,\"\")),IF((VLOOKUP(A403,'plan gier'!$Z:$AH,8,FALSE))=\"\",\"\",VLOOKUP(VLOOKUP(A403,'plan gier'!$Z:$AH,8,FALSE),zawodnicy!$A:$E,1,FALSE)))","v":""},{"$f":"IF(A403=0,\"\",IF((VLOOKUP(A403,'plan gier'!$Z:$AH,7,FALSE))=\"\",\"\",VLOOKUP(A403,'plan gier'!$Z:$AH,9,FALSE)))","v":""},{"$f":"IF(A403=0,\"\",IF(VLOOKUP(A403,'plan gier'!A:T,20,FALSE)=\"\",\"\",VLOOKUP(A403,'plan gier'!A:T,20,FALSE)))","v":""},{"$f":"L280","v":0},null,null,null,null,null,null,{"$f":"UPPER(IF(P402=\"\",\"\",IF(ISTEXT(L403),L403,IF(AND(L278>0,P402>0),VLOOKUP(L278&P402&J401,'grup-puch'!I:K,3,FALSE),\"\"))))","v":""},{"$f":"IF(Q403<>\"\",CONCATENATE(VLOOKUP(Q403,zawodnicy!$A:$E,2,FALSE),\" \",VLOOKUP(Q403,zawodnicy!$A:$E,3,FALSE),\" - \",VLOOKUP(Q403,zawodnicy!$A:$E,4,FALSE)),\"\")","v":""},null,null,null,{"$f":"IF(G403=\"\",\"\",VLOOKUP(G403,zawodnicy!$A:$D,3,FALSE))","v":""}]
[null,null,null,null,null,null,null,null,null,null,{"$f":"IF(L279>46,61,\"\")","v":61},null,null,null,null,{"$f":"IF(K404=\"\",\"\",MAX(P281:P403)+1)","v":61},{"$f":"UPPER(IF(P404=\"\",\"\",IF(ISTEXT(L404),L404,IF(AND(L278>0,P404>0),VLOOKUP(L278&P404&J405,'grup-puch'!I:J,2,FALSE),\"\"))))","v":""},{"$f":"IF(Q404<>\"\",CONCATENATE(VLOOKUP(Q404,zawodnicy!$A:$E,2,FALSE),\" \",VLOOKUP(Q404,zawodnicy!$A:$E,3,FALSE),\" - \",VLOOKUP(Q404,zawodnicy!$A:$E,4,FALSE)),\"\")","v":""},null,{"$f":"IF(F405=\"\",\"\",VLOOKUP(F405,zawodnicy!$A:$D,3,FALSE))","v":""},null,{"$f":"IF(H403=\"\",I403,H403)","v":""}]
[{"$f":"S405","v":0},{"$f":"IF(Q404=\"\",\"\",Q404)","v":""},{"$f":"IF(Q405=\"\",\"\",Q405)","v":""},{"$f":"IF(Q406=\"\",\"\",Q406)","v":""},{"$f":"IF(Q407=\"\",\"\",Q407)","v":""},{"$f":"IF(A405=0,IF(AND(LEN(B405)>0,LEN(D405)=0),VLOOKUP(B405,zawodnicy!$A:$E,1,FALSE),IF(AND(LEN(D405)>0,LEN(B405)=0),VLOOKUP(D405,zawodnicy!$A:$E,1,FALSE),\"\")),IF((VLOOKUP(A405,'plan gier'!$Z:$AH,7,FALSE))=\"\",\"\",VLOOKUP(VLOOKUP(A405,'plan gier'!$Z:$AH,7,FALSE),zawodnicy!$A:$E,1,FALSE)))","v":""},{"$f":"IF(A405=0,IF(AND(LEN(C405)>1,LEN(E405)=0),VLOOKUP(C405,zawodnicy!$A:$E,1,FALSE),IF(AND(LEN(E405)>1,LEN(C405)=0),VLOOKUP(E405,zawodnicy!$A:$E,1,FALSE),\"\")),IF((VLOOKUP(A405,'plan gier'!$Z:$AH,8,FALSE))=\"\",\"\",VLOOKUP(VLOOKUP(A405,'plan gier'!$Z:$AH,8,FALSE),zawodnicy!$A:$E,1,FALSE)))","v":""},{"$f":"IF(A405=0,\"\",IF((VLOOKUP(A405,'plan gier'!$Z:$AH,7,FALSE))=\"\",\"\",VLOOKUP(A405,'plan gier'!$Z:$AH,9,FALSE)))","v":""},{"$f":"IF(A405=0,\"\",IF(VLOOKUP(A405,'plan gier'!A:T,20,FALSE)=\"\",\"\",VLOOKUP(A405,'plan gier'!A:T,20,FALSE)))","v":""},{"$f":"L280","v":0},null,null,null,null,null,null,{"$f":"UPPER(IF(P404=\"\",\"\",IF(ISTEXT(L405),L405,IF(AND(L278>0,P404>0),VLOOKUP(L278&P404&J405,'grup-puch'!I:K,3,FALSE),\"\"))))","v":""},{"$f":"IF(Q405<>\"\",CONCATENATE(VLOOKUP(Q405,zawodnicy!$A:$E,2,FALSE),\" \",VLOOKUP(Q405,zawodnicy!$A:$E,3,FALSE),\" - \",VLOOKUP(Q405,zawodnicy!$A:$E,4,FALSE)),\"\")","v":""},null,{"$f":"IF(G405=\"\",\"\",VLOOKUP(G405,zawodnicy!$A:$D,3,FALSE))","v":""}]
[null,null,null,null,null,null,null,null,null,null,{"$f":"IF(L279>32,62,\"\")","v":62},null,null,null,null,{"$f":"IF(K406=\"\",\"\",MAX(P281:P405)+1)","v":62},{"$f":"UPPER(IF(P406=\"\",\"\",IF(ISTEXT(L406),L406,IF(AND(L278>0,P406>0),VLOOKUP(L278&P406&J405,'grup-puch'!I:J,2,FALSE),\"\"))))","v":""},{"$f":"IF(Q406<>\"\",CONCATENATE(VLOOKUP(Q406,zawodnicy!$A:$E,2,FALSE),\" \",VLOOKUP(Q406,zawodnicy!$A:$E,3,FALSE),\" - \",VLOOKUP(Q406,zawodnicy!$A:$E,4,FALSE)),\"\")","v":""},null,{"$f":"IF(H405=\"\",I405,H405)","v":""},{"$f":"IF(F407=\"\",\"\",VLOOKUP(F407,zawodnicy!$A:$D,3,FALSE))","v":""}]
[{"$f":"T407","v":0},{"$f":"F405","v":""},{"$f":"G405","v":""},{"$f":"F409","v":""},{"$f":"G409","v":""},{"$f":"IF(A407=0,IF(AND(LEN(B407)>0,LEN(D407)=0),B407,IF(AND(LEN(D407)>0,LEN(B407)=0),D407,\"\")),IF((VLOOKUP(A407,'plan gier'!$Z:$AH,7,FALSE))=\"\",\"\",VLOOKUP(VLOOKUP(A407,'plan gier'!$Z:$AH,7,FALSE),zawodnicy!$A:$E,1,FALSE)))","v":""},{"$f":"IF(A407=0,IF(AND(LEN(C407)>0,LEN(E407)=0),C407,IF(AND(LEN(E407)>0,LEN(C407)=0),E407,\"\")),IF((VLOOKUP(A407,'plan gier'!$Z:$AH,8,FALSE))=\"\",\"\",VLOOKUP(VLOOKUP(A407,'plan gier'!$Z:$AH,8,FALSE),zawodnicy!$A:$E,1,FALSE)))","v":""},{"$f":"IF(A407=0,\"\",IF((VLOOKUP(A407,'plan gier'!$Z:$AH,7,FALSE))=\"\",\"\",VLOOKUP(A407,'plan gier'!$Z:$AH,9,FALSE)))","v":""},{"$f":"IF(A407=0,\"\",IF(VLOOKUP(A407,'plan gier'!A:T,20,FALSE)=\"\",\"\",VLOOKUP(A407,'plan gier'!A:T,20,FALSE)))","v":""},{"$f":"L280","v":0},null,null,null,null,null,null,{"$f":"UPPER(IF(P406=\"\",\"\",IF(ISTEXT(L407),L407,IF(AND(L278>0,P406>0),VLOOKUP(L278&P406&J405,'grup-puch'!I:K,3,FALSE),\"\"))))","v":""},{"$f":"IF(Q407<>\"\",CONCATENATE(VLOOKUP(Q407,zawodnicy!$A:$E,2,FALSE),\" \",VLOOKUP(Q407,zawodnicy!$A:$E,3,FALSE),\" - \",VLOOKUP(Q407,zawodnicy!$A:$E,4,FALSE)),\"\")","v":""},null,null,{"$f":"IF(G407=\"\",\"\",VLOOKUP(G407,zawodnicy!$A:$D,3,FALSE))","v":""}]
[null,null,null,null,null,null,null,null,null,null,{"$f":"IF(L279>62,63,\"\")","v":63},null,null,null,null,{"$f":"IF(K408=\"\",\"\",MAX(P281:P407)+1)","v":63},{"$f":"UPPER(IF(P408=\"\",\"\",IF(ISTEXT(L408),L408,IF(AND(L278>0,P408>0),VLOOKUP(L278&P408&J409,'grup-puch'!I:J,2,FALSE),\"\"))))","v":""},{"$f":"IF(Q408<>\"\",CONCATENATE(VLOOKUP(Q408,zawodnicy!$A:$E,2,FALSE),\" \",VLOOKUP(Q408,zawodnicy!$A:$E,3,FALSE),\" - \",VLOOKUP(Q408,zawodnicy!$A:$E,4,FALSE)),\"\")","v":""},null,{"$f":"IF(F409=\"\",\"\",VLOOKUP(F409,zawodnicy!$A:$D,3,FALSE))","v":""},{"$f":"IF(H407=\"\",I407,H407)","v":""}]
[{"$f":"S409","v":0},{"$f":"IF(Q408=\"\",\"\",Q408)","v":""},{"$f":"IF(Q409=\"\",\"\",Q409)","v":""},{"$f":"IF(Q410=\"\",\"\",Q410)","v":""},{"$f":"IF(Q411=\"\",\"\",Q411)","v":""},{"$f":"IF(A409=0,IF(AND(LEN(B409)>0,LEN(D409)=0),VLOOKUP(B409,zawodnicy!$A:$E,1,FALSE),IF(AND(LEN(D409)>0,LEN(B409)=0),VLOOKUP(D409,zawodnicy!$A:$E,1,FALSE),\"\")),IF((VLOOKUP(A409,'plan gier'!$Z:$AH,7,FALSE))=\"\",\"\",VLOOKUP(VLOOKUP(A409,'plan gier'!$Z:$AH,7,FALSE),zawodnicy!$A:$E,1,FALSE)))","v":""},{"$f":"IF(A409=0,IF(AND(LEN(C409)>1,LEN(E409)=0),VLOOKUP(C409,zawodnicy!$A:$E,1,FALSE),IF(AND(LEN(E409)>1,LEN(C409)=0),VLOOKUP(E409,zawodnicy!$A:$E,1,FALSE),\"\")),IF((VLOOKUP(A409,'plan gier'!$Z:$AH,8,FALSE))=\"\",\"\",VLOOKUP(VLOOKUP(A409,'plan gier'!$Z:$AH,8,FALSE),zawodnicy!$A:$E,1,FALSE)))","v":""},{"$f":"IF(A409=0,\"\",IF((VLOOKUP(A409,'plan gier'!$Z:$AH,7,FALSE))=\"\",\"\",VLOOKUP(A409,'plan gier'!$Z:$AH,9,FALSE)))","v":""},{"$f":"IF(A409=0,\"\",IF(VLOOKUP(A409,'plan gier'!A:T,20,FALSE)=\"\",\"\",VLOOKUP(A409,'plan gier'!A:T,20,FALSE)))","v":""},{"$f":"L280","v":0},null,null,null,null,null,null,{"$f":"UPPER(IF(P408=\"\",\"\",IF(ISTEXT(L409),L409,IF(AND(L278>0,P408>0),VLOOKUP(L278&P408&J409,'grup-puch'!I:K,3,FALSE),\"\"))))","v":""},{"$f":"IF(Q409<>\"\",CONCATENATE(VLOOKUP(Q409,zawodnicy!$A:$E,2,FALSE),\" \",VLOOKUP(Q409,zawodnicy!$A:$E,3,FALSE),\" - \",VLOOKUP(Q409,zawodnicy!$A:$E,4,FALSE)),\"\")","v":""},null,{"$f":"IF(G409=\"\",\"\",VLOOKUP(G409,zawodnicy!$A:$D,3,FALSE))","v":""}]
[null,null,null,null,null,null,null,null,null,null,{"$f":"IF(L279>32,64,\"\")","v":64},null,null,null,null,{"$f":"IF(K410=\"\",\"\",MAX(P281:P409)+1)","v":64},{"$f":"UPPER(IF(P410=\"\",\"\",IF(ISTEXT(L410),L410,IF(AND(L278>0,P410>0),VLOOKUP(L278&P410&J409,'grup-puch'!I:J,2,FALSE),\"\"))))","v":""},{"$f":"IF(Q410<>\"\",CONCATENATE(VLOOKUP(Q410,zawodnicy!$A:$E,2,FALSE),\" \",VLOOKUP(Q410,zawodnicy!$A:$E,3,FALSE),\" - \",VLOOKUP(Q410,zawodnicy!$A:$E,4,FALSE)),\"\")","v":""},null,{"$f":"IF(H409=\"\",I409,H409)","v":""},null,"Sędzia główny"]
[null,null,null,null,null,null,null,null,null,null,null,null,null,null,null,null,{"$f":"UPPER(IF(P410=\"\",\"\",IF(ISTEXT(L411),L411,IF(AND(L278>0,P410>0),VLOOKUP(L278&P410&J409,'grup-puch'!I:K,3,FALSE),\"\"))))","v":""},{"$f":"IF(Q411<>\"\",CONCATENATE(VLOOKUP(Q411,zawodnicy!$A:$E,2,FALSE),\" \",VLOOKUP(Q411,zawodnicy!$A:$E,3,FALSE),\" - \",VLOOKUP(Q411,zawodnicy!$A:$E,4,FALSE)),\"\")","v":""},null,null,null,{"$f":"IF(ISBLANK(dane!$D$4),\"\",dane!$D$4)","v":"Marek Krawczyk"}]
[]
[]
[]
[null,null,null,null,null,null,null,null,null,null,null,32]
[]
[null,null,null,null,null,null,null,null,null,null,{"$f":"IF(L415>16,1,\"\")","v":1},null,null,null,null,{"$f":"IF(K417=\"\",\"\",1)","v":1},{"$f":"UPPER(IF(P417=\"\",\"\",IF(ISTEXT(L417),L417,IF(AND(L414>0,P417>0),VLOOKUP(L414&P417&J418,'grup-puch'!I:J,2,FALSE),\"\"))))","v":""},{"$f":"IF(Q417<>\"\",CONCATENATE(VLOOKUP(Q417,zawodnicy!$A:$E,2,FALSE),\" \",VLOOKUP(Q417,zawodnicy!$A:$E,3,FALSE),\" - \",VLOOKUP(Q417,zawodnicy!$A:$E,4,FALSE)),\"\")","v":""},null,{"$f":"IF(F418=\"\",\"\",VLOOKUP(F418,zawodnicy!$A:$D,3,FALSE))","v":""}]
[{"$f":"S418","v":0},{"$f":"IF(Q417=\"\",\"\",Q417)","v":""},{"$f":"IF(Q418=\"\",\"\",Q418)","v":""},{"$f":"IF(Q419=\"\",\"\",Q419)","v":""},{"$f":"IF(Q420=\"\",\"\",Q420)","v":""},{"$f":"IF(A418=0,IF(AND(LEN(B418)>0,LEN(D418)=0),VLOOKUP(B418,zawodnicy!$A:$E,1,FALSE),IF(AND(LEN(D418)>0,LEN(B418)=0),VLOOKUP(D418,zawodnicy!$A:$E,1,FALSE),\"\")),IF((VLOOKUP(A418,'plan gier'!$Z:$AH,7,FALSE))=\"\",\"\",VLOOKUP(VLOOKUP(A418,'plan gier'!$Z:$AH,7,FALSE),zawodnicy!$A:$E,1,FALSE)))","v":""},{"$f":"IF(A418=0,IF(AND(LEN(C418)>1,LEN(E418)=0),VLOOKUP(C418,zawodnicy!$A:$E,1,FALSE),IF(AND(LEN(E418)>1,LEN(C418)=0),VLOOKUP(E418,zawodnicy!$A:$E,1,FALSE),\"\")),IF((VLOOKUP(A418,'plan gier'!$Z:$AH,8,FALSE))=\"\",\"\",VLOOKUP(VLOOKUP(A418,'plan gier'!$Z:$AH,8,FALSE),zawodnicy!$A:$E,1,FALSE)))","v":""},{"$f":"IF(A418=0,\"\",IF((VLOOKUP(A418,'plan gier'!$Z:$AH,7,FALSE))=\"\",\"\",VLOOKUP(A418,'plan gier'!$Z:$AH,9,FALSE)))","v":""},{"$f":"IF(A418=0,\"\",IF(VLOOKUP(A418,'plan gier'!A:T,20,FALSE)=\"\",\"\",VLOOKUP(A418,'plan gier'!A:T,20,FALSE)))","v":""},{"$f":"L416","v":0},null,null,null,null,null,null,{"$f":"UPPER(IF(P417=\"\",\"\",IF(ISTEXT(L418),L418,IF(AND(L414>0,P417>0),VLOOKUP(L414&P417&J418,'grup-puch'!I:K,3,FALSE),\"\"))))","v":""},{"$f":"IF(Q418<>\"\",CONCATENATE(VLOOKUP(Q418,zawodnicy!$A:$E,2,FALSE),\" \",VLOOKUP(Q418,zawodnicy!$A:$E,3,FALSE),\" - \",VLOOKUP(Q418,zawodnicy!$A:$E,4,FALSE)),\"\")","v":""},null,{"$f":"IF(G418=\"\",\"\",VLOOKUP(G418,zawodnicy!$A:$D,3,FALSE))","v":""}]
[null,null,null,null,null,null,null,null,null,null,{"$f":"IF(L415>31,2,\"\")","v":2},null,null,null,null,{"$f":"IF(K419=\"\",\"\",2)","v":2},{"$f":"UPPER(IF(P419=\"\",\"\",IF(ISTEXT(L419),L419,IF(AND(L414>0,P419>0),VLOOKUP(L414&P419&J418,'grup-puch'!I:J,2,FALSE),\"\"))))","v":""},{"$f":"IF(Q419<>\"\",CONCATENATE(VLOOKUP(Q419,zawodnicy!$A:$E,2,FALSE),\" \",VLOOKUP(Q419,zawodnicy!$A:$E,3,FALSE),\" - \",VLOOKUP(Q419,zawodnicy!$A:$E,4,FALSE)),\"\")","v":""},null,{"$f":"IF(H418=\"\",I418,H418)","v":""},{"$f":"IF(F420=\"\",\"\",VLOOKUP(F420,zawodnicy!$A:$D,3,FALSE))","v":""}]
[{"$f":"T420","v":0},{"$f":"F418","v":""},{"$f":"G418","v":""},{"$f":"F422","v":""},{"$f":"G422","v":""},{"$f":"IF(A420=0,IF(AND(LEN(B420)>0,LEN(D420)=0),B420,IF(AND(LEN(D420)>0,LEN(B420)=0),D420,\"\")),IF((VLOOKUP(A420,'plan gier'!$Z:$AH,7,FALSE))=\"\",\"\",VLOOKUP(VLOOKUP(A420,'plan gier'!$Z:$AH,7,FALSE),zawodnicy!$A:$E,1,FALSE)))","v":""},{"$f":"IF(A420=0,IF(AND(LEN(C420)>0,LEN(E420)=0),C420,IF(AND(LEN(E420)>0,LEN(C420)=0),E420,\"\")),IF((VLOOKUP(A420,'plan gier'!$Z:$AH,8,FALSE))=\"\",\"\",VLOOKUP(VLOOKUP(A420,'plan gier'!$Z:$AH,8,FALSE),zawodnicy!$A:$E,1,FALSE)))","v":""},{"$f":"IF(A420=0,\"\",IF((VLOOKUP(A420,'plan gier'!$Z:$AH,7,FALSE))=\"\",\"\",VLOOKUP(A420,'plan gier'!$Z:$AH,9,FALSE)))","v":""},{"$f":"IF(A420=0,\"\",IF(VLOOKUP(A420,'plan gier'!A:T,20,FALSE)=\"\",\"\",VLOOKUP(A420,'plan gier'!A:T,20,FALSE)))","v":""},{"$f":"L416","v":0},null,null,null,null,null,null,{"$f":"UPPER(IF(P419=\"\",\"\",IF(ISTEXT(L420),L420,IF(AND(L414>0,P419>0),VLOOKUP(L414&P419&J418,'grup-puch'!I:K,3,FALSE),\"\"))))","v":""},{"$f":"IF(Q420<>\"\",CONCATENATE(VLOOKUP(Q420,zawodnicy!$A:$E,2,FALSE),\" \",VLOOKUP(Q420,zawodnicy!$A:$E,3,FALSE),\" - \",VLOOKUP(Q420,zawodnicy!$A:$E,4,FALSE)),\"\")","v":""},null,null,{"$f":"IF(G420=\"\",\"\",VLOOKUP(G420,zawodnicy!$A:$D,3,FALSE))","v":""}]
[null,null,null,null,null,null,null,null,null,null,{"$f":"IF(L415>16,3,\"\")","v":3},null,null,null,null,{"$f":"IF(K421=\"\",\"\",MAX(P417:P420)+1)","v":3},{"$f":"UPPER(IF(P421=\"\",\"\",IF(ISTEXT(L421),L421,IF(AND(L414>0,P421>0),VLOOKUP(L414&P421&J422,'grup-puch'!I:J,2,FALSE),\"\"))))","v":""},{"$f":"IF(Q421<>\"\",CONCATENATE(VLOOKUP(Q421,zawodnicy!$A:$E,2,FALSE),\" \",VLOOKUP(Q421,zawodnicy!$A:$E,3,FALSE),\" - \",VLOOKUP(Q421,zawodnicy!$A:$E,4,FALSE)),\"\")","v":""},null,{"$f":"IF(F422=\"\",\"\",VLOOKUP(F422,zawodnicy!$A:$D,3,FALSE))","v":""},{"$f":"IF(H420=\"\",I420,H420)","v":""}]
[{"$f":"S422","v":0},{"$f":"IF(Q421=\"\",\"\",Q421)","v":""},{"$f":"IF(Q422=\"\",\"\",Q422)","v":""},{"$f":"IF(Q423=\"\",\"\",Q423)","v":""},{"$f":"IF(Q424=\"\",\"\",Q424)","v":""},{"$f":"IF(A422=0,IF(AND(LEN(B422)>0,LEN(D422)=0),VLOOKUP(B422,zawodnicy!$A:$E,1,FALSE),IF(AND(LEN(D422)>0,LEN(B422)=0),VLOOKUP(D422,zawodnicy!$A:$E,1,FALSE),\"\")),IF((VLOOKUP(A422,'plan gier'!$Z:$AH,7,FALSE))=\"\",\"\",VLOOKUP(VLOOKUP(A422,'plan gier'!$Z:$AH,7,FALSE),zawodnicy!$A:$E,1,FALSE)))","v":""},{"$f":"IF(A422=0,IF(AND(LEN(C422)>1,LEN(E422)=0),VLOOKUP(C422,zawodnicy!$A:$E,1,FALSE),IF(AND(LEN(E422)>1,LEN(C422)=0),VLOOKUP(E422,zawodnicy!$A:$E,1,FALSE),\"\")),IF((VLOOKUP(A422,'plan gier'!$Z:$AH,8,FALSE))=\"\",\"\",VLOOKUP(VLOOKUP(A422,'plan gier'!$Z:$AH,8,FALSE),zawodnicy!$A:$E,1,FALSE)))","v":""},{"$f":"IF(A422=0,\"\",IF((VLOOKUP(A422,'plan gier'!$Z:$AH,7,FALSE))=\"\",\"\",VLOOKUP(A422,'plan gier'!$Z:$AH,9,FALSE)))","v":""},{"$f":"IF(A422=0,\"\",IF(VLOOKUP(A422,'plan gier'!A:T,20,FALSE)=\"\",\"\",VLOOKUP(A422,'plan gier'!A:T,20,FALSE)))","v":""},{"$f":"L416","v":0},null,null,null,null,null,null,{"$f":"UPPER(IF(P421=\"\",\"\",IF(ISTEXT(L422),L422,IF(AND(L414>0,P421>0),VLOOKUP(L414&P421&J422,'grup-puch'!I:K,3,FALSE),\"\"))))","v":""},{"$f":"IF(Q422<>\"\",CONCATENATE(VLOOKUP(Q422,zawodnicy!$A:$E,2,FALSE),\" \",VLOOKUP(Q422,zawodnicy!$A:$E,3,FALSE),\" - \",VLOOKUP(Q422,zawodnicy!$A:$E,4,FALSE)),\"\")","v":""},null,{"$f":"IF(G422=\"\",\"\",VLOOKUP(G422,zawodnicy!$A:$D,3,FALSE))","v":""}]
[null,null,null,null,null,null,null,null,null,null,{"$f":"IF(L415>23,4,\"\")","v":4},null,null,null,null,{"$f":"IF(K423=\"\",\"\",MAX(P417:P422)+1)","v":4},{"$f":"UPPER(IF(P423=\"\",\"\",IF(ISTEXT(L423),L423,IF(AND(L414>0,P423>0),VLOOKUP(L414&P423&J422,'grup-puch'!I:J,2,FALSE),\"\"))))","v":""},{"$f":"IF(Q423<>\"\",CONCATENATE(VLOOKUP(Q423,zawodnicy!$A:$E,2,FALSE),\" \",VLOOKUP(Q423,zawodnicy!$A:$E,3,FALSE),\" - \",VLOOKUP(Q423,zawodnicy!$A:$E,4,FALSE)),\"\")","v":""},null,{"$f":"IF(H422=\"\",I422,H422)","v":""},null,{"$f":"IF(F424=\"\",\"\",VLOOKUP(F424,zawodnicy!$A:$D,3,FALSE))","v":""}]
[{"$f":"U424","v":0},{"$f":"F420","v":""},{"$f":"G420","v":""},{"$f":"F428","v":""},{"$f":"G428","v":""},{"$f":"IF(A424=0,IF(AND(LEN(B424)>0,LEN(D424)=0),B424,IF(AND(LEN(D424)>0,LEN(B424)=0),D424,\"\")),IF((VLOOKUP(A424,'plan gier'!$Z:$AH,7,FALSE))=\"\",\"\",VLOOKUP(VLOOKUP(A424,'plan gier'!$Z:$AH,7,FALSE),zawodnicy!$A:$E,1,FALSE)))","v":""},{"$f":"IF(A424=0,IF(AND(LEN(C424)>0,LEN(E424)=0),C424,IF(AND(LEN(E424)>0,LEN(C424)=0),E424,\"\")),IF((VLOOKUP(A424,'plan gier'!$Z:$AH,8,FALSE))=\"\",\"\",VLOOKUP(VLOOKUP(A424,'plan gier'!$Z:$AH,8,FALSE),zawodnicy!$A:$E,1,FALSE)))","v":""},{"$f":"IF(A424=0,\"\",IF((VLOOKUP(A424,'plan gier'!$Z:$AH,7,FALSE))=\"\",\"\",VLOOKUP(A424,'plan gier'!$Z:$AH,9,FALSE)))","v":""},{"$f":"IF(A424=0,\"\",IF(VLOOKUP(A424,'plan gier'!A:T,20,FALSE)=\"\",\"\",VLOOKUP(A424,'plan gier'!A:T,20,FALSE)))","v":""},{"$f":"L416","v":0},null,null,null,null,null,null,{"$f":"UPPER(IF(P423=\"\",\"\",IF(ISTEXT(L424),L424,IF(AND(L414>0,P423>0),VLOOKUP(L414&P423&J422,'grup-puch'!I:K,3,FALSE),\"\"))))","v":""},{"$f":"IF(Q424<>\"\",CONCATENATE(VLOOKUP(Q424,zawodnicy!$A:$E,2,FALSE),\" \",VLOOKUP(Q424,zawodnicy!$A:$E,3,FALSE),\" - \",VLOOKUP(Q424,zawodnicy!$A:$E,4,FALSE)),\"\")","v":""},null,null,null,{"$f":"IF(G424=\"\",\"\",VLOOKUP(G424,zawodnicy!$A:$D,3,FALSE))","v":""}]
[null,null,null,null,null,null,null,null,null,null,{"$f":"IF(L415>16,5,\"\")","v":5},null,null,null,null,{"$f":"IF(K425=\"\",\"\",MAX(P417:P424)+1)","v":5},{"$f":"UPPER(IF(P425=\"\",\"\",IF(ISTEXT(L425),L425,IF(AND(L414>0,P425>0),VLOOKUP(L414&P425&J426,'grup-puch'!I:J,2,FALSE),\"\"))))","v":""},{"$f":"IF(Q425<>\"\",CONCATENATE(VLOOKUP(Q425,zawodnicy!$A:$E,2,FALSE),\" \",VLOOKUP(Q425,zawodnicy!$A:$E,3,FALSE),\" - \",VLOOKUP(Q425,zawodnicy!$A:$E,4,FALSE)),\"\")","v":""},null,{"$f":"IF(F426=\"\",\"\",VLOOKUP(F426,zawodnicy!$A:$D,3,FALSE))","v":""},null,{"$f":"IF(H424=\"\",I424,H424)","v":""}]
[{"$f":"S426","v":0},{"$f":"IF(Q425=\"\",\"\",Q425)","v":""},{"$f":"IF(Q426=\"\",\"\",Q426)","v":""},{"$f":"IF(Q427=\"\",\"\",Q427)","v":""},{"$f":"IF(Q428=\"\",\"\",Q428)","v":""},{"$f":"IF(A426=0,IF(AND(LEN(B426)>0,LEN(D426)=0),VLOOKUP(B426,zawodnicy!$A:$E,1,FALSE),IF(AND(LEN(D426)>0,LEN(B426)=0),VLOOKUP(D426,zawodnicy!$A:$E,1,FALSE),\"\")),IF((VLOOKUP(A426,'plan gier'!$Z:$AH,7,FALSE))=\"\",\"\",VLOOKUP(VLOOKUP(A426,'plan gier'!$Z:$AH,7,FALSE),zawodnicy!$A:$E,1,FALSE)))","v":""},{"$f":"IF(A426=0,IF(AND(LEN(C426)>1,LEN(E426)=0),VLOOKUP(C426,zawodnicy!$A:$E,1,FALSE),IF(AND(LEN(E426)>1,LEN(C426)=0),VLOOKUP(E426,zawodnicy!$A:$E,1,FALSE),\"\")),IF((VLOOKUP(A426,'plan gier'!$Z:$AH,8,FALSE))=\"\",\"\",VLOOKUP(VLOOKUP(A426,'plan gier'!$Z:$AH,8,FALSE),zawodnicy!$A:$E,1,FALSE)))","v":""},{"$f":"IF(A426=0,\"\",IF((VLOOKUP(A426,'plan gier'!$Z:$AH,7,FALSE))=\"\",\"\",VLOOKUP(A426,'plan gier'!$Z:$AH,9,FALSE)))","v":""},{"$f":"IF(A426=0,\"\",IF(VLOOKUP(A426,'plan gier'!A:T,20,FALSE)=\"\",\"\",VLOOKUP(A426,'plan gier'!A:T,20,FALSE)))","v":""},{"$f":"L416","v":0},null,null,null,null,null,null,{"$f":"UPPER(IF(P425=\"\",\"\",IF(ISTEXT(L426),L426,IF(AND(L414>0,P425>0),VLOOKUP(L414&P425&J426,'grup-puch'!I:K,3,FALSE),\"\"))))","v":""},{"$f":"IF(Q426<>\"\",CONCATENATE(VLOOKUP(Q426,zawodnicy!$A:$E,2,FALSE),\" \",VLOOKUP(Q426,zawodnicy!$A:$E,3,FALSE),\" - \",VLOOKUP(Q426,zawodnicy!$A:$E,4,FALSE)),\"\")","v":""},null,{"$f":"IF(G426=\"\",\"\",VLOOKUP(G426,zawodnicy!$A:$D,3,FALSE))","v":""}]
[null,null,null,null,null,null,null,null,null,null,{"$f":"IF(L415>27,6,\"\")","v":6},null,null,null,null,{"$f":"IF(K427=\"\",\"\",MAX(P417:P426)+1)","v":6},{"$f":"UPPER(IF(P427=\"\",\"\",IF(ISTEXT(L427),L427,IF(AND(L414>0,P427>0),VLOOKUP(L414&P427&J426,'grup-puch'!I:J,2,FALSE),\"\"))))","v":""},{"$f":"IF(Q427<>\"\",CONCATENATE(VLOOKUP(Q427,zawodnicy!$A:$E,2,FALSE),\" \",VLOOKUP(Q427,zawodnicy!$A:$E,3,FALSE),\" - \",VLOOKUP(Q427,zawodnicy!$A:$E,4,FALSE)),\"\")","v":""},null,{"$f":"IF(H426=\"\",I426,H426)","v":""},{"$f":"IF(F428=\"\",\"\",VLOOKUP(F428,zawodnicy!$A:$D,3,FALSE))","v":""}]
[{"$f":"T428","v":0},{"$f":"F426","v":""},{"$f":"G426","v":""},{"$f":"F430","v":""},{"$f":"G430","v":""},{"$f":"IF(A428=0,IF(AND(LEN(B428)>0,LEN(D428)=0),B428,IF(AND(LEN(D428)>0,LEN(B428)=0),D428,\"\")),IF((VLOOKUP(A428,'plan gier'!$Z:$AH,7,FALSE))=\"\",\"\",VLOOKUP(VLOOKUP(A428,'plan gier'!$Z:$AH,7,FALSE),zawodnicy!$A:$E,1,FALSE)))","v":""},{"$f":"IF(A428=0,IF(AND(LEN(C428)>0,LEN(E428)=0),C428,IF(AND(LEN(E428)>0,LEN(C428)=0),E428,\"\")),IF((VLOOKUP(A428,'plan gier'!$Z:$AH,8,FALSE))=\"\",\"\",VLOOKUP(VLOOKUP(A428,'plan gier'!$Z:$AH,8,FALSE),zawodnicy!$A:$E,1,FALSE)))","v":""},{"$f":"IF(A428=0,\"\",IF((VLOOKUP(A428,'plan gier'!$Z:$AH,7,FALSE))=\"\",\"\",VLOOKUP(A428,'plan gier'!$Z:$AH,9,FALSE)))","v":""},{"$f":"IF(A428=0,\"\",IF(VLOOKUP(A428,'plan gier'!A:T,20,FALSE)=\"\",\"\",VLOOKUP(A428,'plan gier'!A:T,20,FALSE)))","v":""},{"$f":"L416","v":0},null,null,null,null,null,null,{"$f":"UPPER(IF(P427=\"\",\"\",IF(ISTEXT(L428),L428,IF(AND(L414>0,P427>0),VLOOKUP(L414&P427&J426,'grup-puch'!I:K,3,FALSE),\"\"))))","v":""},{"$f":"IF(Q428<>\"\",CONCATENATE(VLOOKUP(Q428,zawodnicy!$A:$E,2,FALSE),\" \",VLOOKUP(Q428,zawodnicy!$A:$E,3,FALSE),\" - \",VLOOKUP(Q428,zawodnicy!$A:$E,4,FALSE)),\"\")","v":""},null,null,{"$f":"IF(G428=\"\",\"\",VLOOKUP(G428,zawodnicy!$A:$D,3,FALSE))","v":""}]
[null,null,null,null,null,null,null,null,null,null,{"$f":"IF(L415>16,7,\"\")","v":7},null,null,null,null,{"$f":"IF(K429=\"\",\"\",MAX(P417:P428)+1)","v":7},{"$f":"UPPER(IF(P429=\"\",\"\",IF(ISTEXT(L429),L429,IF(AND(L414>0,P429>0),VLOOKUP(L414&P429&J430,'grup-puch'!I:J,2,FALSE),\"\"))))","v":""},{"$f":"IF(Q429<>\"\",CONCATENATE(VLOOKUP(Q429,zawodnicy!$A:$E,2,FALSE),\" \",VLOOKUP(Q429,zawodnicy!$A:$E,3,FALSE),\" - \",VLOOKUP(Q429,zawodnicy!$A:$E,4,FALSE)),\"\")","v":""},null,{"$f":"IF(F430=\"\",\"\",VLOOKUP(F430,zawodnicy!$A:$D,3,FALSE))","v":""},{"$f":"IF(H428=\"\",I428,H428)","v":""}]
[{"$f":"S430","v":0},{"$f":"IF(Q429=\"\",\"\",Q429)","v":""},{"$f":"IF(Q430=\"\",\"\",Q430)","v":""},{"$f":"IF(Q431=\"\",\"\",Q431)","v":""},{"$f":"IF(Q432=\"\",\"\",Q432)","v":""},{"$f":"IF(A430=0,IF(AND(LEN(B430)>0,LEN(D430)=0),VLOOKUP(B430,zawodnicy!$A:$E,1,FALSE),IF(AND(LEN(D430)>0,LEN(B430)=0),VLOOKUP(D430,zawodnicy!$A:$E,1,FALSE),\"\")),IF((VLOOKUP(A430,'plan gier'!$Z:$AH,7,FALSE))=\"\",\"\",VLOOKUP(VLOOKUP(A430,'plan gier'!$Z:$AH,7,FALSE),zawodnicy!$A:$E,1,FALSE)))","v":""},{"$f":"IF(A430=0,IF(AND(LEN(C430)>1,LEN(E430)=0),VLOOKUP(C430,zawodnicy!$A:$E,1,FALSE),IF(AND(LEN(E430)>1,LEN(C430)=0),VLOOKUP(E430,zawodnicy!$A:$E,1,FALSE),\"\")),IF((VLOOKUP(A430,'plan gier'!$Z:$AH,8,FALSE))=\"\",\"\",VLOOKUP(VLOOKUP(A430,'plan gier'!$Z:$AH,8,FALSE),zawodnicy!$A:$E,1,FALSE)))","v":""},{"$f":"IF(A430=0,\"\",IF((VLOOKUP(A430,'plan gier'!$Z:$AH,7,FALSE))=\"\",\"\",VLOOKUP(A430,'plan gier'!$Z:$AH,9,FALSE)))","v":""},{"$f":"IF(A430=0,\"\",IF(VLOOKUP(A430,'plan gier'!A:T,20,FALSE)=\"\",\"\",VLOOKUP(A430,'plan gier'!A:T,20,FALSE)))","v":""},{"$f":"L416","v":0},null,null,null,null,null,null,{"$f":"UPPER(IF(P429=\"\",\"\",IF(ISTEXT(L430),L430,IF(AND(L414>0,P429>0),VLOOKUP(L414&P429&J430,'grup-puch'!I:K,3,FALSE),\"\"))))","v":""},{"$f":"IF(Q430<>\"\",CONCATENATE(VLOOKUP(Q430,zawodnicy!$A:$E,2,FALSE),\" \",VLOOKUP(Q430,zawodnicy!$A:$E,3,FALSE),\" - \",VLOOKUP(Q430,zawodnicy!$A:$E,4,FALSE)),\"\")","v":""},null,{"$f":"IF(G430=\"\",\"\",VLOOKUP(G430,zawodnicy!$A:$D,3,FALSE))","v":""}]
[null,null,null,null,null,null,null,null,null,null,{"$f":"IF(L415>19,8,\"\")","v":8},null,null,null,null,{"$f":"IF(K431=\"\",\"\",MAX(P417:P430)+1)","v":8},{"$f":"UPPER(IF(P431=\"\",\"\",IF(ISTEXT(L431),L431,IF(AND(L414>0,P431>0),VLOOKUP(L414&P431&J430,'grup-puch'!I:J,2,FALSE),\"\"))))","v":""},{"$f":"IF(Q431<>\"\",CONCATENATE(VLOOKUP(Q431,zawodnicy!$A:$E,2,FALSE),\" \",VLOOKUP(Q431,zawodnicy!$A:$E,3,FALSE),\" - \",VLOOKUP(Q431,zawodnicy!$A:$E,4,FALSE)),\"\")","v":""},null,{"$f":"IF(H430=\"\",I430,H430)","v":""},null,null,{"$f":"IF(F432=\"\",\"\",VLOOKUP(F432,zawodnicy!$A:$D,3,FALSE))","v":""}]
[{"$f":"V432","v":0},{"$f":"F424","v":""},{"$f":"G424","v":""},{"$f":"F440","v":""},{"$f":"G440","v":""},{"$f":"IF(A432=0,IF(AND(LEN(B432)>0,LEN(D432)=0),B432,IF(AND(LEN(D432)>0,LEN(B432)=0),D432,\"\")),IF((VLOOKUP(A432,'plan gier'!$Z:$AH,7,FALSE))=\"\",\"\",VLOOKUP(VLOOKUP(A432,'plan gier'!$Z:$AH,7,FALSE),zawodnicy!$A:$E,1,FALSE)))","v":""},{"$f":"IF(A432=0,IF(AND(LEN(C432)>0,LEN(E432)=0),C432,IF(AND(LEN(E432)>0,LEN(C432)=0),E432,\"\")),IF((VLOOKUP(A432,'plan gier'!$Z:$AH,8,FALSE))=\"\",\"\",VLOOKUP(VLOOKUP(A432,'plan gier'!$Z:$AH,8,FALSE),zawodnicy!$A:$E,1,FALSE)))","v":""},{"$f":"IF(A432=0,\"\",IF((VLOOKUP(A432,'plan gier'!$Z:$AH,7,FALSE))=\"\",\"\",VLOOKUP(A432,'plan gier'!$Z:$AH,9,FALSE)))","v":""},{"$f":"IF(A432=0,\"\",IF(VLOOKUP(A432,'plan gier'!A:T,20,FALSE)=\"\",\"\",VLOOKUP(A432,'plan gier'!A:T,20,FALSE)))","v":""},{"$f":"L416","v":0},null,null,null,null,null,null,{"$f":"UPPER(IF(P431=\"\",\"\",IF(ISTEXT(L432),L432,IF(AND(L414>0,P431>0),VLOOKUP(L414&P431&J430,'grup-puch'!I:K,3,FALSE),\"\"))))","v":""},{"$f":"IF(Q432<>\"\",CONCATENATE(VLOOKUP(Q432,zawodnicy!$A:$E,2,FALSE),\" \",VLOOKUP(Q432,zawodnicy!$A:$E,3,FALSE),\" - \",VLOOKUP(Q432,zawodnicy!$A:$E,4,FALSE)),\"\")","v":""},null,null,null,null,{"$f":"IF(G432=\"\",\"\",VLOOKUP(G432,zawodnicy!$A:$D,3,FALSE))","v":""}]
[null,null,null,null,null,null,null,null,null,null,{"$f":"IF(L415>16,9,\"\")","v":9},null,null,null,null,{"$f":"IF(K433=\"\",\"\",MAX(P417:P432)+1)","v":9},{"$f":"UPPER(IF(P433=\"\",\"\",IF(ISTEXT(L433),L433,IF(AND(L414>0,P433>0),VLOOKUP(L414&P433&J434,'grup-puch'!I:J,2,FALSE),\"\"))))","v":""},{"$f":"IF(Q433<>\"\",CONCATENATE(VLOOKUP(Q433,zawodnicy!$A:$E,2,FALSE),\" \",VLOOKUP(Q433,zawodnicy!$A:$E,3,FALSE),\" - \",VLOOKUP(Q433,zawodnicy!$A:$E,4,FALSE)),\"\")","v":""},null,{"$f":"IF(F434=\"\",\"\",VLOOKUP(F434,zawodnicy!$A:$D,3,FALSE))","v":""},null,null,{"$f":"IF(H432=\"\",I432,H432)","v":""}]
[{"$f":"S434","v":0},{"$f":"IF(Q433=\"\",\"\",Q433)","v":""},{"$f":"IF(Q434=\"\",\"\",Q434)","v":""},{"$f":"IF(Q435=\"\",\"\",Q435)","v":""},{"$f":"IF(Q436=\"\",\"\",Q436)","v":""},{"$f":"IF(A434=0,IF(AND(LEN(B434)>0,LEN(D434)=0),VLOOKUP(B434,zawodnicy!$A:$E,1,FALSE),IF(AND(LEN(D434)>0,LEN(B434)=0),VLOOKUP(D434,zawodnicy!$A:$E,1,FALSE),\"\")),IF((VLOOKUP(A434,'plan gier'!$Z:$AH,7,FALSE))=\"\",\"\",VLOOKUP(VLOOKUP(A434,'plan gier'!$Z:$AH,7,FALSE),zawodnicy!$A:$E,1,FALSE)))","v":""},{"$f":"IF(A434=0,IF(AND(LEN(C434)>1,LEN(E434)=0),VLOOKUP(C434,zawodnicy!$A:$E,1,FALSE),IF(AND(LEN(E434)>1,LEN(C434)=0),VLOOKUP(E434,zawodnicy!$A:$E,1,FALSE),\"\")),IF((VLOOKUP(A434,'plan gier'!$Z:$AH,8,FALSE))=\"\",\"\",VLOOKUP(VLOOKUP(A434,'plan gier'!$Z:$AH,8,FALSE),zawodnicy!$A:$E,1,FALSE)))","v":""},{"$f":"IF(A434=0,\"\",IF((VLOOKUP(A434,'plan gier'!$Z:$AH,7,FALSE))=\"\",\"\",VLOOKUP(A434,'plan gier'!$Z:$AH,9,FALSE)))","v":""},{"$f":"IF(A434=0,\"\",IF(VLOOKUP(A434,'plan gier'!A:T,20,FALSE)=\"\",\"\",VLOOKUP(A434,'plan gier'!A:T,20,FALSE)))","v":""},{"$f":"L416","v":0},null,null,null,null,null,null,{"$f":"UPPER(IF(P433=\"\",\"\",IF(ISTEXT(L434),L434,IF(AND(L414>0,P433>0),VLOOKUP(L414&P433&J434,'grup-puch'!I:K,3,FALSE),\"\"))))","v":""},{"$f":"IF(Q434<>\"\",CONCATENATE(VLOOKUP(Q434,zawodnicy!$A:$E,2,FALSE),\" \",VLOOKUP(Q434,zawodnicy!$A:$E,3,FALSE),\" - \",VLOOKUP(Q434,zawodnicy!$A:$E,4,FALSE)),\"\")","v":""},null,{"$f":"IF(G434=\"\",\"\",VLOOKUP(G434,zawodnicy!$A:$D,3,FALSE))","v":""}]
[null,null,null,null,null,null,null,null,null,null,{"$f":"IF(L415>29,10,\"\")","v":10},null,null,null,null,{"$f":"IF(K435=\"\",\"\",MAX(P417:P434)+1)","v":10},{"$f":"UPPER(IF(P435=\"\",\"\",IF(ISTEXT(L435),L435,IF(AND(L414>0,P435>0),VLOOKUP(L414&P435&J434,'grup-puch'!I:J,2,FALSE),\"\"))))","v":""},{"$f":"IF(Q435<>\"\",CONCATENATE(VLOOKUP(Q435,zawodnicy!$A:$E,2,FALSE),\" \",VLOOKUP(Q435,zawodnicy!$A:$E,3,FALSE),\" - \",VLOOKUP(Q435,zawodnicy!$A:$E,4,FALSE)),\"\")","v":""},null,{"$f":"IF(H434=\"\",I434,H434)","v":""},{"$f":"IF(F436=\"\",\"\",VLOOKUP(F436,zawodnicy!$A:$D,3,FALSE))","v":""}]
[{"$f":"T436","v":0},{"$f":"F434","v":""},{"$f":"G434","v":""},{"$f":"F438","v":""},{"$f":"G438","v":""},{"$f":"IF(A436=0,IF(AND(LEN(B436)>0,LEN(D436)=0),B436,IF(AND(LEN(D436)>0,LEN(B436)=0),D436,\"\")),IF((VLOOKUP(A436,'plan gier'!$Z:$AH,7,FALSE))=\"\",\"\",VLOOKUP(VLOOKUP(A436,'plan gier'!$Z:$AH,7,FALSE),zawodnicy!$A:$E,1,FALSE)))","v":""},{"$f":"IF(A436=0,IF(AND(LEN(C436)>0,LEN(E436)=0),C436,IF(AND(LEN(E436)>0,LEN(C436)=0),E436,\"\")),IF((VLOOKUP(A436,'plan gier'!$Z:$AH,8,FALSE))=\"\",\"\",VLOOKUP(VLOOKUP(A436,'plan gier'!$Z:$AH,8,FALSE),zawodnicy!$A:$E,1,FALSE)))","v":""},{"$f":"IF(A436=0,\"\",IF((VLOOKUP(A436,'plan gier'!$Z:$AH,7,FALSE))=\"\",\"\",VLOOKUP(A436,'plan gier'!$Z:$AH,9,FALSE)))","v":""},{"$f":"IF(A436=0,\"\",IF(VLOOKUP(A436,'plan gier'!A:T,20,FALSE)=\"\",\"\",VLOOKUP(A436,'plan gier'!A:T,20,FALSE)))","v":""},{"$f":"L416","v":0},null,null,null,null,null,null,{"$f":"UPPER(IF(P435=\"\",\"\",IF(ISTEXT(L436),L436,IF(AND(L414>0,P435>0),VLOOKUP(L414&P435&J434,'grup-puch'!I:K,3,FALSE),\"\"))))","v":""},{"$f":"IF(Q436<>\"\",CONCATENATE(VLOOKUP(Q436,zawodnicy!$A:$E,2,FALSE),\" \",VLOOKUP(Q436,zawodnicy!$A:$E,3,FALSE),\" - \",VLOOKUP(Q436,zawodnicy!$A:$E,4,FALSE)),\"\")","v":""},null,null,{"$f":"IF(G436=\"\",\"\",VLOOKUP(G436,zawodnicy!$A:$D,3,FALSE))","v":""}]
[null,null,null,null,null,null,null,null,null,null,{"$f":"IF(L415>16,11,\"\")","v":11},null,null,null,null,{"$f":"IF(K437=\"\",\"\",MAX(P417:P436)+1)","v":11},{"$f":"UPPER(IF(P437=\"\",\"\",IF(ISTEXT(L437),L437,IF(AND(L414>0,P437>0),VLOOKUP(L414&P437&J438,'grup-puch'!I:J,2,FALSE),\"\"))))","v":""},{"$f":"IF(Q437<>\"\",CONCATENATE(VLOOKUP(Q437,zawodnicy!$A:$E,2,FALSE),\" \",VLOOKUP(Q437,zawodnicy!$A:$E,3,FALSE),\" - \",VLOOKUP(Q437,zawodnicy!$A:$E,4,FALSE)),\"\")","v":""},null,{"$f":"IF(F438=\"\",\"\",VLOOKUP(F438,zawodnicy!$A:$D,3,FALSE))","v":""},{"$f":"IF(H436=\"\",I436,H436)","v":""}]
[{"$f":"S438","v":0},{"$f":"IF(Q437=\"\",\"\",Q437)","v":""},{"$f":"IF(Q438=\"\",\"\",Q438)","v":""},{"$f":"IF(Q439=\"\",\"\",Q439)","v":""},{"$f":"IF(Q440=\"\",\"\",Q440)","v":""},{"$f":"IF(A438=0,IF(AND(LEN(B438)>0,LEN(D438)=0),VLOOKUP(B438,zawodnicy!$A:$E,1,FALSE),IF(AND(LEN(D438)>0,LEN(B438)=0),VLOOKUP(D438,zawodnicy!$A:$E,1,FALSE),\"\")),IF((VLOOKUP(A438,'plan gier'!$Z:$AH,7,FALSE))=\"\",\"\",VLOOKUP(VLOOKUP(A438,'plan gier'!$Z:$AH,7,FALSE),zawodnicy!$A:$E,1,FALSE)))","v":""},{"$f":"IF(A438=0,IF(AND(LEN(C438)>1,LEN(E438)=0),VLOOKUP(C438,zawodnicy!$A:$E,1,FALSE),IF(AND(LEN(E438)>1,LEN(C438)=0),VLOOKUP(E438,zawodnicy!$A:$E,1,FALSE),\"\")),IF((VLOOKUP(A438,'plan gier'!$Z:$AH,8,FALSE))=\"\",\"\",VLOOKUP(VLOOKUP(A438,'plan gier'!$Z:$AH,8,FALSE),zawodnicy!$A:$E,1,FALSE)))","v":""},{"$f":"IF(A438=0,\"\",IF((VLOOKUP(A438,'plan gier'!$Z:$AH,7,FALSE))=\"\",\"\",VLOOKUP(A438,'plan gier'!$Z:$AH,9,FALSE)))","v":""},{"$f":"IF(A438=0,\"\",IF(VLOOKUP(A438,'plan gier'!A:T,20,FALSE)=\"\",\"\",VLOOKUP(A438,'plan gier'!A:T,20,FALSE)))","v":""},{"$f":"L416","v":0},null,null,null,null,null,null,{"$f":"UPPER(IF(P437=\"\",\"\",IF(ISTEXT(L438),L438,IF(AND(L414>0,P437>0),VLOOKUP(L414&P437&J438,'grup-puch'!I:K,3,FALSE),\"\"))))","v":""},{"$f":"IF(Q438<>\"\",CONCATENATE(VLOOKUP(Q438,zawodnicy!$A:$E,2,FALSE),\" \",VLOOKUP(Q438,zawodnicy!$A:$E,3,FALSE),\" - \",VLOOKUP(Q438,zawodnicy!$A:$E,4,FALSE)),\"\")","v":""},null,{"$f":"IF(G438=\"\",\"\",VLOOKUP(G438,zawodnicy!$A:$D,3,FALSE))","v":""}]
[null,null,null,null,null,null,null,null,null,null,{"$f":"IF(L415>21,12,\"\")","v":12},null,null,null,null,{"$f":"IF(K439=\"\",\"\",MAX(P417:P438)+1)","v":12},{"$f":"UPPER(IF(P439=\"\",\"\",IF(ISTEXT(L439),L439,IF(AND(L414>0,P439>0),VLOOKUP(L414&P439&J438,'grup-puch'!I:J,2,FALSE),\"\"))))","v":""},{"$f":"IF(Q439<>\"\",CONCATENATE(VLOOKUP(Q439,zawodnicy!$A:$E,2,FALSE),\" \",VLOOKUP(Q439,zawodnicy!$A:$E,3,FALSE),\" - \",VLOOKUP(Q439,zawodnicy!$A:$E,4,FALSE)),\"\")","v":""},null,{"$f":"IF(H438=\"\",I438,H438)","v":""},null,{"$f":"IF(F440=\"\",\"\",VLOOKUP(F440,zawodnicy!$A:$D,3,FALSE))","v":""}]
[{"$f":"U440","v":0},{"$f":"F436","v":""},{"$f":"G436","v":""},{"$f":"F444","v":""},{"$f":"G444","v":""},{"$f":"IF(A440=0,IF(AND(LEN(B440)>0,LEN(D440)=0),B440,IF(AND(LEN(D440)>0,LEN(B440)=0),D440,\"\")),IF((VLOOKUP(A440,'plan gier'!$Z:$AH,7,FALSE))=\"\",\"\",VLOOKUP(VLOOKUP(A440,'plan gier'!$Z:$AH,7,FALSE),zawodnicy!$A:$E,1,FALSE)))","v":""},{"$f":"IF(A440=0,IF(AND(LEN(C440)>0,LEN(E440)=0),C440,IF(AND(LEN(E440)>0,LEN(C440)=0),E440,\"\")),IF((VLOOKUP(A440,'plan gier'!$Z:$AH,8,FALSE))=\"\",\"\",VLOOKUP(VLOOKUP(A440,'plan gier'!$Z:$AH,8,FALSE),zawodnicy!$A:$E,1,FALSE)))","v":""},{"$f":"IF(A440=0,\"\",IF((VLOOKUP(A440,'plan gier'!$Z:$AH,7,FALSE))=\"\",\"\",VLOOKUP(A440,'plan gier'!$Z:$AH,9,FALSE)))","v":""},{"$f":"IF(A440=0,\"\",IF(VLOOKUP(A440,'plan gier'!A:T,20,FALSE)=\"\",\"\",VLOOKUP(A440,'plan gier'!A:T,20,FALSE)))","v":""},{"$f":"L416","v":0},null,null,null,null,null,null,{"$f":"UPPER(IF(P439=\"\",\"\",IF(ISTEXT(L440),L440,IF(AND(L414>0,P439>0),VLOOKUP(L414&P439&J438,'grup-puch'!I:K,3,FALSE),\"\"))))","v":""},{"$f":"IF(Q440<>\"\",CONCATENATE(VLOOKUP(Q440,zawodnicy!$A:$E,2,FALSE),\" \",VLOOKUP(Q440,zawodnicy!$A:$E,3,FALSE),\" - \",VLOOKUP(Q440,zawodnicy!$A:$E,4,FALSE)),\"\")","v":""},null,null,null,{"$f":"IF(G440=\"\",\"\",VLOOKUP(G440,zawodnicy!$A:$D,3,FALSE))","v":""}]
[null,null,null,null,null,null,null,null,null,null,{"$f":"IF(L415>16,13,\"\")","v":13},null,null,null,null,{"$f":"IF(K441=\"\",\"\",MAX(P417:P440)+1)","v":13},{"$f":"UPPER(IF(P441=\"\",\"\",IF(ISTEXT(L441),L441,IF(AND(L414>0,P441>0),VLOOKUP(L414&P441&J442,'grup-puch'!I:J,2,FALSE),\"\"))))","v":""},{"$f":"IF(Q441<>\"\",CONCATENATE(VLOOKUP(Q441,zawodnicy!$A:$E,2,FALSE),\" \",VLOOKUP(Q441,zawodnicy!$A:$E,3,FALSE),\" - \",VLOOKUP(Q441,zawodnicy!$A:$E,4,FALSE)),\"\")","v":""},null,{"$f":"IF(F442=\"\",\"\",VLOOKUP(F442,zawodnicy!$A:$D,3,FALSE))","v":""},null,{"$f":"IF(H440=\"\",I440,H440)","v":""}]
[{"$f":"S442","v":0},{"$f":"IF(Q441=\"\",\"\",Q441)","v":""},{"$f":"IF(Q442=\"\",\"\",Q442)","v":""},{"$f":"IF(Q443=\"\",\"\",Q443)","v":""},{"$f":"IF(Q444=\"\",\"\",Q444)","v":""},{"$f":"IF(A442=0,IF(AND(LEN(B442)>0,LEN(D442)=0),VLOOKUP(B442,zawodnicy!$A:$E,1,FALSE),IF(AND(LEN(D442)>0,LEN(B442)=0),VLOOKUP(D442,zawodnicy!$A:$E,1,FALSE),\"\")),IF((VLOOKUP(A442,'plan gier'!$Z:$AH,7,FALSE))=\"\",\"\",VLOOKUP(VLOOKUP(A442,'plan gier'!$Z:$AH,7,FALSE),zawodnicy!$A:$E,1,FALSE)))","v":""},{"$f":"IF(A442=0,IF(AND(LEN(C442)>1,LEN(E442)=0),VLOOKUP(C442,zawodnicy!$A:$E,1,FALSE),IF(AND(LEN(E442)>1,LEN(C442)=0),VLOOKUP(E442,zawodnicy!$A:$E,1,FALSE),\"\")),IF((VLOOKUP(A442,'plan gier'!$Z:$AH,8,FALSE))=\"\",\"\",VLOOKUP(VLOOKUP(A442,'plan gier'!$Z:$AH,8,FALSE),zawodnicy!$A:$E,1,FALSE)))","v":""},{"$f":"IF(A442=0,\"\",IF((VLOOKUP(A442,'plan gier'!$Z:$AH,7,FALSE))=\"\",\"\",VLOOKUP(A442,'plan gier'!$Z:$AH,9,FALSE)))","v":""},{"$f":"IF(A442=0,\"\",IF(VLOOKUP(A442,'plan gier'!A:T,20,FALSE)=\"\",\"\",VLOOKUP(A442,'plan gier'!A:T,20,FALSE)))","v":""},{"$f":"L416","v":0},null,null,null,null,null,null,{"$f":"UPPER(IF(P441=\"\",\"\",IF(ISTEXT(L442),L442,IF(AND(L414>0,P441>0),VLOOKUP(L414&P441&J442,'grup-puch'!I:K,3,FALSE),\"\"))))","v":""},{"$f":"IF(Q442<>\"\",CONCATENATE(VLOOKUP(Q442,zawodnicy!$A:$E,2,FALSE),\" \",VLOOKUP(Q442,zawodnicy!$A:$E,3,FALSE),\" - \",VLOOKUP(Q442,zawodnicy!$A:$E,4,FALSE)),\"\")","v":""},null,{"$f":"IF(G442=\"\",\"\",VLOOKUP(G442,zawodnicy!$A:$D,3,FALSE))","v":""}]
[null,null,null,null,null,null,null,null,null,null,{"$f":"IF(L415>25,14,\"\")","v":14},null,null,null,null,{"$f":"IF(K443=\"\",\"\",MAX(P417:P442)+1)","v":14},{"$f":"UPPER(IF(P443=\"\",\"\",IF(ISTEXT(L443),L443,IF(AND(L414>0,P443>0),VLOOKUP(L414&P443&J442,'grup-puch'!I:J,2,FALSE),\"\"))))","v":""},{"$f":"IF(Q443<>\"\",CONCATENATE(VLOOKUP(Q443,zawodnicy!$A:$E,2,FALSE),\" \",VLOOKUP(Q443,zawodnicy!$A:$E,3,FALSE),\" - \",VLOOKUP(Q443,zawodnicy!$A:$E,4,FALSE)),\"\")","v":""},null,{"$f":"IF(H442=\"\",I442,H442)","v":""},{"$f":"IF(F444=\"\",\"\",VLOOKUP(F444,zawodnicy!$A:$D,3,FALSE))","v":""}]
[{"$f":"T444","v":0},{"$f":"F442","v":""},{"$f":"G442","v":""},{"$f":"F446","v":""},{"$f":"G446","v":""},{"$f":"IF(A444=0,IF(AND(LEN(B444)>0,LEN(D444)=0),B444,IF(AND(LEN(D444)>0,LEN(B444)=0),D444,\"\")),IF((VLOOKUP(A444,'plan gier'!$Z:$AH,7,FALSE))=\"\",\"\",VLOOKUP(VLOOKUP(A444,'plan gier'!$Z:$AH,7,FALSE),zawodnicy!$A:$E,1,FALSE)))","v":""},{"$f":"IF(A444=0,IF(AND(LEN(C444)>0,LEN(E444)=0),C444,IF(AND(LEN(E444)>0,LEN(C444)=0),E444,\"\")),IF((VLOOKUP(A444,'plan gier'!$Z:$AH,8,FALSE))=\"\",\"\",VLOOKUP(VLOOKUP(A444,'plan gier'!$Z:$AH,8,FALSE),zawodnicy!$A:$E,1,FALSE)))","v":""},{"$f":"IF(A444=0,\"\",IF((VLOOKUP(A444,'plan gier'!$Z:$AH,7,FALSE))=\"\",\"\",VLOOKUP(A444,'plan gier'!$Z:$AH,9,FALSE)))","v":""},{"$f":"IF(A444=0,\"\",IF(VLOOKUP(A444,'plan gier'!A:T,20,FALSE)=\"\",\"\",VLOOKUP(A444,'plan gier'!A:T,20,FALSE)))","v":""},{"$f":"L416","v":0},null,null,null,null,null,null,{"$f":"UPPER(IF(P443=\"\",\"\",IF(ISTEXT(L444),L444,IF(AND(L414>0,P443>0),VLOOKUP(L414&P443&J442,'grup-puch'!I:K,3,FALSE),\"\"))))","v":""},{"$f":"IF(Q444<>\"\",CONCATENATE(VLOOKUP(Q444,zawodnicy!$A:$E,2,FALSE),\" \",VLOOKUP(Q444,zawodnicy!$A:$E,3,FALSE),\" - \",VLOOKUP(Q444,zawodnicy!$A:$E,4,FALSE)),\"\")","v":""},null,null,{"$f":"IF(G444=\"\",\"\",VLOOKUP(G444,zawodnicy!$A:$D,3,FALSE))","v":""}]
[null,null,null,null,null,null,null,null,null,null,{"$f":"IF(L415>16,15,\"\")","v":15},null,null,null,null,{"$f":"IF(K445=\"\",\"\",MAX(P417:P444)+1)","v":15},{"$f":"UPPER(IF(P445=\"\",\"\",IF(ISTEXT(L445),L445,IF(AND(L414>0,P445>0),VLOOKUP(L414&P445&J446,'grup-puch'!I:J,2,FALSE),\"\"))))","v":""},{"$f":"IF(Q445<>\"\",CONCATENATE(VLOOKUP(Q445,zawodnicy!$A:$E,2,FALSE),\" \",VLOOKUP(Q445,zawodnicy!$A:$E,3,FALSE),\" - \",VLOOKUP(Q445,zawodnicy!$A:$E,4,FALSE)),\"\")","v":""},null,{"$f":"IF(F446=\"\",\"\",VLOOKUP(F446,zawodnicy!$A:$D,3,FALSE))","v":""},{"$f":"IF(H444=\"\",I444,H444)","v":""}]
[{"$f":"S446","v":0},{"$f":"IF(Q445=\"\",\"\",Q445)","v":""},{"$f":"IF(Q446=\"\",\"\",Q446)","v":""},{"$f":"IF(Q447=\"\",\"\",Q447)","v":""},{"$f":"IF(Q448=\"\",\"\",Q448)","v":""},{"$f":"IF(A446=0,IF(AND(LEN(B446)>0,LEN(D446)=0),VLOOKUP(B446,zawodnicy!$A:$E,1,FALSE),IF(AND(LEN(D446)>0,LEN(B446)=0),VLOOKUP(D446,zawodnicy!$A:$E,1,FALSE),\"\")),IF((VLOOKUP(A446,'plan gier'!$Z:$AH,7,FALSE))=\"\",\"\",VLOOKUP(VLOOKUP(A446,'plan gier'!$Z:$AH,7,FALSE),zawodnicy!$A:$E,1,FALSE)))","v":""},{"$f":"IF(A446=0,IF(AND(LEN(C446)>1,LEN(E446)=0),VLOOKUP(C446,zawodnicy!$A:$E,1,FALSE),IF(AND(LEN(E446)>1,LEN(C446)=0),VLOOKUP(E446,zawodnicy!$A:$E,1,FALSE),\"\")),IF((VLOOKUP(A446,'plan gier'!$Z:$AH,8,FALSE))=\"\",\"\",VLOOKUP(VLOOKUP(A446,'plan gier'!$Z:$AH,8,FALSE),zawodnicy!$A:$E,1,FALSE)))","v":""},{"$f":"IF(A446=0,\"\",IF((VLOOKUP(A446,'plan gier'!$Z:$AH,7,FALSE))=\"\",\"\",VLOOKUP(A446,'plan gier'!$Z:$AH,9,FALSE)))","v":""},{"$f":"IF(A446=0,\"\",IF(VLOOKUP(A446,'plan gier'!A:T,20,FALSE)=\"\",\"\",VLOOKUP(A446,'plan gier'!A:T,20,FALSE)))","v":""},{"$f":"L416","v":0},null,null,null,null,null,null,{"$f":"UPPER(IF(P445=\"\",\"\",IF(ISTEXT(L446),L446,IF(AND(L414>0,P445>0),VLOOKUP(L414&P445&J446,'grup-puch'!I:K,3,FALSE),\"\"))))","v":""},{"$f":"IF(Q446<>\"\",CONCATENATE(VLOOKUP(Q446,zawodnicy!$A:$E,2,FALSE),\" \",VLOOKUP(Q446,zawodnicy!$A:$E,3,FALSE),\" - \",VLOOKUP(Q446,zawodnicy!$A:$E,4,FALSE)),\"\")","v":""},null,{"$f":"IF(G446=\"\",\"\",VLOOKUP(G446,zawodnicy!$A:$D,3,FALSE))","v":""}]
[null,null,null,null,null,null,null,null,null,null,{"$f":"IF(L415>17,16,\"\")","v":16},null,null,null,null,{"$f":"IF(K447=\"\",\"\",MAX(P417:P446)+1)","v":16},{"$f":"UPPER(IF(P447=\"\",\"\",IF(ISTEXT(L447),L447,IF(AND(L414>0,P447>0),VLOOKUP(L414&P447&J446,'grup-puch'!I:J,2,FALSE),\"\"))))","v":""},{"$f":"IF(Q447<>\"\",CONCATENATE(VLOOKUP(Q447,zawodnicy!$A:$E,2,FALSE),\" \",VLOOKUP(Q447,zawodnicy!$A:$E,3,FALSE),\" - \",VLOOKUP(Q447,zawodnicy!$A:$E,4,FALSE)),\"\")","v":""},null,{"$f":"IF(H446=\"\",I446,H446)","v":""},null,null,null,{"$f":"IF(F448=\"\",\"\",VLOOKUP(F448,zawodnicy!$A:$D,3,FALSE))","v":""}]
[{"$f":"W448","v":0},{"$f":"F432","v":""},{"$f":"G432","v":""},{"$f":"F464","v":""},{"$f":"G464","v":""},{"$f":"IF(A448=0,IF(AND(LEN(B448)>0,LEN(D448)=0),B448,IF(AND(LEN(D448)>0,LEN(B448)=0),D448,\"\")),IF((VLOOKUP(A448,'plan gier'!$Z:$AH,7,FALSE))=\"\",\"\",VLOOKUP(VLOOKUP(A448,'plan gier'!$Z:$AH,7,FALSE),zawodnicy!$A:$E,1,FALSE)))","v":""},{"$f":"IF(A448=0,IF(AND(LEN(C448)>0,LEN(E448)=0),C448,IF(AND(LEN(E448)>0,LEN(C448)=0),E448,\"\")),IF((VLOOKUP(A448,'plan gier'!$Z:$AH,8,FALSE))=\"\",\"\",VLOOKUP(VLOOKUP(A448,'plan gier'!$Z:$AH,8,FALSE),zawodnicy!$A:$E,1,FALSE)))","v":""},{"$f":"IF(A448=0,\"\",IF((VLOOKUP(A448,'plan gier'!$Z:$AH,7,FALSE))=\"\",\"\",VLOOKUP(A448,'plan gier'!$Z:$AH,9,FALSE)))","v":""},{"$f":"IF(A448=0,\"\",IF(VLOOKUP(A448,'plan gier'!A:T,20,FALSE)=\"\",\"\",VLOOKUP(A448,'plan gier'!A:T,20,FALSE)))","v":""},{"$f":"L416","v":0},null,null,null,null,null,null,{"$f":"UPPER(IF(P447=\"\",\"\",IF(ISTEXT(L448),L448,IF(AND(L414>0,P447>0),VLOOKUP(L414&P447&J446,'grup-puch'!I:K,3,FALSE),\"\"))))","v":""},{"$f":"IF(Q448<>\"\",CONCATENATE(VLOOKUP(Q448,zawodnicy!$A:$E,2,FALSE),\" \",VLOOKUP(Q448,zawodnicy!$A:$E,3,FALSE),\" - \",VLOOKUP(Q448,zawodnicy!$A:$E,4,FALSE)),\"\")","v":""},null,null,null,null,null,{"$f":"IF(G448=\"\",\"\",VLOOKUP(G448,zawodnicy!$A:$D,3,FALSE))","v":""}]
[null,null,null,null,null,null,null,null,null,null,{"$f":"IF(L415>16,17,\"\")","v":17},null,null,null,null,{"$f":"IF(K449=\"\",\"\",MAX(P417:P448)+1)","v":17},{"$f":"UPPER(IF(P449=\"\",\"\",IF(ISTEXT(L449),L449,IF(AND(L414>0,P449>0),VLOOKUP(L414&P449&J450,'grup-puch'!I:J,2,FALSE),\"\"))))","v":""},{"$f":"IF(Q449<>\"\",CONCATENATE(VLOOKUP(Q449,zawodnicy!$A:$E,2,FALSE),\" \",VLOOKUP(Q449,zawodnicy!$A:$E,3,FALSE),\" - \",VLOOKUP(Q449,zawodnicy!$A:$E,4,FALSE)),\"\")","v":""},null,{"$f":"IF(F450=\"\",\"\",VLOOKUP(F450,zawodnicy!$A:$D,3,FALSE))","v":""},null,null,null,{"$f":"IF(H448=\"\",I448,H448)","v":""}]
[{"$f":"S450","v":0},{"$f":"IF(Q449=\"\",\"\",Q449)","v":""},{"$f":"IF(Q450=\"\",\"\",Q450)","v":""},{"$f":"IF(Q451=\"\",\"\",Q451)","v":""},{"$f":"IF(Q452=\"\",\"\",Q452)","v":""},{"$f":"IF(A450=0,IF(AND(LEN(B450)>0,LEN(D450)=0),VLOOKUP(B450,zawodnicy!$A:$E,1,FALSE),IF(AND(LEN(D450)>0,LEN(B450)=0),VLOOKUP(D450,zawodnicy!$A:$E,1,FALSE),\"\")),IF((VLOOKUP(A450,'plan gier'!$Z:$AH,7,FALSE))=\"\",\"\",VLOOKUP(VLOOKUP(A450,'plan gier'!$Z:$AH,7,FALSE),zawodnicy!$A:$E,1,FALSE)))","v":""},{"$f":"IF(A450=0,IF(AND(LEN(C450)>1,LEN(E450)=0),VLOOKUP(C450,zawodnicy!$A:$E,1,FALSE),IF(AND(LEN(E450)>1,LEN(C450)=0),VLOOKUP(E450,zawodnicy!$A:$E,1,FALSE),\"\")),IF((VLOOKUP(A450,'plan gier'!$Z:$AH,8,FALSE))=\"\",\"\",VLOOKUP(VLOOKUP(A450,'plan gier'!$Z:$AH,8,FALSE),zawodnicy!$A:$E,1,FALSE)))","v":""},{"$f":"IF(A450=0,\"\",IF((VLOOKUP(A450,'plan gier'!$Z:$AH,7,FALSE))=\"\",\"\",VLOOKUP(A450,'plan gier'!$Z:$AH,9,FALSE)))","v":""},{"$f":"IF(A450=0,\"\",IF(VLOOKUP(A450,'plan gier'!A:T,20,FALSE)=\"\",\"\",VLOOKUP(A450,'plan gier'!A:T,20,FALSE)))","v":""},{"$f":"L416","v":0},null,null,null,null,null,null,{"$f":"UPPER(IF(P449=\"\",\"\",IF(ISTEXT(L450),L450,IF(AND(L414>0,P449>0),VLOOKUP(L414&P449&J450,'grup-puch'!I:K,3,FALSE),\"\"))))","v":""},{"$f":"IF(Q450<>\"\",CONCATENATE(VLOOKUP(Q450,zawodnicy!$A:$E,2,FALSE),\" \",VLOOKUP(Q450,zawodnicy!$A:$E,3,FALSE),\" - \",VLOOKUP(Q450,zawodnicy!$A:$E,4,FALSE)),\"\")","v":""},null,{"$f":"IF(G450=\"\",\"\",VLOOKUP(G450,zawodnicy!$A:$D,3,FALSE))","v":""}]
[null,null,null,null,null,null,null,null,null,null,{"$f":"IF(L415>16,18,\"\")","v":18},null,null,null,null,{"$f":"IF(K451=\"\",\"\",MAX(P417:P450)+1)","v":18},{"$f":"UPPER(IF(P451=\"\",\"\",IF(ISTEXT(L451),L451,IF(AND(L414>0,P451>0),VLOOKUP(L414&P451&J450,'grup-puch'!I:J,2,FALSE),\"\"))))","v":""},{"$f":"IF(Q451<>\"\",CONCATENATE(VLOOKUP(Q451,zawodnicy!$A:$E,2,FALSE),\" \",VLOOKUP(Q451,zawodnicy!$A:$E,3,FALSE),\" - \",VLOOKUP(Q451,zawodnicy!$A:$E,4,FALSE)),\"\")","v":""},null,{"$f":"IF(H450=\"\",I450,H450)","v":""},{"$f":"IF(F452=\"\",\"\",VLOOKUP(F452,zawodnicy!$A:$D,3,FALSE))","v":""}]
[{"$f":"T452","v":0},{"$f":"F450","v":""},{"$f":"G450","v":""},{"$f":"F454","v":""},{"$f":"G454","v":""},{"$f":"IF(A452=0,IF(AND(LEN(B452)>0,LEN(D452)=0),B452,IF(AND(LEN(D452)>0,LEN(B452)=0),D452,\"\")),IF((VLOOKUP(A452,'plan gier'!$Z:$AH,7,FALSE))=\"\",\"\",VLOOKUP(VLOOKUP(A452,'plan gier'!$Z:$AH,7,FALSE),zawodnicy!$A:$E,1,FALSE)))","v":""},{"$f":"IF(A452=0,IF(AND(LEN(C452)>0,LEN(E452)=0),C452,IF(AND(LEN(E452)>0,LEN(C452)=0),E452,\"\")),IF((VLOOKUP(A452,'plan gier'!$Z:$AH,8,FALSE))=\"\",\"\",VLOOKUP(VLOOKUP(A452,'plan gier'!$Z:$AH,8,FALSE),zawodnicy!$A:$E,1,FALSE)))","v":""},{"$f":"IF(A452=0,\"\",IF((VLOOKUP(A452,'plan gier'!$Z:$AH,7,FALSE))=\"\",\"\",VLOOKUP(A452,'plan gier'!$Z:$AH,9,FALSE)))","v":""},{"$f":"IF(A452=0,\"\",IF(VLOOKUP(A452,'plan gier'!A:T,20,FALSE)=\"\",\"\",VLOOKUP(A452,'plan gier'!A:T,20,FALSE)))","v":""},{"$f":"L416","v":0},null,null,null,null,null,null,{"$f":"UPPER(IF(P451=\"\",\"\",IF(ISTEXT(L452),L452,IF(AND(L414>0,P451>0),VLOOKUP(L414&P451&J450,'grup-puch'!I:K,3,FALSE),\"\"))))","v":""},{"$f":"IF(Q452<>\"\",CONCATENATE(VLOOKUP(Q452,zawodnicy!$A:$E,2,FALSE),\" \",VLOOKUP(Q452,zawodnicy!$A:$E,3,FALSE),\" - \",VLOOKUP(Q452,zawodnicy!$A:$E,4,FALSE)),\"\")","v":""},null,null,{"$f":"IF(G452=\"\",\"\",VLOOKUP(G452,zawodnicy!$A:$D,3,FALSE))","v":""}]
[null,null,null,null,null,null,null,null,null,null,{"$f":"IF(L415>24,19,\"\")","v":19},null,null,null,null,{"$f":"IF(K453=\"\",\"\",MAX(P417:P452)+1)","v":19},{"$f":"UPPER(IF(P453=\"\",\"\",IF(ISTEXT(L453),L453,IF(AND(L414>0,P453>0),VLOOKUP(L414&P453&J454,'grup-puch'!I:J,2,FALSE),\"\"))))","v":""},{"$f":"IF(Q453<>\"\",CONCATENATE(VLOOKUP(Q453,zawodnicy!$A:$E,2,FALSE),\" \",VLOOKUP(Q453,zawodnicy!$A:$E,3,FALSE),\" - \",VLOOKUP(Q453,zawodnicy!$A:$E,4,FALSE)),\"\")","v":""},null,{"$f":"IF(F454=\"\",\"\",VLOOKUP(F454,zawodnicy!$A:$D,3,FALSE))","v":""},{"$f":"IF(H452=\"\",I452,H452)","v":""}]
[{"$f":"S454","v":0},{"$f":"IF(Q453=\"\",\"\",Q453)","v":""},{"$f":"IF(Q454=\"\",\"\",Q454)","v":""},{"$f":"IF(Q455=\"\",\"\",Q455)","v":""},{"$f":"IF(Q456=\"\",\"\",Q456)","v":""},{"$f":"IF(A454=0,IF(AND(LEN(B454)>0,LEN(D454)=0),VLOOKUP(B454,zawodnicy!$A:$E,1,FALSE),IF(AND(LEN(D454)>0,LEN(B454)=0),VLOOKUP(D454,zawodnicy!$A:$E,1,FALSE),\"\")),IF((VLOOKUP(A454,'plan gier'!$Z:$AH,7,FALSE))=\"\",\"\",VLOOKUP(VLOOKUP(A454,'plan gier'!$Z:$AH,7,FALSE),zawodnicy!$A:$E,1,FALSE)))","v":""},{"$f":"IF(A454=0,IF(AND(LEN(C454)>1,LEN(E454)=0),VLOOKUP(C454,zawodnicy!$A:$E,1,FALSE),IF(AND(LEN(E454)>1,LEN(C454)=0),VLOOKUP(E454,zawodnicy!$A:$E,1,FALSE),\"\")),IF((VLOOKUP(A454,'plan gier'!$Z:$AH,8,FALSE))=\"\",\"\",VLOOKUP(VLOOKUP(A454,'plan gier'!$Z:$AH,8,FALSE),zawodnicy!$A:$E,1,FALSE)))","v":""},{"$f":"IF(A454=0,\"\",IF((VLOOKUP(A454,'plan gier'!$Z:$AH,7,FALSE))=\"\",\"\",VLOOKUP(A454,'plan gier'!$Z:$AH,9,FALSE)))","v":""},{"$f":"IF(A454=0,\"\",IF(VLOOKUP(A454,'plan gier'!A:T,20,FALSE)=\"\",\"\",VLOOKUP(A454,'plan gier'!A:T,20,FALSE)))","v":""},{"$f":"L416","v":0},null,null,null,null,null,null,{"$f":"UPPER(IF(P453=\"\",\"\",IF(ISTEXT(L454),L454,IF(AND(L414>0,P453>0),VLOOKUP(L414&P453&J454,'grup-puch'!I:K,3,FALSE),\"\"))))","v":""},{"$f":"IF(Q454<>\"\",CONCATENATE(VLOOKUP(Q454,zawodnicy!$A:$E,2,FALSE),\" \",VLOOKUP(Q454,zawodnicy!$A:$E,3,FALSE),\" - \",VLOOKUP(Q454,zawodnicy!$A:$E,4,FALSE)),\"\")","v":""},null,{"$f":"IF(G454=\"\",\"\",VLOOKUP(G454,zawodnicy!$A:$D,3,FALSE))","v":""}]
[null,null,null,null,null,null,null,null,null,null,{"$f":"IF(L415>16,20,\"\")","v":20},null,null,null,null,{"$f":"IF(K455=\"\",\"\",MAX(P417:P454)+1)","v":20},{"$f":"UPPER(IF(P455=\"\",\"\",IF(ISTEXT(L455),L455,IF(AND(L414>0,P455>0),VLOOKUP(L414&P455&J454,'grup-puch'!I:J,2,FALSE),\"\"))))","v":""},{"$f":"IF(Q455<>\"\",CONCATENATE(VLOOKUP(Q455,zawodnicy!$A:$E,2,FALSE),\" \",VLOOKUP(Q455,zawodnicy!$A:$E,3,FALSE),\" - \",VLOOKUP(Q455,zawodnicy!$A:$E,4,FALSE)),\"\")","v":""},null,{"$f":"IF(H454=\"\",I454,H454)","v":""},null,{"$f":"IF(F456=\"\",\"\",VLOOKUP(F456,zawodnicy!$A:$D,3,FALSE))","v":""}]
[{"$f":"U456","v":0},{"$f":"F452","v":""},{"$f":"G452","v":""},{"$f":"F460","v":""},{"$f":"G460","v":""},{"$f":"IF(A456=0,IF(AND(LEN(B456)>0,LEN(D456)=0),B456,IF(AND(LEN(D456)>0,LEN(B456)=0),D456,\"\")),IF((VLOOKUP(A456,'plan gier'!$Z:$AH,7,FALSE))=\"\",\"\",VLOOKUP(VLOOKUP(A456,'plan gier'!$Z:$AH,7,FALSE),zawodnicy!$A:$E,1,FALSE)))","v":""},{"$f":"IF(A456=0,IF(AND(LEN(C456)>0,LEN(E456)=0),C456,IF(AND(LEN(E456)>0,LEN(C456)=0),E456,\"\")),IF((VLOOKUP(A456,'plan gier'!$Z:$AH,8,FALSE))=\"\",\"\",VLOOKUP(VLOOKUP(A456,'plan gier'!$Z:$AH,8,FALSE),zawodnicy!$A:$E,1,FALSE)))","v":""},{"$f":"IF(A456=0,\"\",IF((VLOOKUP(A456,'plan gier'!$Z:$AH,7,FALSE))=\"\",\"\",VLOOKUP(A456,'plan gier'!$Z:$AH,9,FALSE)))","v":""},{"$f":"IF(A456=0,\"\",IF(VLOOKUP(A456,'plan gier'!A:T,20,FALSE)=\"\",\"\",VLOOKUP(A456,'plan gier'!A:T,20,FALSE)))","v":""},{"$f":"L416","v":0},null,null,null,null,null,null,{"$f":"UPPER(IF(P455=\"\",\"\",IF(ISTEXT(L456),L456,IF(AND(L414>0,P455>0),VLOOKUP(L414&P455&J454,'grup-puch'!I:K,3,FALSE),\"\"))))","v":""},{"$f":"IF(Q456<>\"\",CONCATENATE(VLOOKUP(Q456,zawodnicy!$A:$E,2,FALSE),\" \",VLOOKUP(Q456,zawodnicy!$A:$E,3,FALSE),\" - \",VLOOKUP(Q456,zawodnicy!$A:$E,4,FALSE)),\"\")","v":""},null,null,null,{"$f":"IF(G456=\"\",\"\",VLOOKUP(G456,zawodnicy!$A:$D,3,FALSE))","v":""}]
[null,null,null,null,null,null,null,null,null,null,{"$f":"IF(L415>20,21,\"\")","v":21},null,null,null,null,{"$f":"IF(K457=\"\",\"\",MAX(P417:P456)+1)","v":21},{"$f":"UPPER(IF(P457=\"\",\"\",IF(ISTEXT(L457),L457,IF(AND(L414>0,P457>0),VLOOKUP(L414&P457&J458,'grup-puch'!I:J,2,FALSE),\"\"))))","v":""},{"$f":"IF(Q457<>\"\",CONCATENATE(VLOOKUP(Q457,zawodnicy!$A:$E,2,FALSE),\" \",VLOOKUP(Q457,zawodnicy!$A:$E,3,FALSE),\" - \",VLOOKUP(Q457,zawodnicy!$A:$E,4,FALSE)),\"\")","v":""},null,{"$f":"IF(F458=\"\",\"\",VLOOKUP(F458,zawodnicy!$A:$D,3,FALSE))","v":""},null,{"$f":"IF(H456=\"\",I456,H456)","v":""}]
[{"$f":"S458","v":0},{"$f":"IF(Q457=\"\",\"\",Q457)","v":""},{"$f":"IF(Q458=\"\",\"\",Q458)","v":""},{"$f":"IF(Q459=\"\",\"\",Q459)","v":""},{"$f":"IF(Q460=\"\",\"\",Q460)","v":""},{"$f":"IF(A458=0,IF(AND(LEN(B458)>0,LEN(D458)=0),VLOOKUP(B458,zawodnicy!$A:$E,1,FALSE),IF(AND(LEN(D458)>0,LEN(B458)=0),VLOOKUP(D458,zawodnicy!$A:$E,1,FALSE),\"\")),IF((VLOOKUP(A458,'plan gier'!$Z:$AH,7,FALSE))=\"\",\"\",VLOOKUP(VLOOKUP(A458,'plan gier'!$Z:$AH,7,FALSE),zawodnicy!$A:$E,1,FALSE)))","v":""},{"$f":"IF(A458=0,IF(AND(LEN(C458)>1,LEN(E458)=0),VLOOKUP(C458,zawodnicy!$A:$E,1,FALSE),IF(AND(LEN(E458)>1,LEN(C458)=0),VLOOKUP(E458,zawodnicy!$A:$E,1,FALSE),\"\")),IF((VLOOKUP(A458,'plan gier'!$Z:$AH,8,FALSE))=\"\",\"\",VLOOKUP(VLOOKUP(A458,'plan gier'!$Z:$AH,8,FALSE),zawodnicy!$A:$E,1,FALSE)))","v":""},{"$f":"IF(A458=0,\"\",IF((VLOOKUP(A458,'plan gier'!$Z:$AH,7,FALSE))=\"\",\"\",VLOOKUP(A458,'plan gier'!$Z:$AH,9,FALSE)))","v":""},{"$f":"IF(A458=0,\"\",IF(VLOOKUP(A458,'plan gier'!A:T,20,FALSE)=\"\",\"\",VLOOKUP(A458,'plan gier'!A:T,20,FALSE)))","v":""},{"$f":"L416","v":0},null,null,null,null,null,null,{"$f":"UPPER(IF(P457=\"\",\"\",IF(ISTEXT(L458),L458,IF(AND(L414>0,P457>0),VLOOKUP(L414&P457&J458,'grup-puch'!I:K,3,FALSE),\"\"))))","v":""},{"$f":"IF(Q458<>\"\",CONCATENATE(VLOOKUP(Q458,zawodnicy!$A:$E,2,FALSE),\" \",VLOOKUP(Q458,zawodnicy!$A:$E,3,FALSE),\" - \",VLOOKUP(Q458,zawodnicy!$A:$E,4,FALSE)),\"\")","v":""},null,{"$f":"IF(G458=\"\",\"\",VLOOKUP(G458,zawodnicy!$A:$D,3,FALSE))","v":""}]
[null,null,null,null,null,null,null,null,null,null,{"$f":"IF(L415>16,22,\"\")","v":22},null,null,null,null,{"$f":"IF(K459=\"\",\"\",MAX(P417:P458)+1)","v":22},{"$f":"UPPER(IF(P459=\"\",\"\",IF(ISTEXT(L459),L459,IF(AND(L414>0,P459>0),VLOOKUP(L414&P459&J458,'grup-puch'!I:J,2,FALSE),\"\"))))","v":""},{"$f":"IF(Q459<>\"\",CONCATENATE(VLOOKUP(Q459,zawodnicy!$A:$E,2,FALSE),\" \",VLOOKUP(Q459,zawodnicy!$A:$E,3,FALSE),\" - \",VLOOKUP(Q459,zawodnicy!$A:$E,4,FALSE)),\"\")","v":""},null,{"$f":"IF(H458=\"\",I458,H458)","v":""},{"$f":"IF(F460=\"\",\"\",VLOOKUP(F460,zawodnicy!$A:$D,3,FALSE))","v":""}]
[{"$f":"T460","v":0},{"$f":"F458","v":""},{"$f":"G458","v":""},{"$f":"F462","v":""},{"$f":"G462","v":""},{"$f":"IF(A460=0,IF(AND(LEN(B460)>0,LEN(D460)=0),B460,IF(AND(LEN(D460)>0,LEN(B460)=0),D460,\"\")),IF((VLOOKUP(A460,'plan gier'!$Z:$AH,7,FALSE))=\"\",\"\",VLOOKUP(VLOOKUP(A460,'plan gier'!$Z:$AH,7,FALSE),zawodnicy!$A:$E,1,FALSE)))","v":""},{"$f":"IF(A460=0,IF(AND(LEN(C460)>0,LEN(E460)=0),C460,IF(AND(LEN(E460)>0,LEN(C460)=0),E460,\"\")),IF((VLOOKUP(A460,'plan gier'!$Z:$AH,8,FALSE))=\"\",\"\",VLOOKUP(VLOOKUP(A460,'plan gier'!$Z:$AH,8,FALSE),zawodnicy!$A:$E,1,FALSE)))","v":""},{"$f":"IF(A460=0,\"\",IF((VLOOKUP(A460,'plan gier'!$Z:$AH,7,FALSE))=\"\",\"\",VLOOKUP(A460,'plan gier'!$Z:$AH,9,FALSE)))","v":""},{"$f":"IF(A460=0,\"\",IF(VLOOKUP(A460,'plan gier'!A:T,20,FALSE)=\"\",\"\",VLOOKUP(A460,'plan gier'!A:T,20,FALSE)))","v":""},{"$f":"L416","v":0},null,null,null,null,null,null,{"$f":"UPPER(IF(P459=\"\",\"\",IF(ISTEXT(L460),L460,IF(AND(L414>0,P459>0),VLOOKUP(L414&P459&J458,'grup-puch'!I:K,3,FALSE),\"\"))))","v":""},{"$f":"IF(Q460<>\"\",CONCATENATE(VLOOKUP(Q460,zawodnicy!$A:$E,2,FALSE),\" \",VLOOKUP(Q460,zawodnicy!$A:$E,3,FALSE),\" - \",VLOOKUP(Q460,zawodnicy!$A:$E,4,FALSE)),\"\")","v":""},null,null,{"$f":"IF(G460=\"\",\"\",VLOOKUP(G460,zawodnicy!$A:$D,3,FALSE))","v":""}]
[null,null,null,null,null,null,null,null,null,null,{"$f":"IF(L415>28,23,\"\")","v":23},null,null,null,null,{"$f":"IF(K461=\"\",\"\",MAX(P417:P460)+1)","v":23},{"$f":"UPPER(IF(P461=\"\",\"\",IF(ISTEXT(L461),L461,IF(AND(L414>0,P461>0),VLOOKUP(L414&P461&J462,'grup-puch'!I:J,2,FALSE),\"\"))))","v":""},{"$f":"IF(Q461<>\"\",CONCATENATE(VLOOKUP(Q461,zawodnicy!$A:$E,2,FALSE),\" \",VLOOKUP(Q461,zawodnicy!$A:$E,3,FALSE),\" - \",VLOOKUP(Q461,zawodnicy!$A:$E,4,FALSE)),\"\")","v":""},null,{"$f":"IF(F462=\"\",\"\",VLOOKUP(F462,zawodnicy!$A:$D,3,FALSE))","v":""},{"$f":"IF(H460=\"\",I460,H460)","v":""}]
[{"$f":"S462","v":0},{"$f":"IF(Q461=\"\",\"\",Q461)","v":""},{"$f":"IF(Q462=\"\",\"\",Q462)","v":""},{"$f":"IF(Q463=\"\",\"\",Q463)","v":""},{"$f":"IF(Q464=\"\",\"\",Q464)","v":""},{"$f":"IF(A462=0,IF(AND(LEN(B462)>0,LEN(D462)=0),VLOOKUP(B462,zawodnicy!$A:$E,1,FALSE),IF(AND(LEN(D462)>0,LEN(B462)=0),VLOOKUP(D462,zawodnicy!$A:$E,1,FALSE),\"\")),IF((VLOOKUP(A462,'plan gier'!$Z:$AH,7,FALSE))=\"\",\"\",VLOOKUP(VLOOKUP(A462,'plan gier'!$Z:$AH,7,FALSE),zawodnicy!$A:$E,1,FALSE)))","v":""},{"$f":"IF(A462=0,IF(AND(LEN(C462)>1,LEN(E462)=0),VLOOKUP(C462,zawodnicy!$A:$E,1,FALSE),IF(AND(LEN(E462)>1,LEN(C462)=0),VLOOKUP(E462,zawodnicy!$A:$E,1,FALSE),\"\")),IF((VLOOKUP(A462,'plan gier'!$Z:$AH,8,FALSE))=\"\",\"\",VLOOKUP(VLOOKUP(A462,'plan gier'!$Z:$AH,8,FALSE),zawodnicy!$A:$E,1,FALSE)))","v":""},{"$f":"IF(A462=0,\"\",IF((VLOOKUP(A462,'plan gier'!$Z:$AH,7,FALSE))=\"\",\"\",VLOOKUP(A462,'plan gier'!$Z:$AH,9,FALSE)))","v":""},{"$f":"IF(A462=0,\"\",IF(VLOOKUP(A462,'plan gier'!A:T,20,FALSE)=\"\",\"\",VLOOKUP(A462,'plan gier'!A:T,20,FALSE)))","v":""},{"$f":"L416","v":0},null,null,null,null,null,null,{"$f":"UPPER(IF(P461=\"\",\"\",IF(ISTEXT(L462),L462,IF(AND(L414>0,P461>0),VLOOKUP(L414&P461&J462,'grup-puch'!I:K,3,FALSE),\"\"))))","v":""},{"$f":"IF(Q462<>\"\",CONCATENATE(VLOOKUP(Q462,zawodnicy!$A:$E,2,FALSE),\" \",VLOOKUP(Q462,zawodnicy!$A:$E,3,FALSE),\" - \",VLOOKUP(Q462,zawodnicy!$A:$E,4,FALSE)),\"\")","v":""},null,{"$f":"IF(G462=\"\",\"\",VLOOKUP(G462,zawodnicy!$A:$D,3,FALSE))","v":""}]
[null,null,null,null,null,null,null,null,null,null,{"$f":"IF(L415>16,24,\"\")","v":24},null,null,null,null,{"$f":"IF(K463=\"\",\"\",MAX(P417:P462)+1)","v":24},{"$f":"UPPER(IF(P463=\"\",\"\",IF(ISTEXT(L463),L463,IF(AND(L414>0,P463>0),VLOOKUP(L414&P463&J462,'grup-puch'!I:J,2,FALSE),\"\"))))","v":""},{"$f":"IF(Q463<>\"\",CONCATENATE(VLOOKUP(Q463,zawodnicy!$A:$E,2,FALSE),\" \",VLOOKUP(Q463,zawodnicy!$A:$E,3,FALSE),\" - \",VLOOKUP(Q463,zawodnicy!$A:$E,4,FALSE)),\"\")","v":""},null,{"$f":"IF(H462=\"\",I462,H462)","v":""},null,null,{"$f":"IF(F464=\"\",\"\",VLOOKUP(F464,zawodnicy!$A:$D,3,FALSE))","v":""}]
[{"$f":"V464","v":0},{"$f":"F456","v":""},{"$f":"G456","v":""},{"$f":"F472","v":""},{"$f":"G472","v":""},{"$f":"IF(A464=0,IF(AND(LEN(B464)>0,LEN(D464)=0),B464,IF(AND(LEN(D464)>0,LEN(B464)=0),D464,\"\")),IF((VLOOKUP(A464,'plan gier'!$Z:$AH,7,FALSE))=\"\",\"\",VLOOKUP(VLOOKUP(A464,'plan gier'!$Z:$AH,7,FALSE),zawodnicy!$A:$E,1,FALSE)))","v":""},{"$f":"IF(A464=0,IF(AND(LEN(C464)>0,LEN(E464)=0),C464,IF(AND(LEN(E464)>0,LEN(C464)=0),E464,\"\")),IF((VLOOKUP(A464,'plan gier'!$Z:$AH,8,FALSE))=\"\",\"\",VLOOKUP(VLOOKUP(A464,'plan gier'!$Z:$AH,8,FALSE),zawodnicy!$A:$E,1,FALSE)))","v":""},{"$f":"IF(A464=0,\"\",IF((VLOOKUP(A464,'plan gier'!$Z:$AH,7,FALSE))=\"\",\"\",VLOOKUP(A464,'plan gier'!$Z:$AH,9,FALSE)))","v":""},{"$f":"IF(A464=0,\"\",IF(VLOOKUP(A464,'plan gier'!A:T,20,FALSE)=\"\",\"\",VLOOKUP(A464,'plan gier'!A:T,20,FALSE)))","v":""},{"$f":"L416","v":0},null,null,null,null,null,null,{"$f":"UPPER(IF(P463=\"\",\"\",IF(ISTEXT(L464),L464,IF(AND(L414>0,P463>0),VLOOKUP(L414&P463&J462,'grup-puch'!I:K,3,FALSE),\"\"))))","v":""},{"$f":"IF(Q464<>\"\",CONCATENATE(VLOOKUP(Q464,zawodnicy!$A:$E,2,FALSE),\" \",VLOOKUP(Q464,zawodnicy!$A:$E,3,FALSE),\" - \",VLOOKUP(Q464,zawodnicy!$A:$E,4,FALSE)),\"\")","v":""},null,null,null,null,{"$f":"IF(G464=\"\",\"\",VLOOKUP(G464,zawodnicy!$A:$D,3,FALSE))","v":""}]
[null,null,null,null,null,null,null,null,null,null,{"$f":"IF(L415>18,25,\"\")","v":25},null,null,null,null,{"$f":"IF(K465=\"\",\"\",MAX(P417:P464)+1)","v":25},{"$f":"UPPER(IF(P465=\"\",\"\",IF(ISTEXT(L465),L465,IF(AND(L414>0,P465>0),VLOOKUP(L414&P465&J466,'grup-puch'!I:J,2,FALSE),\"\"))))","v":""},{"$f":"IF(Q465<>\"\",CONCATENATE(VLOOKUP(Q465,zawodnicy!$A:$E,2,FALSE),\" \",VLOOKUP(Q465,zawodnicy!$A:$E,3,FALSE),\" - \",VLOOKUP(Q465,zawodnicy!$A:$E,4,FALSE)),\"\")","v":""},null,{"$f":"IF(F466=\"\",\"\",VLOOKUP(F466,zawodnicy!$A:$D,3,FALSE))","v":""},null,null,{"$f":"IF(H464=\"\",I464,H464)","v":""}]
[{"$f":"S466","v":0},{"$f":"IF(Q465=\"\",\"\",Q465)","v":""},{"$f":"IF(Q466=\"\",\"\",Q466)","v":""},{"$f":"IF(Q467=\"\",\"\",Q467)","v":""},{"$f":"IF(Q468=\"\",\"\",Q468)","v":""},{"$f":"IF(A466=0,IF(AND(LEN(B466)>0,LEN(D466)=0),VLOOKUP(B466,zawodnicy!$A:$E,1,FALSE),IF(AND(LEN(D466)>0,LEN(B466)=0),VLOOKUP(D466,zawodnicy!$A:$E,1,FALSE),\"\")),IF((VLOOKUP(A466,'plan gier'!$Z:$AH,7,FALSE))=\"\",\"\",VLOOKUP(VLOOKUP(A466,'plan gier'!$Z:$AH,7,FALSE),zawodnicy!$A:$E,1,FALSE)))","v":""},{"$f":"IF(A466=0,IF(AND(LEN(C466)>1,LEN(E466)=0),VLOOKUP(C466,zawodnicy!$A:$E,1,FALSE),IF(AND(LEN(E466)>1,LEN(C466)=0),VLOOKUP(E466,zawodnicy!$A:$E,1,FALSE),\"\")),IF((VLOOKUP(A466,'plan gier'!$Z:$AH,8,FALSE))=\"\",\"\",VLOOKUP(VLOOKUP(A466,'plan gier'!$Z:$AH,8,FALSE),zawodnicy!$A:$E,1,FALSE)))","v":""},{"$f":"IF(A466=0,\"\",IF((VLOOKUP(A466,'plan gier'!$Z:$AH,7,FALSE))=\"\",\"\",VLOOKUP(A466,'plan gier'!$Z:$AH,9,FALSE)))","v":""},{"$f":"IF(A466=0,\"\",IF(VLOOKUP(A466,'plan gier'!A:T,20,FALSE)=\"\",\"\",VLOOKUP(A466,'plan gier'!A:T,20,FALSE)))","v":""},{"$f":"L416","v":0},null,null,null,null,null,null,{"$f":"UPPER(IF(P465=\"\",\"\",IF(ISTEXT(L466),L466,IF(AND(L414>0,P465>0),VLOOKUP(L414&P465&J466,'grup-puch'!I:K,3,FALSE),\"\"))))","v":""},{"$f":"IF(Q466<>\"\",CONCATENATE(VLOOKUP(Q466,zawodnicy!$A:$E,2,FALSE),\" \",VLOOKUP(Q466,zawodnicy!$A:$E,3,FALSE),\" - \",VLOOKUP(Q466,zawodnicy!$A:$E,4,FALSE)),\"\")","v":""},null,{"$f":"IF(G466=\"\",\"\",VLOOKUP(G466,zawodnicy!$A:$D,3,FALSE))","v":""}]
[null,null,null,null,null,null,null,null,null,null,{"$f":"IF(L415>16,26,\"\")","v":26},null,null,null,null,{"$f":"IF(K467=\"\",\"\",MAX(P417:P466)+1)","v":26},{"$f":"UPPER(IF(P467=\"\",\"\",IF(ISTEXT(L467),L467,IF(AND(L414>0,P467>0),VLOOKUP(L414&P467&J466,'grup-puch'!I:J,2,FALSE),\"\"))))","v":""},{"$f":"IF(Q467<>\"\",CONCATENATE(VLOOKUP(Q467,zawodnicy!$A:$E,2,FALSE),\" \",VLOOKUP(Q467,zawodnicy!$A:$E,3,FALSE),\" - \",VLOOKUP(Q467,zawodnicy!$A:$E,4,FALSE)),\"\")","v":""},null,{"$f":"IF(H466=\"\",I466,H466)","v":""},{"$f":"IF(F468=\"\",\"\",VLOOKUP(F468,zawodnicy!$A:$D,3,FALSE))","v":""}]
[{"$f":"T468","v":0},{"$f":"F466","v":""},{"$f":"G466","v":""},{"$f":"F470","v":""},{"$f":"G470","v":""},{"$f":"IF(A468=0,IF(AND(LEN(B468)>0,LEN(D468)=0),B468,IF(AND(LEN(D468)>0,LEN(B468)=0),D468,\"\")),IF((VLOOKUP(A468,'plan gier'!$Z:$AH,7,FALSE))=\"\",\"\",VLOOKUP(VLOOKUP(A468,'plan gier'!$Z:$AH,7,FALSE),zawodnicy!$A:$E,1,FALSE)))","v":""},{"$f":"IF(A468=0,IF(AND(LEN(C468)>0,LEN(E468)=0),C468,IF(AND(LEN(E468)>0,LEN(C468)=0),E468,\"\")),IF((VLOOKUP(A468,'plan gier'!$Z:$AH,8,FALSE))=\"\",\"\",VLOOKUP(VLOOKUP(A468,'plan gier'!$Z:$AH,8,FALSE),zawodnicy!$A:$E,1,FALSE)))","v":""},{"$f":"IF(A468=0,\"\",IF((VLOOKUP(A468,'plan gier'!$Z:$AH,7,FALSE))=\"\",\"\",VLOOKUP(A468,'plan gier'!$Z:$AH,9,FALSE)))","v":""},{"$f":"IF(A468=0,\"\",IF(VLOOKUP(A468,'plan gier'!A:T,20,FALSE)=\"\",\"\",VLOOKUP(A468,'plan gier'!A:T,20,FALSE)))","v":""},{"$f":"L416","v":0},null,null,null,null,null,null,{"$f":"UPPER(IF(P467=\"\",\"\",IF(ISTEXT(L468),L468,IF(AND(L414>0,P467>0),VLOOKUP(L414&P467&J466,'grup-puch'!I:K,3,FALSE),\"\"))))","v":""},{"$f":"IF(Q468<>\"\",CONCATENATE(VLOOKUP(Q468,zawodnicy!$A:$E,2,FALSE),\" \",VLOOKUP(Q468,zawodnicy!$A:$E,3,FALSE),\" - \",VLOOKUP(Q468,zawodnicy!$A:$E,4,FALSE)),\"\")","v":""},null,null,{"$f":"IF(G468=\"\",\"\",VLOOKUP(G468,zawodnicy!$A:$D,3,FALSE))","v":""}]
[null,null,null,null,null,null,null,null,null,null,{"$f":"IF(L415>26,27,\"\")","v":27},null,null,null,null,{"$f":"IF(K469=\"\",\"\",MAX(P417:P468)+1)","v":27},{"$f":"UPPER(IF(P469=\"\",\"\",IF(ISTEXT(L469),L469,IF(AND(L414>0,P469>0),VLOOKUP(L414&P469&J470,'grup-puch'!I:J,2,FALSE),\"\"))))","v":""},{"$f":"IF(Q469<>\"\",CONCATENATE(VLOOKUP(Q469,zawodnicy!$A:$E,2,FALSE),\" \",VLOOKUP(Q469,zawodnicy!$A:$E,3,FALSE),\" - \",VLOOKUP(Q469,zawodnicy!$A:$E,4,FALSE)),\"\")","v":""},null,{"$f":"IF(F470=\"\",\"\",VLOOKUP(F470,zawodnicy!$A:$D,3,FALSE))","v":""},{"$f":"IF(H468=\"\",I468,H468)","v":""}]
[{"$f":"S470","v":0},{"$f":"IF(Q469=\"\",\"\",Q469)","v":""},{"$f":"IF(Q470=\"\",\"\",Q470)","v":""},{"$f":"IF(Q471=\"\",\"\",Q471)","v":""},{"$f":"IF(Q472=\"\",\"\",Q472)","v":""},{"$f":"IF(A470=0,IF(AND(LEN(B470)>0,LEN(D470)=0),VLOOKUP(B470,zawodnicy!$A:$E,1,FALSE),IF(AND(LEN(D470)>0,LEN(B470)=0),VLOOKUP(D470,zawodnicy!$A:$E,1,FALSE),\"\")),IF((VLOOKUP(A470,'plan gier'!$Z:$AH,7,FALSE))=\"\",\"\",VLOOKUP(VLOOKUP(A470,'plan gier'!$Z:$AH,7,FALSE),zawodnicy!$A:$E,1,FALSE)))","v":""},{"$f":"IF(A470=0,IF(AND(LEN(C470)>1,LEN(E470)=0),VLOOKUP(C470,zawodnicy!$A:$E,1,FALSE),IF(AND(LEN(E470)>1,LEN(C470)=0),VLOOKUP(E470,zawodnicy!$A:$E,1,FALSE),\"\")),IF((VLOOKUP(A470,'plan gier'!$Z:$AH,8,FALSE))=\"\",\"\",VLOOKUP(VLOOKUP(A470,'plan gier'!$Z:$AH,8,FALSE),zawodnicy!$A:$E,1,FALSE)))","v":""},{"$f":"IF(A470=0,\"\",IF((VLOOKUP(A470,'plan gier'!$Z:$AH,7,FALSE))=\"\",\"\",VLOOKUP(A470,'plan gier'!$Z:$AH,9,FALSE)))","v":""},{"$f":"IF(A470=0,\"\",IF(VLOOKUP(A470,'plan gier'!A:T,20,FALSE)=\"\",\"\",VLOOKUP(A470,'plan gier'!A:T,20,FALSE)))","v":""},{"$f":"L416","v":0},null,null,null,null,null,null,{"$f":"UPPER(IF(P469=\"\",\"\",IF(ISTEXT(L470),L470,IF(AND(L414>0,P469>0),VLOOKUP(L414&P469&J470,'grup-puch'!I:K,3,FALSE),\"\"))))","v":""},{"$f":"IF(Q470<>\"\",CONCATENATE(VLOOKUP(Q470,zawodnicy!$A:$E,2,FALSE),\" \",VLOOKUP(Q470,zawodnicy!$A:$E,3,FALSE),\" - \",VLOOKUP(Q470,zawodnicy!$A:$E,4,FALSE)),\"\")","v":""},null,{"$f":"IF(G470=\"\",\"\",VLOOKUP(G470,zawodnicy!$A:$D,3,FALSE))","v":""}]
[null,null,null,null,null,null,null,null,null,null,{"$f":"IF(L415>16,28,\"\")","v":28},null,null,null,null,{"$f":"IF(K471=\"\",\"\",MAX(P417:P470)+1)","v":28},{"$f":"UPPER(IF(P471=\"\",\"\",IF(ISTEXT(L471),L471,IF(AND(L414>0,P471>0),VLOOKUP(L414&P471&J470,'grup-puch'!I:J,2,FALSE),\"\"))))","v":""},{"$f":"IF(Q471<>\"\",CONCATENATE(VLOOKUP(Q471,zawodnicy!$A:$E,2,FALSE),\" \",VLOOKUP(Q471,zawodnicy!$A:$E,3,FALSE),\" - \",VLOOKUP(Q471,zawodnicy!$A:$E,4,FALSE)),\"\")","v":""},null,{"$f":"IF(H470=\"\",I470,H470)","v":""},null,{"$f":"IF(F472=\"\",\"\",VLOOKUP(F472,zawodnicy!$A:$D,3,FALSE))","v":""}]
[{"$f":"U472","v":0},{"$f":"F468","v":""},{"$f":"G468","v":""},{"$f":"F476","v":""},{"$f":"G476","v":""},{"$f":"IF(A472=0,IF(AND(LEN(B472)>0,LEN(D472)=0),B472,IF(AND(LEN(D472)>0,LEN(B472)=0),D472,\"\")),IF((VLOOKUP(A472,'plan gier'!$Z:$AH,7,FALSE))=\"\",\"\",VLOOKUP(VLOOKUP(A472,'plan gier'!$Z:$AH,7,FALSE),zawodnicy!$A:$E,1,FALSE)))","v":""},{"$f":"IF(A472=0,IF(AND(LEN(C472)>0,LEN(E472)=0),C472,IF(AND(LEN(E472)>0,LEN(C472)=0),E472,\"\")),IF((VLOOKUP(A472,'plan gier'!$Z:$AH,8,FALSE))=\"\",\"\",VLOOKUP(VLOOKUP(A472,'plan gier'!$Z:$AH,8,FALSE),zawodnicy!$A:$E,1,FALSE)))","v":""},{"$f":"IF(A472=0,\"\",IF((VLOOKUP(A472,'plan gier'!$Z:$AH,7,FALSE))=\"\",\"\",VLOOKUP(A472,'plan gier'!$Z:$AH,9,FALSE)))","v":""},{"$f":"IF(A472=0,\"\",IF(VLOOKUP(A472,'plan gier'!A:T,20,FALSE)=\"\",\"\",VLOOKUP(A472,'plan gier'!A:T,20,FALSE)))","v":""},{"$f":"L416","v":0},null,null,null,null,null,null,{"$f":"UPPER(IF(P471=\"\",\"\",IF(ISTEXT(L472),L472,IF(AND(L414>0,P471>0),VLOOKUP(L414&P471&J470,'grup-puch'!I:K,3,FALSE),\"\"))))","v":""},{"$f":"IF(Q472<>\"\",CONCATENATE(VLOOKUP(Q472,zawodnicy!$A:$E,2,FALSE),\" \",VLOOKUP(Q472,zawodnicy!$A:$E,3,FALSE),\" - \",VLOOKUP(Q472,zawodnicy!$A:$E,4,FALSE)),\"\")","v":""},null,null,null,{"$f":"IF(G472=\"\",\"\",VLOOKUP(G472,zawodnicy!$A:$D,3,FALSE))","v":""}]
[null,null,null,null,null,null,null,null,null,null,{"$f":"IF(L415>22,29,\"\")","v":29},null,null,null,null,{"$f":"IF(K473=\"\",\"\",MAX(P417:P472)+1)","v":29},{"$f":"UPPER(IF(P473=\"\",\"\",IF(ISTEXT(L473),L473,IF(AND(L414>0,P473>0),VLOOKUP(L414&P473&J474,'grup-puch'!I:J,2,FALSE),\"\"))))","v":""},{"$f":"IF(Q473<>\"\",CONCATENATE(VLOOKUP(Q473,zawodnicy!$A:$E,2,FALSE),\" \",VLOOKUP(Q473,zawodnicy!$A:$E,3,FALSE),\" - \",VLOOKUP(Q473,zawodnicy!$A:$E,4,FALSE)),\"\")","v":""},null,{"$f":"IF(F474=\"\",\"\",VLOOKUP(F474,zawodnicy!$A:$D,3,FALSE))","v":""},null,{"$f":"IF(H472=\"\",I472,H472)","v":""}]
[{"$f":"S474","v":0},{"$f":"IF(Q473=\"\",\"\",Q473)","v":""},{"$f":"IF(Q474=\"\",\"\",Q474)","v":""},{"$f":"IF(Q475=\"\",\"\",Q475)","v":""},{"$f":"IF(Q476=\"\",\"\",Q476)","v":""},{"$f":"IF(A474=0,IF(AND(LEN(B474)>0,LEN(D474)=0),VLOOKUP(B474,zawodnicy!$A:$E,1,FALSE),IF(AND(LEN(D474)>0,LEN(B474)=0),VLOOKUP(D474,zawodnicy!$A:$E,1,FALSE),\"\")),IF((VLOOKUP(A474,'plan gier'!$Z:$AH,7,FALSE))=\"\",\"\",VLOOKUP(VLOOKUP(A474,'plan gier'!$Z:$AH,7,FALSE),zawodnicy!$A:$E,1,FALSE)))","v":""},{"$f":"IF(A474=0,IF(AND(LEN(C474)>1,LEN(E474)=0),VLOOKUP(C474,zawodnicy!$A:$E,1,FALSE),IF(AND(LEN(E474)>1,LEN(C474)=0),VLOOKUP(E474,zawodnicy!$A:$E,1,FALSE),\"\")),IF((VLOOKUP(A474,'plan gier'!$Z:$AH,8,FALSE))=\"\",\"\",VLOOKUP(VLOOKUP(A474,'plan gier'!$Z:$AH,8,FALSE),zawodnicy!$A:$E,1,FALSE)))","v":""},{"$f":"IF(A474=0,\"\",IF((VLOOKUP(A474,'plan gier'!$Z:$AH,7,FALSE))=\"\",\"\",VLOOKUP(A474,'plan gier'!$Z:$AH,9,FALSE)))","v":""},{"$f":"IF(A474=0,\"\",IF(VLOOKUP(A474,'plan gier'!A:T,20,FALSE)=\"\",\"\",VLOOKUP(A474,'plan gier'!A:T,20,FALSE)))","v":""},{"$f":"L416","v":0},null,null,null,null,null,null,{"$f":"UPPER(IF(P473=\"\",\"\",IF(ISTEXT(L474),L474,IF(AND(L414>0,P473>0),VLOOKUP(L414&P473&J474,'grup-puch'!I:K,3,FALSE),\"\"))))","v":""},{"$f":"IF(Q474<>\"\",CONCATENATE(VLOOKUP(Q474,zawodnicy!$A:$E,2,FALSE),\" \",VLOOKUP(Q474,zawodnicy!$A:$E,3,FALSE),\" - \",VLOOKUP(Q474,zawodnicy!$A:$E,4,FALSE)),\"\")","v":""},null,{"$f":"IF(G474=\"\",\"\",VLOOKUP(G474,zawodnicy!$A:$D,3,FALSE))","v":""},null,null,null,{"$f":"IF(F475=\"\",\"\",VLOOKUP(F475,zawodnicy!$A:$D,3,FALSE))","v":""}]
[null,null,null,null,null,null,null,null,null,null,{"$f":"IF(L415>16,30,\"\")","v":30},null,null,null,null,{"$f":"IF(K475=\"\",\"\",MAX(P417:P474)+1)","v":30},{"$f":"UPPER(IF(P475=\"\",\"\",IF(ISTEXT(L475),L475,IF(AND(L414>0,P475>0),VLOOKUP(L414&P475&J474,'grup-puch'!I:J,2,FALSE),\"\"))))","v":""},{"$f":"IF(Q475<>\"\",CONCATENATE(VLOOKUP(Q475,zawodnicy!$A:$E,2,FALSE),\" \",VLOOKUP(Q475,zawodnicy!$A:$E,3,FALSE),\" - \",VLOOKUP(Q475,zawodnicy!$A:$E,4,FALSE)),\"\")","v":""},null,{"$f":"IF(H474=\"\",I474,H474)","v":""},{"$f":"IF(F476=\"\",\"\",VLOOKUP(F476,zawodnicy!$A:$D,3,FALSE))","v":""},null,null,{"$f":"IF(G475=\"\",\"\",VLOOKUP(G475,zawodnicy!$A:$D,3,FALSE))","v":""}]
[{"$f":"T476","v":0},{"$f":"F474","v":""},{"$f":"G474","v":""},{"$f":"F478","v":""},{"$f":"G478","v":""},{"$f":"IF(A476=0,IF(AND(LEN(B476)>0,LEN(D476)=0),B476,IF(AND(LEN(D476)>0,LEN(B476)=0),D476,\"\")),IF((VLOOKUP(A476,'plan gier'!$Z:$AH,7,FALSE))=\"\",\"\",VLOOKUP(VLOOKUP(A476,'plan gier'!$Z:$AH,7,FALSE),zawodnicy!$A:$E,1,FALSE)))","v":""},{"$f":"IF(A476=0,IF(AND(LEN(C476)>0,LEN(E476)=0),C476,IF(AND(LEN(E476)>0,LEN(C476)=0),E476,\"\")),IF((VLOOKUP(A476,'plan gier'!$Z:$AH,8,FALSE))=\"\",\"\",VLOOKUP(VLOOKUP(A476,'plan gier'!$Z:$AH,8,FALSE),zawodnicy!$A:$E,1,FALSE)))","v":""},{"$f":"IF(A476=0,\"\",IF((VLOOKUP(A476,'plan gier'!$Z:$AH,7,FALSE))=\"\",\"\",VLOOKUP(A476,'plan gier'!$Z:$AH,9,FALSE)))","v":""},{"$f":"IF(A476=0,\"\",IF(VLOOKUP(A476,'plan gier'!A:T,20,FALSE)=\"\",\"\",VLOOKUP(A476,'plan gier'!A:T,20,FALSE)))","v":""},{"$f":"L416","v":0},null,null,null,null,null,null,{"$f":"UPPER(IF(P475=\"\",\"\",IF(ISTEXT(L476),L476,IF(AND(L414>0,P475>0),VLOOKUP(L414&P475&J474,'grup-puch'!I:K,3,FALSE),\"\"))))","v":""},{"$f":"IF(Q476<>\"\",CONCATENATE(VLOOKUP(Q476,zawodnicy!$A:$E,2,FALSE),\" \",VLOOKUP(Q476,zawodnicy!$A:$E,3,FALSE),\" - \",VLOOKUP(Q476,zawodnicy!$A:$E,4,FALSE)),\"\")","v":""},null,null,{"$f":"IF(G476=\"\",\"\",VLOOKUP(G476,zawodnicy!$A:$D,3,FALSE))","v":""},null,null,{"$f":"IF(H475=\"\",\"\",H475)","v":""}]
[null,null,null,null,null,null,null,null,null,null,{"$f":"IF(L415>30,31,\"\")","v":31},null,null,null,null,{"$f":"IF(K477=\"\",\"\",MAX(P417:P476)+1)","v":31},{"$f":"UPPER(IF(P477=\"\",\"\",IF(ISTEXT(L477),L477,IF(AND(L414>0,P477>0),VLOOKUP(L414&P477&J478,'grup-puch'!I:J,2,FALSE),\"\"))))","v":""},{"$f":"IF(Q477<>\"\",CONCATENATE(VLOOKUP(Q477,zawodnicy!$A:$E,2,FALSE),\" \",VLOOKUP(Q477,zawodnicy!$A:$E,3,FALSE),\" - \",VLOOKUP(Q477,zawodnicy!$A:$E,4,FALSE)),\"\")","v":""},null,{"$f":"IF(F478=\"\",\"\",VLOOKUP(F478,zawodnicy!$A:$D,3,FALSE))","v":""},{"$f":"IF(H476=\"\",I476,H476)","v":""}]
[{"$f":"S478","v":0},{"$f":"IF(Q477=\"\",\"\",Q477)","v":""},{"$f":"IF(Q478=\"\",\"\",Q478)","v":""},{"$f":"IF(Q479=\"\",\"\",Q479)","v":""},{"$f":"IF(Q480=\"\",\"\",Q480)","v":""},{"$f":"IF(A478=0,IF(AND(LEN(B478)>0,LEN(D478)=0),VLOOKUP(B478,zawodnicy!$A:$E,1,FALSE),IF(AND(LEN(D478)>0,LEN(B478)=0),VLOOKUP(D478,zawodnicy!$A:$E,1,FALSE),\"\")),IF((VLOOKUP(A478,'plan gier'!$Z:$AH,7,FALSE))=\"\",\"\",VLOOKUP(VLOOKUP(A478,'plan gier'!$Z:$AH,7,FALSE),zawodnicy!$A:$E,1,FALSE)))","v":""},{"$f":"IF(A478=0,IF(AND(LEN(C478)>1,LEN(E478)=0),VLOOKUP(C478,zawodnicy!$A:$E,1,FALSE),IF(AND(LEN(E478)>1,LEN(C478)=0),VLOOKUP(E478,zawodnicy!$A:$E,1,FALSE),\"\")),IF((VLOOKUP(A478,'plan gier'!$Z:$AH,8,FALSE))=\"\",\"\",VLOOKUP(VLOOKUP(A478,'plan gier'!$Z:$AH,8,FALSE),zawodnicy!$A:$E,1,FALSE)))","v":""},{"$f":"IF(A478=0,\"\",IF((VLOOKUP(A478,'plan gier'!$Z:$AH,7,FALSE))=\"\",\"\",VLOOKUP(A478,'plan gier'!$Z:$AH,9,FALSE)))","v":""},{"$f":"IF(A478=0,\"\",IF(VLOOKUP(A478,'plan gier'!A:T,20,FALSE)=\"\",\"\",VLOOKUP(A478,'plan gier'!A:T,20,FALSE)))","v":""},{"$f":"L416","v":0},null,null,null,null,null,null,{"$f":"UPPER(IF(P477=\"\",\"\",IF(ISTEXT(L478),L478,IF(AND(L414>0,P477>0),VLOOKUP(L414&P477&J478,'grup-puch'!I:K,3,FALSE),\"\"))))","v":""},{"$f":"IF(Q478<>\"\",CONCATENATE(VLOOKUP(Q478,zawodnicy!$A:$E,2,FALSE),\" \",VLOOKUP(Q478,zawodnicy!$A:$E,3,FALSE),\" - \",VLOOKUP(Q478,zawodnicy!$A:$E,4,FALSE)),\"\")","v":""},null,{"$f":"IF(G478=\"\",\"\",VLOOKUP(G478,zawodnicy!$A:$D,3,FALSE))","v":""}]
[null,null,null,null,null,null,null,null,null,null,{"$f":"IF(L415>16,32,\"\")","v":32},null,null,null,null,{"$f":"IF(K479=\"\",\"\",MAX(P417:P478)+1)","v":32},{"$f":"UPPER(IF(P479=\"\",\"\",IF(ISTEXT(L479),L479,IF(AND(L414>0,P479>0),VLOOKUP(L414&P479&J478,'grup-puch'!I:J,2,FALSE),\"\"))))","v":""},{"$f":"IF(Q479<>\"\",CONCATENATE(VLOOKUP(Q479,zawodnicy!$A:$E,2,FALSE),\" \",VLOOKUP(Q479,zawodnicy!$A:$E,3,FALSE),\" - \",VLOOKUP(Q479,zawodnicy!$A:$E,4,FALSE)),\"\")","v":""},null,{"$f":"IF(H478=\"\",I478,H478)","v":""},null,"Sędzia główny"]
[null,null,null,null,null,null,null,null,null,null,null,null,null,null,null,null,{"$f":"UPPER(IF(P479=\"\",\"\",IF(ISTEXT(L480),L480,IF(AND(L414>0,P479>0),VLOOKUP(L414&P479&J478,'grup-puch'!I:K,3,FALSE),\"\"))))","v":""},{"$f":"IF(Q480<>\"\",CONCATENATE(VLOOKUP(Q480,zawodnicy!$A:$E,2,FALSE),\" \",VLOOKUP(Q480,zawodnicy!$A:$E,3,FALSE),\" - \",VLOOKUP(Q480,zawodnicy!$A:$E,4,FALSE)),\"\")","v":""},null,null,null,{"$f":"IF(ISBLANK(dane!$D$4),\"\",dane!$D$4)","v":"Marek Krawczyk"}]
[]
[]
[null,null,null,null,null,null,null,null,null,null,null,16]
[]
[null,null,null,null,null,null,null,null,null,null,{"$f":"IF(L483>8,1,\"\")","v":1},null,null,null,null,{"$f":"IF(K485=\"\",\"\",1)","v":1},{"$f":"UPPER(IF(P485=\"\",\"\",IF(ISTEXT(L485),L485,IF(AND(L482>0,P485>0),VLOOKUP(L482&P485&J486,'grup-puch'!I:J,2,FALSE),\"\"))))","v":""},{"$f":"IF(Q485<>\"\",CONCATENATE(VLOOKUP(Q485,zawodnicy!$A:$E,2,FALSE),\" \",VLOOKUP(Q485,zawodnicy!$A:$E,3,FALSE),\" - \",VLOOKUP(Q485,zawodnicy!$A:$E,4,FALSE)),\"\")","v":""},null,{"$f":"IF(F486=\"\",\"\",VLOOKUP(F486,zawodnicy!$A:$D,3,FALSE))","v":""}]
[{"$f":"S486","v":0},{"$f":"IF(Q485=\"\",\"\",Q485)","v":""},{"$f":"IF(Q486=\"\",\"\",Q486)","v":""},{"$f":"IF(Q487=\"\",\"\",Q487)","v":""},{"$f":"IF(Q488=\"\",\"\",Q488)","v":""},{"$f":"IF(A486=0,IF(AND(LEN(B486)>0,LEN(D486)=0),VLOOKUP(B486,zawodnicy!$A:$E,1,FALSE),IF(AND(LEN(D486)>0,LEN(B486)=0),VLOOKUP(D486,zawodnicy!$A:$E,1,FALSE),\"\")),IF((VLOOKUP(A486,'plan gier'!$Z:$AH,7,FALSE))=\"\",\"\",VLOOKUP(VLOOKUP(A486,'plan gier'!$Z:$AH,7,FALSE),zawodnicy!$A:$E,1,FALSE)))","v":""},{"$f":"IF(A486=0,IF(AND(LEN(C486)>1,LEN(E486)=0),VLOOKUP(C486,zawodnicy!$A:$E,1,FALSE),IF(AND(LEN(E486)>1,LEN(C486)=0),VLOOKUP(E486,zawodnicy!$A:$E,1,FALSE),\"\")),IF((VLOOKUP(A486,'plan gier'!$Z:$AH,8,FALSE))=\"\",\"\",VLOOKUP(VLOOKUP(A486,'plan gier'!$Z:$AH,8,FALSE),zawodnicy!$A:$E,1,FALSE)))","v":""},{"$f":"IF(A486=0,\"\",IF((VLOOKUP(A486,'plan gier'!$Z:$AH,7,FALSE))=\"\",\"\",VLOOKUP(A486,'plan gier'!$Z:$AH,9,FALSE)))","v":""},{"$f":"IF(A486=0,\"\",IF(VLOOKUP(A486,'plan gier'!A:T,20,FALSE)=\"\",\"\",VLOOKUP(A486,'plan gier'!A:T,20,FALSE)))","v":""},{"$f":"L484","v":0},null,null,null,null,null,null,{"$f":"UPPER(IF(P485=\"\",\"\",IF(ISTEXT(L486),L486,IF(AND(L482>0,P485>0),VLOOKUP(L482&P485&J486,'grup-puch'!I:K,3,FALSE),\"\"))))","v":""},{"$f":"IF(Q486<>\"\",CONCATENATE(VLOOKUP(Q486,zawodnicy!$A:$E,2,FALSE),\" \",VLOOKUP(Q486,zawodnicy!$A:$E,3,FALSE),\" - \",VLOOKUP(Q486,zawodnicy!$A:$E,4,FALSE)),\"\")","v":""},null,{"$f":"IF(G486=\"\",\"\",VLOOKUP(G486,zawodnicy!$A:$D,3,FALSE))","v":""}]
[null,null,null,null,null,null,null,null,null,null,{"$f":"IF(L483>15,3,\"\")","v":3},null,null,null,null,{"$f":"IF(K487=\"\",\"\",2)","v":2},{"$f":"UPPER(IF(P487=\"\",\"\",IF(ISTEXT(L487),L487,IF(AND(L482>0,P487>0),VLOOKUP(L482&P487&J486,'grup-puch'!I:J,2,FALSE),\"\"))))","v":""},{"$f":"IF(Q487<>\"\",CONCATENATE(VLOOKUP(Q487,zawodnicy!$A:$E,2,FALSE),\" \",VLOOKUP(Q487,zawodnicy!$A:$E,3,FALSE),\" - \",VLOOKUP(Q487,zawodnicy!$A:$E,4,FALSE)),\"\")","v":""},null,{"$f":"IF(H486=\"\",I486,H486)","v":""},{"$f":"IF(F488=\"\",\"\",VLOOKUP(F488,zawodnicy!$A:$D,3,FALSE))","v":""}]
[{"$f":"T488","v":0},{"$f":"F486","v":""},{"$f":"G486","v":""},{"$f":"F490","v":""},{"$f":"G490","v":""},{"$f":"IF(A488=0,IF(AND(LEN(B488)>0,LEN(D488)=0),B488,IF(AND(LEN(D488)>0,LEN(B488)=0),D488,\"\")),IF((VLOOKUP(A488,'plan gier'!$Z:$AH,7,FALSE))=\"\",\"\",VLOOKUP(VLOOKUP(A488,'plan gier'!$Z:$AH,7,FALSE),zawodnicy!$A:$E,1,FALSE)))","v":""},{"$f":"IF(A488=0,IF(AND(LEN(C488)>0,LEN(E488)=0),C488,IF(AND(LEN(E488)>0,LEN(C488)=0),E488,\"\")),IF((VLOOKUP(A488,'plan gier'!$Z:$AH,8,FALSE))=\"\",\"\",VLOOKUP(VLOOKUP(A488,'plan gier'!$Z:$AH,8,FALSE),zawodnicy!$A:$E,1,FALSE)))","v":""},{"$f":"IF(A488=0,\"\",IF((VLOOKUP(A488,'plan gier'!$Z:$AH,7,FALSE))=\"\",\"\",VLOOKUP(A488,'plan gier'!$Z:$AH,9,FALSE)))","v":""},{"$f":"IF(A488=0,\"\",IF(VLOOKUP(A488,'plan gier'!A:T,20,FALSE)=\"\",\"\",VLOOKUP(A488,'plan gier'!A:T,20,FALSE)))","v":""},{"$f":"L484","v":0},null,null,null,null,null,null,{"$f":"UPPER(IF(P487=\"\",\"\",IF(ISTEXT(L488),L488,IF(AND(L482>0,P487>0),VLOOKUP(L482&P487&J486,'grup-puch'!I:K,3,FALSE),\"\"))))","v":""},{"$f":"IF(Q488<>\"\",CONCATENATE(VLOOKUP(Q488,zawodnicy!$A:$E,2,FALSE),\" \",VLOOKUP(Q488,zawodnicy!$A:$E,3,FALSE),\" - \",VLOOKUP(Q488,zawodnicy!$A:$E,4,FALSE)),\"\")","v":""},null,null,{"$f":"IF(G488=\"\",\"\",VLOOKUP(G488,zawodnicy!$A:$D,3,FALSE))","v":""}]
[null,null,null,null,null,null,null,null,null,null,{"$f":"IF(L483>8,5,\"\")","v":5},null,null,null,null,{"$f":"IF(K489=\"\",\"\",MAX(P485:P488)+1)","v":3},{"$f":"UPPER(IF(P489=\"\",\"\",IF(ISTEXT(L489),L489,IF(AND(L482>0,P489>0),VLOOKUP(L482&P489&J490,'grup-puch'!I:J,2,FALSE),\"\"))))","v":""},{"$f":"IF(Q489<>\"\",CONCATENATE(VLOOKUP(Q489,zawodnicy!$A:$E,2,FALSE),\" \",VLOOKUP(Q489,zawodnicy!$A:$E,3,FALSE),\" - \",VLOOKUP(Q489,zawodnicy!$A:$E,4,FALSE)),\"\")","v":""},null,{"$f":"IF(F490=\"\",\"\",VLOOKUP(F490,zawodnicy!$A:$D,3,FALSE))","v":""},{"$f":"IF(H488=\"\",I488,H488)","v":""}]
[{"$f":"S490","v":0},{"$f":"IF(Q489=\"\",\"\",Q489)","v":""},{"$f":"IF(Q490=\"\",\"\",Q490)","v":""},{"$f":"IF(Q491=\"\",\"\",Q491)","v":""},{"$f":"IF(Q492=\"\",\"\",Q492)","v":""},{"$f":"IF(A490=0,IF(AND(LEN(B490)>0,LEN(D490)=0),VLOOKUP(B490,zawodnicy!$A:$E,1,FALSE),IF(AND(LEN(D490)>0,LEN(B490)=0),VLOOKUP(D490,zawodnicy!$A:$E,1,FALSE),\"\")),IF((VLOOKUP(A490,'plan gier'!$Z:$AH,7,FALSE))=\"\",\"\",VLOOKUP(VLOOKUP(A490,'plan gier'!$Z:$AH,7,FALSE),zawodnicy!$A:$E,1,FALSE)))","v":""},{"$f":"IF(A490=0,IF(AND(LEN(C490)>1,LEN(E490)=0),VLOOKUP(C490,zawodnicy!$A:$E,1,FALSE),IF(AND(LEN(E490)>1,LEN(C490)=0),VLOOKUP(E490,zawodnicy!$A:$E,1,FALSE),\"\")),IF((VLOOKUP(A490,'plan gier'!$Z:$AH,8,FALSE))=\"\",\"\",VLOOKUP(VLOOKUP(A490,'plan gier'!$Z:$AH,8,FALSE),zawodnicy!$A:$E,1,FALSE)))","v":""},{"$f":"IF(A490=0,\"\",IF((VLOOKUP(A490,'plan gier'!$Z:$AH,7,FALSE))=\"\",\"\",VLOOKUP(A490,'plan gier'!$Z:$AH,9,FALSE)))","v":""},{"$f":"IF(A490=0,\"\",IF(VLOOKUP(A490,'plan gier'!A:T,20,FALSE)=\"\",\"\",VLOOKUP(A490,'plan gier'!A:T,20,FALSE)))","v":""},{"$f":"L484","v":0},null,null,null,null,null,null,{"$f":"UPPER(IF(P489=\"\",\"\",IF(ISTEXT(L490),L490,IF(AND(L482>0,P489>0),VLOOKUP(L482&P489&J490,'grup-puch'!I:K,3,FALSE),\"\"))))","v":""},{"$f":"IF(Q490<>\"\",CONCATENATE(VLOOKUP(Q490,zawodnicy!$A:$E,2,FALSE),\" \",VLOOKUP(Q490,zawodnicy!$A:$E,3,FALSE),\" - \",VLOOKUP(Q490,zawodnicy!$A:$E,4,FALSE)),\"\")","v":""},null,{"$f":"IF(G490=\"\",\"\",VLOOKUP(G490,zawodnicy!$A:$D,3,FALSE))","v":""}]
[null,null,null,null,null,null,null,null,null,null,{"$f":"IF(L483>11,7,\"\")","v":7},null,null,null,null,{"$f":"IF(K491=\"\",\"\",MAX(P485:P490)+1)","v":4},{"$f":"UPPER(IF(P491=\"\",\"\",IF(ISTEXT(L491),L491,IF(AND(L482>0,P491>0),VLOOKUP(L482&P491&J490,'grup-puch'!I:J,2,FALSE),\"\"))))","v":""},{"$f":"IF(Q491<>\"\",CONCATENATE(VLOOKUP(Q491,zawodnicy!$A:$E,2,FALSE),\" \",VLOOKUP(Q491,zawodnicy!$A:$E,3,FALSE),\" - \",VLOOKUP(Q491,zawodnicy!$A:$E,4,FALSE)),\"\")","v":""},null,{"$f":"IF(H490=\"\",I490,H490)","v":""},null,{"$f":"IF(F492=\"\",\"\",VLOOKUP(F492,zawodnicy!$A:$D,3,FALSE))","v":""}]
[{"$f":"U492","v":0},{"$f":"F488","v":""},{"$f":"G488","v":""},{"$f":"F496","v":""},{"$f":"G496","v":""},{"$f":"IF(A492=0,IF(AND(LEN(B492)>0,LEN(D492)=0),B492,IF(AND(LEN(D492)>0,LEN(B492)=0),D492,\"\")),IF((VLOOKUP(A492,'plan gier'!$Z:$AH,7,FALSE))=\"\",\"\",VLOOKUP(VLOOKUP(A492,'plan gier'!$Z:$AH,7,FALSE),zawodnicy!$A:$E,1,FALSE)))","v":""},{"$f":"IF(A492=0,IF(AND(LEN(C492)>0,LEN(E492)=0),C492,IF(AND(LEN(E492)>0,LEN(C492)=0),E492,\"\")),IF((VLOOKUP(A492,'plan gier'!$Z:$AH,8,FALSE))=\"\",\"\",VLOOKUP(VLOOKUP(A492,'plan gier'!$Z:$AH,8,FALSE),zawodnicy!$A:$E,1,FALSE)))","v":""},{"$f":"IF(A492=0,\"\",IF((VLOOKUP(A492,'plan gier'!$Z:$AH,7,FALSE))=\"\",\"\",VLOOKUP(A492,'plan gier'!$Z:$AH,9,FALSE)))","v":""},{"$f":"IF(A492=0,\"\",IF(VLOOKUP(A492,'plan gier'!A:T,20,FALSE)=\"\",\"\",VLOOKUP(A492,'plan gier'!A:T,20,FALSE)))","v":""},{"$f":"L484","v":0},null,null,null,null,null,null,{"$f":"UPPER(IF(P491=\"\",\"\",IF(ISTEXT(L492),L492,IF(AND(L482>0,P491>0),VLOOKUP(L482&P491&J490,'grup-puch'!I:K,3,FALSE),\"\"))))","v":""},{"$f":"IF(Q492<>\"\",CONCATENATE(VLOOKUP(Q492,zawodnicy!$A:$E,2,FALSE),\" \",VLOOKUP(Q492,zawodnicy!$A:$E,3,FALSE),\" - \",VLOOKUP(Q492,zawodnicy!$A:$E,4,FALSE)),\"\")","v":""},null,null,null,{"$f":"IF(G492=\"\",\"\",VLOOKUP(G492,zawodnicy!$A:$D,3,FALSE))","v":""}]
[null,null,null,null,null,null,null,null,null,null,{"$f":"IF(L483>8,9,\"\")","v":9},null,null,null,null,{"$f":"IF(K493=\"\",\"\",MAX(P485:P492)+1)","v":5},{"$f":"UPPER(IF(P493=\"\",\"\",IF(ISTEXT(L493),L493,IF(AND(L482>0,P493>0),VLOOKUP(L482&P493&J494,'grup-puch'!I:J,2,FALSE),\"\"))))","v":""},{"$f":"IF(Q493<>\"\",CONCATENATE(VLOOKUP(Q493,zawodnicy!$A:$E,2,FALSE),\" \",VLOOKUP(Q493,zawodnicy!$A:$E,3,FALSE),\" - \",VLOOKUP(Q493,zawodnicy!$A:$E,4,FALSE)),\"\")","v":""},null,{"$f":"IF(F494=\"\",\"\",VLOOKUP(F494,zawodnicy!$A:$D,3,FALSE))","v":""},null,{"$f":"IF(H492=\"\",I492,H492)","v":""}]
[{"$f":"S494","v":0},{"$f":"IF(Q493=\"\",\"\",Q493)","v":""},{"$f":"IF(Q494=\"\",\"\",Q494)","v":""},{"$f":"IF(Q495=\"\",\"\",Q495)","v":""},{"$f":"IF(Q496=\"\",\"\",Q496)","v":""},{"$f":"IF(A494=0,IF(AND(LEN(B494)>0,LEN(D494)=0),VLOOKUP(B494,zawodnicy!$A:$E,1,FALSE),IF(AND(LEN(D494)>0,LEN(B494)=0),VLOOKUP(D494,zawodnicy!$A:$E,1,FALSE),\"\")),IF((VLOOKUP(A494,'plan gier'!$Z:$AH,7,FALSE))=\"\",\"\",VLOOKUP(VLOOKUP(A494,'plan gier'!$Z:$AH,7,FALSE),zawodnicy!$A:$E,1,FALSE)))","v":""},{"$f":"IF(A494=0,IF(AND(LEN(C494)>1,LEN(E494)=0),VLOOKUP(C494,zawodnicy!$A:$E,1,FALSE),IF(AND(LEN(E494)>1,LEN(C494)=0),VLOOKUP(E494,zawodnicy!$A:$E,1,FALSE),\"\")),IF((VLOOKUP(A494,'plan gier'!$Z:$AH,8,FALSE))=\"\",\"\",VLOOKUP(VLOOKUP(A494,'plan gier'!$Z:$AH,8,FALSE),zawodnicy!$A:$E,1,FALSE)))","v":""},{"$f":"IF(A494=0,\"\",IF((VLOOKUP(A494,'plan gier'!$Z:$AH,7,FALSE))=\"\",\"\",VLOOKUP(A494,'plan gier'!$Z:$AH,9,FALSE)))","v":""},{"$f":"IF(A494=0,\"\",IF(VLOOKUP(A494,'plan gier'!A:T,20,FALSE)=\"\",\"\",VLOOKUP(A494,'plan gier'!A:T,20,FALSE)))","v":""},{"$f":"L484","v":0},null,null,null,null,null,null,{"$f":"UPPER(IF(P493=\"\",\"\",IF(ISTEXT(L494),L494,IF(AND(L482>0,P493>0),VLOOKUP(L482&P493&J494,'grup-puch'!I:K,3,FALSE),\"\"))))","v":""},{"$f":"IF(Q494<>\"\",CONCATENATE(VLOOKUP(Q494,zawodnicy!$A:$E,2,FALSE),\" \",VLOOKUP(Q494,zawodnicy!$A:$E,3,FALSE),\" - \",VLOOKUP(Q494,zawodnicy!$A:$E,4,FALSE)),\"\")","v":""},null,{"$f":"IF(G494=\"\",\"\",VLOOKUP(G494,zawodnicy!$A:$D,3,FALSE))","v":""}]
[null,null,null,null,null,null,null,null,null,null,{"$f":"IF(L483>13,11,\"\")","v":11},null,null,null,null,{"$f":"IF(K495=\"\",\"\",MAX(P485:P494)+1)","v":6},{"$f":"UPPER(IF(P495=\"\",\"\",IF(ISTEXT(L495),L495,IF(AND(L482>0,P495>0),VLOOKUP(L482&P495&J494,'grup-puch'!I:J,2,FALSE),\"\"))))","v":""},{"$f":"IF(Q495<>\"\",CONCATENATE(VLOOKUP(Q495,zawodnicy!$A:$E,2,FALSE),\" \",VLOOKUP(Q495,zawodnicy!$A:$E,3,FALSE),\" - \",VLOOKUP(Q495,zawodnicy!$A:$E,4,FALSE)),\"\")","v":""},null,{"$f":"IF(H494=\"\",I494,H494)","v":""},{"$f":"IF(F496=\"\",\"\",VLOOKUP(F496,zawodnicy!$A:$D,3,FALSE))","v":""}]
[{"$f":"T496","v":0},{"$f":"F494","v":""},{"$f":"G494","v":""},{"$f":"F498","v":""},{"$f":"G498","v":""},{"$f":"IF(A496=0,IF(AND(LEN(B496)>0,LEN(D496)=0),B496,IF(AND(LEN(D496)>0,LEN(B496)=0),D496,\"\")),IF((VLOOKUP(A496,'plan gier'!$Z:$AH,7,FALSE))=\"\",\"\",VLOOKUP(VLOOKUP(A496,'plan gier'!$Z:$AH,7,FALSE),zawodnicy!$A:$E,1,FALSE)))","v":""},{"$f":"IF(A496=0,IF(AND(LEN(C496)>0,LEN(E496)=0),C496,IF(AND(LEN(E496)>0,LEN(C496)=0),E496,\"\")),IF((VLOOKUP(A496,'plan gier'!$Z:$AH,8,FALSE))=\"\",\"\",VLOOKUP(VLOOKUP(A496,'plan gier'!$Z:$AH,8,FALSE),zawodnicy!$A:$E,1,FALSE)))","v":""},{"$f":"IF(A496=0,\"\",IF((VLOOKUP(A496,'plan gier'!$Z:$AH,7,FALSE))=\"\",\"\",VLOOKUP(A496,'plan gier'!$Z:$AH,9,FALSE)))","v":""},{"$f":"IF(A496=0,\"\",IF(VLOOKUP(A496,'plan gier'!A:T,20,FALSE)=\"\",\"\",VLOOKUP(A496,'plan gier'!A:T,20,FALSE)))","v":""},{"$f":"L484","v":0},null,null,null,null,null,null,{"$f":"UPPER(IF(P495=\"\",\"\",IF(ISTEXT(L496),L496,IF(AND(L482>0,P495>0),VLOOKUP(L482&P495&J494,'grup-puch'!I:K,3,FALSE),\"\"))))","v":""},{"$f":"IF(Q496<>\"\",CONCATENATE(VLOOKUP(Q496,zawodnicy!$A:$E,2,FALSE),\" \",VLOOKUP(Q496,zawodnicy!$A:$E,3,FALSE),\" - \",VLOOKUP(Q496,zawodnicy!$A:$E,4,FALSE)),\"\")","v":""},null,null,{"$f":"IF(G496=\"\",\"\",VLOOKUP(G496,zawodnicy!$A:$D,3,FALSE))","v":""}]
[null,null,null,null,null,null,null,null,null,null,{"$f":"IF(L483>8,13,\"\")","v":13},null,null,null,null,{"$f":"IF(K497=\"\",\"\",MAX(P485:P496)+1)","v":7},{"$f":"UPPER(IF(P497=\"\",\"\",IF(ISTEXT(L497),L497,IF(AND(L482>0,P497>0),VLOOKUP(L482&P497&J498,'grup-puch'!I:J,2,FALSE),\"\"))))","v":""},{"$f":"IF(Q497<>\"\",CONCATENATE(VLOOKUP(Q497,zawodnicy!$A:$E,2,FALSE),\" \",VLOOKUP(Q497,zawodnicy!$A:$E,3,FALSE),\" - \",VLOOKUP(Q497,zawodnicy!$A:$E,4,FALSE)),\"\")","v":""},null,{"$f":"IF(F498=\"\",\"\",VLOOKUP(F498,zawodnicy!$A:$D,3,FALSE))","v":""},{"$f":"IF(H496=\"\",I496,H496)","v":""}]
[{"$f":"S498","v":0},{"$f":"IF(Q497=\"\",\"\",Q497)","v":""},{"$f":"IF(Q498=\"\",\"\",Q498)","v":""},{"$f":"IF(Q499=\"\",\"\",Q499)","v":""},{"$f":"IF(Q500=\"\",\"\",Q500)","v":""},{"$f":"IF(A498=0,IF(AND(LEN(B498)>0,LEN(D498)=0),VLOOKUP(B498,zawodnicy!$A:$E,1,FALSE),IF(AND(LEN(D498)>0,LEN(B498)=0),VLOOKUP(D498,zawodnicy!$A:$E,1,FALSE),\"\")),IF((VLOOKUP(A498,'plan gier'!$Z:$AH,7,FALSE))=\"\",\"\",VLOOKUP(VLOOKUP(A498,'plan gier'!$Z:$AH,7,FALSE),zawodnicy!$A:$E,1,FALSE)))","v":""},{"$f":"IF(A498=0,IF(AND(LEN(C498)>1,LEN(E498)=0),VLOOKUP(C498,zawodnicy!$A:$E,1,FALSE),IF(AND(LEN(E498)>1,LEN(C498)=0),VLOOKUP(E498,zawodnicy!$A:$E,1,FALSE),\"\")),IF((VLOOKUP(A498,'plan gier'!$Z:$AH,8,FALSE))=\"\",\"\",VLOOKUP(VLOOKUP(A498,'plan gier'!$Z:$AH,8,FALSE),zawodnicy!$A:$E,1,FALSE)))","v":""},{"$f":"IF(A498=0,\"\",IF((VLOOKUP(A498,'plan gier'!$Z:$AH,7,FALSE))=\"\",\"\",VLOOKUP(A498,'plan gier'!$Z:$AH,9,FALSE)))","v":""},{"$f":"IF(A498=0,\"\",IF(VLOOKUP(A498,'plan gier'!A:T,20,FALSE)=\"\",\"\",VLOOKUP(A498,'plan gier'!A:T,20,FALSE)))","v":""},{"$f":"L484","v":0},null,null,null,null,null,null,{"$f":"UPPER(IF(P497=\"\",\"\",IF(ISTEXT(L498),L498,IF(AND(L482>0,P497>0),VLOOKUP(L482&P497&J498,'grup-puch'!I:K,3,FALSE),\"\"))))","v":""},{"$f":"IF(Q498<>\"\",CONCATENATE(VLOOKUP(Q498,zawodnicy!$A:$E,2,FALSE),\" \",VLOOKUP(Q498,zawodnicy!$A:$E,3,FALSE),\" - \",VLOOKUP(Q498,zawodnicy!$A:$E,4,FALSE)),\"\")","v":""},null,{"$f":"IF(G498=\"\",\"\",VLOOKUP(G498,zawodnicy!$A:$D,3,FALSE))","v":""}]
[null,null,null,null,null,null,null,null,null,null,{"$f":"IF(L483>9,15,\"\")","v":15},null,null,null,null,{"$f":"IF(K499=\"\",\"\",MAX(P485:P498)+1)","v":8},{"$f":"UPPER(IF(P499=\"\",\"\",IF(ISTEXT(L499),L499,IF(AND(L482>0,P499>0),VLOOKUP(L482&P499&J498,'grup-puch'!I:J,2,FALSE),\"\"))))","v":""},{"$f":"IF(Q499<>\"\",CONCATENATE(VLOOKUP(Q499,zawodnicy!$A:$E,2,FALSE),\" \",VLOOKUP(Q499,zawodnicy!$A:$E,3,FALSE),\" - \",VLOOKUP(Q499,zawodnicy!$A:$E,4,FALSE)),\"\")","v":""},null,{"$f":"IF(H498=\"\",I498,H498)","v":""},null,null,{"$f":"IF(F500=\"\",\"\",VLOOKUP(F500,zawodnicy!$A:$D,3,FALSE))","v":""}]
[{"$f":"V500","v":0},{"$f":"F492","v":""},{"$f":"G492","v":""},{"$f":"F508","v":""},{"$f":"G508","v":""},{"$f":"IF(A500=0,IF(AND(LEN(B500)>0,LEN(D500)=0),B500,IF(AND(LEN(D500)>0,LEN(B500)=0),D500,\"\")),IF((VLOOKUP(A500,'plan gier'!$Z:$AH,7,FALSE))=\"\",\"\",VLOOKUP(VLOOKUP(A500,'plan gier'!$Z:$AH,7,FALSE),zawodnicy!$A:$E,1,FALSE)))","v":""},{"$f":"IF(A500=0,IF(AND(LEN(C500)>0,LEN(E500)=0),C500,IF(AND(LEN(E500)>0,LEN(C500)=0),E500,\"\")),IF((VLOOKUP(A500,'plan gier'!$Z:$AH,8,FALSE))=\"\",\"\",VLOOKUP(VLOOKUP(A500,'plan gier'!$Z:$AH,8,FALSE),zawodnicy!$A:$E,1,FALSE)))","v":""},{"$f":"IF(A500=0,\"\",IF((VLOOKUP(A500,'plan gier'!$Z:$AH,7,FALSE))=\"\",\"\",VLOOKUP(A500,'plan gier'!$Z:$AH,9,FALSE)))","v":""},{"$f":"IF(A500=0,\"\",IF(VLOOKUP(A500,'plan gier'!A:T,20,FALSE)=\"\",\"\",VLOOKUP(A500,'plan gier'!A:T,20,FALSE)))","v":""},{"$f":"L484","v":0},null,null,null,null,null,null,{"$f":"UPPER(IF(P499=\"\",\"\",IF(ISTEXT(L500),L500,IF(AND(L482>0,P499>0),VLOOKUP(L482&P499&J498,'grup-puch'!I:K,3,FALSE),\"\"))))","v":""},{"$f":"IF(Q500<>\"\",CONCATENATE(VLOOKUP(Q500,zawodnicy!$A:$E,2,FALSE),\" \",VLOOKUP(Q500,zawodnicy!$A:$E,3,FALSE),\" - \",VLOOKUP(Q500,zawodnicy!$A:$E,4,FALSE)),\"\")","v":""},null,null,null,null,{"$f":"IF(G500=\"\",\"\",VLOOKUP(G500,zawodnicy!$A:$D,3,FALSE))","v":""}]
[null,null,null,null,null,null,null,null,null,null,{"$f":"IF(L483>8,18,\"\")","v":18},null,null,null,null,{"$f":"IF(K501=\"\",\"\",MAX(P485:P500)+1)","v":9},{"$f":"UPPER(IF(P501=\"\",\"\",IF(ISTEXT(L501),L501,IF(AND(L482>0,P501>0),VLOOKUP(L482&P501&J502,'grup-puch'!I:J,2,FALSE),\"\"))))","v":""},{"$f":"IF(Q501<>\"\",CONCATENATE(VLOOKUP(Q501,zawodnicy!$A:$E,2,FALSE),\" \",VLOOKUP(Q501,zawodnicy!$A:$E,3,FALSE),\" - \",VLOOKUP(Q501,zawodnicy!$A:$E,4,FALSE)),\"\")","v":""},null,{"$f":"IF(F502=\"\",\"\",VLOOKUP(F502,zawodnicy!$A:$D,3,FALSE))","v":""},null,null,{"$f":"IF(H500=\"\",I500,H500)","v":""}]
[{"$f":"S502","v":0},{"$f":"IF(Q501=\"\",\"\",Q501)","v":""},{"$f":"IF(Q502=\"\",\"\",Q502)","v":""},{"$f":"IF(Q503=\"\",\"\",Q503)","v":""},{"$f":"IF(Q504=\"\",\"\",Q504)","v":""},{"$f":"IF(A502=0,IF(AND(LEN(B502)>0,LEN(D502)=0),VLOOKUP(B502,zawodnicy!$A:$E,1,FALSE),IF(AND(LEN(D502)>0,LEN(B502)=0),VLOOKUP(D502,zawodnicy!$A:$E,1,FALSE),\"\")),IF((VLOOKUP(A502,'plan gier'!$Z:$AH,7,FALSE))=\"\",\"\",VLOOKUP(VLOOKUP(A502,'plan gier'!$Z:$AH,7,FALSE),zawodnicy!$A:$E,1,FALSE)))","v":""},{"$f":"IF(A502=0,IF(AND(LEN(C502)>1,LEN(E502)=0),VLOOKUP(C502,zawodnicy!$A:$E,1,FALSE),IF(AND(LEN(E502)>1,LEN(C502)=0),VLOOKUP(E502,zawodnicy!$A:$E,1,FALSE),\"\")),IF((VLOOKUP(A502,'plan gier'!$Z:$AH,8,FALSE))=\"\",\"\",VLOOKUP(VLOOKUP(A502,'plan gier'!$Z:$AH,8,FALSE),zawodnicy!$A:$E,1,FALSE)))","v":""},{"$f":"IF(A502=0,\"\",IF((VLOOKUP(A502,'plan gier'!$Z:$AH,7,FALSE))=\"\",\"\",VLOOKUP(A502,'plan gier'!$Z:$AH,9,FALSE)))","v":""},{"$f":"IF(A502=0,\"\",IF(VLOOKUP(A502,'plan gier'!A:T,20,FALSE)=\"\",\"\",VLOOKUP(A502,'plan gier'!A:T,20,FALSE)))","v":""},{"$f":"L484","v":0},null,null,null,null,null,null,{"$f":"UPPER(IF(P501=\"\",\"\",IF(ISTEXT(L502),L502,IF(AND(L482>0,P501>0),VLOOKUP(L482&P501&J502,'grup-puch'!I:K,3,FALSE),\"\"))))","v":""},{"$f":"IF(Q502<>\"\",CONCATENATE(VLOOKUP(Q502,zawodnicy!$A:$E,2,FALSE),\" \",VLOOKUP(Q502,zawodnicy!$A:$E,3,FALSE),\" - \",VLOOKUP(Q502,zawodnicy!$A:$E,4,FALSE)),\"\")","v":""},null,{"$f":"IF(G502=\"\",\"\",VLOOKUP(G502,zawodnicy!$A:$D,3,FALSE))","v":""}]
[null,null,null,null,null,null,null,null,null,null,{"$f":"IF(L483>8,20,\"\")","v":20},null,null,null,null,{"$f":"IF(K503=\"\",\"\",MAX(P485:P502)+1)","v":10},{"$f":"UPPER(IF(P503=\"\",\"\",IF(ISTEXT(L503),L503,IF(AND(L482>0,P503>0),VLOOKUP(L482&P503&J502,'grup-puch'!I:J,2,FALSE),\"\"))))","v":""},{"$f":"IF(Q503<>\"\",CONCATENATE(VLOOKUP(Q503,zawodnicy!$A:$E,2,FALSE),\" \",VLOOKUP(Q503,zawodnicy!$A:$E,3,FALSE),\" - \",VLOOKUP(Q503,zawodnicy!$A:$E,4,FALSE)),\"\")","v":""},null,{"$f":"IF(H502=\"\",I502,H502)","v":""},{"$f":"IF(F504=\"\",\"\",VLOOKUP(F504,zawodnicy!$A:$D,3,FALSE))","v":""}]
[{"$f":"T504","v":0},{"$f":"F502","v":""},{"$f":"G502","v":""},{"$f":"F506","v":""},{"$f":"G506","v":""},{"$f":"IF(A504=0,IF(AND(LEN(B504)>0,LEN(D504)=0),B504,IF(AND(LEN(D504)>0,LEN(B504)=0),D504,\"\")),IF((VLOOKUP(A504,'plan gier'!$Z:$AH,7,FALSE))=\"\",\"\",VLOOKUP(VLOOKUP(A504,'plan gier'!$Z:$AH,7,FALSE),zawodnicy!$A:$E,1,FALSE)))","v":""},{"$f":"IF(A504=0,IF(AND(LEN(C504)>0,LEN(E504)=0),C504,IF(AND(LEN(E504)>0,LEN(C504)=0),E504,\"\")),IF((VLOOKUP(A504,'plan gier'!$Z:$AH,8,FALSE))=\"\",\"\",VLOOKUP(VLOOKUP(A504,'plan gier'!$Z:$AH,8,FALSE),zawodnicy!$A:$E,1,FALSE)))","v":""},{"$f":"IF(A504=0,\"\",IF((VLOOKUP(A504,'plan gier'!$Z:$AH,7,FALSE))=\"\",\"\",VLOOKUP(A504,'plan gier'!$Z:$AH,9,FALSE)))","v":""},{"$f":"IF(A504=0,\"\",IF(VLOOKUP(A504,'plan gier'!A:T,20,FALSE)=\"\",\"\",VLOOKUP(A504,'plan gier'!A:T,20,FALSE)))","v":""},{"$f":"L484","v":0},null,null,null,null,null,null,{"$f":"UPPER(IF(P503=\"\",\"\",IF(ISTEXT(L504),L504,IF(AND(L482>0,P503>0),VLOOKUP(L482&P503&J502,'grup-puch'!I:K,3,FALSE),\"\"))))","v":""},{"$f":"IF(Q504<>\"\",CONCATENATE(VLOOKUP(Q504,zawodnicy!$A:$E,2,FALSE),\" \",VLOOKUP(Q504,zawodnicy!$A:$E,3,FALSE),\" - \",VLOOKUP(Q504,zawodnicy!$A:$E,4,FALSE)),\"\")","v":""},null,null,{"$f":"IF(G504=\"\",\"\",VLOOKUP(G504,zawodnicy!$A:$D,3,FALSE))","v":""}]
[null,null,null,null,null,null,null,null,null,null,{"$f":"IF(L483>12,22,\"\")","v":22},null,null,null,null,{"$f":"IF(K505=\"\",\"\",MAX(P485:P504)+1)","v":11},{"$f":"UPPER(IF(P505=\"\",\"\",IF(ISTEXT(L505),L505,IF(AND(L482>0,P505>0),VLOOKUP(L482&P505&J506,'grup-puch'!I:J,2,FALSE),\"\"))))","v":""},{"$f":"IF(Q505<>\"\",CONCATENATE(VLOOKUP(Q505,zawodnicy!$A:$E,2,FALSE),\" \",VLOOKUP(Q505,zawodnicy!$A:$E,3,FALSE),\" - \",VLOOKUP(Q505,zawodnicy!$A:$E,4,FALSE)),\"\")","v":""},null,{"$f":"IF(F506=\"\",\"\",VLOOKUP(F506,zawodnicy!$A:$D,3,FALSE))","v":""},{"$f":"IF(H504=\"\",I504,H504)","v":""}]
[{"$f":"S506","v":0},{"$f":"IF(Q505=\"\",\"\",Q505)","v":""},{"$f":"IF(Q506=\"\",\"\",Q506)","v":""},{"$f":"IF(Q507=\"\",\"\",Q507)","v":""},{"$f":"IF(Q508=\"\",\"\",Q508)","v":""},{"$f":"IF(A506=0,IF(AND(LEN(B506)>0,LEN(D506)=0),VLOOKUP(B506,zawodnicy!$A:$E,1,FALSE),IF(AND(LEN(D506)>0,LEN(B506)=0),VLOOKUP(D506,zawodnicy!$A:$E,1,FALSE),\"\")),IF((VLOOKUP(A506,'plan gier'!$Z:$AH,7,FALSE))=\"\",\"\",VLOOKUP(VLOOKUP(A506,'plan gier'!$Z:$AH,7,FALSE),zawodnicy!$A:$E,1,FALSE)))","v":""},{"$f":"IF(A506=0,IF(AND(LEN(C506)>1,LEN(E506)=0),VLOOKUP(C506,zawodnicy!$A:$E,1,FALSE),IF(AND(LEN(E506)>1,LEN(C506)=0),VLOOKUP(E506,zawodnicy!$A:$E,1,FALSE),\"\")),IF((VLOOKUP(A506,'plan gier'!$Z:$AH,8,FALSE))=\"\",\"\",VLOOKUP(VLOOKUP(A506,'plan gier'!$Z:$AH,8,FALSE),zawodnicy!$A:$E,1,FALSE)))","v":""},{"$f":"IF(A506=0,\"\",IF((VLOOKUP(A506,'plan gier'!$Z:$AH,7,FALSE))=\"\",\"\",VLOOKUP(A506,'plan gier'!$Z:$AH,9,FALSE)))","v":""},{"$f":"IF(A506=0,\"\",IF(VLOOKUP(A506,'plan gier'!A:T,20,FALSE)=\"\",\"\",VLOOKUP(A506,'plan gier'!A:T,20,FALSE)))","v":""},{"$f":"L484","v":0},null,null,null,null,null,null,{"$f":"UPPER(IF(P505=\"\",\"\",IF(ISTEXT(L506),L506,IF(AND(L482>0,P505>0),VLOOKUP(L482&P505&J506,'grup-puch'!I:K,3,FALSE),\"\"))))","v":""},{"$f":"IF(Q506<>\"\",CONCATENATE(VLOOKUP(Q506,zawodnicy!$A:$E,2,FALSE),\" \",VLOOKUP(Q506,zawodnicy!$A:$E,3,FALSE),\" - \",VLOOKUP(Q506,zawodnicy!$A:$E,4,FALSE)),\"\")","v":""},null,{"$f":"IF(G506=\"\",\"\",VLOOKUP(G506,zawodnicy!$A:$D,3,FALSE))","v":""}]
[null,null,null,null,null,null,null,null,null,null,{"$f":"IF(L483>8,24,\"\")","v":24},null,null,null,null,{"$f":"IF(K507=\"\",\"\",MAX(P485:P506)+1)","v":12},{"$f":"UPPER(IF(P507=\"\",\"\",IF(ISTEXT(L507),L507,IF(AND(L482>0,P507>0),VLOOKUP(L482&P507&J506,'grup-puch'!I:J,2,FALSE),\"\"))))","v":""},{"$f":"IF(Q507<>\"\",CONCATENATE(VLOOKUP(Q507,zawodnicy!$A:$E,2,FALSE),\" \",VLOOKUP(Q507,zawodnicy!$A:$E,3,FALSE),\" - \",VLOOKUP(Q507,zawodnicy!$A:$E,4,FALSE)),\"\")","v":""},null,{"$f":"IF(H506=\"\",I506,H506)","v":""},null,{"$f":"IF(F508=\"\",\"\",VLOOKUP(F508,zawodnicy!$A:$D,3,FALSE))","v":""}]
[{"$f":"U508","v":0},{"$f":"F504","v":""},{"$f":"G504","v":""},{"$f":"F512","v":""},{"$f":"G512","v":""},{"$f":"IF(A508=0,IF(AND(LEN(B508)>0,LEN(D508)=0),B508,IF(AND(LEN(D508)>0,LEN(B508)=0),D508,\"\")),IF((VLOOKUP(A508,'plan gier'!$Z:$AH,7,FALSE))=\"\",\"\",VLOOKUP(VLOOKUP(A508,'plan gier'!$Z:$AH,7,FALSE),zawodnicy!$A:$E,1,FALSE)))","v":""},{"$f":"IF(A508=0,IF(AND(LEN(C508)>0,LEN(E508)=0),C508,IF(AND(LEN(E508)>0,LEN(C508)=0),E508,\"\")),IF((VLOOKUP(A508,'plan gier'!$Z:$AH,8,FALSE))=\"\",\"\",VLOOKUP(VLOOKUP(A508,'plan gier'!$Z:$AH,8,FALSE),zawodnicy!$A:$E,1,FALSE)))","v":""},{"$f":"IF(A508=0,\"\",IF((VLOOKUP(A508,'plan gier'!$Z:$AH,7,FALSE))=\"\",\"\",VLOOKUP(A508,'plan gier'!$Z:$AH,9,FALSE)))","v":""},{"$f":"IF(A508=0,\"\",IF(VLOOKUP(A508,'plan gier'!A:T,20,FALSE)=\"\",\"\",VLOOKUP(A508,'plan gier'!A:T,20,FALSE)))","v":""},{"$f":"L484","v":0},null,null,null,null,null,null,{"$f":"UPPER(IF(P507=\"\",\"\",IF(ISTEXT(L508),L508,IF(AND(L482>0,P507>0),VLOOKUP(L482&P507&J506,'grup-puch'!I:K,3,FALSE),\"\"))))","v":""},{"$f":"IF(Q508<>\"\",CONCATENATE(VLOOKUP(Q508,zawodnicy!$A:$E,2,FALSE),\" \",VLOOKUP(Q508,zawodnicy!$A:$E,3,FALSE),\" - \",VLOOKUP(Q508,zawodnicy!$A:$E,4,FALSE)),\"\")","v":""},null,null,null,{"$f":"IF(G508=\"\",\"\",VLOOKUP(G508,zawodnicy!$A:$D,3,FALSE))","v":""}]
[null,null,null,null,null,null,null,null,null,null,{"$f":"IF(L483>10,26,\"\")","v":26},null,null,null,null,{"$f":"IF(K509=\"\",\"\",MAX(P485:P508)+1)","v":13},{"$f":"UPPER(IF(P509=\"\",\"\",IF(ISTEXT(L509),L509,IF(AND(L482>0,P509>0),VLOOKUP(L482&P509&J510,'grup-puch'!I:J,2,FALSE),\"\"))))","v":""},{"$f":"IF(Q509<>\"\",CONCATENATE(VLOOKUP(Q509,zawodnicy!$A:$E,2,FALSE),\" \",VLOOKUP(Q509,zawodnicy!$A:$E,3,FALSE),\" - \",VLOOKUP(Q509,zawodnicy!$A:$E,4,FALSE)),\"\")","v":""},null,{"$f":"IF(F510=\"\",\"\",VLOOKUP(F510,zawodnicy!$A:$D,3,FALSE))","v":""},null,{"$f":"IF(H508=\"\",I508,H508)","v":""}]
[{"$f":"S510","v":0},{"$f":"IF(Q509=\"\",\"\",Q509)","v":""},{"$f":"IF(Q510=\"\",\"\",Q510)","v":""},{"$f":"IF(Q511=\"\",\"\",Q511)","v":""},{"$f":"IF(Q512=\"\",\"\",Q512)","v":""},{"$f":"IF(A510=0,IF(AND(LEN(B510)>0,LEN(D510)=0),VLOOKUP(B510,zawodnicy!$A:$E,1,FALSE),IF(AND(LEN(D510)>0,LEN(B510)=0),VLOOKUP(D510,zawodnicy!$A:$E,1,FALSE),\"\")),IF((VLOOKUP(A510,'plan gier'!$Z:$AH,7,FALSE))=\"\",\"\",VLOOKUP(VLOOKUP(A510,'plan gier'!$Z:$AH,7,FALSE),zawodnicy!$A:$E,1,FALSE)))","v":""},{"$f":"IF(A510=0,IF(AND(LEN(C510)>1,LEN(E510)=0),VLOOKUP(C510,zawodnicy!$A:$E,1,FALSE),IF(AND(LEN(E510)>1,LEN(C510)=0),VLOOKUP(E510,zawodnicy!$A:$E,1,FALSE),\"\")),IF((VLOOKUP(A510,'plan gier'!$Z:$AH,8,FALSE))=\"\",\"\",VLOOKUP(VLOOKUP(A510,'plan gier'!$Z:$AH,8,FALSE),zawodnicy!$A:$E,1,FALSE)))","v":""},{"$f":"IF(A510=0,\"\",IF((VLOOKUP(A510,'plan gier'!$Z:$AH,7,FALSE))=\"\",\"\",VLOOKUP(A510,'plan gier'!$Z:$AH,9,FALSE)))","v":""},{"$f":"IF(A510=0,\"\",IF(VLOOKUP(A510,'plan gier'!A:T,20,FALSE)=\"\",\"\",VLOOKUP(A510,'plan gier'!A:T,20,FALSE)))","v":""},{"$f":"L484","v":0},null,null,null,null,null,null,{"$f":"UPPER(IF(P509=\"\",\"\",IF(ISTEXT(L510),L510,IF(AND(L482>0,P509>0),VLOOKUP(L482&P509&J510,'grup-puch'!I:K,3,FALSE),\"\"))))","v":""},{"$f":"IF(Q510<>\"\",CONCATENATE(VLOOKUP(Q510,zawodnicy!$A:$E,2,FALSE),\" \",VLOOKUP(Q510,zawodnicy!$A:$E,3,FALSE),\" - \",VLOOKUP(Q510,zawodnicy!$A:$E,4,FALSE)),\"\")","v":""},null,{"$f":"IF(G510=\"\",\"\",VLOOKUP(G510,zawodnicy!$A:$D,3,FALSE))","v":""}]
[null,null,null,null,null,null,null,null,null,null,{"$f":"IF(L483>8,28,\"\")","v":28},null,null,null,null,{"$f":"IF(K511=\"\",\"\",MAX(P485:P510)+1)","v":14},{"$f":"UPPER(IF(P511=\"\",\"\",IF(ISTEXT(L511),L511,IF(AND(L482>0,P511>0),VLOOKUP(L482&P511&J510,'grup-puch'!I:J,2,FALSE),\"\"))))","v":""},{"$f":"IF(Q511<>\"\",CONCATENATE(VLOOKUP(Q511,zawodnicy!$A:$E,2,FALSE),\" \",VLOOKUP(Q511,zawodnicy!$A:$E,3,FALSE),\" - \",VLOOKUP(Q511,zawodnicy!$A:$E,4,FALSE)),\"\")","v":""},null,{"$f":"IF(H510=\"\",I510,H510)","v":""},{"$f":"IF(F512=\"\",\"\",VLOOKUP(F512,zawodnicy!$A:$D,3,FALSE))","v":""}]
[{"$f":"T512","v":0},{"$f":"F510","v":""},{"$f":"G510","v":""},{"$f":"F514","v":""},{"$f":"G514","v":""},{"$f":"IF(A512=0,IF(AND(LEN(B512)>0,LEN(D512)=0),B512,IF(AND(LEN(D512)>0,LEN(B512)=0),D512,\"\")),IF((VLOOKUP(A512,'plan gier'!$Z:$AH,7,FALSE))=\"\",\"\",VLOOKUP(VLOOKUP(A512,'plan gier'!$Z:$AH,7,FALSE),zawodnicy!$A:$E,1,FALSE)))","v":""},{"$f":"IF(A512=0,IF(AND(LEN(C512)>0,LEN(E512)=0),C512,IF(AND(LEN(E512)>0,LEN(C512)=0),E512,\"\")),IF((VLOOKUP(A512,'plan gier'!$Z:$AH,8,FALSE))=\"\",\"\",VLOOKUP(VLOOKUP(A512,'plan gier'!$Z:$AH,8,FALSE),zawodnicy!$A:$E,1,FALSE)))","v":""},{"$f":"IF(A512=0,\"\",IF((VLOOKUP(A512,'plan gier'!$Z:$AH,7,FALSE))=\"\",\"\",VLOOKUP(A512,'plan gier'!$Z:$AH,9,FALSE)))","v":""},{"$f":"IF(A512=0,\"\",IF(VLOOKUP(A512,'plan gier'!A:T,20,FALSE)=\"\",\"\",VLOOKUP(A512,'plan gier'!A:T,20,FALSE)))","v":""},{"$f":"L484","v":0},null,null,null,null,null,null,{"$f":"UPPER(IF(P511=\"\",\"\",IF(ISTEXT(L512),L512,IF(AND(L482>0,P511>0),VLOOKUP(L482&P511&J510,'grup-puch'!I:K,3,FALSE),\"\"))))","v":""},{"$f":"IF(Q512<>\"\",CONCATENATE(VLOOKUP(Q512,zawodnicy!$A:$E,2,FALSE),\" \",VLOOKUP(Q512,zawodnicy!$A:$E,3,FALSE),\" - \",VLOOKUP(Q512,zawodnicy!$A:$E,4,FALSE)),\"\")","v":""},null,null,{"$f":"IF(G512=\"\",\"\",VLOOKUP(G512,zawodnicy!$A:$D,3,FALSE))","v":""}]
[null,null,null,null,null,null,null,null,null,null,{"$f":"IF(L483>14,30,\"\")","v":30},null,null,null,null,{"$f":"IF(K513=\"\",\"\",MAX(P485:P512)+1)","v":15},{"$f":"UPPER(IF(P513=\"\",\"\",IF(ISTEXT(L513),L513,IF(AND(L482>0,P513>0),VLOOKUP(L482&P513&J514,'grup-puch'!I:J,2,FALSE),\"\"))))","v":""},{"$f":"IF(Q513<>\"\",CONCATENATE(VLOOKUP(Q513,zawodnicy!$A:$E,2,FALSE),\" \",VLOOKUP(Q513,zawodnicy!$A:$E,3,FALSE),\" - \",VLOOKUP(Q513,zawodnicy!$A:$E,4,FALSE)),\"\")","v":""},null,{"$f":"IF(F514=\"\",\"\",VLOOKUP(F514,zawodnicy!$A:$D,3,FALSE))","v":""},{"$f":"IF(H512=\"\",I512,H512)","v":""}]
[{"$f":"S514","v":0},{"$f":"IF(Q513=\"\",\"\",Q513)","v":""},{"$f":"IF(Q514=\"\",\"\",Q514)","v":""},{"$f":"IF(Q515=\"\",\"\",Q515)","v":""},{"$f":"IF(Q516=\"\",\"\",Q516)","v":""},{"$f":"IF(A514=0,IF(AND(LEN(B514)>0,LEN(D514)=0),VLOOKUP(B514,zawodnicy!$A:$E,1,FALSE),IF(AND(LEN(D514)>0,LEN(B514)=0),VLOOKUP(D514,zawodnicy!$A:$E,1,FALSE),\"\")),IF((VLOOKUP(A514,'plan gier'!$Z:$AH,7,FALSE))=\"\",\"\",VLOOKUP(VLOOKUP(A514,'plan gier'!$Z:$AH,7,FALSE),zawodnicy!$A:$E,1,FALSE)))","v":""},{"$f":"IF(A514=0,IF(AND(LEN(C514)>1,LEN(E514)=0),VLOOKUP(C514,zawodnicy!$A:$E,1,FALSE),IF(AND(LEN(E514)>1,LEN(C514)=0),VLOOKUP(E514,zawodnicy!$A:$E,1,FALSE),\"\")),IF((VLOOKUP(A514,'plan gier'!$Z:$AH,8,FALSE))=\"\",\"\",VLOOKUP(VLOOKUP(A514,'plan gier'!$Z:$AH,8,FALSE),zawodnicy!$A:$E,1,FALSE)))","v":""},{"$f":"IF(A514=0,\"\",IF((VLOOKUP(A514,'plan gier'!$Z:$AH,7,FALSE))=\"\",\"\",VLOOKUP(A514,'plan gier'!$Z:$AH,9,FALSE)))","v":""},{"$f":"IF(A514=0,\"\",IF(VLOOKUP(A514,'plan gier'!A:T,20,FALSE)=\"\",\"\",VLOOKUP(A514,'plan gier'!A:T,20,FALSE)))","v":""},{"$f":"L484","v":0},null,null,null,null,null,null,{"$f":"UPPER(IF(P513=\"\",\"\",IF(ISTEXT(L514),L514,IF(AND(L482>0,P513>0),VLOOKUP(L482&P513&J514,'grup-puch'!I:K,3,FALSE),\"\"))))","v":""},{"$f":"IF(Q514<>\"\",CONCATENATE(VLOOKUP(Q514,zawodnicy!$A:$E,2,FALSE),\" \",VLOOKUP(Q514,zawodnicy!$A:$E,3,FALSE),\" - \",VLOOKUP(Q514,zawodnicy!$A:$E,4,FALSE)),\"\")","v":""},null,{"$f":"IF(G514=\"\",\"\",VLOOKUP(G514,zawodnicy!$A:$D,3,FALSE))","v":""}]
[null,null,null,null,null,null,null,null,null,null,{"$f":"IF(L483>8,32,\"\")","v":32},null,null,null,null,{"$f":"IF(K515=\"\",\"\",MAX(P485:P514)+1)","v":16},{"$f":"UPPER(IF(P515=\"\",\"\",IF(ISTEXT(L515),L515,IF(AND(L482>0,P515>0),VLOOKUP(L482&P515&J514,'grup-puch'!I:J,2,FALSE),\"\"))))","v":""},{"$f":"IF(Q515<>\"\",CONCATENATE(VLOOKUP(Q515,zawodnicy!$A:$E,2,FALSE),\" \",VLOOKUP(Q515,zawodnicy!$A:$E,3,FALSE),\" - \",VLOOKUP(Q515,zawodnicy!$A:$E,4,FALSE)),\"\")","v":""},null,{"$f":"IF(H514=\"\",I514,H514)","v":""}]
[null,null,null,null,null,null,null,null,null,null,null,null,null,null,null,null,{"$f":"UPPER(IF(P515=\"\",\"\",IF(ISTEXT(L516),L516,IF(AND(L482>0,P515>0),VLOOKUP(L482&P515&J514,'grup-puch'!I:K,3,FALSE),\"\"))))","v":""},{"$f":"IF(Q516<>\"\",CONCATENATE(VLOOKUP(Q516,zawodnicy!$A:$E,2,FALSE),\" \",VLOOKUP(Q516,zawodnicy!$A:$E,3,FALSE),\" - \",VLOOKUP(Q516,zawodnicy!$A:$E,4,FALSE)),\"\")","v":""}]
[]
[]
[null,null,null,null,null,null,null,null,null,null,null,8]
[]
[null,null,null,null,null,null,null,null,null,null,{"$f":"IF(L519>4,1,\"\")","v":1},null,null,null,null,{"$f":"IF(K521=\"\",\"\",1)","v":1},{"$f":"UPPER(IF(P521=\"\",\"\",IF(ISTEXT(L521),L521,IF(AND(L518>0,P521>0),VLOOKUP(L518&P521&J522,'grup-puch'!I:J,2,FALSE),\"\"))))","v":""},{"$f":"IF(Q521<>\"\",CONCATENATE(VLOOKUP(Q521,zawodnicy!$A:$E,2,FALSE),\" \",VLOOKUP(Q521,zawodnicy!$A:$E,3,FALSE),\" - \",VLOOKUP(Q521,zawodnicy!$A:$E,4,FALSE)),\"\")","v":""},null,{"$f":"IF(F522=\"\",\"\",VLOOKUP(F522,zawodnicy!$A:$D,3,FALSE))","v":""}]
[{"$f":"S522","v":0},{"$f":"IF(Q521=\"\",\"\",Q521)","v":""},{"$f":"IF(Q522=\"\",\"\",Q522)","v":""},{"$f":"IF(Q523=\"\",\"\",Q523)","v":""},{"$f":"IF(Q524=\"\",\"\",Q524)","v":""},{"$f":"IF(A522=0,IF(AND(LEN(B522)>0,LEN(D522)=0),VLOOKUP(B522,zawodnicy!$A:$E,1,FALSE),IF(AND(LEN(D522)>0,LEN(B522)=0),VLOOKUP(D522,zawodnicy!$A:$E,1,FALSE),\"\")),IF((VLOOKUP(A522,'plan gier'!$Z:$AH,7,FALSE))=\"\",\"\",VLOOKUP(VLOOKUP(A522,'plan gier'!$Z:$AH,7,FALSE),zawodnicy!$A:$E,1,FALSE)))","v":""},{"$f":"IF(A522=0,IF(AND(LEN(C522)>1,LEN(E522)=0),VLOOKUP(C522,zawodnicy!$A:$E,1,FALSE),IF(AND(LEN(E522)>1,LEN(C522)=0),VLOOKUP(E522,zawodnicy!$A:$E,1,FALSE),\"\")),IF((VLOOKUP(A522,'plan gier'!$Z:$AH,8,FALSE))=\"\",\"\",VLOOKUP(VLOOKUP(A522,'plan gier'!$Z:$AH,8,FALSE),zawodnicy!$A:$E,1,FALSE)))","v":""},{"$f":"IF(A522=0,\"\",IF((VLOOKUP(A522,'plan gier'!$Z:$AH,7,FALSE))=\"\",\"\",VLOOKUP(A522,'plan gier'!$Z:$AH,9,FALSE)))","v":""},{"$f":"IF(A522=0,\"\",IF(VLOOKUP(A522,'plan gier'!A:T,20,FALSE)=\"\",\"\",VLOOKUP(A522,'plan gier'!A:T,20,FALSE)))","v":""},{"$f":"L520","v":0},null,null,null,null,null,null,{"$f":"UPPER(IF(P521=\"\",\"\",IF(ISTEXT(L522),L522,IF(AND(L518>0,P521>0),VLOOKUP(L518&P521&J522,'grup-puch'!I:K,3,FALSE),\"\"))))","v":""},{"$f":"IF(Q522<>\"\",CONCATENATE(VLOOKUP(Q522,zawodnicy!$A:$E,2,FALSE),\" \",VLOOKUP(Q522,zawodnicy!$A:$E,3,FALSE),\" - \",VLOOKUP(Q522,zawodnicy!$A:$E,4,FALSE)),\"\")","v":""},null,{"$f":"IF(G522=\"\",\"\",VLOOKUP(G522,zawodnicy!$A:$D,3,FALSE))","v":""}]
[null,null,null,null,null,null,null,null,null,null,{"$f":"IF(L519>7,5,\"\")","v":5},null,null,null,null,{"$f":"IF(K523=\"\",\"\",2)","v":2},{"$f":"UPPER(IF(P523=\"\",\"\",IF(ISTEXT(L523),L523,IF(AND(L518>0,P523>0),VLOOKUP(L518&P523&J522,'grup-puch'!I:J,2,FALSE),\"\"))))","v":""},{"$f":"IF(Q523<>\"\",CONCATENATE(VLOOKUP(Q523,zawodnicy!$A:$E,2,FALSE),\" \",VLOOKUP(Q523,zawodnicy!$A:$E,3,FALSE),\" - \",VLOOKUP(Q523,zawodnicy!$A:$E,4,FALSE)),\"\")","v":""},null,{"$f":"IF(H522=\"\",I522,H522)","v":""},{"$f":"IF(F524=\"\",\"\",VLOOKUP(F524,zawodnicy!$A:$D,3,FALSE))","v":""}]
[{"$f":"T524","v":0},{"$f":"F522","v":""},{"$f":"G522","v":""},{"$f":"F526","v":""},{"$f":"G526","v":""},{"$f":"IF(A524=0,IF(AND(LEN(B524)>0,LEN(D524)=0),B524,IF(AND(LEN(D524)>0,LEN(B524)=0),D524,\"\")),IF((VLOOKUP(A524,'plan gier'!$Z:$AH,7,FALSE))=\"\",\"\",VLOOKUP(VLOOKUP(A524,'plan gier'!$Z:$AH,7,FALSE),zawodnicy!$A:$E,1,FALSE)))","v":""},{"$f":"IF(A524=0,IF(AND(LEN(C524)>0,LEN(E524)=0),C524,IF(AND(LEN(E524)>0,LEN(C524)=0),E524,\"\")),IF((VLOOKUP(A524,'plan gier'!$Z:$AH,8,FALSE))=\"\",\"\",VLOOKUP(VLOOKUP(A524,'plan gier'!$Z:$AH,8,FALSE),zawodnicy!$A:$E,1,FALSE)))","v":""},{"$f":"IF(A524=0,\"\",IF((VLOOKUP(A524,'plan gier'!$Z:$AH,7,FALSE))=\"\",\"\",VLOOKUP(A524,'plan gier'!$Z:$AH,9,FALSE)))","v":""},{"$f":"IF(A524=0,\"\",IF(VLOOKUP(A524,'plan gier'!A:T,20,FALSE)=\"\",\"\",VLOOKUP(A524,'plan gier'!A:T,20,FALSE)))","v":""},{"$f":"L520","v":0},null,null,null,null,null,null,{"$f":"UPPER(IF(P523=\"\",\"\",IF(ISTEXT(L524),L524,IF(AND(L518>0,P523>0),VLOOKUP(L518&P523&J522,'grup-puch'!I:K,3,FALSE),\"\"))))","v":""},{"$f":"IF(Q524<>\"\",CONCATENATE(VLOOKUP(Q524,zawodnicy!$A:$E,2,FALSE),\" \",VLOOKUP(Q524,zawodnicy!$A:$E,3,FALSE),\" - \",VLOOKUP(Q524,zawodnicy!$A:$E,4,FALSE)),\"\")","v":""},null,null,{"$f":"IF(G524=\"\",\"\",VLOOKUP(G524,zawodnicy!$A:$D,3,FALSE))","v":""}]
[null,null,null,null,null,null,null,null,null,null,{"$f":"IF(L519>4,9,\"\")","v":9},null,null,null,null,{"$f":"IF(K525=\"\",\"\",MAX(P521:P524)+1)","v":3},{"$f":"UPPER(IF(P525=\"\",\"\",IF(ISTEXT(L525),L525,IF(AND(L518>0,P525>0),VLOOKUP(L518&P525&J526,'grup-puch'!I:J,2,FALSE),\"\"))))","v":""},{"$f":"IF(Q525<>\"\",CONCATENATE(VLOOKUP(Q525,zawodnicy!$A:$E,2,FALSE),\" \",VLOOKUP(Q525,zawodnicy!$A:$E,3,FALSE),\" - \",VLOOKUP(Q525,zawodnicy!$A:$E,4,FALSE)),\"\")","v":""},null,{"$f":"IF(F526=\"\",\"\",VLOOKUP(F526,zawodnicy!$A:$D,3,FALSE))","v":""},{"$f":"IF(H524=\"\",I524,H524)","v":""}]
[{"$f":"S526","v":0},{"$f":"IF(Q525=\"\",\"\",Q525)","v":""},{"$f":"IF(Q526=\"\",\"\",Q526)","v":""},{"$f":"IF(Q527=\"\",\"\",Q527)","v":""},{"$f":"IF(Q528=\"\",\"\",Q528)","v":""},{"$f":"IF(A526=0,IF(AND(LEN(B526)>0,LEN(D526)=0),VLOOKUP(B526,zawodnicy!$A:$E,1,FALSE),IF(AND(LEN(D526)>0,LEN(B526)=0),VLOOKUP(D526,zawodnicy!$A:$E,1,FALSE),\"\")),IF((VLOOKUP(A526,'plan gier'!$Z:$AH,7,FALSE))=\"\",\"\",VLOOKUP(VLOOKUP(A526,'plan gier'!$Z:$AH,7,FALSE),zawodnicy!$A:$E,1,FALSE)))","v":""},{"$f":"IF(A526=0,IF(AND(LEN(C526)>1,LEN(E526)=0),VLOOKUP(C526,zawodnicy!$A:$E,1,FALSE),IF(AND(LEN(E526)>1,LEN(C526)=0),VLOOKUP(E526,zawodnicy!$A:$E,1,FALSE),\"\")),IF((VLOOKUP(A526,'plan gier'!$Z:$AH,8,FALSE))=\"\",\"\",VLOOKUP(VLOOKUP(A526,'plan gier'!$Z:$AH,8,FALSE),zawodnicy!$A:$E,1,FALSE)))","v":""},{"$f":"IF(A526=0,\"\",IF((VLOOKUP(A526,'plan gier'!$Z:$AH,7,FALSE))=\"\",\"\",VLOOKUP(A526,'plan gier'!$Z:$AH,9,FALSE)))","v":""},{"$f":"IF(A526=0,\"\",IF(VLOOKUP(A526,'plan gier'!A:T,20,FALSE)=\"\",\"\",VLOOKUP(A526,'plan gier'!A:T,20,FALSE)))","v":""},{"$f":"L520","v":0},null,null,null,null,null,null,{"$f":"UPPER(IF(P525=\"\",\"\",IF(ISTEXT(L526),L526,IF(AND(L518>0,P525>0),VLOOKUP(L518&P525&J526,'grup-puch'!I:K,3,FALSE),\"\"))))","v":""},{"$f":"IF(Q526<>\"\",CONCATENATE(VLOOKUP(Q526,zawodnicy!$A:$E,2,FALSE),\" \",VLOOKUP(Q526,zawodnicy!$A:$E,3,FALSE),\" - \",VLOOKUP(Q526,zawodnicy!$A:$E,4,FALSE)),\"\")","v":""},null,{"$f":"IF(G526=\"\",\"\",VLOOKUP(G526,zawodnicy!$A:$D,3,FALSE))","v":""}]
[null,null,null,null,null,null,null,null,null,null,{"$f":"IF(L519>5,13,\"\")","v":13},null,null,null,null,{"$f":"IF(K527=\"\",\"\",MAX(P521:P526)+1)","v":4},{"$f":"UPPER(IF(P527=\"\",\"\",IF(ISTEXT(L527),L527,IF(AND(L518>0,P527>0),VLOOKUP(L518&P527&J526,'grup-puch'!I:J,2,FALSE),\"\"))))","v":""},{"$f":"IF(Q527<>\"\",CONCATENATE(VLOOKUP(Q527,zawodnicy!$A:$E,2,FALSE),\" \",VLOOKUP(Q527,zawodnicy!$A:$E,3,FALSE),\" - \",VLOOKUP(Q527,zawodnicy!$A:$E,4,FALSE)),\"\")","v":""},null,{"$f":"IF(H526=\"\",I526,H526)","v":""},null,{"$f":"IF(F528=\"\",\"\",VLOOKUP(F528,zawodnicy!$A:$D,3,FALSE))","v":""}]
[{"$f":"U528","v":0},{"$f":"F524","v":""},{"$f":"G524","v":""},{"$f":"F532","v":""},{"$f":"G532","v":""},{"$f":"IF(A528=0,IF(AND(LEN(B528)>0,LEN(D528)=0),B528,IF(AND(LEN(D528)>0,LEN(B528)=0),D528,\"\")),IF((VLOOKUP(A528,'plan gier'!$Z:$AH,7,FALSE))=\"\",\"\",VLOOKUP(VLOOKUP(A528,'plan gier'!$Z:$AH,7,FALSE),zawodnicy!$A:$E,1,FALSE)))","v":""},{"$f":"IF(A528=0,IF(AND(LEN(C528)>0,LEN(E528)=0),C528,IF(AND(LEN(E528)>0,LEN(C528)=0),E528,\"\")),IF((VLOOKUP(A528,'plan gier'!$Z:$AH,8,FALSE))=\"\",\"\",VLOOKUP(VLOOKUP(A528,'plan gier'!$Z:$AH,8,FALSE),zawodnicy!$A:$E,1,FALSE)))","v":""},{"$f":"IF(A528=0,\"\",IF((VLOOKUP(A528,'plan gier'!$Z:$AH,7,FALSE))=\"\",\"\",VLOOKUP(A528,'plan gier'!$Z:$AH,9,FALSE)))","v":""},{"$f":"IF(A528=0,\"\",IF(VLOOKUP(A528,'plan gier'!A:T,20,FALSE)=\"\",\"\",VLOOKUP(A528,'plan gier'!A:T,20,FALSE)))","v":""},{"$f":"L520","v":0},null,null,null,null,null,null,{"$f":"UPPER(IF(P527=\"\",\"\",IF(ISTEXT(L528),L528,IF(AND(L518>0,P527>0),VLOOKUP(L518&P527&J526,'grup-puch'!I:K,3,FALSE),\"\"))))","v":""},{"$f":"IF(Q528<>\"\",CONCATENATE(VLOOKUP(Q528,zawodnicy!$A:$E,2,FALSE),\" \",VLOOKUP(Q528,zawodnicy!$A:$E,3,FALSE),\" - \",VLOOKUP(Q528,zawodnicy!$A:$E,4,FALSE)),\"\")","v":""},null,null,null,{"$f":"IF(G528=\"\",\"\",VLOOKUP(G528,zawodnicy!$A:$D,3,FALSE))","v":""}]
[null,null,null,null,null,null,null,null,null,null,{"$f":"IF(L519>4,20,\"\")","v":20},null,null,null,null,{"$f":"IF(K529=\"\",\"\",MAX(P521:P528)+1)","v":5},{"$f":"UPPER(IF(P529=\"\",\"\",IF(ISTEXT(L529),L529,IF(AND(L518>0,P529>0),VLOOKUP(L518&P529&J530,'grup-puch'!I:J,2,FALSE),\"\"))))","v":""},{"$f":"IF(Q529<>\"\",CONCATENATE(VLOOKUP(Q529,zawodnicy!$A:$E,2,FALSE),\" \",VLOOKUP(Q529,zawodnicy!$A:$E,3,FALSE),\" - \",VLOOKUP(Q529,zawodnicy!$A:$E,4,FALSE)),\"\")","v":""},null,{"$f":"IF(F530=\"\",\"\",VLOOKUP(F530,zawodnicy!$A:$D,3,FALSE))","v":""},null,{"$f":"IF(H528=\"\",I528,H528)","v":""}]
[{"$f":"S530","v":0},{"$f":"IF(Q529=\"\",\"\",Q529)","v":""},{"$f":"IF(Q530=\"\",\"\",Q530)","v":""},{"$f":"IF(Q531=\"\",\"\",Q531)","v":""},{"$f":"IF(Q532=\"\",\"\",Q532)","v":""},{"$f":"IF(A530=0,IF(AND(LEN(B530)>0,LEN(D530)=0),VLOOKUP(B530,zawodnicy!$A:$E,1,FALSE),IF(AND(LEN(D530)>0,LEN(B530)=0),VLOOKUP(D530,zawodnicy!$A:$E,1,FALSE),\"\")),IF((VLOOKUP(A530,'plan gier'!$Z:$AH,7,FALSE))=\"\",\"\",VLOOKUP(VLOOKUP(A530,'plan gier'!$Z:$AH,7,FALSE),zawodnicy!$A:$E,1,FALSE)))","v":""},{"$f":"IF(A530=0,IF(AND(LEN(C530)>1,LEN(E530)=0),VLOOKUP(C530,zawodnicy!$A:$E,1,FALSE),IF(AND(LEN(E530)>1,LEN(C530)=0),VLOOKUP(E530,zawodnicy!$A:$E,1,FALSE),\"\")),IF((VLOOKUP(A530,'plan gier'!$Z:$AH,8,FALSE))=\"\",\"\",VLOOKUP(VLOOKUP(A530,'plan gier'!$Z:$AH,8,FALSE),zawodnicy!$A:$E,1,FALSE)))","v":""},{"$f":"IF(A530=0,\"\",IF((VLOOKUP(A530,'plan gier'!$Z:$AH,7,FALSE))=\"\",\"\",VLOOKUP(A530,'plan gier'!$Z:$AH,9,FALSE)))","v":""},{"$f":"IF(A530=0,\"\",IF(VLOOKUP(A530,'plan gier'!A:T,20,FALSE)=\"\",\"\",VLOOKUP(A530,'plan gier'!A:T,20,FALSE)))","v":""},{"$f":"L520","v":0},null,null,null,null,null,null,{"$f":"UPPER(IF(P529=\"\",\"\",IF(ISTEXT(L530),L530,IF(AND(L518>0,P529>0),VLOOKUP(L518&P529&J530,'grup-puch'!I:K,3,FALSE),\"\"))))","v":""},{"$f":"IF(Q530<>\"\",CONCATENATE(VLOOKUP(Q530,zawodnicy!$A:$E,2,FALSE),\" \",VLOOKUP(Q530,zawodnicy!$A:$E,3,FALSE),\" - \",VLOOKUP(Q530,zawodnicy!$A:$E,4,FALSE)),\"\")","v":""},null,{"$f":"IF(G530=\"\",\"\",VLOOKUP(G530,zawodnicy!$A:$D,3,FALSE))","v":""}]
[null,null,null,null,null,null,null,null,null,null,{"$f":"IF(L519>4,24,\"\")","v":24},null,null,null,null,{"$f":"IF(K531=\"\",\"\",MAX(P521:P530)+1)","v":6},{"$f":"UPPER(IF(P531=\"\",\"\",IF(ISTEXT(L531),L531,IF(AND(L518>0,P531>0),VLOOKUP(L518&P531&J530,'grup-puch'!I:J,2,FALSE),\"\"))))","v":""},{"$f":"IF(Q531<>\"\",CONCATENATE(VLOOKUP(Q531,zawodnicy!$A:$E,2,FALSE),\" \",VLOOKUP(Q531,zawodnicy!$A:$E,3,FALSE),\" - \",VLOOKUP(Q531,zawodnicy!$A:$E,4,FALSE)),\"\")","v":""},null,{"$f":"IF(H530=\"\",I530,H530)","v":""},{"$f":"IF(F532=\"\",\"\",VLOOKUP(F532,zawodnicy!$A:$D,3,FALSE))","v":""}]
[{"$f":"T532","v":0},{"$f":"F530","v":""},{"$f":"G530","v":""},{"$f":"F534","v":""},{"$f":"G534","v":""},{"$f":"IF(A532=0,IF(AND(LEN(B532)>0,LEN(D532)=0),B532,IF(AND(LEN(D532)>0,LEN(B532)=0),D532,\"\")),IF((VLOOKUP(A532,'plan gier'!$Z:$AH,7,FALSE))=\"\",\"\",VLOOKUP(VLOOKUP(A532,'plan gier'!$Z:$AH,7,FALSE),zawodnicy!$A:$E,1,FALSE)))","v":""},{"$f":"IF(A532=0,IF(AND(LEN(C532)>0,LEN(E532)=0),C532,IF(AND(LEN(E532)>0,LEN(C532)=0),E532,\"\")),IF((VLOOKUP(A532,'plan gier'!$Z:$AH,8,FALSE))=\"\",\"\",VLOOKUP(VLOOKUP(A532,'plan gier'!$Z:$AH,8,FALSE),zawodnicy!$A:$E,1,FALSE)))","v":""},{"$f":"IF(A532=0,\"\",IF((VLOOKUP(A532,'plan gier'!$Z:$AH,7,FALSE))=\"\",\"\",VLOOKUP(A532,'plan gier'!$Z:$AH,9,FALSE)))","v":""},{"$f":"IF(A532=0,\"\",IF(VLOOKUP(A532,'plan gier'!A:T,20,FALSE)=\"\",\"\",VLOOKUP(A532,'plan gier'!A:T,20,FALSE)))","v":""},{"$f":"L520","v":0},null,null,null,null,null,null,{"$f":"UPPER(IF(P531=\"\",\"\",IF(ISTEXT(L532),L532,IF(AND(L518>0,P531>0),VLOOKUP(L518&P531&J530,'grup-puch'!I:K,3,FALSE),\"\"))))","v":""},{"$f":"IF(Q532<>\"\",CONCATENATE(VLOOKUP(Q532,zawodnicy!$A:$E,2,FALSE),\" \",VLOOKUP(Q532,zawodnicy!$A:$E,3,FALSE),\" - \",VLOOKUP(Q532,zawodnicy!$A:$E,4,FALSE)),\"\")","v":""},null,null,{"$f":"IF(G532=\"\",\"\",VLOOKUP(G532,zawodnicy!$A:$D,3,FALSE))","v":""}]
[null,null,null,null,null,null,null,null,null,null,{"$f":"IF(L519>6,28,\"\")","v":28},null,null,null,null,{"$f":"IF(K533=\"\",\"\",MAX(P521:P532)+1)","v":7},{"$f":"UPPER(IF(P533=\"\",\"\",IF(ISTEXT(L533),L533,IF(AND(L518>0,P533>0),VLOOKUP(L518&P533&J534,'grup-puch'!I:J,2,FALSE),\"\"))))","v":""},{"$f":"IF(Q533<>\"\",CONCATENATE(VLOOKUP(Q533,zawodnicy!$A:$E,2,FALSE),\" \",VLOOKUP(Q533,zawodnicy!$A:$E,3,FALSE),\" - \",VLOOKUP(Q533,zawodnicy!$A:$E,4,FALSE)),\"\")","v":""},null,{"$f":"IF(F534=\"\",\"\",VLOOKUP(F534,zawodnicy!$A:$D,3,FALSE))","v":""},{"$f":"IF(H532=\"\",I532,H532)","v":""}]
[{"$f":"S534","v":0},{"$f":"IF(Q533=\"\",\"\",Q533)","v":""},{"$f":"IF(Q534=\"\",\"\",Q534)","v":""},{"$f":"IF(Q535=\"\",\"\",Q535)","v":""},{"$f":"IF(Q536=\"\",\"\",Q536)","v":""},{"$f":"IF(A534=0,IF(AND(LEN(B534)>0,LEN(D534)=0),VLOOKUP(B534,zawodnicy!$A:$E,1,FALSE),IF(AND(LEN(D534)>0,LEN(B534)=0),VLOOKUP(D534,zawodnicy!$A:$E,1,FALSE),\"\")),IF((VLOOKUP(A534,'plan gier'!$Z:$AH,7,FALSE))=\"\",\"\",VLOOKUP(VLOOKUP(A534,'plan gier'!$Z:$AH,7,FALSE),zawodnicy!$A:$E,1,FALSE)))","v":""},{"$f":"IF(A534=0,IF(AND(LEN(C534)>1,LEN(E534)=0),VLOOKUP(C534,zawodnicy!$A:$E,1,FALSE),IF(AND(LEN(E534)>1,LEN(C534)=0),VLOOKUP(E534,zawodnicy!$A:$E,1,FALSE),\"\")),IF((VLOOKUP(A534,'plan gier'!$Z:$AH,8,FALSE))=\"\",\"\",VLOOKUP(VLOOKUP(A534,'plan gier'!$Z:$AH,8,FALSE),zawodnicy!$A:$E,1,FALSE)))","v":""},{"$f":"IF(A534=0,\"\",IF((VLOOKUP(A534,'plan gier'!$Z:$AH,7,FALSE))=\"\",\"\",VLOOKUP(A534,'plan gier'!$Z:$AH,9,FALSE)))","v":""},{"$f":"IF(A534=0,\"\",IF(VLOOKUP(A534,'plan gier'!A:T,20,FALSE)=\"\",\"\",VLOOKUP(A534,'plan gier'!A:T,20,FALSE)))","v":""},{"$f":"L520","v":0},null,null,null,null,null,null,{"$f":"UPPER(IF(P533=\"\",\"\",IF(ISTEXT(L534),L534,IF(AND(L518>0,P533>0),VLOOKUP(L518&P533&J534,'grup-puch'!I:K,3,FALSE),\"\"))))","v":""},{"$f":"IF(Q534<>\"\",CONCATENATE(VLOOKUP(Q534,zawodnicy!$A:$E,2,FALSE),\" \",VLOOKUP(Q534,zawodnicy!$A:$E,3,FALSE),\" - \",VLOOKUP(Q534,zawodnicy!$A:$E,4,FALSE)),\"\")","v":""},null,{"$f":"IF(G534=\"\",\"\",VLOOKUP(G534,zawodnicy!$A:$D,3,FALSE))","v":""}]
[null,null,null,null,null,null,null,null,null,null,{"$f":"IF(L519>4,32,\"\")","v":32},null,null,null,null,{"$f":"IF(K535=\"\",\"\",MAX(P521:P534)+1)","v":8},{"$f":"UPPER(IF(P535=\"\",\"\",IF(ISTEXT(L535),L535,IF(AND(L518>0,P535>0),VLOOKUP(L518&P535&J534,'grup-puch'!I:J,2,FALSE),\"\"))))","v":""},{"$f":"IF(Q535<>\"\",CONCATENATE(VLOOKUP(Q535,zawodnicy!$A:$E,2,FALSE),\" \",VLOOKUP(Q535,zawodnicy!$A:$E,3,FALSE),\" - \",VLOOKUP(Q535,zawodnicy!$A:$E,4,FALSE)),\"\")","v":""},null,{"$f":"IF(H534=\"\",I534,H534)","v":""}]
[null,null,null,null,null,null,null,null,null,null,null,null,null,null,null,null,{"$f":"UPPER(IF(P535=\"\",\"\",IF(ISTEXT(L536),L536,IF(AND(L518>0,P535>0),VLOOKUP(L518&P535&J534,'grup-puch'!I:K,3,FALSE),\"\"))))","v":""},{"$f":"IF(Q536<>\"\",CONCATENATE(VLOOKUP(Q536,zawodnicy!$A:$E,2,FALSE),\" \",VLOOKUP(Q536,zawodnicy!$A:$E,3,FALSE),\" - \",VLOOKUP(Q536,zawodnicy!$A:$E,4,FALSE)),\"\")","v":""}]
[]
[]
[]
[null,null,null,null,null,null,null,null,null,null,null,4]
[]
[null,null,null,null,null,null,null,null,null,null,{"$f":"IF(L540>2,1,\"\")","v":1},null,null,null,null,{"$f":"IF(K542=\"\",\"\",1)","v":1},{"$f":"UPPER(IF(P542=\"\",\"\",IF(ISTEXT(L542),L542,IF(AND(L539>0,P542>0),VLOOKUP(L539&P542&J543,'grup-puch'!I:J,2,FALSE),\"\"))))","v":""},{"$f":"IF(Q542<>\"\",CONCATENATE(VLOOKUP(Q542,zawodnicy!$A:$E,2,FALSE),\" \",VLOOKUP(Q542,zawodnicy!$A:$E,3,FALSE),\" - \",VLOOKUP(Q542,zawodnicy!$A:$E,4,FALSE)),\"\")","v":""},null,{"$f":"IF(F543=\"\",\"\",VLOOKUP(F543,zawodnicy!$A:$D,3,FALSE))","v":""}]
[{"$f":"S543","v":0},{"$f":"IF(Q542=\"\",\"\",Q542)","v":""},{"$f":"IF(Q543=\"\",\"\",Q543)","v":""},{"$f":"IF(Q544=\"\",\"\",Q544)","v":""},{"$f":"IF(Q545=\"\",\"\",Q545)","v":""},{"$f":"IF(A543=0,IF(AND(LEN(B543)>0,LEN(D543)=0),VLOOKUP(B543,zawodnicy!$A:$E,1,FALSE),IF(AND(LEN(D543)>0,LEN(B543)=0),VLOOKUP(D543,zawodnicy!$A:$E,1,FALSE),\"\")),IF((VLOOKUP(A543,'plan gier'!$Z:$AH,7,FALSE))=\"\",\"\",VLOOKUP(VLOOKUP(A543,'plan gier'!$Z:$AH,7,FALSE),zawodnicy!$A:$E,1,FALSE)))","v":""},{"$f":"IF(A543=0,IF(AND(LEN(C543)>1,LEN(E543)=0),VLOOKUP(C543,zawodnicy!$A:$E,1,FALSE),IF(AND(LEN(E543)>1,LEN(C543)=0),VLOOKUP(E543,zawodnicy!$A:$E,1,FALSE),\"\")),IF((VLOOKUP(A543,'plan gier'!$Z:$AH,8,FALSE))=\"\",\"\",VLOOKUP(VLOOKUP(A543,'plan gier'!$Z:$AH,8,FALSE),zawodnicy!$A:$E,1,FALSE)))","v":""},{"$f":"IF(A543=0,\"\",IF((VLOOKUP(A543,'plan gier'!$Z:$AH,7,FALSE))=\"\",\"\",VLOOKUP(A543,'plan gier'!$Z:$AH,9,FALSE)))","v":""},{"$f":"IF(A543=0,\"\",IF(VLOOKUP(A543,'plan gier'!A:T,20,FALSE)=\"\",\"\",VLOOKUP(A543,'plan gier'!A:T,20,FALSE)))","v":""},{"$f":"L541","v":0},null,null,null,null,null,null,{"$f":"UPPER(IF(P542=\"\",\"\",IF(ISTEXT(L543),L543,IF(AND(L539>0,P542>0),VLOOKUP(L539&P542&J543,'grup-puch'!I:K,3,FALSE),\"\"))))","v":""},{"$f":"IF(Q543<>\"\",CONCATENATE(VLOOKUP(Q543,zawodnicy!$A:$E,2,FALSE),\" \",VLOOKUP(Q543,zawodnicy!$A:$E,3,FALSE),\" - \",VLOOKUP(Q543,zawodnicy!$A:$E,4,FALSE)),\"\")","v":""},null,{"$f":"IF(G543=\"\",\"\",VLOOKUP(G543,zawodnicy!$A:$D,3,FALSE))","v":""}]
[null,null,null,null,null,null,null,null,null,null,{"$f":"IF(L540>3,9,\"\")","v":9},null,null,null,null,{"$f":"IF(K544=\"\",\"\",2)","v":2},{"$f":"UPPER(IF(P544=\"\",\"\",IF(ISTEXT(L544),L544,IF(AND(L539>0,P544>0),VLOOKUP(L539&P544&J543,'grup-puch'!I:J,2,FALSE),\"\"))))","v":""},{"$f":"IF(Q544<>\"\",CONCATENATE(VLOOKUP(Q544,zawodnicy!$A:$E,2,FALSE),\" \",VLOOKUP(Q544,zawodnicy!$A:$E,3,FALSE),\" - \",VLOOKUP(Q544,zawodnicy!$A:$E,4,FALSE)),\"\")","v":""},null,{"$f":"IF(H543=\"\",I543,H543)","v":""},{"$f":"IF(F545=\"\",\"\",VLOOKUP(F545,zawodnicy!$A:$D,3,FALSE))","v":""}]
[{"$f":"T545","v":0},{"$f":"F543","v":""},{"$f":"G543","v":""},{"$f":"F547","v":""},{"$f":"G547","v":""},{"$f":"IF(A545=0,IF(AND(LEN(B545)>0,LEN(D545)=0),B545,IF(AND(LEN(D545)>0,LEN(B545)=0),D545,\"\")),IF((VLOOKUP(A545,'plan gier'!$Z:$AH,7,FALSE))=\"\",\"\",VLOOKUP(VLOOKUP(A545,'plan gier'!$Z:$AH,7,FALSE),zawodnicy!$A:$E,1,FALSE)))","v":""},{"$f":"IF(A545=0,IF(AND(LEN(C545)>0,LEN(E545)=0),C545,IF(AND(LEN(E545)>0,LEN(C545)=0),E545,\"\")),IF((VLOOKUP(A545,'plan gier'!$Z:$AH,8,FALSE))=\"\",\"\",VLOOKUP(VLOOKUP(A545,'plan gier'!$Z:$AH,8,FALSE),zawodnicy!$A:$E,1,FALSE)))","v":""},{"$f":"IF(A545=0,\"\",IF((VLOOKUP(A545,'plan gier'!$Z:$AH,7,FALSE))=\"\",\"\",VLOOKUP(A545,'plan gier'!$Z:$AH,9,FALSE)))","v":""},{"$f":"IF(A545=0,\"\",IF(VLOOKUP(A545,'plan gier'!A:T,20,FALSE)=\"\",\"\",VLOOKUP(A545,'plan gier'!A:T,20,FALSE)))","v":""},{"$f":"L541","v":0},null,null,null,null,null,null,{"$f":"UPPER(IF(P544=\"\",\"\",IF(ISTEXT(L545),L545,IF(AND(L539>0,P544>0),VLOOKUP(L539&P544&J543,'grup-puch'!I:K,3,FALSE),\"\"))))","v":""},{"$f":"IF(Q545<>\"\",CONCATENATE(VLOOKUP(Q545,zawodnicy!$A:$E,2,FALSE),\" \",VLOOKUP(Q545,zawodnicy!$A:$E,3,FALSE),\" - \",VLOOKUP(Q545,zawodnicy!$A:$E,4,FALSE)),\"\")","v":""},null,null,{"$f":"IF(G545=\"\",\"\",VLOOKUP(G545,zawodnicy!$A:$D,3,FALSE))","v":""}]
[null,null,null,null,null,null,null,null,null,null,{"$f":"IF(L540>2,24,\"\")","v":24},null,null,null,null,{"$f":"IF(K546=\"\",\"\",MAX(P542:P545)+1)","v":3},{"$f":"UPPER(IF(P546=\"\",\"\",IF(ISTEXT(L546),L546,IF(AND(L539>0,P546>0),VLOOKUP(L539&P546&J547,'grup-puch'!I:J,2,FALSE),\"\"))))","v":""},{"$f":"IF(Q546<>\"\",CONCATENATE(VLOOKUP(Q546,zawodnicy!$A:$E,2,FALSE),\" \",VLOOKUP(Q546,zawodnicy!$A:$E,3,FALSE),\" - \",VLOOKUP(Q546,zawodnicy!$A:$E,4,FALSE)),\"\")","v":""},null,{"$f":"IF(F547=\"\",\"\",VLOOKUP(F547,zawodnicy!$A:$D,3,FALSE))","v":""},{"$f":"IF(H545=\"\",I545,H545)","v":""}]
[{"$f":"S547","v":0},{"$f":"IF(Q546=\"\",\"\",Q546)","v":""},{"$f":"IF(Q547=\"\",\"\",Q547)","v":""},{"$f":"IF(Q548=\"\",\"\",Q548)","v":""},{"$f":"IF(Q549=\"\",\"\",Q549)","v":""},{"$f":"IF(A547=0,IF(AND(LEN(B547)>0,LEN(D547)=0),VLOOKUP(B547,zawodnicy!$A:$E,1,FALSE),IF(AND(LEN(D547)>0,LEN(B547)=0),VLOOKUP(D547,zawodnicy!$A:$E,1,FALSE),\"\")),IF((VLOOKUP(A547,'plan gier'!$Z:$AH,7,FALSE))=\"\",\"\",VLOOKUP(VLOOKUP(A547,'plan gier'!$Z:$AH,7,FALSE),zawodnicy!$A:$E,1,FALSE)))","v":""},{"$f":"IF(A547=0,IF(AND(LEN(C547)>1,LEN(E547)=0),VLOOKUP(C547,zawodnicy!$A:$E,1,FALSE),IF(AND(LEN(E547)>1,LEN(C547)=0),VLOOKUP(E547,zawodnicy!$A:$E,1,FALSE),\"\")),IF((VLOOKUP(A547,'plan gier'!$Z:$AH,8,FALSE))=\"\",\"\",VLOOKUP(VLOOKUP(A547,'plan gier'!$Z:$AH,8,FALSE),zawodnicy!$A:$E,1,FALSE)))","v":""},{"$f":"IF(A547=0,\"\",IF((VLOOKUP(A547,'plan gier'!$Z:$AH,7,FALSE))=\"\",\"\",VLOOKUP(A547,'plan gier'!$Z:$AH,9,FALSE)))","v":""},{"$f":"IF(A547=0,\"\",IF(VLOOKUP(A547,'plan gier'!A:T,20,FALSE)=\"\",\"\",VLOOKUP(A547,'plan gier'!A:T,20,FALSE)))","v":""},{"$f":"L541","v":0},null,null,null,null,null,null,{"$f":"UPPER(IF(P546=\"\",\"\",IF(ISTEXT(L547),L547,IF(AND(L539>0,P546>0),VLOOKUP(L539&P546&J547,'grup-puch'!I:K,3,FALSE),\"\"))))","v":""},{"$f":"IF(Q547<>\"\",CONCATENATE(VLOOKUP(Q547,zawodnicy!$A:$E,2,FALSE),\" \",VLOOKUP(Q547,zawodnicy!$A:$E,3,FALSE),\" - \",VLOOKUP(Q547,zawodnicy!$A:$E,4,FALSE)),\"\")","v":""},null,{"$f":"IF(G547=\"\",\"\",VLOOKUP(G547,zawodnicy!$A:$D,3,FALSE))","v":""}]
[null,null,null,null,null,null,null,null,null,null,{"$f":"IF(L540>2,32,\"\")","v":32},null,null,null,null,{"$f":"IF(K548=\"\",\"\",MAX(P542:P547)+1)","v":4},{"$f":"UPPER(IF(P548=\"\",\"\",IF(ISTEXT(L548),L548,IF(AND(L539>0,P548>0),VLOOKUP(L539&P548&J547,'grup-puch'!I:J,2,FALSE),\"\"))))","v":""},{"$f":"IF(Q548<>\"\",CONCATENATE(VLOOKUP(Q548,zawodnicy!$A:$E,2,FALSE),\" \",VLOOKUP(Q548,zawodnicy!$A:$E,3,FALSE),\" - \",VLOOKUP(Q548,zawodnicy!$A:$E,4,FALSE)),\"\")","v":""},null,{"$f":"IF(H547=\"\",I547,H547)","v":""}]
[null,null,null,null,null,null,null,null,null,null,null,null,null,null,null,null,{"$f":"UPPER(IF(P548=\"\",\"\",IF(ISTEXT(L549),L549,IF(AND(L539>0,P548>0),VLOOKUP(L539&P548&J547,'grup-puch'!I:K,3,FALSE),\"\"))))","v":""},{"$f":"IF(Q549<>\"\",CONCATENATE(VLOOKUP(Q549,zawodnicy!$A:$E,2,FALSE),\" \",VLOOKUP(Q549,zawodnicy!$A:$E,3,FALSE),\" - \",VLOOKUP(Q549,zawodnicy!$A:$E,4,FALSE)),\"\")","v":""}]
[]
[]
[]
[]
[]
[]
[null,null,null,null,null,null,null,null,null,null,1,null,null,null,null,1,{"$f":"UPPER(IF(P556=\"\",\"\",IF(ISTEXT(L556),L556,IF(AND(L554>0,P556>0),VLOOKUP(L554&P556&J557,'grup-puch'!I:J,2,FALSE),\"\"))))","v":""},{"$f":"IF(Q556<>\"\",CONCATENATE(VLOOKUP(Q556,zawodnicy!$A:$E,2,FALSE),\" \",VLOOKUP(Q556,zawodnicy!$A:$E,3,FALSE),\" - \",VLOOKUP(Q556,zawodnicy!$A:$E,4,FALSE)),\"\")","v":""},null,{"$f":"IF(F557=\"\",\"\",VLOOKUP(F557,zawodnicy!$A:$D,3,FALSE))","v":""}]
[{"$f":"S557","v":0},{"$f":"IF(Q556=\"\",\"\",Q556)","v":""},{"$f":"IF(Q557=\"\",\"\",Q557)","v":""},{"$f":"IF(Q558=\"\",\"\",Q558)","v":""},{"$f":"IF(Q559=\"\",\"\",Q559)","v":""},{"$f":"IF(A557=0,IF(AND(LEN(B557)>0,LEN(D557)=0),VLOOKUP(B557,zawodnicy!$A:$E,1,FALSE),IF(AND(LEN(D557)>0,LEN(B557)=0),VLOOKUP(D557,zawodnicy!$A:$E,1,FALSE),\"\")),IF((VLOOKUP(A557,'plan gier'!$Z:$AH,7,FALSE))=\"\",\"\",VLOOKUP(VLOOKUP(A557,'plan gier'!$Z:$AH,7,FALSE),zawodnicy!$A:$E,1,FALSE)))","v":""},{"$f":"IF(A557=0,IF(AND(LEN(C557)>1,LEN(E557)=0),VLOOKUP(C557,zawodnicy!$A:$E,1,FALSE),IF(AND(LEN(E557)>1,LEN(C557)=0),VLOOKUP(E557,zawodnicy!$A:$E,1,FALSE),\"\")),IF((VLOOKUP(A557,'plan gier'!$Z:$AH,8,FALSE))=\"\",\"\",VLOOKUP(VLOOKUP(A557,'plan gier'!$Z:$AH,8,FALSE),zawodnicy!$A:$E,1,FALSE)))","v":""},{"$f":"IF(A557=0,\"\",IF((VLOOKUP(A557,'plan gier'!$Z:$AH,7,FALSE))=\"\",\"\",VLOOKUP(A557,'plan gier'!$Z:$AH,9,FALSE)))","v":""},{"$f":"IF(A557=0,\"\",IF(VLOOKUP(A557,'plan gier'!A:T,20,FALSE)=\"\",\"\",VLOOKUP(A557,'plan gier'!A:T,20,FALSE)))","v":""},{"$f":"L555","v":0},null,null,null,null,null,null,{"$f":"UPPER(IF(P556=\"\",\"\",IF(ISTEXT(L557),L557,IF(AND(L554>0,P556>0),VLOOKUP(L554&P556&J557,'grup-puch'!I:K,3,FALSE),\"\"))))","v":""},{"$f":"IF(Q557<>\"\",CONCATENATE(VLOOKUP(Q557,zawodnicy!$A:$E,2,FALSE),\" \",VLOOKUP(Q557,zawodnicy!$A:$E,3,FALSE),\" - \",VLOOKUP(Q557,zawodnicy!$A:$E,4,FALSE)),\"\")","v":""},null,{"$f":"IF(G557=\"\",\"\",VLOOKUP(G557,zawodnicy!$A:$D,3,FALSE))","v":""}]
[null,null,null,null,null,null,null,null,null,null,32,null,null,null,null,2,{"$f":"UPPER(IF(P558=\"\",\"\",IF(ISTEXT(L558),L558,IF(AND(L554>0,P558>0),VLOOKUP(L554&P558&J557,'grup-puch'!I:J,2,FALSE),\"\"))))","v":""},{"$f":"IF(Q558<>\"\",CONCATENATE(VLOOKUP(Q558,zawodnicy!$A:$E,2,FALSE),\" \",VLOOKUP(Q558,zawodnicy!$A:$E,3,FALSE),\" - \",VLOOKUP(Q558,zawodnicy!$A:$E,4,FALSE)),\"\")","v":""},null,{"$f":"IF(H557=\"\",I557,H557)","v":""}]
[null,null,null,null,null,null,null,null,null,null,null,null,null,null,null,null,{"$f":"UPPER(IF(P558=\"\",\"\",IF(ISTEXT(L559),L559,IF(AND(L554>0,P558>0),VLOOKUP(L554&P558&J557,'grup-puch'!I:K,3,FALSE),\"\"))))","v":""},{"$f":"IF(Q559<>\"\",CONCATENATE(VLOOKUP(Q559,zawodnicy!$A:$E,2,FALSE),\" \",VLOOKUP(Q559,zawodnicy!$A:$E,3,FALSE),\" - \",VLOOKUP(Q559,zawodnicy!$A:$E,4,FALSE)),\"\")","v":""}]
[]
[]
[null,null,null,null,null,null,null,null,null,null,null,{"$f":"J565","v":""},null,null,null,null,"4.",null,null,"3."]
[null,null,null,null,null,null,null,null,null,null,null,"o 3 miejsce"]
[null,null,null,null,null,null,null,null,null,null,null,null,null,null,null,null,{"$f":"IF(L564=\"\",\"\",IF(LEN(VLOOKUP(L564,A:J,6,FALSE))=0,\"\",IF(VLOOKUP(L564,A:J,6,FALSE)=VLOOKUP(L564,A:P,2,FALSE),VLOOKUP(L564,A:P,4,FALSE),VLOOKUP(L564,A:P,2,FALSE))))","v":""},{"$f":"IF(Q564<>\"\",CONCATENATE(VLOOKUP(Q564,zawodnicy!$A:$E,2,FALSE),\" \",VLOOKUP(Q564,zawodnicy!$A:$E,3,FALSE),\" - \",VLOOKUP(Q564,zawodnicy!$A:$E,4,FALSE)),\"\")","v":""},null,{"$f":"IF(F565=\"\",\"\",VLOOKUP(F565,zawodnicy!$A:$D,3,FALSE))","v":""}]
[{"$f":"S565","v":0},{"$f":"IF(Q564=\"\",\"\",Q564)","v":""},{"$f":"IF(Q565=\"\",\"\",Q565)","v":""},{"$f":"IF(Q566=\"\",\"\",Q566)","v":""},{"$f":"IF(Q567=\"\",\"\",Q567)","v":""},{"$f":"IF(A565=0,IF(AND(LEN(B565)>0,LEN(D565)=0),VLOOKUP(B565,zawodnicy!$A:$E,1,FALSE),IF(AND(LEN(D565)>0,LEN(B565)=0),VLOOKUP(D565,zawodnicy!$A:$E,1,FALSE),\"\")),IF((VLOOKUP(A565,'plan gier'!$Z:$AH,7,FALSE))=\"\",\"\",VLOOKUP(VLOOKUP(A565,'plan gier'!$Z:$AH,7,FALSE),zawodnicy!$A:$E,1,FALSE)))","v":""},{"$f":"IF(A565=0,IF(AND(LEN(C565)>1,LEN(E565)=0),VLOOKUP(C565,zawodnicy!$A:$E,1,FALSE),IF(AND(LEN(E565)>1,LEN(C565)=0),VLOOKUP(E565,zawodnicy!$A:$E,1,FALSE),\"\")),IF((VLOOKUP(A565,'plan gier'!$Z:$AH,8,FALSE))=\"\",\"\",VLOOKUP(VLOOKUP(A565,'plan gier'!$Z:$AH,8,FALSE),zawodnicy!$A:$E,1,FALSE)))","v":""},{"$f":"IF(A565=0,\"\",IF((VLOOKUP(A565,'plan gier'!$Z:$AH,7,FALSE))=\"\",\"\",VLOOKUP(A565,'plan gier'!$Z:$AH,9,FALSE)))","v":""},{"$f":"IF(A565=0,\"\",IF(VLOOKUP(A565,'plan gier'!A:T,20,FALSE)=\"\",\"\",VLOOKUP(A565,'plan gier'!A:T,20,FALSE)))","v":""},{"$f":"IF(L564=\"\",\"\",VLOOKUP(L564,A:J,10,FALSE))","v":""},null,null,null,null,null,null,{"$f":"IF(L564=\"\",\"\",IF(LEN(VLOOKUP(L564,A:J,7,FALSE))=0,\"\",IF(VLOOKUP(L564,A:J,7,FALSE)=VLOOKUP(L564,A:P,3,FALSE),VLOOKUP(L564,A:P,5,FALSE),VLOOKUP(L564,A:P,3,FALSE))))","v":""},{"$f":"IF(Q565<>\"\",CONCATENATE(VLOOKUP(Q565,zawodnicy!$A:$E,2,FALSE),\" \",VLOOKUP(Q565,zawodnicy!$A:$E,3,FALSE),\" - \",VLOOKUP(Q565,zawodnicy!$A:$E,4,FALSE)),\"\")","v":""},null,{"$f":"IF(G565=\"\",\"\",VLOOKUP(G565,zawodnicy!$A:$D,3,FALSE))","v":""}]
[null,null,null,null,null,null,null,null,null,null,null,null,null,null,null,null,{"$f":"IF(L566=\"\",\"\",IF(LEN(VLOOKUP(L566,A:J,6,FALSE))=0,\"\",IF(VLOOKUP(L566,A:J,6,FALSE)=VLOOKUP(L566,A:P,2,FALSE),VLOOKUP(L566,A:P,4,FALSE),VLOOKUP(L566,A:P,2,FALSE))))","v":""},{"$f":"IF(Q566<>\"\",CONCATENATE(VLOOKUP(Q566,zawodnicy!$A:$E,2,FALSE),\" \",VLOOKUP(Q566,zawodnicy!$A:$E,3,FALSE),\" - \",VLOOKUP(Q566,zawodnicy!$A:$E,4,FALSE)),\"\")","v":""},null,{"$f":"IF(H565=\"\",I565,H565)","v":""}]
[null,null,null,null,null,null,null,null,null,null,null,null,null,null,null,null,{"$f":"IF(L566=\"\",\"\",IF(LEN(VLOOKUP(L566,A:J,7,FALSE))=0,\"\",IF(VLOOKUP(L566,A:J,7,FALSE)=VLOOKUP(L566,A:P,3,FALSE),VLOOKUP(L566,A:P,5,FALSE),VLOOKUP(L566,A:P,3,FALSE))))","v":""},{"$f":"IF(Q567<>\"\",CONCATENATE(VLOOKUP(Q567,zawodnicy!$A:$E,2,FALSE),\" \",VLOOKUP(Q567,zawodnicy!$A:$E,3,FALSE),\" - \",VLOOKUP(Q567,zawodnicy!$A:$E,4,FALSE)),\"\")","v":""}]

{"sheet":"sędziowie","index":8,"n_rows":32,"n_cols":18,"rows_kept":32,"cut":false,"hidden":false,"merged":[[0,4,0,17],[1,4,1,17],[3,4,3,17],[2,4,2,7],[5,13,5,17],[4,4,4,7],[5,4,6,4],[5,5,6,5],[5,6,6,6],[5,7,6,7],[5,8,5,12]]}
[null,null,null,null,{"$f":"dane!D2","v":"VICTOR GRAND PRIX ZĄBEK"}]
[null,null,null,null,{"$f":"dane!D3","v":"ZĄBKI ; 04.10.2014"}]
[]
[null,null,null,null,"Zestawienie pracy sędziów"]
[]
[null,null,null,null,"Lp.","Imię i nazwisko","S. prow.","S. serw.","S. prowadzący",null,null,null,null,"S. serwisowy"]
[null,"Imię","Nazwisko",null,null,null,null,null,"Poj. k.","Poj. m.","Pod. k.","Pod. m.","Mie.","Poj. k.","Poj. m","Pod. k.","Pod. m.","Mie."]
[{"$f":"C8&\" \"&B8","v":"Krawczyk Marek"},"Marek","Krawczyk",null,1,{"$f":"CONCATENATE(B8,\" \",C8)","v":"Marek Krawczyk"},{"$f":"IF(C8<>\"\",COUNTIF('plan gier'!$AR:$AR,A8),\"\")","v":0},{"$f":"IF(C8<>\"\",COUNTIF('plan gier'!$AS:$AS,A8),\"\")","v":0},{"$f":"IF(C8<>\"\",COUNTIF('plan gier'!$AT:$AT,A8),\"\")","v":0},{"$f":"IF(C8<>\"\",COUNTIF('plan gier'!$AU:$AU,A8),\"\")","v":0},{"$f":"IF(C8<>\"\",COUNTIF('plan gier'!$AV:$AV,A8),\"\")","v":0},{"$f":"IF(C8<>\"\",COUNTIF('plan gier'!$AW:$AW,A8),\"\")","v":0},{"$f":"IF(C8<>\"\",COUNTIF('plan gier'!$AX:$AX,A8),\"\")","v":0},{"$f":"IF(C8<>\"\",COUNTIF('plan gier'!$AY:$AY,A8),\"\")","v":0},{"$f":"IF(C8<>\"\",COUNTIF('plan gier'!$AZ:$AZ,A8),\"\")","v":0},{"$f":"IF(C8<>\"\",COUNTIF('plan gier'!$BA:$BA,A8),\"\")","v":0},{"$f":"IF(C8<>\"\",COUNTIF('plan gier'!$BB:$BB,A8),\"\")","v":0},{"$f":"IF(C8<>\"\",COUNTIF('plan gier'!$BC:$BC,A8),\"\")","v":0}]
[{"$f":"C9&\" \"&B9","v":"Orzęcki Łukasz "},"Łukasz ","Orzęcki",null,2,{"$f":"CONCATENATE(B9,\" \",C9)","v":"Łukasz  Orzęcki"},{"$f":"IF(C9<>\"\",COUNTIF('plan gier'!$AR:$AR,A9),\"\")","v":0},{"$f":"IF(C9<>\"\",COUNTIF('plan gier'!$AS:$AS,A9),\"\")","v":0},{"$f":"IF(C9<>\"\",COUNTIF('plan gier'!$AT:$AT,A9),\"\")","v":0},{"$f":"IF(C9<>\"\",COUNTIF('plan gier'!$AU:$AU,A9),\"\")","v":0},{"$f":"IF(C9<>\"\",COUNTIF('plan gier'!$AV:$AV,A9),\"\")","v":0},{"$f":"IF(C9<>\"\",COUNTIF('plan gier'!$AW:$AW,A9),\"\")","v":0},{"$f":"IF(C9<>\"\",COUNTIF('plan gier'!$AX:$AX,A9),\"\")","v":0},{"$f":"IF(C9<>\"\",COUNTIF('plan gier'!$AY:$AY,A9),\"\")","v":0},{"$f":"IF(C9<>\"\",COUNTIF('plan gier'!$AZ:$AZ,A9),\"\")","v":0},{"$f":"IF(C9<>\"\",COUNTIF('plan gier'!$BA:$BA,A9),\"\")","v":0},{"$f":"IF(C9<>\"\",COUNTIF('plan gier'!$BB:$BB,A9),\"\")","v":0},{"$f":"IF(C9<>\"\",COUNTIF('plan gier'!$BC:$BC,A9),\"\")","v":0}]
[{"$f":"C10&\" \"&B10","v":" "},null,null,null,3,{"$f":"CONCATENATE(B10,\" \",C10)","v":" "},{"$f":"IF(C10<>\"\",COUNTIF('plan gier'!$AR:$AR,A10),\"\")","v":""},{"$f":"IF(C10<>\"\",COUNTIF('plan gier'!$AS:$AS,A10),\"\")","v":""},{"$f":"IF(C10<>\"\",COUNTIF('plan gier'!$AT:$AT,A10),\"\")","v":""},{"$f":"IF(C10<>\"\",COUNTIF('plan gier'!$AU:$AU,A10),\"\")","v":""},{"$f":"IF(C10<>\"\",COUNTIF('plan gier'!$AV:$AV,A10),\"\")","v":""},{"$f":"IF(C10<>\"\",COUNTIF('plan gier'!$AW:$AW,A10),\"\")","v":""},{"$f":"IF(C10<>\"\",COUNTIF('plan gier'!$AX:$AX,A10),\"\")","v":""},{"$f":"IF(C10<>\"\",COUNTIF('plan gier'!$AY:$AY,A10),\"\")","v":""},{"$f":"IF(C10<>\"\",COUNTIF('plan gier'!$AZ:$AZ,A10),\"\")","v":""},{"$f":"IF(C10<>\"\",COUNTIF('plan gier'!$BA:$BA,A10),\"\")","v":""},{"$f":"IF(C10<>\"\",COUNTIF('plan gier'!$BB:$BB,A10),\"\")","v":""},{"$f":"IF(C10<>\"\",COUNTIF('plan gier'!$BC:$BC,A10),\"\")","v":""}]
[" ",null,null,null,4," ",{"$f":"IF(C11<>\"\",COUNTIF('plan gier'!$AR:$AR,A11),\"\")","v":""},{"$f":"IF(C11<>\"\",COUNTIF('plan gier'!$AS:$AS,A11),\"\")","v":""},{"$f":"IF(C11<>\"\",COUNTIF('plan gier'!$AT:$AT,A11),\"\")","v":""},{"$f":"IF(C11<>\"\",COUNTIF('plan gier'!$AU:$AU,A11),\"\")","v":""},{"$f":"IF(C11<>\"\",COUNTIF('plan gier'!$AV:$AV,A11),\"\")","v":""},{"$f":"IF(C11<>\"\",COUNTIF('plan gier'!$AW:$AW,A11),\"\")","v":""},{"$f":"IF(C11<>\"\",COUNTIF('plan gier'!$AX:$AX,A11),\"\")","v":""},{"$f":"IF(C11<>\"\",COUNTIF('plan gier'!$AY:$AY,A11),\"\")","v":""},{"$f":"IF(C11<>\"\",COUNTIF('plan gier'!$AZ:$AZ,A11),\"\")","v":""},{"$f":"IF(C11<>\"\",COUNTIF('plan gier'!$BA:$BA,A11),\"\")","v":""},{"$f":"IF(C11<>\"\",COUNTIF('plan gier'!$BB:$BB,A11),\"\")","v":""},{"$f":"IF(C11<>\"\",COUNTIF('plan gier'!$BC:$BC,A11),\"\")","v":""}]
[" ",null,null,null,5," ",{"$f":"IF(C12<>\"\",COUNTIF('plan gier'!$AR:$AR,A12),\"\")","v":""},{"$f":"IF(C12<>\"\",COUNTIF('plan gier'!$AS:$AS,A12),\"\")","v":""},{"$f":"IF(C12<>\"\",COUNTIF('plan gier'!$AT:$AT,A12),\"\")","v":""},{"$f":"IF(C12<>\"\",COUNTIF('plan gier'!$AU:$AU,A12),\"\")","v":""},{"$f":"IF(C12<>\"\",COUNTIF('plan gier'!$AV:$AV,A12),\"\")","v":""},{"$f":"IF(C12<>\"\",COUNTIF('plan gier'!$AW:$AW,A12),\"\")","v":""},{"$f":"IF(C12<>\"\",COUNTIF('plan gier'!$AX:$AX,A12),\"\")","v":""},{"$f":"IF(C12<>\"\",COUNTIF('plan gier'!$AY:$AY,A12),\"\")","v":""},{"$f":"IF(C12<>\"\",COUNTIF('plan gier'!$AZ:$AZ,A12),\"\")","v":""},{"$f":"IF(C12<>\"\",COUNTIF('plan gier'!$BA:$BA,A12),\"\")","v":""},{"$f":"IF(C12<>\"\",COUNTIF('plan gier'!$BB:$BB,A12),\"\")","v":""},{"$f":"IF(C12<>\"\",COUNTIF('plan gier'!$BC:$BC,A12),\"\")","v":""}]
[" ",null,null,null,6," ",{"$f":"IF(C13<>\"\",COUNTIF('plan gier'!$AR:$AR,A13),\"\")","v":""},{"$f":"IF(C13<>\"\",COUNTIF('plan gier'!$AS:$AS,A13),\"\")","v":""},{"$f":"IF(C13<>\"\",COUNTIF('plan gier'!$AT:$AT,A13),\"\")","v":""},{"$f":"IF(C13<>\"\",COUNTIF('plan gier'!$AU:$AU,A13),\"\")","v":""},{"$f":"IF(C13<>\"\",COUNTIF('plan gier'!$AV:$AV,A13),\"\")","v":""},{"$f":"IF(C13<>\"\",COUNTIF('plan gier'!$AW:$AW,A13),\"\")","v":""},{"$f":"IF(C13<>\"\",COUNTIF('plan gier'!$AX:$AX,A13),\"\")","v":""},{"$f":"IF(C13<>\"\",COUNTIF('plan gier'!$AY:$AY,A13),\"\")","v":""},{"$f":"IF(C13<>\"\",COUNTIF('plan gier'!$AZ:$AZ,A13),\"\")","v":""},{"$f":"IF(C13<>\"\",COUNTIF('plan gier'!$BA:$BA,A13),\"\")","v":""},{"$f":"IF(C13<>\"\",COUNTIF('plan gier'!$BB:$BB,A13),\"\")","v":""},{"$f":"IF(C13<>\"\",COUNTIF('plan gier'!$BC:$BC,A13),\"\")","v":""}]
[" ",null,null,null,7," ",{"$f":"IF(C14<>\"\",COUNTIF('plan gier'!$AR:$AR,A14),\"\")","v":""},{"$f":"IF(C14<>\"\",COUNTIF('plan gier'!$AS:$AS,A14),\"\")","v":""},{"$f":"IF(C14<>\"\",COUNTIF('plan gier'!$AT:$AT,A14),\"\")","v":""},{"$f":"IF(C14<>\"\",COUNTIF('plan gier'!$AU:$AU,A14),\"\")","v":""},{"$f":"IF(C14<>\"\",COUNTIF('plan gier'!$AV:$AV,A14),\"\")","v":""},{"$f":"IF(C14<>\"\",COUNTIF('plan gier'!$AW:$AW,A14),\"\")","v":""},{"$f":"IF(C14<>\"\",COUNTIF('plan gier'!$AX:$AX,A14),\"\")","v":""},{"$f":"IF(C14<>\"\",COUNTIF('plan gier'!$AY:$AY,A14),\"\")","v":""},{"$f":"IF(C14<>\"\",COUNTIF('plan gier'!$AZ:$AZ,A14),\"\")","v":""},{"$f":"IF(C14<>\"\",COUNTIF('plan gier'!$BA:$BA,A14),\"\")","v":""},{"$f":"IF(C14<>\"\",COUNTIF('plan gier'!$BB:$BB,A14),\"\")","v":""},{"$f":"IF(C14<>\"\",COUNTIF('plan gier'!$BC:$BC,A14),\"\")","v":""}]
[" ",null,null,null,8," ",{"$f":"IF(C15<>\"\",COUNTIF('plan gier'!$AR:$AR,A15),\"\")","v":""},{"$f":"IF(C15<>\"\",COUNTIF('plan gier'!$AS:$AS,A15),\"\")","v":""},{"$f":"IF(C15<>\"\",COUNTIF('plan gier'!$AT:$AT,A15),\"\")","v":""},{"$f":"IF(C15<>\"\",COUNTIF('plan gier'!$AU:$AU,A15),\"\")","v":""},{"$f":"IF(C15<>\"\",COUNTIF('plan gier'!$AV:$AV,A15),\"\")","v":""},{"$f":"IF(C15<>\"\",COUNTIF('plan gier'!$AW:$AW,A15),\"\")","v":""},{"$f":"IF(C15<>\"\",COUNTIF('plan gier'!$AX:$AX,A15),\"\")","v":""},{"$f":"IF(C15<>\"\",COUNTIF('plan gier'!$AY:$AY,A15),\"\")","v":""},{"$f":"IF(C15<>\"\",COUNTIF('plan gier'!$AZ:$AZ,A15),\"\")","v":""},{"$f":"IF(C15<>\"\",COUNTIF('plan gier'!$BA:$BA,A15),\"\")","v":""},{"$f":"IF(C15<>\"\",COUNTIF('plan gier'!$BB:$BB,A15),\"\")","v":""},{"$f":"IF(C15<>\"\",COUNTIF('plan gier'!$BC:$BC,A15),\"\")","v":""}]
[" ",null,null,null,9," ",{"$f":"IF(C16<>\"\",COUNTIF('plan gier'!$AR:$AR,A16),\"\")","v":""},{"$f":"IF(C16<>\"\",COUNTIF('plan gier'!$AS:$AS,A16),\"\")","v":""},{"$f":"IF(C16<>\"\",COUNTIF('plan gier'!$AT:$AT,A16),\"\")","v":""},{"$f":"IF(C16<>\"\",COUNTIF('plan gier'!$AU:$AU,A16),\"\")","v":""},{"$f":"IF(C16<>\"\",COUNTIF('plan gier'!$AV:$AV,A16),\"\")","v":""},{"$f":"IF(C16<>\"\",COUNTIF('plan gier'!$AW:$AW,A16),\"\")","v":""},{"$f":"IF(C16<>\"\",COUNTIF('plan gier'!$AX:$AX,A16),\"\")","v":""},{"$f":"IF(C16<>\"\",COUNTIF('plan gier'!$AY:$AY,A16),\"\")","v":""},{"$f":"IF(C16<>\"\",COUNTIF('plan gier'!$AZ:$AZ,A16),\"\")","v":""},{"$f":"IF(C16<>\"\",COUNTIF('plan gier'!$BA:$BA,A16),\"\")","v":""},{"$f":"IF(C16<>\"\",COUNTIF('plan gier'!$BB:$BB,A16),\"\")","v":""},{"$f":"IF(C16<>\"\",COUNTIF('plan gier'!$BC:$BC,A16),\"\")","v":""}]
[" ",null,null,null,10," ",{"$f":"IF(C17<>\"\",COUNTIF('plan gier'!$AR:$AR,A17),\"\")","v":""},{"$f":"IF(C17<>\"\",COUNTIF('plan gier'!$AS:$AS,A17),\"\")","v":""},{"$f":"IF(C17<>\"\",COUNTIF('plan gier'!$AT:$AT,A17),\"\")","v":""},{"$f":"IF(C17<>\"\",COUNTIF('plan gier'!$AU:$AU,A17),\"\")","v":""},{"$f":"IF(C17<>\"\",COUNTIF('plan gier'!$AV:$AV,A17),\"\")","v":""},{"$f":"IF(C17<>\"\",COUNTIF('plan gier'!$AW:$AW,A17),\"\")","v":""},{"$f":"IF(C17<>\"\",COUNTIF('plan gier'!$AX:$AX,A17),\"\")","v":""},{"$f":"IF(C17<>\"\",COUNTIF('plan gier'!$AY:$AY,A17),\"\")","v":""},{"$f":"IF(C17<>\"\",COUNTIF('plan gier'!$AZ:$AZ,A17),\"\")","v":""},{"$f":"IF(C17<>\"\",COUNTIF('plan gier'!$BA:$BA,A17),\"\")","v":""},{"$f":"IF(C17<>\"\",COUNTIF('plan gier'!$BB:$BB,A17),\"\")","v":""},{"$f":"IF(C17<>\"\",COUNTIF('plan gier'!$BC:$BC,A17),\"\")","v":""}]
[" ",null,null,null,11,{"$f":"CONCATENATE(B18,\" \",C18)","v":" "},{"$f":"IF(C18<>\"\",COUNTIF('plan gier'!$AR:$AR,A18),\"\")","v":""},{"$f":"IF(C18<>\"\",COUNTIF('plan gier'!$AS:$AS,A18),\"\")","v":""},{"$f":"IF(C18<>\"\",COUNTIF('plan gier'!$AT:$AT,A18),\"\")","v":""},{"$f":"IF(C18<>\"\",COUNTIF('plan gier'!$AU:$AU,A18),\"\")","v":""},{"$f":"IF(C18<>\"\",COUNTIF('plan gier'!$AV:$AV,A18),\"\")","v":""},{"$f":"IF(C18<>\"\",COUNTIF('plan gier'!$AW:$AW,A18),\"\")","v":""},{"$f":"IF(C18<>\"\",COUNTIF('plan gier'!$AX:$AX,A18),\"\")","v":""},{"$f":"IF(C18<>\"\",COUNTIF('plan gier'!$AY:$AY,A18),\"\")","v":""},{"$f":"IF(C18<>\"\",COUNTIF('plan gier'!$AZ:$AZ,A18),\"\")","v":""},{"$f":"IF(C18<>\"\",COUNTIF('plan gier'!$BA:$BA,A18),\"\")","v":""},{"$f":"IF(C18<>\"\",COUNTIF('plan gier'!$BB:$BB,A18),\"\")","v":""},{"$f":"IF(C18<>\"\",COUNTIF('plan gier'!$BC:$BC,A18),\"\")","v":""}]
[" ",null,null,null,12,{"$f":"CONCATENATE(B19,\" \",C19)","v":" "},{"$f":"IF(C19<>\"\",COUNTIF('plan gier'!$AR:$AR,A19),\"\")","v":""},{"$f":"IF(C19<>\"\",COUNTIF('plan gier'!$AS:$AS,A19),\"\")","v":""},{"$f":"IF(C19<>\"\",COUNTIF('plan gier'!$AT:$AT,A19),\"\")","v":""},{"$f":"IF(C19<>\"\",COUNTIF('plan gier'!$AU:$AU,A19),\"\")","v":""},{"$f":"IF(C19<>\"\",COUNTIF('plan gier'!$AV:$AV,A19),\"\")","v":""},{"$f":"IF(C19<>\"\",COUNTIF('plan gier'!$AW:$AW,A19),\"\")","v":""},{"$f":"IF(C19<>\"\",COUNTIF('plan gier'!$AX:$AX,A19),\"\")","v":""},{"$f":"IF(C19<>\"\",COUNTIF('plan gier'!$AY:$AY,A19),\"\")","v":""},{"$f":"IF(C19<>\"\",COUNTIF('plan gier'!$AZ:$AZ,A19),\"\")","v":""},{"$f":"IF(C19<>\"\",COUNTIF('plan gier'!$BA:$BA,A19),\"\")","v":""},{"$f":"IF(C19<>\"\",COUNTIF('plan gier'!$BB:$BB,A19),\"\")","v":""},{"$f":"IF(C19<>\"\",COUNTIF('plan gier'!$BC:$BC,A19),\"\")","v":""}]
[" ",null,null,null,13,{"$f":"CONCATENATE(B20,\" \",C20)","v":" "},{"$f":"IF(C20<>\"\",COUNTIF('plan gier'!$AR:$AR,A20),\"\")","v":""},{"$f":"IF(C20<>\"\",COUNTIF('plan gier'!$AS:$AS,A20),\"\")","v":""},{"$f":"IF(C20<>\"\",COUNTIF('plan gier'!$AT:$AT,A20),\"\")","v":""},{"$f":"IF(C20<>\"\",COUNTIF('plan gier'!$AU:$AU,A20),\"\")","v":""},{"$f":"IF(C20<>\"\",COUNTIF('plan gier'!$AV:$AV,A20),\"\")","v":""},{"$f":"IF(C20<>\"\",COUNTIF('plan gier'!$AW:$AW,A20),\"\")","v":""},{"$f":"IF(C20<>\"\",COUNTIF('plan gier'!$AX:$AX,A20),\"\")","v":""},{"$f":"IF(C20<>\"\",COUNTIF('plan gier'!$AY:$AY,A20),\"\")","v":""},{"$f":"IF(C20<>\"\",COUNTIF('plan gier'!$AZ:$AZ,A20),\"\")","v":""},{"$f":"IF(C20<>\"\",COUNTIF('plan gier'!$BA:$BA,A20),\"\")","v":""},{"$f":"IF(C20<>\"\",COUNTIF('plan gier'!$BB:$BB,A20),\"\")","v":""},{"$f":"IF(C20<>\"\",COUNTIF('plan gier'!$BC:$BC,A20),\"\")","v":""}]
[" ",null,null,null,14,{"$f":"CONCATENATE(B21,\" \",C21)","v":" "},{"$f":"IF(C21<>\"\",COUNTIF('plan gier'!$AR:$AR,A21),\"\")","v":""},{"$f":"IF(C21<>\"\",COUNTIF('plan gier'!$AS:$AS,A21),\"\")","v":""},{"$f":"IF(C21<>\"\",COUNTIF('plan gier'!$AT:$AT,A21),\"\")","v":""},{"$f":"IF(C21<>\"\",COUNTIF('plan gier'!$AU:$AU,A21),\"\")","v":""},{"$f":"IF(C21<>\"\",COUNTIF('plan gier'!$AV:$AV,A21),\"\")","v":""},{"$f":"IF(C21<>\"\",COUNTIF('plan gier'!$AW:$AW,A21),\"\")","v":""},{"$f":"IF(C21<>\"\",COUNTIF('plan gier'!$AX:$AX,A21),\"\")","v":""},{"$f":"IF(C21<>\"\",COUNTIF('plan gier'!$AY:$AY,A21),\"\")","v":""},{"$f":"IF(C21<>\"\",COUNTIF('plan gier'!$AZ:$AZ,A21),\"\")","v":""},{"$f":"IF(C21<>\"\",COUNTIF('plan gier'!$BA:$BA,A21),\"\")","v":""},{"$f":"IF(C21<>\"\",COUNTIF('plan gier'!$BB:$BB,A21),\"\")","v":""},{"$f":"IF(C21<>\"\",COUNTIF('plan gier'!$BC:$BC,A21),\"\")","v":""}]
[" ",null,null,null,15,{"$f":"CONCATENATE(B22,\" \",C22)","v":" "},{"$f":"IF(C22<>\"\",COUNTIF('plan gier'!$AR:$AR,A22),\"\")","v":""},{"$f":"IF(C22<>\"\",COUNTIF('plan gier'!$AS:$AS,A22),\"\")","v":""},{"$f":"IF(C22<>\"\",COUNTIF('plan gier'!$AT:$AT,A22),\"\")","v":""},{"$f":"IF(C22<>\"\",COUNTIF('plan gier'!$AU:$AU,A22),\"\")","v":""},{"$f":"IF(C22<>\"\",COUNTIF('plan gier'!$AV:$AV,A22),\"\")","v":""},{"$f":"IF(C22<>\"\",COUNTIF('plan gier'!$AW:$AW,A22),\"\")","v":""},{"$f":"IF(C22<>\"\",COUNTIF('plan gier'!$AX:$AX,A22),\"\")","v":""},{"$f":"IF(C22<>\"\",COUNTIF('plan gier'!$AY:$AY,A22),\"\")","v":""},{"$f":"IF(C22<>\"\",COUNTIF('plan gier'!$AZ:$AZ,A22),\"\")","v":""},{"$f":"IF(C22<>\"\",COUNTIF('plan gier'!$BA:$BA,A22),\"\")","v":""},{"$f":"IF(C22<>\"\",COUNTIF('plan gier'!$BB:$BB,A22),\"\")","v":""},{"$f":"IF(C22<>\"\",COUNTIF('plan gier'!$BC:$BC,A22),\"\")","v":""}]
[" ",null,null,null,16," ",{"$f":"IF(C23<>\"\",COUNTIF('plan gier'!$AR:$AR,A23),\"\")","v":""},{"$f":"IF(C23<>\"\",COUNTIF('plan gier'!$AS:$AS,A23),\"\")","v":""},{"$f":"IF(C23<>\"\",COUNTIF('plan gier'!$AT:$AT,A23),\"\")","v":""},{"$f":"IF(C23<>\"\",COUNTIF('plan gier'!$AU:$AU,A23),\"\")","v":""},{"$f":"IF(C23<>\"\",COUNTIF('plan gier'!$AV:$AV,A23),\"\")","v":""},{"$f":"IF(C23<>\"\",COUNTIF('plan gier'!$AW:$AW,A23),\"\")","v":""},{"$f":"IF(C23<>\"\",COUNTIF('plan gier'!$AX:$AX,A23),\"\")","v":""},{"$f":"IF(C23<>\"\",COUNTIF('plan gier'!$AY:$AY,A23),\"\")","v":""},{"$f":"IF(C23<>\"\",COUNTIF('plan gier'!$AZ:$AZ,A23),\"\")","v":""},{"$f":"IF(C23<>\"\",COUNTIF('plan gier'!$BA:$BA,A23),\"\")","v":""},{"$f":"IF(C23<>\"\",COUNTIF('plan gier'!$BB:$BB,A23),\"\")","v":""},{"$f":"IF(C23<>\"\",COUNTIF('plan gier'!$BC:$BC,A23),\"\")","v":""}]
[" ",null,null,null,17," ",{"$f":"IF(C24<>\"\",COUNTIF('plan gier'!$AR:$AR,A24),\"\")","v":""},{"$f":"IF(C24<>\"\",COUNTIF('plan gier'!$AS:$AS,A24),\"\")","v":""},{"$f":"IF(C24<>\"\",COUNTIF('plan gier'!$AT:$AT,A24),\"\")","v":""},{"$f":"IF(C24<>\"\",COUNTIF('plan gier'!$AU:$AU,A24),\"\")","v":""},{"$f":"IF(C24<>\"\",COUNTIF('plan gier'!$AV:$AV,A24),\"\")","v":""},{"$f":"IF(C24<>\"\",COUNTIF('plan gier'!$AW:$AW,A24),\"\")","v":""},{"$f":"IF(C24<>\"\",COUNTIF('plan gier'!$AX:$AX,A24),\"\")","v":""},{"$f":"IF(C24<>\"\",COUNTIF('plan gier'!$AY:$AY,A24),\"\")","v":""},{"$f":"IF(C24<>\"\",COUNTIF('plan gier'!$AZ:$AZ,A24),\"\")","v":""},{"$f":"IF(C24<>\"\",COUNTIF('plan gier'!$BA:$BA,A24),\"\")","v":""},{"$f":"IF(C24<>\"\",COUNTIF('plan gier'!$BB:$BB,A24),\"\")","v":""},{"$f":"IF(C24<>\"\",COUNTIF('plan gier'!$BC:$BC,A24),\"\")","v":""}]
[" ",null,null,null,18," ",{"$f":"IF(C25<>\"\",COUNTIF('plan gier'!$AR:$AR,A25),\"\")","v":""},{"$f":"IF(C25<>\"\",COUNTIF('plan gier'!$AS:$AS,A25),\"\")","v":""},{"$f":"IF(C25<>\"\",COUNTIF('plan gier'!$AT:$AT,A25),\"\")","v":""},{"$f":"IF(C25<>\"\",COUNTIF('plan gier'!$AU:$AU,A25),\"\")","v":""},{"$f":"IF(C25<>\"\",COUNTIF('plan gier'!$AV:$AV,A25),\"\")","v":""},{"$f":"IF(C25<>\"\",COUNTIF('plan gier'!$AW:$AW,A25),\"\")","v":""},{"$f":"IF(C25<>\"\",COUNTIF('plan gier'!$AX:$AX,A25),\"\")","v":""},{"$f":"IF(C25<>\"\",COUNTIF('plan gier'!$AY:$AY,A25),\"\")","v":""},{"$f":"IF(C25<>\"\",COUNTIF('plan gier'!$AZ:$AZ,A25),\"\")","v":""},{"$f":"IF(C25<>\"\",COUNTIF('plan gier'!$BA:$BA,A25),\"\")","v":""},{"$f":"IF(C25<>\"\",COUNTIF('plan gier'!$BB:$BB,A25),\"\")","v":""},{"$f":"IF(C25<>\"\",COUNTIF('plan gier'!$BC:$BC,A25),\"\")","v":""}]
[" ",null,null,null,19," ",{"$f":"IF(C26<>\"\",COUNTIF('plan gier'!$AR:$AR,A26),\"\")","v":""},{"$f":"IF(C26<>\"\",COUNTIF('plan gier'!$AS:$AS,A26),\"\")","v":""},{"$f":"IF(C26<>\"\",COUNTIF('plan gier'!$AT:$AT,A26),\"\")","v":""},{"$f":"IF(C26<>\"\",COUNTIF('plan gier'!$AU:$AU,A26),\"\")","v":""},{"$f":"IF(C26<>\"\",COUNTIF('plan gier'!$AV:$AV,A26),\"\")","v":""},{"$f":"IF(C26<>\"\",COUNTIF('plan gier'!$AW:$AW,A26),\"\")","v":""},{"$f":"IF(C26<>\"\",COUNTIF('plan gier'!$AX:$AX,A26),\"\")","v":""},{"$f":"IF(C26<>\"\",COUNTIF('plan gier'!$AY:$AY,A26),\"\")","v":""},{"$f":"IF(C26<>\"\",COUNTIF('plan gier'!$AZ:$AZ,A26),\"\")","v":""},{"$f":"IF(C26<>\"\",COUNTIF('plan gier'!$BA:$BA,A26),\"\")","v":""},{"$f":"IF(C26<>\"\",COUNTIF('plan gier'!$BB:$BB,A26),\"\")","v":""},{"$f":"IF(C26<>\"\",COUNTIF('plan gier'!$BC:$BC,A26),\"\")","v":""}]
[" ",null,null,null,20," ",{"$f":"IF(C27<>\"\",COUNTIF('plan gier'!$AR:$AR,A27),\"\")","v":""},{"$f":"IF(C27<>\"\",COUNTIF('plan gier'!$AS:$AS,A27),\"\")","v":""},{"$f":"IF(C27<>\"\",COUNTIF('plan gier'!$AT:$AT,A27),\"\")","v":""},{"$f":"IF(C27<>\"\",COUNTIF('plan gier'!$AU:$AU,A27),\"\")","v":""},{"$f":"IF(C27<>\"\",COUNTIF('plan gier'!$AV:$AV,A27),\"\")","v":""},{"$f":"IF(C27<>\"\",COUNTIF('plan gier'!$AW:$AW,A27),\"\")","v":""},{"$f":"IF(C27<>\"\",COUNTIF('plan gier'!$AX:$AX,A27),\"\")","v":""},{"$f":"IF(C27<>\"\",COUNTIF('plan gier'!$AY:$AY,A27),\"\")","v":""},{"$f":"IF(C27<>\"\",COUNTIF('plan gier'!$AZ:$AZ,A27),\"\")","v":""},{"$f":"IF(C27<>\"\",COUNTIF('plan gier'!$BA:$BA,A27),\"\")","v":""},{"$f":"IF(C27<>\"\",COUNTIF('plan gier'!$BB:$BB,A27),\"\")","v":""},{"$f":"IF(C27<>\"\",COUNTIF('plan gier'!$BC:$BC,A27),\"\")","v":""}]
[" ",null,null,null,21," ",{"$f":"IF(C28<>\"\",COUNTIF('plan gier'!$AR:$AR,A28),\"\")","v":""},{"$f":"IF(C28<>\"\",COUNTIF('plan gier'!$AS:$AS,A28),\"\")","v":""},{"$f":"IF(C28<>\"\",COUNTIF('plan gier'!$AT:$AT,A28),\"\")","v":""},{"$f":"IF(C28<>\"\",COUNTIF('plan gier'!$AU:$AU,A28),\"\")","v":""},{"$f":"IF(C28<>\"\",COUNTIF('plan gier'!$AV:$AV,A28),\"\")","v":""},{"$f":"IF(C28<>\"\",COUNTIF('plan gier'!$AW:$AW,A28),\"\")","v":""},{"$f":"IF(C28<>\"\",COUNTIF('plan gier'!$AX:$AX,A28),\"\")","v":""},{"$f":"IF(C28<>\"\",COUNTIF('plan gier'!$AY:$AY,A28),\"\")","v":""},{"$f":"IF(C28<>\"\",COUNTIF('plan gier'!$AZ:$AZ,A28),\"\")","v":""},{"$f":"IF(C28<>\"\",COUNTIF('plan gier'!$BA:$BA,A28),\"\")","v":""},{"$f":"IF(C28<>\"\",COUNTIF('plan gier'!$BB:$BB,A28),\"\")","v":""},{"$f":"IF(C28<>\"\",COUNTIF('plan gier'!$BC:$BC,A28),\"\")","v":""}]
[" ",null,null,null,22," ",{"$f":"IF(C29<>\"\",COUNTIF('plan gier'!$AR:$AR,A29),\"\")","v":""},{"$f":"IF(C29<>\"\",COUNTIF('plan gier'!$AS:$AS,A29),\"\")","v":""},{"$f":"IF(C29<>\"\",COUNTIF('plan gier'!$AT:$AT,A29),\"\")","v":""},{"$f":"IF(C29<>\"\",COUNTIF('plan gier'!$AU:$AU,A29),\"\")","v":""},{"$f":"IF(C29<>\"\",COUNTIF('plan gier'!$AV:$AV,A29),\"\")","v":""},{"$f":"IF(C29<>\"\",COUNTIF('plan gier'!$AW:$AW,A29),\"\")","v":""},{"$f":"IF(C29<>\"\",COUNTIF('plan gier'!$AX:$AX,A29),\"\")","v":""},{"$f":"IF(C29<>\"\",COUNTIF('plan gier'!$AY:$AY,A29),\"\")","v":""},{"$f":"IF(C29<>\"\",COUNTIF('plan gier'!$AZ:$AZ,A29),\"\")","v":""},{"$f":"IF(C29<>\"\",COUNTIF('plan gier'!$BA:$BA,A29),\"\")","v":""},{"$f":"IF(C29<>\"\",COUNTIF('plan gier'!$BB:$BB,A29),\"\")","v":""},{"$f":"IF(C29<>\"\",COUNTIF('plan gier'!$BC:$BC,A29),\"\")","v":""}]
[" ",null,null,null,23," ",{"$f":"IF(C30<>\"\",COUNTIF('plan gier'!$AR:$AR,A30),\"\")","v":""},{"$f":"IF(C30<>\"\",COUNTIF('plan gier'!$AS:$AS,A30),\"\")","v":""},{"$f":"IF(C30<>\"\",COUNTIF('plan gier'!$AT:$AT,A30),\"\")","v":""},{"$f":"IF(C30<>\"\",COUNTIF('plan gier'!$AU:$AU,A30),\"\")","v":""},{"$f":"IF(C30<>\"\",COUNTIF('plan gier'!$AV:$AV,A30),\"\")","v":""},{"$f":"IF(C30<>\"\",COUNTIF('plan gier'!$AW:$AW,A30),\"\")","v":""},{"$f":"IF(C30<>\"\",COUNTIF('plan gier'!$AX:$AX,A30),\"\")","v":""},{"$f":"IF(C30<>\"\",COUNTIF('plan gier'!$AY:$AY,A30),\"\")","v":""},{"$f":"IF(C30<>\"\",COUNTIF('plan gier'!$AZ:$AZ,A30),\"\")","v":""},{"$f":"IF(C30<>\"\",COUNTIF('plan gier'!$BA:$BA,A30),\"\")","v":""},{"$f":"IF(C30<>\"\",COUNTIF('plan gier'!$BB:$BB,A30),\"\")","v":""},{"$f":"IF(C30<>\"\",COUNTIF('plan gier'!$BC:$BC,A30),\"\")","v":""}]
[" ",null,null,null,24," ",{"$f":"IF(C31<>\"\",COUNTIF('plan gier'!$AR:$AR,A31),\"\")","v":""},{"$f":"IF(C31<>\"\",COUNTIF('plan gier'!$AS:$AS,A31),\"\")","v":""},{"$f":"IF(C31<>\"\",COUNTIF('plan gier'!$AT:$AT,A31),\"\")","v":""},{"$f":"IF(C31<>\"\",COUNTIF('plan gier'!$AU:$AU,A31),\"\")","v":""},{"$f":"IF(C31<>\"\",COUNTIF('plan gier'!$AV:$AV,A31),\"\")","v":""},{"$f":"IF(C31<>\"\",COUNTIF('plan gier'!$AW:$AW,A31),\"\")","v":""},{"$f":"IF(C31<>\"\",COUNTIF('plan gier'!$AX:$AX,A31),\"\")","v":""},{"$f":"IF(C31<>\"\",COUNTIF('plan gier'!$AY:$AY,A31),\"\")","v":""},{"$f":"IF(C31<>\"\",COUNTIF('plan gier'!$AZ:$AZ,A31),\"\")","v":""},{"$f":"IF(C31<>\"\",COUNTIF('plan gier'!$BA:$BA,A31),\"\")","v":""},{"$f":"IF(C31<>\"\",COUNTIF('plan gier'!$BB:$BB,A31),\"\")","v":""},{"$f":"IF(C31<>\"\",COUNTIF('plan gier'!$BC:$BC,A31),\"\")","v":""}]
[" ",null,null,null,25," ",{"$f":"IF(C32<>\"\",COUNTIF('plan gier'!$AR:$AR,A32),\"\")","v":""},{"$f":"IF(C32<>\"\",COUNTIF('plan gier'!$AS:$AS,A32),\"\")","v":""},{"$f":"IF(C32<>\"\",COUNTIF('plan gier'!$AT:$AT,A32),\"\")","v":""},{"$f":"IF(C32<>\"\",COUNTIF('plan gier'!$AU:$AU,A32),\"\")","v":""},{"$f":"IF(C32<>\"\",COUNTIF('plan gier'!$AV:$AV,A32),\"\")","v":""},{"$f":"IF(C32<>\"\",COUNTIF('plan gier'!$AW:$AW,A32),\"\")","v":""},{"$f":"IF(C32<>\"\",COUNTIF('plan gier'!$AX:$AX,A32),\"\")","v":""},{"$f":"IF(C32<>\"\",COUNTIF('plan gier'!$AY:$AY,A32),\"\")","v":""},{"$f":"IF(C32<>\"\",COUNTIF('plan gier'!$AZ:$AZ,A32),\"\")","v":""},{"$f":"IF(C32<>\"\",COUNTIF('plan gier'!$BA:$BA,A32),\"\")","v":""},{"$f":"IF(C32<>\"\",COUNTIF('plan gier'!$BB:$BB,A32),\"\")","v":""},{"$f":"IF(C32<>\"\",COUNTIF('plan gier'!$BC:$BC,A32),\"\")","v":""}]

{"sheet":"zawodnicy","index":9,"n_rows":230,"n_cols":4,"rows_kept":230,"cut":false,"hidden":false,"merged":[]}
["X1","Artur ","Cholewski","Ząbki"]
["X2","Damian ","Cholewski","Ząbki"]
["X3","Szymon","Chrostowski","Ząbki"]
["X4","Magda","Dąbrowska","Ząbki"]
["X5","Jakub ","Dworzak","Zielonka"]
["X6","Agnieszka ","Dziejarska","Wesoła"]
["X7","Kacper","Gajos","Ząbki"]
["X8","Antek","Getka","Wesoła"]
["X9","Iza","Gierat","Mińsk Mazowiecki"]
["X10","Maks ","Góra","Ząbki"]
["X11","Kacper","Gutowski","Wesoła"]
["X12","Hubert ","Jarosz","Ząbki"]
["X13","Maciej","Kania","Ząbki"]
["X14","Piotr","Kania"]
["X15","Michał ","Kania","Ząbki"]
["X16","Aleksandra ","Kiryluk","Warszawa"]
["X17","Adrian","Koc","Zielonka"]
["X18","Rafał","Komorowski","Ząbki"]
["X19","Grześ","Kopania","Warszawa"]
["X20","Błażej ","Krawczyk","Ząbki"]
["X21","Magdalena ","Krupa","Wesoła"]
["X22","Hanna ","Lewandowska","Wesoła"]
["X23","Wiktoria","Lisowska","Wesoła"]
["X24","Karolina","Łukomska","Zielonka"]
["X25","Iza ","Małczuk","Marki"]
["X26","Maciek","Matusik","Ząbki"]
["X27","Bartek","Matusik","Ząbki"]
["X28","Jakub ","Mądry","Wesoła"]
["X29","Jakub ","Mikołajczyk"]
["X30","Kamila ","Mil","Ząbki"]
["X31","Damian ","Mil","Ząbki"]
["X32","Natalia ","Motyczyńska","Zielonka"]
["X33","Jakub ","Niemirski","Ząbki"]
["X34","Łukasz","Niemirski","Ząbki"]
["X35","Kuba ","Niewczas","Ząbki"]
["X36","Amelia ","Ogórek","Wesoła"]
["X37","Kuba ","Paciorek","Ząbki"]
["X38","Iza","Pomykała","Marki"]
["X39","Paweł","Ponichtera","Ząbki"]
["X40","Milena ","Radolińska","Ząbki"]
["X41","Ignacy","Repiński","Marki"]
["X42","Barbara","Seweryn","Wesoła"]
["X43","Maks ","Siepsiak","Wesoła"]
["X44","Dawid","Siwek ","Zielonka"]
["X45","Justyna ","Sobolewska","Marki"]
["X46","Julia ","Sobolewska","Marki"]
["X47","Barbara ","Stasiak","Wesoła"]
["X48","Ewelina","Stec","Ząbki"]
["X49","Oliwia","Stolarska","Ząbki"]
["X50","Weronika ","Szemplińska","Stare Babice"]
["X51","Michał ","Szempliński","Stare Babice"]
["X52","Karol ","Szempliński","Stare Babice"]
["X53","Aleksander","Sztyber","Ząbki"]
["X54","Weronika ","Ślesicka","Ząbki"]
["X55","Aleksander","Teofilak","Wesoła"]
["X56","Agnieszka ","Toczyska","Ząbki"]
["X57","Ula ","Trusińska","Zielonka"]
["X58","Ada ","Trusińska","Zielonka"]
["X59","Jakub ","Walocha","Ząbki"]
["X60","Adam ","Walocha","Ząbki"]
["X61","Jan ","Wilczak","Wesoła"]
["X62","Weronika ","Wojda","Ząbki"]
["X63","Kasia","Wróblewska","Mińsk Mazowiecki"]
["X64","Basia","Zawistowskia","Zabki"]
["X65","Jacek","Stępiński"]
["X66","Miłosz ","Siepsiak","Wesoła"]
["X67","Michał ","Wiśniewski","Wesoła"]
["X68","Kacper","Winek","Garwolin"]
["X69","Ela ","Przybysz","Garwolin"]
["X70","Konrad ","Kalinowski","Garwolin"]
["X71","Grzegorz ","Cybulski","Garwolin"]
["X72","Kacper","Urbaniak","Ząbki"]
["X73"]
["X74"]
["X75"]
["X76"]
["X77"]
["X78"]
["X79"]
["X80","Kamila ","Banaszkiewicz","Warszawa"]
["X81","Kamil ","Bąk","Warszawa"]
["X82","Paweł","Bieliński","Mrozy"]
["X83","Małgorzata","Brzeska","Warszawa"]
["X84","Krzysztof","Ciesielski","Warszawa"]
["X85","Jacek","Czeremużyński","Konstancin-Jeziorna"]
["X86","Agnieszka ","Deberna","Marki"]
["X87","Magdalena","Dobosz","Mrozy"]
["X88","Sebastian","Dziewięcki","Ząbki"]
["X89","Dawid ","Fraś ","Bielsko - Biała"]
["X90","Marlena ","Gabarkiewicz","Warszawa"]
["X91","Wiesław","Gajos","Ząbki"]
["X92","Renata ","Gajos","Ząbki"]
["X93","Dariusz","Gierat","Mińsk Mazowiecki"]
["X94","Jarek","Hałatkiewicz","Marki"]
["X95","Darek","Iwański","Marki"]
["X96","Ignacy ","Jabłoński"]
["X97","Tomasz ","Jaworski","Warszawa"]
["X98","Paweł","Jaworski","Warszawa"]
["X99","Paweł","Jaworski","Warszawa"]
["X100","Wolne","Miejsce"]
["X101","Maks ","Jechna","Ząbki"]
["X102","Marcin ","Kabański","Ząbki"]
["X103","Marcin ","Kaniewski","Warszawa"]
["X104","Janusz","Karwowski","Warszawa"]
["X105","Bogdan","Kitliński","Pruszków"]
["X106","Tomasz ","Klawiński","Ząbki"]
["X107","Marek ","Klonowski","Marki"]
["X108","Piotr","Kołecki","Warszawa"]
["X109","Michał ","Korecki","Ząbki"]
["X110","Bartek","Korycki"]
["X111","Paweł","Kowalczyk"]
["X112","Patrycja ","Kozłowska","Mrozy"]
["X113","Marcin ","Krawczyk","Warszawa"]
["X114","Marek ","Krawczyk","Ząbki"]
["X115","Łukasz","Kulik","Ząbki"]
["X116","Jacek","Kutla","Ząbki"]
["X117","Monika ","Lipiec","Ząbki"]
["X118","Monika ","Łepkowska","Warszawa"]
["X119","Tomek","Łepkowski","Warszawa"]
["X120","Ewa ","Łukawska","Ząbki"]
["X121","Agata","Malek","Wesoła"]
["X122","Sławomir ","Marcinkowski","Piaseczno"]
["X123","Dawid","Maron","Ząbki"]
["X124","Mateusz ","Matuszczak","Bielsko - Biała"]
["X125","Asia ","Mądry","Ząbki"]
["X126","Tomek","Mądry","Ząbki"]
["X127","Marcin ","Michalik","Warszawa"]
["X128","Max","Jechna","Ząbki"]
["X129","Maria ","Mieruszyńska","Mrozy"]
["X130","Tomasz ","Mikołajczyk"]
["X131","Andrzej ","Milewski","Pruszków"]
["X132","Murali","Nanjaapan","Warszawa"]
["X133","Tomasz ","Opanowski","Warszawa"]
["X134","Kuba ","Orzęcki","Wiązowna"]
["X135","Łukasz","Orzęcki","Wiązowna"]
["X136","Mateusz ","Pawluk","Ząbki"]
["X137","Artur ","Rosłaniec","Zielonka"]
["X138","Jacek","Sadrzak","Warszawa"]
["X139","Bartosz ","Skórniewski","Warszawa"]
["X140","Jacek","Szempliński","Stare Babice"]
["X141","Karol ","Szymański","Mrozy"]
["X142","Hubert ","Świtulski","Warszawa"]
["X143","Krzysztof","Tataj","Ząbki"]
["X144","Paweł ","Tomczak","Pruszków"]
["X145","Atrur","Tomczak","Pruszków"]
["X146","Konrad","Uściński","Ząbki"]
["X147","Monika ","Walocha","Ząbki"]
["X148","Paweł","Walocha","Ząbki"]
["X149","Leszek","Walocha","Ząbki"]
["X150","Norbert","Wiecha","Mińsk Mazowiecki"]
["X151","Michał ","Witanowski","Warszawa"]
["X152","Marek ","Wojciechowski","Ząbki"]
["X153","Michał ","Wojnar","Zielonka"]
["X154","Irek","Wróblewski","Mińsk Mazowiecki"]
["X155","Jan ","Wyrzykowski ","Warszawa"]
["X156","Monika ","Zawadzka","Mrozy"]
["X157","Darek","Zwierzchowski","Warszawa"]
["X158","Tomasz ","Żbikowski"]
["X159"]
["X160"]
["X161"]
["X162"]
["X163"]
["X164"]
["X165"]
["X166"]
["X167"]
["X168"]
["X169"]
["X170"]
["X171"]
["X172"]
["X173"]
["X174"]
["X175"]
["X176"]
["X177"]
["X178"]
["X179"]
["X180"]
["X181"]
["X182"]
["X183"]
["X184"]
["X185"]
["X186"]
["X187"]
["X188"]
["X189"]
["X190"]
["X191"]
["X192"]
["X193"]
["X194"]
["X195"]
["X196"]
["X197"]
["X198"]
["X199"]
["X200"]
["X201"]
["X202"]
["X203"]
["X204"]
["X205"]
["X206"]
["X207"]
["X208"]
["X209"]
["X210"]
["X211"]
["X212"]
["X213"]
["X214"]
["X215"]
["X216"]
["X217"]
["X218"]
["X219"]
["X220"]
["X221"]
["X222"]
["X223"]
["X224"]
["X225"]
["X226"]
["X227"]
["X228"]
["X229"]
["X230"]

{"sheet":"Protokół","index":10,"n_rows":41,"n_cols":42,"rows_kept":41,"cut":false,"hidden":false,"merged":[[35,0,35,8],[36,0,36,8],[37,0,37,8],[38,0,38,8],[2,1,2,7],[28,0,28,8],[30,0,30,8],[31,0,31,8],[32,0,32,8],[33,0,33,8],[22,0,22,8],[23,0,23,8],[25,0,25,8],[26,0,26,8],[27,0,27,8],[16,0,16,8],[17,0,17,8],[18,0,18,8],[20,0,20,8],[21,0,21,8],[10,0,10,8],[11,0,11,8],[12,0,12,8],[13,0,13,8],[15,0,15,8],[0,8,1,37],[4,3,4,6],[8,3,8,6],[6,3,6,6],[5,41,6,45],[7,41,8,45],[3,10,3,19],[5,10,5,19],[6,10,6,19],[8,10,8,19],[3,26,3,35],[5,26,5,35],[6,26,6,35],[8,26,8,35],[0,2,0,7]]}
["Turniej",null,{"$f":"IF(ISBLANK('plan gier'!O2),\"\",IF(ISBLANK(dane!D1),\"\",dane!D1))","v":"VGP Ząbki"},null,null,null,null,null,"POLSKI ZWIĄZEK BADMINTONA - Protokół gry w badmintona",null,null,null,null,null,null,null,null,null,null,null,null,null,null,null,null,null,null,null,null,null,null,null,null,null,null,null,null,null,null,"Godz. rozp."]
[]
["Gra",{"$f":"IF(ISBLANK('plan gier'!O2),\"\",\" \"&VLOOKUP('plan gier'!O2,'plan gier'!$Z:$AA,2,FALSE))","v":" KLASY 1-3 CHŁOPCY"},null,null,null,null,null,null,null,null,null,null,null,null,null,null,null,null,null,null,null,null,null,null,null,null,null,null,null,null,null,null,null,null,null,null,null,null,null,"Godz. zakończ."]
[null,null,null,null,null,null,null,null,null,null,{"$f":"IF(ISBLANK('plan gier'!O2),\"\",IF(LEN(VLOOKUP('plan gier'!O2,'plan gier'!$Z:$AE,3,FALSE))=0,\"\",VLOOKUP(VLOOKUP('plan gier'!O2,'plan gier'!$Z:$AE,3,FALSE),zawodnicy!$A:$C,2,FALSE)&\" \"&VLOOKUP(VLOOKUP('plan gier'!O2,'plan gier'!$Z:$AE,3,FALSE),zawodnicy!$A:$C,3,FALSE)))","v":"Hanna  Lewandowska"},null,null,null,null,null,null,null,null,null,null,null,null,null,null,null,{"$f":"IF(ISBLANK('plan gier'!O2),\"\",IF(LEN(VLOOKUP('plan gier'!O2,'plan gier'!$Z:$AE,5,FALSE))=0,\"\",VLOOKUP(VLOOKUP('plan gier'!O2,'plan gier'!$Z:$AE,5,FALSE),zawodnicy!$A:$C,2,FALSE)&\" \"&VLOOKUP(VLOOKUP('plan gier'!O2,'plan gier'!$Z:$AE,5,FALSE),zawodnicy!$A:$C,3,FALSE)))","v":"Kacper Gajos"}]
["Nr gry",null,null,{"$f":"IF(ISBLANK('plan gier'!O2),\"\",VLOOKUP('plan gier'!O2,'plan gier'!$Z:$AA,1,FALSE))","v":1},null,null,null,null,null,null,null,null,null,null,null,null,null,null,null,null,null,null,null,null,null,null,null,null,null,null,null,null,null,null,null,null,null,null,null,"Czas  meczu"]
[null,null,null,null,null,null,null,null,null,null,{"$f":"IF(ISBLANK('plan gier'!O2),\"\",IF(LEN(VLOOKUP('plan gier'!O2,'plan gier'!$Z:$AE,3,FALSE))=0,\"\",VLOOKUP(VLOOKUP('plan gier'!O2,'plan gier'!$Z:$AE,3,FALSE),zawodnicy!$A:$D,4,FALSE)))","v":"Wesoła"},null,null,null,null,null,null,null,null,null,null,null,null,null,null,null,{"$f":"IF(ISBLANK('plan gier'!O2),\"\",IF(LEN(VLOOKUP('plan gier'!O2,'plan gier'!$Z:$AE,5,FALSE))=0,\"\",VLOOKUP(VLOOKUP('plan gier'!O2,'plan gier'!$Z:$AE,5,FALSE),zawodnicy!$A:$D,4,FALSE)))","v":"Ząbki"},null,null,null,null,null,null,null,null,null,null,null,null,null,null,{"$f":"IF(ISBLANK('plan gier'!O2),\"\",IF(VLOOKUP('plan gier'!O2,'plan gier'!$A:$AR,44,FALSE)=0,\"\",MID(VLOOKUP(VLOOKUP('plan gier'!O2,'plan gier'!$A:$AR,44,FALSE),sędziowie!$A:$C,2,FALSE),1,1)&\". \"&VLOOKUP(VLOOKUP('plan gier'!O2,'plan gier'!$A:$AR,44,FALSE),sędziowie!$A:$C,3,FALSE)))","v":""}]
["Boisko",null,null,{"$f":"IF(ISBLANK('plan gier'!O2),\"\",IF(VLOOKUP('plan gier'!O2,'plan gier'!$A:$C,2,FALSE)=\"\",\"\",VLOOKUP('plan gier'!O2,'plan gier'!$A:$C,2,FALSE)))","v":""},null,null,null,null,null,null,{"$f":"IF(ISBLANK('plan gier'!O2),\"\",IF(LEN(VLOOKUP('plan gier'!O2,'plan gier'!$Z:$AE,4,FALSE))=0,\"\",VLOOKUP(VLOOKUP('plan gier'!O2,'plan gier'!$Z:$AE,4,FALSE),zawodnicy!$A:$C,2,FALSE)&\" \"&VLOOKUP(VLOOKUP('plan gier'!O2,'plan gier'!$Z:$AE,4,FALSE),zawodnicy!$A:$C,3,FALSE)))","v":""},null,null,null,null,null,null,null,null,null,null,null,null,null,null,null,{"$f":"IF(ISBLANK('plan gier'!O2),\"\",IF(LEN(VLOOKUP('plan gier'!O2,'plan gier'!$Z:$AE,6,FALSE))=0,\"\",VLOOKUP(VLOOKUP('plan gier'!O2,'plan gier'!$Z:$AE,6,FALSE),zawodnicy!$A:$C,2,FALSE)&\" \"&VLOOKUP(VLOOKUP('plan gier'!O2,'plan gier'!$Z:$AE,6,FALSE),zawodnicy!$A:$C,3,FALSE)))","v":""},null,null,null,null,null,null,null,null,null,null,null,null,"S. prow."]
[null,null,null,null,null,null,null,null,null,null,null,null,null,null,null,null,null,null,null,null,null,null,null,null,null,null,null,null,null,null,null,null,null,null,null,null,null,null,null,null,null,{"$f":"IF(ISBLANK('plan gier'!O2),\"\",IF(VLOOKUP('plan gier'!O2,'plan gier'!$A:$AS,45,FALSE)=0,\"\",MID(VLOOKUP(VLOOKUP('plan gier'!O2,'plan gier'!$A:$AS,45,FALSE),sędziowie!$A:$C,2,FALSE),1,1)&\". \"&VLOOKUP(VLOOKUP('plan gier'!O2,'plan gier'!$A:$AS,45,FALSE),sędziowie!$A:$C,3,FALSE)))","v":""}]
["Data",null,null,{"$f":"IF(ISBLANK('plan gier'!O2),\"\",'plan gier'!T3)","v":"2014-11-14"},null,null,null,null,null,null,{"$f":"IF(ISBLANK('plan gier'!O2),\"\",IF(LEN(VLOOKUP('plan gier'!O2,'plan gier'!$Z:$AE,4,FALSE))=0,\"\",VLOOKUP(VLOOKUP('plan gier'!O2,'plan gier'!$Z:$AE,4,FALSE),zawodnicy!$A:$D,4,FALSE)))","v":""},null,null,null,null,null,null,null,null,null,null,null,null,null,null,null,{"$f":"IF(ISBLANK('plan gier'!O2),\"\",IF(LEN(VLOOKUP('plan gier'!O2,'plan gier'!$Z:$AE,6,FALSE))=0,\"\",VLOOKUP(VLOOKUP('plan gier'!O2,'plan gier'!$Z:$AE,6,FALSE),zawodnicy!$A:$D,4,FALSE)))","v":""},null,null,null,null,null,null,null,null,null,null,null,null,"S. serw."]
[]
[{"$f":"$K$4","v":"Hanna  Lewandowska"}]
[{"$f":"$K$7","v":""}]
[{"$f":"IF($K$7=\"\",\"\",$AA$4)","v":""}]
[{"$f":"IF($K$7=\"\",$AA$4,$AA$7)","v":"Kacper Gajos"}]
[]
[{"$f":"$K$4","v":"Hanna  Lewandowska"}]
[{"$f":"$K$7","v":""}]
[{"$f":"IF($K$7=\"\",\"\",$AA$4)","v":""}]
[{"$f":"IF($K$7=\"\",$AA$4,$AA$7)","v":"Kacper Gajos"}]
[]
[{"$f":"$K$4","v":"Hanna  Lewandowska"}]
[{"$f":"$K$7","v":""}]
[{"$f":"IF($K$7=\"\",\"\",$AA$4)","v":""}]
[{"$f":"IF($K$7=\"\",$AA$4,$AA$7)","v":"Kacper Gajos"}]
[]
[{"$f":"$K$4","v":"Hanna  Lewandowska"}]
[{"$f":"$K$7","v":""}]
[{"$f":"IF($K$7=\"\",\"\",$AA$4)","v":""}]
[{"$f":"IF($K$7=\"\",$AA$4,$AA$7)","v":"Kacper Gajos"}]
[]
[{"$f":"$K$4","v":"Hanna  Lewandowska"}]
[{"$f":"$K$7","v":""}]
[{"$f":"IF($K$7=\"\",\"\",$AA$4)","v":""}]
[{"$f":"IF($K$7=\"\",$AA$4,$AA$7)","v":"Kacper Gajos"}]
[]
[{"$f":"$K$4","v":"Hanna  Lewandowska"}]
[{"$f":"$K$7","v":""}]
[{"$f":"IF($K$7=\"\",\"\",$AA$4)","v":""}]
[{"$f":"IF($K$7=\"\",$AA$4,$AA$7)","v":"Kacper Gajos"}]
[]
[null,null,null,null,null,null,null,null,null,null,null,null,null,null,null,null,null,null,null,null,"Podpis sędziego prowadzącego",null,null,null,null,null,null,null,null,null,null,null,null,null,null,null,null,null,"Podpis sędziego głównego"]